Workbook

Sheet CLIENT 1
B2: Référence du dossier | C2: Intitulé du dossier | D2: Secteur d'activité concerné | E2: Type de référence concerné | F2: Client a participé au dossier | G2: Client a remporté le dossier | H2: Temps en jour ouvré pour avoir une réponse | K2: SECTEUR 1 | L2: SECTEUR 2 | M2: SECTEUR 3 | N2: SECTEUR 4 | P2: TOTAL
B3: X1 | C3: X1 - Projet A1 | D3: SECTEUR 1 | E3: X1 | H3: 4 | J3: Critère 1 | K3: =COUNTIFS(t_CLIENT1[[Secteur d''activité concerné]:[Secteur d''activité concerné]],K2) -> 1 | L3: =COUNTIFS(t_CLIENT1[[Secteur d''activité concerné]:[Secteur d''activité concerné]],L2) -> 1 | M3: =COUNTIFS(t_CLIENT1[[Secteur d''activité concerné]:[Secteur d''activité concerné]],M2) -> 1 | N3: =COUNTIFS(t_CLIENT1[[Secteur d''activité concerné]:[Secteur d''activité concerné]],N2) -> 1 | P3: =SUM(K3:N3) -> 4
B4: X2 | C4: X1 - Projet A2 | D4: SECTEUR 2 | E4: X2 | H4: 2 | J4: Critère 2 | K4: =COUNTIFS(t_CLIENT1[[Secteur d''activité concerné]:[Secteur d''activité concerné]],K2,t_CLIENT1[[Client a participé au dossier]:[Client a participé au dossier]],"<>") -> 0 | L4: =COUNTIFS(t_CLIENT1[[Secteur d''activité concerné]:[Secteur d''activité concerné]],L2,t_CLIENT1[[Client a participé au dossier]:[Client a participé au dossier]],"<>") -> 0 | M4: =COUNTIFS(t_CLIENT1[[Secteur d''activité concerné]:[Secteur d''activité concerné]],M2,t_CLIENT1[[Client a participé au dossier]:[Client a participé au dossier]],"<>") -> 0 | N4: =COUNTIFS(t_CLIENT1[[Secteur d''activité concerné]:[Secteur d''activité concerné]],N2,t_CLIENT1[[Client a participé au dossier]:[Client a participé au dossier]],"<>") -> 0 | P4: =SUM(K4:N4) -> 0
B5: X3 | C5: X1 - Projet A3 | D5: SECTEUR 3 | E5: X3 | H5: 1 | J5: Critère 3 | K5: =COUNTIFS(t_CLIENT1[[Secteur d''activité concerné]:[Secteur d''activité concerné]],K3,t_CLIENT1[[Client a remporté le dossier]:[Client a remporté le dossier]],"<>") -> 0 | L5: =COUNTIFS(t_CLIENT1[[Secteur d''activité concerné]:[Secteur d''activité concerné]],L3,t_CLIENT1[[Client a remporté le dossier]:[Client a remporté le dossier]],"<>") -> 0 | M5: =COUNTIFS(t_CLIENT1[[Secteur d''activité concerné]:[Secteur d''activité concerné]],M3,t_CLIENT1[[Client a remporté le dossier]:[Client a remporté le dossier]],"<>") -> 0 | N5: =COUNTIFS(t_CLIENT1[[Secteur d''activité concerné]:[Secteur d''activité concerné]],N3,t_CLIENT1[[Client a remporté le dossier]:[Client a remporté le dossier]],"<>") -> 0 | P5: =SUM(K5:N5) -> 0
B6: X4 | C6: X1 - Projet A4 | D6: SECTEUR 4 | E6: X4 | H6: 5 | J6: Critère 4 | K6: =K4/K3 -> 0 | L6: =L4/L3 -> 0 | M6: =M4/M3 -> 0 | N6: =N4/N3 -> 0 | P6: =P4/P3 -> 0 | Q6: Automatique
B7: X5 | C7: X1 - Projet A5 | D7: SECTEUR 5 | E7: X5 | F7: CLIENT1 | G7: CLIENT2 | H7: 3 | J7: Critère 5 | K7: =K5/K3 -> 0 | L7: =L5/L3 -> 0 | M7: =M5/M3 -> 0 | N7: =N5/N3 -> 0 | P7: =P5/P3 -> 0 | Q7: Automatique
B8: X6 | C8: X1 - Projet A6 | D8: SECTEUR 6 | E8: X6 | H8: 7 | J8: Critère 6 | K8: - | L8: - | M8: - | N8: - | P8: =AVERAGE(K8:N8) -> #DIV/0!
J10: Le tableau de données brutes entre la colonne B et H peut contenir peu ou beaucoup de lignes.
J11: Il s'agit d'une extraction semestrielle des dossiers reçus par nos clients.
J13: Critère 1 | K13: J'ai besoin de connaître le nombre de dossiers que le client a reçu par secteur d'activité.
K14: Pour ça, je vais avoir besoin de la colonne D et du nombre de références en colonne C.
K15: Par exemple, dans mon tableau actuel (B to H), il y a un dossier par secteur d'activité.
K16: Ainsi, le critère doit fait ressortir les éléments suivants :
K18: SECTEUR 1 | L18: SECTEUR 2 | M18: SECTEUR 3 | N18: SECTEUR 4 | O18: SECTEUR 5 | P18: SECTEUR 6
J19: Critère 1 | K19: =COUNTIFS(t_CLIENT1[[Secteur d''activité concerné]:[Secteur d''activité concerné]],K18) -> 1 | L19: =COUNTIFS(t_CLIENT1[[Secteur d''activité concerné]:[Secteur d''activité concerné]],L18) -> 1 | M19: =COUNTIFS(t_CLIENT1[[Secteur d''activité concerné]:[Secteur d''activité concerné]],M18) -> 1 | N19: =COUNTIFS(t_CLIENT1[[Secteur d''activité concerné]:[Secteur d''activité concerné]],N18) -> 1 | O19: =COUNTIFS(t_CLIENT1[[Secteur d''activité concerné]:[Secteur d''activité concerné]],O18) -> 1 | P19: =COUNTIFS(t_CLIENT1[[Secteur d''activité concerné]:[Secteur d''activité concerné]],P18) -> 1
J24: Critère 2 | K24: J'ai besoin de savoir si le client concerné a participé aux dossiers hiérarchisés par secteur.
K25: Dans ce contexte, s'il a vraiment participé à nos dossiers, son nom ressort en colonne F pour chaque dossier.
K26: Pour toutes les fois où son nom ressort, j'ai besoin d'avoir la donnée hiérachisée par secteur d'activité sur le critère 1.
K27: Ainsi, s'il a participé à 3 dossiers sur le secteur 1, 4 sur le secteur 2 (et ainsi de suite), c'est cela qui doit s'afficher :
K29: SECTEUR 1 | L29: SECTEUR 2
J30: Critère 2 | K30: 2 | L30: 4
J32: Critère 3 | K32: J'ai besoin de savoir si le client concerné a remporté le dossier, encore une fois hiérarchisé par secteur.
K33: C'est le même fonctionnement que le critère 2 sauf que la colonne que l'on va prendre en compte n'est plus la F mais bien la G.
K34: Ainsi, s'il a remporté 2 dossiers sur le secteur 1, 4 sur le secteur 2 (et ainsi de suite), c'est cela qui doit s'afficher :
K36: SECTEUR 1 | L36: SECTEUR 2
J37: Critère 3 | K37: 2 | L37: 4

Sheet CLIENT 2
B2: Référence du dossier | C2: Intitulé du dossier | D2: Secteur d'activité concerné | E2: Type de référence concerné | F2: Client a participé au dossier | G2: Client a remporté le dossier | H2: Temps en jour ouvré pour avoir une réponse
B3: X1 | C3: X1 - Projet A1 | D3: SECTEUR 1 | E3: X1 | H3: 4
B4: X2 | C4: X1 - Projet A2 | D4: SECTEUR 2 | E4: X2 | F4: CLIENT2 | G4: CLIENT2 | H4: 2
B5: X3 | C5: X1 - Projet A3 | D5: SECTEUR 3 | E5: X3 | H5: 1
B6: X4 | C6: X1 - Projet A4 | D6: SECTEUR 4 | E6: X4 | H6: 5
B7: X5 | C7: X1 - Projet A5 | D7: SECTEUR 5 | E7: X5 | F7: CLIENT2 | H7: 3
B8: X6 | C8: X1 - Projet A6 | D8: SECTEUR 6 | E8: X6 | H8: 7

Sheet REPORTING
B4: Critères | D4: CLIENT1 | K4: Client | L4: Critère | M4: SECTEUR 1 | N4: SECTEUR 2 | O4: SECTEUR 3 | P4: SECTEUR 4 | Q4: SECTEUR 5 | R4: SECTEUR 6 | S4: Total
D5: Données | K5: CLIENT1 | L5: Critère1 | M5: 1 | N5: 1 | O5: 1 | P5: 1 | Q5: 1 | R5: 1 | S5: 6
B6: Critère1 | D6: =D19/D18 -> 0.16666667 | E6: {=INDEX(Tout[],MATCH(REPORTING!$D$4&B6,Tout[Client]&Tout[Critère],0),COUNTA(Tout[#Headers]))} -> 6 | K6: CLIENT1 | L6: Critère2 | M6: 0 | N6: 0 | O6: 0 | P6: 0 | Q6: 1 | R6: 0 | S6: 1
B7: Critère2 | D7: =D20/D18 -> 0.16666667 | E7: {=INDEX(Tout[],MATCH(REPORTING!$D$4&B7,Tout[Client]&Tout[Critère],0),COUNTA(Tout[#Headers]))} -> 1 | K7: CLIENT1 | L7: Critère3 | M7: 0 | N7: 0 | O7: 0 | P7: 0 | Q7: 1 | R7: 0 | S7: 1
B8: Critère3 | D8: =D21 -> 3.6666667 | E8: {=INDEX(Tout[],MATCH(REPORTING!$D$4&B8,Tout[Client]&Tout[Critère],0),COUNTA(Tout[#Headers]))} -> 1 | K8: CLIENT1 | L8: Critère4 | M8: 0 | N8: 0 | O8: 0 | P8: 0 | Q8: 1 | R8: 0 | S8: 0.16666667
B9: Critère4 | D9: =D22 -> 0 | E9: {=INDEX(Tout[],MATCH(REPORTING!$D$4&B9,Tout[Client]&Tout[Critère],0),COUNTA(Tout[#Headers]))} -> 0.16666667 | K9: CLIENT1 | L9: Critère5 | M9: 0 | N9: 0 | O9: 0 | P9: 0 | Q9: 1 | R9: 0 | S9: 0.16666667
B10: Critère5 | D10: =D23 -> 0 | E10: {=INDEX(Tout[],MATCH(REPORTING!$D$4&B10,Tout[Client]&Tout[Critère],0),COUNTA(Tout[#Headers]))} -> 0.16666667 | K10: CLIENT1 | L10: Critère6 | M10: 4 | N10: 2 | O10: 1 | P10: 5 | Q10: 3 | R10: 7 | S10: 3.6666667
K11: CLIENT2 | L11: Critère1 | M11: 1 | N11: 1 | O11: 1 | P11: 1 | Q11: 1 | R11: 1 | S11: 6
B12: Moyenne des critères | D12: =AVERAGE(E6:E10) -> 1.6666667 | E12: N'a pas de serns mathématiquement ! | K12: CLIENT2 | L12: Critère2 | M12: 0 | N12: 1 | O12: 0 | P12: 0 | Q12: 1 | R12: 0 | S12: 2
K13: CLIENT2 | L13: Critère3 | M13: 0 | N13: 1 | O13: 0 | P13: 0 | Q13: 0 | R13: 0 | S13: 1
B14: Appréciation des critères | D14: XXX | K14: CLIENT2 | L14: Critère4 | M14: 0 | N14: 1 | O14: 0 | P14: 0 | Q14: 1 | R14: 0 | S14: 0.33333333
K15: CLIENT2 | L15: Critère5 | M15: 0 | N15: 1 | O15: 0 | P15: 0 | Q15: 0 | R15: 0 | S15: 0.16666667
K16: CLIENT2 | L16: Critère6 | M16: 4 | N16: 2 | O16: 1 | P16: 5 | Q16: 3 | R16: 7 | S16: 3.6666667
B17: Données | D17: CLIENT 1
B18: Critère1 | D18: {=INDEX(Tout[],MATCH(REPORTING!$D$4&B18,Tout[Client]&Tout[Critère],0),COUNTA(Tout[#Headers]))} -> 6 | E18: Automatique
B19: Critère2 | D19: {=INDEX(Tout[],MATCH(REPORTING!$D$4&B19,Tout[Client]&Tout[Critère],0),COUNTA(Tout[#Headers]))} -> 1 | E19: Automatique
B20: Critère3 | D20: {=INDEX(Tout[],MATCH(REPORTING!$D$4&B20,Tout[Client]&Tout[Critère],0),COUNTA(Tout[#Headers]))} -> 1 | E20: Automatique
B21: Critère6 | D21: {=INDEX(Tout[],MATCH(REPORTING!$D$4&B21,Tout[Client]&Tout[Critère],0),COUNTA(Tout[#Headers]))} -> 3.6666667 | E21: Automatique
B22: À renseigner 1 | F22: Manuel
B23: À renseigner 2 | F23: Manuel
B24: À renseigner 3 | F24: Manuel
