Workbook
Name CalendarYear: [1]Janvier!$AI$6
Name CléCongé: [1]Janvier!$D$4
Name CléMaladie: [1]Janvier!$K$4
Name CléPersonnalisée1: [1]Janvier!$O$4
Name CléPersonnalisée2: [1]Janvier!$T$4
Name CléPersonnel: [1]Janvier!$G$4
Name JF: Fériés[Date]
Name L_Personnel: T_Personnel[Nom et prénom]

Sheet Janvier
A2: =config!C9 -> 45658
A3: =config!D9 -> 45688
U4: =A2 -> 45658 | V4: =U4+1 -> 45659 | W4: =V4+1 -> 45660 | X4: =W4+1 -> 45661 | Y4: =X4+1 -> 45662 | Z4: =Y4+1 -> 45663 | AA4: =Z4+1 -> 45664 | AB4: =AA4+1 -> 45665 | AC4: =AB4+1 -> 45666 | ... AY4: =AX4+1 -> 45688
B6: Janvier
X7: C | AB7: R | AF7: F | AJ7: H | AN7: E | AR7: A | AV7: V
W8: Congé | AA8: RTT | AE8: Fractionné | AI8: Heures de récup. | AN8: CET | AR8: ASA | AU8: Congé volant
B9: Congés du personnel 2025
E10: Congé | G10: RTT | I10: Fractionné | K10: Heures de récup. | N10: CET | P10: ASA | R10: Congé volant | U10: =U4 -> 45658 | V10: =DAY(V4) -> 2 | W10: =DAY(W4) -> 3 | X10: =DAY(X4) -> 4 | Y10: =DAY(Y4) -> 5 | Z10: =DAY(Z4) -> 6 | AA10: =DAY(AA4) -> 7 | AB10: =DAY(AB4) -> 8 | AC10: =DAY(AC4) -> 9 | ... AY10: =DAY(AY4) -> 31
U11: Colonne1 | V11: Colonne2 | W11: Colonne3 | X11: Colonne4 | Y11: Colonne5 | Z11: Colonne6 | AA11: Colonne7 | AB11: Colonne8 | AC11: Colonne9 | AD11: Colonne10 | AE11: Colonne11 | AF11: Colonne12 | AG11: Colonne13 | AH11: Colonne14 | AI11: Colonne15 | AJ11: Colonne16 | AK11: Colonne17 | AL11: Colonne18 | AM11: Colonne19 | AN11: Colonne20 | AO11: Colonne21 | AP11: Colonne22 | AQ11: Colonne23 | AR11: Colonne24 | AS11: Colonne25 | AT11: Colonne26 | AU11: Colonne27 | AV11: Colonne28 | AW11: Colonne29 | AX11: Colonne30 | AY11: Colonne31
B12: Nom | C12: Temps de travail | D12: Service | E12: C | F12: C 0,5 | G12: R | H12: R 0,5 | I12: F | J12: F 0,5 | K12: H | L12: H 0,5 | M12: H heures et min. | N12: E | O12: E 0,5 | P12: A | Q12: A 0,5 | R12: V | S12: V 0,5 | T12: Précisions | U12: 1 | V12: 2 | W12: 3 | X12: 4 | Y12: 5 | Z12: 6 | AA12: 7 | AB12: 8 | AC12: 9 | AD12: 10 | AE12: 11 | AF12: 12 | AG12: 13 | AH12: 14 | AI12: 15 | AJ12: 16 | AK12: 17 | AL12: 18 | AM12: 19 | AN12: 20 | AO12: 21 | AP12: 22 | AQ12: 23 | AR12: 24 | AS12: 25 | AT12: 26 | AU12: 27 | AV12: 28 | AW12: 29 | AX12: 30 | AY12: 31
B13: Paul | C13: =_xlfn.XLOOKUP(_Janvier[[#This Row],[Nom ]],T_Personnel[Nom et prénom],T_Personnel[Temps de travail],"",0) -> Selon contrat | D13: =_xlfn.XLOOKUP(_Janvier[[#This Row],[Nom ]],T_Personnel[Nom et prénom],T_Personnel[Service],"",0) -> Familial | E13: =COUNTIF(_Janvier[[#This Row],[1]:[31]],E$12) -> 0 | F13: =COUNTIF(_Janvier[[#This Row],[1]:[31]],F$12) -> 0 | G13: =COUNTIF(_Janvier[[#This Row],[1]:[31]],G$12) -> 0 | H13: =COUNTIF(_Janvier[[#This Row],[1]:[31]],H$12) -> 0 | I13: =COUNTIF(_Janvier[[#This Row],[1]:[31]],I$12) -> 0 | J13: =COUNTIF(_Janvier[[#This Row],[1]:[31]],J$12) -> 0 | K13: =COUNTIF(_Janvier[[#This Row],[1]:[31]],K$12) -> 0 | L13: =COUNTIF(_Janvier[[#This Row],[1]:[31]],L$12) -> 0 | M13: =SUM(_Janvier[[#This Row],[H]:[H 0,5]]) -> 0 | N13: =COUNTIF(_Janvier[[#This Row],[1]:[31]],N$12) -> 0 | O13: =COUNTIF(_Janvier[[#This Row],[1]:[31]],O$12) -> 0 | P13: =COUNTIF(_Janvier[[#This Row],[1]:[31]],P$12) -> 0 | Q13: =COUNTIF(_Janvier[[#This Row],[1]:[31]],Q$12) -> 0 | R13: =COUNTIF(_Janvier[[#This Row],[1]:[31]],R$12) -> 0 | S13: =COUNTIF(_Janvier[[#This Row],[1]:[31]],S$12) -> 0
B14: jacques | C14: =_xlfn.XLOOKUP(_Janvier[[#This Row],[Nom ]],T_Personnel[Nom et prénom],T_Personnel[Temps de travail],"",0) -> Temps plein | D14: =_xlfn.XLOOKUP(_Janvier[[#This Row],[Nom ]],T_Personnel[Nom et prénom],T_Personnel[Service],"",0) -> Cuisine / Entretien | E14: =COUNTIF(_Janvier[[#This Row],[1]:[31]],E$12) -> 0 | F14: =COUNTIF(_Janvier[[#This Row],[1]:[31]],F$12) -> 0 | G14: =COUNTIF(_Janvier[[#This Row],[1]:[31]],G$12) -> 0 | H14: =COUNTIF(_Janvier[[#This Row],[1]:[31]],H$12) -> 0 | I14: =COUNTIF(_Janvier[[#This Row],[1]:[31]],I$12) -> 0 | J14: =COUNTIF(_Janvier[[#This Row],[1]:[31]],J$12) -> 0 | K14: =COUNTIF(_Janvier[[#This Row],[1]:[31]],K$12) -> 0 | L14: =COUNTIF(_Janvier[[#This Row],[1]:[31]],L$12) -> 0 | M14: =SUM(_Janvier[[#This Row],[H]:[H 0,5]]) -> 0 | N14: =COUNTIF(_Janvier[[#This Row],[1]:[31]],N$12) -> 0 | O14: =COUNTIF(_Janvier[[#This Row],[1]:[31]],O$12) -> 0 | P14: =COUNTIF(_Janvier[[#This Row],[1]:[31]],P$12) -> 0 | Q14: =COUNTIF(_Janvier[[#This Row],[1]:[31]],Q$12) -> 0 | R14: =COUNTIF(_Janvier[[#This Row],[1]:[31]],R$12) -> 0 | S14: =COUNTIF(_Janvier[[#This Row],[1]:[31]],S$12) -> 0
B15: Antoine | C15: =_xlfn.XLOOKUP(_Janvier[[#This Row],[Nom ]],T_Personnel[Nom et prénom],T_Personnel[Temps de travail],"",0) -> Temps plein | D15: =_xlfn.XLOOKUP(_Janvier[[#This Row],[Nom ]],T_Personnel[Nom et prénom],T_Personnel[Service],"",0) -> Lutins | E15: =COUNTIF(_Janvier[[#This Row],[1]:[31]],E$12) -> 0 | F15: =COUNTIF(_Janvier[[#This Row],[1]:[31]],F$12) -> 0 | G15: =COUNTIF(_Janvier[[#This Row],[1]:[31]],G$12) -> 0 | H15: =COUNTIF(_Janvier[[#This Row],[1]:[31]],H$12) -> 0 | I15: =COUNTIF(_Janvier[[#This Row],[1]:[31]],I$12) -> 0 | J15: =COUNTIF(_Janvier[[#This Row],[1]:[31]],J$12) -> 0 | K15: =COUNTIF(_Janvier[[#This Row],[1]:[31]],K$12) -> 0 | L15: =COUNTIF(_Janvier[[#This Row],[1]:[31]],L$12) -> 0 | M15: =SUM(_Janvier[[#This Row],[H]:[H 0,5]]) -> 0 | N15: =COUNTIF(_Janvier[[#This Row],[1]:[31]],N$12) -> 0 | O15: =COUNTIF(_Janvier[[#This Row],[1]:[31]],O$12) -> 0 | P15: =COUNTIF(_Janvier[[#This Row],[1]:[31]],P$12) -> 0 | Q15: =COUNTIF(_Janvier[[#This Row],[1]:[31]],Q$12) -> 0 | R15: =COUNTIF(_Janvier[[#This Row],[1]:[31]],R$12) -> 0 | S15: =COUNTIF(_Janvier[[#This Row],[1]:[31]],S$12) -> 0
B16: Justine | C16: =_xlfn.XLOOKUP(_Janvier[[#This Row],[Nom ]],T_Personnel[Nom et prénom],T_Personnel[Temps de travail],"",0) -> Temps plein | D16: =_xlfn.XLOOKUP(_Janvier[[#This Row],[Nom ]],T_Personnel[Nom et prénom],T_Personnel[Service],"",0) -> Bout'choux | E16: =COUNTIF(_Janvier[[#This Row],[1]:[31]],E$12) -> 0 | F16: =COUNTIF(_Janvier[[#This Row],[1]:[31]],F$12) -> 0 | G16: =COUNTIF(_Janvier[[#This Row],[1]:[31]],G$12) -> 0 | H16: =COUNTIF(_Janvier[[#This Row],[1]:[31]],H$12) -> 0 | I16: =COUNTIF(_Janvier[[#This Row],[1]:[31]],I$12) -> 0 | J16: =COUNTIF(_Janvier[[#This Row],[1]:[31]],J$12) -> 0 | K16: =COUNTIF(_Janvier[[#This Row],[1]:[31]],K$12) -> 0 | L16: =COUNTIF(_Janvier[[#This Row],[1]:[31]],L$12) -> 0 | M16: =SUM(_Janvier[[#This Row],[H]:[H 0,5]]) -> 0 | N16: =COUNTIF(_Janvier[[#This Row],[1]:[31]],N$12) -> 0 | O16: =COUNTIF(_Janvier[[#This Row],[1]:[31]],O$12) -> 0 | P16: =COUNTIF(_Janvier[[#This Row],[1]:[31]],P$12) -> 1 | Q16: =COUNTIF(_Janvier[[#This Row],[1]:[31]],Q$12) -> 0 | R16: =COUNTIF(_Janvier[[#This Row],[1]:[31]],R$12) -> 0 | S16: =COUNTIF(_Janvier[[#This Row],[1]:[31]],S$12) -> 0 | T16: 03/01 Déménagement | W16: A
B17: ariel | C17: =_xlfn.XLOOKUP(_Janvier[[#This Row],[Nom ]],T_Personnel[Nom et prénom],T_Personnel[Temps de travail],"",0) -> Temps plein | D17: =_xlfn.XLOOKUP(_Janvier[[#This Row],[Nom ]],T_Personnel[Nom et prénom],T_Personnel[Service],"",0) -> Calinoux | E17: =COUNTIF(_Janvier[[#This Row],[1]:[31]],E$12) -> 0 | F17: =COUNTIF(_Janvier[[#This Row],[1]:[31]],F$12) -> 0 | G17: =COUNTIF(_Janvier[[#This Row],[1]:[31]],G$12) -> 0 | H17: =COUNTIF(_Janvier[[#This Row],[1]:[31]],H$12) -> 0 | I17: =COUNTIF(_Janvier[[#This Row],[1]:[31]],I$12) -> 0 | J17: =COUNTIF(_Janvier[[#This Row],[1]:[31]],J$12) -> 0 | K17: =COUNTIF(_Janvier[[#This Row],[1]:[31]],K$12) -> 0 | L17: =COUNTIF(_Janvier[[#This Row],[1]:[31]],L$12) -> 0 | M17: =SUM(_Janvier[[#This Row],[H]:[H 0,5]]) -> 0 | N17: =COUNTIF(_Janvier[[#This Row],[1]:[31]],N$12) -> 0 | O17: =COUNTIF(_Janvier[[#This Row],[1]:[31]],O$12) -> 0 | P17: =COUNTIF(_Janvier[[#This Row],[1]:[31]],P$12) -> 0 | Q17: =COUNTIF(_Janvier[[#This Row],[1]:[31]],Q$12) -> 0 | R17: =COUNTIF(_Janvier[[#This Row],[1]:[31]],R$12) -> 0 | S17: =COUNTIF(_Janvier[[#This Row],[1]:[31]],S$12) -> 0
B18: Sebastien | C18: =_xlfn.XLOOKUP(_Janvier[[#This Row],[Nom ]],T_Personnel[Nom et prénom],T_Personnel[Temps de travail],"",0) -> 80% mercredi | D18: =_xlfn.XLOOKUP(_Janvier[[#This Row],[Nom ]],T_Personnel[Nom et prénom],T_Personnel[Service],"",0) -> Ile | E18: =COUNTIF(_Janvier[[#This Row],[1]:[31]],E$12) -> 0 | F18: =COUNTIF(_Janvier[[#This Row],[1]:[31]],F$12) -> 0 | G18: =COUNTIF(_Janvier[[#This Row],[1]:[31]],G$12) -> 0 | H18: =COUNTIF(_Janvier[[#This Row],[1]:[31]],H$12) -> 0 | I18: =COUNTIF(_Janvier[[#This Row],[1]:[31]],I$12) -> 0 | J18: =COUNTIF(_Janvier[[#This Row],[1]:[31]],J$12) -> 0 | K18: =COUNTIF(_Janvier[[#This Row],[1]:[31]],K$12) -> 0 | L18: =COUNTIF(_Janvier[[#This Row],[1]:[31]],L$12) -> 0 | M18: =SUM(_Janvier[[#This Row],[H]:[H 0,5]]) -> 0 | N18: =COUNTIF(_Janvier[[#This Row],[1]:[31]],N$12) -> 0 | O18: =COUNTIF(_Janvier[[#This Row],[1]:[31]],O$12) -> 0 | P18: =COUNTIF(_Janvier[[#This Row],[1]:[31]],P$12) -> 0 | Q18: =COUNTIF(_Janvier[[#This Row],[1]:[31]],Q$12) -> 0 | R18: =COUNTIF(_Janvier[[#This Row],[1]:[31]],R$12) -> 0 | S18: =COUNTIF(_Janvier[[#This Row],[1]:[31]],S$12) -> 0
B19: Rachide | C19: =_xlfn.XLOOKUP(_Janvier[[#This Row],[Nom ]],T_Personnel[Nom et prénom],T_Personnel[Temps de travail],"",0) -> Temps plein | D19: =_xlfn.XLOOKUP(_Janvier[[#This Row],[Nom ]],T_Personnel[Nom et prénom],T_Personnel[Service],"",0) -> Ile | E19: =COUNTIF(_Janvier[[#This Row],[1]:[31]],E$12) -> 0 | F19: =COUNTIF(_Janvier[[#This Row],[1]:[31]],F$12) -> 0 | G19: =COUNTIF(_Janvier[[#This Row],[1]:[31]],G$12) -> 0 | H19: =COUNTIF(_Janvier[[#This Row],[1]:[31]],H$12) -> 0 | I19: =COUNTIF(_Janvier[[#This Row],[1]:[31]],I$12) -> 0 | J19: =COUNTIF(_Janvier[[#This Row],[1]:[31]],J$12) -> 0 | K19: =COUNTIF(_Janvier[[#This Row],[1]:[31]],K$12) -> 0 | L19: =COUNTIF(_Janvier[[#This Row],[1]:[31]],L$12) -> 0 | M19: =SUM(_Janvier[[#This Row],[H]:[H 0,5]]) -> 0 | N19: =COUNTIF(_Janvier[[#This Row],[1]:[31]],N$12) -> 0 | O19: =COUNTIF(_Janvier[[#This Row],[1]:[31]],O$12) -> 0 | P19: =COUNTIF(_Janvier[[#This Row],[1]:[31]],P$12) -> 0 | Q19: =COUNTIF(_Janvier[[#This Row],[1]:[31]],Q$12) -> 0 | R19: =COUNTIF(_Janvier[[#This Row],[1]:[31]],R$12) -> 0 | S19: =COUNTIF(_Janvier[[#This Row],[1]:[31]],S$12) -> 0
B20: Julie | C20: =_xlfn.XLOOKUP(_Janvier[[#This Row],[Nom ]],T_Personnel[Nom et prénom],T_Personnel[Temps de travail],"",0) -> Selon contrat | D20: =_xlfn.XLOOKUP(_Janvier[[#This Row],[Nom ]],T_Personnel[Nom et prénom],T_Personnel[Service],"",0) -> Familial | E20: =COUNTIF(_Janvier[[#This Row],[1]:[31]],E$12) -> 0 | F20: =COUNTIF(_Janvier[[#This Row],[1]:[31]],F$12) -> 1 | G20: =COUNTIF(_Janvier[[#This Row],[1]:[31]],G$12) -> 0 | H20: =COUNTIF(_Janvier[[#This Row],[1]:[31]],H$12) -> 0 | I20: =COUNTIF(_Janvier[[#This Row],[1]:[31]],I$12) -> 0 | J20: =COUNTIF(_Janvier[[#This Row],[1]:[31]],J$12) -> 0 | K20: =COUNTIF(_Janvier[[#This Row],[1]:[31]],K$12) -> 0 | L20: =COUNTIF(_Janvier[[#This Row],[1]:[31]],L$12) -> 0 | M20: =SUM(_Janvier[[#This Row],[H]:[H 0,5]]) -> 0 | N20: =COUNTIF(_Janvier[[#This Row],[1]:[31]],N$12) -> 0 | O20: =COUNTIF(_Janvier[[#This Row],[1]:[31]],O$12) -> 0 | P20: =COUNTIF(_Janvier[[#This Row],[1]:[31]],P$12) -> 0 | Q20: =COUNTIF(_Janvier[[#This Row],[1]:[31]],Q$12) -> 0 | R20: =COUNTIF(_Janvier[[#This Row],[1]:[31]],R$12) -> 0 | S20: =COUNTIF(_Janvier[[#This Row],[1]:[31]],S$12) -> 0 | AD20: C 0,5
B21: Maryam | C21: =_xlfn.XLOOKUP(_Janvier[[#This Row],[Nom ]],T_Personnel[Nom et prénom],T_Personnel[Temps de travail],"",0) -> Mi tps : M, J (mat) et V | D21: =_xlfn.XLOOKUP(_Janvier[[#This Row],[Nom ]],T_Personnel[Nom et prénom],T_Personnel[Service],"",0) -> Lutins | E21: =COUNTIF(_Janvier[[#This Row],[1]:[31]],E$12) -> 0 | F21: =COUNTIF(_Janvier[[#This Row],[1]:[31]],F$12) -> 2 | G21: =COUNTIF(_Janvier[[#This Row],[1]:[31]],G$12) -> 0 | H21: =COUNTIF(_Janvier[[#This Row],[1]:[31]],H$12) -> 0 | I21: =COUNTIF(_Janvier[[#This Row],[1]:[31]],I$12) -> 0 | J21: =COUNTIF(_Janvier[[#This Row],[1]:[31]],J$12) -> 0 | K21: =COUNTIF(_Janvier[[#This Row],[1]:[31]],K$12) -> 0 | L21: =COUNTIF(_Janvier[[#This Row],[1]:[31]],L$12) -> 0 | M21: =SUM(_Janvier[[#This Row],[H]:[H 0,5]]) -> 0 | N21: =COUNTIF(_Janvier[[#This Row],[1]:[31]],N$12) -> 0 | O21: =COUNTIF(_Janvier[[#This Row],[1]:[31]],O$12) -> 0 | P21: =COUNTIF(_Janvier[[#This Row],[1]:[31]],P$12) -> 0 | Q21: =COUNTIF(_Janvier[[#This Row],[1]:[31]],Q$12) -> 0 | R21: =COUNTIF(_Janvier[[#This Row],[1]:[31]],R$12) -> 0 | S21: =COUNTIF(_Janvier[[#This Row],[1]:[31]],S$12) -> 0 | AC21: C 0,5 | AK21: C 0,5
B22: Karl | C22: =_xlfn.XLOOKUP(_Janvier[[#This Row],[Nom ]],T_Personnel[Nom et prénom],T_Personnel[Temps de travail],"",0) -> Mi tps : M, J (mat) et V | D22: =_xlfn.XLOOKUP(_Janvier[[#This Row],[Nom ]],T_Personnel[Nom et prénom],T_Personnel[Service],"",0) -> Lutins | E22: =COUNTIF(_Janvier[[#This Row],[1]:[31]],E$12) -> 1 | F22: =COUNTIF(_Janvier[[#This Row],[1]:[31]],F$12) -> 0 | G22: =COUNTIF(_Janvier[[#This Row],[1]:[31]],G$12) -> 0 | H22: =COUNTIF(_Janvier[[#This Row],[1]:[31]],H$12) -> 0 | I22: =COUNTIF(_Janvier[[#This Row],[1]:[31]],I$12) -> 0 | J22: =COUNTIF(_Janvier[[#This Row],[1]:[31]],J$12) -> 0 | K22: =COUNTIF(_Janvier[[#This Row],[1]:[31]],K$12) -> 0 | L22: =COUNTIF(_Janvier[[#This Row],[1]:[31]],L$12) -> 0 | M22: =SUM(_Janvier[[#This Row],[H]:[H 0,5]]) -> 0 | N22: =COUNTIF(_Janvier[[#This Row],[1]:[31]],N$12) -> 0 | O22: =COUNTIF(_Janvier[[#This Row],[1]:[31]],O$12) -> 0 | P22: =COUNTIF(_Janvier[[#This Row],[1]:[31]],P$12) -> 0 | Q22: =COUNTIF(_Janvier[[#This Row],[1]:[31]],Q$12) -> 0 | R22: =COUNTIF(_Janvier[[#This Row],[1]:[31]],R$12) -> 0 | S22: =COUNTIF(_Janvier[[#This Row],[1]:[31]],S$12) -> 0 | V22: C
B23: Cindy | C23: =_xlfn.XLOOKUP(_Janvier[[#This Row],[Nom ]],T_Personnel[Nom et prénom],T_Personnel[Temps de travail],"",0) -> Temps plein | D23: =_xlfn.XLOOKUP(_Janvier[[#This Row],[Nom ]],T_Personnel[Nom et prénom],T_Personnel[Service],"",0) -> Lutins | E23: =COUNTIF(_Janvier[[#This Row],[1]:[31]],E$12) -> 0 | F23: =COUNTIF(_Janvier[[#This Row],[1]:[31]],F$12) -> 1 | G23: =COUNTIF(_Janvier[[#This Row],[1]:[31]],G$12) -> 0 | H23: =COUNTIF(_Janvier[[#This Row],[1]:[31]],H$12) -> 0 | I23: =COUNTIF(_Janvier[[#This Row],[1]:[31]],I$12) -> 0 | J23: =COUNTIF(_Janvier[[#This Row],[1]:[31]],J$12) -> 0 | K23: =COUNTIF(_Janvier[[#This Row],[1]:[31]],K$12) -> 0 | L23: =COUNTIF(_Janvier[[#This Row],[1]:[31]],L$12) -> 0 | M23: =SUM(_Janvier[[#This Row],[H]:[H 0,5]]) -> 0 | N23: =COUNTIF(_Janvier[[#This Row],[1]:[31]],N$12) -> 0 | O23: =COUNTIF(_Janvier[[#This Row],[1]:[31]],O$12) -> 0 | P23: =COUNTIF(_Janvier[[#This Row],[1]:[31]],P$12) -> 0 | Q23: =COUNTIF(_Janvier[[#This Row],[1]:[31]],Q$12) -> 0 | R23: =COUNTIF(_Janvier[[#This Row],[1]:[31]],R$12) -> 0 | S23: =COUNTIF(_Janvier[[#This Row],[1]:[31]],S$12) -> 0 | AJ23: C 0,5
B24: Samira | C24: =_xlfn.XLOOKUP(_Janvier[[#This Row],[Nom ]],T_Personnel[Nom et prénom],T_Personnel[Temps de travail],"",0) -> 80% vendredi | D24: =_xlfn.XLOOKUP(_Janvier[[#This Row],[Nom ]],T_Personnel[Nom et prénom],T_Personnel[Service],"",0) -> Lutins | E24: =COUNTIF(_Janvier[[#This Row],[1]:[31]],E$12) -> 1 | F24: =COUNTIF(_Janvier[[#This Row],[1]:[31]],F$12) -> 0 | G24: =COUNTIF(_Janvier[[#This Row],[1]:[31]],G$12) -> 0 | H24: =COUNTIF(_Janvier[[#This Row],[1]:[31]],H$12) -> 0 | I24: =COUNTIF(_Janvier[[#This Row],[1]:[31]],I$12) -> 0 | J24: =COUNTIF(_Janvier[[#This Row],[1]:[31]],J$12) -> 0 | K24: =COUNTIF(_Janvier[[#This Row],[1]:[31]],K$12) -> 0 | L24: =COUNTIF(_Janvier[[#This Row],[1]:[31]],L$12) -> 0 | M24: =SUM(_Janvier[[#This Row],[H]:[H 0,5]]) -> 0 | N24: =COUNTIF(_Janvier[[#This Row],[1]:[31]],N$12) -> 0 | O24: =COUNTIF(_Janvier[[#This Row],[1]:[31]],O$12) -> 0 | P24: =COUNTIF(_Janvier[[#This Row],[1]:[31]],P$12) -> 0 | Q24: =COUNTIF(_Janvier[[#This Row],[1]:[31]],Q$12) -> 0 | R24: =COUNTIF(_Janvier[[#This Row],[1]:[31]],R$12) -> 0 | S24: =COUNTIF(_Janvier[[#This Row],[1]:[31]],S$12) -> 0 | AK24: C

Sheet Totaux 2025
B2: Totaux congés du personnel 2025
F4: Congé | I4: RTT | L4: Fractionné | O4: Heures de récup. | S4: CET | V4: ASA | Y4: Congé volant
B6: Nom | C6: Temps de travail | D6: Service | F6: C | G6: C 0,5 | H6: Colonne5 | I6: R | J6: R 0,5 | K6: Colonne6 | L6: F | M6: F 0,5 | N6: Colonne4 | O6: H | P6: H 0,5 | Q6: H heures et min. | R6: Colonne3 | S6: E | T6: E 0,5 | U6: Colonne2 | V6: A | W6: A 0,5 | X6: Colonne1 | Y6: V | Z6: V 0,5
B7: =IF(config!B25<>"",config!B25,"") -> Paul | C7: =IF(config!C25<>"",config!C25,"") -> Selon contrat | D7: =IF(config!D25<>"",config!D25,"") -> Familial | F7: =SUM(Janvier!E13+#REF!+#REF!+#REF!+#REF!+#REF!+#REF!+#REF!+#REF!+#REF!+#REF!+#REF!) -> #REF! | G7: =SUM(Janvier!F13+#REF!+#REF!+#REF!+#REF!+#REF!+#REF!+#REF!+#REF!+#REF!+#REF!+#REF!) -> #REF! | I7: =SUM(Janvier!G13+#REF!+#REF!+#REF!+#REF!+#REF!+#REF!+#REF!+#REF!+#REF!+#REF!+#REF!) -> #REF! | J7: =SUM(Janvier!H13+#REF!+#REF!+#REF!+#REF!+#REF!+#REF!+#REF!+#REF!+#REF!+#REF!+#REF!) -> #REF! | L7: =SUM(Janvier!I13+#REF!+#REF!+#REF!+#REF!+#REF!+#REF!+#REF!+#REF!+#REF!+#REF!+#REF!) -> #REF! | M7: =SUM(Janvier!J13+#REF!+#REF!+#REF!+#REF!+#REF!+#REF!+#REF!+#REF!+#REF!+#REF!+#REF!) -> #REF! | O7: =SUM(Janvier!K13+#REF!+#REF!+#REF!+#REF!+#REF!+#REF!+#REF!+#REF!+#REF!+#REF!+#REF!) -> #REF! | P7: =SUM(Janvier!L13+#REF!+#REF!+#REF!+#REF!+#REF!+#REF!+#REF!+#REF!+#REF!+#REF!+#REF!) -> #REF! | Q7: =SUM(Janvier!M13+#REF!+#REF!+#REF!+#REF!+#REF!+#REF!+#REF!+#REF!+#REF!+#REF!+#REF!) -> #REF! | S7: =SUM(Janvier!N13+#REF!+#REF!+#REF!+#REF!+#REF!+#REF!+#REF!+#REF!+#REF!+#REF!+#REF!) -> #REF! | T7: =SUM(Janvier!O13+#REF!+#REF!+#REF!+#REF!+#REF!+#REF!+#REF!+#REF!+#REF!+#REF!+#REF!) -> #REF! | V7: =SUM(Janvier!P13+#REF!+#REF!+#REF!+#REF!+#REF!+#REF!+#REF!+#REF!+#REF!+#REF!+#REF!) -> #REF! | W7: =SUM(Janvier!Q13+#REF!+#REF!+#REF!+#REF!+#REF!+#REF!+#REF!+#REF!+#REF!+#REF!+#REF!) -> #REF! | Y7: =SUM(Janvier!R13+#REF!+#REF!+#REF!+#REF!+#REF!+#REF!+#REF!+#REF!+#REF!+#REF!+#REF!) -> #REF! | Z7: =SUM(Janvier!S13+#REF!+#REF!+#REF!+#REF!+#REF!+#REF!+#REF!+#REF!+#REF!+#REF!+#REF!) -> #REF!
B8: =IF(config!B26<>"",config!B26,"") -> jacques | C8: =IF(config!C26<>"",config!C26,"") -> Temps plein | D8: =IF(config!D26<>"",config!D26,"") -> Cuisine / Entretien | F8: =SUM(Janvier!E14+#REF!+#REF!+#REF!+#REF!+#REF!+#REF!+#REF!+#REF!+#REF!+#REF!+#REF!) -> #REF! | G8: =SUM(Janvier!F14+#REF!+#REF!+#REF!+#REF!+#REF!+#REF!+#REF!+#REF!+#REF!+#REF!+#REF!) -> #REF! | I8: =SUM(Janvier!G14+#REF!+#REF!+#REF!+#REF!+#REF!+#REF!+#REF!+#REF!+#REF!+#REF!+#REF!) -> #REF! | J8: =SUM(Janvier!H14+#REF!+#REF!+#REF!+#REF!+#REF!+#REF!+#REF!+#REF!+#REF!+#REF!+#REF!) -> #REF! | L8: =SUM(Janvier!I14+#REF!+#REF!+#REF!+#REF!+#REF!+#REF!+#REF!+#REF!+#REF!+#REF!+#REF!) -> #REF! | M8: =SUM(Janvier!J14+#REF!+#REF!+#REF!+#REF!+#REF!+#REF!+#REF!+#REF!+#REF!+#REF!+#REF!) -> #REF! | O8: =SUM(Janvier!K14+#REF!+#REF!+#REF!+#REF!+#REF!+#REF!+#REF!+#REF!+#REF!+#REF!+#REF!) -> #REF! | P8: =SUM(Janvier!L14+#REF!+#REF!+#REF!+#REF!+#REF!+#REF!+#REF!+#REF!+#REF!+#REF!+#REF!) -> #REF! | Q8: =SUM(Janvier!M14+#REF!+#REF!+#REF!+#REF!+#REF!+#REF!+#REF!+#REF!+#REF!+#REF!+#REF!) -> #REF! | S8: =SUM(Janvier!N14+#REF!+#REF!+#REF!+#REF!+#REF!+#REF!+#REF!+#REF!+#REF!+#REF!+#REF!) -> #REF! | T8: =SUM(Janvier!O14+#REF!+#REF!+#REF!+#REF!+#REF!+#REF!+#REF!+#REF!+#REF!+#REF!+#REF!) -> #REF! | V8: =SUM(Janvier!P14+#REF!+#REF!+#REF!+#REF!+#REF!+#REF!+#REF!+#REF!+#REF!+#REF!+#REF!) -> #REF! | W8: =SUM(Janvier!Q14+#REF!+#REF!+#REF!+#REF!+#REF!+#REF!+#REF!+#REF!+#REF!+#REF!+#REF!) -> #REF! | Y8: =SUM(Janvier!R14+#REF!+#REF!+#REF!+#REF!+#REF!+#REF!+#REF!+#REF!+#REF!+#REF!+#REF!) -> #REF! | Z8: =SUM(Janvier!S14+#REF!+#REF!+#REF!+#REF!+#REF!+#REF!+#REF!+#REF!+#REF!+#REF!+#REF!) -> #REF!
B9: =IF(config!B27<>"",config!B27,"") -> Antoine | C9: =IF(config!C27<>"",config!C27,"") -> Temps plein | D9: =IF(config!D27<>"",config!D27,"") -> Lutins | F9: =SUM(Janvier!E15+#REF!+#REF!+#REF!+#REF!+#REF!+#REF!+#REF!+#REF!+#REF!+#REF!+#REF!) -> #REF! | G9: =SUM(Janvier!F15+#REF!+#REF!+#REF!+#REF!+#REF!+#REF!+#REF!+#REF!+#REF!+#REF!+#REF!) -> #REF! | I9: =SUM(Janvier!G15+#REF!+#REF!+#REF!+#REF!+#REF!+#REF!+#REF!+#REF!+#REF!+#REF!+#REF!) -> #REF! | J9: =SUM(Janvier!H15+#REF!+#REF!+#REF!+#REF!+#REF!+#REF!+#REF!+#REF!+#REF!+#REF!+#REF!) -> #REF! | L9: =SUM(Janvier!I15+#REF!+#REF!+#REF!+#REF!+#REF!+#REF!+#REF!+#REF!+#REF!+#REF!+#REF!) -> #REF! | M9: =SUM(Janvier!J15+#REF!+#REF!+#REF!+#REF!+#REF!+#REF!+#REF!+#REF!+#REF!+#REF!+#REF!) -> #REF! | O9: =SUM(Janvier!K15+#REF!+#REF!+#REF!+#REF!+#REF!+#REF!+#REF!+#REF!+#REF!+#REF!+#REF!) -> #REF! | P9: =SUM(Janvier!L15+#REF!+#REF!+#REF!+#REF!+#REF!+#REF!+#REF!+#REF!+#REF!+#REF!+#REF!) -> #REF! | Q9: =SUM(Janvier!M15+#REF!+#REF!+#REF!+#REF!+#REF!+#REF!+#REF!+#REF!+#REF!+#REF!+#REF!) -> #REF! | S9: =SUM(Janvier!N15+#REF!+#REF!+#REF!+#REF!+#REF!+#REF!+#REF!+#REF!+#REF!+#REF!+#REF!) -> #REF! | T9: =SUM(Janvier!O15+#REF!+#REF!+#REF!+#REF!+#REF!+#REF!+#REF!+#REF!+#REF!+#REF!+#REF!) -> #REF! | V9: =SUM(Janvier!P15+#REF!+#REF!+#REF!+#REF!+#REF!+#REF!+#REF!+#REF!+#REF!+#REF!+#REF!) -> #REF! | W9: =SUM(Janvier!Q15+#REF!+#REF!+#REF!+#REF!+#REF!+#REF!+#REF!+#REF!+#REF!+#REF!+#REF!) -> #REF! | Y9: =SUM(Janvier!R15+#REF!+#REF!+#REF!+#REF!+#REF!+#REF!+#REF!+#REF!+#REF!+#REF!+#REF!) -> #REF! | Z9: =SUM(Janvier!S15+#REF!+#REF!+#REF!+#REF!+#REF!+#REF!+#REF!+#REF!+#REF!+#REF!+#REF!) -> #REF!
B10: =IF(config!B28<>"",config!B28,"") -> Justine | C10: =IF(config!C28<>"",config!C28,"") -> Temps plein | D10: =IF(config!D28<>"",config!D28,"") -> Bout'choux | F10: =SUM(Janvier!E16+#REF!+#REF!+#REF!+#REF!+#REF!+#REF!+#REF!+#REF!+#REF!+#REF!+#REF!) -> #REF! | G10: =SUM(Janvier!F16+#REF!+#REF!+#REF!+#REF!+#REF!+#REF!+#REF!+#REF!+#REF!+#REF!+#REF!) -> #REF! | I10: =SUM(Janvier!G16+#REF!+#REF!+#REF!+#REF!+#REF!+#REF!+#REF!+#REF!+#REF!+#REF!+#REF!) -> #REF! | J10: =SUM(Janvier!H16+#REF!+#REF!+#REF!+#REF!+#REF!+#REF!+#REF!+#REF!+#REF!+#REF!+#REF!) -> #REF! | L10: =SUM(Janvier!I16+#REF!+#REF!+#REF!+#REF!+#REF!+#REF!+#REF!+#REF!+#REF!+#REF!+#REF!) -> #REF! | M10: =SUM(Janvier!J16+#REF!+#REF!+#REF!+#REF!+#REF!+#REF!+#REF!+#REF!+#REF!+#REF!+#REF!) -> #REF! | O10: =SUM(Janvier!K16+#REF!+#REF!+#REF!+#REF!+#REF!+#REF!+#REF!+#REF!+#REF!+#REF!+#REF!) -> #REF! | P10: =SUM(Janvier!L16+#REF!+#REF!+#REF!+#REF!+#REF!+#REF!+#REF!+#REF!+#REF!+#REF!+#REF!) -> #REF! | Q10: =SUM(Janvier!M16+#REF!+#REF!+#REF!+#REF!+#REF!+#REF!+#REF!+#REF!+#REF!+#REF!+#REF!) -> #REF! | S10: =SUM(Janvier!N16+#REF!+#REF!+#REF!+#REF!+#REF!+#REF!+#REF!+#REF!+#REF!+#REF!+#REF!) -> #REF! | T10: =SUM(Janvier!O16+#REF!+#REF!+#REF!+#REF!+#REF!+#REF!+#REF!+#REF!+#REF!+#REF!+#REF!) -> #REF! | V10: =SUM(Janvier!P16+#REF!+#REF!+#REF!+#REF!+#REF!+#REF!+#REF!+#REF!+#REF!+#REF!+#REF!) -> #REF! | W10: =SUM(Janvier!Q16+#REF!+#REF!+#REF!+#REF!+#REF!+#REF!+#REF!+#REF!+#REF!+#REF!+#REF!) -> #REF! | Y10: =SUM(Janvier!R16+#REF!+#REF!+#REF!+#REF!+#REF!+#REF!+#REF!+#REF!+#REF!+#REF!+#REF!) -> #REF! | Z10: =SUM(Janvier!S16+#REF!+#REF!+#REF!+#REF!+#REF!+#REF!+#REF!+#REF!+#REF!+#REF!+#REF!) -> #REF!
B11: =IF(config!B29<>"",config!B29,"") -> ariel | C11: =IF(config!C29<>"",config!C29,"") -> Temps plein | D11: =IF(config!D29<>"",config!D29,"") -> Calinoux | F11: =SUM(Janvier!E17+#REF!+#REF!+#REF!+#REF!+#REF!+#REF!+#REF!+#REF!+#REF!+#REF!+#REF!) -> #REF! | G11: =SUM(Janvier!F17+#REF!+#REF!+#REF!+#REF!+#REF!+#REF!+#REF!+#REF!+#REF!+#REF!+#REF!) -> #REF! | I11: =SUM(Janvier!G17+#REF!+#REF!+#REF!+#REF!+#REF!+#REF!+#REF!+#REF!+#REF!+#REF!+#REF!) -> #REF! | J11: =SUM(Janvier!H17+#REF!+#REF!+#REF!+#REF!+#REF!+#REF!+#REF!+#REF!+#REF!+#REF!+#REF!) -> #REF! | L11: =SUM(Janvier!I17+#REF!+#REF!+#REF!+#REF!+#REF!+#REF!+#REF!+#REF!+#REF!+#REF!+#REF!) -> #REF! | M11: =SUM(Janvier!J17+#REF!+#REF!+#REF!+#REF!+#REF!+#REF!+#REF!+#REF!+#REF!+#REF!+#REF!) -> #REF! | O11: =SUM(Janvier!K17+#REF!+#REF!+#REF!+#REF!+#REF!+#REF!+#REF!+#REF!+#REF!+#REF!+#REF!) -> #REF! | P11: =SUM(Janvier!L17+#REF!+#REF!+#REF!+#REF!+#REF!+#REF!+#REF!+#REF!+#REF!+#REF!+#REF!) -> #REF! | Q11: =SUM(Janvier!M17+#REF!+#REF!+#REF!+#REF!+#REF!+#REF!+#REF!+#REF!+#REF!+#REF!+#REF!) -> #REF! | S11: =SUM(Janvier!N17+#REF!+#REF!+#REF!+#REF!+#REF!+#REF!+#REF!+#REF!+#REF!+#REF!+#REF!) -> #REF! | T11: =SUM(Janvier!O17+#REF!+#REF!+#REF!+#REF!+#REF!+#REF!+#REF!+#REF!+#REF!+#REF!+#REF!) -> #REF! | V11: =SUM(Janvier!P17+#REF!+#REF!+#REF!+#REF!+#REF!+#REF!+#REF!+#REF!+#REF!+#REF!+#REF!) -> #REF! | W11: =SUM(Janvier!Q17+#REF!+#REF!+#REF!+#REF!+#REF!+#REF!+#REF!+#REF!+#REF!+#REF!+#REF!) -> #REF! | Y11: =SUM(Janvier!R17+#REF!+#REF!+#REF!+#REF!+#REF!+#REF!+#REF!+#REF!+#REF!+#REF!+#REF!) -> #REF! | Z11: =SUM(Janvier!S17+#REF!+#REF!+#REF!+#REF!+#REF!+#REF!+#REF!+#REF!+#REF!+#REF!+#REF!) -> #REF!
B12: =IF(config!B30<>"",config!B30,"") -> Sebastien | C12: =IF(config!C30<>"",config!C30,"") -> 80% mercredi | D12: =IF(config!D30<>"",config!D30,"") -> Ile | F12: =SUM(Janvier!E18+#REF!+#REF!+#REF!+#REF!+#REF!+#REF!+#REF!+#REF!+#REF!+#REF!+#REF!) -> #REF! | G12: =SUM(Janvier!F18+#REF!+#REF!+#REF!+#REF!+#REF!+#REF!+#REF!+#REF!+#REF!+#REF!+#REF!) -> #REF! | I12: =SUM(Janvier!G18+#REF!+#REF!+#REF!+#REF!+#REF!+#REF!+#REF!+#REF!+#REF!+#REF!+#REF!) -> #REF! | J12: =SUM(Janvier!H18+#REF!+#REF!+#REF!+#REF!+#REF!+#REF!+#REF!+#REF!+#REF!+#REF!+#REF!) -> #REF! | L12: =SUM(Janvier!I18+#REF!+#REF!+#REF!+#REF!+#REF!+#REF!+#REF!+#REF!+#REF!+#REF!+#REF!) -> #REF! | M12: =SUM(Janvier!J18+#REF!+#REF!+#REF!+#REF!+#REF!+#REF!+#REF!+#REF!+#REF!+#REF!+#REF!) -> #REF! | O12: =SUM(Janvier!K18+#REF!+#REF!+#REF!+#REF!+#REF!+#REF!+#REF!+#REF!+#REF!+#REF!+#REF!) -> #REF! | P12: =SUM(Janvier!L18+#REF!+#REF!+#REF!+#REF!+#REF!+#REF!+#REF!+#REF!+#REF!+#REF!+#REF!) -> #REF! | Q12: =SUM(Janvier!M18+#REF!+#REF!+#REF!+#REF!+#REF!+#REF!+#REF!+#REF!+#REF!+#REF!+#REF!) -> #REF! | S12: =SUM(Janvier!N18+#REF!+#REF!+#REF!+#REF!+#REF!+#REF!+#REF!+#REF!+#REF!+#REF!+#REF!) -> #REF! | T12: =SUM(Janvier!O18+#REF!+#REF!+#REF!+#REF!+#REF!+#REF!+#REF!+#REF!+#REF!+#REF!+#REF!) -> #REF! | V12: =SUM(Janvier!P18+#REF!+#REF!+#REF!+#REF!+#REF!+#REF!+#REF!+#REF!+#REF!+#REF!+#REF!) -> #REF! | W12: =SUM(Janvier!Q18+#REF!+#REF!+#REF!+#REF!+#REF!+#REF!+#REF!+#REF!+#REF!+#REF!+#REF!) -> #REF! | Y12: =SUM(Janvier!R18+#REF!+#REF!+#REF!+#REF!+#REF!+#REF!+#REF!+#REF!+#REF!+#REF!+#REF!) -> #REF! | Z12: =SUM(Janvier!S18+#REF!+#REF!+#REF!+#REF!+#REF!+#REF!+#REF!+#REF!+#REF!+#REF!+#REF!) -> #REF!
B13: =IF(config!B31<>"",config!B31,"") -> Rachide | C13: =IF(config!C31<>"",config!C31,"") -> Temps plein | D13: =IF(config!D31<>"",config!D31,"") -> Ile | F13: =SUM(Janvier!E19+#REF!+#REF!+#REF!+#REF!+#REF!+#REF!+#REF!+#REF!+#REF!+#REF!+#REF!) -> #REF! | G13: =SUM(Janvier!F19+#REF!+#REF!+#REF!+#REF!+#REF!+#REF!+#REF!+#REF!+#REF!+#REF!+#REF!) -> #REF! | I13: =SUM(Janvier!G19+#REF!+#REF!+#REF!+#REF!+#REF!+#REF!+#REF!+#REF!+#REF!+#REF!+#REF!) -> #REF! | J13: =SUM(Janvier!H19+#REF!+#REF!+#REF!+#REF!+#REF!+#REF!+#REF!+#REF!+#REF!+#REF!+#REF!) -> #REF! | L13: =SUM(Janvier!I19+#REF!+#REF!+#REF!+#REF!+#REF!+#REF!+#REF!+#REF!+#REF!+#REF!+#REF!) -> #REF! | M13: =SUM(Janvier!J19+#REF!+#REF!+#REF!+#REF!+#REF!+#REF!+#REF!+#REF!+#REF!+#REF!+#REF!) -> #REF! | O13: =SUM(Janvier!K19+#REF!+#REF!+#REF!+#REF!+#REF!+#REF!+#REF!+#REF!+#REF!+#REF!+#REF!) -> #REF! | P13: =SUM(Janvier!L19+#REF!+#REF!+#REF!+#REF!+#REF!+#REF!+#REF!+#REF!+#REF!+#REF!+#REF!) -> #REF! | Q13: =SUM(Janvier!M19+#REF!+#REF!+#REF!+#REF!+#REF!+#REF!+#REF!+#REF!+#REF!+#REF!+#REF!) -> #REF! | S13: =SUM(Janvier!N19+#REF!+#REF!+#REF!+#REF!+#REF!+#REF!+#REF!+#REF!+#REF!+#REF!+#REF!) -> #REF! | T13: =SUM(Janvier!O19+#REF!+#REF!+#REF!+#REF!+#REF!+#REF!+#REF!+#REF!+#REF!+#REF!+#REF!) -> #REF! | V13: =SUM(Janvier!P19+#REF!+#REF!+#REF!+#REF!+#REF!+#REF!+#REF!+#REF!+#REF!+#REF!+#REF!) -> #REF! | W13: =SUM(Janvier!Q19+#REF!+#REF!+#REF!+#REF!+#REF!+#REF!+#REF!+#REF!+#REF!+#REF!+#REF!) -> #REF! | Y13: =SUM(Janvier!R19+#REF!+#REF!+#REF!+#REF!+#REF!+#REF!+#REF!+#REF!+#REF!+#REF!+#REF!) -> #REF! | Z13: =SUM(Janvier!S19+#REF!+#REF!+#REF!+#REF!+#REF!+#REF!+#REF!+#REF!+#REF!+#REF!+#REF!) -> #REF!
B14: =IF(config!B32<>"",config!B32,"") -> Julie | C14: =IF(config!C32<>"",config!C32,"") -> Selon contrat | D14: =IF(config!D32<>"",config!D32,"") -> Familial | F14: =SUM(Janvier!E20+#REF!+#REF!+#REF!+#REF!+#REF!+#REF!+#REF!+#REF!+#REF!+#REF!+#REF!) -> #REF! | G14: =SUM(Janvier!F20+#REF!+#REF!+#REF!+#REF!+#REF!+#REF!+#REF!+#REF!+#REF!+#REF!+#REF!) -> #REF! | I14: =SUM(Janvier!G20+#REF!+#REF!+#REF!+#REF!+#REF!+#REF!+#REF!+#REF!+#REF!+#REF!+#REF!) -> #REF! | J14: =SUM(Janvier!H20+#REF!+#REF!+#REF!+#REF!+#REF!+#REF!+#REF!+#REF!+#REF!+#REF!+#REF!) -> #REF! | L14: =SUM(Janvier!I20+#REF!+#REF!+#REF!+#REF!+#REF!+#REF!+#REF!+#REF!+#REF!+#REF!+#REF!) -> #REF! | M14: =SUM(Janvier!J20+#REF!+#REF!+#REF!+#REF!+#REF!+#REF!+#REF!+#REF!+#REF!+#REF!+#REF!) -> #REF! | O14: =SUM(Janvier!K20+#REF!+#REF!+#REF!+#REF!+#REF!+#REF!+#REF!+#REF!+#REF!+#REF!+#REF!) -> #REF! | P14: =SUM(Janvier!L20+#REF!+#REF!+#REF!+#REF!+#REF!+#REF!+#REF!+#REF!+#REF!+#REF!+#REF!) -> #REF! | Q14: =SUM(Janvier!M20+#REF!+#REF!+#REF!+#REF!+#REF!+#REF!+#REF!+#REF!+#REF!+#REF!+#REF!) -> #REF! | S14: =SUM(Janvier!N20+#REF!+#REF!+#REF!+#REF!+#REF!+#REF!+#REF!+#REF!+#REF!+#REF!+#REF!) -> #REF! | T14: =SUM(Janvier!O20+#REF!+#REF!+#REF!+#REF!+#REF!+#REF!+#REF!+#REF!+#REF!+#REF!+#REF!) -> #REF! | V14: =SUM(Janvier!P20+#REF!+#REF!+#REF!+#REF!+#REF!+#REF!+#REF!+#REF!+#REF!+#REF!+#REF!) -> #REF! | W14: =SUM(Janvier!Q20+#REF!+#REF!+#REF!+#REF!+#REF!+#REF!+#REF!+#REF!+#REF!+#REF!+#REF!) -> #REF! | Y14: =SUM(Janvier!R20+#REF!+#REF!+#REF!+#REF!+#REF!+#REF!+#REF!+#REF!+#REF!+#REF!+#REF!) -> #REF! | Z14: =SUM(Janvier!S20+#REF!+#REF!+#REF!+#REF!+#REF!+#REF!+#REF!+#REF!+#REF!+#REF!+#REF!) -> #REF!
B15: =IF(config!B33<>"",config!B33,"") -> Maryam | C15: =IF(config!C33<>"",config!C33,"") -> Mi tps : M, J (mat) et V | D15: =IF(config!D33<>"",config!D33,"") -> Lutins | F15: =SUM(Janvier!E21+#REF!+#REF!+#REF!+#REF!+#REF!+#REF!+#REF!+#REF!+#REF!+#REF!+#REF!) -> #REF! | G15: =SUM(Janvier!F21+#REF!+#REF!+#REF!+#REF!+#REF!+#REF!+#REF!+#REF!+#REF!+#REF!+#REF!) -> #REF! | I15: =SUM(Janvier!G21+#REF!+#REF!+#REF!+#REF!+#REF!+#REF!+#REF!+#REF!+#REF!+#REF!+#REF!) -> #REF! | J15: =SUM(Janvier!H21+#REF!+#REF!+#REF!+#REF!+#REF!+#REF!+#REF!+#REF!+#REF!+#REF!+#REF!) -> #REF! | L15: =SUM(Janvier!I21+#REF!+#REF!+#REF!+#REF!+#REF!+#REF!+#REF!+#REF!+#REF!+#REF!+#REF!) -> #REF! | M15: =SUM(Janvier!J21+#REF!+#REF!+#REF!+#REF!+#REF!+#REF!+#REF!+#REF!+#REF!+#REF!+#REF!) -> #REF! | O15: =SUM(Janvier!K21+#REF!+#REF!+#REF!+#REF!+#REF!+#REF!+#REF!+#REF!+#REF!+#REF!+#REF!) -> #REF! | P15: =SUM(Janvier!L21+#REF!+#REF!+#REF!+#REF!+#REF!+#REF!+#REF!+#REF!+#REF!+#REF!+#REF!) -> #REF! | Q15: =SUM(Janvier!M21+#REF!+#REF!+#REF!+#REF!+#REF!+#REF!+#REF!+#REF!+#REF!+#REF!+#REF!) -> #REF! | S15: =SUM(Janvier!N21+#REF!+#REF!+#REF!+#REF!+#REF!+#REF!+#REF!+#REF!+#REF!+#REF!+#REF!) -> #REF! | T15: =SUM(Janvier!O21+#REF!+#REF!+#REF!+#REF!+#REF!+#REF!+#REF!+#REF!+#REF!+#REF!+#REF!) -> #REF! | V15: =SUM(Janvier!P21+#REF!+#REF!+#REF!+#REF!+#REF!+#REF!+#REF!+#REF!+#REF!+#REF!+#REF!) -> #REF! | W15: =SUM(Janvier!Q21+#REF!+#REF!+#REF!+#REF!+#REF!+#REF!+#REF!+#REF!+#REF!+#REF!+#REF!) -> #REF! | Y15: =SUM(Janvier!R21+#REF!+#REF!+#REF!+#REF!+#REF!+#REF!+#REF!+#REF!+#REF!+#REF!+#REF!) -> #REF! | Z15: =SUM(Janvier!S21+#REF!+#REF!+#REF!+#REF!+#REF!+#REF!+#REF!+#REF!+#REF!+#REF!+#REF!) -> #REF!
B16: =IF(config!B35<>"",config!B35,"") -> Cindy | C16: =IF(config!C35<>"",config!C35,"") -> Temps plein | D16: =IF(config!D35<>"",config!D35,"") -> Lutins | F16: =SUM(Janvier!E22+#REF!+#REF!+#REF!+#REF!+#REF!+#REF!+#REF!+#REF!+#REF!+#REF!+#REF!) -> #REF! | G16: =SUM(Janvier!F22+#REF!+#REF!+#REF!+#REF!+#REF!+#REF!+#REF!+#REF!+#REF!+#REF!+#REF!) -> #REF! | I16: =SUM(Janvier!G22+#REF!+#REF!+#REF!+#REF!+#REF!+#REF!+#REF!+#REF!+#REF!+#REF!+#REF!) -> #REF! | J16: =SUM(Janvier!H22+#REF!+#REF!+#REF!+#REF!+#REF!+#REF!+#REF!+#REF!+#REF!+#REF!+#REF!) -> #REF! | L16: =SUM(Janvier!I22+#REF!+#REF!+#REF!+#REF!+#REF!+#REF!+#REF!+#REF!+#REF!+#REF!+#REF!) -> #REF! | M16: =SUM(Janvier!J22+#REF!+#REF!+#REF!+#REF!+#REF!+#REF!+#REF!+#REF!+#REF!+#REF!+#REF!) -> #REF! | O16: =SUM(Janvier!K22+#REF!+#REF!+#REF!+#REF!+#REF!+#REF!+#REF!+#REF!+#REF!+#REF!+#REF!) -> #REF! | P16: =SUM(Janvier!L22+#REF!+#REF!+#REF!+#REF!+#REF!+#REF!+#REF!+#REF!+#REF!+#REF!+#REF!) -> #REF! | Q16: =SUM(Janvier!M22+#REF!+#REF!+#REF!+#REF!+#REF!+#REF!+#REF!+#REF!+#REF!+#REF!+#REF!) -> #REF! | S16: =SUM(Janvier!N22+#REF!+#REF!+#REF!+#REF!+#REF!+#REF!+#REF!+#REF!+#REF!+#REF!+#REF!) -> #REF! | T16: =SUM(Janvier!O22+#REF!+#REF!+#REF!+#REF!+#REF!+#REF!+#REF!+#REF!+#REF!+#REF!+#REF!) -> #REF! | V16: =SUM(Janvier!P22+#REF!+#REF!+#REF!+#REF!+#REF!+#REF!+#REF!+#REF!+#REF!+#REF!+#REF!) -> #REF! | W16: =SUM(Janvier!Q22+#REF!+#REF!+#REF!+#REF!+#REF!+#REF!+#REF!+#REF!+#REF!+#REF!+#REF!) -> #REF! | Y16: =SUM(Janvier!R22+#REF!+#REF!+#REF!+#REF!+#REF!+#REF!+#REF!+#REF!+#REF!+#REF!+#REF!) -> #REF! | Z16: =SUM(Janvier!S22+#REF!+#REF!+#REF!+#REF!+#REF!+#REF!+#REF!+#REF!+#REF!+#REF!+#REF!) -> #REF!
B17: =IF(config!B36<>"",config!B36,"") -> Samira | C17: =IF(config!C36<>"",config!C36,"") -> 80% vendredi | D17: =IF(config!D36<>"",config!D36,"") -> Lutins | F17: =SUM(Janvier!E23+#REF!+#REF!+#REF!+#REF!+#REF!+#REF!+#REF!+#REF!+#REF!+#REF!+#REF!) -> #REF! | G17: =SUM(Janvier!F23+#REF!+#REF!+#REF!+#REF!+#REF!+#REF!+#REF!+#REF!+#REF!+#REF!+#REF!) -> #REF! | I17: =SUM(Janvier!G23+#REF!+#REF!+#REF!+#REF!+#REF!+#REF!+#REF!+#REF!+#REF!+#REF!+#REF!) -> #REF! | J17: =SUM(Janvier!H23+#REF!+#REF!+#REF!+#REF!+#REF!+#REF!+#REF!+#REF!+#REF!+#REF!+#REF!) -> #REF! | L17: =SUM(Janvier!I23+#REF!+#REF!+#REF!+#REF!+#REF!+#REF!+#REF!+#REF!+#REF!+#REF!+#REF!) -> #REF! | M17: =SUM(Janvier!J23+#REF!+#REF!+#REF!+#REF!+#REF!+#REF!+#REF!+#REF!+#REF!+#REF!+#REF!) -> #REF! | O17: =SUM(Janvier!K23+#REF!+#REF!+#REF!+#REF!+#REF!+#REF!+#REF!+#REF!+#REF!+#REF!+#REF!) -> #REF! | P17: =SUM(Janvier!L23+#REF!+#REF!+#REF!+#REF!+#REF!+#REF!+#REF!+#REF!+#REF!+#REF!+#REF!) -> #REF! | Q17: =SUM(Janvier!M23+#REF!+#REF!+#REF!+#REF!+#REF!+#REF!+#REF!+#REF!+#REF!+#REF!+#REF!) -> #REF! | S17: =SUM(Janvier!N23+#REF!+#REF!+#REF!+#REF!+#REF!+#REF!+#REF!+#REF!+#REF!+#REF!+#REF!) -> #REF! | T17: =SUM(Janvier!O23+#REF!+#REF!+#REF!+#REF!+#REF!+#REF!+#REF!+#REF!+#REF!+#REF!+#REF!) -> #REF! | V17: =SUM(Janvier!P23+#REF!+#REF!+#REF!+#REF!+#REF!+#REF!+#REF!+#REF!+#REF!+#REF!+#REF!) -> #REF! | W17: =SUM(Janvier!Q23+#REF!+#REF!+#REF!+#REF!+#REF!+#REF!+#REF!+#REF!+#REF!+#REF!+#REF!) -> #REF! | Y17: =SUM(Janvier!R23+#REF!+#REF!+#REF!+#REF!+#REF!+#REF!+#REF!+#REF!+#REF!+#REF!+#REF!) -> #REF! | Z17: =SUM(Janvier!S23+#REF!+#REF!+#REF!+#REF!+#REF!+#REF!+#REF!+#REF!+#REF!+#REF!+#REF!) -> #REF!
B18: =IF(config!#REF!<>"",config!#REF!,"") -> #REF! | C18: =IF(config!#REF!<>"",config!#REF!,"") -> #REF! | D18: =IF(config!#REF!<>"",config!#REF!,"") -> #REF! | F18: =SUM(Janvier!E24+#REF!+#REF!+#REF!+#REF!+#REF!+#REF!+#REF!+#REF!+#REF!+#REF!+#REF!) -> #REF! | G18: =SUM(Janvier!F24+#REF!+#REF!+#REF!+#REF!+#REF!+#REF!+#REF!+#REF!+#REF!+#REF!+#REF!) -> #REF! | I18: =SUM(Janvier!G24+#REF!+#REF!+#REF!+#REF!+#REF!+#REF!+#REF!+#REF!+#REF!+#REF!+#REF!) -> #REF! | J18: =SUM(Janvier!H24+#REF!+#REF!+#REF!+#REF!+#REF!+#REF!+#REF!+#REF!+#REF!+#REF!+#REF!) -> #REF! | L18: =SUM(Janvier!I24+#REF!+#REF!+#REF!+#REF!+#REF!+#REF!+#REF!+#REF!+#REF!+#REF!+#REF!) -> #REF! | M18: =SUM(Janvier!J24+#REF!+#REF!+#REF!+#REF!+#REF!+#REF!+#REF!+#REF!+#REF!+#REF!+#REF!) -> #REF! | O18: =SUM(Janvier!K24+#REF!+#REF!+#REF!+#REF!+#REF!+#REF!+#REF!+#REF!+#REF!+#REF!+#REF!) -> #REF! | P18: =SUM(Janvier!L24+#REF!+#REF!+#REF!+#REF!+#REF!+#REF!+#REF!+#REF!+#REF!+#REF!+#REF!) -> #REF! | Q18: =SUM(Janvier!M24+#REF!+#REF!+#REF!+#REF!+#REF!+#REF!+#REF!+#REF!+#REF!+#REF!+#REF!) -> #REF! | S18: =SUM(Janvier!N24+#REF!+#REF!+#REF!+#REF!+#REF!+#REF!+#REF!+#REF!+#REF!+#REF!+#REF!) -> #REF! | T18: =SUM(Janvier!O24+#REF!+#REF!+#REF!+#REF!+#REF!+#REF!+#REF!+#REF!+#REF!+#REF!+#REF!) -> #REF! | V18: =SUM(Janvier!P24+#REF!+#REF!+#REF!+#REF!+#REF!+#REF!+#REF!+#REF!+#REF!+#REF!+#REF!) -> #REF! | W18: =SUM(Janvier!Q24+#REF!+#REF!+#REF!+#REF!+#REF!+#REF!+#REF!+#REF!+#REF!+#REF!+#REF!) -> #REF! | Y18: =SUM(Janvier!R24+#REF!+#REF!+#REF!+#REF!+#REF!+#REF!+#REF!+#REF!+#REF!+#REF!+#REF!) -> #REF! | Z18: =SUM(Janvier!S24+#REF!+#REF!+#REF!+#REF!+#REF!+#REF!+#REF!+#REF!+#REF!+#REF!+#REF!) -> #REF!
B19: =IF(config!#REF!<>"",config!#REF!,"") -> #REF! | C19: =IF(config!#REF!<>"",config!#REF!,"") -> #REF! | D19: =IF(config!#REF!<>"",config!#REF!,"") -> #REF! | F19: =SUM(Janvier!#REF!+#REF!+#REF!+#REF!+#REF!+#REF!+#REF!+#REF!+#REF!+#REF!+#REF!+#REF!) -> #REF! | G19: =SUM(Janvier!#REF!+#REF!+#REF!+#REF!+#REF!+#REF!+#REF!+#REF!+#REF!+#REF!+#REF!+#REF!) -> #REF! | I19: =SUM(Janvier!#REF!+#REF!+#REF!+#REF!+#REF!+#REF!+#REF!+#REF!+#REF!+#REF!+#REF!+#REF!) -> #REF! | J19: =SUM(Janvier!#REF!+#REF!+#REF!+#REF!+#REF!+#REF!+#REF!+#REF!+#REF!+#REF!+#REF!+#REF!) -> #REF! | L19: =SUM(Janvier!#REF!+#REF!+#REF!+#REF!+#REF!+#REF!+#REF!+#REF!+#REF!+#REF!+#REF!+#REF!) -> #REF! | M19: =SUM(Janvier!#REF!+#REF!+#REF!+#REF!+#REF!+#REF!+#REF!+#REF!+#REF!+#REF!+#REF!+#REF!) -> #REF! | O19: =SUM(Janvier!#REF!+#REF!+#REF!+#REF!+#REF!+#REF!+#REF!+#REF!+#REF!+#REF!+#REF!+#REF!) -> #REF! | P19: =SUM(Janvier!#REF!+#REF!+#REF!+#REF!+#REF!+#REF!+#REF!+#REF!+#REF!+#REF!+#REF!+#REF!) -> #REF! | Q19: =SUM(Janvier!#REF!+#REF!+#REF!+#REF!+#REF!+#REF!+#REF!+#REF!+#REF!+#REF!+#REF!+#REF!) -> #REF! | S19: =SUM(Janvier!#REF!+#REF!+#REF!+#REF!+#REF!+#REF!+#REF!+#REF!+#REF!+#REF!+#REF!+#REF!) -> #REF! | T19: =SUM(Janvier!#REF!+#REF!+#REF!+#REF!+#REF!+#REF!+#REF!+#REF!+#REF!+#REF!+#REF!+#REF!) -> #REF! | V19: =SUM(Janvier!#REF!+#REF!+#REF!+#REF!+#REF!+#REF!+#REF!+#REF!+#REF!+#REF!+#REF!+#REF!) -> #REF! | W19: =SUM(Janvier!#REF!+#REF!+#REF!+#REF!+#REF!+#REF!+#REF!+#REF!+#REF!+#REF!+#REF!+#REF!) -> #REF! | Y19: =SUM(Janvier!#REF!+#REF!+#REF!+#REF!+#REF!+#REF!+#REF!+#REF!+#REF!+#REF!+#REF!+#REF!) -> #REF! | Z19: =SUM(Janvier!#REF!+#REF!+#REF!+#REF!+#REF!+#REF!+#REF!+#REF!+#REF!+#REF!+#REF!+#REF!) -> #REF!
B20: =IF(config!#REF!<>"",config!#REF!,"") -> #REF! | C20: =IF(config!#REF!<>"",config!#REF!,"") -> #REF! | D20: =IF(config!#REF!<>"",config!#REF!,"") -> #REF! | F20: =SUM(Janvier!#REF!+#REF!+#REF!+#REF!+#REF!+#REF!+#REF!+#REF!+#REF!+#REF!+#REF!+#REF!) -> #REF! | G20: =SUM(Janvier!#REF!+#REF!+#REF!+#REF!+#REF!+#REF!+#REF!+#REF!+#REF!+#REF!+#REF!+#REF!) -> #REF! | I20: =SUM(Janvier!#REF!+#REF!+#REF!+#REF!+#REF!+#REF!+#REF!+#REF!+#REF!+#REF!+#REF!+#REF!) -> #REF! | J20: =SUM(Janvier!#REF!+#REF!+#REF!+#REF!+#REF!+#REF!+#REF!+#REF!+#REF!+#REF!+#REF!+#REF!) -> #REF! | L20: =SUM(Janvier!#REF!+#REF!+#REF!+#REF!+#REF!+#REF!+#REF!+#REF!+#REF!+#REF!+#REF!+#REF!) -> #REF! | M20: =SUM(Janvier!#REF!+#REF!+#REF!+#REF!+#REF!+#REF!+#REF!+#REF!+#REF!+#REF!+#REF!+#REF!) -> #REF! | O20: =SUM(Janvier!#REF!+#REF!+#REF!+#REF!+#REF!+#REF!+#REF!+#REF!+#REF!+#REF!+#REF!+#REF!) -> #REF! | P20: =SUM(Janvier!#REF!+#REF!+#REF!+#REF!+#REF!+#REF!+#REF!+#REF!+#REF!+#REF!+#REF!+#REF!) -> #REF! | Q20: =SUM(Janvier!#REF!+#REF!+#REF!+#REF!+#REF!+#REF!+#REF!+#REF!+#REF!+#REF!+#REF!+#REF!) -> #REF! | S20: =SUM(Janvier!#REF!+#REF!+#REF!+#REF!+#REF!+#REF!+#REF!+#REF!+#REF!+#REF!+#REF!+#REF!) -> #REF! | T20: =SUM(Janvier!#REF!+#REF!+#REF!+#REF!+#REF!+#REF!+#REF!+#REF!+#REF!+#REF!+#REF!+#REF!) -> #REF! | V20: =SUM(Janvier!#REF!+#REF!+#REF!+#REF!+#REF!+#REF!+#REF!+#REF!+#REF!+#REF!+#REF!+#REF!) -> #REF! | W20: =SUM(Janvier!#REF!+#REF!+#REF!+#REF!+#REF!+#REF!+#REF!+#REF!+#REF!+#REF!+#REF!+#REF!) -> #REF! | Y20: =SUM(Janvier!#REF!+#REF!+#REF!+#REF!+#REF!+#REF!+#REF!+#REF!+#REF!+#REF!+#REF!+#REF!) -> #REF! | Z20: =SUM(Janvier!#REF!+#REF!+#REF!+#REF!+#REF!+#REF!+#REF!+#REF!+#REF!+#REF!+#REF!+#REF!) -> #REF!
B21: =IF(config!#REF!<>"",config!#REF!,"") -> #REF! | C21: =IF(config!#REF!<>"",config!#REF!,"") -> #REF! | D21: =IF(config!#REF!<>"",config!#REF!,"") -> #REF! | F21: =SUM(Janvier!#REF!+#REF!+#REF!+#REF!+#REF!+#REF!+#REF!+#REF!+#REF!+#REF!+#REF!+#REF!) -> #REF! | G21: =SUM(Janvier!#REF!+#REF!+#REF!+#REF!+#REF!+#REF!+#REF!+#REF!+#REF!+#REF!+#REF!+#REF!) -> #REF! | I21: =SUM(Janvier!#REF!+#REF!+#REF!+#REF!+#REF!+#REF!+#REF!+#REF!+#REF!+#REF!+#REF!+#REF!) -> #REF! | J21: =SUM(Janvier!#REF!+#REF!+#REF!+#REF!+#REF!+#REF!+#REF!+#REF!+#REF!+#REF!+#REF!+#REF!) -> #REF! | L21: =SUM(Janvier!#REF!+#REF!+#REF!+#REF!+#REF!+#REF!+#REF!+#REF!+#REF!+#REF!+#REF!+#REF!) -> #REF! | M21: =SUM(Janvier!#REF!+#REF!+#REF!+#REF!+#REF!+#REF!+#REF!+#REF!+#REF!+#REF!+#REF!+#REF!) -> #REF! | O21: =SUM(Janvier!#REF!+#REF!+#REF!+#REF!+#REF!+#REF!+#REF!+#REF!+#REF!+#REF!+#REF!+#REF!) -> #REF! | P21: =SUM(Janvier!#REF!+#REF!+#REF!+#REF!+#REF!+#REF!+#REF!+#REF!+#REF!+#REF!+#REF!+#REF!) -> #REF! | Q21: =SUM(Janvier!#REF!+#REF!+#REF!+#REF!+#REF!+#REF!+#REF!+#REF!+#REF!+#REF!+#REF!+#REF!) -> #REF! | S21: =SUM(Janvier!#REF!+#REF!+#REF!+#REF!+#REF!+#REF!+#REF!+#REF!+#REF!+#REF!+#REF!+#REF!) -> #REF! | T21: =SUM(Janvier!#REF!+#REF!+#REF!+#REF!+#REF!+#REF!+#REF!+#REF!+#REF!+#REF!+#REF!+#REF!) -> #REF! | V21: =SUM(Janvier!#REF!+#REF!+#REF!+#REF!+#REF!+#REF!+#REF!+#REF!+#REF!+#REF!+#REF!+#REF!) -> #REF! | W21: =SUM(Janvier!#REF!+#REF!+#REF!+#REF!+#REF!+#REF!+#REF!+#REF!+#REF!+#REF!+#REF!+#REF!) -> #REF! | Y21: =SUM(Janvier!#REF!+#REF!+#REF!+#REF!+#REF!+#REF!+#REF!+#REF!+#REF!+#REF!+#REF!+#REF!) -> #REF! | Z21: =SUM(Janvier!#REF!+#REF!+#REF!+#REF!+#REF!+#REF!+#REF!+#REF!+#REF!+#REF!+#REF!+#REF!) -> #REF!
B22: =IF(config!#REF!<>"",config!#REF!,"") -> #REF! | C22: =IF(config!#REF!<>"",config!#REF!,"") -> #REF! | D22: =IF(config!#REF!<>"",config!#REF!,"") -> #REF! | F22: =SUM(Janvier!#REF!+#REF!+#REF!+#REF!+#REF!+#REF!+#REF!+#REF!+#REF!+#REF!+#REF!+#REF!) -> #REF! | G22: =SUM(Janvier!#REF!+#REF!+#REF!+#REF!+#REF!+#REF!+#REF!+#REF!+#REF!+#REF!+#REF!+#REF!) -> #REF! | I22: =SUM(Janvier!#REF!+#REF!+#REF!+#REF!+#REF!+#REF!+#REF!+#REF!+#REF!+#REF!+#REF!+#REF!) -> #REF! | J22: =SUM(Janvier!#REF!+#REF!+#REF!+#REF!+#REF!+#REF!+#REF!+#REF!+#REF!+#REF!+#REF!+#REF!) -> #REF! | L22: =SUM(Janvier!#REF!+#REF!+#REF!+#REF!+#REF!+#REF!+#REF!+#REF!+#REF!+#REF!+#REF!+#REF!) -> #REF! | M22: =SUM(Janvier!#REF!+#REF!+#REF!+#REF!+#REF!+#REF!+#REF!+#REF!+#REF!+#REF!+#REF!+#REF!) -> #REF! | O22: =SUM(Janvier!#REF!+#REF!+#REF!+#REF!+#REF!+#REF!+#REF!+#REF!+#REF!+#REF!+#REF!+#REF!) -> #REF! | P22: =SUM(Janvier!#REF!+#REF!+#REF!+#REF!+#REF!+#REF!+#REF!+#REF!+#REF!+#REF!+#REF!+#REF!) -> #REF! | Q22: =SUM(Janvier!#REF!+#REF!+#REF!+#REF!+#REF!+#REF!+#REF!+#REF!+#REF!+#REF!+#REF!+#REF!) -> #REF! | S22: =SUM(Janvier!#REF!+#REF!+#REF!+#REF!+#REF!+#REF!+#REF!+#REF!+#REF!+#REF!+#REF!+#REF!) -> #REF! | T22: =SUM(Janvier!#REF!+#REF!+#REF!+#REF!+#REF!+#REF!+#REF!+#REF!+#REF!+#REF!+#REF!+#REF!) -> #REF! | V22: =SUM(Janvier!#REF!+#REF!+#REF!+#REF!+#REF!+#REF!+#REF!+#REF!+#REF!+#REF!+#REF!+#REF!) -> #REF! | W22: =SUM(Janvier!#REF!+#REF!+#REF!+#REF!+#REF!+#REF!+#REF!+#REF!+#REF!+#REF!+#REF!+#REF!) -> #REF! | Y22: =SUM(Janvier!#REF!+#REF!+#REF!+#REF!+#REF!+#REF!+#REF!+#REF!+#REF!+#REF!+#REF!+#REF!) -> #REF! | Z22: =SUM(Janvier!#REF!+#REF!+#REF!+#REF!+#REF!+#REF!+#REF!+#REF!+#REF!+#REF!+#REF!+#REF!) -> #REF!
B23: =IF(config!#REF!<>"",config!#REF!,"") -> #REF! | C23: =IF(config!#REF!<>"",config!#REF!,"") -> #REF! | D23: =IF(config!#REF!<>"",config!#REF!,"") -> #REF! | F23: =SUM(Janvier!#REF!+#REF!+#REF!+#REF!+#REF!+#REF!+#REF!+#REF!+#REF!+#REF!+#REF!+#REF!) -> #REF! | G23: =SUM(Janvier!#REF!+#REF!+#REF!+#REF!+#REF!+#REF!+#REF!+#REF!+#REF!+#REF!+#REF!+#REF!) -> #REF! | I23: =SUM(Janvier!#REF!+#REF!+#REF!+#REF!+#REF!+#REF!+#REF!+#REF!+#REF!+#REF!+#REF!+#REF!) -> #REF! | J23: =SUM(Janvier!#REF!+#REF!+#REF!+#REF!+#REF!+#REF!+#REF!+#REF!+#REF!+#REF!+#REF!+#REF!) -> #REF! | L23: =SUM(Janvier!#REF!+#REF!+#REF!+#REF!+#REF!+#REF!+#REF!+#REF!+#REF!+#REF!+#REF!+#REF!) -> #REF! | M23: =SUM(Janvier!#REF!+#REF!+#REF!+#REF!+#REF!+#REF!+#REF!+#REF!+#REF!+#REF!+#REF!+#REF!) -> #REF! | O23: =SUM(Janvier!#REF!+#REF!+#REF!+#REF!+#REF!+#REF!+#REF!+#REF!+#REF!+#REF!+#REF!+#REF!) -> #REF! | P23: =SUM(Janvier!#REF!+#REF!+#REF!+#REF!+#REF!+#REF!+#REF!+#REF!+#REF!+#REF!+#REF!+#REF!) -> #REF! | Q23: =SUM(Janvier!#REF!+#REF!+#REF!+#REF!+#REF!+#REF!+#REF!+#REF!+#REF!+#REF!+#REF!+#REF!) -> #REF! | S23: =SUM(Janvier!#REF!+#REF!+#REF!+#REF!+#REF!+#REF!+#REF!+#REF!+#REF!+#REF!+#REF!+#REF!) -> #REF! | T23: =SUM(Janvier!#REF!+#REF!+#REF!+#REF!+#REF!+#REF!+#REF!+#REF!+#REF!+#REF!+#REF!+#REF!) -> #REF! | V23: =SUM(Janvier!#REF!+#REF!+#REF!+#REF!+#REF!+#REF!+#REF!+#REF!+#REF!+#REF!+#REF!+#REF!) -> #REF! | W23: =SUM(Janvier!#REF!+#REF!+#REF!+#REF!+#REF!+#REF!+#REF!+#REF!+#REF!+#REF!+#REF!+#REF!) -> #REF! | Y23: =SUM(Janvier!#REF!+#REF!+#REF!+#REF!+#REF!+#REF!+#REF!+#REF!+#REF!+#REF!+#REF!+#REF!) -> #REF! | Z23: =SUM(Janvier!#REF!+#REF!+#REF!+#REF!+#REF!+#REF!+#REF!+#REF!+#REF!+#REF!+#REF!+#REF!) -> #REF!
B24: =IF(config!#REF!<>"",config!#REF!,"") -> #REF! | C24: =IF(config!#REF!<>"",config!#REF!,"") -> #REF! | D24: =IF(config!#REF!<>"",config!#REF!,"") -> #REF! | F24: =SUM(Janvier!#REF!+#REF!+#REF!+#REF!+#REF!+#REF!+#REF!+#REF!+#REF!+#REF!+#REF!+#REF!) -> #REF! | G24: =SUM(Janvier!#REF!+#REF!+#REF!+#REF!+#REF!+#REF!+#REF!+#REF!+#REF!+#REF!+#REF!+#REF!) -> #REF! | I24: =SUM(Janvier!#REF!+#REF!+#REF!+#REF!+#REF!+#REF!+#REF!+#REF!+#REF!+#REF!+#REF!+#REF!) -> #REF! | J24: =SUM(Janvier!#REF!+#REF!+#REF!+#REF!+#REF!+#REF!+#REF!+#REF!+#REF!+#REF!+#REF!+#REF!) -> #REF! | L24: =SUM(Janvier!#REF!+#REF!+#REF!+#REF!+#REF!+#REF!+#REF!+#REF!+#REF!+#REF!+#REF!+#REF!) -> #REF! | M24: =SUM(Janvier!#REF!+#REF!+#REF!+#REF!+#REF!+#REF!+#REF!+#REF!+#REF!+#REF!+#REF!+#REF!) -> #REF! | O24: =SUM(Janvier!#REF!+#REF!+#REF!+#REF!+#REF!+#REF!+#REF!+#REF!+#REF!+#REF!+#REF!+#REF!) -> #REF! | P24: =SUM(Janvier!#REF!+#REF!+#REF!+#REF!+#REF!+#REF!+#REF!+#REF!+#REF!+#REF!+#REF!+#REF!) -> #REF! | Q24: =SUM(Janvier!#REF!+#REF!+#REF!+#REF!+#REF!+#REF!+#REF!+#REF!+#REF!+#REF!+#REF!+#REF!) -> #REF! | S24: =SUM(Janvier!#REF!+#REF!+#REF!+#REF!+#REF!+#REF!+#REF!+#REF!+#REF!+#REF!+#REF!+#REF!) -> #REF! | T24: =SUM(Janvier!#REF!+#REF!+#REF!+#REF!+#REF!+#REF!+#REF!+#REF!+#REF!+#REF!+#REF!+#REF!) -> #REF! | V24: =SUM(Janvier!#REF!+#REF!+#REF!+#REF!+#REF!+#REF!+#REF!+#REF!+#REF!+#REF!+#REF!+#REF!) -> #REF! | W24: =SUM(Janvier!#REF!+#REF!+#REF!+#REF!+#REF!+#REF!+#REF!+#REF!+#REF!+#REF!+#REF!+#REF!) -> #REF! | Y24: =SUM(Janvier!#REF!+#REF!+#REF!+#REF!+#REF!+#REF!+#REF!+#REF!+#REF!+#REF!+#REF!+#REF!) -> #REF! | Z24: =SUM(Janvier!#REF!+#REF!+#REF!+#REF!+#REF!+#REF!+#REF!+#REF!+#REF!+#REF!+#REF!+#REF!) -> #REF!
B25: =IF(config!#REF!<>"",config!#REF!,"") -> #REF! | C25: =IF(config!#REF!<>"",config!#REF!,"") -> #REF! | D25: =IF(config!#REF!<>"",config!#REF!,"") -> #REF! | F25: =SUM(Janvier!#REF!+#REF!+#REF!+#REF!+#REF!+#REF!+#REF!+#REF!+#REF!+#REF!+#REF!+#REF!) -> #REF! | G25: =SUM(Janvier!#REF!+#REF!+#REF!+#REF!+#REF!+#REF!+#REF!+#REF!+#REF!+#REF!+#REF!+#REF!) -> #REF! | I25: =SUM(Janvier!#REF!+#REF!+#REF!+#REF!+#REF!+#REF!+#REF!+#REF!+#REF!+#REF!+#REF!+#REF!) -> #REF! | J25: =SUM(Janvier!#REF!+#REF!+#REF!+#REF!+#REF!+#REF!+#REF!+#REF!+#REF!+#REF!+#REF!+#REF!) -> #REF! | L25: =SUM(Janvier!#REF!+#REF!+#REF!+#REF!+#REF!+#REF!+#REF!+#REF!+#REF!+#REF!+#REF!+#REF!) -> #REF! | M25: =SUM(Janvier!#REF!+#REF!+#REF!+#REF!+#REF!+#REF!+#REF!+#REF!+#REF!+#REF!+#REF!+#REF!) -> #REF! | O25: =SUM(Janvier!#REF!+#REF!+#REF!+#REF!+#REF!+#REF!+#REF!+#REF!+#REF!+#REF!+#REF!+#REF!) -> #REF! | P25: =SUM(Janvier!#REF!+#REF!+#REF!+#REF!+#REF!+#REF!+#REF!+#REF!+#REF!+#REF!+#REF!+#REF!) -> #REF! | Q25: =SUM(Janvier!#REF!+#REF!+#REF!+#REF!+#REF!+#REF!+#REF!+#REF!+#REF!+#REF!+#REF!+#REF!) -> #REF! | S25: =SUM(Janvier!#REF!+#REF!+#REF!+#REF!+#REF!+#REF!+#REF!+#REF!+#REF!+#REF!+#REF!+#REF!) -> #REF! | T25: =SUM(Janvier!#REF!+#REF!+#REF!+#REF!+#REF!+#REF!+#REF!+#REF!+#REF!+#REF!+#REF!+#REF!) -> #REF! | V25: =SUM(Janvier!#REF!+#REF!+#REF!+#REF!+#REF!+#REF!+#REF!+#REF!+#REF!+#REF!+#REF!+#REF!) -> #REF! | W25: =SUM(Janvier!#REF!+#REF!+#REF!+#REF!+#REF!+#REF!+#REF!+#REF!+#REF!+#REF!+#REF!+#REF!) -> #REF! | Y25: =SUM(Janvier!#REF!+#REF!+#REF!+#REF!+#REF!+#REF!+#REF!+#REF!+#REF!+#REF!+#REF!+#REF!) -> #REF! | Z25: =SUM(Janvier!#REF!+#REF!+#REF!+#REF!+#REF!+#REF!+#REF!+#REF!+#REF!+#REF!+#REF!+#REF!) -> #REF!
B26: =IF(config!#REF!<>"",config!#REF!,"") -> #REF! | C26: =IF(config!#REF!<>"",config!#REF!,"") -> #REF! | D26: =IF(config!#REF!<>"",config!#REF!,"") -> #REF! | F26: =SUM(Janvier!#REF!+#REF!+#REF!+#REF!+#REF!+#REF!+#REF!+#REF!+#REF!+#REF!+#REF!+#REF!) -> #REF! | G26: =SUM(Janvier!#REF!+#REF!+#REF!+#REF!+#REF!+#REF!+#REF!+#REF!+#REF!+#REF!+#REF!+#REF!) -> #REF! | I26: =SUM(Janvier!#REF!+#REF!+#REF!+#REF!+#REF!+#REF!+#REF!+#REF!+#REF!+#REF!+#REF!+#REF!) -> #REF! | J26: =SUM(Janvier!#REF!+#REF!+#REF!+#REF!+#REF!+#REF!+#REF!+#REF!+#REF!+#REF!+#REF!+#REF!) -> #REF! | L26: =SUM(Janvier!#REF!+#REF!+#REF!+#REF!+#REF!+#REF!+#REF!+#REF!+#REF!+#REF!+#REF!+#REF!) -> #REF! | M26: =SUM(Janvier!#REF!+#REF!+#REF!+#REF!+#REF!+#REF!+#REF!+#REF!+#REF!+#REF!+#REF!+#REF!) -> #REF! | O26: =SUM(Janvier!#REF!+#REF!+#REF!+#REF!+#REF!+#REF!+#REF!+#REF!+#REF!+#REF!+#REF!+#REF!) -> #REF! | P26: =SUM(Janvier!#REF!+#REF!+#REF!+#REF!+#REF!+#REF!+#REF!+#REF!+#REF!+#REF!+#REF!+#REF!) -> #REF! | Q26: =SUM(Janvier!#REF!+#REF!+#REF!+#REF!+#REF!+#REF!+#REF!+#REF!+#REF!+#REF!+#REF!+#REF!) -> #REF! | S26: =SUM(Janvier!#REF!+#REF!+#REF!+#REF!+#REF!+#REF!+#REF!+#REF!+#REF!+#REF!+#REF!+#REF!) -> #REF! | T26: =SUM(Janvier!#REF!+#REF!+#REF!+#REF!+#REF!+#REF!+#REF!+#REF!+#REF!+#REF!+#REF!+#REF!) -> #REF! | V26: =SUM(Janvier!#REF!+#REF!+#REF!+#REF!+#REF!+#REF!+#REF!+#REF!+#REF!+#REF!+#REF!+#REF!) -> #REF! | W26: =SUM(Janvier!#REF!+#REF!+#REF!+#REF!+#REF!+#REF!+#REF!+#REF!+#REF!+#REF!+#REF!+#REF!) -> #REF! | Y26: =SUM(Janvier!#REF!+#REF!+#REF!+#REF!+#REF!+#REF!+#REF!+#REF!+#REF!+#REF!+#REF!+#REF!) -> #REF! | Z26: =SUM(Janvier!#REF!+#REF!+#REF!+#REF!+#REF!+#REF!+#REF!+#REF!+#REF!+#REF!+#REF!+#REF!) -> #REF!
B27: =IF(config!#REF!<>"",config!#REF!,"") -> #REF! | C27: =IF(config!#REF!<>"",config!#REF!,"") -> #REF! | D27: =IF(config!#REF!<>"",config!#REF!,"") -> #REF! | F27: =SUM(Janvier!#REF!+#REF!+#REF!+#REF!+#REF!+#REF!+#REF!+#REF!+#REF!+#REF!+#REF!+#REF!) -> #REF! | G27: =SUM(Janvier!#REF!+#REF!+#REF!+#REF!+#REF!+#REF!+#REF!+#REF!+#REF!+#REF!+#REF!+#REF!) -> #REF! | I27: =SUM(Janvier!#REF!+#REF!+#REF!+#REF!+#REF!+#REF!+#REF!+#REF!+#REF!+#REF!+#REF!+#REF!) -> #REF! | J27: =SUM(Janvier!#REF!+#REF!+#REF!+#REF!+#REF!+#REF!+#REF!+#REF!+#REF!+#REF!+#REF!+#REF!) -> #REF! | L27: =SUM(Janvier!#REF!+#REF!+#REF!+#REF!+#REF!+#REF!+#REF!+#REF!+#REF!+#REF!+#REF!+#REF!) -> #REF! | M27: =SUM(Janvier!#REF!+#REF!+#REF!+#REF!+#REF!+#REF!+#REF!+#REF!+#REF!+#REF!+#REF!+#REF!) -> #REF! | O27: =SUM(Janvier!#REF!+#REF!+#REF!+#REF!+#REF!+#REF!+#REF!+#REF!+#REF!+#REF!+#REF!+#REF!) -> #REF! | P27: =SUM(Janvier!#REF!+#REF!+#REF!+#REF!+#REF!+#REF!+#REF!+#REF!+#REF!+#REF!+#REF!+#REF!) -> #REF! | Q27: =SUM(Janvier!#REF!+#REF!+#REF!+#REF!+#REF!+#REF!+#REF!+#REF!+#REF!+#REF!+#REF!+#REF!) -> #REF! | S27: =SUM(Janvier!#REF!+#REF!+#REF!+#REF!+#REF!+#REF!+#REF!+#REF!+#REF!+#REF!+#REF!+#REF!) -> #REF! | T27: =SUM(Janvier!#REF!+#REF!+#REF!+#REF!+#REF!+#REF!+#REF!+#REF!+#REF!+#REF!+#REF!+#REF!) -> #REF! | V27: =SUM(Janvier!#REF!+#REF!+#REF!+#REF!+#REF!+#REF!+#REF!+#REF!+#REF!+#REF!+#REF!+#REF!) -> #REF! | W27: =SUM(Janvier!#REF!+#REF!+#REF!+#REF!+#REF!+#REF!+#REF!+#REF!+#REF!+#REF!+#REF!+#REF!) -> #REF! | Y27: =SUM(Janvier!#REF!+#REF!+#REF!+#REF!+#REF!+#REF!+#REF!+#REF!+#REF!+#REF!+#REF!+#REF!) -> #REF! | Z27: =SUM(Janvier!#REF!+#REF!+#REF!+#REF!+#REF!+#REF!+#REF!+#REF!+#REF!+#REF!+#REF!+#REF!) -> #REF!
B28: =IF(config!#REF!<>"",config!#REF!,"") -> #REF! | C28: =IF(config!#REF!<>"",config!#REF!,"") -> #REF! | D28: =IF(config!#REF!<>"",config!#REF!,"") -> #REF! | F28: =SUM(Janvier!#REF!+#REF!+#REF!+#REF!+#REF!+#REF!+#REF!+#REF!+#REF!+#REF!+#REF!+#REF!) -> #REF! | G28: =SUM(Janvier!#REF!+#REF!+#REF!+#REF!+#REF!+#REF!+#REF!+#REF!+#REF!+#REF!+#REF!+#REF!) -> #REF! | I28: =SUM(Janvier!#REF!+#REF!+#REF!+#REF!+#REF!+#REF!+#REF!+#REF!+#REF!+#REF!+#REF!+#REF!) -> #REF! | J28: =SUM(Janvier!#REF!+#REF!+#REF!+#REF!+#REF!+#REF!+#REF!+#REF!+#REF!+#REF!+#REF!+#REF!) -> #REF! | L28: =SUM(Janvier!#REF!+#REF!+#REF!+#REF!+#REF!+#REF!+#REF!+#REF!+#REF!+#REF!+#REF!+#REF!) -> #REF! | M28: =SUM(Janvier!#REF!+#REF!+#REF!+#REF!+#REF!+#REF!+#REF!+#REF!+#REF!+#REF!+#REF!+#REF!) -> #REF! | O28: =SUM(Janvier!#REF!+#REF!+#REF!+#REF!+#REF!+#REF!+#REF!+#REF!+#REF!+#REF!+#REF!+#REF!) -> #REF! | P28: =SUM(Janvier!#REF!+#REF!+#REF!+#REF!+#REF!+#REF!+#REF!+#REF!+#REF!+#REF!+#REF!+#REF!) -> #REF! | Q28: =SUM(Janvier!#REF!+#REF!+#REF!+#REF!+#REF!+#REF!+#REF!+#REF!+#REF!+#REF!+#REF!+#REF!) -> #REF! | S28: =SUM(Janvier!#REF!+#REF!+#REF!+#REF!+#REF!+#REF!+#REF!+#REF!+#REF!+#REF!+#REF!+#REF!) -> #REF! | T28: =SUM(Janvier!#REF!+#REF!+#REF!+#REF!+#REF!+#REF!+#REF!+#REF!+#REF!+#REF!+#REF!+#REF!) -> #REF! | V28: =SUM(Janvier!#REF!+#REF!+#REF!+#REF!+#REF!+#REF!+#REF!+#REF!+#REF!+#REF!+#REF!+#REF!) -> #REF! | W28: =SUM(Janvier!#REF!+#REF!+#REF!+#REF!+#REF!+#REF!+#REF!+#REF!+#REF!+#REF!+#REF!+#REF!) -> #REF! | Y28: =SUM(Janvier!#REF!+#REF!+#REF!+#REF!+#REF!+#REF!+#REF!+#REF!+#REF!+#REF!+#REF!+#REF!) -> #REF! | Z28: =SUM(Janvier!#REF!+#REF!+#REF!+#REF!+#REF!+#REF!+#REF!+#REF!+#REF!+#REF!+#REF!+#REF!) -> #REF!
B29: =IF(config!#REF!<>"",config!#REF!,"") -> #REF! | C29: =IF(config!#REF!<>"",config!#REF!,"") -> #REF! | D29: =IF(config!#REF!<>"",config!#REF!,"") -> #REF! | F29: =SUM(Janvier!#REF!+#REF!+#REF!+#REF!+#REF!+#REF!+#REF!+#REF!+#REF!+#REF!+#REF!+#REF!) -> #REF! | G29: =SUM(Janvier!#REF!+#REF!+#REF!+#REF!+#REF!+#REF!+#REF!+#REF!+#REF!+#REF!+#REF!+#REF!) -> #REF! | I29: =SUM(Janvier!#REF!+#REF!+#REF!+#REF!+#REF!+#REF!+#REF!+#REF!+#REF!+#REF!+#REF!+#REF!) -> #REF! | J29: =SUM(Janvier!#REF!+#REF!+#REF!+#REF!+#REF!+#REF!+#REF!+#REF!+#REF!+#REF!+#REF!+#REF!) -> #REF! | L29: =SUM(Janvier!#REF!+#REF!+#REF!+#REF!+#REF!+#REF!+#REF!+#REF!+#REF!+#REF!+#REF!+#REF!) -> #REF! | M29: =SUM(Janvier!#REF!+#REF!+#REF!+#REF!+#REF!+#REF!+#REF!+#REF!+#REF!+#REF!+#REF!+#REF!) -> #REF! | O29: =SUM(Janvier!#REF!+#REF!+#REF!+#REF!+#REF!+#REF!+#REF!+#REF!+#REF!+#REF!+#REF!+#REF!) -> #REF! | P29: =SUM(Janvier!#REF!+#REF!+#REF!+#REF!+#REF!+#REF!+#REF!+#REF!+#REF!+#REF!+#REF!+#REF!) -> #REF! | Q29: =SUM(Janvier!#REF!+#REF!+#REF!+#REF!+#REF!+#REF!+#REF!+#REF!+#REF!+#REF!+#REF!+#REF!) -> #REF! | S29: =SUM(Janvier!#REF!+#REF!+#REF!+#REF!+#REF!+#REF!+#REF!+#REF!+#REF!+#REF!+#REF!+#REF!) -> #REF! | T29: =SUM(Janvier!#REF!+#REF!+#REF!+#REF!+#REF!+#REF!+#REF!+#REF!+#REF!+#REF!+#REF!+#REF!) -> #REF! | V29: =SUM(Janvier!#REF!+#REF!+#REF!+#REF!+#REF!+#REF!+#REF!+#REF!+#REF!+#REF!+#REF!+#REF!) -> #REF! | W29: =SUM(Janvier!#REF!+#REF!+#REF!+#REF!+#REF!+#REF!+#REF!+#REF!+#REF!+#REF!+#REF!+#REF!) -> #REF! | Y29: =SUM(Janvier!#REF!+#REF!+#REF!+#REF!+#REF!+#REF!+#REF!+#REF!+#REF!+#REF!+#REF!+#REF!) -> #REF! | Z29: =SUM(Janvier!#REF!+#REF!+#REF!+#REF!+#REF!+#REF!+#REF!+#REF!+#REF!+#REF!+#REF!+#REF!) -> #REF!
B30: =IF(config!#REF!<>"",config!#REF!,"") -> #REF! | C30: =IF(config!#REF!<>"",config!#REF!,"") -> #REF! | D30: =IF(config!#REF!<>"",config!#REF!,"") -> #REF! | F30: =SUM(Janvier!#REF!+#REF!+#REF!+#REF!+#REF!+#REF!+#REF!+#REF!+#REF!+#REF!+#REF!+#REF!) -> #REF! | G30: =SUM(Janvier!#REF!+#REF!+#REF!+#REF!+#REF!+#REF!+#REF!+#REF!+#REF!+#REF!+#REF!+#REF!) -> #REF! | I30: =SUM(Janvier!#REF!+#REF!+#REF!+#REF!+#REF!+#REF!+#REF!+#REF!+#REF!+#REF!+#REF!+#REF!) -> #REF! | J30: =SUM(Janvier!#REF!+#REF!+#REF!+#REF!+#REF!+#REF!+#REF!+#REF!+#REF!+#REF!+#REF!+#REF!) -> #REF! | L30: =SUM(Janvier!#REF!+#REF!+#REF!+#REF!+#REF!+#REF!+#REF!+#REF!+#REF!+#REF!+#REF!+#REF!) -> #REF! | M30: =SUM(Janvier!#REF!+#REF!+#REF!+#REF!+#REF!+#REF!+#REF!+#REF!+#REF!+#REF!+#REF!+#REF!) -> #REF! | O30: =SUM(Janvier!#REF!+#REF!+#REF!+#REF!+#REF!+#REF!+#REF!+#REF!+#REF!+#REF!+#REF!+#REF!) -> #REF! | P30: =SUM(Janvier!#REF!+#REF!+#REF!+#REF!+#REF!+#REF!+#REF!+#REF!+#REF!+#REF!+#REF!+#REF!) -> #REF! | Q30: =SUM(Janvier!#REF!+#REF!+#REF!+#REF!+#REF!+#REF!+#REF!+#REF!+#REF!+#REF!+#REF!+#REF!) -> #REF! | S30: =SUM(Janvier!#REF!+#REF!+#REF!+#REF!+#REF!+#REF!+#REF!+#REF!+#REF!+#REF!+#REF!+#REF!) -> #REF! | T30: =SUM(Janvier!#REF!+#REF!+#REF!+#REF!+#REF!+#REF!+#REF!+#REF!+#REF!+#REF!+#REF!+#REF!) -> #REF! | V30: =SUM(Janvier!#REF!+#REF!+#REF!+#REF!+#REF!+#REF!+#REF!+#REF!+#REF!+#REF!+#REF!+#REF!) -> #REF! | W30: =SUM(Janvier!#REF!+#REF!+#REF!+#REF!+#REF!+#REF!+#REF!+#REF!+#REF!+#REF!+#REF!+#REF!) -> #REF! | Y30: =SUM(Janvier!#REF!+#REF!+#REF!+#REF!+#REF!+#REF!+#REF!+#REF!+#REF!+#REF!+#REF!+#REF!) -> #REF! | Z30: =SUM(Janvier!#REF!+#REF!+#REF!+#REF!+#REF!+#REF!+#REF!+#REF!+#REF!+#REF!+#REF!+#REF!) -> #REF!
... B56: =IF(config!#REF!<>"",config!#REF!,"") -> #REF! | C56: =IF(config!#REF!<>"",config!#REF!,"") -> #REF! | D56: =IF(config!#REF!<>"",config!#REF!,"") -> #REF! | F56: =SUM(Janvier!#REF!+#REF!+#REF!+#REF!+#REF!+#REF!+#REF!+#REF!+#REF!+#REF!+#REF!+#REF!) -> #REF! | G56: =SUM(Janvier!#REF!+#REF!+#REF!+#REF!+#REF!+#REF!+#REF!+#REF!+#REF!+#REF!+#REF!+#REF!) -> #REF! | I56: =SUM(Janvier!#REF!+#REF!+#REF!+#REF!+#REF!+#REF!+#REF!+#REF!+#REF!+#REF!+#REF!+#REF!) -> #REF! | J56: =SUM(Janvier!#REF!+#REF!+#REF!+#REF!+#REF!+#REF!+#REF!+#REF!+#REF!+#REF!+#REF!+#REF!) -> #REF! | L56: =SUM(Janvier!#REF!+#REF!+#REF!+#REF!+#REF!+#REF!+#REF!+#REF!+#REF!+#REF!+#REF!+#REF!) -> #REF! | M56: =SUM(Janvier!#REF!+#REF!+#REF!+#REF!+#REF!+#REF!+#REF!+#REF!+#REF!+#REF!+#REF!+#REF!) -> #REF! | O56: =SUM(Janvier!#REF!+#REF!+#REF!+#REF!+#REF!+#REF!+#REF!+#REF!+#REF!+#REF!+#REF!+#REF!) -> #REF! | P56: =SUM(Janvier!#REF!+#REF!+#REF!+#REF!+#REF!+#REF!+#REF!+#REF!+#REF!+#REF!+#REF!+#REF!) -> #REF! | Q56: =SUM(Janvier!#REF!+#REF!+#REF!+#REF!+#REF!+#REF!+#REF!+#REF!+#REF!+#REF!+#REF!+#REF!) -> #REF! | S56: =SUM(Janvier!#REF!+#REF!+#REF!+#REF!+#REF!+#REF!+#REF!+#REF!+#REF!+#REF!+#REF!+#REF!) -> #REF! | T56: =SUM(Janvier!#REF!+#REF!+#REF!+#REF!+#REF!+#REF!+#REF!+#REF!+#REF!+#REF!+#REF!+#REF!) -> #REF! | V56: =SUM(Janvier!#REF!+#REF!+#REF!+#REF!+#REF!+#REF!+#REF!+#REF!+#REF!+#REF!+#REF!+#REF!) -> #REF! | W56: =SUM(Janvier!#REF!+#REF!+#REF!+#REF!+#REF!+#REF!+#REF!+#REF!+#REF!+#REF!+#REF!+#REF!) -> #REF! | Y56: =SUM(Janvier!#REF!+#REF!+#REF!+#REF!+#REF!+#REF!+#REF!+#REF!+#REF!+#REF!+#REF!+#REF!) -> #REF! | Z56: =SUM(Janvier!#REF!+#REF!+#REF!+#REF!+#REF!+#REF!+#REF!+#REF!+#REF!+#REF!+#REF!+#REF!) -> #REF!

Sheet config
B2: Configuration
B4: Calendrier | F4: Jours fériés
B6: Date d'entrée | C6: 45658
F7: Date | G7: Libellé
B8: Mois | C8: Début | D8: Fin | F8: 45658 | G8: Jour de l'an
B9: Janvier | C9: =C6 -> 45658 | D9: =EOMONTH(C9,0) -> 45688 | F9: 45768 | G9: Lundi de pâques
B10: Février | C10: =EDATE(C9,1) -> 45689 | D10: =EOMONTH(C10,0) -> 45716 | F10: 45778 | G10: Fête du travail
B11: Mars | C11: =EDATE(C10,1) -> 45717 | D11: =EOMONTH(C11,0) -> 45747 | F11: 45785 | G11: Fête de la victoire de 1945
B12: Avril | C12: =EDATE(C11,1) -> 45748 | D12: =EOMONTH(C12,0) -> 45777 | F12: 45806 | G12: Ascension
B13: Mai | C13: =EDATE(C12,1) -> 45778 | D13: =EOMONTH(C13,0) -> 45808 | F13: 45817 | G13: Lundi de pentecôte
B14: Juin | C14: =EDATE(C13,1) -> 45809 | D14: =EOMONTH(C14,0) -> 45838 | F14: 45852 | G14: Fête nationale du 14 juillet
B15: Juillet | C15: =EDATE(C14,1) -> 45839 | D15: =EOMONTH(C15,0) -> 45869 | F15: 45884 | G15: Assomption
B16: Août | C16: =EDATE(C15,1) -> 45870 | D16: =EOMONTH(C16,0) -> 45900 | F16: 45962 | G16: Toussaint
B17: Septembre | C17: =EDATE(C16,1) -> 45901 | D17: =EOMONTH(C17,0) -> 45930 | F17: 45972 | G17: Armistice
B18: Octobre | C18: =EDATE(C17,1) -> 45931 | D18: =EOMONTH(C18,0) -> 45961 | F18: 46016 | G18: Noël
B19: Novembre | C19: =EDATE(C18,1) -> 45962 | D19: =EOMONTH(C19,0) -> 45991
B20: Décembre | C20: =EDATE(C19,1) -> 45992 | D20: =EOMONTH(C20,0) -> 46022
B22: Liste du personnel
B24: Nom et prénom | C24: Temps de travail | D24: Service
B25: Paul | C25: Selon contrat | D25: Familial
B26: jacques | C26: Temps plein | D26: Cuisine / Entretien
B27: Antoine | C27: Temps plein | D27: Lutins
B28: Justine | C28: Temps plein | D28: Bout'choux
B29: ariel | C29: Temps plein | D29: Calinoux
B30: Sebastien | C30: 80% mercredi | D30: Ile
B31: Rachide | C31: Temps plein | D31: Ile
B32: Julie | C32: Selon contrat | D32: Familial
B33: Maryam | C33: Mi tps : M, J (mat) et V | D33: Lutins
B34: Karl | C34: Mi tps : M, J (mat) et V | D34: Lutins
B35: Cindy | C35: Temps plein | D35: Lutins
B36: Samira | C36: 80% vendredi | D36: Lutins
