Workbook
Name ANNEE: Calendrier!$L$3
Name Année: Calendrier!$L$3
Name ANNEE1: Calendrier!$L$3
Name ANNEES: Calendrier!$BA$3
Name D: _xlfn.CHOOSECOLS(Tout,2)
Name H: _xlfn.CHOOSECOLS(Tout,5)
Name J: OFFSET(Calendrier!A$9,ROW()-9,-MOD(COLUMN()-3,5))
Name L_Scol: Scolaires[Spectacle]&Scolaires[Date]&Scolaires[horaire]
Name L_Spec: Spectacles[Spectacle]&Spectacles[Date]&Spectacles[horaire]
Name lanneefocus: YEAR(ladatefocus)
Name lenbjoursouvrésannuels: NETWORKDAYS.INTL(DATE(lanneefocus,1,1),DATE(lanneefocus,12,31),"0000011",#REF!)
Name S: _xlfn.CHOOSECOLS(Tout,1)
Name Tout: _xlfn.HSTACK(_xlfn.ANCHORARRAY(Tout!$A$2),_xlfn.ANCHORARRAY(Tout!$D$2),_xlfn.ANCHORARRAY(Tout!$E$2),_xlfn.ANCHORARRAY(Tout!$F$2))

Sheet Calendrier
Q2: Calendrier | AA2: Légendes
C3: PREMIER SEMESTRE: | L3: 2024 | BA3: 2025
S4: jours férié | X4: Fermeture | AC4: Séance Tout Public | AH4: Cinéma | AM4: Partenariat | AR4: Hors les murs | AV4: Location payante
S6: weekends | X6: vacances | AC6: Séance Scolaire | AH6: Résidence | AM6: Mercredi Tous en Scène | AR6: Location gratuite | AV6: Fermeture
B8: septembre | G8: octobre | L8: novembre | Q8: décembre | V8: janvier | AA8: février | AF8: mars | AK8: avril | AP8: mai | AU8: juin | AZ8: juillet | BE8: août
D9: 09h-13h | E9: 14h-18h | F9: 19h-00h | I9: 09h-13h | J9: 14h-18h | K9: 19h-00h | N9: 09h-13h | O9: 14h-18h | P9: 19h-00h | S9: 09h-13h | T9: 14h-18h | U9: 19h-00h | X9: 09h-13h | Y9: 14h-18h | Z9: 19h-00h | AC9: 09h-13h | AD9: 14h-18h | AE9: 19h-00h | AH9: 09h-13h | AI9: 14h-18h | AJ9: 19h-00h | AM9: 09h-13h | AN9: 14h-18h | AO9: 19h-00h | AR9: 09h-13h | AS9: 14h-18h | AT9: 19h-00h | AW9: 09h-13h | AX9: 14h-18h | AY9: 19h-00h | BB9: 09h-13h | BC9: 14h-18h | BD9: 19h-00h | BG9: 09h-13h | BH9: 14h-18h | BI9: 19h-00h
B10: =IF(C10<>"",UPPER(LEFT(TEXT(C10,"jjj"),1)),"") -> D | C10: {=_xlfn.LET(_xlpm.d,_xlfn.SEQUENCE(31,,DATEVALUE(B8&ANNEE)),_xlfn._xlws.FILTER(_xlpm.d,MONTH(_xlpm.d)=MONTH(DATEVALUE(B8&ANNEE))))} -> 45536 | D10: {=_xlfn.TEXTJOIN(CHAR(10),,_xlfn._xlws.FILTER(_xlfn.ANCHORARRAY(Tout!$F$2),(D=J)*(H=D$9),""))} | E10: {=_xlfn.TEXTJOIN(CHAR(10),,_xlfn._xlws.FILTER(_xlfn.ANCHORARRAY(Tout!$F$2),(D=J)*(H=E$9),""))} | F10: {=_xlfn.TEXTJOIN(CHAR(10),,_xlfn._xlws.FILTER(_xlfn.ANCHORARRAY(Tout!$F$2),(D=J)*(H=F$9),""))} | G10: =IF(H10<>"",UPPER(LEFT(TEXT(H10,"jjj"),1)),"") -> M | H10: {=_xlfn.LET(_xlpm.d,_xlfn.SEQUENCE(31,,DATEVALUE(G8&ANNEE)),_xlfn._xlws.FILTER(_xlpm.d,MONTH(_xlpm.d)=MONTH(DATEVALUE(G8&ANNEE))))} -> 45566 | I10: {=_xlfn.TEXTJOIN(CHAR(10),,_xlfn._xlws.FILTER(_xlfn.ANCHORARRAY(Tout!$F$2),(D=J)*(H=I$9),""))} | J10: {=_xlfn.TEXTJOIN(CHAR(10),,_xlfn._xlws.FILTER(_xlfn.ANCHORARRAY(Tout!$F$2),(D=J)*(H=J$9),""))} | K10: {=_xlfn.TEXTJOIN(CHAR(10),,_xlfn._xlws.FILTER(_xlfn.ANCHORARRAY(Tout!$F$2),(D=J)*(H=K$9),""))} | L10: =IF(M10<>"",UPPER(LEFT(TEXT(M10,"jjj"),1)),"") -> V | M10: {=_xlfn.LET(_xlpm.d,_xlfn.SEQUENCE(31,,DATEVALUE(L8&ANNEE)),_xlfn._xlws.FILTER(_xlpm.d,MONTH(_xlpm.d)=MONTH(DATEVALUE(L8&ANNEE))))} -> 45597 | N10: {=_xlfn.TEXTJOIN(CHAR(10),,_xlfn._xlws.FILTER(_xlfn.ANCHORARRAY(Tout!$F$2),(D=J)*(H=N$9),""))} -> Planete Corail 09:00 Planete Corail 10:30 | O10: {=_xlfn.TEXTJOIN(CHAR(10),,_xlfn._xlws.FILTER(_xlfn.ANCHORARRAY(Tout!$F$2),(D=J)*(H=O$9),""))} | P10: {=_xlfn.TEXTJOIN(CHAR(10),,_xlfn._xlws.FILTER(_xlfn.ANCHORARRAY(Tout!$F$2),(D=J)*(H=P$9),""))} | Q10: =IF(R10<>"",UPPER(LEFT(TEXT(R10,"jjj"),1)),"") -> D | R10: {=_xlfn.LET(_xlpm.d,_xlfn.SEQUENCE(31,,DATEVALUE(Q8&ANNEE)),_xlfn._xlws.FILTER(_xlpm.d,MONTH(_xlpm.d)=MONTH(DATEVALUE(Q8&ANNEE))))} -> 45627 | S10: {=_xlfn.TEXTJOIN(CHAR(10),,_xlfn._xlws.FILTER(_xlfn.ANCHORARRAY(Tout!$F$2),(D=J)*(H=S$9),""))} | T10: {=_xlfn.TEXTJOIN(CHAR(10),,_xlfn._xlws.FILTER(_xlfn.ANCHORARRAY(Tout!$F$2),(D=J)*(H=T$9),""))} | U10: {=_xlfn.TEXTJOIN(CHAR(10),,_xlfn._xlws.FILTER(_xlfn.ANCHORARRAY(Tout!$F$2),(D=J)*(H=U$9),""))} | V10: =IF(W10<>"",UPPER(LEFT(TEXT(W10,"jjj"),1)),"") -> M | W10: {=_xlfn.LET(_xlpm.d,_xlfn.SEQUENCE(31,,DATEVALUE(V8&ANNEES)),_xlfn._xlws.FILTER(_xlpm.d,MONTH(_xlpm.d)=MONTH(DATEVALUE(V8&ANNEES))))} -> 45658 | X10: {=_xlfn.TEXTJOIN(CHAR(10),,_xlfn._xlws.FILTER(_xlfn.ANCHORARRAY(Tout!$F$2),(D=J)*(H=X$9),""))} | Y10: {=_xlfn.TEXTJOIN(CHAR(10),,_xlfn._xlws.FILTER(_xlfn.ANCHORARRAY(Tout!$F$2),(D=J)*(H=Y$9),""))} | Z10: {=_xlfn.TEXTJOIN(CHAR(10),,_xlfn._xlws.FILTER(_xlfn.ANCHORARRAY(Tout!$F$2),(D=J)*(H=Z$9),""))} | AA10: =IF(AB10<>"",UPPER(LEFT(TEXT(AB10,"jjj"),1)),"") -> S | AB10: {=_xlfn.LET(_xlpm.d,_xlfn.SEQUENCE(31,,DATEVALUE(AA8&ANNEES)),_xlfn._xlws.FILTER(_xlpm.d,MONTH(_xlpm.d)=MONTH(DATEVALUE(AA8&ANNEES))))} -> 45689 | AC10: {=_xlfn.TEXTJOIN(CHAR(10),,_xlfn._xlws.FILTER(_xlfn.ANCHORARRAY(Tout!$F$2),(D=J)*(H=AC$9),""))} | AD10: {=_xlfn.TEXTJOIN(CHAR(10),,_xlfn._xlws.FILTER(_xlfn.ANCHORARRAY(Tout!$F$2),(D=J)*(H=AD$9),""))} | AE10: {=_xlfn.TEXTJOIN(CHAR(10),,_xlfn._xlws.FILTER(_xlfn.ANCHORARRAY(Tout!$F$2),(D=J)*(H=AE$9),""))} | AF10: =IF(AG10<>"",UPPER(LEFT(TEXT(AG10,"jjj"),1)),"") -> S | AG10: {=_xlfn.LET(_xlpm.d,_xlfn.SEQUENCE(31,,DATEVALUE(AF8&ANNEES)),_xlfn._xlws.FILTER(_xlpm.d,MONTH(_xlpm.d)=MONTH(DATEVALUE(AF8&ANNEES))))} -> 45717 | AH10: {=_xlfn.TEXTJOIN(CHAR(10),,_xlfn._xlws.FILTER(_xlfn.ANCHORARRAY(Tout!$F$2),(D=J)*(H=AH$9),""))} | AI10: {=_xlfn.TEXTJOIN(CHAR(10),,_xlfn._xlws.FILTER(_xlfn.ANCHORARRAY(Tout!$F$2),(D=J)*(H=AI$9),""))} | AJ10: {=_xlfn.TEXTJOIN(CHAR(10),,_xlfn._xlws.FILTER(_xlfn.ANCHORARRAY(Tout!$F$2),(D=J)*(H=AJ$9),""))} | AK10: =IF(AL10<>"",UPPER(LEFT(TEXT(AL10,"jjj"),1)),"") -> M | AL10: {=_xlfn.LET(_xlpm.d,_xlfn.SEQUENCE(31,,DATEVALUE(AK8&ANNEES)),_xlfn._xlws.FILTER(_xlpm.d,MONTH(_xlpm.d)=MONTH(DATEVALUE(AK8&ANNEES))))} -> 45748 | AM10: {=_xlfn.TEXTJOIN(CHAR(10),,_xlfn._xlws.FILTER(_xlfn.ANCHORARRAY(Tout!$F$2),(D=J)*(H=AM$9),""))} | AN10: {=_xlfn.TEXTJOIN(CHAR(10),,_xlfn._xlws.FILTER(_xlfn.ANCHORARRAY(Tout!$F$2),(D=J)*(H=AN$9),""))} | AO10: {=_xlfn.TEXTJOIN(CHAR(10),,_xlfn._xlws.FILTER(_xlfn.ANCHORARRAY(Tout!$F$2),(D=J)*(H=AO$9),""))} | AP10: =IF(AQ10<>"",UPPER(LEFT(TEXT(AQ10,"jjj"),1)),"") -> J | AQ10: {=_xlfn.LET(_xlpm.d,_xlfn.SEQUENCE(31,,DATEVALUE(AP8&ANNEES)),_xlfn._xlws.FILTER(_xlpm.d,MONTH(_xlpm.d)=MONTH(DATEVALUE(AP8&ANNEES))))} -> 45778 | AR10: {=_xlfn.TEXTJOIN(CHAR(10),,_xlfn._xlws.FILTER(_xlfn.ANCHORARRAY(Tout!$F$2),(D=J)*(H=AR$9),""))} | AS10: {=_xlfn.TEXTJOIN(CHAR(10),,_xlfn._xlws.FILTER(_xlfn.ANCHORARRAY(Tout!$F$2),(D=J)*(H=AS$9),""))} | AT10: {=_xlfn.TEXTJOIN(CHAR(10),,_xlfn._xlws.FILTER(_xlfn.ANCHORARRAY(Tout!$F$2),(D=J)*(H=AT$9),""))} | AU10: =IF(AV10<>"",UPPER(LEFT(TEXT(AV10,"jjj"),1)),"") -> D | AV10: {=_xlfn.LET(_xlpm.d,_xlfn.SEQUENCE(31,,DATEVALUE(AU8&ANNEES)),_xlfn._xlws.FILTER(_xlpm.d,MONTH(_xlpm.d)=MONTH(DATEVALUE(AU8&ANNEES))))} -> 45809 | AW10: {=_xlfn.TEXTJOIN(CHAR(10),,_xlfn._xlws.FILTER(_xlfn.ANCHORARRAY(Tout!$F$2),(D=J)*(H=AW$9),""))} | AX10: {=_xlfn.TEXTJOIN(CHAR(10),,_xlfn._xlws.FILTER(_xlfn.ANCHORARRAY(Tout!$F$2),(D=J)*(H=AX$9),""))} | AY10: {=_xlfn.TEXTJOIN(CHAR(10),,_xlfn._xlws.FILTER(_xlfn.ANCHORARRAY(Tout!$F$2),(D=J)*(H=AY$9),""))} | AZ10: =IF(BA10<>"",UPPER(LEFT(TEXT(BA10,"jjj"),1)),"") -> M | BA10: {=_xlfn.LET(_xlpm.d,_xlfn.SEQUENCE(31,,DATEVALUE(AZ8&ANNEES)),_xlfn._xlws.FILTER(_xlpm.d,MONTH(_xlpm.d)=MONTH(DATEVALUE(AZ8&ANNEES))))} -> 45839 | BB10: {=_xlfn.TEXTJOIN(CHAR(10),,_xlfn._xlws.FILTER(_xlfn.ANCHORARRAY(Tout!$F$2),(D=J)*(H=BB$9),""))} | BC10: {=_xlfn.TEXTJOIN(CHAR(10),,_xlfn._xlws.FILTER(_xlfn.ANCHORARRAY(Tout!$F$2),(D=J)*(H=BC$9),""))} | BD10: {=_xlfn.TEXTJOIN(CHAR(10),,_xlfn._xlws.FILTER(_xlfn.ANCHORARRAY(Tout!$F$2),(D=J)*(H=BD$9),""))} | BE10: =IF(BF10<>"",UPPER(LEFT(TEXT(BF10,"jjj"),1)),"") -> V | BF10: {=_xlfn.LET(_xlpm.d,_xlfn.SEQUENCE(31,,DATEVALUE(BE8&ANNEES)),_xlfn._xlws.FILTER(_xlpm.d,MONTH(_xlpm.d)=MONTH(DATEVALUE(BE8&ANNEES))))} -> 45870 | BG10: {=_xlfn.TEXTJOIN(CHAR(10),,_xlfn._xlws.FILTER(_xlfn.ANCHORARRAY(Tout!$F$2),(D=J)*(H=BG$9),""))} | BH10: {=_xlfn.TEXTJOIN(CHAR(10),,_xlfn._xlws.FILTER(_xlfn.ANCHORARRAY(Tout!$F$2),(D=J)*(H=BH$9),""))} | BI10: {=_xlfn.TEXTJOIN(CHAR(10),,_xlfn._xlws.FILTER(_xlfn.ANCHORARRAY(Tout!$F$2),(D=J)*(H=BI$9),""))}
B11: =IF(C11<>"",UPPER(LEFT(TEXT(C11,"jjj"),1)),"") -> L | C11: 45537 | D11: {=_xlfn.TEXTJOIN(CHAR(10),,_xlfn._xlws.FILTER(_xlfn.ANCHORARRAY(Tout!$F$2),(D=J)*(H=D$9),""))} | E11: {=_xlfn.TEXTJOIN(CHAR(10),,_xlfn._xlws.FILTER(_xlfn.ANCHORARRAY(Tout!$F$2),(D=J)*(H=E$9),""))} | F11: {=_xlfn.TEXTJOIN(CHAR(10),,_xlfn._xlws.FILTER(_xlfn.ANCHORARRAY(Tout!$F$2),(D=J)*(H=F$9),""))} | G11: =IF(H11<>"",UPPER(LEFT(TEXT(H11,"jjj"),1)),"") -> M | H11: 45567 | I11: {=_xlfn.TEXTJOIN(CHAR(10),,_xlfn._xlws.FILTER(_xlfn.ANCHORARRAY(Tout!$F$2),(D=J)*(H=I$9),""))} | J11: {=_xlfn.TEXTJOIN(CHAR(10),,_xlfn._xlws.FILTER(_xlfn.ANCHORARRAY(Tout!$F$2),(D=J)*(H=J$9),""))} | K11: {=_xlfn.TEXTJOIN(CHAR(10),,_xlfn._xlws.FILTER(_xlfn.ANCHORARRAY(Tout!$F$2),(D=J)*(H=K$9),""))} | L11: =IF(M11<>"",UPPER(LEFT(TEXT(M11,"jjj"),1)),"") -> S | M11: 45598 | N11: {=_xlfn.TEXTJOIN(CHAR(10),,_xlfn._xlws.FILTER(_xlfn.ANCHORARRAY(Tout!$F$2),(D=J)*(H=N$9),""))} -> Planete Corail 11:00 | O11: {=_xlfn.TEXTJOIN(CHAR(10),,_xlfn._xlws.FILTER(_xlfn.ANCHORARRAY(Tout!$F$2),(D=J)*(H=O$9),""))} | P11: {=_xlfn.TEXTJOIN(CHAR(10),,_xlfn._xlws.FILTER(_xlfn.ANCHORARRAY(Tout!$F$2),(D=J)*(H=P$9),""))} | Q11: =IF(R11<>"",UPPER(LEFT(TEXT(R11,"jjj"),1)),"") -> L | R11: 45628 | S11: {=_xlfn.TEXTJOIN(CHAR(10),,_xlfn._xlws.FILTER(_xlfn.ANCHORARRAY(Tout!$F$2),(D=J)*(H=S$9),""))} | T11: {=_xlfn.TEXTJOIN(CHAR(10),,_xlfn._xlws.FILTER(_xlfn.ANCHORARRAY(Tout!$F$2),(D=J)*(H=T$9),""))} | U11: {=_xlfn.TEXTJOIN(CHAR(10),,_xlfn._xlws.FILTER(_xlfn.ANCHORARRAY(Tout!$F$2),(D=J)*(H=U$9),""))} | V11: =IF(W11<>"",UPPER(LEFT(TEXT(W11,"jjj"),1)),"") -> J | W11: 45659 | X11: {=_xlfn.TEXTJOIN(CHAR(10),,_xlfn._xlws.FILTER(_xlfn.ANCHORARRAY(Tout!$F$2),(D=J)*(H=X$9),""))} | Y11: {=_xlfn.TEXTJOIN(CHAR(10),,_xlfn._xlws.FILTER(_xlfn.ANCHORARRAY(Tout!$F$2),(D=J)*(H=Y$9),""))} | Z11: {=_xlfn.TEXTJOIN(CHAR(10),,_xlfn._xlws.FILTER(_xlfn.ANCHORARRAY(Tout!$F$2),(D=J)*(H=Z$9),""))} | AA11: =IF(AB11<>"",UPPER(LEFT(TEXT(AB11,"jjj"),1)),"") -> D | AB11: 45690 | AC11: {=_xlfn.TEXTJOIN(CHAR(10),,_xlfn._xlws.FILTER(_xlfn.ANCHORARRAY(Tout!$F$2),(D=J)*(H=AC$9),""))} | AD11: {=_xlfn.TEXTJOIN(CHAR(10),,_xlfn._xlws.FILTER(_xlfn.ANCHORARRAY(Tout!$F$2),(D=J)*(H=AD$9),""))} | AE11: {=_xlfn.TEXTJOIN(CHAR(10),,_xlfn._xlws.FILTER(_xlfn.ANCHORARRAY(Tout!$F$2),(D=J)*(H=AE$9),""))} -> L'école du risque 20:30 | AF11: =IF(AG11<>"",UPPER(LEFT(TEXT(AG11,"jjj"),1)),"") -> D | AG11: 45718 | AH11: {=_xlfn.TEXTJOIN(CHAR(10),,_xlfn._xlws.FILTER(_xlfn.ANCHORARRAY(Tout!$F$2),(D=J)*(H=AH$9),""))} | AI11: {=_xlfn.TEXTJOIN(CHAR(10),,_xlfn._xlws.FILTER(_xlfn.ANCHORARRAY(Tout!$F$2),(D=J)*(H=AI$9),""))} | AJ11: {=_xlfn.TEXTJOIN(CHAR(10),,_xlfn._xlws.FILTER(_xlfn.ANCHORARRAY(Tout!$F$2),(D=J)*(H=AJ$9),""))} | AK11: =IF(AL11<>"",UPPER(LEFT(TEXT(AL11,"jjj"),1)),"") -> M | AL11: 45749 | AM11: {=_xlfn.TEXTJOIN(CHAR(10),,_xlfn._xlws.FILTER(_xlfn.ANCHORARRAY(Tout!$F$2),(D=J)*(H=AM$9),""))} | AN11: {=_xlfn.TEXTJOIN(CHAR(10),,_xlfn._xlws.FILTER(_xlfn.ANCHORARRAY(Tout!$F$2),(D=J)*(H=AN$9),""))} | AO11: {=_xlfn.TEXTJOIN(CHAR(10),,_xlfn._xlws.FILTER(_xlfn.ANCHORARRAY(Tout!$F$2),(D=J)*(H=AO$9),""))} | AP11: =IF(AQ11<>"",UPPER(LEFT(TEXT(AQ11,"jjj"),1)),"") -> V | AQ11: 45779 | AR11: {=_xlfn.TEXTJOIN(CHAR(10),,_xlfn._xlws.FILTER(_xlfn.ANCHORARRAY(Tout!$F$2),(D=J)*(H=AR$9),""))} | AS11: {=_xlfn.TEXTJOIN(CHAR(10),,_xlfn._xlws.FILTER(_xlfn.ANCHORARRAY(Tout!$F$2),(D=J)*(H=AS$9),""))} | AT11: {=_xlfn.TEXTJOIN(CHAR(10),,_xlfn._xlws.FILTER(_xlfn.ANCHORARRAY(Tout!$F$2),(D=J)*(H=AT$9),""))} -> Comme il vous plaira 20:30 | AU11: =IF(AV11<>"",UPPER(LEFT(TEXT(AV11,"jjj"),1)),"") -> L | AV11: 45810 | AW11: {=_xlfn.TEXTJOIN(CHAR(10),,_xlfn._xlws.FILTER(_xlfn.ANCHORARRAY(Tout!$F$2),(D=J)*(H=AW$9),""))} | AX11: {=_xlfn.TEXTJOIN(CHAR(10),,_xlfn._xlws.FILTER(_xlfn.ANCHORARRAY(Tout!$F$2),(D=J)*(H=AX$9),""))} | AY11: {=_xlfn.TEXTJOIN(CHAR(10),,_xlfn._xlws.FILTER(_xlfn.ANCHORARRAY(Tout!$F$2),(D=J)*(H=AY$9),""))} | AZ11: =IF(BA11<>"",UPPER(LEFT(TEXT(BA11,"jjj"),1)),"") -> M | BA11: 45840 | BB11: {=_xlfn.TEXTJOIN(CHAR(10),,_xlfn._xlws.FILTER(_xlfn.ANCHORARRAY(Tout!$F$2),(D=J)*(H=BB$9),""))} | BC11: {=_xlfn.TEXTJOIN(CHAR(10),,_xlfn._xlws.FILTER(_xlfn.ANCHORARRAY(Tout!$F$2),(D=J)*(H=BC$9),""))} | BD11: {=_xlfn.TEXTJOIN(CHAR(10),,_xlfn._xlws.FILTER(_xlfn.ANCHORARRAY(Tout!$F$2),(D=J)*(H=BD$9),""))} | BE11: =IF(BF11<>"",UPPER(LEFT(TEXT(BF11,"jjj"),1)),"") -> S | BF11: 45871 | BG11: {=_xlfn.TEXTJOIN(CHAR(10),,_xlfn._xlws.FILTER(_xlfn.ANCHORARRAY(Tout!$F$2),(D=J)*(H=BG$9),""))} | BH11: {=_xlfn.TEXTJOIN(CHAR(10),,_xlfn._xlws.FILTER(_xlfn.ANCHORARRAY(Tout!$F$2),(D=J)*(H=BH$9),""))} | BI11: {=_xlfn.TEXTJOIN(CHAR(10),,_xlfn._xlws.FILTER(_xlfn.ANCHORARRAY(Tout!$F$2),(D=J)*(H=BI$9),""))}
B12: =IF(C12<>"",UPPER(LEFT(TEXT(C12,"jjj"),1)),"") -> M | C12: 45538 | D12: {=_xlfn.TEXTJOIN(CHAR(10),,_xlfn._xlws.FILTER(_xlfn.ANCHORARRAY(Tout!$F$2),(D=J)*(H=D$9),""))} | E12: {=_xlfn.TEXTJOIN(CHAR(10),,_xlfn._xlws.FILTER(_xlfn.ANCHORARRAY(Tout!$F$2),(D=J)*(H=E$9),""))} | F12: {=_xlfn.TEXTJOIN(CHAR(10),,_xlfn._xlws.FILTER(_xlfn.ANCHORARRAY(Tout!$F$2),(D=J)*(H=F$9),""))} | G12: =IF(H12<>"",UPPER(LEFT(TEXT(H12,"jjj"),1)),"") -> J | H12: 45568 | I12: {=_xlfn.TEXTJOIN(CHAR(10),,_xlfn._xlws.FILTER(_xlfn.ANCHORARRAY(Tout!$F$2),(D=J)*(H=I$9),""))} | J12: {=_xlfn.TEXTJOIN(CHAR(10),,_xlfn._xlws.FILTER(_xlfn.ANCHORARRAY(Tout!$F$2),(D=J)*(H=J$9),""))} | K12: {=_xlfn.TEXTJOIN(CHAR(10),,_xlfn._xlws.FILTER(_xlfn.ANCHORARRAY(Tout!$F$2),(D=J)*(H=K$9),""))} | L12: =IF(M12<>"",UPPER(LEFT(TEXT(M12,"jjj"),1)),"") -> D | M12: 45599 | N12: {=_xlfn.TEXTJOIN(CHAR(10),,_xlfn._xlws.FILTER(_xlfn.ANCHORARRAY(Tout!$F$2),(D=J)*(H=N$9),""))} | O12: {=_xlfn.TEXTJOIN(CHAR(10),,_xlfn._xlws.FILTER(_xlfn.ANCHORARRAY(Tout!$F$2),(D=J)*(H=O$9),""))} | P12: {=_xlfn.TEXTJOIN(CHAR(10),,_xlfn._xlws.FILTER(_xlfn.ANCHORARRAY(Tout!$F$2),(D=J)*(H=P$9),""))} | Q12: =IF(R12<>"",UPPER(LEFT(TEXT(R12,"jjj"),1)),"") -> M | R12: 45629 | S12: {=_xlfn.TEXTJOIN(CHAR(10),,_xlfn._xlws.FILTER(_xlfn.ANCHORARRAY(Tout!$F$2),(D=J)*(H=S$9),""))} | T12: {=_xlfn.TEXTJOIN(CHAR(10),,_xlfn._xlws.FILTER(_xlfn.ANCHORARRAY(Tout!$F$2),(D=J)*(H=T$9),""))} | U12: {=_xlfn.TEXTJOIN(CHAR(10),,_xlfn._xlws.FILTER(_xlfn.ANCHORARRAY(Tout!$F$2),(D=J)*(H=U$9),""))} | V12: =IF(W12<>"",UPPER(LEFT(TEXT(W12,"jjj"),1)),"") -> V | W12: 45660 | X12: {=_xlfn.TEXTJOIN(CHAR(10),,_xlfn._xlws.FILTER(_xlfn.ANCHORARRAY(Tout!$F$2),(D=J)*(H=X$9),""))} | Y12: {=_xlfn.TEXTJOIN(CHAR(10),,_xlfn._xlws.FILTER(_xlfn.ANCHORARRAY(Tout!$F$2),(D=J)*(H=Y$9),""))} | Z12: {=_xlfn.TEXTJOIN(CHAR(10),,_xlfn._xlws.FILTER(_xlfn.ANCHORARRAY(Tout!$F$2),(D=J)*(H=Z$9),""))} | AA12: =IF(AB12<>"",UPPER(LEFT(TEXT(AB12,"jjj"),1)),"") -> L | AB12: 45691 | AC12: {=_xlfn.TEXTJOIN(CHAR(10),,_xlfn._xlws.FILTER(_xlfn.ANCHORARRAY(Tout!$F$2),(D=J)*(H=AC$9),""))} | AD12: {=_xlfn.TEXTJOIN(CHAR(10),,_xlfn._xlws.FILTER(_xlfn.ANCHORARRAY(Tout!$F$2),(D=J)*(H=AD$9),""))} | AE12: {=_xlfn.TEXTJOIN(CHAR(10),,_xlfn._xlws.FILTER(_xlfn.ANCHORARRAY(Tout!$F$2),(D=J)*(H=AE$9),""))} | AF12: =IF(AG12<>"",UPPER(LEFT(TEXT(AG12,"jjj"),1)),"") -> L | AG12: 45719 | AH12: {=_xlfn.TEXTJOIN(CHAR(10),,_xlfn._xlws.FILTER(_xlfn.ANCHORARRAY(Tout!$F$2),(D=J)*(H=AH$9),""))} | AI12: {=_xlfn.TEXTJOIN(CHAR(10),,_xlfn._xlws.FILTER(_xlfn.ANCHORARRAY(Tout!$F$2),(D=J)*(H=AI$9),""))} | AJ12: {=_xlfn.TEXTJOIN(CHAR(10),,_xlfn._xlws.FILTER(_xlfn.ANCHORARRAY(Tout!$F$2),(D=J)*(H=AJ$9),""))} -> Scenocentre 20:00 | AK12: =IF(AL12<>"",UPPER(LEFT(TEXT(AL12,"jjj"),1)),"") -> J | AL12: 45750 | AM12: {=_xlfn.TEXTJOIN(CHAR(10),,_xlfn._xlws.FILTER(_xlfn.ANCHORARRAY(Tout!$F$2),(D=J)*(H=AM$9),""))} | AN12: {=_xlfn.TEXTJOIN(CHAR(10),,_xlfn._xlws.FILTER(_xlfn.ANCHORARRAY(Tout!$F$2),(D=J)*(H=AN$9),""))} | AO12: {=_xlfn.TEXTJOIN(CHAR(10),,_xlfn._xlws.FILTER(_xlfn.ANCHORARRAY(Tout!$F$2),(D=J)*(H=AO$9),""))} | AP12: =IF(AQ12<>"",UPPER(LEFT(TEXT(AQ12,"jjj"),1)),"") -> S | AQ12: 45780 | AR12: {=_xlfn.TEXTJOIN(CHAR(10),,_xlfn._xlws.FILTER(_xlfn.ANCHORARRAY(Tout!$F$2),(D=J)*(H=AR$9),""))} | AS12: {=_xlfn.TEXTJOIN(CHAR(10),,_xlfn._xlws.FILTER(_xlfn.ANCHORARRAY(Tout!$F$2),(D=J)*(H=AS$9),""))} | AT12: {=_xlfn.TEXTJOIN(CHAR(10),,_xlfn._xlws.FILTER(_xlfn.ANCHORARRAY(Tout!$F$2),(D=J)*(H=AT$9),""))} | AU12: =IF(AV12<>"",UPPER(LEFT(TEXT(AV12,"jjj"),1)),"") -> M | AV12: 45811 | AW12: {=_xlfn.TEXTJOIN(CHAR(10),,_xlfn._xlws.FILTER(_xlfn.ANCHORARRAY(Tout!$F$2),(D=J)*(H=AW$9),""))} | AX12: {=_xlfn.TEXTJOIN(CHAR(10),,_xlfn._xlws.FILTER(_xlfn.ANCHORARRAY(Tout!$F$2),(D=J)*(H=AX$9),""))} | AY12: {=_xlfn.TEXTJOIN(CHAR(10),,_xlfn._xlws.FILTER(_xlfn.ANCHORARRAY(Tout!$F$2),(D=J)*(H=AY$9),""))} | AZ12: =IF(BA12<>"",UPPER(LEFT(TEXT(BA12,"jjj"),1)),"") -> J | BA12: 45841 | BB12: {=_xlfn.TEXTJOIN(CHAR(10),,_xlfn._xlws.FILTER(_xlfn.ANCHORARRAY(Tout!$F$2),(D=J)*(H=BB$9),""))} | BC12: {=_xlfn.TEXTJOIN(CHAR(10),,_xlfn._xlws.FILTER(_xlfn.ANCHORARRAY(Tout!$F$2),(D=J)*(H=BC$9),""))} | BD12: {=_xlfn.TEXTJOIN(CHAR(10),,_xlfn._xlws.FILTER(_xlfn.ANCHORARRAY(Tout!$F$2),(D=J)*(H=BD$9),""))} | BE12: =IF(BF12<>"",UPPER(LEFT(TEXT(BF12,"jjj"),1)),"") -> D | BF12: 45872 | BG12: {=_xlfn.TEXTJOIN(CHAR(10),,_xlfn._xlws.FILTER(_xlfn.ANCHORARRAY(Tout!$F$2),(D=J)*(H=BG$9),""))} | BH12: {=_xlfn.TEXTJOIN(CHAR(10),,_xlfn._xlws.FILTER(_xlfn.ANCHORARRAY(Tout!$F$2),(D=J)*(H=BH$9),""))} | BI12: {=_xlfn.TEXTJOIN(CHAR(10),,_xlfn._xlws.FILTER(_xlfn.ANCHORARRAY(Tout!$F$2),(D=J)*(H=BI$9),""))}
B13: =IF(C13<>"",UPPER(LEFT(TEXT(C13,"jjj"),1)),"") -> M | C13: 45539 | D13: {=_xlfn.TEXTJOIN(CHAR(10),,_xlfn._xlws.FILTER(_xlfn.ANCHORARRAY(Tout!$F$2),(D=J)*(H=D$9),""))} | E13: {=_xlfn.TEXTJOIN(CHAR(10),,_xlfn._xlws.FILTER(_xlfn.ANCHORARRAY(Tout!$F$2),(D=J)*(H=E$9),""))} | F13: {=_xlfn.TEXTJOIN(CHAR(10),,_xlfn._xlws.FILTER(_xlfn.ANCHORARRAY(Tout!$F$2),(D=J)*(H=F$9),""))} | G13: =IF(H13<>"",UPPER(LEFT(TEXT(H13,"jjj"),1)),"") -> V | H13: 45569 | I13: {=_xlfn.TEXTJOIN(CHAR(10),,_xlfn._xlws.FILTER(_xlfn.ANCHORARRAY(Tout!$F$2),(D=J)*(H=I$9),""))} | J13: {=_xlfn.TEXTJOIN(CHAR(10),,_xlfn._xlws.FILTER(_xlfn.ANCHORARRAY(Tout!$F$2),(D=J)*(H=J$9),""))} | K13: {=_xlfn.TEXTJOIN(CHAR(10),,_xlfn._xlws.FILTER(_xlfn.ANCHORARRAY(Tout!$F$2),(D=J)*(H=K$9),""))} | L13: =IF(M13<>"",UPPER(LEFT(TEXT(M13,"jjj"),1)),"") -> L | M13: 45600 | N13: {=_xlfn.TEXTJOIN(CHAR(10),,_xlfn._xlws.FILTER(_xlfn.ANCHORARRAY(Tout!$F$2),(D=J)*(H=N$9),""))} | O13: {=_xlfn.TEXTJOIN(CHAR(10),,_xlfn._xlws.FILTER(_xlfn.ANCHORARRAY(Tout!$F$2),(D=J)*(H=O$9),""))} | P13: {=_xlfn.TEXTJOIN(CHAR(10),,_xlfn._xlws.FILTER(_xlfn.ANCHORARRAY(Tout!$F$2),(D=J)*(H=P$9),""))} | Q13: =IF(R13<>"",UPPER(LEFT(TEXT(R13,"jjj"),1)),"") -> M | R13: 45630 | S13: {=_xlfn.TEXTJOIN(CHAR(10),,_xlfn._xlws.FILTER(_xlfn.ANCHORARRAY(Tout!$F$2),(D=J)*(H=S$9),""))} | T13: {=_xlfn.TEXTJOIN(CHAR(10),,_xlfn._xlws.FILTER(_xlfn.ANCHORARRAY(Tout!$F$2),(D=J)*(H=T$9),""))} | U13: {=_xlfn.TEXTJOIN(CHAR(10),,_xlfn._xlws.FILTER(_xlfn.ANCHORARRAY(Tout!$F$2),(D=J)*(H=U$9),""))} | V13: =IF(W13<>"",UPPER(LEFT(TEXT(W13,"jjj"),1)),"") -> S | W13: 45661 | X13: {=_xlfn.TEXTJOIN(CHAR(10),,_xlfn._xlws.FILTER(_xlfn.ANCHORARRAY(Tout!$F$2),(D=J)*(H=X$9),""))} | Y13: {=_xlfn.TEXTJOIN(CHAR(10),,_xlfn._xlws.FILTER(_xlfn.ANCHORARRAY(Tout!$F$2),(D=J)*(H=Y$9),""))} | Z13: {=_xlfn.TEXTJOIN(CHAR(10),,_xlfn._xlws.FILTER(_xlfn.ANCHORARRAY(Tout!$F$2),(D=J)*(H=Z$9),""))} | AA13: =IF(AB13<>"",UPPER(LEFT(TEXT(AB13,"jjj"),1)),"") -> M | AB13: 45692 | AC13: {=_xlfn.TEXTJOIN(CHAR(10),,_xlfn._xlws.FILTER(_xlfn.ANCHORARRAY(Tout!$F$2),(D=J)*(H=AC$9),""))} | AD13: {=_xlfn.TEXTJOIN(CHAR(10),,_xlfn._xlws.FILTER(_xlfn.ANCHORARRAY(Tout!$F$2),(D=J)*(H=AD$9),""))} | AE13: {=_xlfn.TEXTJOIN(CHAR(10),,_xlfn._xlws.FILTER(_xlfn.ANCHORARRAY(Tout!$F$2),(D=J)*(H=AE$9),""))} | AF13: =IF(AG13<>"",UPPER(LEFT(TEXT(AG13,"jjj"),1)),"") -> M | AG13: 45720 | AH13: {=_xlfn.TEXTJOIN(CHAR(10),,_xlfn._xlws.FILTER(_xlfn.ANCHORARRAY(Tout!$F$2),(D=J)*(H=AH$9),""))} | AI13: {=_xlfn.TEXTJOIN(CHAR(10),,_xlfn._xlws.FILTER(_xlfn.ANCHORARRAY(Tout!$F$2),(D=J)*(H=AI$9),""))} | AJ13: {=_xlfn.TEXTJOIN(CHAR(10),,_xlfn._xlws.FILTER(_xlfn.ANCHORARRAY(Tout!$F$2),(D=J)*(H=AJ$9),""))} | AK13: =IF(AL13<>"",UPPER(LEFT(TEXT(AL13,"jjj"),1)),"") -> V | AL13: 45751 | AM13: {=_xlfn.TEXTJOIN(CHAR(10),,_xlfn._xlws.FILTER(_xlfn.ANCHORARRAY(Tout!$F$2),(D=J)*(H=AM$9),""))} | AN13: {=_xlfn.TEXTJOIN(CHAR(10),,_xlfn._xlws.FILTER(_xlfn.ANCHORARRAY(Tout!$F$2),(D=J)*(H=AN$9),""))} | AO13: {=_xlfn.TEXTJOIN(CHAR(10),,_xlfn._xlws.FILTER(_xlfn.ANCHORARRAY(Tout!$F$2),(D=J)*(H=AO$9),""))} -> Au non du père 20:30 | AP13: =IF(AQ13<>"",UPPER(LEFT(TEXT(AQ13,"jjj"),1)),"") -> D | AQ13: 45781 | AR13: {=_xlfn.TEXTJOIN(CHAR(10),,_xlfn._xlws.FILTER(_xlfn.ANCHORARRAY(Tout!$F$2),(D=J)*(H=AR$9),""))} | AS13: {=_xlfn.TEXTJOIN(CHAR(10),,_xlfn._xlws.FILTER(_xlfn.ANCHORARRAY(Tout!$F$2),(D=J)*(H=AS$9),""))} | AT13: {=_xlfn.TEXTJOIN(CHAR(10),,_xlfn._xlws.FILTER(_xlfn.ANCHORARRAY(Tout!$F$2),(D=J)*(H=AT$9),""))} | AU13: =IF(AV13<>"",UPPER(LEFT(TEXT(AV13,"jjj"),1)),"") -> M | AV13: 45812 | AW13: {=_xlfn.TEXTJOIN(CHAR(10),,_xlfn._xlws.FILTER(_xlfn.ANCHORARRAY(Tout!$F$2),(D=J)*(H=AW$9),""))} | AX13: {=_xlfn.TEXTJOIN(CHAR(10),,_xlfn._xlws.FILTER(_xlfn.ANCHORARRAY(Tout!$F$2),(D=J)*(H=AX$9),""))} | AY13: {=_xlfn.TEXTJOIN(CHAR(10),,_xlfn._xlws.FILTER(_xlfn.ANCHORARRAY(Tout!$F$2),(D=J)*(H=AY$9),""))} | AZ13: =IF(BA13<>"",UPPER(LEFT(TEXT(BA13,"jjj"),1)),"") -> V | BA13: 45842 | BB13: {=_xlfn.TEXTJOIN(CHAR(10),,_xlfn._xlws.FILTER(_xlfn.ANCHORARRAY(Tout!$F$2),(D=J)*(H=BB$9),""))} | BC13: {=_xlfn.TEXTJOIN(CHAR(10),,_xlfn._xlws.FILTER(_xlfn.ANCHORARRAY(Tout!$F$2),(D=J)*(H=BC$9),""))} | BD13: {=_xlfn.TEXTJOIN(CHAR(10),,_xlfn._xlws.FILTER(_xlfn.ANCHORARRAY(Tout!$F$2),(D=J)*(H=BD$9),""))} | BE13: =IF(BF13<>"",UPPER(LEFT(TEXT(BF13,"jjj"),1)),"") -> L | BF13: 45873 | BG13: {=_xlfn.TEXTJOIN(CHAR(10),,_xlfn._xlws.FILTER(_xlfn.ANCHORARRAY(Tout!$F$2),(D=J)*(H=BG$9),""))} | BH13: {=_xlfn.TEXTJOIN(CHAR(10),,_xlfn._xlws.FILTER(_xlfn.ANCHORARRAY(Tout!$F$2),(D=J)*(H=BH$9),""))} | BI13: {=_xlfn.TEXTJOIN(CHAR(10),,_xlfn._xlws.FILTER(_xlfn.ANCHORARRAY(Tout!$F$2),(D=J)*(H=BI$9),""))}
B14: =IF(C14<>"",UPPER(LEFT(TEXT(C14,"jjj"),1)),"") -> J | C14: 45540 | D14: {=_xlfn.TEXTJOIN(CHAR(10),,_xlfn._xlws.FILTER(_xlfn.ANCHORARRAY(Tout!$F$2),(D=J)*(H=D$9),""))} | E14: {=_xlfn.TEXTJOIN(CHAR(10),,_xlfn._xlws.FILTER(_xlfn.ANCHORARRAY(Tout!$F$2),(D=J)*(H=E$9),""))} | F14: {=_xlfn.TEXTJOIN(CHAR(10),,_xlfn._xlws.FILTER(_xlfn.ANCHORARRAY(Tout!$F$2),(D=J)*(H=F$9),""))} | G14: =IF(H14<>"",UPPER(LEFT(TEXT(H14,"jjj"),1)),"") -> S | H14: 45570 | I14: {=_xlfn.TEXTJOIN(CHAR(10),,_xlfn._xlws.FILTER(_xlfn.ANCHORARRAY(Tout!$F$2),(D=J)*(H=I$9),""))} | J14: {=_xlfn.TEXTJOIN(CHAR(10),,_xlfn._xlws.FILTER(_xlfn.ANCHORARRAY(Tout!$F$2),(D=J)*(H=J$9),""))} | K14: {=_xlfn.TEXTJOIN(CHAR(10),,_xlfn._xlws.FILTER(_xlfn.ANCHORARRAY(Tout!$F$2),(D=J)*(H=K$9),""))} | L14: =IF(M14<>"",UPPER(LEFT(TEXT(M14,"jjj"),1)),"") -> M | M14: 45601 | N14: {=_xlfn.TEXTJOIN(CHAR(10),,_xlfn._xlws.FILTER(_xlfn.ANCHORARRAY(Tout!$F$2),(D=J)*(H=N$9),""))} | O14: {=_xlfn.TEXTJOIN(CHAR(10),,_xlfn._xlws.FILTER(_xlfn.ANCHORARRAY(Tout!$F$2),(D=J)*(H=O$9),""))} | P14: {=_xlfn.TEXTJOIN(CHAR(10),,_xlfn._xlws.FILTER(_xlfn.ANCHORARRAY(Tout!$F$2),(D=J)*(H=P$9),""))} -> Antichambre 20:30 | Q14: =IF(R14<>"",UPPER(LEFT(TEXT(R14,"jjj"),1)),"") -> J | R14: 45631 | S14: {=_xlfn.TEXTJOIN(CHAR(10),,_xlfn._xlws.FILTER(_xlfn.ANCHORARRAY(Tout!$F$2),(D=J)*(H=S$9),""))} | T14: {=_xlfn.TEXTJOIN(CHAR(10),,_xlfn._xlws.FILTER(_xlfn.ANCHORARRAY(Tout!$F$2),(D=J)*(H=T$9),""))} | U14: {=_xlfn.TEXTJOIN(CHAR(10),,_xlfn._xlws.FILTER(_xlfn.ANCHORARRAY(Tout!$F$2),(D=J)*(H=U$9),""))} | V14: =IF(W14<>"",UPPER(LEFT(TEXT(W14,"jjj"),1)),"") -> D | W14: 45662 | X14: {=_xlfn.TEXTJOIN(CHAR(10),,_xlfn._xlws.FILTER(_xlfn.ANCHORARRAY(Tout!$F$2),(D=J)*(H=X$9),""))} | Y14: {=_xlfn.TEXTJOIN(CHAR(10),,_xlfn._xlws.FILTER(_xlfn.ANCHORARRAY(Tout!$F$2),(D=J)*(H=Y$9),""))} | Z14: {=_xlfn.TEXTJOIN(CHAR(10),,_xlfn._xlws.FILTER(_xlfn.ANCHORARRAY(Tout!$F$2),(D=J)*(H=Z$9),""))} | AA14: =IF(AB14<>"",UPPER(LEFT(TEXT(AB14,"jjj"),1)),"") -> M | AB14: 45693 | AC14: {=_xlfn.TEXTJOIN(CHAR(10),,_xlfn._xlws.FILTER(_xlfn.ANCHORARRAY(Tout!$F$2),(D=J)*(H=AC$9),""))} | AD14: {=_xlfn.TEXTJOIN(CHAR(10),,_xlfn._xlws.FILTER(_xlfn.ANCHORARRAY(Tout!$F$2),(D=J)*(H=AD$9),""))} | AE14: {=_xlfn.TEXTJOIN(CHAR(10),,_xlfn._xlws.FILTER(_xlfn.ANCHORARRAY(Tout!$F$2),(D=J)*(H=AE$9),""))} | AF14: =IF(AG14<>"",UPPER(LEFT(TEXT(AG14,"jjj"),1)),"") -> M | AG14: 45721 | AH14: {=_xlfn.TEXTJOIN(CHAR(10),,_xlfn._xlws.FILTER(_xlfn.ANCHORARRAY(Tout!$F$2),(D=J)*(H=AH$9),""))} | AI14: {=_xlfn.TEXTJOIN(CHAR(10),,_xlfn._xlws.FILTER(_xlfn.ANCHORARRAY(Tout!$F$2),(D=J)*(H=AI$9),""))} | AJ14: {=_xlfn.TEXTJOIN(CHAR(10),,_xlfn._xlws.FILTER(_xlfn.ANCHORARRAY(Tout!$F$2),(D=J)*(H=AJ$9),""))} | AK14: =IF(AL14<>"",UPPER(LEFT(TEXT(AL14,"jjj"),1)),"") -> S | AL14: 45752 | AM14: {=_xlfn.TEXTJOIN(CHAR(10),,_xlfn._xlws.FILTER(_xlfn.ANCHORARRAY(Tout!$F$2),(D=J)*(H=AM$9),""))} | AN14: {=_xlfn.TEXTJOIN(CHAR(10),,_xlfn._xlws.FILTER(_xlfn.ANCHORARRAY(Tout!$F$2),(D=J)*(H=AN$9),""))} | AO14: {=_xlfn.TEXTJOIN(CHAR(10),,_xlfn._xlws.FILTER(_xlfn.ANCHORARRAY(Tout!$F$2),(D=J)*(H=AO$9),""))} | AP14: =IF(AQ14<>"",UPPER(LEFT(TEXT(AQ14,"jjj"),1)),"") -> L | AQ14: 45782 | AR14: {=_xlfn.TEXTJOIN(CHAR(10),,_xlfn._xlws.FILTER(_xlfn.ANCHORARRAY(Tout!$F$2),(D=J)*(H=AR$9),""))} | AS14: {=_xlfn.TEXTJOIN(CHAR(10),,_xlfn._xlws.FILTER(_xlfn.ANCHORARRAY(Tout!$F$2),(D=J)*(H=AS$9),""))} | AT14: {=_xlfn.TEXTJOIN(CHAR(10),,_xlfn._xlws.FILTER(_xlfn.ANCHORARRAY(Tout!$F$2),(D=J)*(H=AT$9),""))} | AU14: =IF(AV14<>"",UPPER(LEFT(TEXT(AV14,"jjj"),1)),"") -> J | AV14: 45813 | AW14: {=_xlfn.TEXTJOIN(CHAR(10),,_xlfn._xlws.FILTER(_xlfn.ANCHORARRAY(Tout!$F$2),(D=J)*(H=AW$9),""))} | AX14: {=_xlfn.TEXTJOIN(CHAR(10),,_xlfn._xlws.FILTER(_xlfn.ANCHORARRAY(Tout!$F$2),(D=J)*(H=AX$9),""))} | AY14: {=_xlfn.TEXTJOIN(CHAR(10),,_xlfn._xlws.FILTER(_xlfn.ANCHORARRAY(Tout!$F$2),(D=J)*(H=AY$9),""))} | AZ14: =IF(BA14<>"",UPPER(LEFT(TEXT(BA14,"jjj"),1)),"") -> S | BA14: 45843 | BB14: {=_xlfn.TEXTJOIN(CHAR(10),,_xlfn._xlws.FILTER(_xlfn.ANCHORARRAY(Tout!$F$2),(D=J)*(H=BB$9),""))} | BC14: {=_xlfn.TEXTJOIN(CHAR(10),,_xlfn._xlws.FILTER(_xlfn.ANCHORARRAY(Tout!$F$2),(D=J)*(H=BC$9),""))} | BD14: {=_xlfn.TEXTJOIN(CHAR(10),,_xlfn._xlws.FILTER(_xlfn.ANCHORARRAY(Tout!$F$2),(D=J)*(H=BD$9),""))} | BE14: =IF(BF14<>"",UPPER(LEFT(TEXT(BF14,"jjj"),1)),"") -> M | BF14: 45874 | BG14: {=_xlfn.TEXTJOIN(CHAR(10),,_xlfn._xlws.FILTER(_xlfn.ANCHORARRAY(Tout!$F$2),(D=J)*(H=BG$9),""))} | BH14: {=_xlfn.TEXTJOIN(CHAR(10),,_xlfn._xlws.FILTER(_xlfn.ANCHORARRAY(Tout!$F$2),(D=J)*(H=BH$9),""))} | BI14: {=_xlfn.TEXTJOIN(CHAR(10),,_xlfn._xlws.FILTER(_xlfn.ANCHORARRAY(Tout!$F$2),(D=J)*(H=BI$9),""))}
B15: =IF(C15<>"",UPPER(LEFT(TEXT(C15,"jjj"),1)),"") -> V | C15: 45541 | D15: {=_xlfn.TEXTJOIN(CHAR(10),,_xlfn._xlws.FILTER(_xlfn.ANCHORARRAY(Tout!$F$2),(D=J)*(H=D$9),""))} | E15: {=_xlfn.TEXTJOIN(CHAR(10),,_xlfn._xlws.FILTER(_xlfn.ANCHORARRAY(Tout!$F$2),(D=J)*(H=E$9),""))} | F15: {=_xlfn.TEXTJOIN(CHAR(10),,_xlfn._xlws.FILTER(_xlfn.ANCHORARRAY(Tout!$F$2),(D=J)*(H=F$9),""))} | G15: =IF(H15<>"",UPPER(LEFT(TEXT(H15,"jjj"),1)),"") -> D | H15: 45571 | I15: {=_xlfn.TEXTJOIN(CHAR(10),,_xlfn._xlws.FILTER(_xlfn.ANCHORARRAY(Tout!$F$2),(D=J)*(H=I$9),""))} | J15: {=_xlfn.TEXTJOIN(CHAR(10),,_xlfn._xlws.FILTER(_xlfn.ANCHORARRAY(Tout!$F$2),(D=J)*(H=J$9),""))} | K15: {=_xlfn.TEXTJOIN(CHAR(10),,_xlfn._xlws.FILTER(_xlfn.ANCHORARRAY(Tout!$F$2),(D=J)*(H=K$9),""))} | L15: =IF(M15<>"",UPPER(LEFT(TEXT(M15,"jjj"),1)),"") -> M | M15: 45602 | N15: {=_xlfn.TEXTJOIN(CHAR(10),,_xlfn._xlws.FILTER(_xlfn.ANCHORARRAY(Tout!$F$2),(D=J)*(H=N$9),""))} | O15: {=_xlfn.TEXTJOIN(CHAR(10),,_xlfn._xlws.FILTER(_xlfn.ANCHORARRAY(Tout!$F$2),(D=J)*(H=O$9),""))} | P15: {=_xlfn.TEXTJOIN(CHAR(10),,_xlfn._xlws.FILTER(_xlfn.ANCHORARRAY(Tout!$F$2),(D=J)*(H=P$9),""))} | Q15: =IF(R15<>"",UPPER(LEFT(TEXT(R15,"jjj"),1)),"") -> V | R15: 45632 | S15: {=_xlfn.TEXTJOIN(CHAR(10),,_xlfn._xlws.FILTER(_xlfn.ANCHORARRAY(Tout!$F$2),(D=J)*(H=S$9),""))} | T15: {=_xlfn.TEXTJOIN(CHAR(10),,_xlfn._xlws.FILTER(_xlfn.ANCHORARRAY(Tout!$F$2),(D=J)*(H=T$9),""))} | U15: {=_xlfn.TEXTJOIN(CHAR(10),,_xlfn._xlws.FILTER(_xlfn.ANCHORARRAY(Tout!$F$2),(D=J)*(H=U$9),""))} | V15: =IF(W15<>"",UPPER(LEFT(TEXT(W15,"jjj"),1)),"") -> L | W15: 45663 | X15: {=_xlfn.TEXTJOIN(CHAR(10),,_xlfn._xlws.FILTER(_xlfn.ANCHORARRAY(Tout!$F$2),(D=J)*(H=X$9),""))} | Y15: {=_xlfn.TEXTJOIN(CHAR(10),,_xlfn._xlws.FILTER(_xlfn.ANCHORARRAY(Tout!$F$2),(D=J)*(H=Y$9),""))} | Z15: {=_xlfn.TEXTJOIN(CHAR(10),,_xlfn._xlws.FILTER(_xlfn.ANCHORARRAY(Tout!$F$2),(D=J)*(H=Z$9),""))} | AA15: =IF(AB15<>"",UPPER(LEFT(TEXT(AB15,"jjj"),1)),"") -> J | AB15: 45694 | AC15: {=_xlfn.TEXTJOIN(CHAR(10),,_xlfn._xlws.FILTER(_xlfn.ANCHORARRAY(Tout!$F$2),(D=J)*(H=AC$9),""))} | AD15: {=_xlfn.TEXTJOIN(CHAR(10),,_xlfn._xlws.FILTER(_xlfn.ANCHORARRAY(Tout!$F$2),(D=J)*(H=AD$9),""))} | AE15: {=_xlfn.TEXTJOIN(CHAR(10),,_xlfn._xlws.FILTER(_xlfn.ANCHORARRAY(Tout!$F$2),(D=J)*(H=AE$9),""))} | AF15: =IF(AG15<>"",UPPER(LEFT(TEXT(AG15,"jjj"),1)),"") -> J | AG15: 45722 | AH15: {=_xlfn.TEXTJOIN(CHAR(10),,_xlfn._xlws.FILTER(_xlfn.ANCHORARRAY(Tout!$F$2),(D=J)*(H=AH$9),""))} | AI15: {=_xlfn.TEXTJOIN(CHAR(10),,_xlfn._xlws.FILTER(_xlfn.ANCHORARRAY(Tout!$F$2),(D=J)*(H=AI$9),""))} | AJ15: {=_xlfn.TEXTJOIN(CHAR(10),,_xlfn._xlws.FILTER(_xlfn.ANCHORARRAY(Tout!$F$2),(D=J)*(H=AJ$9),""))} | AK15: =IF(AL15<>"",UPPER(LEFT(TEXT(AL15,"jjj"),1)),"") -> D | AL15: 45753 | AM15: {=_xlfn.TEXTJOIN(CHAR(10),,_xlfn._xlws.FILTER(_xlfn.ANCHORARRAY(Tout!$F$2),(D=J)*(H=AM$9),""))} | AN15: {=_xlfn.TEXTJOIN(CHAR(10),,_xlfn._xlws.FILTER(_xlfn.ANCHORARRAY(Tout!$F$2),(D=J)*(H=AN$9),""))} | AO15: {=_xlfn.TEXTJOIN(CHAR(10),,_xlfn._xlws.FILTER(_xlfn.ANCHORARRAY(Tout!$F$2),(D=J)*(H=AO$9),""))} | AP15: =IF(AQ15<>"",UPPER(LEFT(TEXT(AQ15,"jjj"),1)),"") -> M | AQ15: 45783 | AR15: {=_xlfn.TEXTJOIN(CHAR(10),,_xlfn._xlws.FILTER(_xlfn.ANCHORARRAY(Tout!$F$2),(D=J)*(H=AR$9),""))} | AS15: {=_xlfn.TEXTJOIN(CHAR(10),,_xlfn._xlws.FILTER(_xlfn.ANCHORARRAY(Tout!$F$2),(D=J)*(H=AS$9),""))} | AT15: {=_xlfn.TEXTJOIN(CHAR(10),,_xlfn._xlws.FILTER(_xlfn.ANCHORARRAY(Tout!$F$2),(D=J)*(H=AT$9),""))} | AU15: =IF(AV15<>"",UPPER(LEFT(TEXT(AV15,"jjj"),1)),"") -> V | AV15: 45814 | AW15: {=_xlfn.TEXTJOIN(CHAR(10),,_xlfn._xlws.FILTER(_xlfn.ANCHORARRAY(Tout!$F$2),(D=J)*(H=AW$9),""))} | AX15: {=_xlfn.TEXTJOIN(CHAR(10),,_xlfn._xlws.FILTER(_xlfn.ANCHORARRAY(Tout!$F$2),(D=J)*(H=AX$9),""))} | AY15: {=_xlfn.TEXTJOIN(CHAR(10),,_xlfn._xlws.FILTER(_xlfn.ANCHORARRAY(Tout!$F$2),(D=J)*(H=AY$9),""))} | AZ15: =IF(BA15<>"",UPPER(LEFT(TEXT(BA15,"jjj"),1)),"") -> D | BA15: 45844 | BB15: {=_xlfn.TEXTJOIN(CHAR(10),,_xlfn._xlws.FILTER(_xlfn.ANCHORARRAY(Tout!$F$2),(D=J)*(H=BB$9),""))} | BC15: {=_xlfn.TEXTJOIN(CHAR(10),,_xlfn._xlws.FILTER(_xlfn.ANCHORARRAY(Tout!$F$2),(D=J)*(H=BC$9),""))} | BD15: {=_xlfn.TEXTJOIN(CHAR(10),,_xlfn._xlws.FILTER(_xlfn.ANCHORARRAY(Tout!$F$2),(D=J)*(H=BD$9),""))} | BE15: =IF(BF15<>"",UPPER(LEFT(TEXT(BF15,"jjj"),1)),"") -> M | BF15: 45875 | BG15: {=_xlfn.TEXTJOIN(CHAR(10),,_xlfn._xlws.FILTER(_xlfn.ANCHORARRAY(Tout!$F$2),(D=J)*(H=BG$9),""))} | BH15: {=_xlfn.TEXTJOIN(CHAR(10),,_xlfn._xlws.FILTER(_xlfn.ANCHORARRAY(Tout!$F$2),(D=J)*(H=BH$9),""))} | BI15: {=_xlfn.TEXTJOIN(CHAR(10),,_xlfn._xlws.FILTER(_xlfn.ANCHORARRAY(Tout!$F$2),(D=J)*(H=BI$9),""))}
B16: =IF(C16<>"",UPPER(LEFT(TEXT(C16,"jjj"),1)),"") -> S | C16: 45542 | D16: {=_xlfn.TEXTJOIN(CHAR(10),,_xlfn._xlws.FILTER(_xlfn.ANCHORARRAY(Tout!$F$2),(D=J)*(H=D$9),""))} | E16: {=_xlfn.TEXTJOIN(CHAR(10),,_xlfn._xlws.FILTER(_xlfn.ANCHORARRAY(Tout!$F$2),(D=J)*(H=E$9),""))} | F16: {=_xlfn.TEXTJOIN(CHAR(10),,_xlfn._xlws.FILTER(_xlfn.ANCHORARRAY(Tout!$F$2),(D=J)*(H=F$9),""))} | G16: =IF(H16<>"",UPPER(LEFT(TEXT(H16,"jjj"),1)),"") -> L | H16: 45572 | I16: {=_xlfn.TEXTJOIN(CHAR(10),,_xlfn._xlws.FILTER(_xlfn.ANCHORARRAY(Tout!$F$2),(D=J)*(H=I$9),""))} | J16: {=_xlfn.TEXTJOIN(CHAR(10),,_xlfn._xlws.FILTER(_xlfn.ANCHORARRAY(Tout!$F$2),(D=J)*(H=J$9),""))} | K16: {=_xlfn.TEXTJOIN(CHAR(10),,_xlfn._xlws.FILTER(_xlfn.ANCHORARRAY(Tout!$F$2),(D=J)*(H=K$9),""))} | L16: =IF(M16<>"",UPPER(LEFT(TEXT(M16,"jjj"),1)),"") -> J | M16: 45603 | N16: {=_xlfn.TEXTJOIN(CHAR(10),,_xlfn._xlws.FILTER(_xlfn.ANCHORARRAY(Tout!$F$2),(D=J)*(H=N$9),""))} | O16: {=_xlfn.TEXTJOIN(CHAR(10),,_xlfn._xlws.FILTER(_xlfn.ANCHORARRAY(Tout!$F$2),(D=J)*(H=O$9),""))} | P16: {=_xlfn.TEXTJOIN(CHAR(10),,_xlfn._xlws.FILTER(_xlfn.ANCHORARRAY(Tout!$F$2),(D=J)*(H=P$9),""))} | Q16: =IF(R16<>"",UPPER(LEFT(TEXT(R16,"jjj"),1)),"") -> S | R16: 45633 | S16: {=_xlfn.TEXTJOIN(CHAR(10),,_xlfn._xlws.FILTER(_xlfn.ANCHORARRAY(Tout!$F$2),(D=J)*(H=S$9),""))} | T16: {=_xlfn.TEXTJOIN(CHAR(10),,_xlfn._xlws.FILTER(_xlfn.ANCHORARRAY(Tout!$F$2),(D=J)*(H=T$9),""))} | U16: {=_xlfn.TEXTJOIN(CHAR(10),,_xlfn._xlws.FILTER(_xlfn.ANCHORARRAY(Tout!$F$2),(D=J)*(H=U$9),""))} | V16: =IF(W16<>"",UPPER(LEFT(TEXT(W16,"jjj"),1)),"") -> M | W16: 45664 | X16: {=_xlfn.TEXTJOIN(CHAR(10),,_xlfn._xlws.FILTER(_xlfn.ANCHORARRAY(Tout!$F$2),(D=J)*(H=X$9),""))} | Y16: {=_xlfn.TEXTJOIN(CHAR(10),,_xlfn._xlws.FILTER(_xlfn.ANCHORARRAY(Tout!$F$2),(D=J)*(H=Y$9),""))} | Z16: {=_xlfn.TEXTJOIN(CHAR(10),,_xlfn._xlws.FILTER(_xlfn.ANCHORARRAY(Tout!$F$2),(D=J)*(H=Z$9),""))} | AA16: =IF(AB16<>"",UPPER(LEFT(TEXT(AB16,"jjj"),1)),"") -> V | AB16: 45695 | AC16: {=_xlfn.TEXTJOIN(CHAR(10),,_xlfn._xlws.FILTER(_xlfn.ANCHORARRAY(Tout!$F$2),(D=J)*(H=AC$9),""))} | AD16: {=_xlfn.TEXTJOIN(CHAR(10),,_xlfn._xlws.FILTER(_xlfn.ANCHORARRAY(Tout!$F$2),(D=J)*(H=AD$9),""))} | AE16: {=_xlfn.TEXTJOIN(CHAR(10),,_xlfn._xlws.FILTER(_xlfn.ANCHORARRAY(Tout!$F$2),(D=J)*(H=AE$9),""))} | AF16: =IF(AG16<>"",UPPER(LEFT(TEXT(AG16,"jjj"),1)),"") -> V | AG16: 45723 | AH16: {=_xlfn.TEXTJOIN(CHAR(10),,_xlfn._xlws.FILTER(_xlfn.ANCHORARRAY(Tout!$F$2),(D=J)*(H=AH$9),""))} | AI16: {=_xlfn.TEXTJOIN(CHAR(10),,_xlfn._xlws.FILTER(_xlfn.ANCHORARRAY(Tout!$F$2),(D=J)*(H=AI$9),""))} | AJ16: {=_xlfn.TEXTJOIN(CHAR(10),,_xlfn._xlws.FILTER(_xlfn.ANCHORARRAY(Tout!$F$2),(D=J)*(H=AJ$9),""))} | AK16: =IF(AL16<>"",UPPER(LEFT(TEXT(AL16,"jjj"),1)),"") -> L | AL16: 45754 | AM16: {=_xlfn.TEXTJOIN(CHAR(10),,_xlfn._xlws.FILTER(_xlfn.ANCHORARRAY(Tout!$F$2),(D=J)*(H=AM$9),""))} | AN16: {=_xlfn.TEXTJOIN(CHAR(10),,_xlfn._xlws.FILTER(_xlfn.ANCHORARRAY(Tout!$F$2),(D=J)*(H=AN$9),""))} | AO16: {=_xlfn.TEXTJOIN(CHAR(10),,_xlfn._xlws.FILTER(_xlfn.ANCHORARRAY(Tout!$F$2),(D=J)*(H=AO$9),""))} | AP16: =IF(AQ16<>"",UPPER(LEFT(TEXT(AQ16,"jjj"),1)),"") -> M | AQ16: 45784 | AR16: {=_xlfn.TEXTJOIN(CHAR(10),,_xlfn._xlws.FILTER(_xlfn.ANCHORARRAY(Tout!$F$2),(D=J)*(H=AR$9),""))} | AS16: {=_xlfn.TEXTJOIN(CHAR(10),,_xlfn._xlws.FILTER(_xlfn.ANCHORARRAY(Tout!$F$2),(D=J)*(H=AS$9),""))} | AT16: {=_xlfn.TEXTJOIN(CHAR(10),,_xlfn._xlws.FILTER(_xlfn.ANCHORARRAY(Tout!$F$2),(D=J)*(H=AT$9),""))} | AU16: =IF(AV16<>"",UPPER(LEFT(TEXT(AV16,"jjj"),1)),"") -> S | AV16: 45815 | AW16: {=_xlfn.TEXTJOIN(CHAR(10),,_xlfn._xlws.FILTER(_xlfn.ANCHORARRAY(Tout!$F$2),(D=J)*(H=AW$9),""))} | AX16: {=_xlfn.TEXTJOIN(CHAR(10),,_xlfn._xlws.FILTER(_xlfn.ANCHORARRAY(Tout!$F$2),(D=J)*(H=AX$9),""))} | AY16: {=_xlfn.TEXTJOIN(CHAR(10),,_xlfn._xlws.FILTER(_xlfn.ANCHORARRAY(Tout!$F$2),(D=J)*(H=AY$9),""))} | AZ16: =IF(BA16<>"",UPPER(LEFT(TEXT(BA16,"jjj"),1)),"") -> L | BA16: 45845 | BB16: {=_xlfn.TEXTJOIN(CHAR(10),,_xlfn._xlws.FILTER(_xlfn.ANCHORARRAY(Tout!$F$2),(D=J)*(H=BB$9),""))} | BC16: {=_xlfn.TEXTJOIN(CHAR(10),,_xlfn._xlws.FILTER(_xlfn.ANCHORARRAY(Tout!$F$2),(D=J)*(H=BC$9),""))} | BD16: {=_xlfn.TEXTJOIN(CHAR(10),,_xlfn._xlws.FILTER(_xlfn.ANCHORARRAY(Tout!$F$2),(D=J)*(H=BD$9),""))} | BE16: =IF(BF16<>"",UPPER(LEFT(TEXT(BF16,"jjj"),1)),"") -> J | BF16: 45876 | BG16: {=_xlfn.TEXTJOIN(CHAR(10),,_xlfn._xlws.FILTER(_xlfn.ANCHORARRAY(Tout!$F$2),(D=J)*(H=BG$9),""))} | BH16: {=_xlfn.TEXTJOIN(CHAR(10),,_xlfn._xlws.FILTER(_xlfn.ANCHORARRAY(Tout!$F$2),(D=J)*(H=BH$9),""))} | BI16: {=_xlfn.TEXTJOIN(CHAR(10),,_xlfn._xlws.FILTER(_xlfn.ANCHORARRAY(Tout!$F$2),(D=J)*(H=BI$9),""))}
B17: =IF(C17<>"",UPPER(LEFT(TEXT(C17,"jjj"),1)),"") -> D | C17: 45543 | D17: {=_xlfn.TEXTJOIN(CHAR(10),,_xlfn._xlws.FILTER(_xlfn.ANCHORARRAY(Tout!$F$2),(D=J)*(H=D$9),""))} | E17: {=_xlfn.TEXTJOIN(CHAR(10),,_xlfn._xlws.FILTER(_xlfn.ANCHORARRAY(Tout!$F$2),(D=J)*(H=E$9),""))} | F17: {=_xlfn.TEXTJOIN(CHAR(10),,_xlfn._xlws.FILTER(_xlfn.ANCHORARRAY(Tout!$F$2),(D=J)*(H=F$9),""))} | G17: =IF(H17<>"",UPPER(LEFT(TEXT(H17,"jjj"),1)),"") -> M | H17: 45573 | I17: {=_xlfn.TEXTJOIN(CHAR(10),,_xlfn._xlws.FILTER(_xlfn.ANCHORARRAY(Tout!$F$2),(D=J)*(H=I$9),""))} | J17: {=_xlfn.TEXTJOIN(CHAR(10),,_xlfn._xlws.FILTER(_xlfn.ANCHORARRAY(Tout!$F$2),(D=J)*(H=J$9),""))} | K17: {=_xlfn.TEXTJOIN(CHAR(10),,_xlfn._xlws.FILTER(_xlfn.ANCHORARRAY(Tout!$F$2),(D=J)*(H=K$9),""))} | L17: =IF(M17<>"",UPPER(LEFT(TEXT(M17,"jjj"),1)),"") -> V | M17: 45604 | N17: {=_xlfn.TEXTJOIN(CHAR(10),,_xlfn._xlws.FILTER(_xlfn.ANCHORARRAY(Tout!$F$2),(D=J)*(H=N$9),""))} | O17: {=_xlfn.TEXTJOIN(CHAR(10),,_xlfn._xlws.FILTER(_xlfn.ANCHORARRAY(Tout!$F$2),(D=J)*(H=O$9),""))} | P17: {=_xlfn.TEXTJOIN(CHAR(10),,_xlfn._xlws.FILTER(_xlfn.ANCHORARRAY(Tout!$F$2),(D=J)*(H=P$9),""))} | Q17: =IF(R17<>"",UPPER(LEFT(TEXT(R17,"jjj"),1)),"") -> D | R17: 45634 | S17: {=_xlfn.TEXTJOIN(CHAR(10),,_xlfn._xlws.FILTER(_xlfn.ANCHORARRAY(Tout!$F$2),(D=J)*(H=S$9),""))} | T17: {=_xlfn.TEXTJOIN(CHAR(10),,_xlfn._xlws.FILTER(_xlfn.ANCHORARRAY(Tout!$F$2),(D=J)*(H=T$9),""))} | U17: {=_xlfn.TEXTJOIN(CHAR(10),,_xlfn._xlws.FILTER(_xlfn.ANCHORARRAY(Tout!$F$2),(D=J)*(H=U$9),""))} | V17: =IF(W17<>"",UPPER(LEFT(TEXT(W17,"jjj"),1)),"") -> M | W17: 45665 | X17: {=_xlfn.TEXTJOIN(CHAR(10),,_xlfn._xlws.FILTER(_xlfn.ANCHORARRAY(Tout!$F$2),(D=J)*(H=X$9),""))} | Y17: {=_xlfn.TEXTJOIN(CHAR(10),,_xlfn._xlws.FILTER(_xlfn.ANCHORARRAY(Tout!$F$2),(D=J)*(H=Y$9),""))} | Z17: {=_xlfn.TEXTJOIN(CHAR(10),,_xlfn._xlws.FILTER(_xlfn.ANCHORARRAY(Tout!$F$2),(D=J)*(H=Z$9),""))} -> L'ane et la carotte 20:30 | AA17: =IF(AB17<>"",UPPER(LEFT(TEXT(AB17,"jjj"),1)),"") -> S | AB17: 45696 | AC17: {=_xlfn.TEXTJOIN(CHAR(10),,_xlfn._xlws.FILTER(_xlfn.ANCHORARRAY(Tout!$F$2),(D=J)*(H=AC$9),""))} | AD17: {=_xlfn.TEXTJOIN(CHAR(10),,_xlfn._xlws.FILTER(_xlfn.ANCHORARRAY(Tout!$F$2),(D=J)*(H=AD$9),""))} | AE17: {=_xlfn.TEXTJOIN(CHAR(10),,_xlfn._xlws.FILTER(_xlfn.ANCHORARRAY(Tout!$F$2),(D=J)*(H=AE$9),""))} | AF17: =IF(AG17<>"",UPPER(LEFT(TEXT(AG17,"jjj"),1)),"") -> S | AG17: 45724 | AH17: {=_xlfn.TEXTJOIN(CHAR(10),,_xlfn._xlws.FILTER(_xlfn.ANCHORARRAY(Tout!$F$2),(D=J)*(H=AH$9),""))} | AI17: {=_xlfn.TEXTJOIN(CHAR(10),,_xlfn._xlws.FILTER(_xlfn.ANCHORARRAY(Tout!$F$2),(D=J)*(H=AI$9),""))} | AJ17: {=_xlfn.TEXTJOIN(CHAR(10),,_xlfn._xlws.FILTER(_xlfn.ANCHORARRAY(Tout!$F$2),(D=J)*(H=AJ$9),""))} | AK17: =IF(AL17<>"",UPPER(LEFT(TEXT(AL17,"jjj"),1)),"") -> M | AL17: 45755 | AM17: {=_xlfn.TEXTJOIN(CHAR(10),,_xlfn._xlws.FILTER(_xlfn.ANCHORARRAY(Tout!$F$2),(D=J)*(H=AM$9),""))} | AN17: {=_xlfn.TEXTJOIN(CHAR(10),,_xlfn._xlws.FILTER(_xlfn.ANCHORARRAY(Tout!$F$2),(D=J)*(H=AN$9),""))} | AO17: {=_xlfn.TEXTJOIN(CHAR(10),,_xlfn._xlws.FILTER(_xlfn.ANCHORARRAY(Tout!$F$2),(D=J)*(H=AO$9),""))} | AP17: =IF(AQ17<>"",UPPER(LEFT(TEXT(AQ17,"jjj"),1)),"") -> J | AQ17: 45785 | AR17: {=_xlfn.TEXTJOIN(CHAR(10),,_xlfn._xlws.FILTER(_xlfn.ANCHORARRAY(Tout!$F$2),(D=J)*(H=AR$9),""))} | AS17: {=_xlfn.TEXTJOIN(CHAR(10),,_xlfn._xlws.FILTER(_xlfn.ANCHORARRAY(Tout!$F$2),(D=J)*(H=AS$9),""))} | AT17: {=_xlfn.TEXTJOIN(CHAR(10),,_xlfn._xlws.FILTER(_xlfn.ANCHORARRAY(Tout!$F$2),(D=J)*(H=AT$9),""))} | AU17: =IF(AV17<>"",UPPER(LEFT(TEXT(AV17,"jjj"),1)),"") -> D | AV17: 45816 | AW17: {=_xlfn.TEXTJOIN(CHAR(10),,_xlfn._xlws.FILTER(_xlfn.ANCHORARRAY(Tout!$F$2),(D=J)*(H=AW$9),""))} | AX17: {=_xlfn.TEXTJOIN(CHAR(10),,_xlfn._xlws.FILTER(_xlfn.ANCHORARRAY(Tout!$F$2),(D=J)*(H=AX$9),""))} | AY17: {=_xlfn.TEXTJOIN(CHAR(10),,_xlfn._xlws.FILTER(_xlfn.ANCHORARRAY(Tout!$F$2),(D=J)*(H=AY$9),""))} | AZ17: =IF(BA17<>"",UPPER(LEFT(TEXT(BA17,"jjj"),1)),"") -> M | BA17: 45846 | BB17: {=_xlfn.TEXTJOIN(CHAR(10),,_xlfn._xlws.FILTER(_xlfn.ANCHORARRAY(Tout!$F$2),(D=J)*(H=BB$9),""))} | BC17: {=_xlfn.TEXTJOIN(CHAR(10),,_xlfn._xlws.FILTER(_xlfn.ANCHORARRAY(Tout!$F$2),(D=J)*(H=BC$9),""))} | BD17: {=_xlfn.TEXTJOIN(CHAR(10),,_xlfn._xlws.FILTER(_xlfn.ANCHORARRAY(Tout!$F$2),(D=J)*(H=BD$9),""))} | BE17: =IF(BF17<>"",UPPER(LEFT(TEXT(BF17,"jjj"),1)),"") -> V | BF17: 45877 | BG17: {=_xlfn.TEXTJOIN(CHAR(10),,_xlfn._xlws.FILTER(_xlfn.ANCHORARRAY(Tout!$F$2),(D=J)*(H=BG$9),""))} | BH17: {=_xlfn.TEXTJOIN(CHAR(10),,_xlfn._xlws.FILTER(_xlfn.ANCHORARRAY(Tout!$F$2),(D=J)*(H=BH$9),""))} | BI17: {=_xlfn.TEXTJOIN(CHAR(10),,_xlfn._xlws.FILTER(_xlfn.ANCHORARRAY(Tout!$F$2),(D=J)*(H=BI$9),""))}
B18: =IF(C18<>"",UPPER(LEFT(TEXT(C18,"jjj"),1)),"") -> L | C18: 45544 | D18: {=_xlfn.TEXTJOIN(CHAR(10),,_xlfn._xlws.FILTER(_xlfn.ANCHORARRAY(Tout!$F$2),(D=J)*(H=D$9),""))} | E18: {=_xlfn.TEXTJOIN(CHAR(10),,_xlfn._xlws.FILTER(_xlfn.ANCHORARRAY(Tout!$F$2),(D=J)*(H=E$9),""))} | F18: {=_xlfn.TEXTJOIN(CHAR(10),,_xlfn._xlws.FILTER(_xlfn.ANCHORARRAY(Tout!$F$2),(D=J)*(H=F$9),""))} | G18: =IF(H18<>"",UPPER(LEFT(TEXT(H18,"jjj"),1)),"") -> M | H18: 45574 | I18: {=_xlfn.TEXTJOIN(CHAR(10),,_xlfn._xlws.FILTER(_xlfn.ANCHORARRAY(Tout!$F$2),(D=J)*(H=I$9),""))} | J18: {=_xlfn.TEXTJOIN(CHAR(10),,_xlfn._xlws.FILTER(_xlfn.ANCHORARRAY(Tout!$F$2),(D=J)*(H=J$9),""))} | K18: {=_xlfn.TEXTJOIN(CHAR(10),,_xlfn._xlws.FILTER(_xlfn.ANCHORARRAY(Tout!$F$2),(D=J)*(H=K$9),""))} | L18: =IF(M18<>"",UPPER(LEFT(TEXT(M18,"jjj"),1)),"") -> S | M18: 45605 | N18: {=_xlfn.TEXTJOIN(CHAR(10),,_xlfn._xlws.FILTER(_xlfn.ANCHORARRAY(Tout!$F$2),(D=J)*(H=N$9),""))} | O18: {=_xlfn.TEXTJOIN(CHAR(10),,_xlfn._xlws.FILTER(_xlfn.ANCHORARRAY(Tout!$F$2),(D=J)*(H=O$9),""))} | P18: {=_xlfn.TEXTJOIN(CHAR(10),,_xlfn._xlws.FILTER(_xlfn.ANCHORARRAY(Tout!$F$2),(D=J)*(H=P$9),""))} | Q18: =IF(R18<>"",UPPER(LEFT(TEXT(R18,"jjj"),1)),"") -> L | R18: 45635 | S18: {=_xlfn.TEXTJOIN(CHAR(10),,_xlfn._xlws.FILTER(_xlfn.ANCHORARRAY(Tout!$F$2),(D=J)*(H=S$9),""))} | T18: {=_xlfn.TEXTJOIN(CHAR(10),,_xlfn._xlws.FILTER(_xlfn.ANCHORARRAY(Tout!$F$2),(D=J)*(H=T$9),""))} | U18: {=_xlfn.TEXTJOIN(CHAR(10),,_xlfn._xlws.FILTER(_xlfn.ANCHORARRAY(Tout!$F$2),(D=J)*(H=U$9),""))} | V18: =IF(W18<>"",UPPER(LEFT(TEXT(W18,"jjj"),1)),"") -> J | W18: 45666 | X18: {=_xlfn.TEXTJOIN(CHAR(10),,_xlfn._xlws.FILTER(_xlfn.ANCHORARRAY(Tout!$F$2),(D=J)*(H=X$9),""))} | Y18: {=_xlfn.TEXTJOIN(CHAR(10),,_xlfn._xlws.FILTER(_xlfn.ANCHORARRAY(Tout!$F$2),(D=J)*(H=Y$9),""))} | Z18: {=_xlfn.TEXTJOIN(CHAR(10),,_xlfn._xlws.FILTER(_xlfn.ANCHORARRAY(Tout!$F$2),(D=J)*(H=Z$9),""))} | AA18: =IF(AB18<>"",UPPER(LEFT(TEXT(AB18,"jjj"),1)),"") -> D | AB18: 45697 | AC18: {=_xlfn.TEXTJOIN(CHAR(10),,_xlfn._xlws.FILTER(_xlfn.ANCHORARRAY(Tout!$F$2),(D=J)*(H=AC$9),""))} | AD18: {=_xlfn.TEXTJOIN(CHAR(10),,_xlfn._xlws.FILTER(_xlfn.ANCHORARRAY(Tout!$F$2),(D=J)*(H=AD$9),""))} | AE18: {=_xlfn.TEXTJOIN(CHAR(10),,_xlfn._xlws.FILTER(_xlfn.ANCHORARRAY(Tout!$F$2),(D=J)*(H=AE$9),""))} | AF18: =IF(AG18<>"",UPPER(LEFT(TEXT(AG18,"jjj"),1)),"") -> D | AG18: 45725 | AH18: {=_xlfn.TEXTJOIN(CHAR(10),,_xlfn._xlws.FILTER(_xlfn.ANCHORARRAY(Tout!$F$2),(D=J)*(H=AH$9),""))} | AI18: {=_xlfn.TEXTJOIN(CHAR(10),,_xlfn._xlws.FILTER(_xlfn.ANCHORARRAY(Tout!$F$2),(D=J)*(H=AI$9),""))} | AJ18: {=_xlfn.TEXTJOIN(CHAR(10),,_xlfn._xlws.FILTER(_xlfn.ANCHORARRAY(Tout!$F$2),(D=J)*(H=AJ$9),""))} | AK18: =IF(AL18<>"",UPPER(LEFT(TEXT(AL18,"jjj"),1)),"") -> M | AL18: 45756 | AM18: {=_xlfn.TEXTJOIN(CHAR(10),,_xlfn._xlws.FILTER(_xlfn.ANCHORARRAY(Tout!$F$2),(D=J)*(H=AM$9),""))} | AN18: {=_xlfn.TEXTJOIN(CHAR(10),,_xlfn._xlws.FILTER(_xlfn.ANCHORARRAY(Tout!$F$2),(D=J)*(H=AN$9),""))} | AO18: {=_xlfn.TEXTJOIN(CHAR(10),,_xlfn._xlws.FILTER(_xlfn.ANCHORARRAY(Tout!$F$2),(D=J)*(H=AO$9),""))} | AP18: =IF(AQ18<>"",UPPER(LEFT(TEXT(AQ18,"jjj"),1)),"") -> V | AQ18: 45786 | AR18: {=_xlfn.TEXTJOIN(CHAR(10),,_xlfn._xlws.FILTER(_xlfn.ANCHORARRAY(Tout!$F$2),(D=J)*(H=AR$9),""))} | AS18: {=_xlfn.TEXTJOIN(CHAR(10),,_xlfn._xlws.FILTER(_xlfn.ANCHORARRAY(Tout!$F$2),(D=J)*(H=AS$9),""))} | AT18: {=_xlfn.TEXTJOIN(CHAR(10),,_xlfn._xlws.FILTER(_xlfn.ANCHORARRAY(Tout!$F$2),(D=J)*(H=AT$9),""))} | AU18: =IF(AV18<>"",UPPER(LEFT(TEXT(AV18,"jjj"),1)),"") -> L | AV18: 45817 | AW18: {=_xlfn.TEXTJOIN(CHAR(10),,_xlfn._xlws.FILTER(_xlfn.ANCHORARRAY(Tout!$F$2),(D=J)*(H=AW$9),""))} | AX18: {=_xlfn.TEXTJOIN(CHAR(10),,_xlfn._xlws.FILTER(_xlfn.ANCHORARRAY(Tout!$F$2),(D=J)*(H=AX$9),""))} | AY18: {=_xlfn.TEXTJOIN(CHAR(10),,_xlfn._xlws.FILTER(_xlfn.ANCHORARRAY(Tout!$F$2),(D=J)*(H=AY$9),""))} -> Majorettes 20:30 | AZ18: =IF(BA18<>"",UPPER(LEFT(TEXT(BA18,"jjj"),1)),"") -> M | BA18: 45847 | BB18: {=_xlfn.TEXTJOIN(CHAR(10),,_xlfn._xlws.FILTER(_xlfn.ANCHORARRAY(Tout!$F$2),(D=J)*(H=BB$9),""))} | BC18: {=_xlfn.TEXTJOIN(CHAR(10),,_xlfn._xlws.FILTER(_xlfn.ANCHORARRAY(Tout!$F$2),(D=J)*(H=BC$9),""))} | BD18: {=_xlfn.TEXTJOIN(CHAR(10),,_xlfn._xlws.FILTER(_xlfn.ANCHORARRAY(Tout!$F$2),(D=J)*(H=BD$9),""))} | BE18: =IF(BF18<>"",UPPER(LEFT(TEXT(BF18,"jjj"),1)),"") -> S | BF18: 45878 | BG18: {=_xlfn.TEXTJOIN(CHAR(10),,_xlfn._xlws.FILTER(_xlfn.ANCHORARRAY(Tout!$F$2),(D=J)*(H=BG$9),""))} | BH18: {=_xlfn.TEXTJOIN(CHAR(10),,_xlfn._xlws.FILTER(_xlfn.ANCHORARRAY(Tout!$F$2),(D=J)*(H=BH$9),""))} | BI18: {=_xlfn.TEXTJOIN(CHAR(10),,_xlfn._xlws.FILTER(_xlfn.ANCHORARRAY(Tout!$F$2),(D=J)*(H=BI$9),""))}
B19: =IF(C19<>"",UPPER(LEFT(TEXT(C19,"jjj"),1)),"") -> M | C19: 45545 | D19: {=_xlfn.TEXTJOIN(CHAR(10),,_xlfn._xlws.FILTER(_xlfn.ANCHORARRAY(Tout!$F$2),(D=J)*(H=D$9),""))} | E19: {=_xlfn.TEXTJOIN(CHAR(10),,_xlfn._xlws.FILTER(_xlfn.ANCHORARRAY(Tout!$F$2),(D=J)*(H=E$9),""))} | F19: {=_xlfn.TEXTJOIN(CHAR(10),,_xlfn._xlws.FILTER(_xlfn.ANCHORARRAY(Tout!$F$2),(D=J)*(H=F$9),""))} | G19: =IF(H19<>"",UPPER(LEFT(TEXT(H19,"jjj"),1)),"") -> J | H19: 45575 | I19: {=_xlfn.TEXTJOIN(CHAR(10),,_xlfn._xlws.FILTER(_xlfn.ANCHORARRAY(Tout!$F$2),(D=J)*(H=I$9),""))} | J19: {=_xlfn.TEXTJOIN(CHAR(10),,_xlfn._xlws.FILTER(_xlfn.ANCHORARRAY(Tout!$F$2),(D=J)*(H=J$9),""))} | K19: {=_xlfn.TEXTJOIN(CHAR(10),,_xlfn._xlws.FILTER(_xlfn.ANCHORARRAY(Tout!$F$2),(D=J)*(H=K$9),""))} | L19: =IF(M19<>"",UPPER(LEFT(TEXT(M19,"jjj"),1)),"") -> D | M19: 45606 | N19: {=_xlfn.TEXTJOIN(CHAR(10),,_xlfn._xlws.FILTER(_xlfn.ANCHORARRAY(Tout!$F$2),(D=J)*(H=N$9),""))} | O19: {=_xlfn.TEXTJOIN(CHAR(10),,_xlfn._xlws.FILTER(_xlfn.ANCHORARRAY(Tout!$F$2),(D=J)*(H=O$9),""))} | P19: {=_xlfn.TEXTJOIN(CHAR(10),,_xlfn._xlws.FILTER(_xlfn.ANCHORARRAY(Tout!$F$2),(D=J)*(H=P$9),""))} | Q19: =IF(R19<>"",UPPER(LEFT(TEXT(R19,"jjj"),1)),"") -> M | R19: 45636 | S19: {=_xlfn.TEXTJOIN(CHAR(10),,_xlfn._xlws.FILTER(_xlfn.ANCHORARRAY(Tout!$F$2),(D=J)*(H=S$9),""))} | T19: {=_xlfn.TEXTJOIN(CHAR(10),,_xlfn._xlws.FILTER(_xlfn.ANCHORARRAY(Tout!$F$2),(D=J)*(H=T$9),""))} | U19: {=_xlfn.TEXTJOIN(CHAR(10),,_xlfn._xlws.FILTER(_xlfn.ANCHORARRAY(Tout!$F$2),(D=J)*(H=U$9),""))} | V19: =IF(W19<>"",UPPER(LEFT(TEXT(W19,"jjj"),1)),"") -> V | W19: 45667 | X19: {=_xlfn.TEXTJOIN(CHAR(10),,_xlfn._xlws.FILTER(_xlfn.ANCHORARRAY(Tout!$F$2),(D=J)*(H=X$9),""))} | Y19: {=_xlfn.TEXTJOIN(CHAR(10),,_xlfn._xlws.FILTER(_xlfn.ANCHORARRAY(Tout!$F$2),(D=J)*(H=Y$9),""))} | Z19: {=_xlfn.TEXTJOIN(CHAR(10),,_xlfn._xlws.FILTER(_xlfn.ANCHORARRAY(Tout!$F$2),(D=J)*(H=Z$9),""))} | AA19: =IF(AB19<>"",UPPER(LEFT(TEXT(AB19,"jjj"),1)),"") -> L | AB19: 45698 | AC19: {=_xlfn.TEXTJOIN(CHAR(10),,_xlfn._xlws.FILTER(_xlfn.ANCHORARRAY(Tout!$F$2),(D=J)*(H=AC$9),""))} | AD19: {=_xlfn.TEXTJOIN(CHAR(10),,_xlfn._xlws.FILTER(_xlfn.ANCHORARRAY(Tout!$F$2),(D=J)*(H=AD$9),""))} | AE19: {=_xlfn.TEXTJOIN(CHAR(10),,_xlfn._xlws.FILTER(_xlfn.ANCHORARRAY(Tout!$F$2),(D=J)*(H=AE$9),""))} | AF19: =IF(AG19<>"",UPPER(LEFT(TEXT(AG19,"jjj"),1)),"") -> L | AG19: 45726 | AH19: {=_xlfn.TEXTJOIN(CHAR(10),,_xlfn._xlws.FILTER(_xlfn.ANCHORARRAY(Tout!$F$2),(D=J)*(H=AH$9),""))} | AI19: {=_xlfn.TEXTJOIN(CHAR(10),,_xlfn._xlws.FILTER(_xlfn.ANCHORARRAY(Tout!$F$2),(D=J)*(H=AI$9),""))} | AJ19: {=_xlfn.TEXTJOIN(CHAR(10),,_xlfn._xlws.FILTER(_xlfn.ANCHORARRAY(Tout!$F$2),(D=J)*(H=AJ$9),""))} | AK19: =IF(AL19<>"",UPPER(LEFT(TEXT(AL19,"jjj"),1)),"") -> J | AL19: 45757 | AM19: {=_xlfn.TEXTJOIN(CHAR(10),,_xlfn._xlws.FILTER(_xlfn.ANCHORARRAY(Tout!$F$2),(D=J)*(H=AM$9),""))} | AN19: {=_xlfn.TEXTJOIN(CHAR(10),,_xlfn._xlws.FILTER(_xlfn.ANCHORARRAY(Tout!$F$2),(D=J)*(H=AN$9),""))} | AO19: {=_xlfn.TEXTJOIN(CHAR(10),,_xlfn._xlws.FILTER(_xlfn.ANCHORARRAY(Tout!$F$2),(D=J)*(H=AO$9),""))} | AP19: =IF(AQ19<>"",UPPER(LEFT(TEXT(AQ19,"jjj"),1)),"") -> S | AQ19: 45787 | AR19: {=_xlfn.TEXTJOIN(CHAR(10),,_xlfn._xlws.FILTER(_xlfn.ANCHORARRAY(Tout!$F$2),(D=J)*(H=AR$9),""))} | AS19: {=_xlfn.TEXTJOIN(CHAR(10),,_xlfn._xlws.FILTER(_xlfn.ANCHORARRAY(Tout!$F$2),(D=J)*(H=AS$9),""))} | AT19: {=_xlfn.TEXTJOIN(CHAR(10),,_xlfn._xlws.FILTER(_xlfn.ANCHORARRAY(Tout!$F$2),(D=J)*(H=AT$9),""))} | AU19: =IF(AV19<>"",UPPER(LEFT(TEXT(AV19,"jjj"),1)),"") -> M | AV19: 45818 | AW19: {=_xlfn.TEXTJOIN(CHAR(10),,_xlfn._xlws.FILTER(_xlfn.ANCHORARRAY(Tout!$F$2),(D=J)*(H=AW$9),""))} | AX19: {=_xlfn.TEXTJOIN(CHAR(10),,_xlfn._xlws.FILTER(_xlfn.ANCHORARRAY(Tout!$F$2),(D=J)*(H=AX$9),""))} | AY19: {=_xlfn.TEXTJOIN(CHAR(10),,_xlfn._xlws.FILTER(_xlfn.ANCHORARRAY(Tout!$F$2),(D=J)*(H=AY$9),""))} | AZ19: =IF(BA19<>"",UPPER(LEFT(TEXT(BA19,"jjj"),1)),"") -> J | BA19: 45848 | BB19: {=_xlfn.TEXTJOIN(CHAR(10),,_xlfn._xlws.FILTER(_xlfn.ANCHORARRAY(Tout!$F$2),(D=J)*(H=BB$9),""))} | BC19: {=_xlfn.TEXTJOIN(CHAR(10),,_xlfn._xlws.FILTER(_xlfn.ANCHORARRAY(Tout!$F$2),(D=J)*(H=BC$9),""))} | BD19: {=_xlfn.TEXTJOIN(CHAR(10),,_xlfn._xlws.FILTER(_xlfn.ANCHORARRAY(Tout!$F$2),(D=J)*(H=BD$9),""))} | BE19: =IF(BF19<>"",UPPER(LEFT(TEXT(BF19,"jjj"),1)),"") -> D | BF19: 45879 | BG19: {=_xlfn.TEXTJOIN(CHAR(10),,_xlfn._xlws.FILTER(_xlfn.ANCHORARRAY(Tout!$F$2),(D=J)*(H=BG$9),""))} | BH19: {=_xlfn.TEXTJOIN(CHAR(10),,_xlfn._xlws.FILTER(_xlfn.ANCHORARRAY(Tout!$F$2),(D=J)*(H=BH$9),""))} | BI19: {=_xlfn.TEXTJOIN(CHAR(10),,_xlfn._xlws.FILTER(_xlfn.ANCHORARRAY(Tout!$F$2),(D=J)*(H=BI$9),""))}
B20: =IF(C20<>"",UPPER(LEFT(TEXT(C20,"jjj"),1)),"") -> M | C20: 45546 | D20: {=_xlfn.TEXTJOIN(CHAR(10),,_xlfn._xlws.FILTER(_xlfn.ANCHORARRAY(Tout!$F$2),(D=J)*(H=D$9),""))} | E20: {=_xlfn.TEXTJOIN(CHAR(10),,_xlfn._xlws.FILTER(_xlfn.ANCHORARRAY(Tout!$F$2),(D=J)*(H=E$9),""))} | F20: {=_xlfn.TEXTJOIN(CHAR(10),,_xlfn._xlws.FILTER(_xlfn.ANCHORARRAY(Tout!$F$2),(D=J)*(H=F$9),""))} | G20: =IF(H20<>"",UPPER(LEFT(TEXT(H20,"jjj"),1)),"") -> V | H20: 45576 | I20: {=_xlfn.TEXTJOIN(CHAR(10),,_xlfn._xlws.FILTER(_xlfn.ANCHORARRAY(Tout!$F$2),(D=J)*(H=I$9),""))} | J20: {=_xlfn.TEXTJOIN(CHAR(10),,_xlfn._xlws.FILTER(_xlfn.ANCHORARRAY(Tout!$F$2),(D=J)*(H=J$9),""))} | K20: {=_xlfn.TEXTJOIN(CHAR(10),,_xlfn._xlws.FILTER(_xlfn.ANCHORARRAY(Tout!$F$2),(D=J)*(H=K$9),""))} | L20: =IF(M20<>"",UPPER(LEFT(TEXT(M20,"jjj"),1)),"") -> L | M20: 45607 | N20: {=_xlfn.TEXTJOIN(CHAR(10),,_xlfn._xlws.FILTER(_xlfn.ANCHORARRAY(Tout!$F$2),(D=J)*(H=N$9),""))} | O20: {=_xlfn.TEXTJOIN(CHAR(10),,_xlfn._xlws.FILTER(_xlfn.ANCHORARRAY(Tout!$F$2),(D=J)*(H=O$9),""))} | P20: {=_xlfn.TEXTJOIN(CHAR(10),,_xlfn._xlws.FILTER(_xlfn.ANCHORARRAY(Tout!$F$2),(D=J)*(H=P$9),""))} | Q20: =IF(R20<>"",UPPER(LEFT(TEXT(R20,"jjj"),1)),"") -> M | R20: 45637 | S20: {=_xlfn.TEXTJOIN(CHAR(10),,_xlfn._xlws.FILTER(_xlfn.ANCHORARRAY(Tout!$F$2),(D=J)*(H=S$9),""))} | T20: {=_xlfn.TEXTJOIN(CHAR(10),,_xlfn._xlws.FILTER(_xlfn.ANCHORARRAY(Tout!$F$2),(D=J)*(H=T$9),""))} | U20: {=_xlfn.TEXTJOIN(CHAR(10),,_xlfn._xlws.FILTER(_xlfn.ANCHORARRAY(Tout!$F$2),(D=J)*(H=U$9),""))} | V20: =IF(W20<>"",UPPER(LEFT(TEXT(W20,"jjj"),1)),"") -> S | W20: 45668 | X20: {=_xlfn.TEXTJOIN(CHAR(10),,_xlfn._xlws.FILTER(_xlfn.ANCHORARRAY(Tout!$F$2),(D=J)*(H=X$9),""))} | Y20: {=_xlfn.TEXTJOIN(CHAR(10),,_xlfn._xlws.FILTER(_xlfn.ANCHORARRAY(Tout!$F$2),(D=J)*(H=Y$9),""))} | Z20: {=_xlfn.TEXTJOIN(CHAR(10),,_xlfn._xlws.FILTER(_xlfn.ANCHORARRAY(Tout!$F$2),(D=J)*(H=Z$9),""))} | AA20: =IF(AB20<>"",UPPER(LEFT(TEXT(AB20,"jjj"),1)),"") -> M | AB20: 45699 | AC20: {=_xlfn.TEXTJOIN(CHAR(10),,_xlfn._xlws.FILTER(_xlfn.ANCHORARRAY(Tout!$F$2),(D=J)*(H=AC$9),""))} | AD20: {=_xlfn.TEXTJOIN(CHAR(10),,_xlfn._xlws.FILTER(_xlfn.ANCHORARRAY(Tout!$F$2),(D=J)*(H=AD$9),""))} | AE20: {=_xlfn.TEXTJOIN(CHAR(10),,_xlfn._xlws.FILTER(_xlfn.ANCHORARRAY(Tout!$F$2),(D=J)*(H=AE$9),""))} | AF20: =IF(AG20<>"",UPPER(LEFT(TEXT(AG20,"jjj"),1)),"") -> M | AG20: 45727 | AH20: {=_xlfn.TEXTJOIN(CHAR(10),,_xlfn._xlws.FILTER(_xlfn.ANCHORARRAY(Tout!$F$2),(D=J)*(H=AH$9),""))} | AI20: {=_xlfn.TEXTJOIN(CHAR(10),,_xlfn._xlws.FILTER(_xlfn.ANCHORARRAY(Tout!$F$2),(D=J)*(H=AI$9),""))} | AJ20: {=_xlfn.TEXTJOIN(CHAR(10),,_xlfn._xlws.FILTER(_xlfn.ANCHORARRAY(Tout!$F$2),(D=J)*(H=AJ$9),""))} | AK20: =IF(AL20<>"",UPPER(LEFT(TEXT(AL20,"jjj"),1)),"") -> V | AL20: 45758 | AM20: {=_xlfn.TEXTJOIN(CHAR(10),,_xlfn._xlws.FILTER(_xlfn.ANCHORARRAY(Tout!$F$2),(D=J)*(H=AM$9),""))} | AN20: {=_xlfn.TEXTJOIN(CHAR(10),,_xlfn._xlws.FILTER(_xlfn.ANCHORARRAY(Tout!$F$2),(D=J)*(H=AN$9),""))} | AO20: {=_xlfn.TEXTJOIN(CHAR(10),,_xlfn._xlws.FILTER(_xlfn.ANCHORARRAY(Tout!$F$2),(D=J)*(H=AO$9),""))} | AP20: =IF(AQ20<>"",UPPER(LEFT(TEXT(AQ20,"jjj"),1)),"") -> D | AQ20: 45788 | AR20: {=_xlfn.TEXTJOIN(CHAR(10),,_xlfn._xlws.FILTER(_xlfn.ANCHORARRAY(Tout!$F$2),(D=J)*(H=AR$9),""))} | AS20: {=_xlfn.TEXTJOIN(CHAR(10),,_xlfn._xlws.FILTER(_xlfn.ANCHORARRAY(Tout!$F$2),(D=J)*(H=AS$9),""))} | AT20: {=_xlfn.TEXTJOIN(CHAR(10),,_xlfn._xlws.FILTER(_xlfn.ANCHORARRAY(Tout!$F$2),(D=J)*(H=AT$9),""))} | AU20: =IF(AV20<>"",UPPER(LEFT(TEXT(AV20,"jjj"),1)),"") -> M | AV20: 45819 | AW20: {=_xlfn.TEXTJOIN(CHAR(10),,_xlfn._xlws.FILTER(_xlfn.ANCHORARRAY(Tout!$F$2),(D=J)*(H=AW$9),""))} | AX20: {=_xlfn.TEXTJOIN(CHAR(10),,_xlfn._xlws.FILTER(_xlfn.ANCHORARRAY(Tout!$F$2),(D=J)*(H=AX$9),""))} | AY20: {=_xlfn.TEXTJOIN(CHAR(10),,_xlfn._xlws.FILTER(_xlfn.ANCHORARRAY(Tout!$F$2),(D=J)*(H=AY$9),""))} | AZ20: =IF(BA20<>"",UPPER(LEFT(TEXT(BA20,"jjj"),1)),"") -> V | BA20: 45849 | BB20: {=_xlfn.TEXTJOIN(CHAR(10),,_xlfn._xlws.FILTER(_xlfn.ANCHORARRAY(Tout!$F$2),(D=J)*(H=BB$9),""))} | BC20: {=_xlfn.TEXTJOIN(CHAR(10),,_xlfn._xlws.FILTER(_xlfn.ANCHORARRAY(Tout!$F$2),(D=J)*(H=BC$9),""))} | BD20: {=_xlfn.TEXTJOIN(CHAR(10),,_xlfn._xlws.FILTER(_xlfn.ANCHORARRAY(Tout!$F$2),(D=J)*(H=BD$9),""))} | BE20: =IF(BF20<>"",UPPER(LEFT(TEXT(BF20,"jjj"),1)),"") -> L | BF20: 45880 | BG20: {=_xlfn.TEXTJOIN(CHAR(10),,_xlfn._xlws.FILTER(_xlfn.ANCHORARRAY(Tout!$F$2),(D=J)*(H=BG$9),""))} | BH20: {=_xlfn.TEXTJOIN(CHAR(10),,_xlfn._xlws.FILTER(_xlfn.ANCHORARRAY(Tout!$F$2),(D=J)*(H=BH$9),""))} | BI20: {=_xlfn.TEXTJOIN(CHAR(10),,_xlfn._xlws.FILTER(_xlfn.ANCHORARRAY(Tout!$F$2),(D=J)*(H=BI$9),""))}
B21: =IF(C21<>"",UPPER(LEFT(TEXT(C21,"jjj"),1)),"") -> J | C21: 45547 | D21: {=_xlfn.TEXTJOIN(CHAR(10),,_xlfn._xlws.FILTER(_xlfn.ANCHORARRAY(Tout!$F$2),(D=J)*(H=D$9),""))} | E21: {=_xlfn.TEXTJOIN(CHAR(10),,_xlfn._xlws.FILTER(_xlfn.ANCHORARRAY(Tout!$F$2),(D=J)*(H=E$9),""))} | F21: {=_xlfn.TEXTJOIN(CHAR(10),,_xlfn._xlws.FILTER(_xlfn.ANCHORARRAY(Tout!$F$2),(D=J)*(H=F$9),""))} | G21: =IF(H21<>"",UPPER(LEFT(TEXT(H21,"jjj"),1)),"") -> S | H21: 45577 | I21: {=_xlfn.TEXTJOIN(CHAR(10),,_xlfn._xlws.FILTER(_xlfn.ANCHORARRAY(Tout!$F$2),(D=J)*(H=I$9),""))} | J21: {=_xlfn.TEXTJOIN(CHAR(10),,_xlfn._xlws.FILTER(_xlfn.ANCHORARRAY(Tout!$F$2),(D=J)*(H=J$9),""))} | K21: {=_xlfn.TEXTJOIN(CHAR(10),,_xlfn._xlws.FILTER(_xlfn.ANCHORARRAY(Tout!$F$2),(D=J)*(H=K$9),""))} | L21: =IF(M21<>"",UPPER(LEFT(TEXT(M21,"jjj"),1)),"") -> M | M21: 45608 | N21: {=_xlfn.TEXTJOIN(CHAR(10),,_xlfn._xlws.FILTER(_xlfn.ANCHORARRAY(Tout!$F$2),(D=J)*(H=N$9),""))} | O21: {=_xlfn.TEXTJOIN(CHAR(10),,_xlfn._xlws.FILTER(_xlfn.ANCHORARRAY(Tout!$F$2),(D=J)*(H=O$9),""))} | P21: {=_xlfn.TEXTJOIN(CHAR(10),,_xlfn._xlws.FILTER(_xlfn.ANCHORARRAY(Tout!$F$2),(D=J)*(H=P$9),""))} | Q21: =IF(R21<>"",UPPER(LEFT(TEXT(R21,"jjj"),1)),"") -> J | R21: 45638 | S21: {=_xlfn.TEXTJOIN(CHAR(10),,_xlfn._xlws.FILTER(_xlfn.ANCHORARRAY(Tout!$F$2),(D=J)*(H=S$9),""))} | T21: {=_xlfn.TEXTJOIN(CHAR(10),,_xlfn._xlws.FILTER(_xlfn.ANCHORARRAY(Tout!$F$2),(D=J)*(H=T$9),""))} | U21: {=_xlfn.TEXTJOIN(CHAR(10),,_xlfn._xlws.FILTER(_xlfn.ANCHORARRAY(Tout!$F$2),(D=J)*(H=U$9),""))} | V21: =IF(W21<>"",UPPER(LEFT(TEXT(W21,"jjj"),1)),"") -> D | W21: 45669 | X21: {=_xlfn.TEXTJOIN(CHAR(10),,_xlfn._xlws.FILTER(_xlfn.ANCHORARRAY(Tout!$F$2),(D=J)*(H=X$9),""))} -> Et Puis 09:00 | Y21: {=_xlfn.TEXTJOIN(CHAR(10),,_xlfn._xlws.FILTER(_xlfn.ANCHORARRAY(Tout!$F$2),(D=J)*(H=Y$9),""))} | Z21: {=_xlfn.TEXTJOIN(CHAR(10),,_xlfn._xlws.FILTER(_xlfn.ANCHORARRAY(Tout!$F$2),(D=J)*(H=Z$9),""))} | AA21: =IF(AB21<>"",UPPER(LEFT(TEXT(AB21,"jjj"),1)),"") -> M | AB21: 45700 | AC21: {=_xlfn.TEXTJOIN(CHAR(10),,_xlfn._xlws.FILTER(_xlfn.ANCHORARRAY(Tout!$F$2),(D=J)*(H=AC$9),""))} | AD21: {=_xlfn.TEXTJOIN(CHAR(10),,_xlfn._xlws.FILTER(_xlfn.ANCHORARRAY(Tout!$F$2),(D=J)*(H=AD$9),""))} | AE21: {=_xlfn.TEXTJOIN(CHAR(10),,_xlfn._xlws.FILTER(_xlfn.ANCHORARRAY(Tout!$F$2),(D=J)*(H=AE$9),""))} | AF21: =IF(AG21<>"",UPPER(LEFT(TEXT(AG21,"jjj"),1)),"") -> M | AG21: 45728 | AH21: {=_xlfn.TEXTJOIN(CHAR(10),,_xlfn._xlws.FILTER(_xlfn.ANCHORARRAY(Tout!$F$2),(D=J)*(H=AH$9),""))} | AI21: {=_xlfn.TEXTJOIN(CHAR(10),,_xlfn._xlws.FILTER(_xlfn.ANCHORARRAY(Tout!$F$2),(D=J)*(H=AI$9),""))} | AJ21: {=_xlfn.TEXTJOIN(CHAR(10),,_xlfn._xlws.FILTER(_xlfn.ANCHORARRAY(Tout!$F$2),(D=J)*(H=AJ$9),""))} | AK21: =IF(AL21<>"",UPPER(LEFT(TEXT(AL21,"jjj"),1)),"") -> S | AL21: 45759 | AM21: {=_xlfn.TEXTJOIN(CHAR(10),,_xlfn._xlws.FILTER(_xlfn.ANCHORARRAY(Tout!$F$2),(D=J)*(H=AM$9),""))} | AN21: {=_xlfn.TEXTJOIN(CHAR(10),,_xlfn._xlws.FILTER(_xlfn.ANCHORARRAY(Tout!$F$2),(D=J)*(H=AN$9),""))} | AO21: {=_xlfn.TEXTJOIN(CHAR(10),,_xlfn._xlws.FILTER(_xlfn.ANCHORARRAY(Tout!$F$2),(D=J)*(H=AO$9),""))} | AP21: =IF(AQ21<>"",UPPER(LEFT(TEXT(AQ21,"jjj"),1)),"") -> L | AQ21: 45789 | AR21: {=_xlfn.TEXTJOIN(CHAR(10),,_xlfn._xlws.FILTER(_xlfn.ANCHORARRAY(Tout!$F$2),(D=J)*(H=AR$9),""))} | AS21: {=_xlfn.TEXTJOIN(CHAR(10),,_xlfn._xlws.FILTER(_xlfn.ANCHORARRAY(Tout!$F$2),(D=J)*(H=AS$9),""))} | AT21: {=_xlfn.TEXTJOIN(CHAR(10),,_xlfn._xlws.FILTER(_xlfn.ANCHORARRAY(Tout!$F$2),(D=J)*(H=AT$9),""))} | AU21: =IF(AV21<>"",UPPER(LEFT(TEXT(AV21,"jjj"),1)),"") -> J | AV21: 45820 | AW21: {=_xlfn.TEXTJOIN(CHAR(10),,_xlfn._xlws.FILTER(_xlfn.ANCHORARRAY(Tout!$F$2),(D=J)*(H=AW$9),""))} | AX21: {=_xlfn.TEXTJOIN(CHAR(10),,_xlfn._xlws.FILTER(_xlfn.ANCHORARRAY(Tout!$F$2),(D=J)*(H=AX$9),""))} | AY21: {=_xlfn.TEXTJOIN(CHAR(10),,_xlfn._xlws.FILTER(_xlfn.ANCHORARRAY(Tout!$F$2),(D=J)*(H=AY$9),""))} | AZ21: =IF(BA21<>"",UPPER(LEFT(TEXT(BA21,"jjj"),1)),"") -> S | BA21: 45850 | BB21: {=_xlfn.TEXTJOIN(CHAR(10),,_xlfn._xlws.FILTER(_xlfn.ANCHORARRAY(Tout!$F$2),(D=J)*(H=BB$9),""))} | BC21: {=_xlfn.TEXTJOIN(CHAR(10),,_xlfn._xlws.FILTER(_xlfn.ANCHORARRAY(Tout!$F$2),(D=J)*(H=BC$9),""))} | BD21: {=_xlfn.TEXTJOIN(CHAR(10),,_xlfn._xlws.FILTER(_xlfn.ANCHORARRAY(Tout!$F$2),(D=J)*(H=BD$9),""))} | BE21: =IF(BF21<>"",UPPER(LEFT(TEXT(BF21,"jjj"),1)),"") -> M | BF21: 45881 | BG21: {=_xlfn.TEXTJOIN(CHAR(10),,_xlfn._xlws.FILTER(_xlfn.ANCHORARRAY(Tout!$F$2),(D=J)*(H=BG$9),""))} | BH21: {=_xlfn.TEXTJOIN(CHAR(10),,_xlfn._xlws.FILTER(_xlfn.ANCHORARRAY(Tout!$F$2),(D=J)*(H=BH$9),""))} | BI21: {=_xlfn.TEXTJOIN(CHAR(10),,_xlfn._xlws.FILTER(_xlfn.ANCHORARRAY(Tout!$F$2),(D=J)*(H=BI$9),""))}
B22: =IF(C22<>"",UPPER(LEFT(TEXT(C22,"jjj"),1)),"") -> V | C22: 45548 | D22: {=_xlfn.TEXTJOIN(CHAR(10),,_xlfn._xlws.FILTER(_xlfn.ANCHORARRAY(Tout!$F$2),(D=J)*(H=D$9),""))} | E22: {=_xlfn.TEXTJOIN(CHAR(10),,_xlfn._xlws.FILTER(_xlfn.ANCHORARRAY(Tout!$F$2),(D=J)*(H=E$9),""))} | F22: {=_xlfn.TEXTJOIN(CHAR(10),,_xlfn._xlws.FILTER(_xlfn.ANCHORARRAY(Tout!$F$2),(D=J)*(H=F$9),""))} | G22: =IF(H22<>"",UPPER(LEFT(TEXT(H22,"jjj"),1)),"") -> D | H22: 45578 | I22: {=_xlfn.TEXTJOIN(CHAR(10),,_xlfn._xlws.FILTER(_xlfn.ANCHORARRAY(Tout!$F$2),(D=J)*(H=I$9),""))} | J22: {=_xlfn.TEXTJOIN(CHAR(10),,_xlfn._xlws.FILTER(_xlfn.ANCHORARRAY(Tout!$F$2),(D=J)*(H=J$9),""))} | K22: {=_xlfn.TEXTJOIN(CHAR(10),,_xlfn._xlws.FILTER(_xlfn.ANCHORARRAY(Tout!$F$2),(D=J)*(H=K$9),""))} | L22: =IF(M22<>"",UPPER(LEFT(TEXT(M22,"jjj"),1)),"") -> M | M22: 45609 | N22: {=_xlfn.TEXTJOIN(CHAR(10),,_xlfn._xlws.FILTER(_xlfn.ANCHORARRAY(Tout!$F$2),(D=J)*(H=N$9),""))} | O22: {=_xlfn.TEXTJOIN(CHAR(10),,_xlfn._xlws.FILTER(_xlfn.ANCHORARRAY(Tout!$F$2),(D=J)*(H=O$9),""))} | P22: {=_xlfn.TEXTJOIN(CHAR(10),,_xlfn._xlws.FILTER(_xlfn.ANCHORARRAY(Tout!$F$2),(D=J)*(H=P$9),""))} | Q22: =IF(R22<>"",UPPER(LEFT(TEXT(R22,"jjj"),1)),"") -> V | R22: 45639 | S22: {=_xlfn.TEXTJOIN(CHAR(10),,_xlfn._xlws.FILTER(_xlfn.ANCHORARRAY(Tout!$F$2),(D=J)*(H=S$9),""))} | T22: {=_xlfn.TEXTJOIN(CHAR(10),,_xlfn._xlws.FILTER(_xlfn.ANCHORARRAY(Tout!$F$2),(D=J)*(H=T$9),""))} | U22: {=_xlfn.TEXTJOIN(CHAR(10),,_xlfn._xlws.FILTER(_xlfn.ANCHORARRAY(Tout!$F$2),(D=J)*(H=U$9),""))} | V22: =IF(W22<>"",UPPER(LEFT(TEXT(W22,"jjj"),1)),"") -> L | W22: 45670 | X22: {=_xlfn.TEXTJOIN(CHAR(10),,_xlfn._xlws.FILTER(_xlfn.ANCHORARRAY(Tout!$F$2),(D=J)*(H=X$9),""))} | Y22: {=_xlfn.TEXTJOIN(CHAR(10),,_xlfn._xlws.FILTER(_xlfn.ANCHORARRAY(Tout!$F$2),(D=J)*(H=Y$9),""))} -> Et Puis 15:00 | Z22: {=_xlfn.TEXTJOIN(CHAR(10),,_xlfn._xlws.FILTER(_xlfn.ANCHORARRAY(Tout!$F$2),(D=J)*(H=Z$9),""))} | AA22: =IF(AB22<>"",UPPER(LEFT(TEXT(AB22,"jjj"),1)),"") -> J | AB22: 45701 | AC22: {=_xlfn.TEXTJOIN(CHAR(10),,_xlfn._xlws.FILTER(_xlfn.ANCHORARRAY(Tout!$F$2),(D=J)*(H=AC$9),""))} -> Histoire d'escargot… 09:00 | AD22: {=_xlfn.TEXTJOIN(CHAR(10),,_xlfn._xlws.FILTER(_xlfn.ANCHORARRAY(Tout!$F$2),(D=J)*(H=AD$9),""))} -> Histoire d'escargot… 15:00 | AE22: {=_xlfn.TEXTJOIN(CHAR(10),,_xlfn._xlws.FILTER(_xlfn.ANCHORARRAY(Tout!$F$2),(D=J)*(H=AE$9),""))} | AF22: =IF(AG22<>"",UPPER(LEFT(TEXT(AG22,"jjj"),1)),"") -> J | AG22: 45729 | AH22: {=_xlfn.TEXTJOIN(CHAR(10),,_xlfn._xlws.FILTER(_xlfn.ANCHORARRAY(Tout!$F$2),(D=J)*(H=AH$9),""))} | AI22: {=_xlfn.TEXTJOIN(CHAR(10),,_xlfn._xlws.FILTER(_xlfn.ANCHORARRAY(Tout!$F$2),(D=J)*(H=AI$9),""))} | AJ22: {=_xlfn.TEXTJOIN(CHAR(10),,_xlfn._xlws.FILTER(_xlfn.ANCHORARRAY(Tout!$F$2),(D=J)*(H=AJ$9),""))} | AK22: =IF(AL22<>"",UPPER(LEFT(TEXT(AL22,"jjj"),1)),"") -> D | AL22: 45760 | AM22: {=_xlfn.TEXTJOIN(CHAR(10),,_xlfn._xlws.FILTER(_xlfn.ANCHORARRAY(Tout!$F$2),(D=J)*(H=AM$9),""))} | AN22: {=_xlfn.TEXTJOIN(CHAR(10),,_xlfn._xlws.FILTER(_xlfn.ANCHORARRAY(Tout!$F$2),(D=J)*(H=AN$9),""))} | AO22: {=_xlfn.TEXTJOIN(CHAR(10),,_xlfn._xlws.FILTER(_xlfn.ANCHORARRAY(Tout!$F$2),(D=J)*(H=AO$9),""))} | AP22: =IF(AQ22<>"",UPPER(LEFT(TEXT(AQ22,"jjj"),1)),"") -> M | AQ22: 45790 | AR22: {=_xlfn.TEXTJOIN(CHAR(10),,_xlfn._xlws.FILTER(_xlfn.ANCHORARRAY(Tout!$F$2),(D=J)*(H=AR$9),""))} | AS22: {=_xlfn.TEXTJOIN(CHAR(10),,_xlfn._xlws.FILTER(_xlfn.ANCHORARRAY(Tout!$F$2),(D=J)*(H=AS$9),""))} | AT22: {=_xlfn.TEXTJOIN(CHAR(10),,_xlfn._xlws.FILTER(_xlfn.ANCHORARRAY(Tout!$F$2),(D=J)*(H=AT$9),""))} | AU22: =IF(AV22<>"",UPPER(LEFT(TEXT(AV22,"jjj"),1)),"") -> V | AV22: 45821 | AW22: {=_xlfn.TEXTJOIN(CHAR(10),,_xlfn._xlws.FILTER(_xlfn.ANCHORARRAY(Tout!$F$2),(D=J)*(H=AW$9),""))} | AX22: {=_xlfn.TEXTJOIN(CHAR(10),,_xlfn._xlws.FILTER(_xlfn.ANCHORARRAY(Tout!$F$2),(D=J)*(H=AX$9),""))} | AY22: {=_xlfn.TEXTJOIN(CHAR(10),,_xlfn._xlws.FILTER(_xlfn.ANCHORARRAY(Tout!$F$2),(D=J)*(H=AY$9),""))} | AZ22: =IF(BA22<>"",UPPER(LEFT(TEXT(BA22,"jjj"),1)),"") -> D | BA22: 45851 | BB22: {=_xlfn.TEXTJOIN(CHAR(10),,_xlfn._xlws.FILTER(_xlfn.ANCHORARRAY(Tout!$F$2),(D=J)*(H=BB$9),""))} | BC22: {=_xlfn.TEXTJOIN(CHAR(10),,_xlfn._xlws.FILTER(_xlfn.ANCHORARRAY(Tout!$F$2),(D=J)*(H=BC$9),""))} | BD22: {=_xlfn.TEXTJOIN(CHAR(10),,_xlfn._xlws.FILTER(_xlfn.ANCHORARRAY(Tout!$F$2),(D=J)*(H=BD$9),""))} | BE22: =IF(BF22<>"",UPPER(LEFT(TEXT(BF22,"jjj"),1)),"") -> M | BF22: 45882 | BG22: {=_xlfn.TEXTJOIN(CHAR(10),,_xlfn._xlws.FILTER(_xlfn.ANCHORARRAY(Tout!$F$2),(D=J)*(H=BG$9),""))} | BH22: {=_xlfn.TEXTJOIN(CHAR(10),,_xlfn._xlws.FILTER(_xlfn.ANCHORARRAY(Tout!$F$2),(D=J)*(H=BH$9),""))} | BI22: {=_xlfn.TEXTJOIN(CHAR(10),,_xlfn._xlws.FILTER(_xlfn.ANCHORARRAY(Tout!$F$2),(D=J)*(H=BI$9),""))}
... B37: =IF(C37<>"",UPPER(LEFT(TEXT(C37,"jjj"),1)),"") -> S | C37: 45563 | D37: {=_xlfn.TEXTJOIN(CHAR(10),,_xlfn._xlws.FILTER(_xlfn.ANCHORARRAY(Tout!$F$2),(D=J)*(H=D$9),""))} | E37: {=_xlfn.TEXTJOIN(CHAR(10),,_xlfn._xlws.FILTER(_xlfn.ANCHORARRAY(Tout!$F$2),(D=J)*(H=E$9),""))} | F37: {=_xlfn.TEXTJOIN(CHAR(10),,_xlfn._xlws.FILTER(_xlfn.ANCHORARRAY(Tout!$F$2),(D=J)*(H=F$9),""))} | G37: =IF(H37<>"",UPPER(LEFT(TEXT(H37,"jjj"),1)),"") -> L | H37: 45593 | I37: {=_xlfn.TEXTJOIN(CHAR(10),,_xlfn._xlws.FILTER(_xlfn.ANCHORARRAY(Tout!$F$2),(D=J)*(H=I$9),""))} | J37: {=_xlfn.TEXTJOIN(CHAR(10),,_xlfn._xlws.FILTER(_xlfn.ANCHORARRAY(Tout!$F$2),(D=J)*(H=J$9),""))} | K37: {=_xlfn.TEXTJOIN(CHAR(10),,_xlfn._xlws.FILTER(_xlfn.ANCHORARRAY(Tout!$F$2),(D=J)*(H=K$9),""))} | L37: =IF(M37<>"",UPPER(LEFT(TEXT(M37,"jjj"),1)),"") -> J | M37: 45624 | N37: {=_xlfn.TEXTJOIN(CHAR(10),,_xlfn._xlws.FILTER(_xlfn.ANCHORARRAY(Tout!$F$2),(D=J)*(H=N$9),""))} | O37: {=_xlfn.TEXTJOIN(CHAR(10),,_xlfn._xlws.FILTER(_xlfn.ANCHORARRAY(Tout!$F$2),(D=J)*(H=O$9),""))} | P37: {=_xlfn.TEXTJOIN(CHAR(10),,_xlfn._xlws.FILTER(_xlfn.ANCHORARRAY(Tout!$F$2),(D=J)*(H=P$9),""))} | Q37: =IF(R37<>"",UPPER(LEFT(TEXT(R37,"jjj"),1)),"") -> S | R37: 45654 | S37: {=_xlfn.TEXTJOIN(CHAR(10),,_xlfn._xlws.FILTER(_xlfn.ANCHORARRAY(Tout!$F$2),(D=J)*(H=S$9),""))} | T37: {=_xlfn.TEXTJOIN(CHAR(10),,_xlfn._xlws.FILTER(_xlfn.ANCHORARRAY(Tout!$F$2),(D=J)*(H=T$9),""))} | U37: {=_xlfn.TEXTJOIN(CHAR(10),,_xlfn._xlws.FILTER(_xlfn.ANCHORARRAY(Tout!$F$2),(D=J)*(H=U$9),""))} | V37: =IF(W37<>"",UPPER(LEFT(TEXT(W37,"jjj"),1)),"") -> M | W37: 45685 | X37: {=_xlfn.TEXTJOIN(CHAR(10),,_xlfn._xlws.FILTER(_xlfn.ANCHORARRAY(Tout!$F$2),(D=J)*(H=X$9),""))} | Y37: {=_xlfn.TEXTJOIN(CHAR(10),,_xlfn._xlws.FILTER(_xlfn.ANCHORARRAY(Tout!$F$2),(D=J)*(H=Y$9),""))} | Z37: {=_xlfn.TEXTJOIN(CHAR(10),,_xlfn._xlws.FILTER(_xlfn.ANCHORARRAY(Tout!$F$2),(D=J)*(H=Z$9),""))} | AA37: =IF(AB37<>"",UPPER(LEFT(TEXT(AB37,"jjj"),1)),"") -> V | AB37: 45716 | AC37: {=_xlfn.TEXTJOIN(CHAR(10),,_xlfn._xlws.FILTER(_xlfn.ANCHORARRAY(Tout!$F$2),(D=J)*(H=AC$9),""))} | AD37: {=_xlfn.TEXTJOIN(CHAR(10),,_xlfn._xlws.FILTER(_xlfn.ANCHORARRAY(Tout!$F$2),(D=J)*(H=AD$9),""))} | AE37: {=_xlfn.TEXTJOIN(CHAR(10),,_xlfn._xlws.FILTER(_xlfn.ANCHORARRAY(Tout!$F$2),(D=J)*(H=AE$9),""))} | AF37: =IF(AG37<>"",UPPER(LEFT(TEXT(AG37,"jjj"),1)),"") -> V | AG37: 45744 | AH37: {=_xlfn.TEXTJOIN(CHAR(10),,_xlfn._xlws.FILTER(_xlfn.ANCHORARRAY(Tout!$F$2),(D=J)*(H=AH$9),""))} | AI37: {=_xlfn.TEXTJOIN(CHAR(10),,_xlfn._xlws.FILTER(_xlfn.ANCHORARRAY(Tout!$F$2),(D=J)*(H=AI$9),""))} | AJ37: {=_xlfn.TEXTJOIN(CHAR(10),,_xlfn._xlws.FILTER(_xlfn.ANCHORARRAY(Tout!$F$2),(D=J)*(H=AJ$9),""))} | AK37: =IF(AL37<>"",UPPER(LEFT(TEXT(AL37,"jjj"),1)),"") -> L | AL37: 45775 | AM37: {=_xlfn.TEXTJOIN(CHAR(10),,_xlfn._xlws.FILTER(_xlfn.ANCHORARRAY(Tout!$F$2),(D=J)*(H=AM$9),""))} | AN37: {=_xlfn.TEXTJOIN(CHAR(10),,_xlfn._xlws.FILTER(_xlfn.ANCHORARRAY(Tout!$F$2),(D=J)*(H=AN$9),""))} | AO37: {=_xlfn.TEXTJOIN(CHAR(10),,_xlfn._xlws.FILTER(_xlfn.ANCHORARRAY(Tout!$F$2),(D=J)*(H=AO$9),""))} | AP37: =IF(AQ37<>"",UPPER(LEFT(TEXT(AQ37,"jjj"),1)),"") -> M | AQ37: 45805 | AR37: {=_xlfn.TEXTJOIN(CHAR(10),,_xlfn._xlws.FILTER(_xlfn.ANCHORARRAY(Tout!$F$2),(D=J)*(H=AR$9),""))} | AS37: {=_xlfn.TEXTJOIN(CHAR(10),,_xlfn._xlws.FILTER(_xlfn.ANCHORARRAY(Tout!$F$2),(D=J)*(H=AS$9),""))} | AT37: {=_xlfn.TEXTJOIN(CHAR(10),,_xlfn._xlws.FILTER(_xlfn.ANCHORARRAY(Tout!$F$2),(D=J)*(H=AT$9),""))} | AU37: =IF(AV37<>"",UPPER(LEFT(TEXT(AV37,"jjj"),1)),"") -> S | AV37: 45836 | AW37: {=_xlfn.TEXTJOIN(CHAR(10),,_xlfn._xlws.FILTER(_xlfn.ANCHORARRAY(Tout!$F$2),(D=J)*(H=AW$9),""))} | AX37: {=_xlfn.TEXTJOIN(CHAR(10),,_xlfn._xlws.FILTER(_xlfn.ANCHORARRAY(Tout!$F$2),(D=J)*(H=AX$9),""))} | AY37: {=_xlfn.TEXTJOIN(CHAR(10),,_xlfn._xlws.FILTER(_xlfn.ANCHORARRAY(Tout!$F$2),(D=J)*(H=AY$9),""))} | AZ37: =IF(BA37<>"",UPPER(LEFT(TEXT(BA37,"jjj"),1)),"") -> L | BA37: 45866 | BB37: {=_xlfn.TEXTJOIN(CHAR(10),,_xlfn._xlws.FILTER(_xlfn.ANCHORARRAY(Tout!$F$2),(D=J)*(H=BB$9),""))} | BC37: {=_xlfn.TEXTJOIN(CHAR(10),,_xlfn._xlws.FILTER(_xlfn.ANCHORARRAY(Tout!$F$2),(D=J)*(H=BC$9),""))} | BD37: {=_xlfn.TEXTJOIN(CHAR(10),,_xlfn._xlws.FILTER(_xlfn.ANCHORARRAY(Tout!$F$2),(D=J)*(H=BD$9),""))} | BE37: =IF(BF37<>"",UPPER(LEFT(TEXT(BF37,"jjj"),1)),"") -> J | BF37: 45897 | BG37: {=_xlfn.TEXTJOIN(CHAR(10),,_xlfn._xlws.FILTER(_xlfn.ANCHORARRAY(Tout!$F$2),(D=J)*(H=BG$9),""))} | BH37: {=_xlfn.TEXTJOIN(CHAR(10),,_xlfn._xlws.FILTER(_xlfn.ANCHORARRAY(Tout!$F$2),(D=J)*(H=BH$9),""))} | BI37: {=_xlfn.TEXTJOIN(CHAR(10),,_xlfn._xlws.FILTER(_xlfn.ANCHORARRAY(Tout!$F$2),(D=J)*(H=BI$9),""))}
B38: =IF(C38<>"",UPPER(LEFT(TEXT(C38,"jjj"),1)),"") -> D | C38: 45564 | D38: {=_xlfn.TEXTJOIN(CHAR(10),,_xlfn._xlws.FILTER(_xlfn.ANCHORARRAY(Tout!$F$2),(D=J)*(H=D$9),""))} | E38: {=_xlfn.TEXTJOIN(CHAR(10),,_xlfn._xlws.FILTER(_xlfn.ANCHORARRAY(Tout!$F$2),(D=J)*(H=E$9),""))} | F38: {=_xlfn.TEXTJOIN(CHAR(10),,_xlfn._xlws.FILTER(_xlfn.ANCHORARRAY(Tout!$F$2),(D=J)*(H=F$9),""))} | G38: =IF(H38<>"",UPPER(LEFT(TEXT(H38,"jjj"),1)),"") -> M | H38: 45594 | I38: {=_xlfn.TEXTJOIN(CHAR(10),,_xlfn._xlws.FILTER(_xlfn.ANCHORARRAY(Tout!$F$2),(D=J)*(H=I$9),""))} | J38: {=_xlfn.TEXTJOIN(CHAR(10),,_xlfn._xlws.FILTER(_xlfn.ANCHORARRAY(Tout!$F$2),(D=J)*(H=J$9),""))} | K38: {=_xlfn.TEXTJOIN(CHAR(10),,_xlfn._xlws.FILTER(_xlfn.ANCHORARRAY(Tout!$F$2),(D=J)*(H=K$9),""))} | L38: =IF(M38<>"",UPPER(LEFT(TEXT(M38,"jjj"),1)),"") -> V | M38: 45625 | N38: {=_xlfn.TEXTJOIN(CHAR(10),,_xlfn._xlws.FILTER(_xlfn.ANCHORARRAY(Tout!$F$2),(D=J)*(H=N$9),""))} | O38: {=_xlfn.TEXTJOIN(CHAR(10),,_xlfn._xlws.FILTER(_xlfn.ANCHORARRAY(Tout!$F$2),(D=J)*(H=O$9),""))} | P38: {=_xlfn.TEXTJOIN(CHAR(10),,_xlfn._xlws.FILTER(_xlfn.ANCHORARRAY(Tout!$F$2),(D=J)*(H=P$9),""))} | Q38: =IF(R38<>"",UPPER(LEFT(TEXT(R38,"jjj"),1)),"") -> D | R38: 45655 | S38: {=_xlfn.TEXTJOIN(CHAR(10),,_xlfn._xlws.FILTER(_xlfn.ANCHORARRAY(Tout!$F$2),(D=J)*(H=S$9),""))} | T38: {=_xlfn.TEXTJOIN(CHAR(10),,_xlfn._xlws.FILTER(_xlfn.ANCHORARRAY(Tout!$F$2),(D=J)*(H=T$9),""))} | U38: {=_xlfn.TEXTJOIN(CHAR(10),,_xlfn._xlws.FILTER(_xlfn.ANCHORARRAY(Tout!$F$2),(D=J)*(H=U$9),""))} | V38: =IF(W38<>"",UPPER(LEFT(TEXT(W38,"jjj"),1)),"") -> M | W38: 45686 | X38: {=_xlfn.TEXTJOIN(CHAR(10),,_xlfn._xlws.FILTER(_xlfn.ANCHORARRAY(Tout!$F$2),(D=J)*(H=X$9),""))} | Y38: {=_xlfn.TEXTJOIN(CHAR(10),,_xlfn._xlws.FILTER(_xlfn.ANCHORARRAY(Tout!$F$2),(D=J)*(H=Y$9),""))} | Z38: {=_xlfn.TEXTJOIN(CHAR(10),,_xlfn._xlws.FILTER(_xlfn.ANCHORARRAY(Tout!$F$2),(D=J)*(H=Z$9),""))} | AA38: =IF(AB38<>"",UPPER(LEFT(TEXT(AB38,"jjj"),1)),"") | AC38: {=_xlfn.TEXTJOIN(CHAR(10),,_xlfn._xlws.FILTER(_xlfn.ANCHORARRAY(Tout!$F$2),(D=J)*(H=AC$9),""))} | AD38: {=_xlfn.TEXTJOIN(CHAR(10),,_xlfn._xlws.FILTER(_xlfn.ANCHORARRAY(Tout!$F$2),(D=J)*(H=AD$9),""))} | AE38: {=_xlfn.TEXTJOIN(CHAR(10),,_xlfn._xlws.FILTER(_xlfn.ANCHORARRAY(Tout!$F$2),(D=J)*(H=AE$9),""))} | AF38: =IF(AG38<>"",UPPER(LEFT(TEXT(AG38,"jjj"),1)),"") -> S | AG38: 45745 | AH38: {=_xlfn.TEXTJOIN(CHAR(10),,_xlfn._xlws.FILTER(_xlfn.ANCHORARRAY(Tout!$F$2),(D=J)*(H=AH$9),""))} | AI38: {=_xlfn.TEXTJOIN(CHAR(10),,_xlfn._xlws.FILTER(_xlfn.ANCHORARRAY(Tout!$F$2),(D=J)*(H=AI$9),""))} | AJ38: {=_xlfn.TEXTJOIN(CHAR(10),,_xlfn._xlws.FILTER(_xlfn.ANCHORARRAY(Tout!$F$2),(D=J)*(H=AJ$9),""))} | AK38: =IF(AL38<>"",UPPER(LEFT(TEXT(AL38,"jjj"),1)),"") -> M | AL38: 45776 | AM38: {=_xlfn.TEXTJOIN(CHAR(10),,_xlfn._xlws.FILTER(_xlfn.ANCHORARRAY(Tout!$F$2),(D=J)*(H=AM$9),""))} | AN38: {=_xlfn.TEXTJOIN(CHAR(10),,_xlfn._xlws.FILTER(_xlfn.ANCHORARRAY(Tout!$F$2),(D=J)*(H=AN$9),""))} | AO38: {=_xlfn.TEXTJOIN(CHAR(10),,_xlfn._xlws.FILTER(_xlfn.ANCHORARRAY(Tout!$F$2),(D=J)*(H=AO$9),""))} | AP38: =IF(AQ38<>"",UPPER(LEFT(TEXT(AQ38,"jjj"),1)),"") -> J | AQ38: 45806 | AR38: {=_xlfn.TEXTJOIN(CHAR(10),,_xlfn._xlws.FILTER(_xlfn.ANCHORARRAY(Tout!$F$2),(D=J)*(H=AR$9),""))} | AS38: {=_xlfn.TEXTJOIN(CHAR(10),,_xlfn._xlws.FILTER(_xlfn.ANCHORARRAY(Tout!$F$2),(D=J)*(H=AS$9),""))} | AT38: {=_xlfn.TEXTJOIN(CHAR(10),,_xlfn._xlws.FILTER(_xlfn.ANCHORARRAY(Tout!$F$2),(D=J)*(H=AT$9),""))} | AU38: =IF(AV38<>"",UPPER(LEFT(TEXT(AV38,"jjj"),1)),"") -> D | AV38: 45837 | AW38: {=_xlfn.TEXTJOIN(CHAR(10),,_xlfn._xlws.FILTER(_xlfn.ANCHORARRAY(Tout!$F$2),(D=J)*(H=AW$9),""))} | AX38: {=_xlfn.TEXTJOIN(CHAR(10),,_xlfn._xlws.FILTER(_xlfn.ANCHORARRAY(Tout!$F$2),(D=J)*(H=AX$9),""))} | AY38: {=_xlfn.TEXTJOIN(CHAR(10),,_xlfn._xlws.FILTER(_xlfn.ANCHORARRAY(Tout!$F$2),(D=J)*(H=AY$9),""))} | AZ38: =IF(BA38<>"",UPPER(LEFT(TEXT(BA38,"jjj"),1)),"") -> M | BA38: 45867 | BB38: {=_xlfn.TEXTJOIN(CHAR(10),,_xlfn._xlws.FILTER(_xlfn.ANCHORARRAY(Tout!$F$2),(D=J)*(H=BB$9),""))} | BC38: {=_xlfn.TEXTJOIN(CHAR(10),,_xlfn._xlws.FILTER(_xlfn.ANCHORARRAY(Tout!$F$2),(D=J)*(H=BC$9),""))} | BD38: {=_xlfn.TEXTJOIN(CHAR(10),,_xlfn._xlws.FILTER(_xlfn.ANCHORARRAY(Tout!$F$2),(D=J)*(H=BD$9),""))} | BE38: =IF(BF38<>"",UPPER(LEFT(TEXT(BF38,"jjj"),1)),"") -> V | BF38: 45898 | BG38: {=_xlfn.TEXTJOIN(CHAR(10),,_xlfn._xlws.FILTER(_xlfn.ANCHORARRAY(Tout!$F$2),(D=J)*(H=BG$9),""))} | BH38: {=_xlfn.TEXTJOIN(CHAR(10),,_xlfn._xlws.FILTER(_xlfn.ANCHORARRAY(Tout!$F$2),(D=J)*(H=BH$9),""))} | BI38: {=_xlfn.TEXTJOIN(CHAR(10),,_xlfn._xlws.FILTER(_xlfn.ANCHORARRAY(Tout!$F$2),(D=J)*(H=BI$9),""))}
B39: =IF(C39<>"",UPPER(LEFT(TEXT(C39,"jjj"),1)),"") -> L | C39: 45565 | D39: {=_xlfn.TEXTJOIN(CHAR(10),,_xlfn._xlws.FILTER(_xlfn.ANCHORARRAY(Tout!$F$2),(D=J)*(H=D$9),""))} | E39: {=_xlfn.TEXTJOIN(CHAR(10),,_xlfn._xlws.FILTER(_xlfn.ANCHORARRAY(Tout!$F$2),(D=J)*(H=E$9),""))} | F39: {=_xlfn.TEXTJOIN(CHAR(10),,_xlfn._xlws.FILTER(_xlfn.ANCHORARRAY(Tout!$F$2),(D=J)*(H=F$9),""))} | G39: =IF(H39<>"",UPPER(LEFT(TEXT(H39,"jjj"),1)),"") -> M | H39: 45595 | I39: {=_xlfn.TEXTJOIN(CHAR(10),,_xlfn._xlws.FILTER(_xlfn.ANCHORARRAY(Tout!$F$2),(D=J)*(H=I$9),""))} | J39: {=_xlfn.TEXTJOIN(CHAR(10),,_xlfn._xlws.FILTER(_xlfn.ANCHORARRAY(Tout!$F$2),(D=J)*(H=J$9),""))} | K39: {=_xlfn.TEXTJOIN(CHAR(10),,_xlfn._xlws.FILTER(_xlfn.ANCHORARRAY(Tout!$F$2),(D=J)*(H=K$9),""))} | L39: =IF(M39<>"",UPPER(LEFT(TEXT(M39,"jjj"),1)),"") -> S | M39: 45626 | N39: {=_xlfn.TEXTJOIN(CHAR(10),,_xlfn._xlws.FILTER(_xlfn.ANCHORARRAY(Tout!$F$2),(D=J)*(H=N$9),""))} | O39: {=_xlfn.TEXTJOIN(CHAR(10),,_xlfn._xlws.FILTER(_xlfn.ANCHORARRAY(Tout!$F$2),(D=J)*(H=O$9),""))} | P39: {=_xlfn.TEXTJOIN(CHAR(10),,_xlfn._xlws.FILTER(_xlfn.ANCHORARRAY(Tout!$F$2),(D=J)*(H=P$9),""))} | Q39: =IF(R39<>"",UPPER(LEFT(TEXT(R39,"jjj"),1)),"") -> L | R39: 45656 | S39: {=_xlfn.TEXTJOIN(CHAR(10),,_xlfn._xlws.FILTER(_xlfn.ANCHORARRAY(Tout!$F$2),(D=J)*(H=S$9),""))} | T39: {=_xlfn.TEXTJOIN(CHAR(10),,_xlfn._xlws.FILTER(_xlfn.ANCHORARRAY(Tout!$F$2),(D=J)*(H=T$9),""))} | U39: {=_xlfn.TEXTJOIN(CHAR(10),,_xlfn._xlws.FILTER(_xlfn.ANCHORARRAY(Tout!$F$2),(D=J)*(H=U$9),""))} | V39: =IF(W39<>"",UPPER(LEFT(TEXT(W39,"jjj"),1)),"") -> J | W39: 45687 | X39: {=_xlfn.TEXTJOIN(CHAR(10),,_xlfn._xlws.FILTER(_xlfn.ANCHORARRAY(Tout!$F$2),(D=J)*(H=X$9),""))} | Y39: {=_xlfn.TEXTJOIN(CHAR(10),,_xlfn._xlws.FILTER(_xlfn.ANCHORARRAY(Tout!$F$2),(D=J)*(H=Y$9),""))} | Z39: {=_xlfn.TEXTJOIN(CHAR(10),,_xlfn._xlws.FILTER(_xlfn.ANCHORARRAY(Tout!$F$2),(D=J)*(H=Z$9),""))} | AA39: =IF(AB39<>"",UPPER(LEFT(TEXT(AB39,"jjj"),1)),"") | AC39: {=_xlfn.TEXTJOIN(CHAR(10),,_xlfn._xlws.FILTER(_xlfn.ANCHORARRAY(Tout!$F$2),(D=J)*(H=AC$9),""))} | AD39: {=_xlfn.TEXTJOIN(CHAR(10),,_xlfn._xlws.FILTER(_xlfn.ANCHORARRAY(Tout!$F$2),(D=J)*(H=AD$9),""))} | AE39: {=_xlfn.TEXTJOIN(CHAR(10),,_xlfn._xlws.FILTER(_xlfn.ANCHORARRAY(Tout!$F$2),(D=J)*(H=AE$9),""))} | AF39: =IF(AG39<>"",UPPER(LEFT(TEXT(AG39,"jjj"),1)),"") -> D | AG39: 45746 | AH39: {=_xlfn.TEXTJOIN(CHAR(10),,_xlfn._xlws.FILTER(_xlfn.ANCHORARRAY(Tout!$F$2),(D=J)*(H=AH$9),""))} | AI39: {=_xlfn.TEXTJOIN(CHAR(10),,_xlfn._xlws.FILTER(_xlfn.ANCHORARRAY(Tout!$F$2),(D=J)*(H=AI$9),""))} | AJ39: {=_xlfn.TEXTJOIN(CHAR(10),,_xlfn._xlws.FILTER(_xlfn.ANCHORARRAY(Tout!$F$2),(D=J)*(H=AJ$9),""))} | AK39: =IF(AL39<>"",UPPER(LEFT(TEXT(AL39,"jjj"),1)),"") -> M | AL39: 45777 | AM39: {=_xlfn.TEXTJOIN(CHAR(10),,_xlfn._xlws.FILTER(_xlfn.ANCHORARRAY(Tout!$F$2),(D=J)*(H=AM$9),""))} | AN39: {=_xlfn.TEXTJOIN(CHAR(10),,_xlfn._xlws.FILTER(_xlfn.ANCHORARRAY(Tout!$F$2),(D=J)*(H=AN$9),""))} | AO39: {=_xlfn.TEXTJOIN(CHAR(10),,_xlfn._xlws.FILTER(_xlfn.ANCHORARRAY(Tout!$F$2),(D=J)*(H=AO$9),""))} | AP39: =IF(AQ39<>"",UPPER(LEFT(TEXT(AQ39,"jjj"),1)),"") -> V | AQ39: 45807 | AR39: {=_xlfn.TEXTJOIN(CHAR(10),,_xlfn._xlws.FILTER(_xlfn.ANCHORARRAY(Tout!$F$2),(D=J)*(H=AR$9),""))} | AS39: {=_xlfn.TEXTJOIN(CHAR(10),,_xlfn._xlws.FILTER(_xlfn.ANCHORARRAY(Tout!$F$2),(D=J)*(H=AS$9),""))} | AT39: {=_xlfn.TEXTJOIN(CHAR(10),,_xlfn._xlws.FILTER(_xlfn.ANCHORARRAY(Tout!$F$2),(D=J)*(H=AT$9),""))} | AU39: =IF(AV39<>"",UPPER(LEFT(TEXT(AV39,"jjj"),1)),"") -> L | AV39: 45838 | AW39: {=_xlfn.TEXTJOIN(CHAR(10),,_xlfn._xlws.FILTER(_xlfn.ANCHORARRAY(Tout!$F$2),(D=J)*(H=AW$9),""))} | AX39: {=_xlfn.TEXTJOIN(CHAR(10),,_xlfn._xlws.FILTER(_xlfn.ANCHORARRAY(Tout!$F$2),(D=J)*(H=AX$9),""))} | AY39: {=_xlfn.TEXTJOIN(CHAR(10),,_xlfn._xlws.FILTER(_xlfn.ANCHORARRAY(Tout!$F$2),(D=J)*(H=AY$9),""))} | AZ39: =IF(BA39<>"",UPPER(LEFT(TEXT(BA39,"jjj"),1)),"") -> M | BA39: 45868 | BB39: {=_xlfn.TEXTJOIN(CHAR(10),,_xlfn._xlws.FILTER(_xlfn.ANCHORARRAY(Tout!$F$2),(D=J)*(H=BB$9),""))} | BC39: {=_xlfn.TEXTJOIN(CHAR(10),,_xlfn._xlws.FILTER(_xlfn.ANCHORARRAY(Tout!$F$2),(D=J)*(H=BC$9),""))} | BD39: {=_xlfn.TEXTJOIN(CHAR(10),,_xlfn._xlws.FILTER(_xlfn.ANCHORARRAY(Tout!$F$2),(D=J)*(H=BD$9),""))} | BE39: =IF(BF39<>"",UPPER(LEFT(TEXT(BF39,"jjj"),1)),"") -> S | BF39: 45899 | BG39: {=_xlfn.TEXTJOIN(CHAR(10),,_xlfn._xlws.FILTER(_xlfn.ANCHORARRAY(Tout!$F$2),(D=J)*(H=BG$9),""))} | BH39: {=_xlfn.TEXTJOIN(CHAR(10),,_xlfn._xlws.FILTER(_xlfn.ANCHORARRAY(Tout!$F$2),(D=J)*(H=BH$9),""))} | BI39: {=_xlfn.TEXTJOIN(CHAR(10),,_xlfn._xlws.FILTER(_xlfn.ANCHORARRAY(Tout!$F$2),(D=J)*(H=BI$9),""))}
B40: =IF(C40<>"",UPPER(LEFT(TEXT(C40,"jjj"),1)),"") | D40: {=_xlfn.TEXTJOIN(CHAR(10),,_xlfn._xlws.FILTER(_xlfn.ANCHORARRAY(Tout!$F$2),(D=J)*(H=D$9),""))} | E40: {=_xlfn.TEXTJOIN(CHAR(10),,_xlfn._xlws.FILTER(_xlfn.ANCHORARRAY(Tout!$F$2),(D=J)*(H=E$9),""))} | F40: {=_xlfn.TEXTJOIN(CHAR(10),,_xlfn._xlws.FILTER(_xlfn.ANCHORARRAY(Tout!$F$2),(D=J)*(H=F$9),""))} | G40: =IF(H40<>"",UPPER(LEFT(TEXT(H40,"jjj"),1)),"") -> J | H40: 45596 | I40: {=_xlfn.TEXTJOIN(CHAR(10),,_xlfn._xlws.FILTER(_xlfn.ANCHORARRAY(Tout!$F$2),(D=J)*(H=I$9),""))} | J40: {=_xlfn.TEXTJOIN(CHAR(10),,_xlfn._xlws.FILTER(_xlfn.ANCHORARRAY(Tout!$F$2),(D=J)*(H=J$9),""))} | K40: {=_xlfn.TEXTJOIN(CHAR(10),,_xlfn._xlws.FILTER(_xlfn.ANCHORARRAY(Tout!$F$2),(D=J)*(H=K$9),""))} | L40: =IF(M40<>"",UPPER(LEFT(TEXT(M40,"jjj"),1)),"") | N40: {=_xlfn.TEXTJOIN(CHAR(10),,_xlfn._xlws.FILTER(_xlfn.ANCHORARRAY(Tout!$F$2),(D=J)*(H=N$9),""))} | O40: {=_xlfn.TEXTJOIN(CHAR(10),,_xlfn._xlws.FILTER(_xlfn.ANCHORARRAY(Tout!$F$2),(D=J)*(H=O$9),""))} | P40: {=_xlfn.TEXTJOIN(CHAR(10),,_xlfn._xlws.FILTER(_xlfn.ANCHORARRAY(Tout!$F$2),(D=J)*(H=P$9),""))} | Q40: =IF(R40<>"",UPPER(LEFT(TEXT(R40,"jjj"),1)),"") -> M | R40: 45657 | S40: {=_xlfn.TEXTJOIN(CHAR(10),,_xlfn._xlws.FILTER(_xlfn.ANCHORARRAY(Tout!$F$2),(D=J)*(H=S$9),""))} | T40: {=_xlfn.TEXTJOIN(CHAR(10),,_xlfn._xlws.FILTER(_xlfn.ANCHORARRAY(Tout!$F$2),(D=J)*(H=T$9),""))} | U40: {=_xlfn.TEXTJOIN(CHAR(10),,_xlfn._xlws.FILTER(_xlfn.ANCHORARRAY(Tout!$F$2),(D=J)*(H=U$9),""))} | V40: =IF(W40<>"",UPPER(LEFT(TEXT(W40,"jjj"),1)),"") -> V | W40: 45688 | X40: {=_xlfn.TEXTJOIN(CHAR(10),,_xlfn._xlws.FILTER(_xlfn.ANCHORARRAY(Tout!$F$2),(D=J)*(H=X$9),""))} | Y40: {=_xlfn.TEXTJOIN(CHAR(10),,_xlfn._xlws.FILTER(_xlfn.ANCHORARRAY(Tout!$F$2),(D=J)*(H=Y$9),""))} | Z40: {=_xlfn.TEXTJOIN(CHAR(10),,_xlfn._xlws.FILTER(_xlfn.ANCHORARRAY(Tout!$F$2),(D=J)*(H=Z$9),""))} | AA40: =IF(AB40<>"",UPPER(LEFT(TEXT(AB40,"jjj"),1)),"") | AC40: {=_xlfn.TEXTJOIN(CHAR(10),,_xlfn._xlws.FILTER(_xlfn.ANCHORARRAY(Tout!$F$2),(D=J)*(H=AC$9),""))} | AD40: {=_xlfn.TEXTJOIN(CHAR(10),,_xlfn._xlws.FILTER(_xlfn.ANCHORARRAY(Tout!$F$2),(D=J)*(H=AD$9),""))} | AE40: {=_xlfn.TEXTJOIN(CHAR(10),,_xlfn._xlws.FILTER(_xlfn.ANCHORARRAY(Tout!$F$2),(D=J)*(H=AE$9),""))} | AF40: =IF(AG40<>"",UPPER(LEFT(TEXT(AG40,"jjj"),1)),"") -> L | AG40: 45747 | AH40: {=_xlfn.TEXTJOIN(CHAR(10),,_xlfn._xlws.FILTER(_xlfn.ANCHORARRAY(Tout!$F$2),(D=J)*(H=AH$9),""))} | AI40: {=_xlfn.TEXTJOIN(CHAR(10),,_xlfn._xlws.FILTER(_xlfn.ANCHORARRAY(Tout!$F$2),(D=J)*(H=AI$9),""))} | AJ40: {=_xlfn.TEXTJOIN(CHAR(10),,_xlfn._xlws.FILTER(_xlfn.ANCHORARRAY(Tout!$F$2),(D=J)*(H=AJ$9),""))} | AK40: =IF(AL40<>"",UPPER(LEFT(TEXT(AL40,"jjj"),1)),"") | AM40: {=_xlfn.TEXTJOIN(CHAR(10),,_xlfn._xlws.FILTER(_xlfn.ANCHORARRAY(Tout!$F$2),(D=J)*(H=AM$9),""))} | AN40: {=_xlfn.TEXTJOIN(CHAR(10),,_xlfn._xlws.FILTER(_xlfn.ANCHORARRAY(Tout!$F$2),(D=J)*(H=AN$9),""))} | AO40: {=_xlfn.TEXTJOIN(CHAR(10),,_xlfn._xlws.FILTER(_xlfn.ANCHORARRAY(Tout!$F$2),(D=J)*(H=AO$9),""))} | AP40: =IF(AQ40<>"",UPPER(LEFT(TEXT(AQ40,"jjj"),1)),"") -> S | AQ40: 45808 | AR40: {=_xlfn.TEXTJOIN(CHAR(10),,_xlfn._xlws.FILTER(_xlfn.ANCHORARRAY(Tout!$F$2),(D=J)*(H=AR$9),""))} | AS40: {=_xlfn.TEXTJOIN(CHAR(10),,_xlfn._xlws.FILTER(_xlfn.ANCHORARRAY(Tout!$F$2),(D=J)*(H=AS$9),""))} | AT40: {=_xlfn.TEXTJOIN(CHAR(10),,_xlfn._xlws.FILTER(_xlfn.ANCHORARRAY(Tout!$F$2),(D=J)*(H=AT$9),""))} | AU40: =IF(AV40<>"",UPPER(LEFT(TEXT(AV40,"jjj"),1)),"") | AW40: {=_xlfn.TEXTJOIN(CHAR(10),,_xlfn._xlws.FILTER(_xlfn.ANCHORARRAY(Tout!$F$2),(D=J)*(H=AW$9),""))} | AX40: {=_xlfn.TEXTJOIN(CHAR(10),,_xlfn._xlws.FILTER(_xlfn.ANCHORARRAY(Tout!$F$2),(D=J)*(H=AX$9),""))} | AY40: {=_xlfn.TEXTJOIN(CHAR(10),,_xlfn._xlws.FILTER(_xlfn.ANCHORARRAY(Tout!$F$2),(D=J)*(H=AY$9),""))} | AZ40: =IF(BA40<>"",UPPER(LEFT(TEXT(BA40,"jjj"),1)),"") -> J | BA40: 45869 | BB40: {=_xlfn.TEXTJOIN(CHAR(10),,_xlfn._xlws.FILTER(_xlfn.ANCHORARRAY(Tout!$F$2),(D=J)*(H=BB$9),""))} | BC40: {=_xlfn.TEXTJOIN(CHAR(10),,_xlfn._xlws.FILTER(_xlfn.ANCHORARRAY(Tout!$F$2),(D=J)*(H=BC$9),""))} | BD40: {=_xlfn.TEXTJOIN(CHAR(10),,_xlfn._xlws.FILTER(_xlfn.ANCHORARRAY(Tout!$F$2),(D=J)*(H=BD$9),""))} | BE40: =IF(BF40<>"",UPPER(LEFT(TEXT(BF40,"jjj"),1)),"") -> D | BF40: 45900 | BG40: {=_xlfn.TEXTJOIN(CHAR(10),,_xlfn._xlws.FILTER(_xlfn.ANCHORARRAY(Tout!$F$2),(D=J)*(H=BG$9),""))} | BH40: {=_xlfn.TEXTJOIN(CHAR(10),,_xlfn._xlws.FILTER(_xlfn.ANCHORARRAY(Tout!$F$2),(D=J)*(H=BH$9),""))} | BI40: {=_xlfn.TEXTJOIN(CHAR(10),,_xlfn._xlws.FILTER(_xlfn.ANCHORARRAY(Tout!$F$2),(D=J)*(H=BI$9),""))}
F43: {=INDEX(_xlfn.ANCHORARRAY(Tout!$D$2),MATCH(F$9&C28&LEFT(F28,SEARCH(CHAR(10),F28)-1),H&D&S,0))="Spectacle"} -> TRUE

Sheet Spectacles
B2: X | C2: Spectacle | D2: CIE / production | E2: Contact | F2: Date | G2: horaire | H2: Durée | I2: Activité | J2: Catégorie/thème | K2: Étiquette | L2: Discipline | M2: Age, à partir de | N2: Logo partenariat | O2: Jauge | P2: Numeroté | Q2: Tarifs | R2: Pass culture | S2: PCE | T2: YEPS | U2: TVA billet | V2: Droits | W2: Taxe
C3: Lancement de saison | F3: 45554 | G3: 0.83333333
C4: Cueillez, cueillez votre jeunesse | F4: 45581 | G4: 0.66666667
C5: Fuega | F5: 45587 | G5: 0.45833333
C6: Planete Corail | F6: 45598 | G6: 0.45833333
C7: Antichambre | F7: 45601 | G7: 0.85416667
C8: Try again | F8: 45996 | G8: 0.85416667
C9: Jasmin | F9: 46001 | G9: 0.85416667
C10: L'ane et la carotte | F10: 45665 | G10: 0.85416667
C11: Et Puis | F11: 45672 | G11: 0.85416667
C12: L'école du risque | F12: 45690 | G12: 0.85416667
C13: Histoire d'escargot… | F13: 45703 | G13: 0.45833333
C14: Scenocentre | F14: 45719 | G14: 0.83333333
... C25: WET | F25: 45770 | G25: 0.79166667
B26: =SUBTOTAL(109,Spectacles[X]) -> 0

Sheet Scolaires
B3: X | C3: Spectacle | D3: Date | E3: horaire
C4: Fuega | D4: 45585 | E4: 0.375
C5: Fuega | D5: 45586 | E5: 0.41666667
C6: Planete Corail | D6: 45597 | E6: 0.375
C7: Et Puis | D7: 45669 | E7: 0.375
C8: Et Puis | D8: 45670 | E8: 0.625
C9: Et Puis | D9: 45671 | E9: 0.41666667
C10: Histoire d'escargot… | D10: 45701 | E10: 0.375
C11: Histoire d'escargot… | D11: 45702 | E11: 0.625
C12: Fuega | D12: 45585 | E12: 0.625
C13: Planete Corail | D13: 45597 | E13: 0.4375
C14: Et Puis | D14: 45671 | E14: 0.66666667
C15: Histoire d'escargot… | D15: 45701 | E15: 0.625
B16: =SUBTOTAL(109,Scolaires[X]) -> 0

Sheet Tout
A1: Spectacle | B1: Date | C1: Heure | D1: Type | E1: Créneau | F1: Afficher
A2: {=_xlfn._xlws.SORT(_xlfn.VSTACK(_xlfn.CHOOSECOLS(Spectacles[],2,5,6),Scolaires[[Spectacle]:[horaire]]),2)} -> Lancement de saison | B2: 45554 | C2: 0.83333333 | D2: {=_xlfn.BYROW(_xlfn.CHOOSECOLS(_xlfn.ANCHORARRAY(A2),1)&_xlfn.CHOOSECOLS(_xlfn.ANCHORARRAY(A2),2)&_xlfn.CHOOSECOLS(_xlfn.ANCHORARRAY(A2),3),_xlfn.LAMBDA(_xlpm.T,IF(ISNUMBER(MATCH(_xlpm.T,L_Spec,0)),"Spectacle","Scolaire")))} -> Spectacle | E2: {=_xlfn.BYROW(_xlfn.CHOOSECOLS(_xlfn.ANCHORARRAY(A2),3),_xlfn.LAMBDA(_xlpm.H,IF(_xlpm.H<14/24,"09h-13h",IF(_xlpm.H<19/24,"14h-18h","19h-00h"))))} -> 19h-00h | F2: {=_xlfn.LET(_xlpm.S,_xlfn.CHOOSECOLS(_xlfn.ANCHORARRAY(A2),1),_xlpm.RL,CHAR(10),_xlpm.H,TEXT(_xlfn.CHOOSECOLS(_xlfn.ANCHORARRAY(A2),3),"hh:mm"),_xlpm.S&_xlpm.RL&_xlpm.H)} -> Lancement de saison 20:00
A3: Cueillez, cueillez votre jeunesse | B3: 45581 | C3: 0.66666667 | D3: Spectacle | E3: 14h-18h | F3: Cueillez, cueillez votre jeunesse 16:00
A4: Fuega | B4: 45585 | C4: 0.375 | D4: Scolaire | E4: 09h-13h | F4: Fuega 09:00
A5: Fuega | B5: 45585 | C5: 0.625 | D5: Scolaire | E5: 14h-18h | F5: Fuega 15:00
A6: Fuega | B6: 45586 | C6: 0.41666667 | D6: Scolaire | E6: 09h-13h | F6: Fuega 10:00
A7: Fuega | B7: 45587 | C7: 0.45833333 | D7: Spectacle | E7: 09h-13h | F7: Fuega 11:00
A8: Planete Corail | B8: 45597 | C8: 0.375 | D8: Scolaire | E8: 09h-13h | F8: Planete Corail 09:00
A9: Planete Corail | B9: 45597 | C9: 0.4375 | D9: Scolaire | E9: 09h-13h | F9: Planete Corail 10:30
A10: Planete Corail | B10: 45598 | C10: 0.45833333 | D10: Spectacle | E10: 09h-13h | F10: Planete Corail 11:00
A11: Antichambre | B11: 45601 | C11: 0.85416667 | D11: Spectacle | E11: 19h-00h | F11: Antichambre 20:30
A12: L'ane et la carotte | B12: 45665 | C12: 0.85416667 | D12: Spectacle | E12: 19h-00h | F12: L'ane et la carotte 20:30
A13: Et Puis | B13: 45669 | C13: 0.375 | D13: Scolaire | E13: 09h-13h | F13: Et Puis 09:00
A14: Et Puis | B14: 45670 | C14: 0.625 | D14: Scolaire | E14: 14h-18h | F14: Et Puis 15:00
... A36: Jasmin | B36: 46001 | C36: 0.85416667 | D36: Spectacle | E36: 19h-00h | F36: Jasmin 20:30

Sheet Résidences
C2: Spectacle | D2: CIE / production | E2: Contact | F2: Date | G2: Horaire | H2: Durée | I2: Activité | J2: Catégorie/thème | K2: Étiquette | L2: Discipline | M2: Age, à partir de | N2: Logo partenariat | O2: Jauge | P2: YEPS | Q2: Pass culture | R2: Droits | S2: Taxe
C3: Grabuges et chaloupé | F3: 23 au 27/09/2024 | G3: 19h le 26/09/2024
C4: Comme il vous plaira | F4: 11 au 16/11/2024 | G4: 19h le 15/11/2024
C5: Lalilo | F5: 11 au 18/12/2024 | G5: 19h le 17/12/2024
C6: Rue Calme | F6: 20 au 25/02/2025 | G6: 19h le 24/02/2025
C7: Manger un phoque | F7: 25 au 29/03/2025 | G7: 19h le 28/03/2025
B8: =SUM(B3:B7) -> 0

Sheet Vacances et Fermeture
B3: Année | C3: Date | E3: Événements | F3: Date
B4: 2024 | C4: 45383 | E4: Jour de l'an | F4: =DATE(ANNEE,1,1) -> 45292
B5: 2025 | C5: 45768 | E5: Lundi de Pâques | F5: =INDEX(Tableau_paques[Date],MATCH(ANNEES,Tableau_paques[Année],0),1) -> 45768
B6: 2026 | C6: 46118 | E6: Fête du travail | F6: =DATE(ANNEES,5,1) -> 45778
B7: 2027 | C7: 46475 | E7: Victoire 1945 | F7: =DATE(ANNEES,5,8) -> 45785
B8: 2028 | C8: 46860 | E8: Jeudi de l'ascension | F8: =F5+38 -> 45806
B9: 2029 | C9: 47210 | E9: Lundi de Pentecôte | F9: =F5+49 -> 45817
B10: 2030 | C10: 47595 | E10: Fête Nationale | F10: =DATE(ANNEE,7,14) -> 45487
B11: 2031 | C11: 47952 | E11: Assomption | F11: =DATE(ANNEES,8,15) -> 45884
B12: 2032 | C12: 48333 | E12: Toussaint | F12: =DATE(ANNEE,11,1) -> 45597
B13: 2033 | C13: 48686 | E13: Armistice 1918 | F13: =DATE(ANNEE,11,11) -> 45607
B14: 2034 | C14: 49043 | E14: Jour de Noël | F14: =DATE(ANNEE,12,25) -> 45651
B17: Vacances | C17: Date | E17: Fermeture | F17: Date
B18: Vacances été 2025 | C18: 45900 | F18: 45411
B19: Vacances toussaint 2025 | C19: 45948 | F19: 45412
C20: 45949 | F20: 45413
C21: 45950 | F21: 45414
C22: 45951 | F22: 45415
C23: 45952 | F23: 45416
C24: 45953 | F24: 45420
C25: 45954 | F25: 45421
C26: 45955 | F26: 45422
C27: 45956 | F27: 45423
C28: 45957 | F28: 45424
C29: 45958
C30: 45959
C31: 45960
C32: 45961
C33: 45962
C34: 45963
B35: Vacances noël 2025 | C35: 46011
C36: 46012
C37: 46013
C38: 46014
C39: 46015
C40: 46016
C41: 46017
C42: 46018
C43: 46019
C44: 46020
C45: 46021
C46: 46022
C47: 46023
... C50: 46026
B51: Vacances hiver 2026 | C51: 46067
C52: 46068
C53: 46069
C54: 46070
C55: 46071
C56: 46072
C57: 46073
C58: 46074
C59: 46075
C60: 46076
C61: 46077
C62: 46078
C63: 46079
... C66: 46082
B67: Vacances printemps 2026 | C67: 46123
C68: 46124
C69: 46125
C70: 46126
C71: 46127
C72: 46128
C73: 46129
C74: 46130
C75: 46131
C76: 46132
C77: 46133
C78: 46134
C79: 46135
... C82: 46138
B83: Vacances été 2026 | C83: 46207
C84: 46208
C85: 46209
C86: 46210
C87: 46211
C88: 46212
C89: 46213
C90: 46214
C91: 46215
C92: 46216
C93: 46217
C94: 46218
C95: 46219
... C141: 46265
