Workbook

Sheet Feuil1
A1: Activité 2: organisation et transformation des viandes Compétences opérationnelles | F1: POSITIONNEMENT | K1: Objectifs des compètences opérationnelles
F3: NA | G3: ED | H3: AC | I3: EX | J3: NOTE
A4: C2.1 | G4: X | J4: =MATCH("X",Feuil1!$F4:$I4,0)-1 -> 1 | K4: Planifier l’ordre des opérations, choisir l’outillage,le matériel, mettre en place le poste de travail et la matière 1ère dans le respect des règles d’hygiène et de sécurité
A5: C2.2 | F5: X | J5: =MATCH("X",Feuil1!$F5:$I5,0)-1 -> 0 | K5: Entretenir et mettre en état les couteaux et autres outils
A6: C2.4 | I6: X | J6: =MATCH("X",Feuil1!$F6:$I6,0)-1 -> 3 | K6: Effectuer les coupes avec l’outillage adapté
B7: AGNEAU | C7: VEAU | D7: PORC | E7: BŒUF | F7: NA | G7: ED | H7: AC | I7: EX | J7: NOTE | K7: Objectifs des compètences opérationnelles
A8: C2.3 | G8: X | J8: =MATCH("X",Feuil1!$F8:$I8,0)-1 -> 1 | K8: Identifier les repères anatomiques
I9: X | J9: =MATCH("X",Feuil1!$F9:$I9,0)-1 -> 3
H10: X | J10: =MATCH("X",Feuil1!$F10:$I10,0)-1 -> 2
I11: X | J11: =MATCH("X",Feuil1!$F11:$I11,0)-1 -> 3
A12: C2.5 | G12: X | J12: =MATCH("X",Feuil1!$F12:$I12,0)-1 -> 1 | K12: Désosser des morceaux de coupe
I13: X | J13: =MATCH("X",Feuil1!$F13:$I13,0)-1 -> 3
H14: X | J14: =MATCH("X",Feuil1!$F14:$I14,0)-1 -> 2
I15: X | J15: =MATCH("X",Feuil1!$F15:$I15,0)-1 -> 3
A16: C2.6 | G16: X | J16: =MATCH("X",Feuil1!$F16:$I16,0)-1 -> 1 | K16: Séparer les morceaux
I17: X | J17: =MATCH("X",Feuil1!$F17:$I17,0)-1 -> 3
A18: C2.7 | H18: X | J18: =MATCH("X",Feuil1!$F18:$I18,0)-1 -> 2 | K18: Parer les pièces de viande ou les abats selon leur destination culinaire
G19: X | J19: =MATCH("X",Feuil1!$F19:$I19,0)-1 -> 1
G20: X | J20: =MATCH("X",Feuil1!$F20:$I20,0)-1 -> 1
H21: X | J21: =MATCH("X",Feuil1!$F21:$I21,0)-1 -> 2
A22: C2.8 | F22: X | J22: =MATCH("X",Feuil1!$F22:$I22,0)-1 -> 0 | K22: Accrocher les pièces de viande en respectant les consignes
A23: C2.10 | G23: X | J23: =MATCH("X",Feuil1!$F23:$I23,0)-1 -> 1 | K23: Éplucher une viande dans le respect de la matière
A24: C2.11 | G24: X | J24: =MATCH("X",Feuil1!$F24:$I24,0)-1 -> 1 | K24: Mettre en forme les pièces de viande
I25: X | J25: =MATCH("X",Feuil1!$F25:$I25,0)-1 -> 3
G26: X | J26: =MATCH("X",Feuil1!$F26:$I26,0)-1 -> 1
H27: X | J27: =MATCH("X",Feuil1!$F27:$I27,0)-1 -> 2
A28: C2.12 | G28: X | J28: =MATCH("X",Feuil1!$F28:$I28,0)-1 -> 1 | K28: Barder
G29: X | J29: =MATCH("X",Feuil1!$F29:$I29,0)-1 -> 1
I30: X | J30: =MATCH("X",Feuil1!$F30:$I30,0)-1 -> 3
G31: X | J31: =MATCH("X",Feuil1!$F31:$I31,0)-1 -> 1
A32: C2.13 | F32: X | J32: =MATCH("X",Feuil1!$F32:$I32,0)-1 -> 0 | K32: Ficeler
G33: X | J33: =MATCH("X",Feuil1!$F33:$I33,0)-1 -> 1
I34: X | J34: =MATCH("X",Feuil1!$F34:$I34,0)-1 -> 3
G35: X | J35: =MATCH("X",Feuil1!$F35:$I35,0)-1 -> 1
A36: Nombre de positionnement par colonne et note finale calculée | F36: =COUNTIF(F4:F35,"X") -> 3 | G36: =COUNTIF(G4:G35,"X") -> 14 | H36: =COUNTIF(H4:H35,"X") -> 5 | I36: =COUNTIF(I4:I35,"X") -> 9 | J36: =SUM(J4:J35) -> 51
