Workbook
Name AGENCE: Tableau5[[#All],[AGENCE]]
Name Cible: INDIRECT("_"&INDICAT_PERF!$C$8)
Name Cible_An: INDIRECT("_"&INDICAT_PERF!$C$8&"[Année]")
Name Cible_Mois: INDIRECT("_"&INDICAT_PERF!$C$8&"[Mois]")
Name CONTRAT: DONNEES!$E$3:$E$9
Name Motif_Contact: DONNEES!$A$3:$A$5
Name RECLAMATION: DONNEES!$C$3:$C$16
Name Type_Contact: DONNEES!$A$9:$A$12

Sheet SERVIAN
E2: TABLEAU DE SUIVI DES COURRIERS CLIENTS
A5: Secteur/ Site: | E5: SERVIAN
A8: N° ORDRE | B8: DATE RECEPTION | C8: mois | D8: année | E8: TYPE CONTACT | F8: NOM DU DEMANDEUR | G8: N° CLIENT | H8: REFERENCE | I8: MOTIF | J8: PRECISION | K8: OBJET | L8: CODE AGENT | M8: REFERENCE REPONSE | N8: Courrier attente | O8: Date Courrier Attente | P8: Date courrier "définitif" | Q8: délai courrier | R8: réponse >8jours
A9: 1 | B9: 45576 | C9: =MONTH(_SERVIAN[[#This Row],[DATE RECEPTION]]) -> 10 | D9: =YEAR(_SERVIAN[[#This Row],[DATE RECEPTION]]) -> 2024 | E9: X7 | H9: 45576 | I9: RECLAMATION | J9: Problème suite à changement de compteur | Q9: =IF(AND(_SERVIAN[[#This Row],[Date courrier "définitif"]]-_SERVIAN[[#This Row],[REFERENCE]]>-1,_SERVIAN[[#This Row],[REFERENCE]]<>""),_SERVIAN[[#This Row],[Date courrier "définitif"]]-_SERVIAN[[#This Row],[REFERENCE]],"") | R9: =IF(AND(_SERVIAN[[#This Row],[délai courrier]]>8,_SERVIAN[[#This Row],[délai courrier]]<>""),"OUI","")
A10: 1 | B10: 45577 | C10: =MONTH(_SERVIAN[[#This Row],[DATE RECEPTION]]) -> 10 | D10: =YEAR(_SERVIAN[[#This Row],[DATE RECEPTION]]) -> 2024 | E10: X8 | H10: 45577 | I10: CONTRAT | J10: Transfert | Q10: =IF(AND(_SERVIAN[[#This Row],[Date courrier "définitif"]]-_SERVIAN[[#This Row],[REFERENCE]]>-1,_SERVIAN[[#This Row],[REFERENCE]]<>""),_SERVIAN[[#This Row],[Date courrier "définitif"]]-_SERVIAN[[#This Row],[REFERENCE]],"") | R10: =IF(AND(_SERVIAN[[#This Row],[délai courrier]]>8,_SERVIAN[[#This Row],[délai courrier]]<>""),"OUI","")
A11: 1 | B11: 45578 | C11: =MONTH(_SERVIAN[[#This Row],[DATE RECEPTION]]) -> 10 | D11: =YEAR(_SERVIAN[[#This Row],[DATE RECEPTION]]) -> 2024 | E11: X9 | H11: 45578 | I11: CONTRAT | J11: Transfert | Q11: =IF(AND(_SERVIAN[[#This Row],[Date courrier "définitif"]]-_SERVIAN[[#This Row],[REFERENCE]]>-1,_SERVIAN[[#This Row],[REFERENCE]]<>""),_SERVIAN[[#This Row],[Date courrier "définitif"]]-_SERVIAN[[#This Row],[REFERENCE]],"") | R11: =IF(AND(_SERVIAN[[#This Row],[délai courrier]]>8,_SERVIAN[[#This Row],[délai courrier]]<>""),"OUI","")
A12: 1 | B12: 45579 | C12: =MONTH(_SERVIAN[[#This Row],[DATE RECEPTION]]) -> 10 | D12: =YEAR(_SERVIAN[[#This Row],[DATE RECEPTION]]) -> 2024 | E12: X10 | H12: 45579 | I12: CONTRAT | J12: Transfert | Q12: =IF(AND(_SERVIAN[[#This Row],[Date courrier "définitif"]]-_SERVIAN[[#This Row],[REFERENCE]]>-1,_SERVIAN[[#This Row],[REFERENCE]]<>""),_SERVIAN[[#This Row],[Date courrier "définitif"]]-_SERVIAN[[#This Row],[REFERENCE]],"") | R12: =IF(AND(_SERVIAN[[#This Row],[délai courrier]]>8,_SERVIAN[[#This Row],[délai courrier]]<>""),"OUI","")
A13: 1 | B13: 45580 | C13: =MONTH(_SERVIAN[[#This Row],[DATE RECEPTION]]) -> 10 | D13: =YEAR(_SERVIAN[[#This Row],[DATE RECEPTION]]) -> 2024 | E13: X11 | H13: 45580 | I13: CONTRAT | J13: Transfert | Q13: =IF(AND(_SERVIAN[[#This Row],[Date courrier "définitif"]]-_SERVIAN[[#This Row],[REFERENCE]]>-1,_SERVIAN[[#This Row],[REFERENCE]]<>""),_SERVIAN[[#This Row],[Date courrier "définitif"]]-_SERVIAN[[#This Row],[REFERENCE]],"") | R13: =IF(AND(_SERVIAN[[#This Row],[délai courrier]]>8,_SERVIAN[[#This Row],[délai courrier]]<>""),"OUI","")
A14: 1 | B14: 45581 | C14: =MONTH(_SERVIAN[[#This Row],[DATE RECEPTION]]) -> 10 | D14: =YEAR(_SERVIAN[[#This Row],[DATE RECEPTION]]) -> 2024 | E14: X12 | H14: 45581 | I14: CONTRAT | J14: Transfert | Q14: =IF(AND(_SERVIAN[[#This Row],[Date courrier "définitif"]]-_SERVIAN[[#This Row],[REFERENCE]]>-1,_SERVIAN[[#This Row],[REFERENCE]]<>""),_SERVIAN[[#This Row],[Date courrier "définitif"]]-_SERVIAN[[#This Row],[REFERENCE]],"") | R14: =IF(AND(_SERVIAN[[#This Row],[délai courrier]]>8,_SERVIAN[[#This Row],[délai courrier]]<>""),"OUI","")
A15: 1 | B15: 45582 | C15: =MONTH(_SERVIAN[[#This Row],[DATE RECEPTION]]) -> 10 | D15: =YEAR(_SERVIAN[[#This Row],[DATE RECEPTION]]) -> 2024 | E15: X13 | H15: 45582 | I15: CONTRAT | J15: Transfert | Q15: =IF(AND(_SERVIAN[[#This Row],[Date courrier "définitif"]]-_SERVIAN[[#This Row],[REFERENCE]]>-1,_SERVIAN[[#This Row],[REFERENCE]]<>""),_SERVIAN[[#This Row],[Date courrier "définitif"]]-_SERVIAN[[#This Row],[REFERENCE]],"") | R15: =IF(AND(_SERVIAN[[#This Row],[délai courrier]]>8,_SERVIAN[[#This Row],[délai courrier]]<>""),"OUI","")
A16: 1 | B16: 45583 | C16: =MONTH(_SERVIAN[[#This Row],[DATE RECEPTION]]) -> 10 | D16: =YEAR(_SERVIAN[[#This Row],[DATE RECEPTION]]) -> 2024 | E16: X14 | H16: 45583 | I16: CONTRAT | J16: Transfert | Q16: =IF(AND(_SERVIAN[[#This Row],[Date courrier "définitif"]]-_SERVIAN[[#This Row],[REFERENCE]]>-1,_SERVIAN[[#This Row],[REFERENCE]]<>""),_SERVIAN[[#This Row],[Date courrier "définitif"]]-_SERVIAN[[#This Row],[REFERENCE]],"") | R16: =IF(AND(_SERVIAN[[#This Row],[délai courrier]]>8,_SERVIAN[[#This Row],[délai courrier]]<>""),"OUI","")

Sheet MAUGUIO
E2: TABLEAU DE SUIVI DES COURRIERS CLIENTS
A5: Secteur/ Site: | E5: MAUGUIO
A8: N° ORDRE | B8: DATE RECEPTION | C8: mois | D8: année | E8: TYPE CONTACT | F8: NOM DU DEMANDEUR | G8: N° CLIENT | H8: REFERENCE | I8: MOTIF | J8: PRECISION | K8: OBJET | L8: CODE AGENT | M8: REFERENCE REPONSE | N8: Courrier attente | O8: Date Courrier Attente | P8: Date courrier "définitif" | Q8: délai courrier | R8: réponse >8jours
A9: 1 | B9: 45576 | C9: =IF(_MAUGUIO[[#This Row],[DATE RECEPTION]]<>"",MONTH(_MAUGUIO[[#This Row],[DATE RECEPTION]]),"") -> 10 | D9: =IF(_MAUGUIO[[#This Row],[DATE RECEPTION]]<>"",YEAR(_MAUGUIO[[#This Row],[DATE RECEPTION]]),"") -> 2024 | E9: X7 | H9: 45576 | I9: RECLAMATION | J9: Problème suite à changement de compteur | P9: 45580 | Q9: =IF(AND(_MAUGUIO[[#This Row],[Date courrier "définitif"]]-_MAUGUIO[[#This Row],[REFERENCE]]>-1,_MAUGUIO[[#This Row],[REFERENCE]]<>""),_MAUGUIO[[#This Row],[Date courrier "définitif"]]-_MAUGUIO[[#This Row],[REFERENCE]],"") -> 4 | R9: =IF(AND(_MAUGUIO[[#This Row],[délai courrier]]>8,_MAUGUIO[[#This Row],[délai courrier]]<>""),"OUI","")
A10: 1 | B10: 45577 | C10: =IF(_MAUGUIO[[#This Row],[DATE RECEPTION]]<>"",MONTH(_MAUGUIO[[#This Row],[DATE RECEPTION]]),"") -> 10 | D10: =IF(_MAUGUIO[[#This Row],[DATE RECEPTION]]<>"",YEAR(_MAUGUIO[[#This Row],[DATE RECEPTION]]),"") -> 2024 | E10: X8 | H10: 45577 | I10: RECLAMATION | J10: Fuite sur réseau ou branchement | P10: 45581 | Q10: =IF(AND(_MAUGUIO[[#This Row],[Date courrier "définitif"]]-_MAUGUIO[[#This Row],[REFERENCE]]>-1,_MAUGUIO[[#This Row],[REFERENCE]]<>""),_MAUGUIO[[#This Row],[Date courrier "définitif"]]-_MAUGUIO[[#This Row],[REFERENCE]],"") -> 4 | R10: =IF(AND(_MAUGUIO[[#This Row],[délai courrier]]>8,_MAUGUIO[[#This Row],[délai courrier]]<>""),"OUI","")
A11: 1 | B11: 45578 | C11: =IF(_MAUGUIO[[#This Row],[DATE RECEPTION]]<>"",MONTH(_MAUGUIO[[#This Row],[DATE RECEPTION]]),"") -> 10 | D11: =IF(_MAUGUIO[[#This Row],[DATE RECEPTION]]<>"",YEAR(_MAUGUIO[[#This Row],[DATE RECEPTION]]),"") -> 2024 | E11: X9 | H11: 45578 | I11: CONTRAT | J11: Transfert | P11: 45582 | Q11: =IF(AND(_MAUGUIO[[#This Row],[Date courrier "définitif"]]-_MAUGUIO[[#This Row],[REFERENCE]]>-1,_MAUGUIO[[#This Row],[REFERENCE]]<>""),_MAUGUIO[[#This Row],[Date courrier "définitif"]]-_MAUGUIO[[#This Row],[REFERENCE]],"") -> 4 | R11: =IF(AND(_MAUGUIO[[#This Row],[délai courrier]]>8,_MAUGUIO[[#This Row],[délai courrier]]<>""),"OUI","")
A12: 1 | B12: 45579 | C12: =IF(_MAUGUIO[[#This Row],[DATE RECEPTION]]<>"",MONTH(_MAUGUIO[[#This Row],[DATE RECEPTION]]),"") -> 10 | D12: =IF(_MAUGUIO[[#This Row],[DATE RECEPTION]]<>"",YEAR(_MAUGUIO[[#This Row],[DATE RECEPTION]]),"") -> 2024 | E12: X10 | H12: 45579 | I12: CONTRAT | J12: Transfert | P12: 45583 | Q12: =IF(AND(_MAUGUIO[[#This Row],[Date courrier "définitif"]]-_MAUGUIO[[#This Row],[REFERENCE]]>-1,_MAUGUIO[[#This Row],[REFERENCE]]<>""),_MAUGUIO[[#This Row],[Date courrier "définitif"]]-_MAUGUIO[[#This Row],[REFERENCE]],"") -> 4 | R12: =IF(AND(_MAUGUIO[[#This Row],[délai courrier]]>8,_MAUGUIO[[#This Row],[délai courrier]]<>""),"OUI","")
A13: 1 | B13: 45580 | C13: =IF(_MAUGUIO[[#This Row],[DATE RECEPTION]]<>"",MONTH(_MAUGUIO[[#This Row],[DATE RECEPTION]]),"") -> 10 | D13: =IF(_MAUGUIO[[#This Row],[DATE RECEPTION]]<>"",YEAR(_MAUGUIO[[#This Row],[DATE RECEPTION]]),"") -> 2024 | E13: X11 | H13: 45580 | I13: CONTRAT | J13: Transfert | P13: 45584 | Q13: =IF(AND(_MAUGUIO[[#This Row],[Date courrier "définitif"]]-_MAUGUIO[[#This Row],[REFERENCE]]>-1,_MAUGUIO[[#This Row],[REFERENCE]]<>""),_MAUGUIO[[#This Row],[Date courrier "définitif"]]-_MAUGUIO[[#This Row],[REFERENCE]],"") -> 4 | R13: =IF(AND(_MAUGUIO[[#This Row],[délai courrier]]>8,_MAUGUIO[[#This Row],[délai courrier]]<>""),"OUI","")
A14: 1 | B14: 45581 | C14: =IF(_MAUGUIO[[#This Row],[DATE RECEPTION]]<>"",MONTH(_MAUGUIO[[#This Row],[DATE RECEPTION]]),"") -> 10 | D14: =IF(_MAUGUIO[[#This Row],[DATE RECEPTION]]<>"",YEAR(_MAUGUIO[[#This Row],[DATE RECEPTION]]),"") -> 2024 | E14: X12 | H14: 45581 | I14: CONTRAT | J14: Transfert | P14: 45585 | Q14: =IF(AND(_MAUGUIO[[#This Row],[Date courrier "définitif"]]-_MAUGUIO[[#This Row],[REFERENCE]]>-1,_MAUGUIO[[#This Row],[REFERENCE]]<>""),_MAUGUIO[[#This Row],[Date courrier "définitif"]]-_MAUGUIO[[#This Row],[REFERENCE]],"") -> 4 | R14: =IF(AND(_MAUGUIO[[#This Row],[délai courrier]]>8,_MAUGUIO[[#This Row],[délai courrier]]<>""),"OUI","")
A15: 1 | B15: 45582 | C15: =IF(_MAUGUIO[[#This Row],[DATE RECEPTION]]<>"",MONTH(_MAUGUIO[[#This Row],[DATE RECEPTION]]),"") -> 10 | D15: =IF(_MAUGUIO[[#This Row],[DATE RECEPTION]]<>"",YEAR(_MAUGUIO[[#This Row],[DATE RECEPTION]]),"") -> 2024 | E15: X13 | H15: 45582 | I15: CONTRAT | J15: Transfert | P15: 45586 | Q15: =IF(AND(_MAUGUIO[[#This Row],[Date courrier "définitif"]]-_MAUGUIO[[#This Row],[REFERENCE]]>-1,_MAUGUIO[[#This Row],[REFERENCE]]<>""),_MAUGUIO[[#This Row],[Date courrier "définitif"]]-_MAUGUIO[[#This Row],[REFERENCE]],"") -> 4 | R15: =IF(AND(_MAUGUIO[[#This Row],[délai courrier]]>8,_MAUGUIO[[#This Row],[délai courrier]]<>""),"OUI","")
A16: 1 | B16: 45583 | C16: =IF(_MAUGUIO[[#This Row],[DATE RECEPTION]]<>"",MONTH(_MAUGUIO[[#This Row],[DATE RECEPTION]]),"") -> 10 | D16: =IF(_MAUGUIO[[#This Row],[DATE RECEPTION]]<>"",YEAR(_MAUGUIO[[#This Row],[DATE RECEPTION]]),"") -> 2024 | E16: X14 | H16: 45583 | I16: CONTRAT | J16: Transfert | P16: 45595 | Q16: =IF(AND(_MAUGUIO[[#This Row],[Date courrier "définitif"]]-_MAUGUIO[[#This Row],[REFERENCE]]>-1,_MAUGUIO[[#This Row],[REFERENCE]]<>""),_MAUGUIO[[#This Row],[Date courrier "définitif"]]-_MAUGUIO[[#This Row],[REFERENCE]],"") -> 12 | R16: =IF(AND(_MAUGUIO[[#This Row],[délai courrier]]>8,_MAUGUIO[[#This Row],[délai courrier]]<>""),"OUI","") -> OUI

Sheet GRUISSAN
E2: TABLEAU DE SUIVI DES COURRIERS CLIENTS
A5: Secteur/ Site: | E5: GRUISSAN
A8: N° ORDRE | B8: DATE RECEPTION | C8: mois | D8: année | E8: TYPE CONTACT | F8: NOM DU DEMANDEUR | G8: N° CLIENT | H8: REFERENCE | I8: MOTIF | J8: PRECISION | K8: OBJET | L8: CODE AGENT | M8: REFERENCE REPONSE | N8: Courrier attente | O8: Date Courrier Attente | P8: Date courrier "définitif" | Q8: délai courrier | R8: réponse >8jours
A9: 1 | B9: 45576 | C9: =IF(_GRUISSAN[[#This Row],[DATE RECEPTION]]<>"",MONTH(_GRUISSAN[[#This Row],[DATE RECEPTION]]),"") -> 10 | D9: =IF(_GRUISSAN[[#This Row],[DATE RECEPTION]]<>"",YEAR(_GRUISSAN[[#This Row],[DATE RECEPTION]]),"") -> 2024 | E9: X7 | H9: 45576 | I9: RECLAMATION | J9: Problème suite à changement de compteur | Q9: =IF(AND(_GRUISSAN[[#This Row],[Date courrier "définitif"]]-_GRUISSAN[[#This Row],[REFERENCE]]>-1,_GRUISSAN[[#This Row],[REFERENCE]]<>""),_GRUISSAN[[#This Row],[Date courrier "définitif"]]-_GRUISSAN[[#This Row],[REFERENCE]],"") | R9: =IF(AND(_GRUISSAN[[#This Row],[délai courrier]]>8,_GRUISSAN[[#This Row],[délai courrier]]<>""),"OUI","")
A10: 1 | B10: 45577 | C10: =IF(_GRUISSAN[[#This Row],[DATE RECEPTION]]<>"",MONTH(_GRUISSAN[[#This Row],[DATE RECEPTION]]),"") -> 10 | D10: =IF(_GRUISSAN[[#This Row],[DATE RECEPTION]]<>"",YEAR(_GRUISSAN[[#This Row],[DATE RECEPTION]]),"") -> 2024 | E10: X8 | H10: 45577 | I10: RECLAMATION | J10: Fuite sur réseau ou branchement | Q10: =IF(AND(_GRUISSAN[[#This Row],[Date courrier "définitif"]]-_GRUISSAN[[#This Row],[REFERENCE]]>-1,_GRUISSAN[[#This Row],[REFERENCE]]<>""),_GRUISSAN[[#This Row],[Date courrier "définitif"]]-_GRUISSAN[[#This Row],[REFERENCE]],"") | R10: =IF(AND(_GRUISSAN[[#This Row],[délai courrier]]>8,_GRUISSAN[[#This Row],[délai courrier]]<>""),"OUI","")
A11: 1 | B11: 45578 | C11: =IF(_GRUISSAN[[#This Row],[DATE RECEPTION]]<>"",MONTH(_GRUISSAN[[#This Row],[DATE RECEPTION]]),"") -> 10 | D11: =IF(_GRUISSAN[[#This Row],[DATE RECEPTION]]<>"",YEAR(_GRUISSAN[[#This Row],[DATE RECEPTION]]),"") -> 2024 | E11: X9 | H11: 45578 | I11: RECLAMATION | J11: Manque débit/pression | Q11: =IF(AND(_GRUISSAN[[#This Row],[Date courrier "définitif"]]-_GRUISSAN[[#This Row],[REFERENCE]]>-1,_GRUISSAN[[#This Row],[REFERENCE]]<>""),_GRUISSAN[[#This Row],[Date courrier "définitif"]]-_GRUISSAN[[#This Row],[REFERENCE]],"") | R11: =IF(AND(_GRUISSAN[[#This Row],[délai courrier]]>8,_GRUISSAN[[#This Row],[délai courrier]]<>""),"OUI","")
A12: 1 | B12: 45579 | C12: =IF(_GRUISSAN[[#This Row],[DATE RECEPTION]]<>"",MONTH(_GRUISSAN[[#This Row],[DATE RECEPTION]]),"") -> 10 | D12: =IF(_GRUISSAN[[#This Row],[DATE RECEPTION]]<>"",YEAR(_GRUISSAN[[#This Row],[DATE RECEPTION]]),"") -> 2024 | E12: X10 | H12: 45579 | I12: RECLAMATION | J12: Qualité d’eau | Q12: =IF(AND(_GRUISSAN[[#This Row],[Date courrier "définitif"]]-_GRUISSAN[[#This Row],[REFERENCE]]>-1,_GRUISSAN[[#This Row],[REFERENCE]]<>""),_GRUISSAN[[#This Row],[Date courrier "définitif"]]-_GRUISSAN[[#This Row],[REFERENCE]],"") | R12: =IF(AND(_GRUISSAN[[#This Row],[délai courrier]]>8,_GRUISSAN[[#This Row],[délai courrier]]<>""),"OUI","")
A13: 1 | B13: 45580 | C13: =IF(_GRUISSAN[[#This Row],[DATE RECEPTION]]<>"",MONTH(_GRUISSAN[[#This Row],[DATE RECEPTION]]),"") -> 10 | D13: =IF(_GRUISSAN[[#This Row],[DATE RECEPTION]]<>"",YEAR(_GRUISSAN[[#This Row],[DATE RECEPTION]]),"") -> 2024 | E13: X11 | H13: 45580 | I13: RECLAMATION | J13: Problème suite à changement de compteur | Q13: =IF(AND(_GRUISSAN[[#This Row],[Date courrier "définitif"]]-_GRUISSAN[[#This Row],[REFERENCE]]>-1,_GRUISSAN[[#This Row],[REFERENCE]]<>""),_GRUISSAN[[#This Row],[Date courrier "définitif"]]-_GRUISSAN[[#This Row],[REFERENCE]],"") | R13: =IF(AND(_GRUISSAN[[#This Row],[délai courrier]]>8,_GRUISSAN[[#This Row],[délai courrier]]<>""),"OUI","")
A14: 1 | B14: 45581 | C14: =IF(_GRUISSAN[[#This Row],[DATE RECEPTION]]<>"",MONTH(_GRUISSAN[[#This Row],[DATE RECEPTION]]),"") -> 10 | D14: =IF(_GRUISSAN[[#This Row],[DATE RECEPTION]]<>"",YEAR(_GRUISSAN[[#This Row],[DATE RECEPTION]]),"") -> 2024 | E14: X12 | H14: 45581 | I14: RECLAMATION | J14: Problème suite à changement de compteur | Q14: =IF(AND(_GRUISSAN[[#This Row],[Date courrier "définitif"]]-_GRUISSAN[[#This Row],[REFERENCE]]>-1,_GRUISSAN[[#This Row],[REFERENCE]]<>""),_GRUISSAN[[#This Row],[Date courrier "définitif"]]-_GRUISSAN[[#This Row],[REFERENCE]],"") | R14: =IF(AND(_GRUISSAN[[#This Row],[délai courrier]]>8,_GRUISSAN[[#This Row],[délai courrier]]<>""),"OUI","")
A15: 1 | B15: 45582 | C15: =IF(_GRUISSAN[[#This Row],[DATE RECEPTION]]<>"",MONTH(_GRUISSAN[[#This Row],[DATE RECEPTION]]),"") -> 10 | D15: =IF(_GRUISSAN[[#This Row],[DATE RECEPTION]]<>"",YEAR(_GRUISSAN[[#This Row],[DATE RECEPTION]]),"") -> 2024 | E15: X13 | H15: 45582 | I15: RECLAMATION | J15: Qualité d’eau | Q15: =IF(AND(_GRUISSAN[[#This Row],[Date courrier "définitif"]]-_GRUISSAN[[#This Row],[REFERENCE]]>-1,_GRUISSAN[[#This Row],[REFERENCE]]<>""),_GRUISSAN[[#This Row],[Date courrier "définitif"]]-_GRUISSAN[[#This Row],[REFERENCE]],"") | R15: =IF(AND(_GRUISSAN[[#This Row],[délai courrier]]>8,_GRUISSAN[[#This Row],[délai courrier]]<>""),"OUI","")
A16: 1 | B16: 45583 | C16: =IF(_GRUISSAN[[#This Row],[DATE RECEPTION]]<>"",MONTH(_GRUISSAN[[#This Row],[DATE RECEPTION]]),"") -> 10 | D16: =IF(_GRUISSAN[[#This Row],[DATE RECEPTION]]<>"",YEAR(_GRUISSAN[[#This Row],[DATE RECEPTION]]),"") -> 2024 | E16: X14 | H16: 45583 | I16: RECLAMATION | J16: Facturation | Q16: =IF(AND(_GRUISSAN[[#This Row],[Date courrier "définitif"]]-_GRUISSAN[[#This Row],[REFERENCE]]>-1,_GRUISSAN[[#This Row],[REFERENCE]]<>""),_GRUISSAN[[#This Row],[Date courrier "définitif"]]-_GRUISSAN[[#This Row],[REFERENCE]],"") | R16: =IF(AND(_GRUISSAN[[#This Row],[délai courrier]]>8,_GRUISSAN[[#This Row],[délai courrier]]<>""),"OUI","")

Sheet GARONS
E2: TABLEAU DE SUIVI DES COURRIERS CLIENTS
A5: Secteur/ Site: | E5: GARONS
A8: N° ORDRE | B8: DATE RECEPTION | C8: mois | D8: année | E8: TYPE CONTACT | F8: NOM DU DEMANDEUR | G8: N° CLIENT | H8: REFERENCE | I8: MOTIF | J8: PRECISION | K8: OBJET | L8: CODE AGENT | M8: REFERENCE REPONSE | N8: Courrier attente | O8: Date Courrier Attente | P8: Date courrier "définitif" | Q8: délai courrier | R8: réponse >8jours
A9: 1 | B9: 45576 | C9: =IF(_GARONS[[#This Row],[DATE RECEPTION]]<>"",MONTH(_GARONS[[#This Row],[DATE RECEPTION]]),"") -> 10 | D9: =IF(_GARONS[[#This Row],[DATE RECEPTION]]<>"",YEAR(_GARONS[[#This Row],[DATE RECEPTION]]),"") -> 2024 | E9: X7 | H9: 45576 | I9: RECLAMATION | J9: Problème suite à changement de compteur | Q9: =IF(AND(_GARONS[[#This Row],[Date courrier "définitif"]]-_GARONS[[#This Row],[REFERENCE]]>-1,_GARONS[[#This Row],[REFERENCE]]<>""),_GARONS[[#This Row],[Date courrier "définitif"]]-_GARONS[[#This Row],[REFERENCE]],"") | R9: =IF(AND(_GARONS[[#This Row],[délai courrier]]>8,_GARONS[[#This Row],[délai courrier]]<>""),"OUI","")
A10: 1 | B10: 45577 | C10: =IF(_GARONS[[#This Row],[DATE RECEPTION]]<>"",MONTH(_GARONS[[#This Row],[DATE RECEPTION]]),"") -> 10 | D10: =IF(_GARONS[[#This Row],[DATE RECEPTION]]<>"",YEAR(_GARONS[[#This Row],[DATE RECEPTION]]),"") -> 2024 | E10: X8 | H10: 45577 | I10: RECLAMATION | J10: Fuite sur réseau ou branchement | Q10: =IF(AND(_GARONS[[#This Row],[Date courrier "définitif"]]-_GARONS[[#This Row],[REFERENCE]]>-1,_GARONS[[#This Row],[REFERENCE]]<>""),_GARONS[[#This Row],[Date courrier "définitif"]]-_GARONS[[#This Row],[REFERENCE]],"") | R10: =IF(AND(_GARONS[[#This Row],[délai courrier]]>8,_GARONS[[#This Row],[délai courrier]]<>""),"OUI","")
A11: 1 | B11: 45578 | C11: =IF(_GARONS[[#This Row],[DATE RECEPTION]]<>"",MONTH(_GARONS[[#This Row],[DATE RECEPTION]]),"") -> 10 | D11: =IF(_GARONS[[#This Row],[DATE RECEPTION]]<>"",YEAR(_GARONS[[#This Row],[DATE RECEPTION]]),"") -> 2024 | E11: X9 | H11: 45578 | I11: RECLAMATION | J11: Manque débit/pression | Q11: =IF(AND(_GARONS[[#This Row],[Date courrier "définitif"]]-_GARONS[[#This Row],[REFERENCE]]>-1,_GARONS[[#This Row],[REFERENCE]]<>""),_GARONS[[#This Row],[Date courrier "définitif"]]-_GARONS[[#This Row],[REFERENCE]],"") | R11: =IF(AND(_GARONS[[#This Row],[délai courrier]]>8,_GARONS[[#This Row],[délai courrier]]<>""),"OUI","")
A12: 1 | B12: 45579 | C12: =IF(_GARONS[[#This Row],[DATE RECEPTION]]<>"",MONTH(_GARONS[[#This Row],[DATE RECEPTION]]),"") -> 10 | D12: =IF(_GARONS[[#This Row],[DATE RECEPTION]]<>"",YEAR(_GARONS[[#This Row],[DATE RECEPTION]]),"") -> 2024 | E12: X10 | H12: 45579 | I12: RECLAMATION | J12: Qualité d’eau | Q12: =IF(AND(_GARONS[[#This Row],[Date courrier "définitif"]]-_GARONS[[#This Row],[REFERENCE]]>-1,_GARONS[[#This Row],[REFERENCE]]<>""),_GARONS[[#This Row],[Date courrier "définitif"]]-_GARONS[[#This Row],[REFERENCE]],"") | R12: =IF(AND(_GARONS[[#This Row],[délai courrier]]>8,_GARONS[[#This Row],[délai courrier]]<>""),"OUI","")
A13: 1 | B13: 45580 | C13: =IF(_GARONS[[#This Row],[DATE RECEPTION]]<>"",MONTH(_GARONS[[#This Row],[DATE RECEPTION]]),"") -> 10 | D13: =IF(_GARONS[[#This Row],[DATE RECEPTION]]<>"",YEAR(_GARONS[[#This Row],[DATE RECEPTION]]),"") -> 2024 | E13: X11 | H13: 45580 | I13: RECLAMATION | J13: Problème suite à changement de compteur | Q13: =IF(AND(_GARONS[[#This Row],[Date courrier "définitif"]]-_GARONS[[#This Row],[REFERENCE]]>-1,_GARONS[[#This Row],[REFERENCE]]<>""),_GARONS[[#This Row],[Date courrier "définitif"]]-_GARONS[[#This Row],[REFERENCE]],"") | R13: =IF(AND(_GARONS[[#This Row],[délai courrier]]>8,_GARONS[[#This Row],[délai courrier]]<>""),"OUI","")
A14: 1 | B14: 45581 | C14: =IF(_GARONS[[#This Row],[DATE RECEPTION]]<>"",MONTH(_GARONS[[#This Row],[DATE RECEPTION]]),"") -> 10 | D14: =IF(_GARONS[[#This Row],[DATE RECEPTION]]<>"",YEAR(_GARONS[[#This Row],[DATE RECEPTION]]),"") -> 2024 | E14: X12 | H14: 45581 | I14: RECLAMATION | J14: Problème suite à changement de compteur | Q14: =IF(AND(_GARONS[[#This Row],[Date courrier "définitif"]]-_GARONS[[#This Row],[REFERENCE]]>-1,_GARONS[[#This Row],[REFERENCE]]<>""),_GARONS[[#This Row],[Date courrier "définitif"]]-_GARONS[[#This Row],[REFERENCE]],"") | R14: =IF(AND(_GARONS[[#This Row],[délai courrier]]>8,_GARONS[[#This Row],[délai courrier]]<>""),"OUI","")
A15: 1 | B15: 45582 | C15: =IF(_GARONS[[#This Row],[DATE RECEPTION]]<>"",MONTH(_GARONS[[#This Row],[DATE RECEPTION]]),"") -> 10 | D15: =IF(_GARONS[[#This Row],[DATE RECEPTION]]<>"",YEAR(_GARONS[[#This Row],[DATE RECEPTION]]),"") -> 2024 | E15: X13 | H15: 45582 | I15: RECLAMATION | J15: Qualité d’eau | Q15: =IF(AND(_GARONS[[#This Row],[Date courrier "définitif"]]-_GARONS[[#This Row],[REFERENCE]]>-1,_GARONS[[#This Row],[REFERENCE]]<>""),_GARONS[[#This Row],[Date courrier "définitif"]]-_GARONS[[#This Row],[REFERENCE]],"") | R15: =IF(AND(_GARONS[[#This Row],[délai courrier]]>8,_GARONS[[#This Row],[délai courrier]]<>""),"OUI","")
A16: 1 | B16: 45583 | C16: =IF(_GARONS[[#This Row],[DATE RECEPTION]]<>"",MONTH(_GARONS[[#This Row],[DATE RECEPTION]]),"") -> 10 | D16: =IF(_GARONS[[#This Row],[DATE RECEPTION]]<>"",YEAR(_GARONS[[#This Row],[DATE RECEPTION]]),"") -> 2024 | E16: X14 | H16: 45583 | I16: RECLAMATION | J16: Facturation | Q16: =IF(AND(_GARONS[[#This Row],[Date courrier "définitif"]]-_GARONS[[#This Row],[REFERENCE]]>-1,_GARONS[[#This Row],[REFERENCE]]<>""),_GARONS[[#This Row],[Date courrier "définitif"]]-_GARONS[[#This Row],[REFERENCE]],"") | R16: =IF(AND(_GARONS[[#This Row],[délai courrier]]>8,_GARONS[[#This Row],[délai courrier]]<>""),"OUI","")

Sheet DONNEES
A2: MOTIF_CONTACT | C2: RECLAMATION | E2: CONTRAT | G2: AGENCE
A3: RECLAMATION | C3: Point de livraison défectueux | E3: Souscription | G3: SERVIAN
A4: CONTRAT | C4: Coupure d’eau | E4: Facturation | G4: MAUGUIO
A5: INFORMATION | C5: Manque débit/pression | E5: Modification Information | G5: GRUISSAN
C6: Problème suite à changement de compteur | E6: Resiliation | G6: GARONS
C7: Fuite sur réseau ou branchement | E7: Transfert
A8: TYPE_CONTACT | C8: Qualité d’eau | E8: Mutation
A9: Mail | C9: Egout bouché | E9: Autre
A10: Courrier | C10: Facturation
A11: X7 | C11: Réclamation MMI
A12: Groupe BRL | C12: Retard exécution travaux
C13: Liée à l’environnement
C14: liée au Gel
C15: Réclamations injustifiées
C16: Autres (1)
C20: =INDICAT_PERF!C8 -> servian
A22: N° ORDRE | B22: DATE RECEPTION | C22: mois | D22: année | E22: TYPE CONTACT | F22: NOM DU DEMANDEUR | G22: N° CLIENT | H22: REFERENCE | I22: MOTIF | J22: PRECISION | K22: OBJET | L22: CODE AGENT | M22: REFERENCE REPONSE | N22: Courrier attente | O22: Date Courrier Attente | P22: Date courrier "définitif" | Q22: délai courrier | R22: réponse >8jours
A23: {=_xlfn._xlws.FILTER(Cible,(Cible_Mois=MONTH(DATEVALUE(INDICAT_PERF!C7&"1"))*(Cible_An=INDICAT_PERF!F7)))} -> 1 | B23: 45576 | C23: 10 | D23: 2024 | E23: X7 | F23: 0 | G23: 0 | H23: 45576 | I23: RECLAMATION | J23: Problème suite à changement de compteur | K23: 0 | L23: 0 | M23: 0 | N23: 0 | O23: 0 | P23: 0
A24: 1 | B24: 45577 | C24: 10 | D24: 2024 | E24: X8 | F24: 0 | G24: 0 | H24: 45577 | I24: CONTRAT | J24: Transfert | K24: 0 | L24: 0 | M24: 0 | N24: 0 | O24: 0 | P24: 0
A25: 1 | B25: 45578 | C25: 10 | D25: 2024 | E25: X9 | F25: 0 | G25: 0 | H25: 45578 | I25: CONTRAT | J25: Transfert | K25: 0 | L25: 0 | M25: 0 | N25: 0 | O25: 0 | P25: 0
A26: 1 | B26: 45579 | C26: 10 | D26: 2024 | E26: X10 | F26: 0 | G26: 0 | H26: 45579 | I26: CONTRAT | J26: Transfert | K26: 0 | L26: 0 | M26: 0 | N26: 0 | O26: 0 | P26: 0
A27: 1 | B27: 45580 | C27: 10 | D27: 2024 | E27: X11 | F27: 0 | G27: 0 | H27: 45580 | I27: CONTRAT | J27: Transfert | K27: 0 | L27: 0 | M27: 0 | N27: 0 | O27: 0 | P27: 0
A28: 1 | B28: 45581 | C28: 10 | D28: 2024 | E28: X12 | F28: 0 | G28: 0 | H28: 45581 | I28: CONTRAT | J28: Transfert | K28: 0 | L28: 0 | M28: 0 | N28: 0 | O28: 0 | P28: 0
A29: 1 | B29: 45582 | C29: 10 | D29: 2024 | E29: X13 | F29: 0 | G29: 0 | H29: 45582 | I29: CONTRAT | J29: Transfert | K29: 0 | L29: 0 | M29: 0 | N29: 0 | O29: 0 | P29: 0
A30: 1 | B30: 45583 | C30: 10 | D30: 2024 | E30: X14 | F30: 0 | G30: 0 | H30: 45583 | I30: CONTRAT | J30: Transfert | K30: 0 | L30: 0 | M30: 0 | N30: 0 | O30: 0 | P30: 0

Sheet INDICAT_PERF
B2: INDICATEUR DE PERFORMANCE
B3: COLLECTE DES DONNEES
A7: PERIODE DE RELEVE ð | C7: Octobre | F7: 2024
A8: SECTEUR | C8: servian
A9: RESULTAT DE LA MESURE : | F9: OBSERVATIONS - REMARQUES :
A10: IQ2 | B10: Nb réclamations = | D10: =COUNTIF(DONNEES!$I$23:$I$300,"RECLAMATION") -> 1 | F10: Voir détail ci-joint
A11: IQ3 | B11: Nb courriers répondus dans le mois = | D11: =COUNTIF(DONNEES!$P$23:$P$300,">0") -> 0
B12: Nb de courriers à moins de 8 jours = | D12: =D11-COUNTIF(DONNEES!R23:R136,"OUI") -> 0
A13: IQ4A | B13: Nombre de BSDD émis depuis le 1er du mois | D13: 0
A14: IQ4B | B14: Nombre de BSDD retournés depuis le 1er du mois | D14: 0
A15: IQ5 | B15: Nombre de tests de situations d’urgences réalisés | D15: 0
A20: Fiche à transmettre au D.QSEST avant le 10 de chaque mois
B23: EMETTEUR | C23: Responsable de service
B24: DATE : 02/09/2024 | C24: DATE : 02/09/2024
B25: NOM : Chaaoui Naoual | C25: NOM : Eyraud Adeline
B26: VISA : | C26: VISA :

Sheet SUIVI_RECLAM
B2: SUIVI DES RECLAMATIONS CLIENTS ET DES PLAINTES ENVIRONNEMENTALES
B4: Secteur/Service : | D4: =INDICAT_PERF!C8 -> servian
B5: Mois : | D5: =INDICAT_PERF!C7 -> Octobre
B7: TYPE DE RECLAMATION | C7: PROCESSUS | E7: NOMBRE
B8: Point de livraison défectueux | C8: C3 | D8: Produire & distribuer l’eau | E8: =COUNTIF(DONNEES!$J$23:$J$300,SUIVI_RECLAM!B8) -> 0
B9: Coupure d’eau | C9: C3 | D9: Produire & distribuer l’eau | E9: =COUNTIF(DONNEES!$J$23:$J$300,SUIVI_RECLAM!B9) -> 0
B10: Manque débit/pression | C10: C3 | D10: Produire & distribuer l’eau | E10: =COUNTIF(DONNEES!$J$23:$J$300,SUIVI_RECLAM!B10) -> 0
B11: Problème suite à changement de compteur | C11: C3 | D11: Produire & distribuer l’eau | E11: =COUNTIF(DONNEES!$J$23:$J$300,SUIVI_RECLAM!B11) -> 1
B12: Fuite sur réseau ou branchement | C12: C3 | D12: Produire & distribuer l’eau | E12: =COUNTIF(DONNEES!$J$23:$J$300,SUIVI_RECLAM!B12) -> 0
B13: Qualité d’eau | C13: C3 | D13: Produire & distribuer l’eau | E13: =COUNTIF(DONNEES!$J$23:$J$300,SUIVI_RECLAM!B13) -> 0
B14: Egout bouché | C14: C4 | D14: Eaux usées | E14: =COUNTIF(DONNEES!$J$23:$J$300,SUIVI_RECLAM!B14) -> 0
B15: Facturation | C15: C5 | D15: Facturation | E15: =COUNTIFS(DONNEES!$J$23:$J$300,SUIVI_RECLAM!B15,DONNEES!$I$23:$I$300,"RECLAMATION") -> 0
B16: Réclamation MMI | C16: C6 | D16: Vendre et poser du matériel d’arrosage | E16: =COUNTIF(DONNEES!$J$23:$J$300,SUIVI_RECLAM!B16) -> 0
B17: Retard exécution travaux | C17: C2 | D17: Accroître part de marché | E17: =COUNTIF(DONNEES!$J$23:$J$300,SUIVI_RECLAM!B17) -> 0
B18: Liée à l’environnement | C18: M2 | D18: Suivi du système qualité | E18: =COUNTIF(DONNEES!$J$23:$J$300,SUIVI_RECLAM!B18) -> 0
B19: liée au Gel | C19: C3 | D19: Produire & distribuer l’eau | E19: =COUNTIF(DONNEES!$J$23:$J$300,SUIVI_RECLAM!B19) -> 0
B20: Réclamations injustifiées | E20: =COUNTIF(DONNEES!$J$23:$J$300,SUIVI_RECLAM!B20) -> 0
B21: Autres (1) | E21: =COUNTIF(DONNEES!$J$23:$J$300,SUIVI_RECLAM!B21) -> 0
B22: TOTAL DES RECLAMATIONS | E22: =SUM(E8:E21) -> 1
B24: Plaintes environnementales | C24: M2 | D24: Suivi du système qualité
B39: TOTAL DES PLAINTES
B40: (1) Veuillez indiquer le processus concerné
B42: Fiche à transmettre au RQ et au Coordinateur Environnement dans les mêmes délais que les indicateurs de performance.
B44: Emetteur | D44: Responsable de service
B45: 45537 | D45: 45537
B46: Nom : CHAAOUI Naoual | D46: Nom : Eyraud Adeline
B47: Visa : | D47: Visa :
B49: RQ
B50: Date :
B51: Nom :
B52: Visa :
