Workbook

Sheet BD
A2: ANNEE | B2: TYPE | C2: VISA | D2: DATE | E2: VALEURS | F2: Moy | G2: Moy+SIGMA | H2: Moy-SIGMA | I2: Moy+2SIGMA | J2: Moy-2SIGMA | K2: Moy+3SIGMA | L2: Moy-3SIGMA | M2: Conforme ?
A3: =IF(B3="","",TEXT(D3,"aaaa")) -> 2023 | B3: DCO 10 | C3: AA | D3: 44929 | E3: 10.1 | F3: 11.828463 | G3: 13.231131 | H3: 10.425796 | I3: 14.633799 | J3: 9.0231281 | K3: 16.036466 | L3: 7.6204604 | M3: =IF(OR(B3="",D3="",E3=""),"",IF(E3>K3,"NC",IF(E3<L3,"NC",IF(AND(E3>I3,E3<=K3),"ATTENTION",IF(AND(E3<J3,E3>=L3),"ATTENTION",IF(AND(E3>=J3,E3<=I3),"OK","")))))) -> OK
A4: =IF(B4="","",TEXT(D4,"aaaa")) -> 2023 | B4: DCO 100 | C4: AA | D4: 44930 | E4: 99.5 | F4: 99.718317 | G4: 101.63177 | H4: 97.804863 | I4: 103.54522 | J4: 95.89141 | K4: 105.45868 | L4: 93.977956 | M4: =IF(OR(B4="",D4="",E4=""),"",IF(E4>K4,"NC",IF(E4<L4,"NC",IF(AND(E4>I4,E4<=K4),"ATTENTION",IF(AND(E4<J4,E4>=L4),"ATTENTION",IF(AND(E4>=J4,E4<=I4),"OK","")))))) -> OK
A5: =IF(B5="","",TEXT(D5,"aaaa")) -> 2023 | B5: DCO 500 | C5: AA | D5: 44931 | E5: 498.3 | F5: 498.4 | G5: 502.86627 | H5: 493.93373 | I5: 507.33254 | J5: 489.46746 | K5: 511.7988 | L5: 485.0012 | M5: =IF(OR(B5="",D5="",E5=""),"",IF(E5>K5,"NC",IF(E5<L5,"NC",IF(AND(E5>I5,E5<=K5),"ATTENTION",IF(AND(E5<J5,E5>=L5),"ATTENTION",IF(AND(E5>=J5,E5<=I5),"OK","")))))) -> OK
A6: =IF(B6="","",TEXT(D6,"aaaa")) -> 2023 | B6: DCO 100 | C6: AA | D6: 44932 | E6: 97.6 | F6: 99.718317 | G6: 101.63177 | H6: 97.804863 | I6: 103.54522 | J6: 95.89141 | K6: 105.45868 | L6: 93.977956 | M6: =IF(OR(B6="",D6="",E6=""),"",IF(E6>K6,"NC",IF(E6<L6,"NC",IF(AND(E6>I6,E6<=K6),"ATTENTION",IF(AND(E6<J6,E6>=L6),"ATTENTION",IF(AND(E6>=J6,E6<=I6),"OK","")))))) -> OK
A7: =IF(B7="","",TEXT(D7,"aaaa")) -> 2023 | B7: DCO 10 | C7: AA | D7: 44933 | E7: 11.9 | F7: 11.828463 | G7: 13.231131 | H7: 10.425796 | I7: 14.633799 | J7: 9.0231281 | K7: 16.036466 | L7: 7.6204604 | M7: =IF(OR(B7="",D7="",E7=""),"",IF(E7>K7,"NC",IF(E7<L7,"NC",IF(AND(E7>I7,E7<=K7),"ATTENTION",IF(AND(E7<J7,E7>=L7),"ATTENTION",IF(AND(E7>=J7,E7<=I7),"OK","")))))) -> OK
A8: =IF(B8="","",TEXT(D8,"aaaa")) -> 2023 | B8: DCO 10 | C8: AA | D8: 44934 | E8: 12 | F8: 11.828463 | G8: 13.231131 | H8: 10.425796 | I8: 14.633799 | J8: 9.0231281 | K8: 16.036466 | L8: 7.6204604 | M8: =IF(OR(B8="",D8="",E8=""),"",IF(E8>K8,"NC",IF(E8<L8,"NC",IF(AND(E8>I8,E8<=K8),"ATTENTION",IF(AND(E8<J8,E8>=L8),"ATTENTION",IF(AND(E8>=J8,E8<=I8),"OK","")))))) -> OK
A9: =IF(B9="","",TEXT(D9,"aaaa")) -> 2023 | B9: DCO 100 | C9: AA | D9: 44935 | E9: 99.8 | F9: 99.718317 | G9: 101.63177 | H9: 97.804863 | I9: 103.54522 | J9: 95.89141 | K9: 105.45868 | L9: 93.977956 | M9: =IF(OR(B9="",D9="",E9=""),"",IF(E9>K9,"NC",IF(E9<L9,"NC",IF(AND(E9>I9,E9<=K9),"ATTENTION",IF(AND(E9<J9,E9>=L9),"ATTENTION",IF(AND(E9>=J9,E9<=I9),"OK","")))))) -> OK
A10: =IF(B10="","",TEXT(D10,"aaaa")) -> 2023 | B10: DCO 10 | C10: AA | D10: 44936 | E10: 9.73 | F10: 11.828463 | G10: 13.231131 | H10: 10.425796 | I10: 14.633799 | J10: 9.0231281 | K10: 16.036466 | L10: 7.6204604 | M10: =IF(OR(B10="",D10="",E10=""),"",IF(E10>K10,"NC",IF(E10<L10,"NC",IF(AND(E10>I10,E10<=K10),"ATTENTION",IF(AND(E10<J10,E10>=L10),"ATTENTION",IF(AND(E10>=J10,E10<=I10),"OK","")))))) -> OK
A11: =IF(B11="","",TEXT(D11,"aaaa")) -> 2023 | B11: DCO 100 | C11: AA | D11: 44937 | E11: 98.6 | F11: 99.718317 | G11: 101.63177 | H11: 97.804863 | I11: 103.54522 | J11: 95.89141 | K11: 105.45868 | L11: 93.977956 | M11: =IF(OR(B11="",D11="",E11=""),"",IF(E11>K11,"NC",IF(E11<L11,"NC",IF(AND(E11>I11,E11<=K11),"ATTENTION",IF(AND(E11<J11,E11>=L11),"ATTENTION",IF(AND(E11>=J11,E11<=I11),"OK","")))))) -> OK
A12: =IF(B12="","",TEXT(D12,"aaaa")) -> 2023 | B12: DCO 10 | C12: AA | D12: 44938 | E12: 10 | F12: 11.828463 | G12: 13.231131 | H12: 10.425796 | I12: 14.633799 | J12: 9.0231281 | K12: 16.036466 | L12: 7.6204604 | M12: =IF(OR(B12="",D12="",E12=""),"",IF(E12>K12,"NC",IF(E12<L12,"NC",IF(AND(E12>I12,E12<=K12),"ATTENTION",IF(AND(E12<J12,E12>=L12),"ATTENTION",IF(AND(E12>=J12,E12<=I12),"OK","")))))) -> OK
A13: =IF(B13="","",TEXT(D13,"aaaa")) -> 2023 | B13: DCO 500 | C13: AA | D13: 44939 | E13: 496.56 | F13: 498.4 | G13: 502.86627 | H13: 493.93373 | I13: 507.33254 | J13: 489.46746 | K13: 511.7988 | L13: 485.0012 | M13: =IF(OR(B13="",D13="",E13=""),"",IF(E13>K13,"NC",IF(E13<L13,"NC",IF(AND(E13>I13,E13<=K13),"ATTENTION",IF(AND(E13<J13,E13>=L13),"ATTENTION",IF(AND(E13>=J13,E13<=I13),"OK","")))))) -> OK
A14: =IF(B14="","",TEXT(D14,"aaaa")) -> 2023 | B14: DCO 500 | C14: AA | D14: 44940 | E14: 498.1 | F14: 498.4 | G14: 502.86627 | H14: 493.93373 | I14: 507.33254 | J14: 489.46746 | K14: 511.7988 | L14: 485.0012 | M14: =IF(OR(B14="",D14="",E14=""),"",IF(E14>K14,"NC",IF(E14<L14,"NC",IF(AND(E14>I14,E14<=K14),"ATTENTION",IF(AND(E14<J14,E14>=L14),"ATTENTION",IF(AND(E14>=J14,E14<=I14),"OK","")))))) -> OK
... A28: =IF(B28="","",TEXT(D28,"aaaa")) -> 2024 | B28: DCO 10 | C28: AA | D28: 45320 | E28: 9.78 | F28: 11.828463 | G28: 13.231131 | H28: 10.425796 | I28: 14.633799 | J28: 9.0231281 | K28: 16.036466 | L28: 7.6204604 | M28: =IF(OR(B28="",D28="",E28=""),"",IF(E28>K28,"NC",IF(E28<L28,"NC",IF(AND(E28>I28,E28<=K28),"ATTENTION",IF(AND(E28<J28,E28>=L28),"ATTENTION",IF(AND(E28>=J28,E28<=I28),"OK","")))))) -> OK

Sheet CALCUL
B2: 2023 | E2: 2024 | J2: Ordre
B3: DCO 10 | C3: DCO 100 | D3: DCO 500 | E3: DCO 10 | F3: DCO 100 | G3: DCO 500 | J3: Moy | L3: Calcul | M3: 2023 DCO 10 | N3: 2023 DCO 100 | O3: 2023 DCO 500 | P3: 2024 DCO 100 | Q3: 2024 DCO 500 | R3: 2024 DCO 10
A4: moy | B4: =AVERAGEIFS(BD[VALEURS],BD[ANNEE],B2,BD[TYPE],B3) -> 10.521429 | C4: =AVERAGEIFS(BD!E3:E28,BD!A3:A28,B2,BD!B3:B28,C3) -> 98.875 | D4: =AVERAGEIFS(BD!E3:E28,BD!A3:A28,B2,BD!B3:B28,D3) -> 497.65333 | E4: =AVERAGEIFS(BD!E3:E28,BD!A3:A28,E2,BD!B3:B28,E3) -> 10.9 | F4: =AVERAGEIFS(BD!E3:E28,BD!A3:A28,E2,BD!B3:B28,F3) -> 98.714 | G4: =AVERAGEIFS(BD!E3:E28,BD!A3:A28,E2,BD!B3:B28,G3) -> 496.91 | J4: CV | L4: Moy | M4: 10.521429 | N4: 98.875 | O4: 497.65333 | P4: 98.714 | Q4: 496.91 | R4: 10.9
A5: CV | B5: =B6/B4*100 -> 9.3395753 | C5: =C6/C4*100 -> 1.0024894 | D5: =D6/D4*100 -> 0.19132203 | E5: =E6/E4*100 -> 19.577216 | F5: =F6/F4*100 -> 1.2692714 | G5: =G6/G4*100 -> 0.25486542 | J5: Sigma (Ecart type) | L5: CV | M5: 9.3395753 | N5: 1.0024894 | O5: 0.19132203 | P5: 1.2692714 | Q5: 0.25486542 | R5: 19.577216
A6: Sigma (ecart type) | B6: =STDEV(B20:B27) -> 0.98265675 | C6: =STDEV(C20:C27) -> 0.99121138 | D6: =STDEV(D20:D27) -> 0.95212044 | E6: =STDEV(E20:E27) -> 2.1339166 | F6: =STDEV(F20:F27) -> 1.2529485 | G6: =STDEV(G20:G27) -> 1.2664517 | J6: 2 Sigma | L6: Sigma (Ecart type) | M6: 0.98265675 | N6: 0.99121138 | O6: 0.95212044 | P6: 1.2529485 | Q6: 1.2664517 | R6: 2.1339166
A7: 2 sigma | B7: =2*B6 -> 1.9653135 | C7: =2*C6 -> 1.9824228 | D7: =2*D6 -> 1.9042409 | E7: =2*E6 -> 4.2678332 | F7: =2*F6 -> 2.505897 | G7: =2*G6 -> 2.5329035 | J7: 3 Sigma | L7: 2 Sigma | M7: 18.679151 | N7: 2.0049788 | O7: 0.38264405 | P7: 2.5385427 | Q7: 0.50973083 | R7: 39.154433
A8: 3 sigma | B8: =3*B6 -> 2.9479702 | C8: =3*C6 -> 2.9736341 | D8: =3*D6 -> 2.8563613 | E8: =3*E6 -> 6.4017498 | F8: =3*F6 -> 3.7588456 | G8: =3*G6 -> 3.7993552 | J8: Nombre | L8: 3 Sigma | M8: 28.018726 | N8: 3.0074682 | O8: 0.57396608 | P8: 3.8078141 | Q8: 0.76459625 | R8: 58.731649
A9: Nombre | B9: =COUNTIFS(BD!A3:A28,$B$2,BD!B3:B28,B3) -> 7 | C9: =COUNTIFS(BD!A3:A28,$B$2,BD!B3:B28,C3) -> 4 | D9: =COUNTIFS(BD!A3:A28,$B$2,BD!B3:B28,D3) -> 3 | E9: =COUNTIFS(BD!$A$3:$A$28,$E$2,BD!$B$3:$B$28,E3) -> 4 | F9: =COUNTIFS(BD!$A$3:$A$28,$E$2,BD!$B$3:$B$28,F3) -> 5 | G9: =COUNTIFS(BD!$A$3:$A$28,$E$2,BD!$B$3:$B$28,G3) -> 3 | J9: réél | L9: Nombre | M9: 7 | N9: 4 | O9: 3 | P9: 5 | Q9: 3 | R9: 4
A10: réél | B10: =B4 -> 10.521429 | C10: =C4 -> 98.875 | D10: =D4 -> 497.65333 | E10: =E4 -> 10.9 | F10: =F4 -> 98.714 | G10: =G4 -> 496.91 | J10: Moy + Sigma | L10: Moy + Sigma | M10: 11.504085 | N10: 99.866211 | O10: 498.60545 | P10: 99.966949 | Q10: 498.17645 | R10: 13.033917
A11: Moy+SIGMA | B11: =B10+B6 -> 11.504085 | C11: =C10+C6 -> 99.866211 | D11: =D10+D6 -> 498.60545 | E11: =E10+E6 -> 13.033917 | F11: =F10+F6 -> 99.966949 | G11: =G10+G6 -> 498.17645 | J11: Moy - Sigma | L11: Moy - Sigma | M11: 9.5387718 | N11: 97.883789 | O11: 496.70121 | P11: 97.461051 | Q11: 495.64355 | R11: 8.7660834
A12: Moy-SIGMA | B12: =B10-B6 -> 9.5387718 | C12: =C10-C6 -> 97.883789 | D12: =D10-D6 -> 496.70121 | E12: =E10-E6 -> 8.7660834 | F12: =F10-F6 -> 97.461051 | G12: =G10-G6 -> 495.64355 | J12: Moy + 2 Sigma | L12: Moy + 2 Sigma | M12: 12.486742 | N12: 100.85742 | O12: 499.55757 | P12: 101.2199 | Q12: 499.4429 | R12: 15.167833
A13: Moy+2SIGMA | B13: =B10+B7 -> 12.486742 | C13: =C10+C7 -> 100.85742 | D13: =D10+D7 -> 499.55757 | E13: =E10+E7 -> 15.167833 | F13: =F10+F7 -> 101.2199 | G13: =G10+G7 -> 499.4429 | J13: Moy - 2 Sigma | L13: Moy + 3 Sigma | M13: 13.469399 | N13: 101.84863 | O13: 500.50969 | P13: 102.47285 | Q13: 500.70936 | R13: 17.30175
A14: Moy-2SIGMA | B14: =B10-B7 -> 8.5561151 | C14: =C10-C7 -> 96.892577 | D14: =D10-D7 -> 495.74909 | E14: =E10-E7 -> 6.6321668 | F14: =F10-F7 -> 96.208103 | G14: =G10-G7 -> 494.3771 | J14: Moy + 3 Sigma | L14: Moy - 3 Sigma | M14: 8.5561151 | N14: 96.892577 | O14: 495.74909 | P14: 96.208103 | Q14: 494.3771 | R14: 6.6321668
A15: Moy+3SIGMA | B15: =B10+B8 -> 13.469399 | C15: =C10+C8 -> 101.84863 | D15: =D10+D8 -> 500.50969 | E15: =E10+E8 -> 17.30175 | F15: =F10+F8 -> 102.47285 | G15: =G10+G8 -> 500.70936 | J15: Moy - 3 Sigma
A16: Moy-3SIGMA | B16: =B10-B8 -> 7.5734583 | C16: =C10-C8 -> 95.901366 | D16: =D10-D8 -> 494.79697 | E16: =E10-E8 -> 4.4982502 | F16: =F10-F8 -> 94.955154 | G16: =G10-G8 -> 493.11064
B18: Valeur répérées manuellement
B20: 10.1 | C20: 99.5 | D20: 498.3 | E20: 14.1 | F20: 98.12 | G20: 497.36
B21: 11.9 | C21: 97.6 | D21: 496.56 | E21: 9.82 | F21: 98.98 | G21: 495.48
B22: 12 | C22: 99.8 | D22: 498.1 | E22: 9.9 | F22: 100.02 | G22: 497.89
B23: 9.73 | C23: 98.6 | E23: 9.78 | F23: 99.58
B24: 10 | F24: 96.87
B25: 9.98
B26: 9.94
