Workbook

Sheet Source
A1: Fichier | C1: Nom Prénom | D1: NOM DU CHIEN | E1: NUMERO USCSS | F1: NIVEAU INTERMEDIAIRE
A2: T:\TEMP\inscription-concours-nw.xlsx | C2: D Emilie | D2: TRUC | E2: 374 | F2: INTERMEDIAIRE_CONTENEUR_1
C3: F Valérie | D3: BIDULE | E3: 843 | F3: INTERMEDIAIRE_CONTENEUR_1
C4: R Marie | D4: FF | E4: 245 | F4: INTERMEDIAIRE_CONTENEUR_1
C5: D Emilie | D5: TRUC | E5: 374 | F5: INTERMEDIAIRE_CONTENEUR_2
C6: R Marie | D6: FF | E6: 245 | F6: INTERMEDIAIRE_EXTERIEUR_1
C7: R Marie | D7: FF | E7: 245 | F7: INTERMEDIAIRE_INTERIEUR_1
C8: R Marie | D8: FF | E8: 245 | F8: INTERMEDIAIRE_VEHICULE_1

Sheet INTERMEDIAIRE_CONTENEUR_1
A1: INTERMEDIAIRE_CONTENEUR_1
A3: Nom Prénom | B3: NOM DU CHIEN | C3: NUMERO USCSS | D3: NIVEAU INTERMEDIAIRE | E3: Nombre de points | F3: Temps | G3: N | H3: Q | I3: Classement
A4: {=_xlfn._xlws.FILTER(Chemin_[],Chemin_[NIVEAU INTERMEDIAIRE]=INTERMEDIAIRE_CONTENEUR_1!A1)} -> D Emilie | B4: TRUC | C4: 374 | D4: INTERMEDIAIRE_CONTENEUR_1 | E4: 100 | F4: 0.00045092593 | G4: =IF(COUNTA(E4:F4)=2,SUM(E4+F4),"") -> 100.00045 | H4: Q | I4: =IF(G4="","",RANK(G4,OFFSET($G$3,1,,COUNTA(A:A)-2))) -> 1
A5: F Valérie | B5: BIDULE | C5: 843 | D5: INTERMEDIAIRE_CONTENEUR_1 | G5: =IF(COUNTA(E5:F5)=2,SUM(E5+F5),"") | H5: NQ | I5: =IF(G5="","",RANK(G5,OFFSET($G$3,1,,COUNTA(A:A)-2)))
A6: R Marie | B6: FF | C6: 245 | D6: INTERMEDIAIRE_CONTENEUR_1 | E6: 75 | F6: 0.00017743056 | G6: =IF(COUNTA(E6:F6)=2,SUM(E6+F6),"") -> 75.000177 | H6: Q | I6: =IF(G6="","",RANK(G6,OFFSET($G$3,1,,COUNTA(A:A)-2))) -> 2
G7: =IF(COUNTA(E7:F7)=2,SUM(E7+F7),"") | H7: Q | I7: =IF(G7="","",RANK(G7,OFFSET($G$3,1,,COUNTA(A:A)-2)))
G8: =IF(COUNTA(E8:F8)=2,SUM(E8+F8),"") | I8: =IF(G8="","",RANK(G8,OFFSET($G$3,1,,COUNTA(A:A)-2)))
G9: =IF(COUNTA(E9:F9)=2,SUM(E9+F9),"") | I9: =IF(G9="","",RANK(G9,OFFSET($G$3,1,,COUNTA(A:A)-2)))
G10: =IF(COUNTA(E10:F10)=2,SUM(E10+F10),"") | I10: =IF(G10="","",RANK(G10,OFFSET($G$3,1,,COUNTA(A:A)-2)))
G11: =IF(COUNTA(E11:F11)=2,SUM(E11+F11),"") | I11: =IF(G11="","",RANK(G11,OFFSET($G$3,1,,COUNTA(A:A)-2)))
G12: =IF(COUNTA(E12:F12)=2,SUM(E12+F12),"") | I12: =IF(G12="","",RANK(G12,OFFSET($G$3,1,,COUNTA(A:A)-2)))
G13: =IF(COUNTA(E13:F13)=2,SUM(E13+F13),"") | I13: =IF(G13="","",RANK(G13,OFFSET($G$3,1,,COUNTA(A:A)-2)))
G14: =IF(COUNTA(E14:F14)=2,SUM(E14+F14),"") | I14: =IF(G14="","",RANK(G14,OFFSET($G$3,1,,COUNTA(A:A)-2)))
G15: =IF(COUNTA(E15:F15)=2,SUM(E15+F15),"") | I15: =IF(G15="","",RANK(G15,OFFSET($G$3,1,,COUNTA(A:A)-2)))
G16: =IF(COUNTA(E16:F16)=2,SUM(E16+F16),"") | I16: =IF(G16="","",RANK(G16,OFFSET($G$3,1,,COUNTA(A:A)-2)))
G17: =IF(COUNTA(E17:F17)=2,SUM(E17+F17),"") | I17: =IF(G17="","",RANK(G17,OFFSET($G$3,1,,COUNTA(A:A)-2)))
G18: =IF(COUNTA(E18:F18)=2,SUM(E18+F18),"") | I18: =IF(G18="","",RANK(G18,OFFSET($G$3,1,,COUNTA(A:A)-2)))
G19: =IF(COUNTA(E19:F19)=2,SUM(E19+F19),"") | I19: =IF(G19="","",RANK(G19,OFFSET($G$3,1,,COUNTA(A:A)-2)))
... G45: =IF(COUNTA(E45:F45)=2,SUM(E45+F45),"") | I45: =IF(G45="","",RANK(G45,OFFSET($G$3,1,,COUNTA(A:A)-2)))

Sheet INTERMEDIAIRE_CONTENEUR_2
A1: INTERMEDIAIRE_CONTENEUR_2
A3: Nom Prénom | B3: NOM DU CHIEN | C3: NUMERO USCSS | D3: NIVEAU INTERMEDIAIRE | E3: Nombre de points | F3: Temps | G3: N | H3: Q | I3: Classement
A4: {=_xlfn._xlws.FILTER(Chemin_[],Chemin_[NIVEAU INTERMEDIAIRE]=INTERMEDIAIRE_CONTENEUR_2!A1)} -> D Emilie | B4: TRUC | C4: 374 | D4: INTERMEDIAIRE_CONTENEUR_2 | E4: 100 | F4: 0.00045092593 | G4: =IF(COUNTA(E4:F4)=2,SUM(E4+F4),"") -> 100.00045 | H4: Q | I4: =IF(G4="","",RANK(G4,OFFSET($G$3,1,,COUNTA(A:A)-2))) -> 1
G5: =IF(COUNTA(E5:F5)=2,SUM(E5+F5),"") | I5: =IF(G5="","",RANK(G5,OFFSET($G$3,1,,COUNTA(A:A)-2)))
G6: =IF(COUNTA(E6:F6)=2,SUM(E6+F6),"") | I6: =IF(G6="","",RANK(G6,OFFSET($G$3,1,,COUNTA(A:A)-2)))
G7: =IF(COUNTA(E7:F7)=2,SUM(E7+F7),"") | I7: =IF(G7="","",RANK(G7,OFFSET($G$3,1,,COUNTA(A:A)-2)))
G8: =IF(COUNTA(E8:F8)=2,SUM(E8+F8),"") | I8: =IF(G8="","",RANK(G8,OFFSET($G$3,1,,COUNTA(A:A)-2)))
G9: =IF(COUNTA(E9:F9)=2,SUM(E9+F9),"") | I9: =IF(G9="","",RANK(G9,OFFSET($G$3,1,,COUNTA(A:A)-2)))
G10: =IF(COUNTA(E10:F10)=2,SUM(E10+F10),"") | I10: =IF(G10="","",RANK(G10,OFFSET($G$3,1,,COUNTA(A:A)-2)))
G11: =IF(COUNTA(E11:F11)=2,SUM(E11+F11),"") | I11: =IF(G11="","",RANK(G11,OFFSET($G$3,1,,COUNTA(A:A)-2)))
G12: =IF(COUNTA(E12:F12)=2,SUM(E12+F12),"") | I12: =IF(G12="","",RANK(G12,OFFSET($G$3,1,,COUNTA(A:A)-2)))
G13: =IF(COUNTA(E13:F13)=2,SUM(E13+F13),"") | I13: =IF(G13="","",RANK(G13,OFFSET($G$3,1,,COUNTA(A:A)-2)))
G14: =IF(COUNTA(E14:F14)=2,SUM(E14+F14),"") | I14: =IF(G14="","",RANK(G14,OFFSET($G$3,1,,COUNTA(A:A)-2)))
G15: =IF(COUNTA(E15:F15)=2,SUM(E15+F15),"") | I15: =IF(G15="","",RANK(G15,OFFSET($G$3,1,,COUNTA(A:A)-2)))
G16: =IF(COUNTA(E16:F16)=2,SUM(E16+F16),"") | I16: =IF(G16="","",RANK(G16,OFFSET($G$3,1,,COUNTA(A:A)-2)))
... G45: =IF(COUNTA(E45:F45)=2,SUM(E45+F45),"") | I45: =IF(G45="","",RANK(G45,OFFSET($G$3,1,,COUNTA(A:A)-2)))

Sheet INTERMEDIAIRE_EXTERIEUR_1
A1: INTERMEDIAIRE_EXTERIEUR_1
A3: Nom Prénom | B3: NOM DU CHIEN | C3: NUMERO USCSS | D3: NIVEAU INTERMEDIAIRE | E3: Nombre de points | F3: Temps | G3: N | H3: Q | I3: Classement
A4: {=_xlfn._xlws.FILTER(Chemin_[],Chemin_[NIVEAU INTERMEDIAIRE]=INTERMEDIAIRE_EXTERIEUR_1!A1)} -> R Marie | B4: FF | C4: 245 | D4: INTERMEDIAIRE_EXTERIEUR_1 | E4: 100 | F4: 0.00045092593 | G4: =IF(COUNTA(E4:F4)=2,SUM(E4+F4),"") -> 100.00045 | H4: Q | I4: =IF(G4="","",RANK(G4,OFFSET($G$3,1,,COUNTA(A:A)-2))) -> 1
G5: =IF(COUNTA(E5:F5)=2,SUM(E5+F5),"") | I5: =IF(G5="","",RANK(G5,OFFSET($G$3,1,,COUNTA(A:A)-2)))
G6: =IF(COUNTA(E6:F6)=2,SUM(E6+F6),"") | I6: =IF(G6="","",RANK(G6,OFFSET($G$3,1,,COUNTA(A:A)-2)))
G7: =IF(COUNTA(E7:F7)=2,SUM(E7+F7),"") | I7: =IF(G7="","",RANK(G7,OFFSET($G$3,1,,COUNTA(A:A)-2)))
G8: =IF(COUNTA(E8:F8)=2,SUM(E8+F8),"") | I8: =IF(G8="","",RANK(G8,OFFSET($G$3,1,,COUNTA(A:A)-2)))
G9: =IF(COUNTA(E9:F9)=2,SUM(E9+F9),"") | I9: =IF(G9="","",RANK(G9,OFFSET($G$3,1,,COUNTA(A:A)-2)))
G10: =IF(COUNTA(E10:F10)=2,SUM(E10+F10),"") | I10: =IF(G10="","",RANK(G10,OFFSET($G$3,1,,COUNTA(A:A)-2)))
G11: =IF(COUNTA(E11:F11)=2,SUM(E11+F11),"") | I11: =IF(G11="","",RANK(G11,OFFSET($G$3,1,,COUNTA(A:A)-2)))
G12: =IF(COUNTA(E12:F12)=2,SUM(E12+F12),"") | I12: =IF(G12="","",RANK(G12,OFFSET($G$3,1,,COUNTA(A:A)-2)))
G13: =IF(COUNTA(E13:F13)=2,SUM(E13+F13),"") | I13: =IF(G13="","",RANK(G13,OFFSET($G$3,1,,COUNTA(A:A)-2)))
G14: =IF(COUNTA(E14:F14)=2,SUM(E14+F14),"") | I14: =IF(G14="","",RANK(G14,OFFSET($G$3,1,,COUNTA(A:A)-2)))
G15: =IF(COUNTA(E15:F15)=2,SUM(E15+F15),"") | I15: =IF(G15="","",RANK(G15,OFFSET($G$3,1,,COUNTA(A:A)-2)))
G16: =IF(COUNTA(E16:F16)=2,SUM(E16+F16),"") | I16: =IF(G16="","",RANK(G16,OFFSET($G$3,1,,COUNTA(A:A)-2)))
... G45: =IF(COUNTA(E45:F45)=2,SUM(E45+F45),"") | I45: =IF(G45="","",RANK(G45,OFFSET($G$3,1,,COUNTA(A:A)-2)))

Sheet INTERMEDIAIRE_INTERIEUR_1
A1: INTERMEDIAIRE_EXTERIEUR_1
A3: Nom Prénom | B3: NOM DU CHIEN | C3: NUMERO USCSS | D3: NIVEAU INTERMEDIAIRE | E3: Nombre de points | F3: Temps | G3: N | H3: Q | I3: Classement
A4: {=_xlfn._xlws.FILTER(Chemin_[],Chemin_[NIVEAU INTERMEDIAIRE]=INTERMEDIAIRE_INTERIEUR_1!A1)} -> R Marie | B4: FF | C4: 245 | D4: INTERMEDIAIRE_EXTERIEUR_1 | E4: 100 | F4: 0.00045092593 | G4: =IF(COUNTA(E4:F4)=2,SUM(E4+F4),"") -> 100.00045 | H4: Q | I4: =IF(G4="","",RANK(G4,OFFSET($G$3,1,,COUNTA(A:A)-2))) -> 1
G5: =IF(COUNTA(E5:F5)=2,SUM(E5+F5),"") | I5: =IF(G5="","",RANK(G5,OFFSET($G$3,1,,COUNTA(A:A)-2)))
G6: =IF(COUNTA(E6:F6)=2,SUM(E6+F6),"") | I6: =IF(G6="","",RANK(G6,OFFSET($G$3,1,,COUNTA(A:A)-2)))
G7: =IF(COUNTA(E7:F7)=2,SUM(E7+F7),"") | I7: =IF(G7="","",RANK(G7,OFFSET($G$3,1,,COUNTA(A:A)-2)))
G8: =IF(COUNTA(E8:F8)=2,SUM(E8+F8),"") | I8: =IF(G8="","",RANK(G8,OFFSET($G$3,1,,COUNTA(A:A)-2)))
G9: =IF(COUNTA(E9:F9)=2,SUM(E9+F9),"") | I9: =IF(G9="","",RANK(G9,OFFSET($G$3,1,,COUNTA(A:A)-2)))
G10: =IF(COUNTA(E10:F10)=2,SUM(E10+F10),"") | I10: =IF(G10="","",RANK(G10,OFFSET($G$3,1,,COUNTA(A:A)-2)))
G11: =IF(COUNTA(E11:F11)=2,SUM(E11+F11),"") | I11: =IF(G11="","",RANK(G11,OFFSET($G$3,1,,COUNTA(A:A)-2)))
G12: =IF(COUNTA(E12:F12)=2,SUM(E12+F12),"") | I12: =IF(G12="","",RANK(G12,OFFSET($G$3,1,,COUNTA(A:A)-2)))
G13: =IF(COUNTA(E13:F13)=2,SUM(E13+F13),"") | I13: =IF(G13="","",RANK(G13,OFFSET($G$3,1,,COUNTA(A:A)-2)))
G14: =IF(COUNTA(E14:F14)=2,SUM(E14+F14),"") | I14: =IF(G14="","",RANK(G14,OFFSET($G$3,1,,COUNTA(A:A)-2)))
G15: =IF(COUNTA(E15:F15)=2,SUM(E15+F15),"") | I15: =IF(G15="","",RANK(G15,OFFSET($G$3,1,,COUNTA(A:A)-2)))
G16: =IF(COUNTA(E16:F16)=2,SUM(E16+F16),"") | I16: =IF(G16="","",RANK(G16,OFFSET($G$3,1,,COUNTA(A:A)-2)))
... G45: =IF(COUNTA(E45:F45)=2,SUM(E45+F45),"") | I45: =IF(G45="","",RANK(G45,OFFSET($G$3,1,,COUNTA(A:A)-2)))

Sheet INTERMEDIAIRE_VEHICULE_1
A1: INTERMEDIAIRE_VEHICULE_1
A3: Nom Prénom | B3: NOM DU CHIEN | C3: NUMERO USCSS | D3: NIVEAU INTERMEDIAIRE | E3: Nombre de points | F3: Temps | G3: N | H3: Q | I3: Classement
A4: {=_xlfn._xlws.FILTER(Chemin_[],Chemin_[NIVEAU INTERMEDIAIRE]=INTERMEDIAIRE_VEHICULE_1!A1)} -> R Marie | B4: FF | C4: 245 | D4: INTERMEDIAIRE_VEHICULE_1 | E4: 100 | F4: 0.00045092593 | G4: =IF(COUNTA(E4:F4)=2,SUM(E4+F4),"") -> 100.00045 | H4: Q | I4: =IF(G4="","",RANK(G4,OFFSET($G$3,1,,COUNTA(A:A)-2))) -> 1
G5: =IF(COUNTA(E5:F5)=2,SUM(E5+F5),"") | I5: =IF(G5="","",RANK(G5,OFFSET($G$3,1,,COUNTA(A:A)-2)))
G6: =IF(COUNTA(E6:F6)=2,SUM(E6+F6),"") | I6: =IF(G6="","",RANK(G6,OFFSET($G$3,1,,COUNTA(A:A)-2)))
G7: =IF(COUNTA(E7:F7)=2,SUM(E7+F7),"") | I7: =IF(G7="","",RANK(G7,OFFSET($G$3,1,,COUNTA(A:A)-2)))
G8: =IF(COUNTA(E8:F8)=2,SUM(E8+F8),"") | I8: =IF(G8="","",RANK(G8,OFFSET($G$3,1,,COUNTA(A:A)-2)))
G9: =IF(COUNTA(E9:F9)=2,SUM(E9+F9),"") | I9: =IF(G9="","",RANK(G9,OFFSET($G$3,1,,COUNTA(A:A)-2)))
G10: =IF(COUNTA(E10:F10)=2,SUM(E10+F10),"") | I10: =IF(G10="","",RANK(G10,OFFSET($G$3,1,,COUNTA(A:A)-2)))
G11: =IF(COUNTA(E11:F11)=2,SUM(E11+F11),"") | I11: =IF(G11="","",RANK(G11,OFFSET($G$3,1,,COUNTA(A:A)-2)))
G12: =IF(COUNTA(E12:F12)=2,SUM(E12+F12),"") | I12: =IF(G12="","",RANK(G12,OFFSET($G$3,1,,COUNTA(A:A)-2)))
G13: =IF(COUNTA(E13:F13)=2,SUM(E13+F13),"") | I13: =IF(G13="","",RANK(G13,OFFSET($G$3,1,,COUNTA(A:A)-2)))
G14: =IF(COUNTA(E14:F14)=2,SUM(E14+F14),"") | I14: =IF(G14="","",RANK(G14,OFFSET($G$3,1,,COUNTA(A:A)-2)))
G15: =IF(COUNTA(E15:F15)=2,SUM(E15+F15),"") | I15: =IF(G15="","",RANK(G15,OFFSET($G$3,1,,COUNTA(A:A)-2)))
G16: =IF(COUNTA(E16:F16)=2,SUM(E16+F16),"") | I16: =IF(G16="","",RANK(G16,OFFSET($G$3,1,,COUNTA(A:A)-2)))
... G45: =IF(COUNTA(E45:F45)=2,SUM(E45+F45),"") | I45: =IF(G45="","",RANK(G45,OFFSET($G$3,1,,COUNTA(A:A)-2)))
