Workbook
Name L_Etats: Etats[Etat]

Sheet Prospects
A1: Commercial | B1: Prospect | C1: Code Postal | D1: Activité | E1: Date | F1: Entrée | G1: Ville | H1: Adresse | I1: N° Téléphone | J1: Adresse mail | K1: Personne contactée | L1: État Prospect | M1: État | N1: Dernière relance | O1: Date relance | P1: Commentaire | Q1: Lien offre
A2: YK | B2: ENTREPRISE 1 | C2: 90850 | D2: Transport | E2: 45206 | F2: Prospection téléphonique | I2: 301020304 | J2: contact@entreprise.com | K2: M.DUPONT | L2: PC | M2: Recherche en cours | N2: 36892 | O2: 44958 | AA2: YK
A3: YK | B3: ENTREPRISE 2 | C3: 90850 | D3: Transport | E3: 45206 | F3: Prospection téléphonique | I3: 301020304 | J3: contact@entreprise.com | K3: M.DUPONT | L3: N/A | M3: En poste | N3: 36892 | O3: 44958 | AA3: LS
A4: YK | B4: ENTREPRISE 3 | C4: 90850 | D4: Transport | E4: 45206 | F4: Prospection téléphonique | I4: 301020304 | J4: contact@entreprise.com | K4: M.DUPONT | L4: PT | M4: Recherche en cours | N4: 36892 | O4: 44958 | AA4: DW
A5: YK | B5: ENTREPRISE 4 | C5: 90850 | D5: Transport | E5: 45206 | F5: Prospection téléphonique | I5: 301020304 | J5: contact@entreprise.com | K5: M.DUPONT | L5: PC | M5: Vivier | N5: 36892 | O5: 44958 | AA5: PD
AA6: MCS
AB11: Mises en forme relance
W12: Totaux | Y12: Totaux | AB12: Relance aujourd'hui | AC12: Relance dépassée | AD12: Relance longue | AE12: Erreur saisie (Dernière relance > Date relance) | AF12: Relance le lendemain
U13: A relancer | W13: =COUNTIF(M:M,Tables!A2) -> 0 | X13: PC | Y13: =COUNTIF(L:L,X13) -> 2
U14: Gagné | W14: =COUNTIF(M:M,Tables!A3) -> 1 | X14: PT | Y14: =COUNTIF(L:L,X14) -> 1
U15: Perdu | W15: =COUNTIF(M:M,Tables!A4) -> 0 | X15: PF | Y15: =COUNTIF(L:L,X15) -> 0
W16: =COUNTIF(M:M,Tables!A5) -> 2 | X16: N/A | Y16: =COUNTIF(L:L,X16) -> 1
W17: =COUNTIF(M:M,Tables!A6) -> 1 | X17: VIDE | Y17: =(COUNTA(B:B)-1)-SUM(Y13:Y16) -> 0 | AC17: =COUNTA(B:B)-(COUNTA(D:D)) -> 0
W18: =COUNTIF(M:M,Tables!A7) -> 0
W19: =COUNTIF(M:M,Tables!A8) -> 0
W20: =(COUNTA(B:B)-1)-SUM(W13:W19) -> 0
Y26: Transport | AB26: Transport | AC26: =COUNTIF(D:D,Y26) -> 4
Y27: Logistique | AB27: Logistique | AC27: =COUNTIF(D:D,Y27) -> 0
Y28: Travaux publics | AB28: Travaux publics | AC28: =COUNTIF(D:D,Y28) -> 0
Y29: Bâtiment | AB29: Bâtiment | AC29: =COUNTIF(D:D,Y29) -> 0
Y30: Industrie | AB30: Industrie | AC30: =COUNTIF(D:D,Y30) -> 0
Y31: Hôtellerie | AB31: Hôtellerie | AC31: =COUNTIF(D:D,Y31) -> 0
Y32: Tertiaire | AB32: Tertiaire | AC32: =COUNTIF(D:D,Y32) -> 0
L392: =IFERROR(_xlfn.IFS($M392=Tables!$A$7,"N/A",$M392=Tables!$A$8,"PF"),"")
L393: =IFERROR(_xlfn.IFS($M393=Tables!$A$7,"N/A",$M393=Tables!$A$8,"PF"),"")
L394: =IFERROR(_xlfn.IFS($M394=Tables!$A$7,"N/A",$M394=Tables!$A$8,"PF"),"")
L395: =IFERROR(_xlfn.IFS($M395=Tables!$A$7,"N/A",$M395=Tables!$A$8,"PF"),"")
L396: =IFERROR(_xlfn.IFS($M396=Tables!$A$7,"N/A",$M396=Tables!$A$8,"PF"),"")
L397: =IFERROR(_xlfn.IFS($M397=Tables!$A$7,"N/A",$M397=Tables!$A$8,"PF"),"")
L398: =IFERROR(_xlfn.IFS($M398=Tables!$A$7,"N/A",$M398=Tables!$A$8,"PF"),"")
L399: =IFERROR(_xlfn.IFS($M399=Tables!$A$7,"N/A",$M399=Tables!$A$8,"PF"),"")
L400: =IFERROR(_xlfn.IFS($M400=Tables!$A$7,"N/A",$M400=Tables!$A$8,"PF"),"")
L401: =IFERROR(_xlfn.IFS($M401=Tables!$A$7,"N/A",$M401=Tables!$A$8,"PF"),"")
L402: =IFERROR(_xlfn.IFS($M402=Tables!$A$7,"N/A",$M402=Tables!$A$8,"PF"),"")
L403: =IFERROR(_xlfn.IFS($M403=Tables!$A$7,"N/A",$M403=Tables!$A$8,"PF"),"")
... L556: =IFERROR(_xlfn.IFS($M556=Tables!$A$7,"N/A",$M556=Tables!$A$8,"PF"),"")

Sheet Commandes
A1: Prospect | B1: Activité | C1: N° Téléphone | D1: Personne contactée
A2: ENTREPRISE 1 | B2: Transport | C2: 301020304 | D2: M.DUPONT
A3: ENTREPRISE 2 | B3: Transport | C3: 301020304 | D3: M.DUPONT
A4: ENTREPRISE 3 | B4: Transport | C4: 301020304 | D4: M.DUPONT
A5: ENTREPRISE 4 | B5: Transport | C5: 301020304 | D5: M.DUPONT

Sheet Stats
A3: Nombre de Prospect | B3: Commercial | J3: Nombre de Prospect | K3: Commercial
A4: État | B4: YK | C4: Total général | J4: État Prospect | K4: YK | L4: Total général
A5: En poste | B5: 1 | C5: 1 | J5: N/A | K5: 1 | L5: 1
A6: Recherche en cours | B6: 2 | C6: 2 | J6: PC | K6: 2 | L6: 2
A7: Vivier | B7: 1 | C7: 1 | J7: PT | K7: 1 | L7: 1
A8: Total général | B8: 4 | C8: 4 | J8: Total général | K8: 4 | L8: 4

Sheet Tables
A1: Etat
A2: A relancer
A3: En poste
A4: Perdu
A5: Recherche en cours
A6: Vivier
A7: Pas de rep
A8: Pas intéressé
