Workbook
Name annee: Calendrier!$BD$2
Name Anniversaire: Dates!$A$28:$H$30
Name Bordeaux_vin: Dates!$E$16:$E$26
Name Evenements: Dates!$A$15:$H$26
Name Fetes_Bayonne: Dates!$F$16:$F$26
Name Fetes_Dax: Dates!$H$16:$H$26
Name Fetes_Soustons: Dates!$G$16:$G$26
Name Foire_Jambon: Dates!$D$16:$D$26
Name Jours_feries: Dates!$A$1:$H$13
Name mois: Calendrier!$BD$4
Name Salon_agriculture: Dates!$C$16:$C$26
Name Ski: Dates!$B$16:$B$26
Name Soirée_Joueurs: Dates!$A$16:$A$26
Name Vacances_Scolaires: Dates!$A$32:$E$85

Sheet Calendrier
AW2: Année du calendrier : | BD2: 2023
AW4: Mois de départ : | BD4: 9
B6: =PROPER(TEXT(C8,"mmmm")) -> Septembre | G6: =PROPER(TEXT(H8,"mmmm")) -> Octobre | L6: =PROPER(TEXT(M8,"mmmm")) -> Novembre | Q6: =PROPER(TEXT(R8,"mmmm")) -> Décembre | V6: =PROPER(TEXT(W8,"mmmm")) -> Janvier | AA6: =PROPER(TEXT(AB8,"mmmm")) -> Février | AF6: =PROPER(TEXT(AG8,"mmmm")) -> Mars | AK6: =PROPER(TEXT(AL8,"mmmm")) -> Avril | AP6: =PROPER(TEXT(AQ8,"mmmm")) -> Mai | AU6: =PROPER(TEXT(AV8,"mmmm")) -> Juin | AZ6: =PROPER(TEXT(BA8,"mmmm")) -> Juillet | BE6: =PROPER(TEXT(BF8,"mmmm")) -> Août
B7: =YEAR(C8) -> 2023 | G7: =YEAR(H8) -> 2023 | L7: =YEAR(M8) -> 2023 | Q7: =YEAR(R8) -> 2023 | V7: =YEAR(W8) -> 2024 | AA7: =YEAR(AB8) -> 2024 | AF7: =YEAR(AG8) -> 2024 | AK7: =YEAR(AL8) -> 2024 | AP7: =YEAR(AQ8) -> 2024 | AU7: =YEAR(AV8) -> 2024 | AZ7: =YEAR(BA8) -> 2024 | BE7: =YEAR(BF8) -> 2024
B8: =IF(C8<>"",UPPER(LEFT(TEXT(C8,"jjj"))),"") -> V | C8: =DATE(annee,ROUNDDOWN(COLUMN()/5,0)+mois,1) -> 45170 | D8: {=_xlfn.XLOOKUP(C8,OFFSET(Dates!$A$3:$A$13,,MATCH(Calendrier!$BD$2&"*",Dates!$B$2:$H$2,0)),Dates!$A$3:$A$13,"",0)} | G8: =IF(H8<>"",UPPER(LEFT(TEXT(H8,"jjj"))),"") -> D | H8: =DATE(annee,ROUNDDOWN(COLUMN()/5,0)+mois,1) -> 45200 | I8: {=_xlfn.XLOOKUP(H8,OFFSET(Dates!$A$3:$A$13,,MATCH(Calendrier!$BD$2&"*",Dates!$B$2:$H$2,0)),Dates!$A$3:$A$13,"",0)} | L8: =IF(M8<>"",UPPER(LEFT(TEXT(M8,"jjj"))),"") -> M | M8: =DATE(annee,ROUNDDOWN(COLUMN()/5,0)+mois,1) -> 45231 | N8: {=_xlfn.XLOOKUP(M8,OFFSET(Dates!$A$3:$A$13,,MATCH(Calendrier!$BD$2&"*",Dates!$B$2:$H$2,0)),Dates!$A$3:$A$13,"",0)} -> Toussaint | Q8: =IF(R8<>"",UPPER(LEFT(TEXT(R8,"jjj"))),"") -> V | R8: =DATE(annee,ROUNDDOWN(COLUMN()/5,0)+mois,1) -> 45261 | S8: {=_xlfn.XLOOKUP(R8,OFFSET(Dates!$A$3:$A$13,,MATCH(Calendrier!$BD$2&"*",Dates!$B$2:$H$2,0)),Dates!$A$3:$A$13,"",0)} | V8: =IF(W8<>"",UPPER(LEFT(TEXT(W8,"jjj"))),"") -> L | W8: =DATE(annee,ROUNDDOWN(COLUMN()/5,0)+mois,1) -> 45292 | X8: {=_xlfn.XLOOKUP(W8,OFFSET(Dates!$A$3:$A$13,,MATCH(Calendrier!$BD$2&"*",Dates!$B$2:$H$2,0)),Dates!$A$3:$A$13,"",0)} -> Jour de l'An | AA8: =IF(AB8<>"",UPPER(LEFT(TEXT(AB8,"jjj"))),"") -> J | AB8: =DATE(annee,ROUNDDOWN(COLUMN()/5,0)+mois,1) -> 45323 | AC8: {=_xlfn.XLOOKUP(AB8,OFFSET(Dates!$A$3:$A$13,,MATCH(Calendrier!$BD$2&"*",Dates!$B$2:$H$2,0)),Dates!$A$3:$A$13,"",0)} | AF8: =IF(AG8<>"",UPPER(LEFT(TEXT(AG8,"jjj"))),"") -> V | AG8: =DATE(annee,ROUNDDOWN(COLUMN()/5,0)+mois,1) -> 45352 | AH8: {=_xlfn.XLOOKUP(AG8,OFFSET(Dates!$A$3:$A$13,,MATCH(Calendrier!$BD$2&"*",Dates!$B$2:$H$2,0)),Dates!$A$3:$A$13,"",0)} | AK8: =IF(AL8<>"",UPPER(LEFT(TEXT(AL8,"jjj"))),"") -> L | AL8: =DATE(annee,ROUNDDOWN(COLUMN()/5,0)+mois,1) -> 45383 | AM8: {=_xlfn.XLOOKUP(AL8,OFFSET(Dates!$A$3:$A$13,,MATCH(Calendrier!$BD$2&"*",Dates!$B$2:$H$2,0)),Dates!$A$3:$A$13,"",0)} -> Lundi de Pâques | AP8: =IF(AQ8<>"",UPPER(LEFT(TEXT(AQ8,"jjj"))),"") -> M | AQ8: =DATE(annee,ROUNDDOWN(COLUMN()/5,0)+mois,1) -> 45413 | AR8: {=_xlfn.XLOOKUP(AQ8,OFFSET(Dates!$A$3:$A$13,,MATCH(Calendrier!$BD$2&"*",Dates!$B$2:$H$2,0)),Dates!$A$3:$A$13,"",0)} -> Fête du Travail | AU8: =IF(AV8<>"",UPPER(LEFT(TEXT(AV8,"jjj"))),"") -> S | AV8: =DATE(annee,ROUNDDOWN(COLUMN()/5,0)+mois,1) -> 45444 | AW8: {=_xlfn.XLOOKUP(AV8,OFFSET(Dates!$A$3:$A$13,,MATCH(Calendrier!$BD$2&"*",Dates!$B$2:$H$2,0)),Dates!$A$3:$A$13,"",0)} | AZ8: =IF(BA8<>"",UPPER(LEFT(TEXT(BA8,"jjj"))),"") -> L | BA8: =DATE(annee,ROUNDDOWN(COLUMN()/5,0)+mois,1) -> 45474 | BB8: {=_xlfn.XLOOKUP(BA8,OFFSET(Dates!$A$3:$A$13,,MATCH(Calendrier!$BD$2&"*",Dates!$B$2:$H$2,0)),Dates!$A$3:$A$13,"",0)} | BE8: =IF(BF8<>"",UPPER(LEFT(TEXT(BF8,"jjj"))),"") -> J | BF8: =DATE(annee,ROUNDDOWN(COLUMN()/5,0)+mois,1) -> 45505 | BG8: {=_xlfn.XLOOKUP(BF8,OFFSET(Dates!$A$3:$A$13,,MATCH(Calendrier!$BD$2&"*",Dates!$B$2:$H$2,0)),Dates!$A$3:$A$13,"",0)}
B9: =IF(C9<>"",UPPER(LEFT(TEXT(C9,"jjj"))),"") -> S | C9: =C8+1 -> 45171 | D9: {=_xlfn.XLOOKUP(C9,OFFSET(Dates!$A$3:$A$13,,MATCH(Calendrier!$BD$2&"*",Dates!$B$2:$H$2,0)),Dates!$A$3:$A$13,"",0)} | G9: =IF(H9<>"",UPPER(LEFT(TEXT(H9,"jjj"))),"") -> L | H9: =H8+1 -> 45201 | I9: {=_xlfn.XLOOKUP(H9,OFFSET(Dates!$A$3:$A$13,,MATCH(Calendrier!$BD$2&"*",Dates!$B$2:$H$2,0)),Dates!$A$3:$A$13,"",0)} | L9: =IF(M9<>"",UPPER(LEFT(TEXT(M9,"jjj"))),"") -> J | M9: =M8+1 -> 45232 | N9: {=_xlfn.XLOOKUP(M9,OFFSET(Dates!$A$3:$A$13,,MATCH(Calendrier!$BD$2&"*",Dates!$B$2:$H$2,0)),Dates!$A$3:$A$13,"",0)} | Q9: =IF(R9<>"",UPPER(LEFT(TEXT(R9,"jjj"))),"") -> S | R9: =R8+1 -> 45262 | S9: {=_xlfn.XLOOKUP(R9,OFFSET(Dates!$A$3:$A$13,,MATCH(Calendrier!$BD$2&"*",Dates!$B$2:$H$2,0)),Dates!$A$3:$A$13,"",0)} | V9: =IF(W9<>"",UPPER(LEFT(TEXT(W9,"jjj"))),"") -> M | W9: =W8+1 -> 45293 | X9: {=_xlfn.XLOOKUP(W9,OFFSET(Dates!$A$3:$A$13,,MATCH(Calendrier!$BD$2&"*",Dates!$B$2:$H$2,0)),Dates!$A$3:$A$13,"",0)} | AA9: =IF(AB9<>"",UPPER(LEFT(TEXT(AB9,"jjj"))),"") -> V | AB9: =AB8+1 -> 45324 | AC9: {=_xlfn.XLOOKUP(AB9,OFFSET(Dates!$A$3:$A$13,,MATCH(Calendrier!$BD$2&"*",Dates!$B$2:$H$2,0)),Dates!$A$3:$A$13,"",0)} | AF9: =IF(AG9<>"",UPPER(LEFT(TEXT(AG9,"jjj"))),"") -> S | AG9: =AG8+1 -> 45353 | AH9: {=_xlfn.XLOOKUP(AG9,OFFSET(Dates!$A$3:$A$13,,MATCH(Calendrier!$BD$2&"*",Dates!$B$2:$H$2,0)),Dates!$A$3:$A$13,"",0)} | AK9: =IF(AL9<>"",UPPER(LEFT(TEXT(AL9,"jjj"))),"") -> M | AL9: =AL8+1 -> 45384 | AM9: {=_xlfn.XLOOKUP(AL9,OFFSET(Dates!$A$3:$A$13,,MATCH(Calendrier!$BD$2&"*",Dates!$B$2:$H$2,0)),Dates!$A$3:$A$13,"",0)} | AP9: =IF(AQ9<>"",UPPER(LEFT(TEXT(AQ9,"jjj"))),"") -> J | AQ9: =AQ8+1 -> 45414 | AR9: {=_xlfn.XLOOKUP(AQ9,OFFSET(Dates!$A$3:$A$13,,MATCH(Calendrier!$BD$2&"*",Dates!$B$2:$H$2,0)),Dates!$A$3:$A$13,"",0)} | AU9: =IF(AV9<>"",UPPER(LEFT(TEXT(AV9,"jjj"))),"") -> D | AV9: =AV8+1 -> 45445 | AW9: {=_xlfn.XLOOKUP(AV9,OFFSET(Dates!$A$3:$A$13,,MATCH(Calendrier!$BD$2&"*",Dates!$B$2:$H$2,0)),Dates!$A$3:$A$13,"",0)} | AZ9: =IF(BA9<>"",UPPER(LEFT(TEXT(BA9,"jjj"))),"") -> M | BA9: =BA8+1 -> 45475 | BB9: {=_xlfn.XLOOKUP(BA9,OFFSET(Dates!$A$3:$A$13,,MATCH(Calendrier!$BD$2&"*",Dates!$B$2:$H$2,0)),Dates!$A$3:$A$13,"",0)} | BE9: =IF(BF9<>"",UPPER(LEFT(TEXT(BF9,"jjj"))),"") -> V | BF9: =BF8+1 -> 45506 | BG9: {=_xlfn.XLOOKUP(BF9,OFFSET(Dates!$A$3:$A$13,,MATCH(Calendrier!$BD$2&"*",Dates!$B$2:$H$2,0)),Dates!$A$3:$A$13,"",0)}
B10: =IF(C10<>"",UPPER(LEFT(TEXT(C10,"jjj"))),"") -> D | C10: =C9+1 -> 45172 | D10: {=_xlfn.XLOOKUP(C10,OFFSET(Dates!$A$3:$A$13,,MATCH(Calendrier!$BD$2&"*",Dates!$B$2:$H$2,0)),Dates!$A$3:$A$13,"",0)} | G10: =IF(H10<>"",UPPER(LEFT(TEXT(H10,"jjj"))),"") -> M | H10: =H9+1 -> 45202 | I10: {=_xlfn.XLOOKUP(H10,OFFSET(Dates!$A$3:$A$13,,MATCH(Calendrier!$BD$2&"*",Dates!$B$2:$H$2,0)),Dates!$A$3:$A$13,"",0)} | L10: =IF(M10<>"",UPPER(LEFT(TEXT(M10,"jjj"))),"") -> V | M10: =M9+1 -> 45233 | N10: {=_xlfn.XLOOKUP(M10,OFFSET(Dates!$A$3:$A$13,,MATCH(Calendrier!$BD$2&"*",Dates!$B$2:$H$2,0)),Dates!$A$3:$A$13,"",0)} | Q10: =IF(R10<>"",UPPER(LEFT(TEXT(R10,"jjj"))),"") -> D | R10: =R9+1 -> 45263 | S10: {=_xlfn.XLOOKUP(R10,OFFSET(Dates!$A$3:$A$13,,MATCH(Calendrier!$BD$2&"*",Dates!$B$2:$H$2,0)),Dates!$A$3:$A$13,"",0)} | V10: =IF(W10<>"",UPPER(LEFT(TEXT(W10,"jjj"))),"") -> M | W10: =W9+1 -> 45294 | X10: {=_xlfn.XLOOKUP(W10,OFFSET(Dates!$A$3:$A$13,,MATCH(Calendrier!$BD$2&"*",Dates!$B$2:$H$2,0)),Dates!$A$3:$A$13,"",0)} | AA10: =IF(AB10<>"",UPPER(LEFT(TEXT(AB10,"jjj"))),"") -> S | AB10: =AB9+1 -> 45325 | AC10: {=_xlfn.XLOOKUP(AB10,OFFSET(Dates!$A$3:$A$13,,MATCH(Calendrier!$BD$2&"*",Dates!$B$2:$H$2,0)),Dates!$A$3:$A$13,"",0)} | AF10: =IF(AG10<>"",UPPER(LEFT(TEXT(AG10,"jjj"))),"") -> D | AG10: =AG9+1 -> 45354 | AH10: {=_xlfn.XLOOKUP(AG10,OFFSET(Dates!$A$3:$A$13,,MATCH(Calendrier!$BD$2&"*",Dates!$B$2:$H$2,0)),Dates!$A$3:$A$13,"",0)} | AK10: =IF(AL10<>"",UPPER(LEFT(TEXT(AL10,"jjj"))),"") -> M | AL10: =AL9+1 -> 45385 | AM10: {=_xlfn.XLOOKUP(AL10,OFFSET(Dates!$A$3:$A$13,,MATCH(Calendrier!$BD$2&"*",Dates!$B$2:$H$2,0)),Dates!$A$3:$A$13,"",0)} | AP10: =IF(AQ10<>"",UPPER(LEFT(TEXT(AQ10,"jjj"))),"") -> V | AQ10: =AQ9+1 -> 45415 | AR10: {=_xlfn.XLOOKUP(AQ10,OFFSET(Dates!$A$3:$A$13,,MATCH(Calendrier!$BD$2&"*",Dates!$B$2:$H$2,0)),Dates!$A$3:$A$13,"",0)} | AU10: =IF(AV10<>"",UPPER(LEFT(TEXT(AV10,"jjj"))),"") -> L | AV10: =AV9+1 -> 45446 | AW10: {=_xlfn.XLOOKUP(AV10,OFFSET(Dates!$A$3:$A$13,,MATCH(Calendrier!$BD$2&"*",Dates!$B$2:$H$2,0)),Dates!$A$3:$A$13,"",0)} | AZ10: =IF(BA10<>"",UPPER(LEFT(TEXT(BA10,"jjj"))),"") -> M | BA10: =BA9+1 -> 45476 | BB10: {=_xlfn.XLOOKUP(BA10,OFFSET(Dates!$A$3:$A$13,,MATCH(Calendrier!$BD$2&"*",Dates!$B$2:$H$2,0)),Dates!$A$3:$A$13,"",0)} | BE10: =IF(BF10<>"",UPPER(LEFT(TEXT(BF10,"jjj"))),"") -> S | BF10: =BF9+1 -> 45507 | BG10: {=_xlfn.XLOOKUP(BF10,OFFSET(Dates!$A$3:$A$13,,MATCH(Calendrier!$BD$2&"*",Dates!$B$2:$H$2,0)),Dates!$A$3:$A$13,"",0)}
B11: =IF(C11<>"",UPPER(LEFT(TEXT(C11,"jjj"))),"") -> L | C11: =C10+1 -> 45173 | D11: {=_xlfn.XLOOKUP(C11,OFFSET(Dates!$A$3:$A$13,,MATCH(Calendrier!$BD$2&"*",Dates!$B$2:$H$2,0)),Dates!$A$3:$A$13,"",0)} | G11: =IF(H11<>"",UPPER(LEFT(TEXT(H11,"jjj"))),"") -> M | H11: =H10+1 -> 45203 | I11: {=_xlfn.XLOOKUP(H11,OFFSET(Dates!$A$3:$A$13,,MATCH(Calendrier!$BD$2&"*",Dates!$B$2:$H$2,0)),Dates!$A$3:$A$13,"",0)} | L11: =IF(M11<>"",UPPER(LEFT(TEXT(M11,"jjj"))),"") -> S | M11: =M10+1 -> 45234 | N11: {=_xlfn.XLOOKUP(M11,OFFSET(Dates!$A$3:$A$13,,MATCH(Calendrier!$BD$2&"*",Dates!$B$2:$H$2,0)),Dates!$A$3:$A$13,"",0)} | Q11: =IF(R11<>"",UPPER(LEFT(TEXT(R11,"jjj"))),"") -> L | R11: =R10+1 -> 45264 | S11: {=_xlfn.XLOOKUP(R11,OFFSET(Dates!$A$3:$A$13,,MATCH(Calendrier!$BD$2&"*",Dates!$B$2:$H$2,0)),Dates!$A$3:$A$13,"",0)} | V11: =IF(W11<>"",UPPER(LEFT(TEXT(W11,"jjj"))),"") -> J | W11: =W10+1 -> 45295 | X11: {=_xlfn.XLOOKUP(W11,OFFSET(Dates!$A$3:$A$13,,MATCH(Calendrier!$BD$2&"*",Dates!$B$2:$H$2,0)),Dates!$A$3:$A$13,"",0)} | AA11: =IF(AB11<>"",UPPER(LEFT(TEXT(AB11,"jjj"))),"") -> D | AB11: =AB10+1 -> 45326 | AC11: {=_xlfn.XLOOKUP(AB11,OFFSET(Dates!$A$3:$A$13,,MATCH(Calendrier!$BD$2&"*",Dates!$B$2:$H$2,0)),Dates!$A$3:$A$13,"",0)} | AF11: =IF(AG11<>"",UPPER(LEFT(TEXT(AG11,"jjj"))),"") -> L | AG11: =AG10+1 -> 45355 | AH11: {=_xlfn.XLOOKUP(AG11,OFFSET(Dates!$A$3:$A$13,,MATCH(Calendrier!$BD$2&"*",Dates!$B$2:$H$2,0)),Dates!$A$3:$A$13,"",0)} | AK11: =IF(AL11<>"",UPPER(LEFT(TEXT(AL11,"jjj"))),"") -> J | AL11: =AL10+1 -> 45386 | AM11: {=_xlfn.XLOOKUP(AL11,OFFSET(Dates!$A$3:$A$13,,MATCH(Calendrier!$BD$2&"*",Dates!$B$2:$H$2,0)),Dates!$A$3:$A$13,"",0)} | AP11: =IF(AQ11<>"",UPPER(LEFT(TEXT(AQ11,"jjj"))),"") -> S | AQ11: =AQ10+1 -> 45416 | AR11: {=_xlfn.XLOOKUP(AQ11,OFFSET(Dates!$A$3:$A$13,,MATCH(Calendrier!$BD$2&"*",Dates!$B$2:$H$2,0)),Dates!$A$3:$A$13,"",0)} | AU11: =IF(AV11<>"",UPPER(LEFT(TEXT(AV11,"jjj"))),"") -> M | AV11: =AV10+1 -> 45447 | AW11: {=_xlfn.XLOOKUP(AV11,OFFSET(Dates!$A$3:$A$13,,MATCH(Calendrier!$BD$2&"*",Dates!$B$2:$H$2,0)),Dates!$A$3:$A$13,"",0)} | AZ11: =IF(BA11<>"",UPPER(LEFT(TEXT(BA11,"jjj"))),"") -> J | BA11: =BA10+1 -> 45477 | BB11: {=_xlfn.XLOOKUP(BA11,OFFSET(Dates!$A$3:$A$13,,MATCH(Calendrier!$BD$2&"*",Dates!$B$2:$H$2,0)),Dates!$A$3:$A$13,"",0)} | BE11: =IF(BF11<>"",UPPER(LEFT(TEXT(BF11,"jjj"))),"") -> D | BF11: =BF10+1 -> 45508 | BG11: {=_xlfn.XLOOKUP(BF11,OFFSET(Dates!$A$3:$A$13,,MATCH(Calendrier!$BD$2&"*",Dates!$B$2:$H$2,0)),Dates!$A$3:$A$13,"",0)}
B12: =IF(C12<>"",UPPER(LEFT(TEXT(C12,"jjj"))),"") -> M | C12: =C11+1 -> 45174 | D12: {=_xlfn.XLOOKUP(C12,OFFSET(Dates!$A$3:$A$13,,MATCH(Calendrier!$BD$2&"*",Dates!$B$2:$H$2,0)),Dates!$A$3:$A$13,"",0)} | G12: =IF(H12<>"",UPPER(LEFT(TEXT(H12,"jjj"))),"") -> J | H12: =H11+1 -> 45204 | I12: {=_xlfn.XLOOKUP(H12,OFFSET(Dates!$A$3:$A$13,,MATCH(Calendrier!$BD$2&"*",Dates!$B$2:$H$2,0)),Dates!$A$3:$A$13,"",0)} | L12: =IF(M12<>"",UPPER(LEFT(TEXT(M12,"jjj"))),"") -> D | M12: =M11+1 -> 45235 | N12: {=_xlfn.XLOOKUP(M12,OFFSET(Dates!$A$3:$A$13,,MATCH(Calendrier!$BD$2&"*",Dates!$B$2:$H$2,0)),Dates!$A$3:$A$13,"",0)} | Q12: =IF(R12<>"",UPPER(LEFT(TEXT(R12,"jjj"))),"") -> M | R12: =R11+1 -> 45265 | S12: {=_xlfn.XLOOKUP(R12,OFFSET(Dates!$A$3:$A$13,,MATCH(Calendrier!$BD$2&"*",Dates!$B$2:$H$2,0)),Dates!$A$3:$A$13,"",0)} | V12: =IF(W12<>"",UPPER(LEFT(TEXT(W12,"jjj"))),"") -> V | W12: =W11+1 -> 45296 | X12: {=_xlfn.XLOOKUP(W12,OFFSET(Dates!$A$3:$A$13,,MATCH(Calendrier!$BD$2&"*",Dates!$B$2:$H$2,0)),Dates!$A$3:$A$13,"",0)} | AA12: =IF(AB12<>"",UPPER(LEFT(TEXT(AB12,"jjj"))),"") -> L | AB12: =AB11+1 -> 45327 | AC12: {=_xlfn.XLOOKUP(AB12,OFFSET(Dates!$A$3:$A$13,,MATCH(Calendrier!$BD$2&"*",Dates!$B$2:$H$2,0)),Dates!$A$3:$A$13,"",0)} | AF12: =IF(AG12<>"",UPPER(LEFT(TEXT(AG12,"jjj"))),"") -> M | AG12: =AG11+1 -> 45356 | AH12: {=_xlfn.XLOOKUP(AG12,OFFSET(Dates!$A$3:$A$13,,MATCH(Calendrier!$BD$2&"*",Dates!$B$2:$H$2,0)),Dates!$A$3:$A$13,"",0)} | AK12: =IF(AL12<>"",UPPER(LEFT(TEXT(AL12,"jjj"))),"") -> V | AL12: =AL11+1 -> 45387 | AM12: {=_xlfn.XLOOKUP(AL12,OFFSET(Dates!$A$3:$A$13,,MATCH(Calendrier!$BD$2&"*",Dates!$B$2:$H$2,0)),Dates!$A$3:$A$13,"",0)} | AP12: =IF(AQ12<>"",UPPER(LEFT(TEXT(AQ12,"jjj"))),"") -> D | AQ12: =AQ11+1 -> 45417 | AR12: {=_xlfn.XLOOKUP(AQ12,OFFSET(Dates!$A$3:$A$13,,MATCH(Calendrier!$BD$2&"*",Dates!$B$2:$H$2,0)),Dates!$A$3:$A$13,"",0)} | AU12: =IF(AV12<>"",UPPER(LEFT(TEXT(AV12,"jjj"))),"") -> M | AV12: =AV11+1 -> 45448 | AW12: {=_xlfn.XLOOKUP(AV12,OFFSET(Dates!$A$3:$A$13,,MATCH(Calendrier!$BD$2&"*",Dates!$B$2:$H$2,0)),Dates!$A$3:$A$13,"",0)} | AZ12: =IF(BA12<>"",UPPER(LEFT(TEXT(BA12,"jjj"))),"") -> V | BA12: =BA11+1 -> 45478 | BB12: {=_xlfn.XLOOKUP(BA12,OFFSET(Dates!$A$3:$A$13,,MATCH(Calendrier!$BD$2&"*",Dates!$B$2:$H$2,0)),Dates!$A$3:$A$13,"",0)} | BE12: =IF(BF12<>"",UPPER(LEFT(TEXT(BF12,"jjj"))),"") -> L | BF12: =BF11+1 -> 45509 | BG12: {=_xlfn.XLOOKUP(BF12,OFFSET(Dates!$A$3:$A$13,,MATCH(Calendrier!$BD$2&"*",Dates!$B$2:$H$2,0)),Dates!$A$3:$A$13,"",0)}
B13: =IF(C13<>"",UPPER(LEFT(TEXT(C13,"jjj"))),"") -> M | C13: =C12+1 -> 45175 | D13: {=_xlfn.XLOOKUP(C13,OFFSET(Dates!$A$3:$A$13,,MATCH(Calendrier!$BD$2&"*",Dates!$B$2:$H$2,0)),Dates!$A$3:$A$13,"",0)} | G13: =IF(H13<>"",UPPER(LEFT(TEXT(H13,"jjj"))),"") -> V | H13: =H12+1 -> 45205 | I13: {=_xlfn.XLOOKUP(H13,OFFSET(Dates!$A$3:$A$13,,MATCH(Calendrier!$BD$2&"*",Dates!$B$2:$H$2,0)),Dates!$A$3:$A$13,"",0)} | L13: =IF(M13<>"",UPPER(LEFT(TEXT(M13,"jjj"))),"") -> L | M13: =M12+1 -> 45236 | N13: {=_xlfn.XLOOKUP(M13,OFFSET(Dates!$A$3:$A$13,,MATCH(Calendrier!$BD$2&"*",Dates!$B$2:$H$2,0)),Dates!$A$3:$A$13,"",0)} | Q13: =IF(R13<>"",UPPER(LEFT(TEXT(R13,"jjj"))),"") -> M | R13: =R12+1 -> 45266 | S13: {=_xlfn.XLOOKUP(R13,OFFSET(Dates!$A$3:$A$13,,MATCH(Calendrier!$BD$2&"*",Dates!$B$2:$H$2,0)),Dates!$A$3:$A$13,"",0)} | V13: =IF(W13<>"",UPPER(LEFT(TEXT(W13,"jjj"))),"") -> S | W13: =W12+1 -> 45297 | X13: {=_xlfn.XLOOKUP(W13,OFFSET(Dates!$A$3:$A$13,,MATCH(Calendrier!$BD$2&"*",Dates!$B$2:$H$2,0)),Dates!$A$3:$A$13,"",0)} | AA13: =IF(AB13<>"",UPPER(LEFT(TEXT(AB13,"jjj"))),"") -> M | AB13: =AB12+1 -> 45328 | AC13: {=_xlfn.XLOOKUP(AB13,OFFSET(Dates!$A$3:$A$13,,MATCH(Calendrier!$BD$2&"*",Dates!$B$2:$H$2,0)),Dates!$A$3:$A$13,"",0)} | AF13: =IF(AG13<>"",UPPER(LEFT(TEXT(AG13,"jjj"))),"") -> M | AG13: =AG12+1 -> 45357 | AH13: {=_xlfn.XLOOKUP(AG13,OFFSET(Dates!$A$3:$A$13,,MATCH(Calendrier!$BD$2&"*",Dates!$B$2:$H$2,0)),Dates!$A$3:$A$13,"",0)} | AK13: =IF(AL13<>"",UPPER(LEFT(TEXT(AL13,"jjj"))),"") -> S | AL13: =AL12+1 -> 45388 | AM13: {=_xlfn.XLOOKUP(AL13,OFFSET(Dates!$A$3:$A$13,,MATCH(Calendrier!$BD$2&"*",Dates!$B$2:$H$2,0)),Dates!$A$3:$A$13,"",0)} | AP13: =IF(AQ13<>"",UPPER(LEFT(TEXT(AQ13,"jjj"))),"") -> L | AQ13: =AQ12+1 -> 45418 | AR13: {=_xlfn.XLOOKUP(AQ13,OFFSET(Dates!$A$3:$A$13,,MATCH(Calendrier!$BD$2&"*",Dates!$B$2:$H$2,0)),Dates!$A$3:$A$13,"",0)} | AU13: =IF(AV13<>"",UPPER(LEFT(TEXT(AV13,"jjj"))),"") -> J | AV13: =AV12+1 -> 45449 | AW13: {=_xlfn.XLOOKUP(AV13,OFFSET(Dates!$A$3:$A$13,,MATCH(Calendrier!$BD$2&"*",Dates!$B$2:$H$2,0)),Dates!$A$3:$A$13,"",0)} | AZ13: =IF(BA13<>"",UPPER(LEFT(TEXT(BA13,"jjj"))),"") -> S | BA13: =BA12+1 -> 45479 | BB13: {=_xlfn.XLOOKUP(BA13,OFFSET(Dates!$A$3:$A$13,,MATCH(Calendrier!$BD$2&"*",Dates!$B$2:$H$2,0)),Dates!$A$3:$A$13,"",0)} | BE13: =IF(BF13<>"",UPPER(LEFT(TEXT(BF13,"jjj"))),"") -> M | BF13: =BF12+1 -> 45510 | BG13: {=_xlfn.XLOOKUP(BF13,OFFSET(Dates!$A$3:$A$13,,MATCH(Calendrier!$BD$2&"*",Dates!$B$2:$H$2,0)),Dates!$A$3:$A$13,"",0)}
B14: =IF(C14<>"",UPPER(LEFT(TEXT(C14,"jjj"))),"") -> J | C14: =C13+1 -> 45176 | D14: {=_xlfn.XLOOKUP(C14,OFFSET(Dates!$A$3:$A$13,,MATCH(Calendrier!$BD$2&"*",Dates!$B$2:$H$2,0)),Dates!$A$3:$A$13,"",0)} | G14: =IF(H14<>"",UPPER(LEFT(TEXT(H14,"jjj"))),"") -> S | H14: =H13+1 -> 45206 | I14: {=_xlfn.XLOOKUP(H14,OFFSET(Dates!$A$3:$A$13,,MATCH(Calendrier!$BD$2&"*",Dates!$B$2:$H$2,0)),Dates!$A$3:$A$13,"",0)} | L14: =IF(M14<>"",UPPER(LEFT(TEXT(M14,"jjj"))),"") -> M | M14: =M13+1 -> 45237 | N14: {=_xlfn.XLOOKUP(M14,OFFSET(Dates!$A$3:$A$13,,MATCH(Calendrier!$BD$2&"*",Dates!$B$2:$H$2,0)),Dates!$A$3:$A$13,"",0)} | Q14: =IF(R14<>"",UPPER(LEFT(TEXT(R14,"jjj"))),"") -> J | R14: =R13+1 -> 45267 | S14: {=_xlfn.XLOOKUP(R14,OFFSET(Dates!$A$3:$A$13,,MATCH(Calendrier!$BD$2&"*",Dates!$B$2:$H$2,0)),Dates!$A$3:$A$13,"",0)} | V14: =IF(W14<>"",UPPER(LEFT(TEXT(W14,"jjj"))),"") -> D | W14: =W13+1 -> 45298 | X14: {=_xlfn.XLOOKUP(W14,OFFSET(Dates!$A$3:$A$13,,MATCH(Calendrier!$BD$2&"*",Dates!$B$2:$H$2,0)),Dates!$A$3:$A$13,"",0)} | AA14: =IF(AB14<>"",UPPER(LEFT(TEXT(AB14,"jjj"))),"") -> M | AB14: =AB13+1 -> 45329 | AC14: {=_xlfn.XLOOKUP(AB14,OFFSET(Dates!$A$3:$A$13,,MATCH(Calendrier!$BD$2&"*",Dates!$B$2:$H$2,0)),Dates!$A$3:$A$13,"",0)} | AF14: =IF(AG14<>"",UPPER(LEFT(TEXT(AG14,"jjj"))),"") -> J | AG14: =AG13+1 -> 45358 | AH14: {=_xlfn.XLOOKUP(AG14,OFFSET(Dates!$A$3:$A$13,,MATCH(Calendrier!$BD$2&"*",Dates!$B$2:$H$2,0)),Dates!$A$3:$A$13,"",0)} | AK14: =IF(AL14<>"",UPPER(LEFT(TEXT(AL14,"jjj"))),"") -> D | AL14: =AL13+1 -> 45389 | AM14: {=_xlfn.XLOOKUP(AL14,OFFSET(Dates!$A$3:$A$13,,MATCH(Calendrier!$BD$2&"*",Dates!$B$2:$H$2,0)),Dates!$A$3:$A$13,"",0)} | AP14: =IF(AQ14<>"",UPPER(LEFT(TEXT(AQ14,"jjj"))),"") -> M | AQ14: =AQ13+1 -> 45419 | AR14: {=_xlfn.XLOOKUP(AQ14,OFFSET(Dates!$A$3:$A$13,,MATCH(Calendrier!$BD$2&"*",Dates!$B$2:$H$2,0)),Dates!$A$3:$A$13,"",0)} | AU14: =IF(AV14<>"",UPPER(LEFT(TEXT(AV14,"jjj"))),"") -> V | AV14: =AV13+1 -> 45450 | AW14: {=_xlfn.XLOOKUP(AV14,OFFSET(Dates!$A$3:$A$13,,MATCH(Calendrier!$BD$2&"*",Dates!$B$2:$H$2,0)),Dates!$A$3:$A$13,"",0)} | AZ14: =IF(BA14<>"",UPPER(LEFT(TEXT(BA14,"jjj"))),"") -> D | BA14: =BA13+1 -> 45480 | BB14: {=_xlfn.XLOOKUP(BA14,OFFSET(Dates!$A$3:$A$13,,MATCH(Calendrier!$BD$2&"*",Dates!$B$2:$H$2,0)),Dates!$A$3:$A$13,"",0)} | BE14: =IF(BF14<>"",UPPER(LEFT(TEXT(BF14,"jjj"))),"") -> M | BF14: =BF13+1 -> 45511 | BG14: {=_xlfn.XLOOKUP(BF14,OFFSET(Dates!$A$3:$A$13,,MATCH(Calendrier!$BD$2&"*",Dates!$B$2:$H$2,0)),Dates!$A$3:$A$13,"",0)}
B15: =IF(C15<>"",UPPER(LEFT(TEXT(C15,"jjj"))),"") -> V | C15: =C14+1 -> 45177 | D15: {=_xlfn.XLOOKUP(C15,OFFSET(Dates!$A$3:$A$13,,MATCH(Calendrier!$BD$2&"*",Dates!$B$2:$H$2,0)),Dates!$A$3:$A$13,"",0)} | G15: =IF(H15<>"",UPPER(LEFT(TEXT(H15,"jjj"))),"") -> D | H15: =H14+1 -> 45207 | I15: {=_xlfn.XLOOKUP(H15,OFFSET(Dates!$A$3:$A$13,,MATCH(Calendrier!$BD$2&"*",Dates!$B$2:$H$2,0)),Dates!$A$3:$A$13,"",0)} | L15: =IF(M15<>"",UPPER(LEFT(TEXT(M15,"jjj"))),"") -> M | M15: =M14+1 -> 45238 | N15: {=_xlfn.XLOOKUP(M15,OFFSET(Dates!$A$3:$A$13,,MATCH(Calendrier!$BD$2&"*",Dates!$B$2:$H$2,0)),Dates!$A$3:$A$13,"",0)} | Q15: =IF(R15<>"",UPPER(LEFT(TEXT(R15,"jjj"))),"") -> V | R15: =R14+1 -> 45268 | S15: {=_xlfn.XLOOKUP(R15,OFFSET(Dates!$A$3:$A$13,,MATCH(Calendrier!$BD$2&"*",Dates!$B$2:$H$2,0)),Dates!$A$3:$A$13,"",0)} | V15: =IF(W15<>"",UPPER(LEFT(TEXT(W15,"jjj"))),"") -> L | W15: =W14+1 -> 45299 | X15: {=_xlfn.XLOOKUP(W15,OFFSET(Dates!$A$3:$A$13,,MATCH(Calendrier!$BD$2&"*",Dates!$B$2:$H$2,0)),Dates!$A$3:$A$13,"",0)} | AA15: =IF(AB15<>"",UPPER(LEFT(TEXT(AB15,"jjj"))),"") -> J | AB15: =AB14+1 -> 45330 | AC15: {=_xlfn.XLOOKUP(AB15,OFFSET(Dates!$A$3:$A$13,,MATCH(Calendrier!$BD$2&"*",Dates!$B$2:$H$2,0)),Dates!$A$3:$A$13,"",0)} | AF15: =IF(AG15<>"",UPPER(LEFT(TEXT(AG15,"jjj"))),"") -> V | AG15: =AG14+1 -> 45359 | AH15: {=_xlfn.XLOOKUP(AG15,OFFSET(Dates!$A$3:$A$13,,MATCH(Calendrier!$BD$2&"*",Dates!$B$2:$H$2,0)),Dates!$A$3:$A$13,"",0)} | AK15: =IF(AL15<>"",UPPER(LEFT(TEXT(AL15,"jjj"))),"") -> L | AL15: =AL14+1 -> 45390 | AM15: {=_xlfn.XLOOKUP(AL15,OFFSET(Dates!$A$3:$A$13,,MATCH(Calendrier!$BD$2&"*",Dates!$B$2:$H$2,0)),Dates!$A$3:$A$13,"",0)} | AP15: =IF(AQ15<>"",UPPER(LEFT(TEXT(AQ15,"jjj"))),"") -> M | AQ15: =AQ14+1 -> 45420 | AR15: {=_xlfn.XLOOKUP(AQ15,OFFSET(Dates!$A$3:$A$13,,MATCH(Calendrier!$BD$2&"*",Dates!$B$2:$H$2,0)),Dates!$A$3:$A$13,"",0)} -> 8 Mai | AU15: =IF(AV15<>"",UPPER(LEFT(TEXT(AV15,"jjj"))),"") -> S | AV15: =AV14+1 -> 45451 | AW15: {=_xlfn.XLOOKUP(AV15,OFFSET(Dates!$A$3:$A$13,,MATCH(Calendrier!$BD$2&"*",Dates!$B$2:$H$2,0)),Dates!$A$3:$A$13,"",0)} | AZ15: =IF(BA15<>"",UPPER(LEFT(TEXT(BA15,"jjj"))),"") -> L | BA15: =BA14+1 -> 45481 | BB15: {=_xlfn.XLOOKUP(BA15,OFFSET(Dates!$A$3:$A$13,,MATCH(Calendrier!$BD$2&"*",Dates!$B$2:$H$2,0)),Dates!$A$3:$A$13,"",0)} | BE15: =IF(BF15<>"",UPPER(LEFT(TEXT(BF15,"jjj"))),"") -> J | BF15: =BF14+1 -> 45512 | BG15: {=_xlfn.XLOOKUP(BF15,OFFSET(Dates!$A$3:$A$13,,MATCH(Calendrier!$BD$2&"*",Dates!$B$2:$H$2,0)),Dates!$A$3:$A$13,"",0)}
B16: =IF(C16<>"",UPPER(LEFT(TEXT(C16,"jjj"))),"") -> S | C16: =C15+1 -> 45178 | D16: {=_xlfn.XLOOKUP(C16,OFFSET(Dates!$A$3:$A$13,,MATCH(Calendrier!$BD$2&"*",Dates!$B$2:$H$2,0)),Dates!$A$3:$A$13,"",0)} | G16: =IF(H16<>"",UPPER(LEFT(TEXT(H16,"jjj"))),"") -> L | H16: =H15+1 -> 45208 | I16: {=_xlfn.XLOOKUP(H16,OFFSET(Dates!$A$3:$A$13,,MATCH(Calendrier!$BD$2&"*",Dates!$B$2:$H$2,0)),Dates!$A$3:$A$13,"",0)} | L16: =IF(M16<>"",UPPER(LEFT(TEXT(M16,"jjj"))),"") -> J | M16: =M15+1 -> 45239 | N16: {=_xlfn.XLOOKUP(M16,OFFSET(Dates!$A$3:$A$13,,MATCH(Calendrier!$BD$2&"*",Dates!$B$2:$H$2,0)),Dates!$A$3:$A$13,"",0)} | Q16: =IF(R16<>"",UPPER(LEFT(TEXT(R16,"jjj"))),"") -> S | R16: =R15+1 -> 45269 | S16: {=_xlfn.XLOOKUP(R16,OFFSET(Dates!$A$3:$A$13,,MATCH(Calendrier!$BD$2&"*",Dates!$B$2:$H$2,0)),Dates!$A$3:$A$13,"",0)} | V16: =IF(W16<>"",UPPER(LEFT(TEXT(W16,"jjj"))),"") -> M | W16: =W15+1 -> 45300 | X16: {=_xlfn.XLOOKUP(W16,OFFSET(Dates!$A$3:$A$13,,MATCH(Calendrier!$BD$2&"*",Dates!$B$2:$H$2,0)),Dates!$A$3:$A$13,"",0)} | AA16: =IF(AB16<>"",UPPER(LEFT(TEXT(AB16,"jjj"))),"") -> V | AB16: =AB15+1 -> 45331 | AC16: {=_xlfn.XLOOKUP(AB16,OFFSET(Dates!$A$3:$A$13,,MATCH(Calendrier!$BD$2&"*",Dates!$B$2:$H$2,0)),Dates!$A$3:$A$13,"",0)} | AF16: =IF(AG16<>"",UPPER(LEFT(TEXT(AG16,"jjj"))),"") -> S | AG16: =AG15+1 -> 45360 | AH16: {=_xlfn.XLOOKUP(AG16,OFFSET(Dates!$A$3:$A$13,,MATCH(Calendrier!$BD$2&"*",Dates!$B$2:$H$2,0)),Dates!$A$3:$A$13,"",0)} | AK16: =IF(AL16<>"",UPPER(LEFT(TEXT(AL16,"jjj"))),"") -> M | AL16: =AL15+1 -> 45391 | AM16: {=_xlfn.XLOOKUP(AL16,OFFSET(Dates!$A$3:$A$13,,MATCH(Calendrier!$BD$2&"*",Dates!$B$2:$H$2,0)),Dates!$A$3:$A$13,"",0)} | AP16: =IF(AQ16<>"",UPPER(LEFT(TEXT(AQ16,"jjj"))),"") -> J | AQ16: =AQ15+1 -> 45421 | AR16: {=_xlfn.XLOOKUP(AQ16,OFFSET(Dates!$A$3:$A$13,,MATCH(Calendrier!$BD$2&"*",Dates!$B$2:$H$2,0)),Dates!$A$3:$A$13,"",0)} -> Ascension | AU16: =IF(AV16<>"",UPPER(LEFT(TEXT(AV16,"jjj"))),"") -> D | AV16: =AV15+1 -> 45452 | AW16: {=_xlfn.XLOOKUP(AV16,OFFSET(Dates!$A$3:$A$13,,MATCH(Calendrier!$BD$2&"*",Dates!$B$2:$H$2,0)),Dates!$A$3:$A$13,"",0)} | AZ16: =IF(BA16<>"",UPPER(LEFT(TEXT(BA16,"jjj"))),"") -> M | BA16: =BA15+1 -> 45482 | BB16: {=_xlfn.XLOOKUP(BA16,OFFSET(Dates!$A$3:$A$13,,MATCH(Calendrier!$BD$2&"*",Dates!$B$2:$H$2,0)),Dates!$A$3:$A$13,"",0)} | BE16: =IF(BF16<>"",UPPER(LEFT(TEXT(BF16,"jjj"))),"") -> V | BF16: =BF15+1 -> 45513 | BG16: {=_xlfn.XLOOKUP(BF16,OFFSET(Dates!$A$3:$A$13,,MATCH(Calendrier!$BD$2&"*",Dates!$B$2:$H$2,0)),Dates!$A$3:$A$13,"",0)}
B17: =IF(C17<>"",UPPER(LEFT(TEXT(C17,"jjj"))),"") -> D | C17: =C16+1 -> 45179 | D17: {=_xlfn.XLOOKUP(C17,OFFSET(Dates!$A$3:$A$13,,MATCH(Calendrier!$BD$2&"*",Dates!$B$2:$H$2,0)),Dates!$A$3:$A$13,"",0)} | G17: =IF(H17<>"",UPPER(LEFT(TEXT(H17,"jjj"))),"") -> M | H17: =H16+1 -> 45209 | I17: {=_xlfn.XLOOKUP(H17,OFFSET(Dates!$A$3:$A$13,,MATCH(Calendrier!$BD$2&"*",Dates!$B$2:$H$2,0)),Dates!$A$3:$A$13,"",0)} | L17: =IF(M17<>"",UPPER(LEFT(TEXT(M17,"jjj"))),"") -> V | M17: =M16+1 -> 45240 | N17: {=_xlfn.XLOOKUP(M17,OFFSET(Dates!$A$3:$A$13,,MATCH(Calendrier!$BD$2&"*",Dates!$B$2:$H$2,0)),Dates!$A$3:$A$13,"",0)} | Q17: =IF(R17<>"",UPPER(LEFT(TEXT(R17,"jjj"))),"") -> D | R17: =R16+1 -> 45270 | S17: {=_xlfn.XLOOKUP(R17,OFFSET(Dates!$A$3:$A$13,,MATCH(Calendrier!$BD$2&"*",Dates!$B$2:$H$2,0)),Dates!$A$3:$A$13,"",0)} | V17: =IF(W17<>"",UPPER(LEFT(TEXT(W17,"jjj"))),"") -> M | W17: =W16+1 -> 45301 | X17: {=_xlfn.XLOOKUP(W17,OFFSET(Dates!$A$3:$A$13,,MATCH(Calendrier!$BD$2&"*",Dates!$B$2:$H$2,0)),Dates!$A$3:$A$13,"",0)} | AA17: =IF(AB17<>"",UPPER(LEFT(TEXT(AB17,"jjj"))),"") -> S | AB17: =AB16+1 -> 45332 | AC17: {=_xlfn.XLOOKUP(AB17,OFFSET(Dates!$A$3:$A$13,,MATCH(Calendrier!$BD$2&"*",Dates!$B$2:$H$2,0)),Dates!$A$3:$A$13,"",0)} | AF17: =IF(AG17<>"",UPPER(LEFT(TEXT(AG17,"jjj"))),"") -> D | AG17: =AG16+1 -> 45361 | AH17: {=_xlfn.XLOOKUP(AG17,OFFSET(Dates!$A$3:$A$13,,MATCH(Calendrier!$BD$2&"*",Dates!$B$2:$H$2,0)),Dates!$A$3:$A$13,"",0)} | AK17: =IF(AL17<>"",UPPER(LEFT(TEXT(AL17,"jjj"))),"") -> M | AL17: =AL16+1 -> 45392 | AM17: {=_xlfn.XLOOKUP(AL17,OFFSET(Dates!$A$3:$A$13,,MATCH(Calendrier!$BD$2&"*",Dates!$B$2:$H$2,0)),Dates!$A$3:$A$13,"",0)} | AP17: =IF(AQ17<>"",UPPER(LEFT(TEXT(AQ17,"jjj"))),"") -> V | AQ17: =AQ16+1 -> 45422 | AR17: {=_xlfn.XLOOKUP(AQ17,OFFSET(Dates!$A$3:$A$13,,MATCH(Calendrier!$BD$2&"*",Dates!$B$2:$H$2,0)),Dates!$A$3:$A$13,"",0)} | AU17: =IF(AV17<>"",UPPER(LEFT(TEXT(AV17,"jjj"))),"") -> L | AV17: =AV16+1 -> 45453 | AW17: {=_xlfn.XLOOKUP(AV17,OFFSET(Dates!$A$3:$A$13,,MATCH(Calendrier!$BD$2&"*",Dates!$B$2:$H$2,0)),Dates!$A$3:$A$13,"",0)} | AZ17: =IF(BA17<>"",UPPER(LEFT(TEXT(BA17,"jjj"))),"") -> M | BA17: =BA16+1 -> 45483 | BB17: {=_xlfn.XLOOKUP(BA17,OFFSET(Dates!$A$3:$A$13,,MATCH(Calendrier!$BD$2&"*",Dates!$B$2:$H$2,0)),Dates!$A$3:$A$13,"",0)} | BE17: =IF(BF17<>"",UPPER(LEFT(TEXT(BF17,"jjj"))),"") -> S | BF17: =BF16+1 -> 45514 | BG17: {=_xlfn.XLOOKUP(BF17,OFFSET(Dates!$A$3:$A$13,,MATCH(Calendrier!$BD$2&"*",Dates!$B$2:$H$2,0)),Dates!$A$3:$A$13,"",0)}
B18: =IF(C18<>"",UPPER(LEFT(TEXT(C18,"jjj"))),"") -> L | C18: =C17+1 -> 45180 | D18: {=_xlfn.XLOOKUP(C18,OFFSET(Dates!$A$3:$A$13,,MATCH(Calendrier!$BD$2&"*",Dates!$B$2:$H$2,0)),Dates!$A$3:$A$13,"",0)} | G18: =IF(H18<>"",UPPER(LEFT(TEXT(H18,"jjj"))),"") -> M | H18: =H17+1 -> 45210 | I18: {=_xlfn.XLOOKUP(H18,OFFSET(Dates!$A$3:$A$13,,MATCH(Calendrier!$BD$2&"*",Dates!$B$2:$H$2,0)),Dates!$A$3:$A$13,"",0)} | L18: =IF(M18<>"",UPPER(LEFT(TEXT(M18,"jjj"))),"") -> S | M18: =M17+1 -> 45241 | N18: {=_xlfn.XLOOKUP(M18,OFFSET(Dates!$A$3:$A$13,,MATCH(Calendrier!$BD$2&"*",Dates!$B$2:$H$2,0)),Dates!$A$3:$A$13,"",0)} -> Armistice | Q18: =IF(R18<>"",UPPER(LEFT(TEXT(R18,"jjj"))),"") -> L | R18: =R17+1 -> 45271 | S18: {=_xlfn.XLOOKUP(R18,OFFSET(Dates!$A$3:$A$13,,MATCH(Calendrier!$BD$2&"*",Dates!$B$2:$H$2,0)),Dates!$A$3:$A$13,"",0)} | V18: =IF(W18<>"",UPPER(LEFT(TEXT(W18,"jjj"))),"") -> J | W18: =W17+1 -> 45302 | X18: {=_xlfn.XLOOKUP(W18,OFFSET(Dates!$A$3:$A$13,,MATCH(Calendrier!$BD$2&"*",Dates!$B$2:$H$2,0)),Dates!$A$3:$A$13,"",0)} | AA18: =IF(AB18<>"",UPPER(LEFT(TEXT(AB18,"jjj"))),"") -> D | AB18: =AB17+1 -> 45333 | AC18: {=_xlfn.XLOOKUP(AB18,OFFSET(Dates!$A$3:$A$13,,MATCH(Calendrier!$BD$2&"*",Dates!$B$2:$H$2,0)),Dates!$A$3:$A$13,"",0)} | AF18: =IF(AG18<>"",UPPER(LEFT(TEXT(AG18,"jjj"))),"") -> L | AG18: =AG17+1 -> 45362 | AH18: {=_xlfn.XLOOKUP(AG18,OFFSET(Dates!$A$3:$A$13,,MATCH(Calendrier!$BD$2&"*",Dates!$B$2:$H$2,0)),Dates!$A$3:$A$13,"",0)} | AK18: =IF(AL18<>"",UPPER(LEFT(TEXT(AL18,"jjj"))),"") -> J | AL18: =AL17+1 -> 45393 | AM18: {=_xlfn.XLOOKUP(AL18,OFFSET(Dates!$A$3:$A$13,,MATCH(Calendrier!$BD$2&"*",Dates!$B$2:$H$2,0)),Dates!$A$3:$A$13,"",0)} | AP18: =IF(AQ18<>"",UPPER(LEFT(TEXT(AQ18,"jjj"))),"") -> S | AQ18: =AQ17+1 -> 45423 | AR18: {=_xlfn.XLOOKUP(AQ18,OFFSET(Dates!$A$3:$A$13,,MATCH(Calendrier!$BD$2&"*",Dates!$B$2:$H$2,0)),Dates!$A$3:$A$13,"",0)} | AU18: =IF(AV18<>"",UPPER(LEFT(TEXT(AV18,"jjj"))),"") -> M | AV18: =AV17+1 -> 45454 | AW18: {=_xlfn.XLOOKUP(AV18,OFFSET(Dates!$A$3:$A$13,,MATCH(Calendrier!$BD$2&"*",Dates!$B$2:$H$2,0)),Dates!$A$3:$A$13,"",0)} | AZ18: =IF(BA18<>"",UPPER(LEFT(TEXT(BA18,"jjj"))),"") -> J | BA18: =BA17+1 -> 45484 | BB18: {=_xlfn.XLOOKUP(BA18,OFFSET(Dates!$A$3:$A$13,,MATCH(Calendrier!$BD$2&"*",Dates!$B$2:$H$2,0)),Dates!$A$3:$A$13,"",0)} | BE18: =IF(BF18<>"",UPPER(LEFT(TEXT(BF18,"jjj"))),"") -> D | BF18: =BF17+1 -> 45515 | BG18: {=_xlfn.XLOOKUP(BF18,OFFSET(Dates!$A$3:$A$13,,MATCH(Calendrier!$BD$2&"*",Dates!$B$2:$H$2,0)),Dates!$A$3:$A$13,"",0)}
B19: =IF(C19<>"",UPPER(LEFT(TEXT(C19,"jjj"))),"") -> M | C19: =C18+1 -> 45181 | D19: {=_xlfn.XLOOKUP(C19,OFFSET(Dates!$A$3:$A$13,,MATCH(Calendrier!$BD$2&"*",Dates!$B$2:$H$2,0)),Dates!$A$3:$A$13,"",0)} | G19: =IF(H19<>"",UPPER(LEFT(TEXT(H19,"jjj"))),"") -> J | H19: =H18+1 -> 45211 | I19: {=_xlfn.XLOOKUP(H19,OFFSET(Dates!$A$3:$A$13,,MATCH(Calendrier!$BD$2&"*",Dates!$B$2:$H$2,0)),Dates!$A$3:$A$13,"",0)} | L19: =IF(M19<>"",UPPER(LEFT(TEXT(M19,"jjj"))),"") -> D | M19: =M18+1 -> 45242 | N19: {=_xlfn.XLOOKUP(M19,OFFSET(Dates!$A$3:$A$13,,MATCH(Calendrier!$BD$2&"*",Dates!$B$2:$H$2,0)),Dates!$A$3:$A$13,"",0)} | Q19: =IF(R19<>"",UPPER(LEFT(TEXT(R19,"jjj"))),"") -> M | R19: =R18+1 -> 45272 | S19: {=_xlfn.XLOOKUP(R19,OFFSET(Dates!$A$3:$A$13,,MATCH(Calendrier!$BD$2&"*",Dates!$B$2:$H$2,0)),Dates!$A$3:$A$13,"",0)} | V19: =IF(W19<>"",UPPER(LEFT(TEXT(W19,"jjj"))),"") -> V | W19: =W18+1 -> 45303 | X19: {=_xlfn.XLOOKUP(W19,OFFSET(Dates!$A$3:$A$13,,MATCH(Calendrier!$BD$2&"*",Dates!$B$2:$H$2,0)),Dates!$A$3:$A$13,"",0)} | AA19: =IF(AB19<>"",UPPER(LEFT(TEXT(AB19,"jjj"))),"") -> L | AB19: =AB18+1 -> 45334 | AC19: {=_xlfn.XLOOKUP(AB19,OFFSET(Dates!$A$3:$A$13,,MATCH(Calendrier!$BD$2&"*",Dates!$B$2:$H$2,0)),Dates!$A$3:$A$13,"",0)} | AF19: =IF(AG19<>"",UPPER(LEFT(TEXT(AG19,"jjj"))),"") -> M | AG19: =AG18+1 -> 45363 | AH19: {=_xlfn.XLOOKUP(AG19,OFFSET(Dates!$A$3:$A$13,,MATCH(Calendrier!$BD$2&"*",Dates!$B$2:$H$2,0)),Dates!$A$3:$A$13,"",0)} | AK19: =IF(AL19<>"",UPPER(LEFT(TEXT(AL19,"jjj"))),"") -> V | AL19: =AL18+1 -> 45394 | AM19: {=_xlfn.XLOOKUP(AL19,OFFSET(Dates!$A$3:$A$13,,MATCH(Calendrier!$BD$2&"*",Dates!$B$2:$H$2,0)),Dates!$A$3:$A$13,"",0)} | AP19: =IF(AQ19<>"",UPPER(LEFT(TEXT(AQ19,"jjj"))),"") -> D | AQ19: =AQ18+1 -> 45424 | AR19: {=_xlfn.XLOOKUP(AQ19,OFFSET(Dates!$A$3:$A$13,,MATCH(Calendrier!$BD$2&"*",Dates!$B$2:$H$2,0)),Dates!$A$3:$A$13,"",0)} | AU19: =IF(AV19<>"",UPPER(LEFT(TEXT(AV19,"jjj"))),"") -> M | AV19: =AV18+1 -> 45455 | AW19: {=_xlfn.XLOOKUP(AV19,OFFSET(Dates!$A$3:$A$13,,MATCH(Calendrier!$BD$2&"*",Dates!$B$2:$H$2,0)),Dates!$A$3:$A$13,"",0)} | AZ19: =IF(BA19<>"",UPPER(LEFT(TEXT(BA19,"jjj"))),"") -> V | BA19: =BA18+1 -> 45485 | BB19: {=_xlfn.XLOOKUP(BA19,OFFSET(Dates!$A$3:$A$13,,MATCH(Calendrier!$BD$2&"*",Dates!$B$2:$H$2,0)),Dates!$A$3:$A$13,"",0)} | BE19: =IF(BF19<>"",UPPER(LEFT(TEXT(BF19,"jjj"))),"") -> L | BF19: =BF18+1 -> 45516 | BG19: {=_xlfn.XLOOKUP(BF19,OFFSET(Dates!$A$3:$A$13,,MATCH(Calendrier!$BD$2&"*",Dates!$B$2:$H$2,0)),Dates!$A$3:$A$13,"",0)}
B20: =IF(C20<>"",UPPER(LEFT(TEXT(C20,"jjj"))),"") -> M | C20: =C19+1 -> 45182 | D20: {=_xlfn.XLOOKUP(C20,OFFSET(Dates!$A$3:$A$13,,MATCH(Calendrier!$BD$2&"*",Dates!$B$2:$H$2,0)),Dates!$A$3:$A$13,"",0)} | G20: =IF(H20<>"",UPPER(LEFT(TEXT(H20,"jjj"))),"") -> V | H20: =H19+1 -> 45212 | I20: {=_xlfn.XLOOKUP(H20,OFFSET(Dates!$A$3:$A$13,,MATCH(Calendrier!$BD$2&"*",Dates!$B$2:$H$2,0)),Dates!$A$3:$A$13,"",0)} | L20: =IF(M20<>"",UPPER(LEFT(TEXT(M20,"jjj"))),"") -> L | M20: =M19+1 -> 45243 | N20: {=_xlfn.XLOOKUP(M20,OFFSET(Dates!$A$3:$A$13,,MATCH(Calendrier!$BD$2&"*",Dates!$B$2:$H$2,0)),Dates!$A$3:$A$13,"",0)} | Q20: =IF(R20<>"",UPPER(LEFT(TEXT(R20,"jjj"))),"") -> M | R20: =R19+1 -> 45273 | S20: {=_xlfn.XLOOKUP(R20,OFFSET(Dates!$A$3:$A$13,,MATCH(Calendrier!$BD$2&"*",Dates!$B$2:$H$2,0)),Dates!$A$3:$A$13,"",0)} | V20: =IF(W20<>"",UPPER(LEFT(TEXT(W20,"jjj"))),"") -> S | W20: =W19+1 -> 45304 | X20: {=_xlfn.XLOOKUP(W20,OFFSET(Dates!$A$3:$A$13,,MATCH(Calendrier!$BD$2&"*",Dates!$B$2:$H$2,0)),Dates!$A$3:$A$13,"",0)} | AA20: =IF(AB20<>"",UPPER(LEFT(TEXT(AB20,"jjj"))),"") -> M | AB20: =AB19+1 -> 45335 | AC20: {=_xlfn.XLOOKUP(AB20,OFFSET(Dates!$A$3:$A$13,,MATCH(Calendrier!$BD$2&"*",Dates!$B$2:$H$2,0)),Dates!$A$3:$A$13,"",0)} | AF20: =IF(AG20<>"",UPPER(LEFT(TEXT(AG20,"jjj"))),"") -> M | AG20: =AG19+1 -> 45364 | AH20: {=_xlfn.XLOOKUP(AG20,OFFSET(Dates!$A$3:$A$13,,MATCH(Calendrier!$BD$2&"*",Dates!$B$2:$H$2,0)),Dates!$A$3:$A$13,"",0)} | AK20: =IF(AL20<>"",UPPER(LEFT(TEXT(AL20,"jjj"))),"") -> S | AL20: =AL19+1 -> 45395 | AM20: {=_xlfn.XLOOKUP(AL20,OFFSET(Dates!$A$3:$A$13,,MATCH(Calendrier!$BD$2&"*",Dates!$B$2:$H$2,0)),Dates!$A$3:$A$13,"",0)} | AP20: =IF(AQ20<>"",UPPER(LEFT(TEXT(AQ20,"jjj"))),"") -> L | AQ20: =AQ19+1 -> 45425 | AR20: {=_xlfn.XLOOKUP(AQ20,OFFSET(Dates!$A$3:$A$13,,MATCH(Calendrier!$BD$2&"*",Dates!$B$2:$H$2,0)),Dates!$A$3:$A$13,"",0)} | AU20: =IF(AV20<>"",UPPER(LEFT(TEXT(AV20,"jjj"))),"") -> J | AV20: =AV19+1 -> 45456 | AW20: {=_xlfn.XLOOKUP(AV20,OFFSET(Dates!$A$3:$A$13,,MATCH(Calendrier!$BD$2&"*",Dates!$B$2:$H$2,0)),Dates!$A$3:$A$13,"",0)} | AZ20: =IF(BA20<>"",UPPER(LEFT(TEXT(BA20,"jjj"))),"") -> S | BA20: =BA19+1 -> 45486 | BB20: {=_xlfn.XLOOKUP(BA20,OFFSET(Dates!$A$3:$A$13,,MATCH(Calendrier!$BD$2&"*",Dates!$B$2:$H$2,0)),Dates!$A$3:$A$13,"",0)} | BE20: =IF(BF20<>"",UPPER(LEFT(TEXT(BF20,"jjj"))),"") -> M | BF20: =BF19+1 -> 45517 | BG20: {=_xlfn.XLOOKUP(BF20,OFFSET(Dates!$A$3:$A$13,,MATCH(Calendrier!$BD$2&"*",Dates!$B$2:$H$2,0)),Dates!$A$3:$A$13,"",0)}
... B35: =IF(C35<>"",UPPER(LEFT(TEXT(C35,"jjj"))),"") -> J | C35: =C34+1 -> 45197 | D35: {=_xlfn.XLOOKUP(C35,OFFSET(Dates!$A$3:$A$13,,MATCH(Calendrier!$BD$2&"*",Dates!$B$2:$H$2,0)),Dates!$A$3:$A$13,"",0)} | G35: =IF(H35<>"",UPPER(LEFT(TEXT(H35,"jjj"))),"") -> S | H35: =H34+1 -> 45227 | I35: {=_xlfn.XLOOKUP(H35,OFFSET(Dates!$A$3:$A$13,,MATCH(Calendrier!$BD$2&"*",Dates!$B$2:$H$2,0)),Dates!$A$3:$A$13,"",0)} | L35: =IF(M35<>"",UPPER(LEFT(TEXT(M35,"jjj"))),"") -> M | M35: =M34+1 -> 45258 | N35: {=_xlfn.XLOOKUP(M35,OFFSET(Dates!$A$3:$A$13,,MATCH(Calendrier!$BD$2&"*",Dates!$B$2:$H$2,0)),Dates!$A$3:$A$13,"",0)} | Q35: =IF(R35<>"",UPPER(LEFT(TEXT(R35,"jjj"))),"") -> J | R35: =R34+1 -> 45288 | S35: {=_xlfn.XLOOKUP(R35,OFFSET(Dates!$A$3:$A$13,,MATCH(Calendrier!$BD$2&"*",Dates!$B$2:$H$2,0)),Dates!$A$3:$A$13,"",0)} | V35: =IF(W35<>"",UPPER(LEFT(TEXT(W35,"jjj"))),"") -> D | W35: =W34+1 -> 45319 | X35: {=_xlfn.XLOOKUP(W35,OFFSET(Dates!$A$3:$A$13,,MATCH(Calendrier!$BD$2&"*",Dates!$B$2:$H$2,0)),Dates!$A$3:$A$13,"",0)} | AA35: =IF(AB35<>"",UPPER(LEFT(TEXT(AB35,"jjj"))),"") -> M | AB35: =AB34+1 -> 45350 | AC35: {=_xlfn.XLOOKUP(AB35,OFFSET(Dates!$A$3:$A$13,,MATCH(Calendrier!$BD$2&"*",Dates!$B$2:$H$2,0)),Dates!$A$3:$A$13,"",0)} | AF35: =IF(AG35<>"",UPPER(LEFT(TEXT(AG35,"jjj"))),"") -> J | AG35: =AG34+1 -> 45379 | AH35: {=_xlfn.XLOOKUP(AG35,OFFSET(Dates!$A$3:$A$13,,MATCH(Calendrier!$BD$2&"*",Dates!$B$2:$H$2,0)),Dates!$A$3:$A$13,"",0)} | AK35: =IF(AL35<>"",UPPER(LEFT(TEXT(AL35,"jjj"))),"") -> D | AL35: =AL34+1 -> 45410 | AM35: {=_xlfn.XLOOKUP(AL35,OFFSET(Dates!$A$3:$A$13,,MATCH(Calendrier!$BD$2&"*",Dates!$B$2:$H$2,0)),Dates!$A$3:$A$13,"",0)} | AP35: =IF(AQ35<>"",UPPER(LEFT(TEXT(AQ35,"jjj"))),"") -> M | AQ35: =AQ34+1 -> 45440 | AR35: {=_xlfn.XLOOKUP(AQ35,OFFSET(Dates!$A$3:$A$13,,MATCH(Calendrier!$BD$2&"*",Dates!$B$2:$H$2,0)),Dates!$A$3:$A$13,"",0)} | AU35: =IF(AV35<>"",UPPER(LEFT(TEXT(AV35,"jjj"))),"") -> V | AV35: =AV34+1 -> 45471 | AW35: {=_xlfn.XLOOKUP(AV35,OFFSET(Dates!$A$3:$A$13,,MATCH(Calendrier!$BD$2&"*",Dates!$B$2:$H$2,0)),Dates!$A$3:$A$13,"",0)} | AZ35: =IF(BA35<>"",UPPER(LEFT(TEXT(BA35,"jjj"))),"") -> D | BA35: =BA34+1 -> 45501 | BB35: {=_xlfn.XLOOKUP(BA35,OFFSET(Dates!$A$3:$A$13,,MATCH(Calendrier!$BD$2&"*",Dates!$B$2:$H$2,0)),Dates!$A$3:$A$13,"",0)} | BE35: =IF(BF35<>"",UPPER(LEFT(TEXT(BF35,"jjj"))),"") -> M | BF35: =BF34+1 -> 45532 | BG35: {=_xlfn.XLOOKUP(BF35,OFFSET(Dates!$A$3:$A$13,,MATCH(Calendrier!$BD$2&"*",Dates!$B$2:$H$2,0)),Dates!$A$3:$A$13,"",0)}
B36: =IF(C36<>"",UPPER(LEFT(TEXT(C36,"jjj"))),"") -> V | C36: =IF(C35="","",IF(MONTH(C35+1)=MONTH(C8),C35+1,"")) -> 45198 | D36: {=_xlfn.XLOOKUP(C36,OFFSET(Dates!$A$3:$A$13,,MATCH(Calendrier!$BD$2&"*",Dates!$B$2:$H$2,0)),Dates!$A$3:$A$13,"",0)} | G36: =IF(H36<>"",UPPER(LEFT(TEXT(H36,"jjj"))),"") -> D | H36: =IF(H35="","",IF(MONTH(H35+1)=MONTH(H8),H35+1,"")) -> 45228 | I36: {=_xlfn.XLOOKUP(H36,OFFSET(Dates!$A$3:$A$13,,MATCH(Calendrier!$BD$2&"*",Dates!$B$2:$H$2,0)),Dates!$A$3:$A$13,"",0)} | L36: =IF(M36<>"",UPPER(LEFT(TEXT(M36,"jjj"))),"") -> M | M36: =IF(M35="","",IF(MONTH(M35+1)=MONTH(M8),M35+1,"")) -> 45259 | N36: {=_xlfn.XLOOKUP(M36,OFFSET(Dates!$A$3:$A$13,,MATCH(Calendrier!$BD$2&"*",Dates!$B$2:$H$2,0)),Dates!$A$3:$A$13,"",0)} | Q36: =IF(R36<>"",UPPER(LEFT(TEXT(R36,"jjj"))),"") -> V | R36: =IF(R35="","",IF(MONTH(R35+1)=MONTH(R8),R35+1,"")) -> 45289 | S36: {=_xlfn.XLOOKUP(R36,OFFSET(Dates!$A$3:$A$13,,MATCH(Calendrier!$BD$2&"*",Dates!$B$2:$H$2,0)),Dates!$A$3:$A$13,"",0)} | V36: =IF(W36<>"",UPPER(LEFT(TEXT(W36,"jjj"))),"") -> L | W36: =IF(W35="","",IF(MONTH(W35+1)=MONTH(W8),W35+1,"")) -> 45320 | X36: {=_xlfn.XLOOKUP(W36,OFFSET(Dates!$A$3:$A$13,,MATCH(Calendrier!$BD$2&"*",Dates!$B$2:$H$2,0)),Dates!$A$3:$A$13,"",0)} | AA36: =IF(AB36<>"",UPPER(LEFT(TEXT(AB36,"jjj"))),"") -> J | AB36: =IF(AB35="","",IF(MONTH(AB35+1)=MONTH(AB8),AB35+1,"")) -> 45351 | AC36: {=_xlfn.XLOOKUP(AB36,OFFSET(Dates!$A$3:$A$13,,MATCH(Calendrier!$BD$2&"*",Dates!$B$2:$H$2,0)),Dates!$A$3:$A$13,"",0)} | AF36: =IF(AG36<>"",UPPER(LEFT(TEXT(AG36,"jjj"))),"") -> V | AG36: =IF(AG35="","",IF(MONTH(AG35+1)=MONTH(AG8),AG35+1,"")) -> 45380 | AH36: {=_xlfn.XLOOKUP(AG36,OFFSET(Dates!$A$3:$A$13,,MATCH(Calendrier!$BD$2&"*",Dates!$B$2:$H$2,0)),Dates!$A$3:$A$13,"",0)} | AK36: =IF(AL36<>"",UPPER(LEFT(TEXT(AL36,"jjj"))),"") -> L | AL36: =IF(AL35="","",IF(MONTH(AL35+1)=MONTH(AL8),AL35+1,"")) -> 45411 | AM36: {=_xlfn.XLOOKUP(AL36,OFFSET(Dates!$A$3:$A$13,,MATCH(Calendrier!$BD$2&"*",Dates!$B$2:$H$2,0)),Dates!$A$3:$A$13,"",0)} | AP36: =IF(AQ36<>"",UPPER(LEFT(TEXT(AQ36,"jjj"))),"") -> M | AQ36: =IF(AQ35="","",IF(MONTH(AQ35+1)=MONTH(AQ8),AQ35+1,"")) -> 45441 | AR36: {=_xlfn.XLOOKUP(AQ36,OFFSET(Dates!$A$3:$A$13,,MATCH(Calendrier!$BD$2&"*",Dates!$B$2:$H$2,0)),Dates!$A$3:$A$13,"",0)} | AU36: =IF(AV36<>"",UPPER(LEFT(TEXT(AV36,"jjj"))),"") -> S | AV36: =IF(AV35="","",IF(MONTH(AV35+1)=MONTH(AV8),AV35+1,"")) -> 45472 | AW36: {=_xlfn.XLOOKUP(AV36,OFFSET(Dates!$A$3:$A$13,,MATCH(Calendrier!$BD$2&"*",Dates!$B$2:$H$2,0)),Dates!$A$3:$A$13,"",0)} | AZ36: =IF(BA36<>"",UPPER(LEFT(TEXT(BA36,"jjj"))),"") -> L | BA36: =IF(BA35="","",IF(MONTH(BA35+1)=MONTH(BA8),BA35+1,"")) -> 45502 | BB36: {=_xlfn.XLOOKUP(BA36,OFFSET(Dates!$A$3:$A$13,,MATCH(Calendrier!$BD$2&"*",Dates!$B$2:$H$2,0)),Dates!$A$3:$A$13,"",0)} | BE36: =IF(BF36<>"",UPPER(LEFT(TEXT(BF36,"jjj"))),"") -> J | BF36: =IF(BF35="","",IF(MONTH(BF35+1)=MONTH(BF8),BF35+1,"")) -> 45533 | BG36: {=_xlfn.XLOOKUP(BF36,OFFSET(Dates!$A$3:$A$13,,MATCH(Calendrier!$BD$2&"*",Dates!$B$2:$H$2,0)),Dates!$A$3:$A$13,"",0)}
B37: =IF(C37<>"",UPPER(LEFT(TEXT(C37,"jjj"))),"") -> S | C37: =IF(C36="","",IF(MONTH(C36+1)=MONTH(C9),C36+1,"")) -> 45199 | D37: {=_xlfn.XLOOKUP(C37,OFFSET(Dates!$A$3:$A$13,,MATCH(Calendrier!$BD$2&"*",Dates!$B$2:$H$2,0)),Dates!$A$3:$A$13,"",0)} | G37: =IF(H37<>"",UPPER(LEFT(TEXT(H37,"jjj"))),"") -> L | H37: =IF(H36="","",IF(MONTH(H36+1)=MONTH(H9),H36+1,"")) -> 45229 | I37: {=_xlfn.XLOOKUP(H37,OFFSET(Dates!$A$3:$A$13,,MATCH(Calendrier!$BD$2&"*",Dates!$B$2:$H$2,0)),Dates!$A$3:$A$13,"",0)} | L37: =IF(M37<>"",UPPER(LEFT(TEXT(M37,"jjj"))),"") -> J | M37: =IF(M36="","",IF(MONTH(M36+1)=MONTH(M9),M36+1,"")) -> 45260 | N37: {=_xlfn.XLOOKUP(M37,OFFSET(Dates!$A$3:$A$13,,MATCH(Calendrier!$BD$2&"*",Dates!$B$2:$H$2,0)),Dates!$A$3:$A$13,"",0)} | Q37: =IF(R37<>"",UPPER(LEFT(TEXT(R37,"jjj"))),"") -> S | R37: =IF(R36="","",IF(MONTH(R36+1)=MONTH(R9),R36+1,"")) -> 45290 | S37: {=_xlfn.XLOOKUP(R37,OFFSET(Dates!$A$3:$A$13,,MATCH(Calendrier!$BD$2&"*",Dates!$B$2:$H$2,0)),Dates!$A$3:$A$13,"",0)} | V37: =IF(W37<>"",UPPER(LEFT(TEXT(W37,"jjj"))),"") -> M | W37: =IF(W36="","",IF(MONTH(W36+1)=MONTH(W9),W36+1,"")) -> 45321 | X37: {=_xlfn.XLOOKUP(W37,OFFSET(Dates!$A$3:$A$13,,MATCH(Calendrier!$BD$2&"*",Dates!$B$2:$H$2,0)),Dates!$A$3:$A$13,"",0)} | AA37: =IF(AB37<>"",UPPER(LEFT(TEXT(AB37,"jjj"))),"") | AB37: =IF(AB36="","",IF(MONTH(AB36+1)=MONTH(AB9),AB36+1,"")) | AF37: =IF(AG37<>"",UPPER(LEFT(TEXT(AG37,"jjj"))),"") -> S | AG37: =IF(AG36="","",IF(MONTH(AG36+1)=MONTH(AG9),AG36+1,"")) -> 45381 | AH37: {=_xlfn.XLOOKUP(AG37,OFFSET(Dates!$A$3:$A$13,,MATCH(Calendrier!$BD$2&"*",Dates!$B$2:$H$2,0)),Dates!$A$3:$A$13,"",0)} | AK37: =IF(AL37<>"",UPPER(LEFT(TEXT(AL37,"jjj"))),"") -> M | AL37: =IF(AL36="","",IF(MONTH(AL36+1)=MONTH(AL9),AL36+1,"")) -> 45412 | AM37: {=_xlfn.XLOOKUP(AL37,OFFSET(Dates!$A$3:$A$13,,MATCH(Calendrier!$BD$2&"*",Dates!$B$2:$H$2,0)),Dates!$A$3:$A$13,"",0)} | AP37: =IF(AQ37<>"",UPPER(LEFT(TEXT(AQ37,"jjj"))),"") -> J | AQ37: =IF(AQ36="","",IF(MONTH(AQ36+1)=MONTH(AQ9),AQ36+1,"")) -> 45442 | AR37: {=_xlfn.XLOOKUP(AQ37,OFFSET(Dates!$A$3:$A$13,,MATCH(Calendrier!$BD$2&"*",Dates!$B$2:$H$2,0)),Dates!$A$3:$A$13,"",0)} | AU37: =IF(AV37<>"",UPPER(LEFT(TEXT(AV37,"jjj"))),"") -> D | AV37: =IF(AV36="","",IF(MONTH(AV36+1)=MONTH(AV9),AV36+1,"")) -> 45473 | AW37: {=_xlfn.XLOOKUP(AV37,OFFSET(Dates!$A$3:$A$13,,MATCH(Calendrier!$BD$2&"*",Dates!$B$2:$H$2,0)),Dates!$A$3:$A$13,"",0)} | AZ37: =IF(BA37<>"",UPPER(LEFT(TEXT(BA37,"jjj"))),"") -> M | BA37: =IF(BA36="","",IF(MONTH(BA36+1)=MONTH(BA9),BA36+1,"")) -> 45503 | BB37: {=_xlfn.XLOOKUP(BA37,OFFSET(Dates!$A$3:$A$13,,MATCH(Calendrier!$BD$2&"*",Dates!$B$2:$H$2,0)),Dates!$A$3:$A$13,"",0)} | BE37: =IF(BF37<>"",UPPER(LEFT(TEXT(BF37,"jjj"))),"") -> V | BF37: =IF(BF36="","",IF(MONTH(BF36+1)=MONTH(BF9),BF36+1,"")) -> 45534 | BG37: {=_xlfn.XLOOKUP(BF37,OFFSET(Dates!$A$3:$A$13,,MATCH(Calendrier!$BD$2&"*",Dates!$B$2:$H$2,0)),Dates!$A$3:$A$13,"",0)}
B38: =IF(C38<>"",UPPER(LEFT(TEXT(C38,"jjj"))),"") | C38: =IF(C37="","",IF(MONTH(C37+1)=MONTH(C10),C37+1,"")) | G38: =IF(H38<>"",UPPER(LEFT(TEXT(H38,"jjj"))),"") -> M | H38: =IF(H37="","",IF(MONTH(H37+1)=MONTH(H10),H37+1,"")) -> 45230 | I38: {=_xlfn.XLOOKUP(H38,OFFSET(Dates!$A$3:$A$13,,MATCH(Calendrier!$BD$2&"*",Dates!$B$2:$H$2,0)),Dates!$A$3:$A$13,"",0)} | L38: =IF(M38<>"",UPPER(LEFT(TEXT(M38,"jjj"))),"") | M38: =IF(M37="","",IF(MONTH(M37+1)=MONTH(M10),M37+1,"")) | N38: {=_xlfn.XLOOKUP(M38,OFFSET(Dates!$A$3:$A$13,,MATCH(Calendrier!$BD$2&"*",Dates!$B$2:$H$2,0)),Dates!$A$3:$A$13,"",0)} | Q38: =IF(R38<>"",UPPER(LEFT(TEXT(R38,"jjj"))),"") -> D | R38: =IF(R37="","",IF(MONTH(R37+1)=MONTH(R10),R37+1,"")) -> 45291 | S38: {=_xlfn.XLOOKUP(R38,OFFSET(Dates!$A$3:$A$13,,MATCH(Calendrier!$BD$2&"*",Dates!$B$2:$H$2,0)),Dates!$A$3:$A$13,"",0)} | V38: =IF(W38<>"",UPPER(LEFT(TEXT(W38,"jjj"))),"") -> M | W38: =IF(W37="","",IF(MONTH(W37+1)=MONTH(W10),W37+1,"")) -> 45322 | X38: {=_xlfn.XLOOKUP(W38,OFFSET(Dates!$A$3:$A$13,,MATCH(Calendrier!$BD$2&"*",Dates!$B$2:$H$2,0)),Dates!$A$3:$A$13,"",0)} | AA38: =IF(AB38<>"",UPPER(LEFT(TEXT(AB38,"jjj"))),"") | AB38: =IF(AB37="","",IF(MONTH(AB37+1)=MONTH(AB10),AB37+1,"")) | AF38: =IF(AG38<>"",UPPER(LEFT(TEXT(AG38,"jjj"))),"") -> D | AG38: =IF(AG37="","",IF(MONTH(AG37+1)=MONTH(AG10),AG37+1,"")) -> 45382 | AH38: {=_xlfn.XLOOKUP(AG38,OFFSET(Dates!$A$3:$A$13,,MATCH(Calendrier!$BD$2&"*",Dates!$B$2:$H$2,0)),Dates!$A$3:$A$13,"",0)} | AK38: =IF(AL38<>"",UPPER(LEFT(TEXT(AL38,"jjj"))),"") | AL38: =IF(AL37="","",IF(MONTH(AL37+1)=MONTH(AL10),AL37+1,"")) | AP38: =IF(AQ38<>"",UPPER(LEFT(TEXT(AQ38,"jjj"))),"") -> V | AQ38: =IF(AQ37="","",IF(MONTH(AQ37+1)=MONTH(AQ10),AQ37+1,"")) -> 45443 | AR38: {=_xlfn.XLOOKUP(AQ38,OFFSET(Dates!$A$3:$A$13,,MATCH(Calendrier!$BD$2&"*",Dates!$B$2:$H$2,0)),Dates!$A$3:$A$13,"",0)} | AU38: =IF(AV38<>"",UPPER(LEFT(TEXT(AV38,"jjj"))),"") | AV38: =IF(AV37="","",IF(MONTH(AV37+1)=MONTH(AV10),AV37+1,"")) | AZ38: =IF(BA38<>"",UPPER(LEFT(TEXT(BA38,"jjj"))),"") -> M | BA38: =IF(BA37="","",IF(MONTH(BA37+1)=MONTH(BA10),BA37+1,"")) -> 45504 | BB38: {=_xlfn.XLOOKUP(BA38,OFFSET(Dates!$A$3:$A$13,,MATCH(Calendrier!$BD$2&"*",Dates!$B$2:$H$2,0)),Dates!$A$3:$A$13,"",0)} | BE38: =IF(BF38<>"",UPPER(LEFT(TEXT(BF38,"jjj"))),"") -> S | BF38: =IF(BF37="","",IF(MONTH(BF37+1)=MONTH(BF10),BF37+1,"")) -> 45535 | BG38: {=_xlfn.XLOOKUP(BF38,OFFSET(Dates!$A$3:$A$13,,MATCH(Calendrier!$BD$2&"*",Dates!$B$2:$H$2,0)),Dates!$A$3:$A$13,"",0)}
B39: SEPTEMBRE | G39: OCTOBRE | L39: NOVEMBRE | Q39: DÉCEMBRE | V39: JANVIER | AA39: FEVRIER | AF39: MARS | AK39: AVRIL | AP39: MAI | AU39: JUIN | AZ39: JUILLET | BE39: AOUT

Sheet Dates
A1: Rentrer les jours fériés :
A2: Année | B2: 2023 - 2024 | C2: 2024 - 2025 | D2: 2025 - 2026 | E2: 2026 - 2027 | F2: 2027 - 2028 | G2: 2028 - 2029 | H2: 2029 - 2030
A3: Toussaint | B3: 45231 | C3: 45597 | D3: 45962 | E3: 46327 | F3: 46692 | G3: 47058 | H3: 47423
A4: Armistice | B4: 45241 | C4: 45607 | D4: 45972 | E4: 46337 | F4: 46702 | G4: 47068 | H4: 47433
A5: Noël | B5: 45285 | C5: 45651 | D5: 46016 | E5: 46381 | F5: 46746 | G5: 47112 | H5: 47477
A6: Jour de l'An | B6: 45292 | C6: 45658 | D6: 46023 | E6: 46388 | F6: 46753 | G6: 47119 | H6: 47484
A7: Lundi de Pâques | B7: 45383
A8: Fête du Travail | B8: 45413 | C8: 45778 | D8: 46143 | E8: 46508 | F8: 46874 | G8: 47239 | H8: 47604
A9: 8 Mai | B9: 45420 | C9: 45785 | D9: 46150 | E9: 46515 | F9: 46881 | G9: 47246 | H9: 47611
A10: Ascension | B10: 45421
A11: Lundi de Pentecôte | B11: 45432
A12: Fête Nationale | B12: 45487 | C12: 45852 | D12: 46217 | E12: 46582 | F12: 46948 | G12: 47313 | H12: 47678
A13: Assomption | B13: 45519 | C13: 45884 | D13: 46249 | E13: 46614 | F13: 46980 | G13: 47345 | H13: 47710
A15: Principaux évènements de l'année :
A16: Soirées des Joueurs ASS | B16: Week-end Ski | C16: Salon de l'Agriculture | D16: Foire aux Jambons | E16: Bordeaux fête le Vin | F16: Fêtes de Bayonne | G16: Fêtes de Soustons | H16: Fêtes de Dax
A17: 45276 | B17: 45290 | C17: 45347 | D17: 45388 | E17: 45465 | F17: 45483 | G17: 45512 | H17: 45518
C18: 45348
C19: 45349 | F19: 45484 | H19: 45519
C20: 45350 | D20: 45389 | E20: 45466 | G20: 45513
B21: 45291 | C21: 45351 | F21: 45485 | H21: 45520
C22: 45352
C23: 45353 | D23: 45390 | E23: 45467 | F23: 45486 | G23: 45514 | H23: 45521
B24: 45292 | C24: 45354
C25: 45355 | D25: 45391 | E25: 45468 | F25: 45487 | G25: 45515 | H25: 45522
C26: 45356
A28: Anniversaire
A29: A | B29: B | C29: C | D29: D | E29: E | F29: F | G29: G | H29: H
A30: 45189 | B30: 44942 | C30: 44954 | D30: 45007 | E30: 45122
A32: Vacances Scolaires :
A33: TOUSSAINT | B33: NOËL | C33: HIVER | D33: PRINTEMPS | E33: ÉTÉ
A34: 45220 | B34: 45283 | C34: 45339 | D34: 45395 | E34: 45479
A35: 45221 | B35: 45284 | C35: 45340 | D35: 45396 | E35: 45480
A36: 45222 | B36: 45285 | C36: 45341 | D36: 45397 | E36: 45481
A37: 45223 | B37: 45286 | C37: 45342 | D37: 45398 | E37: 45482
A38: 45224 | B38: 45287 | C38: 45343 | D38: 45399 | E38: 45483
A39: 45225 | B39: 45288 | C39: 45344 | D39: 45400 | E39: 45484
A40: 45226 | B40: 45289 | C40: 45345 | D40: 45401 | E40: 45485
A41: 45227 | B41: 45290 | C41: 45346 | D41: 45402 | E41: 45486
A42: 45228 | B42: 45291 | C42: 45347 | D42: 45403 | E42: 45487
A43: 45229 | B43: 45292 | C43: 45348 | D43: 45404 | E43: 45488
...
