Workbook
Name Journal: OFFSET('EXTRACT LOG CAISSE'!$A$6,,,COUNTA('EXTRACT LOG CAISSE'!$A:$A)-4,COUNTA('EXTRACT LOG CAISSE'!$6:$6))

Sheet EXTRACT LOG CAISSE
A1: Rapport quotidien de ventes
A2: Période du 01/10/2023 au 31/10/2023
A3: Chaque ligne représente la somme des ventes par jour sur la période
A5: Ventes | P5: Montant des encaissements | Y5: Trop-perçus | AB5: Mouvements de caisse | AD5: Ventes par catégories | AO5: Vendeurs | AP5: Clients
A6: Date | B6: Nombre de ventes | C6: Montant Moyen | D6: Ventes Brutes | E6: Ventes Nettes | F6: Remboursement / Annulation | G6: TVA 0.00 % | H6: TVA 2.10 % | I6: TVA 5.50 % | J6: TVA 8.50 % | K6: TVA 10.00 % | L6: TVA 16.50 % | M6: TVA 20.00 % | N6: Total TVA | O6: Total Net HT | P6: CB | Q6: CB Déconnectée | R6: CB PLBS clôturé | S6: Espèces | T6: Chèque | U6: Avoir | V6: Ticket Restaurant | W6: Chèque-vacances | X6: VAD | Y6: Espèces | Z6: Pourboires (à cumuler avec Ventes brutes et Ventes nettes) | AA6: Avoirs | AB6: Total entrées | AC6: Total sorties | AD6: Articles non catégorisés | AE6: Blanche | AF6: Boissons alcool | AG6: Boissons sans alcool | AH6: Café 10% | AI6: Desserts | AJ6: Glace | AK6: Lasagnes | AL6: Rouges | AM6: Salades | AN6: Supplements | AO6: Vendeur A | AP6: Comptes fidélité | AQ6: Nouveaux clients
A7: 31/10/2023 | B7: 17 | C7: 31.59 | D7: 537 | E7: 537 | F7: 0 | I7: 27.04 | M7: 3.08 | N7: 30.12 | O7: 506.88 | P7: 290 | Q7: 37 | S7: 210 | Z7: 0 | AD7: 75 | AE7: 85.5 | AF7: 18.5 | AG7: 13.5 | AI7: 20 | AL7: 320.5 | AN7: 4 | AO7: 537
A8: 30/10/2023 | B8: 10 | C8: 29.75 | D8: 297.5 | E8: 297.5 | F8: 0 | I8: 14.21 | M8: 4.17 | N8: 18.38 | O8: 279.12 | P8: 159 | Q8: 38.5 | S8: 100 | Z8: 0 | AE8: 126.5 | AF8: 25 | AG8: 8.5 | AI8: 16 | AK8: 38 | AL8: 81.5 | AN8: 2 | AO8: 297.5

Sheet JRNAL A OBTENIR
A1: date | B1: Code journal | C1: N° compte | D1: Lib | E1: débit | F1: crédit | G1: solde | J1: date | K1: Code journal | L1: N° compte | M1: Lib | N1: débit | O1: crédit | P1: solde | S1: Date | T1: Code journal | U1: Compte | V1: Lib | W1: Débit | X1: Crédit | Y1: Solde
A2: 31/10/2023 | B2: VE | C2: 5111 | D2: CA 31/10 Cb | E2: 290 | G2: 290 | J2: ='EXTRACT LOG CAISSE'!A7 -> 31/10/2023 | K2: =IF(ISBLANK(J2),"","VE") -> VE | L2: 5111 | M2: ="CA "&TEXT(J2,"jj/mm")& " Cb" -> CA 31/10 Cb | N2: =IFERROR(VLOOKUP($J2,'EXTRACT LOG CAISSE'!$A$6:$AQ$8,MATCH("CB",'EXTRACT LOG CAISSE'!$A$6:$AQ$6,0),FALSE),0) -> 290 | P2: =N2-O2 -> 290 | S2: 45230 | T2: VE | U2: 5111000 | V2: CA 31/10/2023 CB | W2: 290 | X2: 0 | Y2: 290
A3: 31/10/2023 | B3: VE | C3: 51112 | D3: CA 31/10 Cb dec | E3: 37 | G3: 37 | J3: =+J2 -> 31/10/2023 | K3: =IF(ISBLANK(J3),"","VE") -> VE | L3: 51112 | M3: ="CA "&TEXT(J3,"jj/mm")& " Cb dec" -> CA 31/10 Cb dec | N3: =IFERROR(VLOOKUP(J3,'EXTRACT LOG CAISSE'!$A$6:$AQ$8,MATCH("CB déconnectée",'EXTRACT LOG CAISSE'!$A$6:$AQ$6,0),FALSE),0) -> 37 | P3: =N3-O3 -> 37 | S3: 45230 | T3: VE | U3: 5111200 | V3: CA 31/10/2023 CB déco | W3: 37 | X3: 0 | Y3: 37
A4: 31/10/2023 | B4: VE | C4: 53 | D4: CA 31/10 Esp | E4: 210 | G4: 210 | J4: =+J2 -> 31/10/2023 | K4: =IF(ISBLANK(J4),"","VE") -> VE | L4: 53 | M4: ="CA "&TEXT(J4,"jj/mm")& " Esp" -> CA 31/10 Esp | N4: =IFERROR(VLOOKUP(J4,'EXTRACT LOG CAISSE'!$A$6:$AQ$8,MATCH("Espèces",'EXTRACT LOG CAISSE'!$A$6:$AQ$6,0),FALSE),0) -> 210 | P4: =N4-O4 -> 210 | S4: 45230 | T4: VE | U4: 5300000 | V4: CA 31/10/2023 Espèces | W4: 210 | X4: 0 | Y4: 210
A5: 31/10/2023 | B5: VE | C5: 5112 | D5: CA 31/10 Chq | E5: 0 | G5: 0 | J5: =+J2 -> 31/10/2023 | K5: =IF(ISBLANK(J5),"","VE") -> VE | L5: 5112 | M5: ="CA "&TEXT(J5,"jj/mm")& " Chq" -> CA 31/10 Chq | N5: =IFERROR(VLOOKUP(J5,'EXTRACT LOG CAISSE'!$A$6:$AQ$8,MATCH("Chèque",'EXTRACT LOG CAISSE'!$A$6:$AQ$6,0),FALSE),0) -> 0 | P5: =N5-O5 -> 0 | S5: 45230 | T5: VE | U5: 4457155 | V5: CA 31/10/2023 TVA 5,5% | W5: 0 | X5: 27.04 | Y5: -27.04
A6: 31/10/2023 | B6: VE | C6: 5113 | D6: CA 31/10 TR | E6: 0 | G6: 0 | J6: =+J2 -> 31/10/2023 | K6: =IF(ISBLANK(J6),"","VE") -> VE | L6: 5113 | M6: ="CA "&TEXT(J6,"jj/mm")& " TR" -> CA 31/10 TR | N6: =IFERROR(VLOOKUP(J6,'EXTRACT LOG CAISSE'!$A$6:$AQ$8,MATCH("Ticket Restaurant",'EXTRACT LOG CAISSE'!$A$6:$AQ$6,0),FALSE),0) -> 0 | P6: =N6-O6 -> 0 | S6: 45230 | T6: VE | U6: 4457120 | V6: CA 31/10/2023 TVA 20% | W6: 0 | X6: 3.08 | Y6: -3.08
A7: 31/10/2023 | B7: VE | C7: 7021 | D7: CA 31/10 Arrondi | E7: 0.02 | G7: 0.02 | J7: =+J2 -> 31/10/2023 | K7: =IF(ISBLANK(J7),"","VE") -> VE | L7: 7021 | M7: ="CA "&TEXT(J7,"jj/mm")& " Arrondi" -> CA 31/10 Arrondi | N7: =ROUND(-SUM(N2:N6)+SUM(O8:O16),2) -> -50.24 | P7: =N7-O7 -> -50.24 | S7: 45230 | T7: VE | U7: 7011500 | V7: CA 31/10/2023 Pizzas 5,5% | W7: 0 | X7: 459.7156 | Y7: -459.7156
A8: 31/10/2023 | B8: VE | C8: 4457155 | D8: CA 31/10 TVA 5,5% | F8: 27.04 | G8: -27.04 | J8: =+J2 -> 31/10/2023 | K8: =IF(ISBLANK(J8),"","VE") -> VE | L8: 4457155 | M8: ="CA "&TEXT(J8,"jj/mm")& " TVA 5,5%" -> CA 31/10 TVA 5,5% | O8: =IFERROR(VLOOKUP($J8,'EXTRACT LOG CAISSE'!$A$6:$AQ$8,MATCH("TVA 5.50 %",'EXTRACT LOG CAISSE'!$A$6:$AQ$6,0),FALSE),0) -> 27.04 | P8: =N8-O8 -> -27.04 | S8: 45230 | T8: VE | U8: 7013200 | V8: CA 31/10/2023 Boissons 20% | W8: 0 | X8: 15.4167 | Y8: -15.4167
A9: 31/10/2023 | B9: VE | C9: 445711 | D9: CA 31/10 TVA 10% | F9: 0 | G9: 0 | J9: =+J2 -> 31/10/2023 | K9: =IF(ISBLANK(J9),"","VE") -> VE | L9: 445711 | M9: ="CA "&TEXT(J9,"jj/mm")& " TVA 10%" -> CA 31/10 TVA 10% | O9: =IFERROR(VLOOKUP($J9,'EXTRACT LOG CAISSE'!$A$6:$AQ$8,MATCH("TVA 10%",'EXTRACT LOG CAISSE'!$A$6:$AQ$6,0),FALSE),0) -> 0 | P9: =N9-O9 -> 0 | S9: 45230 | T9: VE | U9: 7013000 | V9: CA 31/10/2023 Boissons 5,5% | W9: 0 | X9: 12.7962 | Y9: -12.7962
A10: 31/10/2023 | B10: VE | C10: 445712 | D10: CA 31/10 TVA 20% | F10: 3.08 | G10: -3.08 | J10: =+J2 -> 31/10/2023 | K10: =IF(ISBLANK(J10),"","VE") -> VE | L10: 445712 | M10: ="CA "&TEXT(J10,"jj/mm")& " TVA 20%" -> CA 31/10 TVA 20% | O10: =IFERROR(VLOOKUP($J10,'EXTRACT LOG CAISSE'!$A$6:$AQ$8,MATCH(" TVA 20%",'EXTRACT LOG CAISSE'!$A$6:$AQ$6,0),FALSE),0) -> 0 | P10: =N10-O10 -> 0 | S10: 45230 | T10: VE | U10: 7012000 | V10: CA 31/10/2023 Autre 5,5% | W10: 0 | X10: 18.9573 | Y10: -18.9573
A11: 31/10/2023 | B11: VE | C11: 70131 | D11: CA 31/10 Cafés 10% | F11: 0 | G11: 0 | J11: =+J2 -> 31/10/2023 | K11: =IF(ISBLANK(J11),"","VE") -> VE | L11: 70131 | M11: ="CA "&TEXT(J11,"jj/mm")& " Cafés 10%" -> CA 31/10 Cafés 10% | O11: =ROUND(IFERROR(VLOOKUP(J11,$A$7:$BZ$36,MATCH("TVA 10.00 %",$A$6:$BZ$6,0),FALSE)/0.1,0),2) -> 0 | P11: =N11-O11 -> 0 | S11: 45229 | T11: VE | U11: 5111000 | V11: CA 30/10/2023 CB | W11: 159 | X11: 0 | Y11: 159
A12: 31/10/2023 | B12: VE | C12: 70115 | D12: CA 31/10 Pizzas 5,5% | F12: 459.72 | G12: -459.72 | J12: =+J2 -> 31/10/2023 | K12: =IF(ISBLANK(J12),"","VE") -> VE | L12: 70115 | M12: ="CA "&TEXT(J12,"jj/mm")& " Pizzas 5,5%" -> CA 31/10 Pizzas 5,5% | O12: =ROUND(IFERROR((VLOOKUP(J12,'EXTRACT LOG CAISSE'!$A$6:$AQ$8,MATCH("Blanche",'EXTRACT LOG CAISSE'!$A$6:$AQ$6,0),FALSE)/1.055),0)+IFERROR((VLOOKUP(J12,'EXTRACT LOG CAISSE'!$A$6:$AQ$8,MATCH("Blanche J.E.",'EXTRACT LOG CAISSE'!$A$6:$AQ$6,0),FALSE)/1.055),0)+IFERROR((VLOOKUP(J12,'EXTRACT LOG CAISSE'!$A$6:$AQ$8,MATCH("Rouge J.E.",'EXTRACT LOG CAISSE'!$A$6:$AQ$6,0),FALSE)/1.055),0)+IFERROR((VLOOKUP(J12,'EXTRACT LOG CAISSE'!$A$6:$AQ$8,MATCH("Rouges",'EXTRACT LOG CAISSE'!$A$6:$AQ$6,0),FALSE)/1.055),0)+IFERROR((VLOOKUP(J12,'EXTRACT LOG CAISSE'!$A$6:$AQ$8,MATCH("Supplements",'EXTRACT LOG CAISSE'!$A$6:$AQ$6,0),FALSE)/1.055),0)+IFERROR((VLOOKUP(J12,'EXTRACT LOG CAISSE'!$A$6:$AQ$8,MATCH("Pizzas du jour",'EXTRACT LOG CAISSE'!$A$6:$AQ$6,0),FALSE)/1.055),0)+IFERROR((VLOOKUP(J12,'EXTRACT LOG CAISSE'!$A$6:$AQ$8,MATCH("Articles non catégorisés",'EXTRACT LOG CAISSE'!$A$6:$AQ$6,0),FALSE)/1.055),0),2) -> 459.72 | P12: =N12-O12 -> -459.72 | S12: 45229 | T12: VE | U12: 5111200 | V12: CA 30/10/2023 CB déco | W12: 38.5 | X12: 0 | Y12: 38.5
A13: 31/10/2023 | B13: VE | C13: 7012 | D13: CA 31/10 Autre 5,5% | F13: 18.96 | G13: -18.96 | J13: =+J2 -> 31/10/2023 | K13: =IF(ISBLANK(J13),"","VE") -> VE | L13: 7012 | M13: ="CA "&TEXT(J13,"jj/mm")&" Autre 5,5%" -> CA 31/10 Autre 5,5% | O13: =ROUND(IFERROR((VLOOKUP(J13,$A$7:$BZ$36,MATCH("Desserts",$A$6:$BZ$6,0),FALSE)/1.055),0)+IFERROR((VLOOKUP(J13,$A$7:$BZ$36,MATCH("Glace",$A$6:$BZ$6,0),FALSE)/1.055),0)+IFERROR((VLOOKUP(J13,$A$7:$BZ$36,MATCH("Lasagnes",$A$6:$BZ$6,0),FALSE)/1.055),0)+IFERROR((VLOOKUP(J13,$A$7:$BZ$36,MATCH("Salade J.E.",$A$6:$BZ$6,0),FALSE)/1.055),0)+IFERROR((VLOOKUP(J13,$A$7:$BZ$36,MATCH("Salades",$A$6:$BZ$6,0),FALSE)/1.055),0)+IFERROR((VLOOKUP(J13,$A$7:$BZ$36,MATCH("Desserts J.E.",$A$6:$BZ$6,0),FALSE)/1.055),0),2) -> 0 | P13: =N13-O13 -> 0 | S13: 45229 | T13: VE | U13: 5300000 | V13: CA 30/10/2023 Espèces | W13: 100 | X13: 0 | Y13: 100
A14: 31/10/2023 | B14: VE | C14: 7014 | D14: CA 31/10 Frais livr 5,5% | F14: 0 | G14: 0 | J14: =+J2 -> 31/10/2023 | K14: =IF(ISBLANK(J14),"","VE") -> VE | L14: 7014 | M14: ="CA "&TEXT(J14,"jj/mm")&" Frais livr 5,5%" -> CA 31/10 Frais livr 5,5% | O14: =ROUND(IFERROR((VLOOKUP(J14,$A$7:$BZ$36,MATCH("Just eat",$A$6:$BZ$6,0),FALSE)/1.055),0),2) -> 0 | P14: =N14-O14 -> 0 | S14: 45229 | T14: VE | U14: 4457155 | V14: CA 30/10/2023 TVA 5,5% | W14: 0 | X14: 14.21 | Y14: -14.21
A15: 31/10/2023 | B15: VE | C15: 70132 | D15: CA 31/10 Boissons 20% | F15: 15.42 | G15: -15.42 | J15: =+J2 -> 31/10/2023 | K15: =IF(ISBLANK(J15),"","VE") -> VE | L15: 70132 | M15: ="CA "&TEXT(J15,"jj/mm")&" Boissons 20%" -> CA 31/10 Boissons 20% | O15: =ROUND(IFERROR((VLOOKUP(J15,$A$7:$BZ$36,MATCH("Boissons alcool",$A$6:$BZ$6,0),FALSE)/1.2),0),2) -> 0 | P15: =N15-O15 -> 0 | S15: 45229 | T15: VE | U15: 4457120 | V15: CA 30/10/2023 TVA 20% | W15: 0 | X15: 4.17 | Y15: -4.17
A16: 31/10/2023 | B16: VE | C16: 7013 | D16: CA 31/10 Boissons 5,5% | F16: 12.8 | G16: -12.8 | J16: =+J2 -> 31/10/2023 | K16: =IF(ISBLANK(J16),"","VE") -> VE | L16: 7013 | M16: ="CA "&TEXT(J16,"jj/mm")&" Boissons 5,5%" -> CA 31/10 Boissons 5,5% | O16: =ROUND(IFERROR((VLOOKUP(J16,$A$7:$BZ$36,MATCH("Boisson J.E.",$A$6:$BZ$6,0),FALSE)/1.055),0)+IFERROR(((VLOOKUP(J16,$A$7:$BZ$36,MATCH("Boissons sans alcool",$A$6:$BZ$6,0),FALSE)-O11*1.1)/1.055),0)+IFERROR(((VLOOKUP(J16,$A$7:$BZ$36,MATCH("Boissons",$A$6:$BZ$6,0),FALSE))/1.055),0),2) -> 0 | P16: =N16-O16 -> 0 | S16: 45229 | T16: VE | U16: 7011500 | V16: CA 30/10/2023 Pizzas 5,5% | W16: 0 | X16: 199.0521 | Y16: -199.0521
A17: 30/10/2023 | B17: VE | C17: 5111 | D17: CA 30/10 Cb | E17: 159 | G17: 159 | J17: =TEXT(J2-1,"jj/mm/aaaa") -> 30/10/2023 | K17: =IF(ISBLANK(J17),"","VE") -> VE | L17: 5111 | M17: ="CA "&TEXT(J17,"jj/mm")& " Cb" -> CA 30/10 Cb | N17: =IFERROR(VLOOKUP(J17,$A$7:$BZ$36,MATCH("CB",$A$6:$BZ$6,0),FALSE),0) -> 0 | P17: =N17-O17 -> 0 | S17: 45229 | T17: VE | U17: 7013200 | V17: CA 30/10/2023 Boissons 20% | W17: 0 | X17: 20.8333 | Y17: -20.8333
A18: 30/10/2023 | B18: VE | C18: 51112 | D18: CA 30/10 Cb dec | E18: 38.5 | G18: 38.5 | J18: =TEXT(J2-1,"jj/mm/aaaa") -> 30/10/2023 | K18: =IF(ISBLANK(J18),"","VE") -> VE | L18: 51112 | M18: ="CA "&TEXT(J18,"jj/mm")& " Cb dec" -> CA 30/10 Cb dec | N18: =IFERROR(VLOOKUP(J18,$A$7:$BZ$36,MATCH("CB déconnectée",$A$6:$BZ$6,0),FALSE),0) -> 0 | P18: =N18-O18 -> 0 | S18: 45229 | T18: VE | U18: 7013000 | V18: CA 30/10/2023 Boissons 5,5% | W18: 0 | X18: 8.0569 | Y18: -8.0569
A19: 30/10/2023 | B19: VE | C19: 53 | D19: CA 30/10 Esp | E19: 100 | G19: 100 | J19: =TEXT(J2-1,"jj/mm/aaaa") -> 30/10/2023 | K19: =IF(ISBLANK(J19),"","VE") -> VE | L19: 53 | M19: ="CA "&TEXT(J19,"jj/mm")& " Esp" -> CA 30/10 Esp | N19: =IFERROR(VLOOKUP(J19,$A$7:$BZ$36,MATCH("Espèces",$A$6:$BZ$6,0),FALSE),0) -> 0 | P19: =N19-O19 -> 0 | S19: 45229 | T19: VE | U19: 7012000 | V19: CA 30/10/2023 Autre 5,5% | W19: 0 | X19: 51.1848 | Y19: -51.1848
A20: 30/10/2023 | B20: VE | C20: 5112 | D20: CA 30/10 Chq | E20: 0 | G20: 0 | J20: =TEXT(J2-1,"jj/mm/aaaa") -> 30/10/2023 | K20: =IF(ISBLANK(J20),"","VE") -> VE | L20: 5112 | M20: ="CA "&TEXT(J20,"jj/mm")& " Chq" -> CA 30/10 Chq | N20: =IFERROR(VLOOKUP(J20,$A$7:$BZ$36,MATCH("Chèque",$A$6:$BZ$6,0),FALSE),0) -> 0 | P20: =N20-O20 -> 0 | S20: Total | W20: =SUBTOTAL(109,Journal_1[Débit]) -> 834.5 | X20: =SUBTOTAL(109,Journal_1[Crédit]) -> 834.5129 | Y20: =SUBTOTAL(109,Journal_1[Solde]) -> -0.0129
A21: 30/10/2023 | B21: VE | C21: 5113 | D21: CA 30/10 TR | E21: 0 | G21: 0 | J21: =TEXT(J2-1,"jj/mm/aaaa") -> 30/10/2023 | K21: =IF(ISBLANK(J21),"","VE") -> VE | L21: 5113 | M21: ="CA "&TEXT(J21,"jj/mm")& " TR" -> CA 30/10 TR | N21: =IFERROR(VLOOKUP(J21,$A$7:$BZ$36,MATCH("Ticket Restaurant",$A$6:$BZ$6,0),FALSE),0) -> 0 | P21: =N21-O21 -> 0
A22: 30/10/2023 | B22: VE | C22: 7021 | D22: CA 30/10 Arrondi | E22: 0 | G22: 0 | J22: =TEXT(J2-1,"jj/mm/aaaa") -> 30/10/2023 | K22: =IF(ISBLANK(J22),"","VE") -> VE | L22: 7021 | M22: ="CA "&TEXT(J22,"jj/mm")& " Arrondi" -> CA 30/10 Arrondi | N22: =ROUND(-SUM(N17:N21)+SUM(O23:O31),2) -> 0 | P22: =N22-O22 -> 0
A23: 30/10/2023 | B23: VE | C23: 4457155 | D23: CA 30/10 TVA 5,5% | F23: 14.21 | G23: -14.21 | J23: =TEXT(J2-1,"jj/mm/aaaa") -> 30/10/2023 | K23: =IF(ISBLANK(J23),"","VE") -> VE | L23: 4457155 | M23: ="CA "&TEXT(J23,"jj/mm")& " TVA 5,5%" -> CA 30/10 TVA 5,5% | O23: =IFERROR(VLOOKUP(J23,$A$7:$BZ$36,MATCH("TVA 5.50 %",$A$6:$BZ$6,0),FALSE),0) -> 0 | P23: =N23-O23 -> 0
A24: 30/10/2023 | B24: VE | C24: 445711 | D24: CA 30/10 TVA 10% | F24: 0 | G24: 0 | J24: =TEXT(J2-1,"jj/mm/aaaa") -> 30/10/2023 | K24: =IF(ISBLANK(J24),"","VE") -> VE | L24: 445711 | M24: ="CA "&TEXT(J24,"jj/mm")& " TVA 10%" -> CA 30/10 TVA 10% | O24: =IFERROR(VLOOKUP(J24,$A$7:$BZ$36,MATCH("TVA 10.00 %",$A$6:$BZ$6,0),FALSE),0) -> 0 | P24: =N24-O24 -> 0
A25: 30/10/2023 | B25: VE | C25: 445712 | D25: CA 30/10 TVA 20% | F25: 4.17 | G25: -4.17 | J25: =TEXT(J2-1,"jj/mm/aaaa") -> 30/10/2023 | K25: =IF(ISBLANK(J25),"","VE") -> VE | L25: 445712 | M25: ="CA "&TEXT(J25,"jj/mm")& " TVA 20%" -> CA 30/10 TVA 20% | O25: =IFERROR(VLOOKUP(J25,$A$7:$BZ$36,MATCH("TVA 20.00 %",$A$6:$BZ$6,0),FALSE),0) -> 0 | P25: =N25-O25 -> 0
A26: 30/10/2023 | B26: VE | C26: 70131 | D26: CA 30/10 Cafés 10% | F26: 0 | G26: 0 | J26: =TEXT(J2-1,"jj/mm/aaaa") -> 30/10/2023 | K26: =IF(ISBLANK(J26),"","VE") -> VE | L26: 70131 | M26: ="CA "&TEXT(J26,"jj/mm")& " Cafés 10%" -> CA 30/10 Cafés 10% | O26: =ROUND(IFERROR(VLOOKUP(J26,$A$7:$BZ$36,MATCH("TVA 10.00 %",$A$6:$BZ$6,0),FALSE)/0.1,0),2) -> 0 | P26: =N26-O26 -> 0
A27: 30/10/2023 | B27: VE | C27: 70115 | D27: CA 30/10 Pizzas 5,5% | F27: 199.05 | G27: -199.05 | J27: =TEXT(J2-1,"jj/mm/aaaa") -> 30/10/2023 | K27: =IF(ISBLANK(J27),"","VE") -> VE | L27: 70115 | M27: ="CA "&TEXT(J27,"jj/mm")& " Pizzas 5,5%" -> CA 30/10 Pizzas 5,5% | O27: =ROUND(IFERROR((VLOOKUP(J27,$A$7:$BZ$36,MATCH("Blanche",$A$6:$BZ$6,0),FALSE)/1.055),0)+IFERROR((VLOOKUP(J27,$A$7:$BZ$36,MATCH("Blanche J.E.",$A$6:$BZ$6,0),FALSE)/1.055),0)+IFERROR((VLOOKUP(J27,$A$7:$BZ$36,MATCH("Rouge J.E.",$A$6:$BZ$6,0),FALSE)/1.055),0)+IFERROR((VLOOKUP(J27,$A$7:$BZ$36,MATCH("Rouges",$A$6:$BZ$6,0),FALSE)/1.055),0)+IFERROR((VLOOKUP(J27,$A$7:$BZ$36,MATCH("Supplements",$A$6:$BZ$6,0),FALSE)/1.055),0)+IFERROR((VLOOKUP(J27,$A$7:$BZ$36,MATCH("Pizzas du jour",$A$6:$BZ$6,0),FALSE)/1.055),0)+IFERROR((VLOOKUP(J27,$A$7:$BZ$36,MATCH("Articles non catégorisés",$A$6:$BZ$6,0),FALSE)/1.055),0),2) -> 0 | P27: =N27-O27 -> 0
A28: 30/10/2023 | B28: VE | C28: 7012 | D28: CA 30/10 Autre 5,5% | F28: 51.18 | G28: -51.18 | J28: =TEXT(J2-1,"jj/mm/aaaa") -> 30/10/2023 | K28: =IF(ISBLANK(J28),"","VE") -> VE | L28: 7012 | M28: ="CA "&TEXT(J28,"jj/mm")&" Autre 5,5%" -> CA 30/10 Autre 5,5% | O28: =ROUND(IFERROR((VLOOKUP(J28,$A$7:$BZ$36,MATCH("Desserts",$A$6:$BZ$6,0),FALSE)/1.055),0)+IFERROR((VLOOKUP(J28,$A$7:$BZ$36,MATCH("Glace",$A$6:$BZ$6,0),FALSE)/1.055),0)+IFERROR((VLOOKUP(J28,$A$7:$BZ$36,MATCH("Lasagnes",$A$6:$BZ$6,0),FALSE)/1.055),0)+IFERROR((VLOOKUP(J28,$A$7:$BZ$36,MATCH("Salade J.E.",$A$6:$BZ$6,0),FALSE)/1.055),0)+IFERROR((VLOOKUP(J28,$A$7:$BZ$36,MATCH("Salades",$A$6:$BZ$6,0),FALSE)/1.055),0)+IFERROR((VLOOKUP(J28,$A$7:$BZ$36,MATCH("Desserts J.E.",$A$6:$BZ$6,0),FALSE)/1.055),0),2) -> 0 | P28: =N28-O28 -> 0
A29: 30/10/2023 | B29: VE | C29: 7014 | D29: CA 30/10 Frais livr 5,5% | F29: 0 | G29: 0 | J29: =TEXT(J2-1,"jj/mm/aaaa") -> 30/10/2023 | K29: =IF(ISBLANK(J29),"","VE") -> VE | L29: 7014 | M29: ="CA "&TEXT(J29,"jj/mm")&" Frais livr 5,5%" -> CA 30/10 Frais livr 5,5% | O29: =ROUND(IFERROR((VLOOKUP(J29,$A$7:$BZ$36,MATCH("Just eat",$A$6:$BZ$6,0),FALSE)/1.055),0),2) -> 0 | P29: =N29-O29 -> 0
A30: 30/10/2023 | B30: VE | C30: 70132 | D30: CA 30/10 Boissons 20% | F30: 20.83 | G30: -20.83 | J30: =TEXT(J2-1,"jj/mm/aaaa") -> 30/10/2023 | K30: =IF(ISBLANK(J30),"","VE") -> VE | L30: 70132 | M30: ="CA "&TEXT(J30,"jj/mm")&" Boissons 20%" -> CA 30/10 Boissons 20% | O30: =ROUND(IFERROR((VLOOKUP(J30,$A$7:$BZ$36,MATCH("Boissons alcool",$A$6:$BZ$6,0),FALSE)/1.2),0),2) -> 0 | P30: =N30-O30 -> 0
A31: 30/10/2023 | B31: VE | C31: 7013 | D31: CA 30/10 Boissons 5,5% | F31: 8.06 | G31: -8.06 | J31: =TEXT(J2-1,"jj/mm/aaaa") -> 30/10/2023 | K31: =IF(ISBLANK(J31),"","VE") -> VE | L31: 7013 | M31: ="CA "&TEXT(J31,"jj/mm")&" Boissons 5,5%" -> CA 30/10 Boissons 5,5% | O31: =ROUND(IFERROR((VLOOKUP(J31,$A$7:$BZ$36,MATCH("Boisson J.E.",$A$6:$BZ$6,0),FALSE)/1.055),0)+IFERROR(((VLOOKUP(J31,$A$7:$BZ$36,MATCH("Boissons sans alcool",$A$6:$BZ$6,0),FALSE)-O26*1.1)/1.055),0)+IFERROR(((VLOOKUP(J31,$A$7:$BZ$36,MATCH("Boissons",$A$6:$BZ$6,0),FALSE))/1.055),0),2) -> 0 | P31: =N31-O31 -> 0
J34: VERSION AVEC FORMULE : | N34: =SUM(N2:N33) -> 486.76 | O34: =SUM(O2:O33) -> 486.76 | P34: =SUM(P2:P33) -> -5.6843419e-14

Sheet Tables
A1: Compte | B1: Libellé T | C1: Libellé | D1: Sens | E1: Taux
A2: 5111000 | B2: CB | C2: CB | D2: Débit
A3: 5111200 | B3: CB Déconnectée | C3: CB déco | D3: Débit
A4: 5111210 | B4: CB PLBS clôturé | C4: CB PLBS | D4: Débit
A5: 5300000 | B5: Espèces | C5: Espèces | D5: Débit
A6: 5112000 | B6: Chèque | C6: Chèque | D6: Débit
A7: 5115000 | B7: Avoir | C7: Avoir | D7: Débit
A8: 5115000 | B8: Ticket Restaurant | C8: TR | D8: Débit
A9: 5115000 | B9: Chèque-vacances | C9: Chèque V | D9: Débit
A10: 5115000 | B10: VAD | C10: VAD | D10: Débit
A11: 4457190 | B11: TVA 0.00 % | C11: TVA 0% | D11: Crédit
A12: 4457190 | B12: TVA 2.10 % | C12: TVA 2,1% | D12: Crédit
A13: 4457155 | B13: TVA 5.50 % | C13: TVA 5,5% | D13: Crédit
... A17: 4457120 | B17: TVA 20.00 % | C17: TVA 20% | D17: Crédit
A18: 7011500 | B18: Blanche | C18: Pizzas 5,5% | D18: Crédit | E18: 0.055
A19: 7013200 | B19: Boissons alcool | C19: Boissons 20% | D19: Crédit | E19: 0.2
A20: 7013000 | B20: Boissons sans alcool | C20: Boissons 5,5% | D20: Crédit | E20: 0.055
A21: 7013100 | B21: Café 10% | C21: Café 10% | D21: Crédit | E21: 0.1
A22: 7012000 | B22: Desserts | C22: Autre 5,5% | D22: Crédit | E22: 0.055
A23: 7012000 | B23: Glace | C23: Autre 5,5% | D23: Crédit | E23: 0.055
A24: 7012000 | B24: Lasagnes | C24: Autre 5,5% | D24: Crédit | E24: 0.055
A25: 7011500 | B25: Rouges | C25: Pizzas 5,5% | D25: Crédit | E25: 0.055
A26: 7012000 | B26: Salades | C26: Autre 5,5% | D26: Crédit | E26: 0.055
A27: 7011500 | B27: Supplements | C27: Pizzas 5,5% | D27: Crédit | E27: 0.055
A28: 7011500 | B28: Articles non catégorisés | C28: Pizzas 5,5% | D28: Crédit | E28: 0.055
