Workbook

Sheet Suivi production
A1: Date | B1: OF | C1: N° Opérateur | D1: H début | E1: H fin | F1: Pause | G1: Qté triée | H1: Temps travaillé
A2: 44900 | B2: 123143 | C2: ITBE00008 | D2: 0.52083333 | E2: 0.81597222 | F2: 0.020833333 | G2: 5192 | H2: =MOD(E2-F2-D2,1)*24 -> 6.5833333
A3: 44900 | B3: 143142 | C3: ITBE00008 | D3: 0.81597222 | E3: 0.81944444 | G3: 88 | H3: =MOD(E3-F3-D3,1)*24 -> 0.083333333
A4: 44907 | B4: 532312 | C4: ITBE00008 | D4: 0.69097222 | E4: 0.81944444 | F4: 0.013888889 | G4: 1190 | H4: =MOD(E4-F4-D4,1)*24 -> 2.75
A5: 44935 | B5: 531236 | C5: ITBE00008 | D5: 0.52083333 | E5: 0.69097222 | F5: 0.0069444444 | G5: 3168 | H5: =MOD(E5-F5-D5,1)*24 -> 3.9166667
A6: 44942 | B6: 312531 | C6: ITBE00008 | D6: 0.52083333 | E6: 0.81944444 | F6: 0.020833333 | G6: 4130 | H6: =MOD(E6-F6-D6,1)*24 -> 6.6666667
A7: 44845 | B7: 734264 | C7: ITDA00012 | D7: 0.78472222 | E7: 0.8125 | G7: 360 | H7: =MOD(E7-F7-D7,1)*24 -> 0.66666667
A8: 44929 | B8: 637153 | C8: ITDA00012 | D8: 0.53125 | E8: 0.78472222 | F8: 0.020833333 | G8: 6096 | H8: =MOD(E8-F8-D8,1)*24 -> 5.5833333
A9: 44964 | B9: 875424 | C9: ITDA00012 | D9: 0.8125 | E9: 0.81944444 | G9: 0 | H9: =MOD(E9-F9-D9,1)*24 -> 0.16666667
A10: 45028 | B10: 647439 | C10: ITDA00012 | D10: 0.52083333 | E10: 56.572917 | G10: 432 | H10: =MOD(E10-F10-D10,1)*24 -> 1.25
A11: 45028 | B11: 748363 | C11: ITDA00012 | D11: 0.57291667 | E11: 0.70833333 | F11: 0.020833333 | G11: 2654 | H11: =MOD(E11-F11-D11,1)*24 -> 2.75
A12: 45028 | B12: 153636 | C12: ITDA00012 | D12: 0.70833333 | E12: 0.81944444 | G12: 1643 | H12: =MOD(E12-F12-D12,1)*24 -> 2.6666667
A13: 45050 | B13: 532561 | C13: ITDA00012 | D13: 0.52083333 | E13: 0.81944444 | F13: 0.020833333 | G13: 2880 | H13: =MOD(E13-F13-D13,1)*24 -> 6.6666667
A14: 45058 | B14: 654334 | C14: ITDA00012 | D14: 0.47569444 | E14: 0.52083333 | G14: 1016 | H14: =MOD(E14-F14-D14,1)*24 -> 1.0833333

Sheet Suivi contrat
A1: Agence | B1: N° Opérateur | C1: Nom | D1: Prénom | E1: Numéro contrat | F1: Motif | G1: Poste | H1: Date début | I1: Date fin | J1: Taux d'activité | K1: Taux horaire | L1: Panier repas
A2: F | B2: ITBE00008 | E2: 00J363658-00 | F2: Contrat | G2: Agent de production | H2: 44900 | I2: 44904 | J2: 100 | K2: 20.04 | L2: 0
A3: F | B3: ITDC00026 | E3: 00J363657-00 | F3: Contrat | G3: Agent de production | H3: 44900 | I3: 44904 | J3: 100 | K3: 20.04 | L3: 0
A4: F | B4: ITHA00027 | E4: 00J365248-00 | F4: Contrat | G4: Agent de production | H4: 44958 | I4: 44985 | J4: 100 | K4: 20.4 | L4: 5.09
A5: F | B5: ITDI00009 | E5: 00J364301-00 | F5: Contrat | G5: Agent de production | H5: 44928 | I5: 44934 | J5: 100 | K5: 20.4 | L5: 5.09
A6: F | B6: ITBE00008 | E6: 00J363658-01 | F6: Prolongation | G6: Agent de production | H6: 44905 | I6: 44918 | J6: 100 | K6: 20.04 | L6: 0
A7: F | B7: ITML00010 | E7: 00J363851-00 | F7: Contrat | G7: Agent de production | H7: 44907 | I7: 44918 | J7: 100 | K7: 20.04 | L7: 0
A8: F | B8: ITLJ00003 | E8: 00J364655-00 | F8: Contrat | G8: Agent de production | H8: 44943 | I8: 44946 | J8: 100 | K8: 20.4 | L8: 0
A9: B | B9: ITPB00011 | H9: 44943 | I9: 44949
A10: F | B10: ITDC00026 | E10: 00J363657-01 | F10: Prolongation | G10: Agent de production | H10: 44905 | I10: 44918 | J10: 100 | K10: 20.04 | L10: 0
A11: F | B11: ITBE00008 | E11: 00J364296-00 | F11: Contrat | G11: Agent de production | H11: 44928 | I11: 44932 | J11: 100 | K11: 20.84 | L11: 0
A12: F | B12: ITLJ00003 | E12: 00J364655-01 | F12: Prolongation | G12: Agent de production | H12: 44943 | I12: 44953 | J12: 100 | K12: 20.4 | L12: 0
A13: F | B13: ITDM00004 | E13: 00J370241-00 | F13: Contrat | G13: Agent de production | H13: 45138 | I13: 45382 | J13: 100 | K13: 20.62 | L13: 5.39
A14: F | B14: ITDI00009 | E14: 00J364301-01 | F14: Prolongation | G14: Agent de production | H14: 44935 | I14: 44957 | J14: 100 | K14: 20.4 | L14: 5.09
A15: F | B15: ITDA00012 | E15: 00J362277-00 | F15: Contrat | G15: Agent de production | H15: 44844 | I15: 44918 | J15: 100 | K15: 20.04 | L15: 5.09
A16: F | B16: ITHA00027 | E16: 00J365248-01 | F16: Prolongation | G16: Agent de production | H16: 44986 | I16: 45135 | J16: 100 | K16: 20.4 | L16: 5.09
A17: F | B17: ITBE00008 | E17: 00J364600-00 | F17: Contrat | G17: Agent de production | H17: 44933 | I17: 44940 | J17: 100 | K17: 20.84 | L17: 0
A18: F | B18: ITDE00014 | H18: 44928 | I18: 44960
A19: F | B19: ITMJ00041 | E19: 00J363849-00 | F19: Contrat | G19: Agent de production | H19: 44907 | I19: 44918 | J19: 100 | K19: 20.04 | L19: 5.09
A20: F | B20: ITML00010 | E20: 00J364335-00 | F20: Contrat | G20: Agent de production | H20: 44929 | I20: 44932 | J20: 100 | K20: 20.4 | L20: 0
A21: F | B21: ITDC00050 | E21: 00J365262-01 | F21: Avenant tarif coeff | G21: Agent de production | H21: 44963 | I21: 44967 | J21: 100 | K21: 20.17 | L21: 0
A22: F | B22: ITGL00017 | E22: 00J365260-00 | F22: Contrat | G22: Agent de production | H22: 44963 | I22: 44967 | J22: 100 | K22: 20.4 | L22: 0
A23: F | B23: ITLM00040 | E23: 00J365261-00 | F23: Contrat | G23: Agent de production | H23: 44963 | I23: 44967 | J23: 100 | K23: 20.4 | L23: 0
A24: F | B24: ITMJ00023 | E24: 00J365259-00 | F24: Contrat | G24: Agent de production | H24: 44963 | I24: 44967 | J24: 100 | K24: 20.4 | L24: 0
A25: F | B25: ITVE00029 | E25: 00J365327-00 | F25: Contrat | G25: Agent de production | H25: 44964 | I25: 44967 | J25: 100 | K25: 20.4 | L25: 5.09
A26: F | B26: ITDE00036 | E26: 00J362276-00 | F26: Contrat | G26: Agent de production | H26: 44844 | I26: 44890 | J26: 100 | K26: 20.04 | L26: 5.09
A27: F | B27: ITVE00029 | E27: 00J365444-00 | F27: Contrat | G27: Agent de production | H27: 44970 | I27: 44974 | J27: 100 | K27: 20.4 | L27: 5.09
A28: F | B28: ITGL00017 | E28: 00J365260-01 | F28: Avenant tarif SMIC | G28: Agent de production | H28: 44963 | I28: 44967 | J28: 100 | K28: 20.17 | L28: 0
A29: F | B29: ITGL00017 | E29: 00J365446-00 | F29: Contrat | G29: Agent de production | H29: 44970 | I29: 44980 | J29: 100 | K29: 20.17 | L29: 5.09
A30: F | B30: ITLM00040 | E30: 00J365261-01 | F30: Avenant tarif coeff | G30: Agent de production | H30: 44963 | I30: 44967 | J30: 100 | K30: 20.17 | L30: 0
... A56: F | B56: ITDE00041 | E56: 00J366442-00 | F56: Contrat | G56: Agent de production | H56: 45005 | I56: 45009 | J56: 100 | K56: 20.17 | L56: 0
A57: F | B57: ITSA00067 | H57: 45005 | I57: 45009
A58: F | B58: ITLM00040 | E58: 00J365447-00 | F58: Contrat | G58: Agent de production | H58: 44970 | I58: 44983 | J58: 100 | K58: 20.17 | L58: 5.09
A59: F | B59: ITDC00026 | E59: 00J364297-00 | F59: Contrat | G59: Agent de production | H59: 44928 | I59: 44932 | J59: 100 | K59: 20.4 | L59: 0
A60: F | B60: ITMJ00041 | E60: 00J364300-00 | F60: Contrat | G60: Agent de production | H60: 44928 | I60: 44944 | J60: 100 | K60: 20.4 | L60: 5.09
A61: F | B61: ITDL00037 | E61: 00J366441-01 | F61: Prolongation | G61: Agent de production | H61: 45010 | I61: 45023 | J61: 100 | K61: 20.17 | L61: 0
A62: F | B62: ITDE00041 | E62: 00J366442-01 | F62: Prolongation | G62: Agent de production | H62: 45010 | I62: 45023 | J62: 100 | K62: 20.17 | L62: 0
A63: E | B63: ITLN00070 | E63: 8734_0 | F63: Contrat | G63: Agent de production | H63: 45005 | I63: 45023 | J63: 100 | K63: 20.17 | L63: 5.09
A64: E | B64: ITRC00043 | E64: 8733_0 | F64: Contrat | G64: Agent de production | H64: 45005 | I64: 45023 | J64: 100 | K64: 20.17 | L64: 5.09
A65: F | B65: ITSA00067 | H65: 45041 | I65: 45023
A66: F | B66: ITDJ00032 | H66: 45033 | I66: 45037
A67: D | B67: ITDD00069 | E67: 760319967-00 | F67: Contrat | G67: Agent de production | H67: 45170 | I67: 45199 | J67: 100 | K67: 20.51 | L67: 5.39
A68: D | B68: ITLA00071 | E68: 760316617-01 | F68: Contrat | G68: Agent de production | H68: 45048 | I68: 45051 | J68: 100 | K68: 20.51 | L68: 5.39
A69: F | B69: ITCM00024 | E69: 00J365325-01 | F69: Prolongation | G69: Agent de production | H69: 44986 | I69: 45044 | J69: 100 | K69: 20.4 | L69: 5.09
A70: C | B70: ITCJ00072 | H70: 45033 | I70: 45051
A71: F | B71: ITDJ00032 | H71: 45038 | I71: 45051
A72: D | B72: ITDD00069 | E72: 760319967-01 | F72: Prolongation | G72: Agent de production | H72: 45200 | I72: 45229 | J72: 100 | K72: 20.51 | L72: 5.39
A73: D | B73: ITLA00071 | E73: 760317066-00 | F73: Contrat | G73: Agent de production | H73: 45055 | I73: 45169 | J73: 100 | K73: 20.51 | L73: 5.39
A74: F | B74: ITDC00026 | E74: 00J364601-00 | F74: Contrat | G74: Agent de production | H74: 44933 | I74: 44951 | J74: 100 | K74: 20.4 | L74: 0
A75: F | B75: ITDC00026 | E75: 00J365153-00 | F75: Contrat | G75: Agent de production | H75: 44952 | I75: 45016 | J75: 100 | K75: 20.4 | L75: 0
A76: F | B76: ITDC00026 | E76: 00J365153-01 | F76: Avenant HORAIRES | G76: Agent de production | H76: 44963 | I76: 45016 | J76: 100 | K76: 20.4 | L76: 5.09
A77: F | B77: ITDC00026 | E77: 00J365153-02 | F77: Prolongation | G77: Agent de production | H77: 45017 | I77: 45135 | J77: 100 | K77: 20.4 | L77: 5.09
A78: F | B78: ITDC00026 | E78: 00J365153-03 | F78: Avenant tarif SMIC | G78: Agent de production | H78: 44986 | I78: 45135 | J78: 100 | K78: 20.17 | L78: 5.09
A79: F | B79: ITDC00026 | E79: 00J365153-04 | F79: Avenant tarif SMIC | G79: Agent de production | H79: 45047 | I79: 45061 | J79: 100 | K79: 20.62 | L79: 5.09
A80: F | B80: ITDC00026 | E80: 00J365153-05 | F80: Avenant tarif PANIER | G80: Agent de production | H80: 45047 | I80: 45061 | J80: 100 | K80: 20.62 | L80: 5.39
A81: D | B81: ITBS00073 | E81: 760317602-00 | F81: Contrat | G81: Agent de production | H81: 45076 | I81: 45086 | J81: 100 | K81: 20.51 | L81: 5.39
A82: D | B82: ITDF00123 | E82: 760317923-00 | F82: Contrat | G82: Agent de production | H82: 45089 | I82: 45169 | J82: 100 | K82: 20.51 | L82: 5.39
A83: E | B83: ITDC00025 | E83: 8794_0 | F83: Contrat | G83: Agent de production | H83: 45007 | I83: 45077 | J83: 100 | K83: 20.17 | L83: 5.09
... A87: F | B87: ITBB00034 | E87: 00J368933-00 | F87: Contrat | G87: Agent de production | H87: 45089 | I87: 45093 | J87: 100 | K87: 20.62 | L87: 0
A88: F | B88: ITBB00075 | H88: 45089 | I88: 45093
A89: F | B89: ITFA00076 | E89: 00J368934-00 | F89: Contrat | G89: Agent de production | H89: 45089 | I89: 45093 | J89: 100 | K89: 20.62 | L89: 0
A90: F | B90: ITLN00068 | E90: 00J368936-00 | F90: Contrat | G90: Agent de production | H90: 45089 | I90: 45093 | J90: 100 | K90: 20.62 | L90: 0
A91: F | B91: ITLN00068 | E91: 00J369162-00 | F91: Contrat | G91: Agent de production | H91: 45096 | I91: 45100 | J91: 100 | K91: 20.62 | L91: 5.39
A92: F | B92: ITBB00034 | E92: 00J369158-00 | F92: Contrat | G92: Agent de production | H92: 45096 | I92: 45107 | J92: 100 | K92: 20.62 | L92: 5.39
A93: F | B93: ITBB00075 | H93: 45103 | I93: 45107
A94: C | B94: ITCJ00072 | H94: 45052 | I94: 45107
A95: F | B95: ITFA00076 | E95: 00J369161-00 | F95: Contrat | G95: Agent de production | H95: 45096 | I95: 45107 | J95: 100 | K95: 20.62 | L95: 5.39
A96: F | B96: ITFL00077 | H96: 45103 | I96: 45107
A97: D | B97: ITMO00042 | E97: 760318323-00 | F97: Contrat | G97: Agent de production | H97: 45103 | I97: 45107 | J97: 100 | K97: 17.86 | L97: 0
A98: D | B98: ITBS00073 | E98: 760317922-00 | F98: Contrat | G98: Agent de production | H98: 45089 | I98: 45169 | J98: 100 | K98: 20.51 | L98: 5.39
A99: D | B99: ITDF00123 | E99: 760317603-00 | F99: Contrat | G99: Agent de production | H99: 45076 | I99: 45086 | J99: 100 | K99: 20.51 | L99: 5.39
A100: F | B100: ITBB00034 | E100: 00J369488-00 | F100: Contrat | G100: Agent de production | H100: 45110 | I100: 45120 | J100: 100 | K100: 20.62 | L100: 5.39
A101: F | B101: ITBB00075 | H101: 45110 | I101: 45120
A102: F | B102: ITLE00045 | E102: 00J369708-00 | F102: Contrat | G102: Agent de production | H102: 45114 | I102: 45120 | J102: 100 | K102: 20.62 | L102: 0
A103: F | B103: ITVA00078 | H103: 45114 | I103: 45120
A104: F | B104: ITFL00077 | H104: 45110 | I104: 45124
A105: D | B105: ITMO00042 | E105: 760318579-00 | F105: Contrat | G105: Agent de production | H105: 45110 | I105: 45124 | J105: 100 | K105: 20.51 | L105: 5.39
A106: C | B106: ITCJ00072 | H106: 45110 | I106: 45128
A107: F | B107: ITLM00040 | E107: 00J366011-00 | F107: Contrat | G107: Agent de production | H107: 44984 | I107: 44988 | J107: 100 | K107: 20.17 | L107: 5.09
A108: E | B108: ITRC00043 | E108: 9005_0 | F108: Contrat | G108: Agent de production | H108: 45027 | I108: 45135 | J108: 100 | K108: 20.17 | L108: 5.09
A109: F | B109: ITDM00004 | E109: 00J365244-01 | F109: Prolongation | G109: Agent de production | H109: 44986 | I109: 45135 | J109: 100 | K109: 20.17 | L109: 5.09
A110: F | B110: ITDM00004 | E110: 00J365244-02 | F110: Avenant tarif smic | G110: Agent de production | H110: 45047 | I110: 45135 | J110: 100 | K110: 20.62 | L110: 5.09
A111: F | B111: ITDM00004 | E111: 00J365244-03 | F111: Avenant tarif panier | G111: Agent de production | H111: 45047 | I111: 45135 | J111: 100 | K111: 20.62 | L111: 5.39
A112: F | B112: ITDM00004 | E112: 00J364304-00 | F112: Contrat | G112: Agent de production | H112: 44928 | I112: 44957 | J112: 100 | K112: 20.17 | L112: 5.09
A113: F | B113: ITDM00004 | E113: 00J362827-00 | F113: Contrat | G113: Agent de production | H113: 44867 | I113: 44915 | J113: 100 | K113: 20.04 | L113: 5.09
A114: F | B114: ITDM00004 | E114: 00J361269-00 | F114: Contrat | G114: Agent de production | H114: 44805 | I114: 44834 | J114: 100 | K114: 20.04 | L114: 5.09
A115: F | B115: ITDM00004 | E115: 00J361269-01 | F115: Prolongation | G115: Agent de production | H115: 44835 | I115: 44865 | J115: 100 | K115: 20.04 | L115: 5.09
A116: F | B116: ITDI00009 | E116: 00J365246-01 | F116: Prolongation | G116: Agent de production | H116: 44986 | I116: 45135 | J116: 100 | K116: 20.4 | L116: 5.09
A117: F | B117: ITDI00009 | E117: 00J363850-00 | F117: Contrat | G117: Agent de production | H117: 44907 | I117: 44918 | J117: 100 | K117: 20.04 | L117: 5.09
A118: F | B118: ITDE00036 | E118: 00J362276-01 | F118: Prolongation | G118: Agent de production | H118: 44891 | I118: 44908 | J118: 100 | K118: 20.04 | L118: 5.09
... A147: F | B147: ITML00010 | E147: 00J365250-03 | F147: Avenant tarif panier | G147: Agent de production | H147: 44963 | I147: 45135 | J147: 100 | K147: 20.62 | L147: 5.39
A148: C | B148: ITCJ00072 | H148: 45129 | I148: 45169
A149: E | B149: ITDC00025 | E149: 8794_1 | F149: Avenant tarif smic | G149: Agent de production | H149: 45047 | I149: 45077 | J149: 100 | K149: 20.62 | L149: 5.09
A150: E | B150: ITDC00025 | E150: 8794_2 | F150: Prolongation | G150: Agent de production | H150: 45078 | I150: 45169 | J150: 100 | K150: 20.62 | L150: 5.09
A151: F | B151: ITFA00076 | E151: 00J369490-00 | F151: Contrat | G151: Agent de production | H151: 45110 | I151: 45169 | J151: 100 | K151: 20.62 | L151: 5.39
A152: F | B152: ITFA00076 | E152: 00J369490-01 | F152: Contrat | G152: Agent de production | H152: 45110 | I152: 45169 | J152: 100 | K152: 20.62 | L152: 5.39
A153: F | B153: ITFA00076 | E153: 00J370968-00 | F153: Contrat | G153: Agent de production | H153: 45180 | I153: 45382 | J153: 100 | K153: 20.62 | L153: 5.39
A154: D | B154: ITLA00071 | E154: 760319968-00 | F154: Contrat | G154: Agent de production | H154: 45170 | I154: 45199 | J154: 100 | K154: 20.51 | L154: 5.39
A155: D | B155: ITMO00042 | E155: 760318579-01 | F155: Prolongation | G155: Agent de production | H155: 45125 | I155: 45169 | J155: 100 | K155: 20.51 | L155: 5.39
A156: E | B156: ITBK00035 | E156: 8793_0 | F156: Contrat | G156: Agent de production | H156: 45007 | I156: 45077 | J156: 100 | K156: 20.17 | L156: 5.09
...

Sheet Exemple résultat souhaité
A14: Date | B14: N° Opérateur | C14: Heures contractuelles | D14: Heures production | E14: Coût salaire base (journée) | F14: Coût panier repas (journée) | G14: Coût total
A15: 44900 | B15: ITBE00008 | C15: 7 | D15: =SUMIFS('Suivi production'!H:H,'Suivi production'!A:A,A15) -> 6.6666667
A16: 45028 | B16: ITDA00012 | C16: 7 | D16: =SUMIFS('Suivi production'!H:H,'Suivi production'!A:A,A16) -> 6.6666667 | E16: ='Suivi contrat'!K120*'Exemple résultat souhaité'!D16 -> 136 | F16: ='Suivi contrat'!L120 -> 5.09 | G16: =E16+F16 -> 141.09
A17: 45050 | B17: ITDA00012 | C17: 7 | D17: =SUMIFS('Suivi production'!H:H,'Suivi production'!A:A,A17) -> 6.6666667 | E17: ='Suivi contrat'!K122*'Exemple résultat souhaité'!D17 -> 139 | F17: ='Suivi contrat'!L122 -> 5.39 | G17: =F17+E17 -> 144.39
A19: Date | B19: N° Opérateur | C19: Heures contractuelles | D19: Heures production | E19: Coût Salaire base | F19: Coût Panier repas | G19: Coût total
A20: 44900 | B20: ITBE00008 | C20: 7 | D20: 6.6666667 | E20: 133.6 | F20: 0 | G20: 133.6
A21: 44907 | B21: ITBE00008 | C21: 7 | D21: 2.75 | E21: 55.11 | F21: 0 | G21: 55.11
A22: 44935 | B22: ITBE00008 | C22: 7 | D22: 3.9166667 | E22: 81.623333 | F22: 0 | G22: 81.623333
A23: 44942 | B23: ITBE00008 | C23: 7 | D23: 6.6666667 | E23: 138.93333 | F23: 0 | G23: 138.93333
A24: 44845 | B24: ITDA00012 | C24: 7 | D24: 0.66666667 | E24: 13.36 | F24: 5.09 | G24: 18.45
A25: 44929 | B25: ITDA00012 | C25: 7 | D25: 5.5833333 | E25: 113.9 | F25: 5.09 | G25: 118.99
A26: 44964 | B26: ITDA00012 | C26: 7 | D26: 0.16666667 | E26: 3.4 | F26: 5.09 | G26: 8.49
A27: 45028 | B27: ITDA00012 | C27: 7 | D27: 6.6666667 | E27: 136 | F27: 5.09 | G27: 141.09
A28: 45050 | B28: ITDA00012 | C28: 7 | D28: 6.6666667 | E28: 139 | F28: 5.39 | G28: 144.39
A29: 45058 | B29: ITDA00012 | C29: 7 | D29: 1.0833333 | E29: 22.5875 | F29: 5.39 | G29: 27.9775
