Workbook

Sheet Suivi production
A1: Date | B1: OF | C1: N° Opérateur | D1: H début | E1: H fin | F1: Pause | G1: Qté triée | H1: Temps travaillé
A2: 44900 | B2: 123143 | C2: ITBE00008 | D2: 0.52083333 | E2: 0.81597222 | F2: 0.020833333 | G2: 5192 | H2: =MOD(E2-F2-D2,1)*24 -> 6.5833333
A3: 44900 | B3: 143142 | C3: ITBE00008 | D3: 0.81597222 | E3: 0.81944444 | G3: 88 | H3: =MOD(E3-F3-D3,1)*24 -> 0.083333333
A4: 44907 | B4: 532312 | C4: ITBE00008 | D4: 0.69097222 | E4: 0.81944444 | F4: 0.013888889 | G4: 1190 | H4: =MOD(E4-F4-D4,1)*24 -> 2.75
A5: 44935 | B5: 531236 | C5: ITBE00008 | D5: 0.52083333 | E5: 0.69097222 | F5: 0.0069444444 | G5: 3168 | H5: =MOD(E5-F5-D5,1)*24 -> 3.9166667
A6: 44942 | B6: 312531 | C6: ITBE00008 | D6: 0.52083333 | E6: 0.81944444 | F6: 0.020833333 | G6: 4130 | H6: =MOD(E6-F6-D6,1)*24 -> 6.6666667
A7: 44845 | B7: 734264 | C7: ITDA00012 | D7: 0.78472222 | E7: 0.8125 | G7: 360 | H7: =MOD(E7-F7-D7,1)*24 -> 0.66666667
A8: 44929 | B8: 637153 | C8: ITDA00012 | D8: 0.53125 | E8: 0.78472222 | F8: 0.020833333 | G8: 6096 | H8: =MOD(E8-F8-D8,1)*24 -> 5.5833333
A9: 44964 | B9: 875424 | C9: ITDA00012 | D9: 0.8125 | E9: 0.81944444 | G9: 0 | H9: =MOD(E9-F9-D9,1)*24 -> 0.16666667
A10: 45028 | B10: 647439 | C10: ITDA00012 | D10: 0.52083333 | E10: 56.572917 | G10: 432 | H10: =MOD(E10-F10-D10,1)*24 -> 1.25
A11: 45028 | B11: 748363 | C11: ITDA00012 | D11: 0.57291667 | E11: 0.70833333 | F11: 0.020833333 | G11: 2654 | H11: =MOD(E11-F11-D11,1)*24 -> 2.75
A12: 45028 | B12: 153636 | C12: ITDA00012 | D12: 0.70833333 | E12: 0.81944444 | G12: 1643 | H12: =MOD(E12-F12-D12,1)*24 -> 2.6666667
A13: 45050 | B13: 532561 | C13: ITDA00012 | D13: 0.52083333 | E13: 0.81944444 | F13: 0.020833333 | G13: 2880 | H13: =MOD(E13-F13-D13,1)*24 -> 6.6666667
A14: 45058 | B14: 654334 | C14: ITDA00012 | D14: 0.47569444 | E14: 0.52083333 | G14: 1016 | H14: =MOD(E14-F14-D14,1)*24 -> 1.0833333

Sheet Suivi contrat
A1: Agence | B1: N° Opérateur | C1: Nom | D1: Prénom | E1: Numéro contrat | F1: Motif | G1: Poste | H1: Date début | I1: Date fin | J1: Taux d'activité | K1: Taux horaire | L1: Panier repas
A2: F | B2: ITBE00008 | E2: 00J363658-00 | F2: Contrat | G2: Agent de production | H2: 44900 | I2: 44904 | J2: 100 | K2: 20.04 | L2: 0
A3: F | B3: ITDC00026 | E3: 00J363657-00 | F3: Contrat | G3: Agent de production | H3: 44900 | I3: 44904 | J3: 100 | K3: 20.04 | L3: 0
A4: F | B4: ITHA00027 | E4: 00J365248-00 | F4: Contrat | G4: Agent de production | H4: 44958 | I4: 44985 | J4: 100 | K4: 20.4 | L4: 5.09
A5: F | B5: ITDI00009 | E5: 00J364301-00 | F5: Contrat | G5: Agent de production | H5: 44928 | I5: 44934 | J5: 100 | K5: 20.4 | L5: 5.09
A6: F | B6: ITBE00008 | E6: 00J363658-01 | F6: Prolongation | G6: Agent de production | H6: 44905 | I6: 44918 | J6: 100 | K6: 20.04 | L6: 0
A7: F | B7: ITML00010 | E7: 00J363851-00 | F7: Contrat | G7: Agent de production | H7: 44907 | I7: 44918 | J7: 100 | K7: 20.04 | L7: 0
A8: F | B8: ITLJ00003 | E8: 00J364655-00 | F8: Contrat | G8: Agent de production | H8: 44943 | I8: 44946 | J8: 100 | K8: 20.4 | L8: 0
A9: B | B9: ITPB00011 | H9: 44943 | I9: 44949
A10: F | B10: ITDC00026 | E10: 00J363657-01 | F10: Prolongation | G10: Agent de production | H10: 44905 | I10: 44918 | J10: 100 | K10: 20.04 | L10: 0
A11: F | B11: ITBE00008 | E11: 00J364296-00 | F11: Contrat | G11: Agent de production | H11: 44928 | I11: 44932 | J11: 100 | K11: 20.84 | L11: 0
A12: F | B12: ITLJ00003 | E12: 00J364655-01 | F12: Prolongation | G12: Agent de production | H12: 44943 | I12: 44953 | J12: 100 | K12: 20.4 | L12: 0
A13: F | B13: ITDM00004 | E13: 00J370241-00 | F13: Contrat | G13: Agent de production | H13: 45138 | I13: 45382 | J13: 100 | K13: 20.62 | L13: 5.39
A14: F | B14: ITDI00009 | E14: 00J364301-01 | F14: Prolongation | G14: Agent de production | H14: 44935 | I14: 44957 | J14: 100 | K14: 20.4 | L14: 5.09
A15: F | B15: ITDA00012 | E15: 00J362277-00 | F15: Contrat | G15: Agent de production | H15: 44844 | I15: 44918 | J15: 100 | K15: 20.04 | L15: 5.09
A16: F | B16: ITHA00027 | E16: 00J365248-01 | F16: Prolongation | G16: Agent de production | H16: 44986 | I16: 45135 | J16: 100 | K16: 20.4 | L16: 5.09
A17: F | B17: ITBE00008 | E17: 00J364600-00 | F17: Contrat | G17: Agent de production | H17: 44933 | I17: 44940 | J17: 100 | K17: 20.84 | L17: 0
A18: F | B18: ITDE00014 | H18: 44928 | I18: 44960
A19: F | B19: ITMJ00041 | E19: 00J363849-00 | F19: Contrat | G19: Agent de production | H19: 44907 | I19: 44918 | J19: 100 | K19: 20.04 | L19: 5.09
A20: F | B20: ITML00010 | E20: 00J364335-00 | F20: Contrat | G20: Agent de production | H20: 44929 | I20: 44932 | J20: 100 | K20: 20.4 | L20: 0
A21: F | B21: ITDC00050 | E21: 00J365262-01 | F21: Avenant tarif coeff | G21: Agent de production | H21: 44963 | I21: 44967 | J21: 100 | K21: 20.17 | L21: 0
A22: F | B22: ITGL00017 | E22: 00J365260-00 | F22: Contrat | G22: Agent de production | H22: 44963 | I22: 44967 | J22: 100 | K22: 20.4 | L22: 0
A23: F | B23: ITLM00040 | E23: 00J365261-00 | F23: Contrat | G23: Agent de production | H23: 44963 | I23: 44967 | J23: 100 | K23: 20.4 | L23: 0
A24: F | B24: ITMJ00023 | E24: 00J365259-00 | F24: Contrat | G24: Agent de production | H24: 44963 | I24: 44967 | J24: 100 | K24: 20.4 | L24: 0
A25: F | B25: ITVE00029 | E25: 00J365327-00 | F25: Contrat | G25: Agent de production | H25: 44964 | I25: 44967 | J25: 100 | K25: 20.4 | L25: 5.09
A26: F | B26: ITDE00036 | E26: 00J362276-00 | F26: Contrat | G26: Agent de production | H26: 44844 | I26: 44890 | J26: 100 | K26: 20.04 | L26: 5.09
A27: F | B27: ITVE00029 | E27: 00J365444-00 | F27: Contrat | G27: Agent de production | H27: 44970 | I27: 44974 | J27: 100 | K27: 20.4 | L27: 5.09
A28: F | B28: ITGL00017 | E28: 00J365260-01 | F28: Avenant tarif SMIC | G28: Agent de production | H28: 44963 | I28: 44967 | J28: 100 | K28: 20.17 | L28: 0
A29: F | B29: ITGL00017 | E29: 00J365446-00 | F29: Contrat | G29: Agent de production | H29: 44970 | I29: 44980 | J29: 100 | K29: 20.17 | L29: 5.09
A30: F | B30: ITLM00040 | E30: 00J365261-01 | F30: Avenant tarif coeff | G30: Agent de production | H30: 44963 | I30: 44967 | J30: 100 | K30: 20.17 | L30: 0
... A56: F | B56: ITDE00041 | E56: 00J366442-00 | F56: Contrat | G56: Agent de production | H56: 45005 | I56: 45009 | J56: 100 | K56: 20.17 | L56: 0
A57: F | B57: ITSA00067 | H57: 45005 | I57: 45009
A58: F | B58: ITLM00040 | E58: 00J365447-00 | F58: Contrat | G58: Agent de production | H58: 44970 | I58: 44983 | J58: 100 | K58: 20.17 | L58: 5.09
A59: F | B59: ITDC00026 | E59: 00J364297-00 | F59: Contrat | G59: Agent de production | H59: 44928 | I59: 44932 | J59: 100 | K59: 20.4 | L59: 0
A60: F | B60: ITMJ00041 | E60: 00J364300-00 | F60: Contrat | G60: Agent de production | H60: 44928 | I60: 44944 | J60: 100 | K60: 20.4 | L60: 5.09
A61: F | B61: ITDL00037 | E61: 00J366441-01 | F61: Prolongation | G61: Agent de production | H61: 45010 | I61: 45023 | J61: 100 | K61: 20.17 | L61: 0
A62: F | B62: ITDE00041 | E62: 00J366442-01 | F62: Prolongation | G62: Agent de production | H62: 45010 | I62: 45023 | J62: 100 | K62: 20.17 | L62: 0
A63: E | B63: ITLN00070 | E63: 8734_0 | F63: Contrat | G63: Agent de production | H63: 45005 | I63: 45023 | J63: 100 | K63: 20.17 | L63: 5.09
A64: E | B64: ITRC00043 | E64: 8733_0 | F64: Contrat | G64: Agent de production | H64: 45005 | I64: 45023 | J64: 100 | K64: 20.17 | L64: 5.09
A65: F | B65: ITSA00067 | H65: 45041 | I65: 45023
...

Sheet Exemple résultat souhaité
A14: Date | B14: N° Opérateur | C14: Heures contractuelles | D14: Heures production | E14: Coût salaire base (journée) | F14: Coût panier repas (journée) | G14: Coût total
A15: 44900 | B15: ITBE00008 | C15: 7 | D15: =SUMIFS('Suivi production'!H:H,'Suivi production'!A:A,A15) -> 6.6666667
A16: 45028 | B16: ITDA00012 | C16: 7 | D16: =SUMIFS('Suivi production'!H:H,'Suivi production'!A:A,A16) -> 6.6666667 | E16: ='Suivi contrat'!K120*'Exemple résultat souhaité'!D16 -> 136 | F16: ='Suivi contrat'!L120 -> 5.09 | G16: =E16+F16 -> 141.09
A17: 45050 | B17: ITDA00012 | C17: 7 | D17: =SUMIFS('Suivi production'!H:H,'Suivi production'!A:A,A17) -> 6.6666667 | E17: ='Suivi contrat'!K122*'Exemple résultat souhaité'!D17 -> 139 | F17: ='Suivi contrat'!L122 -> 5.39 | G17: =F17+E17 -> 144.39
A19: Date | B19: N° Opérateur | C19: Heures contractuelles | D19: Heures production | E19: Coût Salaire base | F19: Coût Panier repas | G19: Coût total
A20: 44900 | B20: ITBE00008 | C20: 7 | D20: 6.6666667 | E20: 133.6 | F20: 0 | G20: 133.6
A21: 44907 | B21: ITBE00008 | C21: 7 | D21: 2.75 | E21: 55.11 | F21: 0 | G21: 55.11
A22: 44935 | B22: ITBE00008 | C22: 7 | D22: 3.9166667 | E22: 81.623333 | F22: 0 | G22: 81.623333
A23: 44942 | B23: ITBE00008 | C23: 7 | D23: 6.6666667 | E23: 138.93333 | F23: 0 | G23: 138.93333
A24: 44845 | B24: ITDA00012 | C24: 7 | D24: 0.66666667 | E24: 13.36 | F24: 5.09 | G24: 18.45
A25: 44929 | B25: ITDA00012 | C25: 7 | D25: 5.5833333 | E25: 113.9 | F25: 5.09 | G25: 118.99
A26: 44964 | B26: ITDA00012 | C26: 7 | D26: 0.16666667 | E26: 3.4 | F26: 5.09 | G26: 8.49
A27: 45028 | B27: ITDA00012 | C27: 7 | D27: 6.6666667 | E27: 136 | F27: 5.09 | G27: 141.09
A28: 45050 | B28: ITDA00012 | C28: 7 | D28: 6.6666667 | E28: 139 | F28: 5.39 | G28: 144.39
A29: 45058 | B29: ITDA00012 | C29: 7 | D29: 1.0833333 | E29: 22.5875 | F29: 5.39 | G29: 27.9775
