Workbook

Sheet base de données
A1: Date RDV | B1: Type | C1: Animateur | D1: Code | E1: Nom établissement | F1: Ville | G1: CA
A2: 43102 | B2: ANIM | C2: TOM | D2: 5255 | E2: CLIENT F | F2: CHARLEROI | G2: 100
A3: 43103 | B3: ANIM | C3: TOM | D3: 6120 | E3: CLIENT A | F3: MONS | G3: 500
A4: 43104 | B4: ANIM | C4: TOM | D4: 6073 | E4: CLIENT E | F4: TOURNAI | G4: 1451.05
A5: 43105 | B5: ANIM | C5: TOM | D5: 5255 | E5: CLIENT F | F5: CHARLEROI | G5: 20
A6: 43106 | B6: ANIM | C6: TOM | D6: 6525 | E6: CLIENT G | F6: LOUVIERE | G6: 25
A7: 43108 | B7: ANIM | C7: TOM | D7: 6073 | E7: CLIENT E | F7: TOURNAI | G7: 1451.05
A8: 43109 | B8: ANIM | C8: TOM | D8: 6525 | E8: CLIENT G | F8: LOUVIERE | G8: 8500
A9: 43102 | B9: ANIM | C9: JULIEN | D9: 6120 | E9: CLIENT A | F9: MONS | G9: 250
A10: 43103 | B10: ANIM | C10: JULIEN | D10: 1212 | E10: CLIENT H | F10: DEURNE | G10: 1250
A11: 43104 | B11: ANIM | C11: JULIEN | D11: 1212 | E11: CLIENT H | F11: DEURNE | G11: 250
A12: 43105 | B12: ANIM | C12: JULIEN | D12: 3209 | E12: OMNIA | F12: KOKSIJDE | G12: 633.6
A13: 43106 | B13: ANIM | C13: JULIEN | D13: 3209 | E13: OMNIA | F13: KOKSIJDE | G13: 250
... A24: 43109 | B24: ANIM | C24: STEPHANE | D24: 3589 | E24: CLIENT I | F24: NAMUR | G24: 800

Sheet TCD
A2: Nom établissement | B2: Ville
A3: CLIENT A | B3: MONS | C3: {=IFERROR(SMALL(IF((BD[Nom établissement]=TCD!$A3)*(BD[Ville]=TCD!$B3),BD[Date RDV]),COLUMNS($A:A)),"")} -> 43102 | D3: {=IFERROR(SMALL(IF((BD[Nom établissement]=TCD!$A3)*(BD[Ville]=TCD!$B3),BD[Date RDV]),COLUMNS($A:B)),"")} -> 43103 | E3: {=IFERROR(SMALL(IF((BD[Nom établissement]=TCD!$A3)*(BD[Ville]=TCD!$B3),BD[Date RDV]),COLUMNS($A:C)),"")} | F3: {=IFERROR(SMALL(IF(('base de données'!$E$2:$E$24=TCD!$A3)*('base de données'!$F$2:$F$24=TCD!$B3),'base de données'!$A$2:$A$24),COLUMNS($A:D)),"")} | G3: {=IFERROR(SMALL(IF(('base de données'!$E$2:$E$24=TCD!$A3)*('base de données'!$F$2:$F$24=TCD!$B3),'base de données'!$A$2:$A$24),COLUMNS($A:E)),"")} | H3: {=IFERROR(SMALL(IF(('base de données'!$E$2:$E$24=TCD!$A3)*('base de données'!$F$2:$F$24=TCD!$B3),'base de données'!$A$2:$A$24),COLUMNS($A:F)),"")}
A4: CLIENT B | B4: DEURLE | C4: {=IFERROR(SMALL(IF((BD[Nom établissement]=TCD!$A4)*(BD[Ville]=TCD!$B4),BD[Date RDV]),COLUMNS($A:A)),"")} -> 43108 | D4: {=IFERROR(SMALL(IF((BD[Nom établissement]=TCD!$A4)*(BD[Ville]=TCD!$B4),BD[Date RDV]),COLUMNS($A:B)),"")} | E4: {=IFERROR(SMALL(IF((BD[Nom établissement]=TCD!$A4)*(BD[Ville]=TCD!$B4),BD[Date RDV]),COLUMNS($A:C)),"")} | F4: {=IFERROR(SMALL(IF(('base de données'!$E$2:$E$24=TCD!$A4)*('base de données'!$F$2:$F$24=TCD!$B4),'base de données'!$A$2:$A$24),COLUMNS($A:D)),"")} | G4: {=IFERROR(SMALL(IF(('base de données'!$E$2:$E$24=TCD!$A4)*('base de données'!$F$2:$F$24=TCD!$B4),'base de données'!$A$2:$A$24),COLUMNS($A:E)),"")} | H4: {=IFERROR(SMALL(IF(('base de données'!$E$2:$E$24=TCD!$A4)*('base de données'!$F$2:$F$24=TCD!$B4),'base de données'!$A$2:$A$24),COLUMNS($A:F)),"")}
A5: CLIENT C | B5: GENTBRUGGE | C5: {=IFERROR(SMALL(IF((BD[Nom établissement]=TCD!$A5)*(BD[Ville]=TCD!$B5),BD[Date RDV]),COLUMNS($A:A)),"")} -> 43108 | D5: {=IFERROR(SMALL(IF((BD[Nom établissement]=TCD!$A5)*(BD[Ville]=TCD!$B5),BD[Date RDV]),COLUMNS($A:B)),"")} -> 43109 | E5: {=IFERROR(SMALL(IF((BD[Nom établissement]=TCD!$A5)*(BD[Ville]=TCD!$B5),BD[Date RDV]),COLUMNS($A:C)),"")} | F5: {=IFERROR(SMALL(IF(('base de données'!$E$2:$E$24=TCD!$A5)*('base de données'!$F$2:$F$24=TCD!$B5),'base de données'!$A$2:$A$24),COLUMNS($A:D)),"")} | G5: {=IFERROR(SMALL(IF(('base de données'!$E$2:$E$24=TCD!$A5)*('base de données'!$F$2:$F$24=TCD!$B5),'base de données'!$A$2:$A$24),COLUMNS($A:E)),"")} | H5: {=IFERROR(SMALL(IF(('base de données'!$E$2:$E$24=TCD!$A5)*('base de données'!$F$2:$F$24=TCD!$B5),'base de données'!$A$2:$A$24),COLUMNS($A:F)),"")}
A6: CLIENT D | B6: MARIAKERKE (GENT) | C6: {=IFERROR(SMALL(IF((BD[Nom établissement]=TCD!$A6)*(BD[Ville]=TCD!$B6),BD[Date RDV]),COLUMNS($A:A)),"")} -> 43109 | D6: {=IFERROR(SMALL(IF((BD[Nom établissement]=TCD!$A6)*(BD[Ville]=TCD!$B6),BD[Date RDV]),COLUMNS($A:B)),"")} | E6: {=IFERROR(SMALL(IF((BD[Nom établissement]=TCD!$A6)*(BD[Ville]=TCD!$B6),BD[Date RDV]),COLUMNS($A:C)),"")} | F6: {=IFERROR(SMALL(IF(('base de données'!$E$2:$E$24=TCD!$A6)*('base de données'!$F$2:$F$24=TCD!$B6),'base de données'!$A$2:$A$24),COLUMNS($A:D)),"")} | G6: {=IFERROR(SMALL(IF(('base de données'!$E$2:$E$24=TCD!$A6)*('base de données'!$F$2:$F$24=TCD!$B6),'base de données'!$A$2:$A$24),COLUMNS($A:E)),"")} | H6: {=IFERROR(SMALL(IF(('base de données'!$E$2:$E$24=TCD!$A6)*('base de données'!$F$2:$F$24=TCD!$B6),'base de données'!$A$2:$A$24),COLUMNS($A:F)),"")}
A7: CLIENT E | B7: TOURNAI | C7: {=IFERROR(SMALL(IF((BD[Nom établissement]=TCD!$A7)*(BD[Ville]=TCD!$B7),BD[Date RDV]),COLUMNS($A:A)),"")} -> 43104 | D7: {=IFERROR(SMALL(IF((BD[Nom établissement]=TCD!$A7)*(BD[Ville]=TCD!$B7),BD[Date RDV]),COLUMNS($A:B)),"")} -> 43108 | E7: {=IFERROR(SMALL(IF((BD[Nom établissement]=TCD!$A7)*(BD[Ville]=TCD!$B7),BD[Date RDV]),COLUMNS($A:C)),"")} | F7: {=IFERROR(SMALL(IF(('base de données'!$E$2:$E$24=TCD!$A7)*('base de données'!$F$2:$F$24=TCD!$B7),'base de données'!$A$2:$A$24),COLUMNS($A:D)),"")} | G7: {=IFERROR(SMALL(IF(('base de données'!$E$2:$E$24=TCD!$A7)*('base de données'!$F$2:$F$24=TCD!$B7),'base de données'!$A$2:$A$24),COLUMNS($A:E)),"")} | H7: {=IFERROR(SMALL(IF(('base de données'!$E$2:$E$24=TCD!$A7)*('base de données'!$F$2:$F$24=TCD!$B7),'base de données'!$A$2:$A$24),COLUMNS($A:F)),"")}
A8: CLIENT F | B8: CHARLEROI | C8: {=IFERROR(SMALL(IF((BD[Nom établissement]=TCD!$A8)*(BD[Ville]=TCD!$B8),BD[Date RDV]),COLUMNS($A:A)),"")} -> 43102 | D8: {=IFERROR(SMALL(IF((BD[Nom établissement]=TCD!$A8)*(BD[Ville]=TCD!$B8),BD[Date RDV]),COLUMNS($A:B)),"")} -> 43105 | E8: {=IFERROR(SMALL(IF((BD[Nom établissement]=TCD!$A8)*(BD[Ville]=TCD!$B8),BD[Date RDV]),COLUMNS($A:C)),"")} | F8: {=IFERROR(SMALL(IF(('base de données'!$E$2:$E$24=TCD!$A8)*('base de données'!$F$2:$F$24=TCD!$B8),'base de données'!$A$2:$A$24),COLUMNS($A:D)),"")} | G8: {=IFERROR(SMALL(IF(('base de données'!$E$2:$E$24=TCD!$A8)*('base de données'!$F$2:$F$24=TCD!$B8),'base de données'!$A$2:$A$24),COLUMNS($A:E)),"")} | H8: {=IFERROR(SMALL(IF(('base de données'!$E$2:$E$24=TCD!$A8)*('base de données'!$F$2:$F$24=TCD!$B8),'base de données'!$A$2:$A$24),COLUMNS($A:F)),"")}
A9: CLIENT G | B9: LIEGE | C9: {=IFERROR(SMALL(IF((BD[Nom établissement]=TCD!$A9)*(BD[Ville]=TCD!$B9),BD[Date RDV]),COLUMNS($A:A)),"")} -> 43102 | D9: {=IFERROR(SMALL(IF((BD[Nom établissement]=TCD!$A9)*(BD[Ville]=TCD!$B9),BD[Date RDV]),COLUMNS($A:B)),"")} -> 43106 | E9: {=IFERROR(SMALL(IF((BD[Nom établissement]=TCD!$A9)*(BD[Ville]=TCD!$B9),BD[Date RDV]),COLUMNS($A:C)),"")} -> 43108 | F9: {=IFERROR(SMALL(IF(('base de données'!$E$2:$E$24=TCD!$A9)*('base de données'!$F$2:$F$24=TCD!$B9),'base de données'!$A$2:$A$24),COLUMNS($A:D)),"")} | G9: {=IFERROR(SMALL(IF(('base de données'!$E$2:$E$24=TCD!$A9)*('base de données'!$F$2:$F$24=TCD!$B9),'base de données'!$A$2:$A$24),COLUMNS($A:E)),"")} | H9: {=IFERROR(SMALL(IF(('base de données'!$E$2:$E$24=TCD!$A9)*('base de données'!$F$2:$F$24=TCD!$B9),'base de données'!$A$2:$A$24),COLUMNS($A:F)),"")}
A10: CLIENT G | B10: LOUVIERE | C10: {=IFERROR(SMALL(IF((BD[Nom établissement]=TCD!$A10)*(BD[Ville]=TCD!$B10),BD[Date RDV]),COLUMNS($A:A)),"")} -> 43106 | D10: {=IFERROR(SMALL(IF((BD[Nom établissement]=TCD!$A10)*(BD[Ville]=TCD!$B10),BD[Date RDV]),COLUMNS($A:B)),"")} -> 43109 | E10: {=IFERROR(SMALL(IF((BD[Nom établissement]=TCD!$A10)*(BD[Ville]=TCD!$B10),BD[Date RDV]),COLUMNS($A:C)),"")} | F10: {=IFERROR(SMALL(IF(('base de données'!$E$2:$E$24=TCD!$A10)*('base de données'!$F$2:$F$24=TCD!$B10),'base de données'!$A$2:$A$24),COLUMNS($A:D)),"")} | G10: {=IFERROR(SMALL(IF(('base de données'!$E$2:$E$24=TCD!$A10)*('base de données'!$F$2:$F$24=TCD!$B10),'base de données'!$A$2:$A$24),COLUMNS($A:E)),"")} | H10: {=IFERROR(SMALL(IF(('base de données'!$E$2:$E$24=TCD!$A10)*('base de données'!$F$2:$F$24=TCD!$B10),'base de données'!$A$2:$A$24),COLUMNS($A:F)),"")}
A11: CLIENT H | B11: DEURNE | C11: {=IFERROR(SMALL(IF((BD[Nom établissement]=TCD!$A11)*(BD[Ville]=TCD!$B11),BD[Date RDV]),COLUMNS($A:A)),"")} -> 43103 | D11: {=IFERROR(SMALL(IF((BD[Nom établissement]=TCD!$A11)*(BD[Ville]=TCD!$B11),BD[Date RDV]),COLUMNS($A:B)),"")} -> 43104 | E11: {=IFERROR(SMALL(IF((BD[Nom établissement]=TCD!$A11)*(BD[Ville]=TCD!$B11),BD[Date RDV]),COLUMNS($A:C)),"")} | F11: {=IFERROR(SMALL(IF(('base de données'!$E$2:$E$24=TCD!$A11)*('base de données'!$F$2:$F$24=TCD!$B11),'base de données'!$A$2:$A$24),COLUMNS($A:D)),"")} | G11: {=IFERROR(SMALL(IF(('base de données'!$E$2:$E$24=TCD!$A11)*('base de données'!$F$2:$F$24=TCD!$B11),'base de données'!$A$2:$A$24),COLUMNS($A:E)),"")} | H11: {=IFERROR(SMALL(IF(('base de données'!$E$2:$E$24=TCD!$A11)*('base de données'!$F$2:$F$24=TCD!$B11),'base de données'!$A$2:$A$24),COLUMNS($A:F)),"")}
A12: CLIENT H | B12: VERVIERS | C12: {=IFERROR(SMALL(IF((BD[Nom établissement]=TCD!$A12)*(BD[Ville]=TCD!$B12),BD[Date RDV]),COLUMNS($A:A)),"")} -> 43103 | D12: {=IFERROR(SMALL(IF((BD[Nom établissement]=TCD!$A12)*(BD[Ville]=TCD!$B12),BD[Date RDV]),COLUMNS($A:B)),"")} | E12: {=IFERROR(SMALL(IF((BD[Nom établissement]=TCD!$A12)*(BD[Ville]=TCD!$B12),BD[Date RDV]),COLUMNS($A:C)),"")} | F12: {=IFERROR(SMALL(IF(('base de données'!$E$2:$E$24=TCD!$A12)*('base de données'!$F$2:$F$24=TCD!$B12),'base de données'!$A$2:$A$24),COLUMNS($A:D)),"")} | G12: {=IFERROR(SMALL(IF(('base de données'!$E$2:$E$24=TCD!$A12)*('base de données'!$F$2:$F$24=TCD!$B12),'base de données'!$A$2:$A$24),COLUMNS($A:E)),"")} | H12: {=IFERROR(SMALL(IF(('base de données'!$E$2:$E$24=TCD!$A12)*('base de données'!$F$2:$F$24=TCD!$B12),'base de données'!$A$2:$A$24),COLUMNS($A:F)),"")}
A13: CLIENT I | B13: NAMUR | C13: {=IFERROR(SMALL(IF((BD[Nom établissement]=TCD!$A13)*(BD[Ville]=TCD!$B13),BD[Date RDV]),COLUMNS($A:A)),"")} -> 43105 | D13: {=IFERROR(SMALL(IF((BD[Nom établissement]=TCD!$A13)*(BD[Ville]=TCD!$B13),BD[Date RDV]),COLUMNS($A:B)),"")} -> 43109 | E13: {=IFERROR(SMALL(IF((BD[Nom établissement]=TCD!$A13)*(BD[Ville]=TCD!$B13),BD[Date RDV]),COLUMNS($A:C)),"")} | F13: {=IFERROR(SMALL(IF(('base de données'!$E$2:$E$24=TCD!$A13)*('base de données'!$F$2:$F$24=TCD!$B13),'base de données'!$A$2:$A$24),COLUMNS($A:D)),"")} | G13: {=IFERROR(SMALL(IF(('base de données'!$E$2:$E$24=TCD!$A13)*('base de données'!$F$2:$F$24=TCD!$B13),'base de données'!$A$2:$A$24),COLUMNS($A:E)),"")} | H13: {=IFERROR(SMALL(IF(('base de données'!$E$2:$E$24=TCD!$A13)*('base de données'!$F$2:$F$24=TCD!$B13),'base de données'!$A$2:$A$24),COLUMNS($A:F)),"")}
A14: CLIENT W | B14: HUY | C14: {=IFERROR(SMALL(IF((BD[Nom établissement]=TCD!$A14)*(BD[Ville]=TCD!$B14),BD[Date RDV]),COLUMNS($A:A)),"")} -> 43104 | D14: {=IFERROR(SMALL(IF((BD[Nom établissement]=TCD!$A14)*(BD[Ville]=TCD!$B14),BD[Date RDV]),COLUMNS($A:B)),"")} | E14: {=IFERROR(SMALL(IF((BD[Nom établissement]=TCD!$A14)*(BD[Ville]=TCD!$B14),BD[Date RDV]),COLUMNS($A:C)),"")} | F14: {=IFERROR(SMALL(IF(('base de données'!$E$2:$E$24=TCD!$A14)*('base de données'!$F$2:$F$24=TCD!$B14),'base de données'!$A$2:$A$24),COLUMNS($A:D)),"")} | G14: {=IFERROR(SMALL(IF(('base de données'!$E$2:$E$24=TCD!$A14)*('base de données'!$F$2:$F$24=TCD!$B14),'base de données'!$A$2:$A$24),COLUMNS($A:E)),"")} | H14: {=IFERROR(SMALL(IF(('base de données'!$E$2:$E$24=TCD!$A14)*('base de données'!$F$2:$F$24=TCD!$B14),'base de données'!$A$2:$A$24),COLUMNS($A:F)),"")}
A15: OMNIA | B15: KOKSIJDE | C15: {=IFERROR(SMALL(IF((BD[Nom établissement]=TCD!$A15)*(BD[Ville]=TCD!$B15),BD[Date RDV]),COLUMNS($A:A)),"")} -> 43105 | D15: {=IFERROR(SMALL(IF((BD[Nom établissement]=TCD!$A15)*(BD[Ville]=TCD!$B15),BD[Date RDV]),COLUMNS($A:B)),"")} -> 43106 | E15: {=IFERROR(SMALL(IF((BD[Nom établissement]=TCD!$A15)*(BD[Ville]=TCD!$B15),BD[Date RDV]),COLUMNS($A:C)),"")} | F15: {=IFERROR(SMALL(IF(('base de données'!$E$2:$E$24=TCD!$A15)*('base de données'!$F$2:$F$24=TCD!$B15),'base de données'!$A$2:$A$24),COLUMNS($A:D)),"")} | G15: {=IFERROR(SMALL(IF(('base de données'!$E$2:$E$24=TCD!$A15)*('base de données'!$F$2:$F$24=TCD!$B15),'base de données'!$A$2:$A$24),COLUMNS($A:E)),"")} | H15: {=IFERROR(SMALL(IF(('base de données'!$E$2:$E$24=TCD!$A15)*('base de données'!$F$2:$F$24=TCD!$B15),'base de données'!$A$2:$A$24),COLUMNS($A:F)),"")}

Sheet base de données (2)
A1: Date RDV | B1: Type | C1: Animateur | D1: Code | E1: Nom établissement | F1: Ville | G1: CA | H1: numdate
A2: 43102 | B2: ANIM | C2: TOM | D2: 5255 | E2: CLIENT F | F2: CHARLEROI | G2: 100 | H2: ="date "&SUMPRODUCT(($E$2:E2=E2)*($F$2:F2=F2)*1) -> date 1
A3: 43103 | B3: ANIM | C3: TOM | D3: 6120 | E3: CLIENT A | F3: MONS | G3: 500 | H3: ="date "&SUMPRODUCT(($E$2:E3=E3)*($F$2:F3=F3)*1) -> date 1
A4: 43104 | B4: ANIM | C4: TOM | D4: 6073 | E4: CLIENT E | F4: TOURNAI | G4: 1451.05 | H4: ="date "&SUMPRODUCT(($E$2:E4=E4)*($F$2:F4=F4)*1) -> date 1
A5: 43105 | B5: ANIM | C5: TOM | D5: 5255 | E5: CLIENT F | F5: CHARLEROI | G5: 20 | H5: ="date "&SUMPRODUCT(($E$2:E5=E5)*($F$2:F5=F5)*1) -> date 2
A6: 43106 | B6: ANIM | C6: TOM | D6: 6525 | E6: CLIENT G | F6: LOUVIERE | G6: 25 | H6: ="date "&SUMPRODUCT(($E$2:E6=E6)*($F$2:F6=F6)*1) -> date 1
A7: 43108 | B7: ANIM | C7: TOM | D7: 6073 | E7: CLIENT E | F7: TOURNAI | G7: 1451.05 | H7: ="date "&SUMPRODUCT(($E$2:E7=E7)*($F$2:F7=F7)*1) -> date 2
A8: 43109 | B8: ANIM | C8: TOM | D8: 6525 | E8: CLIENT G | F8: LOUVIERE | G8: 8500 | H8: ="date "&SUMPRODUCT(($E$2:E8=E8)*($F$2:F8=F8)*1) -> date 2
A9: 43102 | B9: ANIM | C9: JULIEN | D9: 6120 | E9: CLIENT A | F9: MONS | G9: 250 | H9: ="date "&SUMPRODUCT(($E$2:E9=E9)*($F$2:F9=F9)*1) -> date 2
A10: 43103 | B10: ANIM | C10: JULIEN | D10: 1212 | E10: CLIENT H | F10: DEURNE | G10: 1250 | H10: ="date "&SUMPRODUCT(($E$2:E10=E10)*($F$2:F10=F10)*1) -> date 1
A11: 43104 | B11: ANIM | C11: JULIEN | D11: 1212 | E11: CLIENT H | F11: DEURNE | G11: 250 | H11: ="date "&SUMPRODUCT(($E$2:E11=E11)*($F$2:F11=F11)*1) -> date 2
A12: 43105 | B12: ANIM | C12: JULIEN | D12: 3209 | E12: OMNIA | F12: KOKSIJDE | G12: 633.6 | H12: ="date "&SUMPRODUCT(($E$2:E12=E12)*($F$2:F12=F12)*1) -> date 1
A13: 43106 | B13: ANIM | C13: JULIEN | D13: 3209 | E13: OMNIA | F13: KOKSIJDE | G13: 250 | H13: ="date "&SUMPRODUCT(($E$2:E13=E13)*($F$2:F13=F13)*1) -> date 2
... A24: 43109 | B24: ANIM | C24: STEPHANE | D24: 3589 | E24: CLIENT I | F24: NAMUR | G24: 800 | H24: ="date "&SUMPRODUCT(($E$2:E24=E24)*($F$2:F24=F24)*1) -> date 2

Sheet Feuil2
A3: Somme de Date RDV | C3: numdate
A4: Nom établissement | B4: Ville | C4: date 1 | D4: date 2 | E4: date 3
A5: CLIENT A | B5: MONS | C5: 43103 | D5: 43102
A6: CLIENT B | B6: DEURLE | C6: 43108
A7: CLIENT C | B7: GENTBRUGGE | C7: 43108 | D7: 43109
A8: CLIENT D | B8: MARIAKERKE (GENT) | C8: 43109
A9: CLIENT E | B9: TOURNAI | C9: 43104 | D9: 43108
A10: CLIENT F | B10: CHARLEROI | C10: 43102 | D10: 43105
A11: CLIENT G | B11: LIEGE | C11: 43102 | D11: 43106 | E11: 43108
B12: LOUVIERE | C12: 43106 | D12: 43109
A13: CLIENT H | B13: DEURNE | C13: 43103 | D13: 43104
B14: VERVIERS | C14: 43103
A15: CLIENT I | B15: NAMUR | C15: 43105 | D15: 43109
A16: CLIENT W | B16: HUY | C16: 43104
A17: OMNIA | B17: KOKSIJDE | C17: 43105 | D17: 43106
