Workbook

Sheet Bilan client
A1: Bilan clients | I1: Plus gros | N1: Plus petit
B2: Juillet | C2: Aout | D2: Septembre | E2: Octobre | F2: Général | I2: Années (Date) | J2: Mois (Date) | K2: Client | L2: Max. de Bénéf | N2: Années (Date) | O2: Mois (Date) | P2: Client | Q2: Min. de Bénéf
A3: Plus gros client bénéf | B3: =MAX('Synthèse clients'!C7:C10) -> 2049 | C3: =MAX('Synthèse clients'!E7:E10) -> 4110 | D3: =MAX('Synthèse clients'!G7:G10) -> 2076.5 | E3: =MAX('Synthèse clients'!I7:I10) -> 968 | F3: =MAX('Synthèse clients'!K7:K10) -> 9134.5 | I3: 2023 | N3: 2023
A4: Plus gros client temps | B4: =MAX('Synthèse clients'!B7:B10) -> 39 | C4: =MAX('Synthèse clients'!D7:D10) -> 67.5 | D4: =MAX('Synthèse clients'!F7:F10) -> 60.25 | E4: =MAX('Synthèse clients'!H7:H10) -> 24.25 | F4: =MAX('Synthèse clients'!J7:J10) -> 176.25 | J4: juil | O4: juil
A5: Plus petit client bénéf | B5: =MIN('Synthèse clients'!C7:C10) -> 462 | C5: =MIN('Synthèse clients'!E7:E10) -> 125.5 | D5: =MIN('Synthèse clients'!G7:G10) -> 506 | E5: =MIN('Synthèse clients'!I7:I10) -> 30 | F5: =MIN('Synthèse clients'!K7:K10) -> 2314.5 | K5: Martin | L5: 886 | P5: ABC | Q5: 114
A6: Plus petit client temps | B6: =MIN('Synthèse clients'!B7:B10) -> 9 | C6: =MIN('Synthèse clients'!D7:D10) -> 11.25 | D6: =MIN('Synthèse clients'!F7:F10) -> 10.5 | E6: =MIN('Synthèse clients'!H7:H10) -> 1 | F6: =MIN('Synthèse clients'!J7:J10) -> 43 | J6: août | O6: août
K7: Martin | L7: 830 | P7: ABC | Q7: 59
J8: sept | O8: sept
K9: Dupont | L9: 630 | P9: ABC | Q9: 154
J10: oct | O10: oct
K11: Martin | L11: 697 | P11: Dupont | Q11: 100
I13: Années (Date) | J13: Mois (Date) | K13: Client | L13: Max. de Temps passé | N13: Années (Date) | O13: Mois (Date) | P13: Client | Q13: Min. de Temps passé
I14: 2023 | N14: 2023
J15: juil | O15: juil
K16: Martin | L16: 19.5 | P16: ABC | Q16: 2.5
J17: août | P17: Dupont | Q17: 2.5
K18: Martin | L18: 17 | O18: août
J19: sept | P19: Dupont | Q19: 1.75
K20: Dupont | L20: 23 | O20: sept
J21: oct | P21: ABC | Q21: 2.5
K22: Martin | L22: 19.5 | O22: oct
P23: Dupont | Q23: 2.5

Sheet Synthèse clients
B3: Étiquettes de colonnes
B4: juil | D4: août | F4: sept | H4: oct | J4: Total Somme de Temps passé | K4: Total Somme de Bénéf
A6: Étiquettes de lignes | B6: Somme de Temps passé | C6: Somme de Bénéf | D6: Somme de Temps passé | E6: Somme de Bénéf | F6: Somme de Temps passé | G6: Somme de Bénéf | H6: Somme de Temps passé | I6: Somme de Bénéf
A7: ABC | B7: 20.25 | C7: 1136.5 | D7: 11.25 | E7: 849.5 | F7: 10.5 | G7: 506 | H7: 1 | I7: 30 | J7: 43 | K7: 2522
A8: Dubois | B8: 13.25 | C8: 600 | D8: 24.5 | E8: 1050 | F8: 17.75 | G8: 893 | H8: 17 | I8: 968 | J8: 72.5 | K8: 3511
A9: Dupont | B9: 9 | C9: 462 | D9: 13.75 | E9: 125.5 | F9: 60.25 | G9: 1627 | H9: 2.5 | I9: 100 | J9: 85.5 | K9: 2314.5
A10: Martin | B10: 39 | C10: 2049 | D10: 67.5 | E10: 4110 | F10: 45.5 | G10: 2076.5 | H10: 24.25 | I10: 899 | J10: 176.25 | K10: 9134.5
A11: Total général | B11: 81.5 | C11: 4247.5 | D11: 117 | E11: 6135 | F11: 134 | G11: 5102.5 | H11: 44.75 | I11: 1997 | J11: 377.25 | K11: 17482

Sheet Data
A1: Date | B1: Client | C1: Temps passé | D1: Facture | E1: Fournitures | F1: Bénéf
A2: 45211 | B2: Dubois | C2: 0.5 | D2: 93 | E2: 3 | F2: =D2-E2 -> 90
A3: 45209 | B3: Martin | C3: 2.25 | D3: 106 | E3: 6 | F3: =D3-E3 -> 100
A4: 45209 | B4: ABC | C4: 1 | D4: 32 | E4: 2 | F4: =D4-E4 -> 30
A5: 45209 | B5: Dupont | C5: 2.5 | D5: 105 | E5: 5 | F5: =D5-E5 -> 100
A6: 45209 | B6: Martin | C6: 1 | D6: 57 | E6: 5 | F6: =D6-E6 -> 52
A7: 45208 | B7: Dubois | C7: 8 | D7: 455 | E7: 82 | F7: =D7-E7 -> 373
A8: 45203 | B8: Dubois | C8: 5 | D8: 360 | E8: 26 | F8: =D8-E8 -> 334
A9: 45202 | B9: Martin | C9: 1.5 | D9: 50 | E9: 0 | F9: =D9-E9 -> 50
A10: 45202 | B10: Dubois | C10: 3.5 | D10: 171 | E10: 0 | F10: =D10-E10 -> 171
A11: 45201 | B11: Martin | C11: 19.5 | D11: 1330 | E11: 633 | F11: =D11-E11 -> 697
A12: 45197 | B12: Dubois | C12: 4 | D12: 158 | E12: 8 | F12: =D12-E12 -> 150
A13: 45196 | B13: Martin | C13: 12 | D13: 828 | E13: 290 | F13: =D13-E13 -> 538
... A15: 45195 | B15: Martin | C15: 1 | D15: 32 | E15: 3 | F15: =D15-E15 -> 29
A16: 45195 | B16: Martin | C16: 3 | F16: =D16-E16 -> 0
A17: 45194 | B17: Martin | C17: 3.5 | D17: 364 | E17: 3 | F17: =D17-E17 -> 361
A18: 45189 | B18: Dubois | C18: 8 | D18: 270 | F18: =D18-E18 -> 270
A19: 45189 | B19: Martin | C19: 1 | D19: 83 | E19: 33 | F19: =D19-E19 -> 50
A20: 45188 | B20: ABC | C20: 8 | D20: 360 | E20: 8 | F20: =D20-E20 -> 352
A21: 45187 | B21: Dupont | C21: 6.5 | D21: 950 | E21: 320 | F21: =D21-E21 -> 630
A22: 45184 | B22: Dupont | C22: 3 | F22: =D22-E22 -> 0
A23: 45184 | B23: ABC | C23: 2.5 | D23: 158 | E23: 4 | F23: =D23-E23 -> 154
A24: 45182 | B24: Martin | C24: 4.5 | D24: 748 | E24: 361.5 | F24: =D24-E24 -> 386.5
A25: 45182 | B25: Martin | C25: 14 | D25: 495 | E25: 35 | F25: =D25-E25 -> 460
A26: 45181 | B26: Dupont | C26: 2 | D26: 39 | E26: 3 | F26: =D26-E26 -> 36
A27: 45181 | B27: Dupont | C27: 1 | D27: 60 | E27: 4 | F27: =D27-E27 -> 56
A28: 45181 | B28: Martin | C28: 2.5 | D28: 108 | E28: 4 | F28: =D28-E28 -> 104
A29: 45176 | B29: Dubois | C29: 1 | D29: 93 | E29: 42 | F29: =D29-E29 -> 51
A30: 45176 | B30: Dupont | C30: 15.5 | D30: 949 | E30: 341 | F30: =D30-E30 -> 608
A31: 45175 | B31: Dubois | C31: 1 | D31: 60 | E31: 0 | F31: =D31-E31 -> 60
A32: 45175 | B32: Dupont | C32: 1.75 | D32: 32 | E32: 2 | F32: =D32-E32 -> 30
A33: 45175 | B33: Dubois | C33: 3.75 | D33: 365 | E33: 3 | F33: =D33-E33 -> 362
A34: 45174 | B34: Dupont | C34: 23 | E34: 5 | F34: =D34-E34 -> -5
A35: 45170 | B35: Martin | C35: 4 | D35: 178 | E35: 30 | F35: =D35-E35 -> 148
A36: 45170 | B36: Dupont | C36: 5.5 | D36: 185 | E36: 40 | F36: =D36-E36 -> 145
A37: 45169 | B37: ABC | C37: 1.5 | D37: 105 | E37: 25 | F37: =D37-E37 -> 80
A38: 45169 | B38: Martin | C38: 2.25 | D38: 97 | E38: 25 | F38: =D38-E38 -> 72
A39: 45169 | B39: Martin | C39: 1.75 | D39: 106 | E39: 25 | F39: =D39-E39 -> 81
A40: 45168 | B40: Martin | C40: 4 | F40: =D40-E40 -> 0
A41: 45167 | B41: Dubois | C41: 9.5 | D41: 620 | E41: 550 | F41: =D41-E41 -> 70
...
