Workbook
Name ANALYSE4semaines4901: #REF!
Name Capacitaire_Bloc_V9X: [1]L1!#REF!
Name Capacitaire_Culasse: #REF!
Name Client: #REF!
Name DATE_PROP: #REF!
Name DEMANDEUR: #REF!
Name ESSAI: #REF!
Name LIGNE: #REF!
Name liste: #REF!
Name MODULE: #REF!
Name MOIS: #REF!
Name Opérateurs: #REF!
Name per: #REF!
Name personnel: #REF!
Name PRIO: #REF!
Name PRIORITE: #REF!
Name SOLDE: #REF!

Sheet TCD
C3: OP
A4: N° DE PIECE | B4: Valeurs | C4: 30-39 | D4: 40-49 | E4: 50-59 | F4: 60-69 | G4: 70-79 | H4: 80-89 | I4: 90-99 | J4: Total général
A5: 6084146
B6: Nb d'opérations | F6: 1 | G6: 1 | H6: 1 | I6: 2 | J6: 5
B7: Temps defilement | F7: 0 | G7: 0.018275463 | H7: 0.057893519 | I7: 0.29945602 | J7: 0.375625
A8: 14984097
B9: Nb d'opérations | C9: 1 | D9: 1 | E9: 2 | F9: 1 | G9: 1 | H9: 1 | I9: 1 | J9: 8
B10: Temps defilement | C10: 0 | D10: 0.090405093 | E10: 0.065891204 | F10: 0.014675926 | G10: 0.0037384259 | H10: 0.048368056 | I10: 0.040486111 | J10: 0.26356481
A11: 14984098
B12: Nb d'opérations | C12: 1 | D12: 1 | E12: 2 | F12: 1 | G12: 1 | J12: 6
B13: Temps defilement | C13: 0 | D13: 0.091435185 | E13: 0.026203704 | F13: 0.0072916667 | G13: 0.0045949074 | J13: 0.12952546
A14: 14984103
B15: Nb d'opérations | C15: 1 | D15: 1 | E15: 2 | F15: 1 | G15: 1 | H15: 1 | I15: 1 | J15: 8
B16: Temps defilement | C16: 0 | D16: 0.031481481 | E16: 0.030509259 | F16: 0.004537037 | G16: 0.0051388889 | H16: 0.029386574 | I16: 0.047337963 | J16: 0.1483912
A17: 14984104
B18: Nb d'opérations | C18: 1 | D18: 1 | E18: 2 | F18: 1 | G18: 1 | H18: 1 | I18: 1 | J18: 8
B19: Temps defilement | C19: 0 | D19: 0.032673611 | E19: 0.030752315 | F19: 0.0091435185 | G19: 0.0031712963 | H19: 0.11645833 | I19: 0.040486111 | J19: 0.23268519
A20: 14984111
B21: Nb d'opérations | C21: 1 | D21: 1 | E21: 2 | F21: 1 | G21: 1 | H21: 1 | I21: 1 | J21: 8
B22: Temps defilement | C22: 0 | D22: 0.032430556 | E22: 0.037037037 | F22: 0.015405093 | G22: 0.0030787037 | H22: 0.034664352 | I22: 0.045509259 | J22: 0.168125
A23: 14984112
B24: Nb d'opérations | C24: 1 | D24: 1 | E24: 2 | F24: 1 | G24: 1 | J24: 6
B25: Temps defilement | C25: 0 | D25: 0.41436343 | E25: 0.020914352 | F25: 0.0044097222 | G25: 0.0034375 | J25: 0.443125
A26: 14984160
B27: Nb d'opérations | C27: 1 | D27: 1 | E27: 1 | J27: 3
B28: Temps defilement | C28: 0 | D28: 0.44611111 | E28: 0.014479167 | J28: 0.46059028
A29: 14984161
B30: Nb d'opérations | C30: 1 | D30: 1 | E30: 1 | J30: 3
B31: Temps defilement | C31: 0 | D31: 0.44707176 | E31: 0.011759259 | J31: 0.45883102
A32: 14984168
B33: Nb d'opérations | C33: 1 | D33: 1 | E33: 1 | J33: 3
B34: Temps defilement | C34: 0 | D34: 0.40859954 | E34: 0.0043518519 | J34: 0.41295139
A35: 14984169
B36: Nb d'opérations | C36: 1 | D36: 1 | E36: 2 | F36: 1 | G36: 1 | H36: 1 | I36: 1 | J36: 8
B37: Temps defilement | C37: 0 | D37: 0.033645833 | E37: 0.064097222 | F37: 0.01474537 | G37: 0.0050347222 | H37: 0.033148148 | I37: 0.05662037 | J37: 0.20729167
A38: 15084043
B39: Nb d'opérations | C39: 1 | D39: 1 | E39: 2 | F39: 1 | G39: 1 | J39: 6
B40: Temps defilement | C40: 0 | D40: 0.061076389 | E40: 0.41207176 | F40: 0.015150463 | G40: 0.0065856481 | J40: 0.49488426
A41: 15084053
B42: Nb d'opérations | H42: 1 | I42: 1 | J42: 2
...

Sheet TRI
A1: DATE | B1: HEURE | C1: N° DE PIECE | D1: N° | E1: N°POSAGE | F1: TYPE CULASSE | G1: OK ou NOK | H1: Prelevement | I1: N°SEMAINE | J1: Jour | K1: Equipe | L1: Version | M1: Temps defilement | N1: Prelevement 2 | O1: OP | P1: TEMPSDEF | Q1: TPS CUMULE | R1: OP DERLMNT | S1: OP DEBUT | T1: OP TR
A2: 43252 | B2: 0.37155093 | C2: 6084146 | D2: 60 | E2: Pos1 | F2: Culasse D LD15 GDI | G2: Ok | H2: - | I2: 22 | J2: vendredi | K2: Matin | L2: Dr | N2: - | O2: 60 | P2: 60 | Q2: 0 | S2: 60
A3: 43252 | B3: 0.38982639 | C3: 6084146 | D3: 70 | E3: Pos1 | F3: Culasse D LD15 GDI | G3: Ok | H3: - | I3: 22 | J3: vendredi | K3: Matin | L3: Dr | M3: 0.018275463 | N3: - | O3: 70 | P3: 0.018275463 | Q3: 0.018275463 | R3: 70
A4: 43252 | B4: 0.44771991 | C4: 6084146 | D4: 80 | E4: Pos4 | F4: Culasse D LD15 GDI | G4: Ok | H4: - | I4: 22 | J4: vendredi | K4: Matin | L4: Dr | M4: 0.057893519 | N4: - | O4: 80 | P4: 0.057893519 | Q4: 0.076168981 | R4: 80
A5: 43252 | B5: 0.4959838 | C5: 6084146 | D5: 90 | E5: Pos4 | F5: Culasse D LD15 GDI | G5: Ok | H5: - | I5: 22 | J5: vendredi | K5: Matin | L5: Dr | M5: 0.048263889 | N5: - | O5: 90 | P5: 0.048263889 | Q5: 0.12443287 | R5: 90
A6: 43252 | B6: 0.74717593 | C6: 6084146 | D6: 97 | E6: Pos4 | F6: Culasse D LD15 GDI | G6: Ok | H6: - | I6: 22 | J6: vendredi | K6: après-midi | L6: Dr | M6: 0.25119213 | N6: - | O6: 97 | P6: 0.25119213 | Q6: 0.375625 | R6: 97 | T6: 97
A7: 43252 | B7: 0.92965278 | C7: 6084190 | D7: 97 | E7: Pos1 | F7: Culasse D LD15 GDI | G7: Ok | H7: - | I7: 22 | J7: vendredi | K7: Nuit | L7: Dr | N7: - | O7: 97 | P7: 97 | Q7: 0 | S7: 97 | T7: 97
A8: 43252 | B8: 0.47957176 | C8: 8684073 | D8: 60 | E8: Pos1 | F8: Culasse G LD12 | G8: NC | H8: - | I8: 22 | J8: vendredi | K8: Matin | L8: G | N8: - | O8: 60 | P8: 60 | Q8: 0 | S8: 60 | T8: 60
A9: 43252 | B9: 0.70462963 | C9: 11584024 | D9: 97 | E9: Pos10 | F9: Culasse D LD15 GDI | G9: Ok | H9: - | I9: 22 | J9: vendredi | K9: après-midi | L9: Dr | N9: - | O9: 97 | P9: 97 | Q9: 0 | S9: 97 | T9: 97
A10: 43252 | B10: 0.017858796 | C10: 11584044 | D10: 95 | E10: Pos1 | F10: Culasse D LD15 GDI | G10: Ok | H10: - Réintro | I10: 22 | J10: vendredi | K10: Nuit | L10: Dr | N10: Reintro | O10: 95 | P10: 95 | Q10: 0 | S10: 95 | T10: 95
A11: 43252 | B11: 0.38943287 | C11: 13884062 | D11: 95 | E11: Pos1 | F11: Culasse D LD15 GDI | G11: PAR | H11: - Réintro | I11: 22 | J11: vendredi | K11: Matin | L11: Dr | N11: Reintro | O11: 95 | P11: 95 | Q11: 0 | S11: 95 | T11: 95
A12: 43252 | B12: 0.63038194 | C12: 13984012 | D12: 97 | E12: Pos8 | F12: Culasse D LD15 GDI | G12: PAR | H12: - | I12: 22 | J12: vendredi | K12: après-midi | L12: Dr | N12: - | O12: 97 | P12: 97 | Q12: 0 | S12: 97 | T12: 97
A13: 43252 | B13: 0.66841435 | C13: 13984016 | D13: 97 | E13: Pos8 | F13: Culasse D LD15 GDI | G13: PAR | H13: - | I13: 22 | J13: vendredi | K13: après-midi | L13: Dr | N13: - | O13: 97 | P13: 97 | Q13: 0 | S13: 97 | T13: 97
A14: 43252 | B14: 0.15202546 | C14: 14384119 | D14: 95 | E14: Pos1 | F14: Culasse G LD12 | G14: Ok | H14: - Réintro | I14: 22 | J14: vendredi | K14: Nuit | L14: G | N14: Reintro | O14: 95 | P14: 95 | Q14: 0 | S14: 95 | T14: 95
A15: 43252 | B15: 0.14423611 | C15: 14484123 | D15: 95 | E15: Pos1 | F15: Culasse G LD12 | G15: Ok | H15: - Réintro | I15: 22 | J15: vendredi | K15: Nuit | L15: G | N15: Reintro | O15: 95 | P15: 95 | Q15: 0 | S15: 95 | T15: 95
A16: 43252 | B16: 0.50934028 | C16: 14484171 | D16: 95 | E16: Pos1 | F16: Culasse G LD12 | G16: Ok | H16: - Réintro | I16: 22 | J16: vendredi | K16: Matin | L16: G | N16: Reintro | O16: 95 | P16: 95 | Q16: 0 | S16: 95 | T16: 95
A17: 43252 | B17: 0.73878472 | C17: 14484193 | D17: 97 | E17: Pos7 | F17: Culasse G LD12 | G17: Ok | H17: - | I17: 22 | J17: vendredi | K17: après-midi | L17: G | N17: - | O17: 97 | P17: 97 | Q17: 0 | S17: 97 | T17: 97
A18: 43252 | B18: 0.69724537 | C18: 14484205 | D18: 97 | E18: Pos7 | F18: Culasse G LD12 | G18: Ok | H18: - | I18: 22 | J18: vendredi | K18: après-midi | L18: G | N18: - | O18: 97 | P18: 97 | Q18: 0 | S18: 97 | T18: 97
... A34: 43252 | B34: 0.076481481 | C34: 14684017 | D34: 95 | E34: Pos1 | F34: Culasse G LD12 | G34: Ok | H34: - Réintro | I34: 22 | J34: vendredi | K34: Nuit | L34: G | N34: Reintro | O34: 95 | P34: 95 | Q34: 0 | S34: 95 | T34: 95
A35: 43252 | B35: 0.49697917 | C35: 14984097 | D35: 30 | E35: Pos6 | F35: Culasse D LD15 GDI | G35: Ok | H35: - Réintro | I35: 22 | J35: vendredi | K35: Matin | L35: Dr | N35: Reintro | O35: 30 | P35: 30 | Q35: 0 | S35: 30
A36: 43252 | B36: 0.58738426 | C36: 14984097 | D36: 40 | E36: Pos20 | F36: Culasse D LD15 GDI | G36: Ok | H36: Prél._ | I36: 22 | J36: vendredi | K36: après-midi | L36: Dr | M36: 0.090405093 | N36: Prel | O36: 40 | P36: 0.090405093 | Q36: 0.090405093 | R36: 40
A37: 43252 | B37: 0.59996528 | C37: 14984097 | D37: 50 | E37: Pos1 | F37: Culasse D LD15 GDI | G37: Ok | H37: Prél._ | I37: 22 | J37: vendredi | K37: après-midi | L37: Dr | M37: 0.012581019 | N37: Prel | O37: 50 | P37: 0.032945602 | Q37: 0.12335069 | R37: 50
A38: 43252 | B38: 0.65327546 | C38: 14984097 | D38: 50 | E38: Pos1 | F38: Culasse D LD15 GDI | G38: Ok | H38: - | I38: 22 | J38: vendredi | K38: après-midi | L38: Dr | M38: 0.053310185 | N38: - | O38: 50 | P38: 0.032945602 | Q38: 0.1562963 | R38: 50
A39: 43252 | B39: 0.66795139 | C39: 14984097 | D39: 60 | E39: Pos1 | F39: Culasse D LD15 GDI | G39: Ok | H39: - | I39: 22 | J39: vendredi | K39: après-midi | L39: Dr | M39: 0.014675926 | N39: - | O39: 60 | P39: 0.014675926 | Q39: 0.17097222 | R39: 60
A40: 43252 | B40: 0.67168981 | C40: 14984097 | D40: 70 | E40: Pos1 | F40: Culasse D LD15 GDI | G40: Ok | H40: - | I40: 22 | J40: vendredi | K40: après-midi | L40: Dr | M40: 0.0037384259 | N40: - | O40: 70 | P40: 0.0037384259 | Q40: 0.17471065 | R40: 70
A41: 43252 | B41: 0.72005787 | C41: 14984097 | D41: 80 | E41: Pos4 | F41: Culasse D LD15 GDI | G41: Ok | H41: - | I41: 22 | J41: vendredi | K41: après-midi | L41: Dr | M41: 0.048368056 | N41: - | O41: 80 | P41: 0.048368056 | Q41: 0.2230787 | R41: 80
A42: 43252 | B42: 0.76054398 | C42: 14984097 | D42: 90 | E42: Pos4 | F42: Culasse D LD15 GDI | G42: Ok | H42: - | I42: 22 | J42: vendredi | K42: après-midi | L42: Dr | M42: 0.040486111 | N42: - | O42: 90 | P42: 0.040486111 | Q42: 0.26356481 | R42: 90 | T42: 90
A43: 43252 | B43: 0.49659722 | C43: 14984098 | D43: 30 | E43: Pos5 | F43: Culasse G LD12 | G43: Ok | H43: - Réintro | I43: 22 | J43: vendredi | K43: Matin | L43: G | N43: Reintro | O43: 30 | P43: 30 | Q43: 0 | S43: 30
A44: 43252 | B44: 0.58803241 | C44: 14984098 | D44: 40 | E44: Pos19 | F44: Culasse G LD12 | G44: Ok | H44: Prél._ | I44: 22 | J44: vendredi | K44: après-midi | L44: G | M44: 0.091435185 | N44: Prel | O44: 40 | P44: 0.091435185 | Q44: 0.091435185 | R44: 40
A45: 43252 | B45: 0.61107639 | C45: 14984098 | D45: 50 | E45: Pos2 | F45: Culasse G LD12 | G45: Ok | H45: Prél._ | I45: 22 | J45: vendredi | K45: après-midi | L45: G | M45: 0.023043981 | N45: Prel | O45: 50 | P45: 0.013101852 | Q45: 0.10453704 | R45: 50
A46: 43252 | B46: 0.61423611 | C46: 14984098 | D46: 50 | E46: Pos2 | F46: Culasse G LD12 | G46: Ok | H46: - | I46: 22 | J46: vendredi | K46: après-midi | L46: G | M46: 0.0031597222 | N46: - | O46: 50 | P46: 0.013101852 | Q46: 0.11763889 | R46: 50
A47: 43252 | B47: 0.62152778 | C47: 14984098 | D47: 60 | E47: Pos1 | F47: Culasse G LD12 | G47: Ok | H47: - | I47: 22 | J47: vendredi | K47: après-midi | L47: G | M47: 0.0072916667 | N47: - | O47: 60 | P47: 0.0072916667 | Q47: 0.12493056 | R47: 60
A48: 43252 | B48: 0.62612269 | C48: 14984098 | D48: 70 | E48: Pos1 | F48: Culasse G LD12 | G48: Ok | H48: - | I48: 22 | J48: vendredi | K48: après-midi | L48: G | M48: 0.0045949074 | N48: - | O48: 70 | P48: 0.0045949074 | Q48: 0.12952546 | R48: 70 | T48: 70
A49: 43252 | B49: 0.4918287 | C49: 14984103 | D49: 30 | E49: Pos6 | F49: Culasse D LD15 GDI | G49: Ok | H49: - Réintro | I49: 22 | J49: vendredi | K49: Matin | L49: Dr | N49: Reintro | O49: 30 | P49: 30 | Q49: 0 | S49: 30
A50: 43252 | B50: 0.52331019 | C50: 14984103 | D50: 40 | E50: Pos18 | F50: Culasse D LD15 GDI | G50: Ok | H50: Prél._ | I50: 22 | J50: vendredi | K50: Matin | L50: Dr | M50: 0.031481481 | N50: Prel | O50: 40 | P50: 0.031481481 | Q50: 0.031481481 | R50: 40
A51: 43252 | B51: 0.52863426 | C51: 14984103 | D51: 50 | E51: Pos1 | F51: Culasse D LD15 GDI | G51: Ok | H51: Prél._ | I51: 22 | J51: vendredi | K51: Matin | L51: Dr | M51: 0.0053240741 | N51: Prel | O51: 50 | P51: 0.01525463 | Q51: 0.046736111 | R51: 50
A52: 43252 | B52: 0.55381944 | C52: 14984103 | D52: 50 | E52: Pos1 | F52: Culasse D LD15 GDI | G52: Ok | H52: - | I52: 22 | J52: vendredi | K52: après-midi | L52: Dr | M52: 0.025185185 | N52: - | O52: 50 | P52: 0.01525463 | Q52: 0.061990741 | R52: 50
A53: 43252 | B53: 0.55835648 | C53: 14984103 | D53: 60 | E53: Pos1 | F53: Culasse D LD15 GDI | G53: Ok | H53: - | I53: 22 | J53: vendredi | K53: après-midi | L53: Dr | M53: 0.004537037 | N53: - | O53: 60 | P53: 0.004537037 | Q53: 0.066527778 | R53: 60
A54: 43252 | B54: 0.56349537 | C54: 14984103 | D54: 70 | E54: Pos1 | F54: Culasse D LD15 GDI | G54: Ok | H54: - | I54: 22 | J54: vendredi | K54: après-midi | L54: Dr | M54: 0.0051388889 | N54: - | O54: 70 | P54: 0.0051388889 | Q54: 0.071666667 | R54: 70
A55: 43252 | B55: 0.59288194 | C55: 14984103 | D55: 80 | E55: Pos4 | F55: Culasse D LD15 GDI | G55: Ok | H55: - | I55: 22 | J55: vendredi | K55: après-midi | L55: Dr | M55: 0.029386574 | N55: - | O55: 80 | P55: 0.029386574 | Q55: 0.10105324 | R55: 80
...

Sheet Bilan
B1: OP
A2: N° DE PIECE | B2: 30 | C2: 40 | D2: 50 | E2: 60 | F2: 70 | G2: 80 | H2: 90 | I2: 100 | J2: 110 | K2: 120 | L2: 130 | M2: 140 | N2: 150 | O2: 200 | P2: 210 | Q2: 220 | R2: 230 | S2: 240 | T2: TEMPS DE TRAVERSé
A3: 6084146 | B3: =SUMIFS(TRI!$M:$M,TRI!$C:$C,$A3,TRI!$D:$D,">=" & B$2,TRI!$D:$D,"<" & C$2) -> 0 | C3: =SUMIFS(TRI!$M:$M,TRI!$C:$C,$A3,TRI!$D:$D,">=" & C$2,TRI!$D:$D,"<" & D$2) -> 0 | D3: =SUMIFS(TRI!$M:$M,TRI!$C:$C,$A3,TRI!$D:$D,">=" & D$2,TRI!$D:$D,"<" & E$2) -> 0 | E3: =SUMIFS(TRI!$M:$M,TRI!$C:$C,$A3,TRI!$D:$D,">=" & E$2,TRI!$D:$D,"<" & F$2) -> 0 | F3: =SUMIFS(TRI!$M:$M,TRI!$C:$C,$A3,TRI!$D:$D,">=" & F$2,TRI!$D:$D,"<" & G$2) -> 0.018275463 | G3: =SUMIFS(TRI!$M:$M,TRI!$C:$C,$A3,TRI!$D:$D,">=" & G$2,TRI!$D:$D,"<" & H$2) -> 0.057893519 | H3: =SUMIFS(TRI!$M:$M,TRI!$C:$C,$A3,TRI!$D:$D,">=" & H$2,TRI!$D:$D,"<" & I$2) -> 0.29945602 | I3: =SUMIFS(TRI!$M:$M,TRI!$C:$C,$A3,TRI!$D:$D,">=" & I$2,TRI!$D:$D,"<" & J$2) -> 0 | ... S3: =SUMIFS(TRI!$M:$M,TRI!$C:$C,$A3,TRI!$D:$D,">=" & S$2,TRI!$D:$D,"<" & T$2) -> 0 | T3: =SUM(B3:S3) -> 0.375625
A4: 6084190 | B4: =SUMIFS(TRI!$M:$M,TRI!$C:$C,$A4,TRI!$D:$D,">=" & B$2,TRI!$D:$D,"<" & C$2) -> 0 | C4: =SUMIFS(TRI!$M:$M,TRI!$C:$C,$A4,TRI!$D:$D,">=" & C$2,TRI!$D:$D,"<" & D$2) -> 0 | D4: =SUMIFS(TRI!$M:$M,TRI!$C:$C,$A4,TRI!$D:$D,">=" & D$2,TRI!$D:$D,"<" & E$2) -> 0 | E4: =SUMIFS(TRI!$M:$M,TRI!$C:$C,$A4,TRI!$D:$D,">=" & E$2,TRI!$D:$D,"<" & F$2) -> 0 | F4: =SUMIFS(TRI!$M:$M,TRI!$C:$C,$A4,TRI!$D:$D,">=" & F$2,TRI!$D:$D,"<" & G$2) -> 0 | G4: =SUMIFS(TRI!$M:$M,TRI!$C:$C,$A4,TRI!$D:$D,">=" & G$2,TRI!$D:$D,"<" & H$2) -> 0 | H4: =SUMIFS(TRI!$M:$M,TRI!$C:$C,$A4,TRI!$D:$D,">=" & H$2,TRI!$D:$D,"<" & I$2) -> 0 | I4: =SUMIFS(TRI!$M:$M,TRI!$C:$C,$A4,TRI!$D:$D,">=" & I$2,TRI!$D:$D,"<" & J$2) -> 0 | ... S4: =SUMIFS(TRI!$M:$M,TRI!$C:$C,$A4,TRI!$D:$D,">=" & S$2,TRI!$D:$D,"<" & T$2) -> 0 | T4: =SUM(B4:S4) -> 0
A5: 8684073 | B5: =SUMIFS(TRI!$M:$M,TRI!$C:$C,$A5,TRI!$D:$D,">=" & B$2,TRI!$D:$D,"<" & C$2) -> 0 | C5: =SUMIFS(TRI!$M:$M,TRI!$C:$C,$A5,TRI!$D:$D,">=" & C$2,TRI!$D:$D,"<" & D$2) -> 0 | D5: =SUMIFS(TRI!$M:$M,TRI!$C:$C,$A5,TRI!$D:$D,">=" & D$2,TRI!$D:$D,"<" & E$2) -> 0 | E5: =SUMIFS(TRI!$M:$M,TRI!$C:$C,$A5,TRI!$D:$D,">=" & E$2,TRI!$D:$D,"<" & F$2) -> 0 | F5: =SUMIFS(TRI!$M:$M,TRI!$C:$C,$A5,TRI!$D:$D,">=" & F$2,TRI!$D:$D,"<" & G$2) -> 0 | G5: =SUMIFS(TRI!$M:$M,TRI!$C:$C,$A5,TRI!$D:$D,">=" & G$2,TRI!$D:$D,"<" & H$2) -> 0 | H5: =SUMIFS(TRI!$M:$M,TRI!$C:$C,$A5,TRI!$D:$D,">=" & H$2,TRI!$D:$D,"<" & I$2) -> 0 | I5: =SUMIFS(TRI!$M:$M,TRI!$C:$C,$A5,TRI!$D:$D,">=" & I$2,TRI!$D:$D,"<" & J$2) -> 0 | ... S5: =SUMIFS(TRI!$M:$M,TRI!$C:$C,$A5,TRI!$D:$D,">=" & S$2,TRI!$D:$D,"<" & T$2) -> 0 | T5: =SUM(B5:S5) -> 0
A6: 11584024 | B6: =SUMIFS(TRI!$M:$M,TRI!$C:$C,$A6,TRI!$D:$D,">=" & B$2,TRI!$D:$D,"<" & C$2) -> 0 | C6: =SUMIFS(TRI!$M:$M,TRI!$C:$C,$A6,TRI!$D:$D,">=" & C$2,TRI!$D:$D,"<" & D$2) -> 0 | D6: =SUMIFS(TRI!$M:$M,TRI!$C:$C,$A6,TRI!$D:$D,">=" & D$2,TRI!$D:$D,"<" & E$2) -> 0 | E6: =SUMIFS(TRI!$M:$M,TRI!$C:$C,$A6,TRI!$D:$D,">=" & E$2,TRI!$D:$D,"<" & F$2) -> 0 | F6: =SUMIFS(TRI!$M:$M,TRI!$C:$C,$A6,TRI!$D:$D,">=" & F$2,TRI!$D:$D,"<" & G$2) -> 0 | G6: =SUMIFS(TRI!$M:$M,TRI!$C:$C,$A6,TRI!$D:$D,">=" & G$2,TRI!$D:$D,"<" & H$2) -> 0 | H6: =SUMIFS(TRI!$M:$M,TRI!$C:$C,$A6,TRI!$D:$D,">=" & H$2,TRI!$D:$D,"<" & I$2) -> 0 | I6: =SUMIFS(TRI!$M:$M,TRI!$C:$C,$A6,TRI!$D:$D,">=" & I$2,TRI!$D:$D,"<" & J$2) -> 0 | ... S6: =SUMIFS(TRI!$M:$M,TRI!$C:$C,$A6,TRI!$D:$D,">=" & S$2,TRI!$D:$D,"<" & T$2) -> 0 | T6: =SUM(B6:S6) -> 0
A7: 11584044 | B7: =SUMIFS(TRI!$M:$M,TRI!$C:$C,$A7,TRI!$D:$D,">=" & B$2,TRI!$D:$D,"<" & C$2) -> 0 | C7: =SUMIFS(TRI!$M:$M,TRI!$C:$C,$A7,TRI!$D:$D,">=" & C$2,TRI!$D:$D,"<" & D$2) -> 0 | D7: =SUMIFS(TRI!$M:$M,TRI!$C:$C,$A7,TRI!$D:$D,">=" & D$2,TRI!$D:$D,"<" & E$2) -> 0 | E7: =SUMIFS(TRI!$M:$M,TRI!$C:$C,$A7,TRI!$D:$D,">=" & E$2,TRI!$D:$D,"<" & F$2) -> 0 | F7: =SUMIFS(TRI!$M:$M,TRI!$C:$C,$A7,TRI!$D:$D,">=" & F$2,TRI!$D:$D,"<" & G$2) -> 0 | G7: =SUMIFS(TRI!$M:$M,TRI!$C:$C,$A7,TRI!$D:$D,">=" & G$2,TRI!$D:$D,"<" & H$2) -> 0 | H7: =SUMIFS(TRI!$M:$M,TRI!$C:$C,$A7,TRI!$D:$D,">=" & H$2,TRI!$D:$D,"<" & I$2) -> 0 | I7: =SUMIFS(TRI!$M:$M,TRI!$C:$C,$A7,TRI!$D:$D,">=" & I$2,TRI!$D:$D,"<" & J$2) -> 0 | ... S7: =SUMIFS(TRI!$M:$M,TRI!$C:$C,$A7,TRI!$D:$D,">=" & S$2,TRI!$D:$D,"<" & T$2) -> 0 | T7: =SUM(B7:S7) -> 0
A8: 13884062 | B8: =SUMIFS(TRI!$M:$M,TRI!$C:$C,$A8,TRI!$D:$D,">=" & B$2,TRI!$D:$D,"<" & C$2) -> 0 | C8: =SUMIFS(TRI!$M:$M,TRI!$C:$C,$A8,TRI!$D:$D,">=" & C$2,TRI!$D:$D,"<" & D$2) -> 0 | D8: =SUMIFS(TRI!$M:$M,TRI!$C:$C,$A8,TRI!$D:$D,">=" & D$2,TRI!$D:$D,"<" & E$2) -> 0 | E8: =SUMIFS(TRI!$M:$M,TRI!$C:$C,$A8,TRI!$D:$D,">=" & E$2,TRI!$D:$D,"<" & F$2) -> 0 | F8: =SUMIFS(TRI!$M:$M,TRI!$C:$C,$A8,TRI!$D:$D,">=" & F$2,TRI!$D:$D,"<" & G$2) -> 0 | G8: =SUMIFS(TRI!$M:$M,TRI!$C:$C,$A8,TRI!$D:$D,">=" & G$2,TRI!$D:$D,"<" & H$2) -> 0 | H8: =SUMIFS(TRI!$M:$M,TRI!$C:$C,$A8,TRI!$D:$D,">=" & H$2,TRI!$D:$D,"<" & I$2) -> 0 | I8: =SUMIFS(TRI!$M:$M,TRI!$C:$C,$A8,TRI!$D:$D,">=" & I$2,TRI!$D:$D,"<" & J$2) -> 0 | ... S8: =SUMIFS(TRI!$M:$M,TRI!$C:$C,$A8,TRI!$D:$D,">=" & S$2,TRI!$D:$D,"<" & T$2) -> 0 | T8: =SUM(B8:S8) -> 0
A9: 13984012 | B9: =SUMIFS(TRI!$M:$M,TRI!$C:$C,$A9,TRI!$D:$D,">=" & B$2,TRI!$D:$D,"<" & C$2) -> 0 | C9: =SUMIFS(TRI!$M:$M,TRI!$C:$C,$A9,TRI!$D:$D,">=" & C$2,TRI!$D:$D,"<" & D$2) -> 0 | D9: =SUMIFS(TRI!$M:$M,TRI!$C:$C,$A9,TRI!$D:$D,">=" & D$2,TRI!$D:$D,"<" & E$2) -> 0 | E9: =SUMIFS(TRI!$M:$M,TRI!$C:$C,$A9,TRI!$D:$D,">=" & E$2,TRI!$D:$D,"<" & F$2) -> 0 | F9: =SUMIFS(TRI!$M:$M,TRI!$C:$C,$A9,TRI!$D:$D,">=" & F$2,TRI!$D:$D,"<" & G$2) -> 0 | G9: =SUMIFS(TRI!$M:$M,TRI!$C:$C,$A9,TRI!$D:$D,">=" & G$2,TRI!$D:$D,"<" & H$2) -> 0 | H9: =SUMIFS(TRI!$M:$M,TRI!$C:$C,$A9,TRI!$D:$D,">=" & H$2,TRI!$D:$D,"<" & I$2) -> 0 | I9: =SUMIFS(TRI!$M:$M,TRI!$C:$C,$A9,TRI!$D:$D,">=" & I$2,TRI!$D:$D,"<" & J$2) -> 0 | ... S9: =SUMIFS(TRI!$M:$M,TRI!$C:$C,$A9,TRI!$D:$D,">=" & S$2,TRI!$D:$D,"<" & T$2) -> 0 | T9: =SUM(B9:S9) -> 0
A10: 13984016 | B10: =SUMIFS(TRI!$M:$M,TRI!$C:$C,$A10,TRI!$D:$D,">=" & B$2,TRI!$D:$D,"<" & C$2) -> 0 | C10: =SUMIFS(TRI!$M:$M,TRI!$C:$C,$A10,TRI!$D:$D,">=" & C$2,TRI!$D:$D,"<" & D$2) -> 0 | D10: =SUMIFS(TRI!$M:$M,TRI!$C:$C,$A10,TRI!$D:$D,">=" & D$2,TRI!$D:$D,"<" & E$2) -> 0 | E10: =SUMIFS(TRI!$M:$M,TRI!$C:$C,$A10,TRI!$D:$D,">=" & E$2,TRI!$D:$D,"<" & F$2) -> 0 | F10: =SUMIFS(TRI!$M:$M,TRI!$C:$C,$A10,TRI!$D:$D,">=" & F$2,TRI!$D:$D,"<" & G$2) -> 0 | G10: =SUMIFS(TRI!$M:$M,TRI!$C:$C,$A10,TRI!$D:$D,">=" & G$2,TRI!$D:$D,"<" & H$2) -> 0 | H10: =SUMIFS(TRI!$M:$M,TRI!$C:$C,$A10,TRI!$D:$D,">=" & H$2,TRI!$D:$D,"<" & I$2) -> 0 | I10: =SUMIFS(TRI!$M:$M,TRI!$C:$C,$A10,TRI!$D:$D,">=" & I$2,TRI!$D:$D,"<" & J$2) -> 0 | ... S10: =SUMIFS(TRI!$M:$M,TRI!$C:$C,$A10,TRI!$D:$D,">=" & S$2,TRI!$D:$D,"<" & T$2) -> 0 | T10: =SUM(B10:S10) -> 0
A11: 14384119 | B11: =SUMIFS(TRI!$M:$M,TRI!$C:$C,$A11,TRI!$D:$D,">=" & B$2,TRI!$D:$D,"<" & C$2) -> 0 | C11: =SUMIFS(TRI!$M:$M,TRI!$C:$C,$A11,TRI!$D:$D,">=" & C$2,TRI!$D:$D,"<" & D$2) -> 0 | D11: =SUMIFS(TRI!$M:$M,TRI!$C:$C,$A11,TRI!$D:$D,">=" & D$2,TRI!$D:$D,"<" & E$2) -> 0 | E11: =SUMIFS(TRI!$M:$M,TRI!$C:$C,$A11,TRI!$D:$D,">=" & E$2,TRI!$D:$D,"<" & F$2) -> 0 | F11: =SUMIFS(TRI!$M:$M,TRI!$C:$C,$A11,TRI!$D:$D,">=" & F$2,TRI!$D:$D,"<" & G$2) -> 0 | G11: =SUMIFS(TRI!$M:$M,TRI!$C:$C,$A11,TRI!$D:$D,">=" & G$2,TRI!$D:$D,"<" & H$2) -> 0 | H11: =SUMIFS(TRI!$M:$M,TRI!$C:$C,$A11,TRI!$D:$D,">=" & H$2,TRI!$D:$D,"<" & I$2) -> 0 | I11: =SUMIFS(TRI!$M:$M,TRI!$C:$C,$A11,TRI!$D:$D,">=" & I$2,TRI!$D:$D,"<" & J$2) -> 0 | ... S11: =SUMIFS(TRI!$M:$M,TRI!$C:$C,$A11,TRI!$D:$D,">=" & S$2,TRI!$D:$D,"<" & T$2) -> 0 | T11: =SUM(B11:S11) -> 0
A12: 14484123 | B12: =SUMIFS(TRI!$M:$M,TRI!$C:$C,$A12,TRI!$D:$D,">=" & B$2,TRI!$D:$D,"<" & C$2) -> 0 | C12: =SUMIFS(TRI!$M:$M,TRI!$C:$C,$A12,TRI!$D:$D,">=" & C$2,TRI!$D:$D,"<" & D$2) -> 0 | D12: =SUMIFS(TRI!$M:$M,TRI!$C:$C,$A12,TRI!$D:$D,">=" & D$2,TRI!$D:$D,"<" & E$2) -> 0 | E12: =SUMIFS(TRI!$M:$M,TRI!$C:$C,$A12,TRI!$D:$D,">=" & E$2,TRI!$D:$D,"<" & F$2) -> 0 | F12: =SUMIFS(TRI!$M:$M,TRI!$C:$C,$A12,TRI!$D:$D,">=" & F$2,TRI!$D:$D,"<" & G$2) -> 0 | G12: =SUMIFS(TRI!$M:$M,TRI!$C:$C,$A12,TRI!$D:$D,">=" & G$2,TRI!$D:$D,"<" & H$2) -> 0 | H12: =SUMIFS(TRI!$M:$M,TRI!$C:$C,$A12,TRI!$D:$D,">=" & H$2,TRI!$D:$D,"<" & I$2) -> 0 | I12: =SUMIFS(TRI!$M:$M,TRI!$C:$C,$A12,TRI!$D:$D,">=" & I$2,TRI!$D:$D,"<" & J$2) -> 0 | ... S12: =SUMIFS(TRI!$M:$M,TRI!$C:$C,$A12,TRI!$D:$D,">=" & S$2,TRI!$D:$D,"<" & T$2) -> 0 | T12: =SUM(B12:S12) -> 0
A13: 14484171 | B13: =SUMIFS(TRI!$M:$M,TRI!$C:$C,$A13,TRI!$D:$D,">=" & B$2,TRI!$D:$D,"<" & C$2) -> 0 | C13: =SUMIFS(TRI!$M:$M,TRI!$C:$C,$A13,TRI!$D:$D,">=" & C$2,TRI!$D:$D,"<" & D$2) -> 0 | D13: =SUMIFS(TRI!$M:$M,TRI!$C:$C,$A13,TRI!$D:$D,">=" & D$2,TRI!$D:$D,"<" & E$2) -> 0 | E13: =SUMIFS(TRI!$M:$M,TRI!$C:$C,$A13,TRI!$D:$D,">=" & E$2,TRI!$D:$D,"<" & F$2) -> 0 | F13: =SUMIFS(TRI!$M:$M,TRI!$C:$C,$A13,TRI!$D:$D,">=" & F$2,TRI!$D:$D,"<" & G$2) -> 0 | G13: =SUMIFS(TRI!$M:$M,TRI!$C:$C,$A13,TRI!$D:$D,">=" & G$2,TRI!$D:$D,"<" & H$2) -> 0 | H13: =SUMIFS(TRI!$M:$M,TRI!$C:$C,$A13,TRI!$D:$D,">=" & H$2,TRI!$D:$D,"<" & I$2) -> 0 | I13: =SUMIFS(TRI!$M:$M,TRI!$C:$C,$A13,TRI!$D:$D,">=" & I$2,TRI!$D:$D,"<" & J$2) -> 0 | ... S13: =SUMIFS(TRI!$M:$M,TRI!$C:$C,$A13,TRI!$D:$D,">=" & S$2,TRI!$D:$D,"<" & T$2) -> 0 | T13: =SUM(B13:S13) -> 0
A14: 14484193 | B14: =SUMIFS(TRI!$M:$M,TRI!$C:$C,$A14,TRI!$D:$D,">=" & B$2,TRI!$D:$D,"<" & C$2) -> 0 | C14: =SUMIFS(TRI!$M:$M,TRI!$C:$C,$A14,TRI!$D:$D,">=" & C$2,TRI!$D:$D,"<" & D$2) -> 0 | D14: =SUMIFS(TRI!$M:$M,TRI!$C:$C,$A14,TRI!$D:$D,">=" & D$2,TRI!$D:$D,"<" & E$2) -> 0 | E14: =SUMIFS(TRI!$M:$M,TRI!$C:$C,$A14,TRI!$D:$D,">=" & E$2,TRI!$D:$D,"<" & F$2) -> 0 | F14: =SUMIFS(TRI!$M:$M,TRI!$C:$C,$A14,TRI!$D:$D,">=" & F$2,TRI!$D:$D,"<" & G$2) -> 0 | G14: =SUMIFS(TRI!$M:$M,TRI!$C:$C,$A14,TRI!$D:$D,">=" & G$2,TRI!$D:$D,"<" & H$2) -> 0 | H14: =SUMIFS(TRI!$M:$M,TRI!$C:$C,$A14,TRI!$D:$D,">=" & H$2,TRI!$D:$D,"<" & I$2) -> 0 | I14: =SUMIFS(TRI!$M:$M,TRI!$C:$C,$A14,TRI!$D:$D,">=" & I$2,TRI!$D:$D,"<" & J$2) -> 0 | ... S14: =SUMIFS(TRI!$M:$M,TRI!$C:$C,$A14,TRI!$D:$D,">=" & S$2,TRI!$D:$D,"<" & T$2) -> 0 | T14: =SUM(B14:S14) -> 0
... A313: 15284225 | B313: =SUMIFS(TRI!$M:$M,TRI!$C:$C,$A313,TRI!$D:$D,">=" & B$2,TRI!$D:$D,"<" & C$2) -> 0 | C313: =SUMIFS(TRI!$M:$M,TRI!$C:$C,$A313,TRI!$D:$D,">=" & C$2,TRI!$D:$D,"<" & D$2) -> 0.086840278 | D313: =SUMIFS(TRI!$M:$M,TRI!$C:$C,$A313,TRI!$D:$D,">=" & D$2,TRI!$D:$D,"<" & E$2) -> 0.024293981 | E313: =SUMIFS(TRI!$M:$M,TRI!$C:$C,$A313,TRI!$D:$D,">=" & E$2,TRI!$D:$D,"<" & F$2) -> 0.015740741 | F313: =SUMIFS(TRI!$M:$M,TRI!$C:$C,$A313,TRI!$D:$D,">=" & F$2,TRI!$D:$D,"<" & G$2) -> 0.0080092593 | G313: =SUMIFS(TRI!$M:$M,TRI!$C:$C,$A313,TRI!$D:$D,">=" & G$2,TRI!$D:$D,"<" & H$2) -> 0.032997685 | H313: =SUMIFS(TRI!$M:$M,TRI!$C:$C,$A313,TRI!$D:$D,">=" & H$2,TRI!$D:$D,"<" & I$2) -> 0.13163194 | I313: =SUMIFS(TRI!$M:$M,TRI!$C:$C,$A313,TRI!$D:$D,">=" & I$2,TRI!$D:$D,"<" & J$2) -> 0 | ... S313: =SUMIFS(TRI!$M:$M,TRI!$C:$C,$A313,TRI!$D:$D,">=" & S$2,TRI!$D:$D,"<" & T$2) -> 0 | T313: =SUM(B313:S313) -> 0.29951389
