Workbook
Name ANALYSE4semaines4901: #REF!
Name Capacitaire_Bloc_V9X: [1]L1!#REF!
Name Capacitaire_Culasse: #REF!
Name Client: #REF!
Name DATE_PROP: #REF!
Name DEMANDEUR: #REF!
Name ESSAI: #REF!
Name LIGNE: #REF!
Name liste: #REF!
Name MODULE: #REF!
Name MOIS: #REF!
Name Opérateurs: #REF!
Name per: #REF!
Name personnel: #REF!
Name PRIO: #REF!
Name PRIORITE: #REF!
Name SOLDE: #REF!

Sheet TCD
C3: OP
A4: N° DE PIECE | B4: Valeurs | C4: 30-39 | D4: 40-49 | E4: 50-59 | F4: 60-69 | G4: 70-79 | H4: 80-89 | I4: 90-99 | J4: Total général
A5: 6084146
B6: Nb d'opérations | F6: 1 | G6: 1 | H6: 1 | I6: 2 | J6: 5
B7: Temps defilement | F7: 0 | G7: 0.018275463 | H7: 0.057893519 | I7: 0.29945602 | J7: 0.375625
A8: 14984097
B9: Nb d'opérations | C9: 1 | D9: 1 | E9: 2 | F9: 1 | G9: 1 | H9: 1 | I9: 1 | J9: 8
B10: Temps defilement | C10: 0 | D10: 0.090405093 | E10: 0.065891204 | F10: 0.014675926 | G10: 0.0037384259 | H10: 0.048368056 | I10: 0.040486111 | J10: 0.26356481
A11: 14984098
B12: Nb d'opérations | C12: 1 | D12: 1 | E12: 2 | F12: 1 | G12: 1 | J12: 6
B13: Temps defilement | C13: 0 | D13: 0.091435185 | E13: 0.026203704 | F13: 0.0072916667 | G13: 0.0045949074 | J13: 0.12952546
A14: 14984103
B15: Nb d'opérations | C15: 1 | D15: 1 | E15: 2 | F15: 1 | G15: 1 | H15: 1 | I15: 1 | J15: 8
B16: Temps defilement | C16: 0 | D16: 0.031481481 | E16: 0.030509259 | F16: 0.004537037 | G16: 0.0051388889 | H16: 0.029386574 | I16: 0.047337963 | J16: 0.1483912
A17: 14984104
B18: Nb d'opérations | C18: 1 | D18: 1 | E18: 2 | F18: 1 | G18: 1 | H18: 1 | I18: 1 | J18: 8
B19: Temps defilement | C19: 0 | D19: 0.032673611 | E19: 0.030752315 | F19: 0.0091435185 | G19: 0.0031712963 | H19: 0.11645833 | I19: 0.040486111 | J19: 0.23268519
A20: 14984111
B21: Nb d'opérations | C21: 1 | D21: 1 | E21: 2 | F21: 1 | G21: 1 | H21: 1 | I21: 1 | J21: 8
B22: Temps defilement | C22: 0 | D22: 0.032430556 | E22: 0.037037037 | F22: 0.015405093 | G22: 0.0030787037 | H22: 0.034664352 | I22: 0.045509259 | J22: 0.168125
A23: 14984112
B24: Nb d'opérations | C24: 1 | D24: 1 | E24: 2 | F24: 1 | G24: 1 | J24: 6
B25: Temps defilement | C25: 0 | D25: 0.41436343 | E25: 0.020914352 | F25: 0.0044097222 | G25: 0.0034375 | J25: 0.443125
A26: 14984160
B27: Nb d'opérations | C27: 1 | D27: 1 | E27: 1 | J27: 3
B28: Temps defilement | C28: 0 | D28: 0.44611111 | E28: 0.014479167 | J28: 0.46059028
A29: 14984161
B30: Nb d'opérations | C30: 1 | D30: 1 | E30: 1 | J30: 3
B31: Temps defilement | C31: 0 | D31: 0.44707176 | E31: 0.011759259 | J31: 0.45883102
A32: 14984168
B33: Nb d'opérations | C33: 1 | D33: 1 | E33: 1 | J33: 3
B34: Temps defilement | C34: 0 | D34: 0.40859954 | E34: 0.0043518519 | J34: 0.41295139
A35: 14984169
B36: Nb d'opérations | C36: 1 | D36: 1 | E36: 2 | F36: 1 | G36: 1 | H36: 1 | I36: 1 | J36: 8
B37: Temps defilement | C37: 0 | D37: 0.033645833 | E37: 0.064097222 | F37: 0.01474537 | G37: 0.0050347222 | H37: 0.033148148 | I37: 0.05662037 | J37: 0.20729167
A38: 15084043
B39: Nb d'opérations | C39: 1 | D39: 1 | E39: 2 | F39: 1 | G39: 1 | J39: 6
B40: Temps defilement | C40: 0 | D40: 0.061076389 | E40: 0.41207176 | F40: 0.015150463 | G40: 0.0065856481 | J40: 0.49488426
A41: 15084053
B42: Nb d'opérations | H42: 1 | I42: 1 | J42: 2
B43: Temps defilement | H43: 0 | I43: 0.041180556 | J43: 0.041180556
A44: 15084085
B45: Nb d'opérations | E45: 2 | F45: 1 | G45: 1 | H45: 1 | I45: 1 | J45: 6
B46: Temps defilement | E46: 0.0002662037 | F46: 0.011643519 | G46: 0.005 | H46: 0.039479167 | I46: 0.036435185 | J46: 0.092824074
A47: 15184056
B48: Nb d'opérations | E48: 1 | F48: 1 | G48: 1 | H48: 1 | I48: 1 | J48: 5
B49: Temps defilement | E49: 0 | F49: 0.014074074 | G49: 0.010104167 | H49: 0.060844907 | I49: 0.035381944 | J49: 0.12040509
A50: 15184057
B51: Nb d'opérations | E51: 1 | F51: 1 | G51: 1 | J51: 3
B52: Temps defilement | E52: 0 | F52: 0.010891204 | G52: 0.0098842593 | J52: 0.020775463
A53: 15184058
B54: Nb d'opérations | E54: 2 | F54: 1 | G54: 1 | H54: 1 | I54: 1 | J54: 6
B55: Temps defilement | E55: 0.0003125 | F55: 0.013043981 | G55: 0.0063888889 | H55: 0.038090278 | I55: 0.0546875 | J55: 0.11252315
A56: 15184059
B57: Nb d'opérations | C57: 1 | D57: 1 | E57: 2 | F57: 1 | G57: 2 | H57: 1 | I57: 1 | J57: 9
B58: Temps defilement | C58: 0 | D58: 0.072581019 | E58: 0.026064815 | F58: 0.0052546296 | G58: 0.07587963 | H58: 0.037384259 | I58: 0.040381944 | J58: 0.2575463
A59: 15184060
B60: Nb d'opérations | C60: 1 | D60: 1 | E60: 2 | F60: 1 | G60: 1 | H60: 1 | I60: 1 | J60: 8
B61: Temps defilement | C61: 0 | D61: 0.077916667 | E61: 0.0221875 | F61: 0.0080324074 | G61: 0.0047337963 | H61: 0.027743056 | I61: 0.14834491 | J61: 0.28895833
A62: 15184062
B63: Nb d'opérations | G63: 1 | H63: 1 | I63: 1 | J63: 3
B64: Temps defilement | G64: 0 | H64: 0.018842593 | I64: 0.046967593 | J64: 0.065810185
A65: 15184071
B66: Nb d'opérations | E66: 1 | F66: 1 | G66: 1 | H66: 1 | I66: 1 | J66: 5
B67: Temps defilement | E67: 0 | F67: 0.011122685 | G67: 0.0032407407 | H67: 0.029652778 | I67: 0.043483796 | J67: 0.0875
A68: 15184072
B69: Nb d'opérations | E69: 1 | F69: 1 | G69: 1 | J69: 3
B70: Temps defilement | E70: 0 | F70: 0.015416667 | G70: 0.0044328704 | J70: 0.019849537
A71: 15184082
B72: Nb d'opérations | E72: 3 | F72: 2 | G72: 1 | H72: 1 | I72: 1 | J72: 8
B73: Temps defilement | E73: 0.051701389 | F73: 1.02375 | G73: 0.0040162037 | H73: 0.087314815 | I73: 0.19935185 | J73: 1.3661343
A74: 15184085
B75: Nb d'opérations | E75: 1 | F75: 1 | G75: 1 | J75: 3
B76: Temps defilement | E76: 0 | F76: 0.011840278 | G76: 0.010231481 | J76: 0.022071759
A77: 15184086
B78: Nb d'opérations | E78: 1 | F78: 1 | G78: 1 | H78: 1 | I78: 1 | J78: 5
B79: Temps defilement | E79: 0 | F79: 0.015555556 | G79: 0.0039467593 | H79: 0.030856481 | I79: 0.041967593 | J79: 0.092326389
A80: 15184105
B81: Nb d'opérations | C81: 1 | D81: 1 | E81: 2 | F81: 1 | G81: 1 | H81: 1 | I81: 1 | J81: 8
B82: Temps defilement | C82: 0 | D82: 0.33032407 | E82: 0.034664352 | F82: 0.0094560185 | G82: 0.0091898148 | H82: 0.052743056 | I82: 0.063043981 | J82: 0.4994213
A83: 15184106
B84: Nb d'opérations | C84: 1 | D84: 1 | E84: 2 | F84: 1 | G84: 1 | H84: 1 | I84: 1 | J84: 8
B85: Temps defilement | C85: 0 | D85: 0.042094907 | E85: 0.073287037 | F85: 0.0089467593 | G85: 0.0050462963 | H85: 0.054398148 | I85: 0.060636574 | J85: 0.24440972
A86: 15184109
B87: Nb d'opérations | H87: 1 | I87: 1 | J87: 2
B88: Temps defilement | H88: 0 | I88: 0.042418981 | J88: 0.042418981
A89: 15184110
B90: Nb d'opérations | F90: 1 | G90: 1 | H90: 1 | I90: 1 | J90: 4
B91: Temps defilement | F91: 0 | G91: 0.0030208333 | H91: 0.029201389 | I91: 0.041921296 | J91: 0.074143519
A92: 15184118
B93: Nb d'opérations | G93: 1 | H93: 1 | I93: 1 | J93: 3
B94: Temps defilement | G94: 0 | H94: 0.052094907 | I94: 0.046550926 | J94: 0.098645833
A95: 15184120
B96: Nb d'opérations | H96: 1 | I96: 1 | J96: 2
B97: Temps defilement | H97: 0 | I97: 0.037372685 | J97: 0.037372685
A98: 15184123
B99: Nb d'opérations | C99: 1 | D99: 1 | E99: 2 | F99: 1 | G99: 1 | H99: 1 | I99: 1 | J99: 8
B100: Temps defilement | C100: 0 | D100: 0.040555556 | E100: 0.010972222 | F100: 0.012372685 | G100: 0.0028703704 | H100: 0.039606481 | I100: 0.0421875 | J100: 0.14856481
A101: 15184124
B102: Nb d'opérations | C102: 1 | D102: 1 | E102: 2 | F102: 1 | G102: 1 | H102: 1 | I102: 1 | J102: 8
...

Sheet TRI
A1: DATE | B1: HEURE | C1: N° DE PIECE | D1: N° | E1: N°POSAGE | F1: TYPE CULASSE | G1: OK ou NOK | H1: Prelevement | I1: N°SEMAINE | J1: Jour | K1: Equipe | L1: Version | M1: Temps defilement | N1: Prelevement 2 | O1: OP | P1: TEMPSDEF | Q1: TPS CUMULE | R1: OP DERLMNT | S1: OP DEBUT | T1: OP TR
A2: 43252 | B2: 0.37155093 | C2: 6084146 | D2: 60 | E2: Pos1 | F2: Culasse D LD15 GDI | G2: Ok | H2: - | I2: 22 | J2: vendredi | K2: Matin | L2: Dr | N2: - | O2: 60 | P2: 60 | Q2: 0 | S2: 60
A3: 43252 | B3: 0.38982639 | C3: 6084146 | D3: 70 | E3: Pos1 | F3: Culasse D LD15 GDI | G3: Ok | H3: - | I3: 22 | J3: vendredi | K3: Matin | L3: Dr | M3: 0.018275463 | N3: - | O3: 70 | P3: 0.018275463 | Q3: 0.018275463 | R3: 70
A4: 43252 | B4: 0.44771991 | C4: 6084146 | D4: 80 | E4: Pos4 | F4: Culasse D LD15 GDI | G4: Ok | H4: - | I4: 22 | J4: vendredi | K4: Matin | L4: Dr | M4: 0.057893519 | N4: - | O4: 80 | P4: 0.057893519 | Q4: 0.076168981 | R4: 80
A5: 43252 | B5: 0.4959838 | C5: 6084146 | D5: 90 | E5: Pos4 | F5: Culasse D LD15 GDI | G5: Ok | H5: - | I5: 22 | J5: vendredi | K5: Matin | L5: Dr | M5: 0.048263889 | N5: - | O5: 90 | P5: 0.048263889 | Q5: 0.12443287 | R5: 90
A6: 43252 | B6: 0.74717593 | C6: 6084146 | D6: 97 | E6: Pos4 | F6: Culasse D LD15 GDI | G6: Ok | H6: - | I6: 22 | J6: vendredi | K6: après-midi | L6: Dr | M6: 0.25119213 | N6: - | O6: 97 | P6: 0.25119213 | Q6: 0.375625 | R6: 97 | T6: 97
A7: 43252 | B7: 0.92965278 | C7: 6084190 | D7: 97 | E7: Pos1 | F7: Culasse D LD15 GDI | G7: Ok | H7: - | I7: 22 | J7: vendredi | K7: Nuit | L7: Dr | N7: - | O7: 97 | P7: 97 | Q7: 0 | S7: 97 | T7: 97
A8: 43252 | B8: 0.47957176 | C8: 8684073 | D8: 60 | E8: Pos1 | F8: Culasse G LD12 | G8: NC | H8: - | I8: 22 | J8: vendredi | K8: Matin | L8: G | N8: - | O8: 60 | P8: 60 | Q8: 0 | S8: 60 | T8: 60
A9: 43252 | B9: 0.70462963 | C9: 11584024 | D9: 97 | E9: Pos10 | F9: Culasse D LD15 GDI | G9: Ok | H9: - | I9: 22 | J9: vendredi | K9: après-midi | L9: Dr | N9: - | O9: 97 | P9: 97 | Q9: 0 | S9: 97 | T9: 97
A10: 43252 | B10: 0.017858796 | C10: 11584044 | D10: 95 | E10: Pos1 | F10: Culasse D LD15 GDI | G10: Ok | H10: - Réintro | I10: 22 | J10: vendredi | K10: Nuit | L10: Dr | N10: Reintro | O10: 95 | P10: 95 | Q10: 0 | S10: 95 | T10: 95
A11: 43252 | B11: 0.38943287 | C11: 13884062 | D11: 95 | E11: Pos1 | F11: Culasse D LD15 GDI | G11: PAR | H11: - Réintro | I11: 22 | J11: vendredi | K11: Matin | L11: Dr | N11: Reintro | O11: 95 | P11: 95 | Q11: 0 | S11: 95 | T11: 95
A12: 43252 | B12: 0.63038194 | C12: 13984012 | D12: 97 | E12: Pos8 | F12: Culasse D LD15 GDI | G12: PAR | H12: - | I12: 22 | J12: vendredi | K12: après-midi | L12: Dr | N12: - | O12: 97 | P12: 97 | Q12: 0 | S12: 97 | T12: 97
A13: 43252 | B13: 0.66841435 | C13: 13984016 | D13: 97 | E13: Pos8 | F13: Culasse D LD15 GDI | G13: PAR | H13: - | I13: 22 | J13: vendredi | K13: après-midi | L13: Dr | N13: - | O13: 97 | P13: 97 | Q13: 0 | S13: 97 | T13: 97
A14: 43252 | B14: 0.15202546 | C14: 14384119 | D14: 95 | E14: Pos1 | F14: Culasse G LD12 | G14: Ok | H14: - Réintro | I14: 22 | J14: vendredi | K14: Nuit | L14: G | N14: Reintro | O14: 95 | P14: 95 | Q14: 0 | S14: 95 | T14: 95
A15: 43252 | B15: 0.14423611 | C15: 14484123 | D15: 95 | E15: Pos1 | F15: Culasse G LD12 | G15: Ok | H15: - Réintro | I15: 22 | J15: vendredi | K15: Nuit | L15: G | N15: Reintro | O15: 95 | P15: 95 | Q15: 0 | S15: 95 | T15: 95
A16: 43252 | B16: 0.50934028 | C16: 14484171 | D16: 95 | E16: Pos1 | F16: Culasse G LD12 | G16: Ok | H16: - Réintro | I16: 22 | J16: vendredi | K16: Matin | L16: G | N16: Reintro | O16: 95 | P16: 95 | Q16: 0 | S16: 95 | T16: 95
A17: 43252 | B17: 0.73878472 | C17: 14484193 | D17: 97 | E17: Pos7 | F17: Culasse G LD12 | G17: Ok | H17: - | I17: 22 | J17: vendredi | K17: après-midi | L17: G | N17: - | O17: 97 | P17: 97 | Q17: 0 | S17: 97 | T17: 97
A18: 43252 | B18: 0.69724537 | C18: 14484205 | D18: 97 | E18: Pos7 | F18: Culasse G LD12 | G18: Ok | H18: - | I18: 22 | J18: vendredi | K18: après-midi | L18: G | N18: - | O18: 97 | P18: 97 | Q18: 0 | S18: 97 | T18: 97
... A34: 43252 | B34: 0.076481481 | C34: 14684017 | D34: 95 | E34: Pos1 | F34: Culasse G LD12 | G34: Ok | H34: - Réintro | I34: 22 | J34: vendredi | K34: Nuit | L34: G | N34: Reintro | O34: 95 | P34: 95 | Q34: 0 | S34: 95 | T34: 95
A35: 43252 | B35: 0.49697917 | C35: 14984097 | D35: 30 | E35: Pos6 | F35: Culasse D LD15 GDI | G35: Ok | H35: - Réintro | I35: 22 | J35: vendredi | K35: Matin | L35: Dr | N35: Reintro | O35: 30 | P35: 30 | Q35: 0 | S35: 30
A36: 43252 | B36: 0.58738426 | C36: 14984097 | D36: 40 | E36: Pos20 | F36: Culasse D LD15 GDI | G36: Ok | H36: Prél._ | I36: 22 | J36: vendredi | K36: après-midi | L36: Dr | M36: 0.090405093 | N36: Prel | O36: 40 | P36: 0.090405093 | Q36: 0.090405093 | R36: 40
A37: 43252 | B37: 0.59996528 | C37: 14984097 | D37: 50 | E37: Pos1 | F37: Culasse D LD15 GDI | G37: Ok | H37: Prél._ | I37: 22 | J37: vendredi | K37: après-midi | L37: Dr | M37: 0.012581019 | N37: Prel | O37: 50 | P37: 0.032945602 | Q37: 0.12335069 | R37: 50
A38: 43252 | B38: 0.65327546 | C38: 14984097 | D38: 50 | E38: Pos1 | F38: Culasse D LD15 GDI | G38: Ok | H38: - | I38: 22 | J38: vendredi | K38: après-midi | L38: Dr | M38: 0.053310185 | N38: - | O38: 50 | P38: 0.032945602 | Q38: 0.1562963 | R38: 50
A39: 43252 | B39: 0.66795139 | C39: 14984097 | D39: 60 | E39: Pos1 | F39: Culasse D LD15 GDI | G39: Ok | H39: - | I39: 22 | J39: vendredi | K39: après-midi | L39: Dr | M39: 0.014675926 | N39: - | O39: 60 | P39: 0.014675926 | Q39: 0.17097222 | R39: 60
A40: 43252 | B40: 0.67168981 | C40: 14984097 | D40: 70 | E40: Pos1 | F40: Culasse D LD15 GDI | G40: Ok | H40: - | I40: 22 | J40: vendredi | K40: après-midi | L40: Dr | M40: 0.0037384259 | N40: - | O40: 70 | P40: 0.0037384259 | Q40: 0.17471065 | R40: 70
A41: 43252 | B41: 0.72005787 | C41: 14984097 | D41: 80 | E41: Pos4 | F41: Culasse D LD15 GDI | G41: Ok | H41: - | I41: 22 | J41: vendredi | K41: après-midi | L41: Dr | M41: 0.048368056 | N41: - | O41: 80 | P41: 0.048368056 | Q41: 0.2230787 | R41: 80
A42: 43252 | B42: 0.76054398 | C42: 14984097 | D42: 90 | E42: Pos4 | F42: Culasse D LD15 GDI | G42: Ok | H42: - | I42: 22 | J42: vendredi | K42: après-midi | L42: Dr | M42: 0.040486111 | N42: - | O42: 90 | P42: 0.040486111 | Q42: 0.26356481 | R42: 90 | T42: 90
A43: 43252 | B43: 0.49659722 | C43: 14984098 | D43: 30 | E43: Pos5 | F43: Culasse G LD12 | G43: Ok | H43: - Réintro | I43: 22 | J43: vendredi | K43: Matin | L43: G | N43: Reintro | O43: 30 | P43: 30 | Q43: 0 | S43: 30
A44: 43252 | B44: 0.58803241 | C44: 14984098 | D44: 40 | E44: Pos19 | F44: Culasse G LD12 | G44: Ok | H44: Prél._ | I44: 22 | J44: vendredi | K44: après-midi | L44: G | M44: 0.091435185 | N44: Prel | O44: 40 | P44: 0.091435185 | Q44: 0.091435185 | R44: 40
A45: 43252 | B45: 0.61107639 | C45: 14984098 | D45: 50 | E45: Pos2 | F45: Culasse G LD12 | G45: Ok | H45: Prél._ | I45: 22 | J45: vendredi | K45: après-midi | L45: G | M45: 0.023043981 | N45: Prel | O45: 50 | P45: 0.013101852 | Q45: 0.10453704 | R45: 50
A46: 43252 | B46: 0.61423611 | C46: 14984098 | D46: 50 | E46: Pos2 | F46: Culasse G LD12 | G46: Ok | H46: - | I46: 22 | J46: vendredi | K46: après-midi | L46: G | M46: 0.0031597222 | N46: - | O46: 50 | P46: 0.013101852 | Q46: 0.11763889 | R46: 50
A47: 43252 | B47: 0.62152778 | C47: 14984098 | D47: 60 | E47: Pos1 | F47: Culasse G LD12 | G47: Ok | H47: - | I47: 22 | J47: vendredi | K47: après-midi | L47: G | M47: 0.0072916667 | N47: - | O47: 60 | P47: 0.0072916667 | Q47: 0.12493056 | R47: 60
A48: 43252 | B48: 0.62612269 | C48: 14984098 | D48: 70 | E48: Pos1 | F48: Culasse G LD12 | G48: Ok | H48: - | I48: 22 | J48: vendredi | K48: après-midi | L48: G | M48: 0.0045949074 | N48: - | O48: 70 | P48: 0.0045949074 | Q48: 0.12952546 | R48: 70 | T48: 70
A49: 43252 | B49: 0.4918287 | C49: 14984103 | D49: 30 | E49: Pos6 | F49: Culasse D LD15 GDI | G49: Ok | H49: - Réintro | I49: 22 | J49: vendredi | K49: Matin | L49: Dr | N49: Reintro | O49: 30 | P49: 30 | Q49: 0 | S49: 30
A50: 43252 | B50: 0.52331019 | C50: 14984103 | D50: 40 | E50: Pos18 | F50: Culasse D LD15 GDI | G50: Ok | H50: Prél._ | I50: 22 | J50: vendredi | K50: Matin | L50: Dr | M50: 0.031481481 | N50: Prel | O50: 40 | P50: 0.031481481 | Q50: 0.031481481 | R50: 40
A51: 43252 | B51: 0.52863426 | C51: 14984103 | D51: 50 | E51: Pos1 | F51: Culasse D LD15 GDI | G51: Ok | H51: Prél._ | I51: 22 | J51: vendredi | K51: Matin | L51: Dr | M51: 0.0053240741 | N51: Prel | O51: 50 | P51: 0.01525463 | Q51: 0.046736111 | R51: 50
A52: 43252 | B52: 0.55381944 | C52: 14984103 | D52: 50 | E52: Pos1 | F52: Culasse D LD15 GDI | G52: Ok | H52: - | I52: 22 | J52: vendredi | K52: après-midi | L52: Dr | M52: 0.025185185 | N52: - | O52: 50 | P52: 0.01525463 | Q52: 0.061990741 | R52: 50
A53: 43252 | B53: 0.55835648 | C53: 14984103 | D53: 60 | E53: Pos1 | F53: Culasse D LD15 GDI | G53: Ok | H53: - | I53: 22 | J53: vendredi | K53: après-midi | L53: Dr | M53: 0.004537037 | N53: - | O53: 60 | P53: 0.004537037 | Q53: 0.066527778 | R53: 60
A54: 43252 | B54: 0.56349537 | C54: 14984103 | D54: 70 | E54: Pos1 | F54: Culasse D LD15 GDI | G54: Ok | H54: - | I54: 22 | J54: vendredi | K54: après-midi | L54: Dr | M54: 0.0051388889 | N54: - | O54: 70 | P54: 0.0051388889 | Q54: 0.071666667 | R54: 70
A55: 43252 | B55: 0.59288194 | C55: 14984103 | D55: 80 | E55: Pos4 | F55: Culasse D LD15 GDI | G55: Ok | H55: - | I55: 22 | J55: vendredi | K55: après-midi | L55: Dr | M55: 0.029386574 | N55: - | O55: 80 | P55: 0.029386574 | Q55: 0.10105324 | R55: 80
A56: 43252 | B56: 0.64021991 | C56: 14984103 | D56: 90 | E56: Pos4 | F56: Culasse D LD15 GDI | G56: Ok | H56: - | I56: 22 | J56: vendredi | K56: après-midi | L56: Dr | M56: 0.047337963 | N56: - | O56: 90 | P56: 0.047337963 | Q56: 0.1483912 | R56: 90 | T56: 90
A57: 43252 | B57: 0.49135417 | C57: 14984104 | D57: 30 | E57: Pos5 | F57: Culasse G LD12 | G57: Ok | H57: - Réintro | I57: 22 | J57: vendredi | K57: Matin | L57: G | N57: Reintro | O57: 30 | P57: 30 | Q57: 0 | S57: 30
A58: 43252 | B58: 0.52402778 | C58: 14984104 | D58: 40 | E58: Pos17 | F58: Culasse G LD12 | G58: Ok | H58: Prél._ | I58: 22 | J58: vendredi | K58: Matin | L58: G | M58: 0.032673611 | N58: Prel | O58: 40 | P58: 0.032673611 | Q58: 0.032673611 | R58: 40
A59: 43252 | B59: 0.53347222 | C59: 14984104 | D59: 50 | E59: Pos2 | F59: Culasse G LD12 | G59: Ok | H59: Prél._ | I59: 22 | J59: vendredi | K59: Matin | L59: G | M59: 0.0094444444 | N59: Prel | O59: 50 | P59: 0.015376157 | Q59: 0.048049769 | R59: 50
A60: 43252 | B60: 0.55478009 | C60: 14984104 | D60: 50 | E60: Pos2 | F60: Culasse G LD12 | G60: Ok | H60: - | I60: 22 | J60: vendredi | K60: après-midi | L60: G | M60: 0.02130787 | N60: - | O60: 50 | P60: 0.015376157 | Q60: 0.063425926 | R60: 50
A61: 43252 | B61: 0.56392361 | C61: 14984104 | D61: 60 | E61: Pos1 | F61: Culasse G LD12 | G61: Ok | H61: - | I61: 22 | J61: vendredi | K61: après-midi | L61: G | M61: 0.0091435185 | N61: - | O61: 60 | P61: 0.0091435185 | Q61: 0.072569444 | R61: 60
A62: 43252 | B62: 0.56709491 | C62: 14984104 | D62: 70 | E62: Pos1 | F62: Culasse G LD12 | G62: Ok | H62: - | I62: 22 | J62: vendredi | K62: après-midi | L62: G | M62: 0.0031712963 | N62: - | O62: 70 | P62: 0.0031712963 | Q62: 0.075740741 | R62: 70
A63: 43252 | B63: 0.68355324 | C63: 14984104 | D63: 80 | E63: Pos1 | F63: Culasse G LD12 | G63: Ok | H63: Prél._ | I63: 22 | J63: vendredi | K63: après-midi | L63: G | M63: 0.11645833 | N63: Prel | O63: 80 | P63: 0.11645833 | Q63: 0.19219907 | R63: 80
A64: 43252 | B64: 0.72403935 | C64: 14984104 | D64: 90 | E64: Pos1 | F64: Culasse G LD12 | G64: Ok | H64: Prél._ | I64: 22 | J64: vendredi | K64: après-midi | L64: G | M64: 0.040486111 | N64: Prel | O64: 90 | P64: 0.040486111 | Q64: 0.23268519 | R64: 90 | T64: 90
A65: 43252 | B65: 0.49341435 | C65: 14984111 | D65: 30 | E65: Pos6 | F65: Culasse D LD15 GDI | G65: Ok | H65: - Réintro | I65: 22 | J65: vendredi | K65: Matin | L65: Dr | N65: Reintro | O65: 30 | P65: 30 | Q65: 0 | S65: 30
A66: 43252 | B66: 0.52584491 | C66: 14984111 | D66: 40 | E66: Pos4 | F66: Culasse D LD15 GDI | G66: Ok | H66: Prél._ | I66: 22 | J66: vendredi | K66: Matin | L66: Dr | M66: 0.032430556 | N66: Prel | O66: 40 | P66: 0.032430556 | Q66: 0.032430556 | R66: 40
A67: 43252 | B67: 0.53572917 | C67: 14984111 | D67: 50 | E67: Pos1 | F67: Culasse D LD15 GDI | G67: Ok | H67: Prél._ | I67: 22 | J67: vendredi | K67: Matin | L67: Dr | M67: 0.0098842593 | N67: Prel | O67: 50 | P67: 0.018518519 | Q67: 0.050949074 | R67: 50
A68: 43252 | B68: 0.56288194 | C68: 14984111 | D68: 50 | E68: Pos1 | F68: Culasse D LD15 GDI | G68: Ok | H68: - | I68: 22 | J68: vendredi | K68: après-midi | L68: Dr | M68: 0.027152778 | N68: - | O68: 50 | P68: 0.018518519 | Q68: 0.069467593 | R68: 50
A69: 43252 | B69: 0.57828704 | C69: 14984111 | D69: 60 | E69: Pos1 | F69: Culasse D LD15 GDI | G69: Ok | H69: - | I69: 22 | J69: vendredi | K69: après-midi | L69: Dr | M69: 0.015405093 | N69: - | O69: 60 | P69: 0.015405093 | Q69: 0.084872685 | R69: 60
A70: 43252 | B70: 0.58136574 | C70: 14984111 | D70: 70 | E70: Pos1 | F70: Culasse D LD15 GDI | G70: Ok | H70: - | I70: 22 | J70: vendredi | K70: après-midi | L70: Dr | M70: 0.0030787037 | N70: - | O70: 70 | P70: 0.0030787037 | Q70: 0.087951389 | R70: 70
A71: 43252 | B71: 0.61603009 | C71: 14984111 | D71: 80 | E71: Pos6 | F71: Culasse D LD15 GDI | G71: Ok | H71: - | I71: 22 | J71: vendredi | K71: après-midi | L71: Dr | M71: 0.034664352 | N71: - | O71: 80 | P71: 0.034664352 | Q71: 0.12261574 | R71: 80
A72: 43252 | B72: 0.66153935 | C72: 14984111 | D72: 90 | E72: Pos6 | F72: Culasse D LD15 GDI | G72: Ok | H72: - | I72: 22 | J72: vendredi | K72: après-midi | L72: Dr | M72: 0.045509259 | N72: - | O72: 90 | P72: 0.045509259 | Q72: 0.168125 | R72: 90 | T72: 90
A73: 43252 | B73: 0.51983796 | C73: 14984112 | D73: 30 | E73: Pos1 | F73: Culasse G LD12 | G73: Ok | H73: - Réintro | I73: 22 | J73: vendredi | K73: Matin | L73: G | N73: Reintro | O73: 30 | P73: 30 | Q73: 0 | S73: 30
A74: 43252 | B74: 0.93420139 | C74: 14984112 | D74: 40 | E74: Pos1 | F74: Culasse G LD12 | G74: Ok | H74: Prél._ | I74: 22 | J74: vendredi | K74: Nuit | L74: G | M74: 0.41436343 | N74: Prel | O74: 40 | P74: 0.41436343 | Q74: 0.41436343 | R74: 40
A75: 43252 | B75: 0.93884259 | C75: 14984112 | D75: 50 | E75: Pos2 | F75: Culasse G LD12 | G75: Ok | H75: Prél._ | I75: 22 | J75: vendredi | K75: Nuit | L75: G | M75: 0.0046412037 | N75: Prel | O75: 50 | P75: 0.010457176 | Q75: 0.4248206 | R75: 50
A76: 43252 | B76: 0.95511574 | C76: 14984112 | D76: 50 | E76: Pos2 | F76: Culasse G LD12 | G76: Ok | H76: - | I76: 22 | J76: vendredi | K76: Nuit | L76: G | M76: 0.016273148 | N76: - | O76: 50 | P76: 0.010457176 | Q76: 0.43527778 | R76: 50
A77: 43252 | B77: 0.95952546 | C77: 14984112 | D77: 60 | E77: Pos1 | F77: Culasse G LD12 | G77: Ok | H77: - | I77: 22 | J77: vendredi | K77: Nuit | L77: G | M77: 0.0044097222 | N77: - | O77: 60 | P77: 0.0044097222 | Q77: 0.4396875 | R77: 60
A78: 43252 | B78: 0.96296296 | C78: 14984112 | D78: 70 | E78: Pos1 | F78: Culasse G LD12 | G78: Ok | H78: Prél._ | I78: 22 | J78: vendredi | K78: Nuit | L78: G | M78: 0.0034375 | N78: Prel | O78: 70 | P78: 0.0034375 | Q78: 0.443125 | R78: 70 | T78: 70
A79: 43252 | B79: 0.27565972 | C79: 14984125 | D79: 95 | E79: Pos1 | F79: Culasse G LD12 | G79: Ok | H79: - Réintro | I79: 22 | J79: vendredi | K79: Matin | L79: G | N79: Reintro | O79: 95 | P79: 95 | Q79: 0 | S79: 95 | T79: 95
A80: 43252 | B80: 0.033298611 | C80: 14984147 | D80: 95 | E80: Pos1 | F80: Culasse G LD12 | G80: Ok | H80: - Réintro | I80: 22 | J80: vendredi | K80: Nuit | L80: G | N80: Reintro | O80: 95 | P80: 95 | Q80: 0 | S80: 95 | T80: 95
A81: 43252 | B81: 0.49415509 | C81: 14984160 | D81: 30 | E81: Pos6 | F81: Culasse D LD15 GDI | G81: Ok | H81: - Réintro | I81: 22 | J81: vendredi | K81: Matin | L81: Dr | N81: Reintro | O81: 30 | P81: 30 | Q81: 0 | S81: 30
A82: 43252 | B82: 0.9402662 | C82: 14984160 | D82: 40 | E82: Pos24 | F82: Culasse D LD15 GDI | G82: Ok | H82: Prél._ | I82: 22 | J82: vendredi | K82: Nuit | L82: Dr | M82: 0.44611111 | N82: Prel | O82: 40 | P82: 0.44611111 | Q82: 0.44611111 | R82: 40
A83: 43252 | B83: 0.95474537 | C83: 14984160 | D83: 50 | E83: Pos2 | F83: Culasse D LD15 GDI | G83: Ok | H83: Prél._ | I83: 22 | J83: vendredi | K83: Nuit | L83: Dr | M83: 0.014479167 | N83: Prel | O83: 50 | P83: 0.014479167 | Q83: 0.46059028 | R83: 50 | T83: 50
A84: 43252 | B84: 0.49381944 | C84: 14984161 | D84: 30 | E84: Pos5 | F84: Culasse G LD12 | G84: Ok | H84: - Réintro | I84: 22 | J84: vendredi | K84: Matin | L84: G | N84: Reintro | O84: 30 | P84: 30 | Q84: 0 | S84: 30
A85: 43252 | B85: 0.9408912 | C85: 14984161 | D85: 40 | E85: Pos23 | F85: Culasse G LD12 | G85: Ok | H85: Prél._ | I85: 22 | J85: vendredi | K85: Nuit | L85: G | M85: 0.44707176 | N85: Prel | O85: 40 | P85: 0.44707176 | Q85: 0.44707176 | R85: 40
A86: 43252 | B86: 0.95265046 | C86: 14984161 | D86: 50 | E86: Pos1 | F86: Culasse G LD12 | G86: Ok | H86: Prél._ | I86: 22 | J86: vendredi | K86: Nuit | L86: G | M86: 0.011759259 | N86: Prel | O86: 50 | P86: 0.011759259 | Q86: 0.45883102 | R86: 50 | T86: 50
A87: 43252 | B87: 0.52380787 | C87: 14984168 | D87: 30 | E87: Pos6 | F87: Culasse D LD15 GDI | G87: Ok | H87: - Réintro | I87: 22 | J87: vendredi | K87: Matin | L87: Dr | N87: Reintro | O87: 30 | P87: 30 | Q87: 0 | S87: 30
A88: 43252 | B88: 0.93240741 | C88: 14984168 | D88: 40 | E88: Pos2 | F88: Culasse D LD15 GDI | G88: Ok | H88: Prél._ | I88: 22 | J88: vendredi | K88: Nuit | L88: Dr | M88: 0.40859954 | N88: Prel | O88: 40 | P88: 0.40859954 | Q88: 0.40859954 | R88: 40
A89: 43252 | B89: 0.93675926 | C89: 14984168 | D89: 50 | E89: Pos1 | F89: Culasse D LD15 GDI | G89: Ok | H89: Prél._ | I89: 22 | J89: vendredi | K89: Nuit | L89: Dr | M89: 0.0043518519 | N89: Prel | O89: 50 | P89: 0.0043518519 | Q89: 0.41295139 | R89: 50 | T89: 50
A90: 43252 | B90: 0.49284722 | C90: 14984169 | D90: 30 | E90: Pos5 | F90: Culasse G LD12 | G90: Ok | H90: - Réintro | I90: 22 | J90: vendredi | K90: Matin | L90: G | N90: Reintro | O90: 30 | P90: 30 | Q90: 0 | S90: 30
A91: 43252 | B91: 0.52649306 | C91: 14984169 | D91: 40 | E91: Pos3 | F91: Culasse G LD12 | G91: Ok | H91: Prél._ | I91: 22 | J91: vendredi | K91: Matin | L91: G | M91: 0.033645833 | N91: Prel | O91: 40 | P91: 0.033645833 | Q91: 0.033645833 | R91: 40
A92: 43252 | B92: 0.5865625 | C92: 14984169 | D92: 50 | E92: Pos2 | F92: Culasse G LD12 | G92: Ok | H92: Prél._ | I92: 22 | J92: vendredi | K92: après-midi | L92: G | M92: 0.060069444 | N92: Prel | O92: 50 | P92: 0.032048611 | Q92: 0.065694444 | R92: 50
A93: 43252 | B93: 0.59059028 | C93: 14984169 | D93: 50 | E93: Pos2 | F93: Culasse G LD12 | G93: Ok | H93: - | I93: 22 | J93: vendredi | K93: après-midi | L93: G | M93: 0.0040277778 | N93: - | O93: 50 | P93: 0.032048611 | Q93: 0.097743056 | R93: 50
A94: 43252 | B94: 0.60533565 | C94: 14984169 | D94: 60 | E94: Pos1 | F94: Culasse G LD12 | G94: Ok | H94: - | I94: 22 | J94: vendredi | K94: après-midi | L94: G | M94: 0.01474537 | N94: - | O94: 60 | P94: 0.01474537 | Q94: 0.11248843 | R94: 60
A95: 43252 | B95: 0.61037037 | C95: 14984169 | D95: 70 | E95: Pos1 | F95: Culasse G LD12 | G95: Ok | H95: - | I95: 22 | J95: vendredi | K95: après-midi | L95: G | M95: 0.0050347222 | N95: - | O95: 70 | P95: 0.0050347222 | Q95: 0.11752315 | R95: 70
A96: 43252 | B96: 0.64351852 | C96: 14984169 | D96: 80 | E96: Pos5 | F96: Culasse G LD12 | G96: Ok | H96: - | I96: 22 | J96: vendredi | K96: après-midi | L96: G | M96: 0.033148148 | N96: - | O96: 80 | P96: 0.033148148 | Q96: 0.1506713 | R96: 80
A97: 43252 | B97: 0.70013889 | C97: 14984169 | D97: 90 | E97: Pos5 | F97: Culasse G LD12 | G97: Ok | H97: Prél._ | I97: 22 | J97: vendredi | K97: après-midi | L97: G | M97: 0.05662037 | N97: Prel | O97: 90 | P97: 0.05662037 | Q97: 0.20729167 | R97: 90 | T97: 90
A98: 43252 | B98: 0.67771991 | C98: 14984177 | D98: 97 | E98: Pos7 | F98: Culasse G LD12 | G98: Ok | H98: - Réintro | I98: 22 | J98: vendredi | K98: après-midi | L98: G | N98: Reintro | O98: 97 | P98: 97 | Q98: 0 | S98: 97 | T98: 97
A99: 43252 | B99: 0.51402778 | C99: 15084038 | D99: 95 | E99: Pos1 | F99: Culasse D LD15 GDI | G99: Ok | H99: - Réintro | I99: 22 | J99: vendredi | K99: Matin | L99: Dr | N99: Reintro | O99: 95 | P99: 95 | Q99: 0 | S99: 95 | T99: 95
A100: 43252 | B100: 0.22630787 | C100: 15084043 | D100: 30 | E100: Pos10 | F100: Culasse D LD15 GDI | G100: Ok | H100: - Réintro | I100: 22 | J100: vendredi | K100: Matin | L100: Dr | N100: Reintro | O100: 30 | P100: 30 | Q100: 0 | S100: 30
A101: 43252 | B101: 0.28738426 | C101: 15084043 | D101: 40 | E101: Pos2 | F101: Culasse D LD15 GDI | G101: Ok | H101: Prél._ | I101: 22 | J101: vendredi | K101: Matin | L101: Dr | M101: 0.061076389 | N101: Prel | O101: 40 | P101: 0.061076389 | Q101: 0.061076389 | R101: 40
A102: 43252 | B102: 0.29204861 | C102: 15084043 | D102: 50 | E102: Pos1 | F102: Culasse D LD15 GDI | G102: Ok | H102: Prél._ | I102: 22 | J102: vendredi | K102: Matin | L102: Dr | M102: 0.0046643519 | N102: Prel | O102: 50 | P102: 0.20603588 | Q102: 0.26711227 | R102: 50
A103: 43252 | B103: 0.69945602 | C103: 15084043 | D103: 50 | E103: Pos1 | F103: Culasse D LD15 GDI | G103: Ok | H103: - | I103: 22 | J103: vendredi | K103: après-midi | L103: Dr | M103: 0.40740741 | N103: - | O103: 50 | P103: 0.20603588 | Q103: 0.47314815 | R103: 50
A104: 43252 | B104: 0.71460648 | C104: 15084043 | D104: 60 | E104: Pos1 | F104: Culasse D LD15 GDI | G104: Ok | H104: - | I104: 22 | J104: vendredi | K104: après-midi | L104: Dr | M104: 0.015150463 | N104: - | O104: 60 | P104: 0.015150463 | Q104: 0.48829861 | R104: 60
A105: 43252 | B105: 0.72119213 | C105: 15084043 | D105: 70 | E105: Pos1 | F105: Culasse D LD15 GDI | G105: Ok | H105: - | I105: 22 | J105: vendredi | K105: après-midi | L105: Dr | M105: 0.0065856481 | N105: - | O105: 70 | P105: 0.0065856481 | Q105: 0.49488426 | R105: 70 | T105: 70
A106: 43252 | B106: 0.4990625 | C106: 15084050 | D106: 95 | E106: Pos1 | F106: Culasse D LD15 GDI | G106: Ok | H106: - Réintro | I106: 22 | J106: vendredi | K106: Matin | L106: Dr | N106: Reintro | O106: 95 | P106: 95 | Q106: 0 | S106: 95 | T106: 95
A107: 43252 | B107: 0.042048611 | C107: 15084053 | D107: 80 | E107: Pos3 | F107: Culasse G LD12 | G107: Ok | H107: - | I107: 22 | J107: vendredi | K107: Nuit | L107: G | N107: - | O107: 80 | P107: 80 | Q107: 0 | S107: 80
A108: 43252 | B108: 0.083229167 | C108: 15084053 | D108: 90 | E108: Pos3 | F108: Culasse G LD12 | G108: Ok | H108: - | I108: 22 | J108: vendredi | K108: Nuit | L108: G | M108: 0.041180556 | N108: - | O108: 90 | P108: 0.041180556 | Q108: 0.041180556 | R108: 90 | T108: 90
A109: 43252 | B109: 0.3731713 | C109: 15084055 | D109: 95 | E109: Pos1 | F109: Culasse G LD12 | G109: Ok | H109: - Réintro | I109: 22 | J109: vendredi | K109: Matin | L109: G | N109: Reintro | O109: 95 | P109: 95 | Q109: 0 | S109: 95 | T109: 95
A110: 43252 | B110: 0.34009259 | C110: 15084072 | D110: 95 | E110: Pos1 | F110: Culasse D LD15 GDI | G110: Ok | H110: - Réintro | I110: 22 | J110: vendredi | K110: Matin | L110: Dr | N110: Reintro | O110: 95 | P110: 95 | Q110: 0 | S110: 95 | T110: 95
A111: 43252 | B111: 0.38994213 | C111: 15084073 | D111: 95 | E111: Pos1 | F111: Culasse G LD12 | G111: Ok | H111: - Réintro | I111: 22 | J111: vendredi | K111: Matin | L111: G | N111: Reintro | O111: 95 | P111: 95 | Q111: 0 | S111: 95 | T111: 95
A112: 43252 | B112: 0.71912037 | C112: 15084077 | D112: 97 | E112: Pos7 | F112: Culasse G LD12 | G112: Ok | H112: - | I112: 22 | J112: vendredi | K112: après-midi | L112: G | N112: - | O112: 97 | P112: 97 | Q112: 0 | S112: 97 | T112: 97
A113: 43252 | B113: 0.60168981 | C113: 15084085 | D113: 50 | E113: Pos1 | F113: Culasse G LD12 | G113: Ok | H113: - Réintro | I113: 22 | J113: vendredi | K113: après-midi | L113: G | N113: Reintro | O113: 50 | P113: 50 | Q113: 0 | S113: 50
A114: 43252 | B114: 0.60195602 | C114: 15084085 | D114: 50 | E114: Pos1 | F114: Culasse G LD12 | G114: Ok | H114: - Réintro | I114: 22 | J114: vendredi | K114: après-midi | L114: G | M114: 0.0002662037 | N114: Reintro | O114: 50 | P114: 0.0002662037 | Q114: 0.0002662037 | R114: 50
A115: 43252 | B115: 0.61359954 | C115: 15084085 | D115: 60 | E115: Pos1 | F115: Culasse G LD12 | G115: Ok | H115: - | I115: 22 | J115: vendredi | K115: après-midi | L115: G | M115: 0.011643519 | N115: - | O115: 60 | P115: 0.011643519 | Q115: 0.011909722 | R115: 60
...

Sheet Bilan
B1: OP
A2: N° DE PIECE | B2: 30 | C2: 40 | D2: 50 | E2: 60 | F2: 70 | G2: 80 | H2: 90 | I2: 100 | J2: 110 | K2: 120 | L2: 130 | M2: 140 | N2: 150 | O2: 200 | P2: 210 | Q2: 220 | R2: 230 | S2: 240 | T2: TEMPS DE TRAVERSé
A3: 6084146 | B3: =SUMIFS(TRI!$M:$M,TRI!$C:$C,$A3,TRI!$D:$D,">=" & B$2,TRI!$D:$D,"<" & C$2) -> 0 | C3: =SUMIFS(TRI!$M:$M,TRI!$C:$C,$A3,TRI!$D:$D,">=" & C$2,TRI!$D:$D,"<" & D$2) -> 0 | D3: =SUMIFS(TRI!$M:$M,TRI!$C:$C,$A3,TRI!$D:$D,">=" & D$2,TRI!$D:$D,"<" & E$2) -> 0 | E3: =SUMIFS(TRI!$M:$M,TRI!$C:$C,$A3,TRI!$D:$D,">=" & E$2,TRI!$D:$D,"<" & F$2) -> 0 | F3: =SUMIFS(TRI!$M:$M,TRI!$C:$C,$A3,TRI!$D:$D,">=" & F$2,TRI!$D:$D,"<" & G$2) -> 0.018275463 | G3: =SUMIFS(TRI!$M:$M,TRI!$C:$C,$A3,TRI!$D:$D,">=" & G$2,TRI!$D:$D,"<" & H$2) -> 0.057893519 | H3: =SUMIFS(TRI!$M:$M,TRI!$C:$C,$A3,TRI!$D:$D,">=" & H$2,TRI!$D:$D,"<" & I$2) -> 0.29945602 | I3: =SUMIFS(TRI!$M:$M,TRI!$C:$C,$A3,TRI!$D:$D,">=" & I$2,TRI!$D:$D,"<" & J$2) -> 0 | ... S3: =SUMIFS(TRI!$M:$M,TRI!$C:$C,$A3,TRI!$D:$D,">=" & S$2,TRI!$D:$D,"<" & T$2) -> 0 | T3: =SUM(B3:S3) -> 0.375625
A4: 6084190 | B4: =SUMIFS(TRI!$M:$M,TRI!$C:$C,$A4,TRI!$D:$D,">=" & B$2,TRI!$D:$D,"<" & C$2) -> 0 | C4: =SUMIFS(TRI!$M:$M,TRI!$C:$C,$A4,TRI!$D:$D,">=" & C$2,TRI!$D:$D,"<" & D$2) -> 0 | D4: =SUMIFS(TRI!$M:$M,TRI!$C:$C,$A4,TRI!$D:$D,">=" & D$2,TRI!$D:$D,"<" & E$2) -> 0 | E4: =SUMIFS(TRI!$M:$M,TRI!$C:$C,$A4,TRI!$D:$D,">=" & E$2,TRI!$D:$D,"<" & F$2) -> 0 | F4: =SUMIFS(TRI!$M:$M,TRI!$C:$C,$A4,TRI!$D:$D,">=" & F$2,TRI!$D:$D,"<" & G$2) -> 0 | G4: =SUMIFS(TRI!$M:$M,TRI!$C:$C,$A4,TRI!$D:$D,">=" & G$2,TRI!$D:$D,"<" & H$2) -> 0 | H4: =SUMIFS(TRI!$M:$M,TRI!$C:$C,$A4,TRI!$D:$D,">=" & H$2,TRI!$D:$D,"<" & I$2) -> 0 | I4: =SUMIFS(TRI!$M:$M,TRI!$C:$C,$A4,TRI!$D:$D,">=" & I$2,TRI!$D:$D,"<" & J$2) -> 0 | ... S4: =SUMIFS(TRI!$M:$M,TRI!$C:$C,$A4,TRI!$D:$D,">=" & S$2,TRI!$D:$D,"<" & T$2) -> 0 | T4: =SUM(B4:S4) -> 0
A5: 8684073 | B5: =SUMIFS(TRI!$M:$M,TRI!$C:$C,$A5,TRI!$D:$D,">=" & B$2,TRI!$D:$D,"<" & C$2) -> 0 | C5: =SUMIFS(TRI!$M:$M,TRI!$C:$C,$A5,TRI!$D:$D,">=" & C$2,TRI!$D:$D,"<" & D$2) -> 0 | D5: =SUMIFS(TRI!$M:$M,TRI!$C:$C,$A5,TRI!$D:$D,">=" & D$2,TRI!$D:$D,"<" & E$2) -> 0 | E5: =SUMIFS(TRI!$M:$M,TRI!$C:$C,$A5,TRI!$D:$D,">=" & E$2,TRI!$D:$D,"<" & F$2) -> 0 | F5: =SUMIFS(TRI!$M:$M,TRI!$C:$C,$A5,TRI!$D:$D,">=" & F$2,TRI!$D:$D,"<" & G$2) -> 0 | G5: =SUMIFS(TRI!$M:$M,TRI!$C:$C,$A5,TRI!$D:$D,">=" & G$2,TRI!$D:$D,"<" & H$2) -> 0 | H5: =SUMIFS(TRI!$M:$M,TRI!$C:$C,$A5,TRI!$D:$D,">=" & H$2,TRI!$D:$D,"<" & I$2) -> 0 | I5: =SUMIFS(TRI!$M:$M,TRI!$C:$C,$A5,TRI!$D:$D,">=" & I$2,TRI!$D:$D,"<" & J$2) -> 0 | ... S5: =SUMIFS(TRI!$M:$M,TRI!$C:$C,$A5,TRI!$D:$D,">=" & S$2,TRI!$D:$D,"<" & T$2) -> 0 | T5: =SUM(B5:S5) -> 0
A6: 11584024 | B6: =SUMIFS(TRI!$M:$M,TRI!$C:$C,$A6,TRI!$D:$D,">=" & B$2,TRI!$D:$D,"<" & C$2) -> 0 | C6: =SUMIFS(TRI!$M:$M,TRI!$C:$C,$A6,TRI!$D:$D,">=" & C$2,TRI!$D:$D,"<" & D$2) -> 0 | D6: =SUMIFS(TRI!$M:$M,TRI!$C:$C,$A6,TRI!$D:$D,">=" & D$2,TRI!$D:$D,"<" & E$2) -> 0 | E6: =SUMIFS(TRI!$M:$M,TRI!$C:$C,$A6,TRI!$D:$D,">=" & E$2,TRI!$D:$D,"<" & F$2) -> 0 | F6: =SUMIFS(TRI!$M:$M,TRI!$C:$C,$A6,TRI!$D:$D,">=" & F$2,TRI!$D:$D,"<" & G$2) -> 0 | G6: =SUMIFS(TRI!$M:$M,TRI!$C:$C,$A6,TRI!$D:$D,">=" & G$2,TRI!$D:$D,"<" & H$2) -> 0 | H6: =SUMIFS(TRI!$M:$M,TRI!$C:$C,$A6,TRI!$D:$D,">=" & H$2,TRI!$D:$D,"<" & I$2) -> 0 | I6: =SUMIFS(TRI!$M:$M,TRI!$C:$C,$A6,TRI!$D:$D,">=" & I$2,TRI!$D:$D,"<" & J$2) -> 0 | ... S6: =SUMIFS(TRI!$M:$M,TRI!$C:$C,$A6,TRI!$D:$D,">=" & S$2,TRI!$D:$D,"<" & T$2) -> 0 | T6: =SUM(B6:S6) -> 0
A7: 11584044 | B7: =SUMIFS(TRI!$M:$M,TRI!$C:$C,$A7,TRI!$D:$D,">=" & B$2,TRI!$D:$D,"<" & C$2) -> 0 | C7: =SUMIFS(TRI!$M:$M,TRI!$C:$C,$A7,TRI!$D:$D,">=" & C$2,TRI!$D:$D,"<" & D$2) -> 0 | D7: =SUMIFS(TRI!$M:$M,TRI!$C:$C,$A7,TRI!$D:$D,">=" & D$2,TRI!$D:$D,"<" & E$2) -> 0 | E7: =SUMIFS(TRI!$M:$M,TRI!$C:$C,$A7,TRI!$D:$D,">=" & E$2,TRI!$D:$D,"<" & F$2) -> 0 | F7: =SUMIFS(TRI!$M:$M,TRI!$C:$C,$A7,TRI!$D:$D,">=" & F$2,TRI!$D:$D,"<" & G$2) -> 0 | G7: =SUMIFS(TRI!$M:$M,TRI!$C:$C,$A7,TRI!$D:$D,">=" & G$2,TRI!$D:$D,"<" & H$2) -> 0 | H7: =SUMIFS(TRI!$M:$M,TRI!$C:$C,$A7,TRI!$D:$D,">=" & H$2,TRI!$D:$D,"<" & I$2) -> 0 | I7: =SUMIFS(TRI!$M:$M,TRI!$C:$C,$A7,TRI!$D:$D,">=" & I$2,TRI!$D:$D,"<" & J$2) -> 0 | ... S7: =SUMIFS(TRI!$M:$M,TRI!$C:$C,$A7,TRI!$D:$D,">=" & S$2,TRI!$D:$D,"<" & T$2) -> 0 | T7: =SUM(B7:S7) -> 0
A8: 13884062 | B8: =SUMIFS(TRI!$M:$M,TRI!$C:$C,$A8,TRI!$D:$D,">=" & B$2,TRI!$D:$D,"<" & C$2) -> 0 | C8: =SUMIFS(TRI!$M:$M,TRI!$C:$C,$A8,TRI!$D:$D,">=" & C$2,TRI!$D:$D,"<" & D$2) -> 0 | D8: =SUMIFS(TRI!$M:$M,TRI!$C:$C,$A8,TRI!$D:$D,">=" & D$2,TRI!$D:$D,"<" & E$2) -> 0 | E8: =SUMIFS(TRI!$M:$M,TRI!$C:$C,$A8,TRI!$D:$D,">=" & E$2,TRI!$D:$D,"<" & F$2) -> 0 | F8: =SUMIFS(TRI!$M:$M,TRI!$C:$C,$A8,TRI!$D:$D,">=" & F$2,TRI!$D:$D,"<" & G$2) -> 0 | G8: =SUMIFS(TRI!$M:$M,TRI!$C:$C,$A8,TRI!$D:$D,">=" & G$2,TRI!$D:$D,"<" & H$2) -> 0 | H8: =SUMIFS(TRI!$M:$M,TRI!$C:$C,$A8,TRI!$D:$D,">=" & H$2,TRI!$D:$D,"<" & I$2) -> 0 | I8: =SUMIFS(TRI!$M:$M,TRI!$C:$C,$A8,TRI!$D:$D,">=" & I$2,TRI!$D:$D,"<" & J$2) -> 0 | ... S8: =SUMIFS(TRI!$M:$M,TRI!$C:$C,$A8,TRI!$D:$D,">=" & S$2,TRI!$D:$D,"<" & T$2) -> 0 | T8: =SUM(B8:S8) -> 0
A9: 13984012 | B9: =SUMIFS(TRI!$M:$M,TRI!$C:$C,$A9,TRI!$D:$D,">=" & B$2,TRI!$D:$D,"<" & C$2) -> 0 | C9: =SUMIFS(TRI!$M:$M,TRI!$C:$C,$A9,TRI!$D:$D,">=" & C$2,TRI!$D:$D,"<" & D$2) -> 0 | D9: =SUMIFS(TRI!$M:$M,TRI!$C:$C,$A9,TRI!$D:$D,">=" & D$2,TRI!$D:$D,"<" & E$2) -> 0 | E9: =SUMIFS(TRI!$M:$M,TRI!$C:$C,$A9,TRI!$D:$D,">=" & E$2,TRI!$D:$D,"<" & F$2) -> 0 | F9: =SUMIFS(TRI!$M:$M,TRI!$C:$C,$A9,TRI!$D:$D,">=" & F$2,TRI!$D:$D,"<" & G$2) -> 0 | G9: =SUMIFS(TRI!$M:$M,TRI!$C:$C,$A9,TRI!$D:$D,">=" & G$2,TRI!$D:$D,"<" & H$2) -> 0 | H9: =SUMIFS(TRI!$M:$M,TRI!$C:$C,$A9,TRI!$D:$D,">=" & H$2,TRI!$D:$D,"<" & I$2) -> 0 | I9: =SUMIFS(TRI!$M:$M,TRI!$C:$C,$A9,TRI!$D:$D,">=" & I$2,TRI!$D:$D,"<" & J$2) -> 0 | ... S9: =SUMIFS(TRI!$M:$M,TRI!$C:$C,$A9,TRI!$D:$D,">=" & S$2,TRI!$D:$D,"<" & T$2) -> 0 | T9: =SUM(B9:S9) -> 0
A10: 13984016 | B10: =SUMIFS(TRI!$M:$M,TRI!$C:$C,$A10,TRI!$D:$D,">=" & B$2,TRI!$D:$D,"<" & C$2) -> 0 | C10: =SUMIFS(TRI!$M:$M,TRI!$C:$C,$A10,TRI!$D:$D,">=" & C$2,TRI!$D:$D,"<" & D$2) -> 0 | D10: =SUMIFS(TRI!$M:$M,TRI!$C:$C,$A10,TRI!$D:$D,">=" & D$2,TRI!$D:$D,"<" & E$2) -> 0 | E10: =SUMIFS(TRI!$M:$M,TRI!$C:$C,$A10,TRI!$D:$D,">=" & E$2,TRI!$D:$D,"<" & F$2) -> 0 | F10: =SUMIFS(TRI!$M:$M,TRI!$C:$C,$A10,TRI!$D:$D,">=" & F$2,TRI!$D:$D,"<" & G$2) -> 0 | G10: =SUMIFS(TRI!$M:$M,TRI!$C:$C,$A10,TRI!$D:$D,">=" & G$2,TRI!$D:$D,"<" & H$2) -> 0 | H10: =SUMIFS(TRI!$M:$M,TRI!$C:$C,$A10,TRI!$D:$D,">=" & H$2,TRI!$D:$D,"<" & I$2) -> 0 | I10: =SUMIFS(TRI!$M:$M,TRI!$C:$C,$A10,TRI!$D:$D,">=" & I$2,TRI!$D:$D,"<" & J$2) -> 0 | ... S10: =SUMIFS(TRI!$M:$M,TRI!$C:$C,$A10,TRI!$D:$D,">=" & S$2,TRI!$D:$D,"<" & T$2) -> 0 | T10: =SUM(B10:S10) -> 0
A11: 14384119 | B11: =SUMIFS(TRI!$M:$M,TRI!$C:$C,$A11,TRI!$D:$D,">=" & B$2,TRI!$D:$D,"<" & C$2) -> 0 | C11: =SUMIFS(TRI!$M:$M,TRI!$C:$C,$A11,TRI!$D:$D,">=" & C$2,TRI!$D:$D,"<" & D$2) -> 0 | D11: =SUMIFS(TRI!$M:$M,TRI!$C:$C,$A11,TRI!$D:$D,">=" & D$2,TRI!$D:$D,"<" & E$2) -> 0 | E11: =SUMIFS(TRI!$M:$M,TRI!$C:$C,$A11,TRI!$D:$D,">=" & E$2,TRI!$D:$D,"<" & F$2) -> 0 | F11: =SUMIFS(TRI!$M:$M,TRI!$C:$C,$A11,TRI!$D:$D,">=" & F$2,TRI!$D:$D,"<" & G$2) -> 0 | G11: =SUMIFS(TRI!$M:$M,TRI!$C:$C,$A11,TRI!$D:$D,">=" & G$2,TRI!$D:$D,"<" & H$2) -> 0 | H11: =SUMIFS(TRI!$M:$M,TRI!$C:$C,$A11,TRI!$D:$D,">=" & H$2,TRI!$D:$D,"<" & I$2) -> 0 | I11: =SUMIFS(TRI!$M:$M,TRI!$C:$C,$A11,TRI!$D:$D,">=" & I$2,TRI!$D:$D,"<" & J$2) -> 0 | ... S11: =SUMIFS(TRI!$M:$M,TRI!$C:$C,$A11,TRI!$D:$D,">=" & S$2,TRI!$D:$D,"<" & T$2) -> 0 | T11: =SUM(B11:S11) -> 0
A12: 14484123 | B12: =SUMIFS(TRI!$M:$M,TRI!$C:$C,$A12,TRI!$D:$D,">=" & B$2,TRI!$D:$D,"<" & C$2) -> 0 | C12: =SUMIFS(TRI!$M:$M,TRI!$C:$C,$A12,TRI!$D:$D,">=" & C$2,TRI!$D:$D,"<" & D$2) -> 0 | D12: =SUMIFS(TRI!$M:$M,TRI!$C:$C,$A12,TRI!$D:$D,">=" & D$2,TRI!$D:$D,"<" & E$2) -> 0 | E12: =SUMIFS(TRI!$M:$M,TRI!$C:$C,$A12,TRI!$D:$D,">=" & E$2,TRI!$D:$D,"<" & F$2) -> 0 | F12: =SUMIFS(TRI!$M:$M,TRI!$C:$C,$A12,TRI!$D:$D,">=" & F$2,TRI!$D:$D,"<" & G$2) -> 0 | G12: =SUMIFS(TRI!$M:$M,TRI!$C:$C,$A12,TRI!$D:$D,">=" & G$2,TRI!$D:$D,"<" & H$2) -> 0 | H12: =SUMIFS(TRI!$M:$M,TRI!$C:$C,$A12,TRI!$D:$D,">=" & H$2,TRI!$D:$D,"<" & I$2) -> 0 | I12: =SUMIFS(TRI!$M:$M,TRI!$C:$C,$A12,TRI!$D:$D,">=" & I$2,TRI!$D:$D,"<" & J$2) -> 0 | ... S12: =SUMIFS(TRI!$M:$M,TRI!$C:$C,$A12,TRI!$D:$D,">=" & S$2,TRI!$D:$D,"<" & T$2) -> 0 | T12: =SUM(B12:S12) -> 0
A13: 14484171 | B13: =SUMIFS(TRI!$M:$M,TRI!$C:$C,$A13,TRI!$D:$D,">=" & B$2,TRI!$D:$D,"<" & C$2) -> 0 | C13: =SUMIFS(TRI!$M:$M,TRI!$C:$C,$A13,TRI!$D:$D,">=" & C$2,TRI!$D:$D,"<" & D$2) -> 0 | D13: =SUMIFS(TRI!$M:$M,TRI!$C:$C,$A13,TRI!$D:$D,">=" & D$2,TRI!$D:$D,"<" & E$2) -> 0 | E13: =SUMIFS(TRI!$M:$M,TRI!$C:$C,$A13,TRI!$D:$D,">=" & E$2,TRI!$D:$D,"<" & F$2) -> 0 | F13: =SUMIFS(TRI!$M:$M,TRI!$C:$C,$A13,TRI!$D:$D,">=" & F$2,TRI!$D:$D,"<" & G$2) -> 0 | G13: =SUMIFS(TRI!$M:$M,TRI!$C:$C,$A13,TRI!$D:$D,">=" & G$2,TRI!$D:$D,"<" & H$2) -> 0 | H13: =SUMIFS(TRI!$M:$M,TRI!$C:$C,$A13,TRI!$D:$D,">=" & H$2,TRI!$D:$D,"<" & I$2) -> 0 | I13: =SUMIFS(TRI!$M:$M,TRI!$C:$C,$A13,TRI!$D:$D,">=" & I$2,TRI!$D:$D,"<" & J$2) -> 0 | ... S13: =SUMIFS(TRI!$M:$M,TRI!$C:$C,$A13,TRI!$D:$D,">=" & S$2,TRI!$D:$D,"<" & T$2) -> 0 | T13: =SUM(B13:S13) -> 0
A14: 14484193 | B14: =SUMIFS(TRI!$M:$M,TRI!$C:$C,$A14,TRI!$D:$D,">=" & B$2,TRI!$D:$D,"<" & C$2) -> 0 | C14: =SUMIFS(TRI!$M:$M,TRI!$C:$C,$A14,TRI!$D:$D,">=" & C$2,TRI!$D:$D,"<" & D$2) -> 0 | D14: =SUMIFS(TRI!$M:$M,TRI!$C:$C,$A14,TRI!$D:$D,">=" & D$2,TRI!$D:$D,"<" & E$2) -> 0 | E14: =SUMIFS(TRI!$M:$M,TRI!$C:$C,$A14,TRI!$D:$D,">=" & E$2,TRI!$D:$D,"<" & F$2) -> 0 | F14: =SUMIFS(TRI!$M:$M,TRI!$C:$C,$A14,TRI!$D:$D,">=" & F$2,TRI!$D:$D,"<" & G$2) -> 0 | G14: =SUMIFS(TRI!$M:$M,TRI!$C:$C,$A14,TRI!$D:$D,">=" & G$2,TRI!$D:$D,"<" & H$2) -> 0 | H14: =SUMIFS(TRI!$M:$M,TRI!$C:$C,$A14,TRI!$D:$D,">=" & H$2,TRI!$D:$D,"<" & I$2) -> 0 | I14: =SUMIFS(TRI!$M:$M,TRI!$C:$C,$A14,TRI!$D:$D,">=" & I$2,TRI!$D:$D,"<" & J$2) -> 0 | ... S14: =SUMIFS(TRI!$M:$M,TRI!$C:$C,$A14,TRI!$D:$D,">=" & S$2,TRI!$D:$D,"<" & T$2) -> 0 | T14: =SUM(B14:S14) -> 0
... A313: 15284225 | B313: =SUMIFS(TRI!$M:$M,TRI!$C:$C,$A313,TRI!$D:$D,">=" & B$2,TRI!$D:$D,"<" & C$2) -> 0 | C313: =SUMIFS(TRI!$M:$M,TRI!$C:$C,$A313,TRI!$D:$D,">=" & C$2,TRI!$D:$D,"<" & D$2) -> 0.086840278 | D313: =SUMIFS(TRI!$M:$M,TRI!$C:$C,$A313,TRI!$D:$D,">=" & D$2,TRI!$D:$D,"<" & E$2) -> 0.024293981 | E313: =SUMIFS(TRI!$M:$M,TRI!$C:$C,$A313,TRI!$D:$D,">=" & E$2,TRI!$D:$D,"<" & F$2) -> 0.015740741 | F313: =SUMIFS(TRI!$M:$M,TRI!$C:$C,$A313,TRI!$D:$D,">=" & F$2,TRI!$D:$D,"<" & G$2) -> 0.0080092593 | G313: =SUMIFS(TRI!$M:$M,TRI!$C:$C,$A313,TRI!$D:$D,">=" & G$2,TRI!$D:$D,"<" & H$2) -> 0.032997685 | H313: =SUMIFS(TRI!$M:$M,TRI!$C:$C,$A313,TRI!$D:$D,">=" & H$2,TRI!$D:$D,"<" & I$2) -> 0.13163194 | I313: =SUMIFS(TRI!$M:$M,TRI!$C:$C,$A313,TRI!$D:$D,">=" & I$2,TRI!$D:$D,"<" & J$2) -> 0 | ... S313: =SUMIFS(TRI!$M:$M,TRI!$C:$C,$A313,TRI!$D:$D,">=" & S$2,TRI!$D:$D,"<" & T$2) -> 0 | T313: =SUM(B313:S313) -> 0.29951389
