Workbook
Name AmoPreced_MN: 0
Name ANNEE: 'TICKETS RESTAURANTS'!$F$2
Name Autofinan_03: 0
Name Autofinan_04: 0
Name Autofinan_05: 0
Name Autofinan_06: 0
Name Autofinan_07: 0
Name Autofinan_08: 0
Name Autofinan_09: 0
Name Autofinan_10: 0
Name Autofinan_11: 0
Name Autofinan_12: 0
Name Autofinan_13: 0
Name Autofinan_14: 0
Name Autofinan_15: 0
Name Autofinan_16: 0
Name Autofinan_17: 0
Name Autofinan_18: 0
Name Autofinan_19: 0
Name Autofinan_20: 0
Name Autofinan_BudgetRet: 0
Name Autofinan_CAP: 0
Name AutreNatRemu2Comentn: " "
Name AutreNatRemu2ComentnBExec: " "
Name AutreNatRemu2n: 0
Name AutreNatRemu2nBExec: 0
Name AutreNatRemu3Comentn: " "
Name AutreNatRemu3ComentnBExec: " "
Name AutreNatRemu3n: 0
Name AutreNatRemu3nBExec: 0
Name AutreNatRemunComentn: " "
Name AutreNatRemunComentnBExec: " "
Name AutreNatRemunn: 0
Name AutreNatRemunnBExec: 0
Name AvantgNaturen: 0
Name AvantgNaturenBExec: 0
Name Basecharges2021maj18052021: #REF!
Name BCapDuAnneePrec: 0
Name BCapDuAnneePrec_MN: 0
Name BCapVerseN: 0
Name BCapVerseN_MN: 0
Name BDateDebut: " "
Name BDateDebut_MN: " "
Name BDurée: 0
Name BDurée_MN: 0
Name BEAVACPTEVERS: 0
Name BEAVACPTRECUS: 0
Name BEBFR: 0
Name BEBQETABFI: 0
Name BECAISSES: 0
Name BECHAREPARTIR: 0
Name BECHCONSAVAN: 0
Name BECONCBQE: 0
Name BECONSTRUCB: 0
Name BECREANCES: 0
Name BEDETTEDIVEXP: 0
Name BEDETTEFISOC: 0
Name BEECPTELIAISINV: 0
Name BEECPTELIAISONSTAB: 0
Name BEEMPRUNTS: 0

Sheet  Titre - Activité
D5: MNA
D9: 45047
D10: Proposition de budget en année pleine,
D13: Places financées | E13: Nombre d'actes par semaine | F13: Nombre de semaines par an | G13: Nombre d'actes théorique à l'année | H13: Taux d'occupation | I13: Nombre d'actes à réaliser
D14: 400 | F14: 52 | G14: =D14*E14*F14 -> 0 | H14: 1 | I14: =G14*H14 -> 0
C16: TOTAL | D16: =SUM(D14:D14) -> 400 | E16: =SUM(E14:E14) -> 0 | F16: =SUM(F14:F14) -> 52 | G16: =SUM(G14:G14) -> 0 | H16: =SUM(H14:H14) -> 1 | I16: =SUM(I14:I14) -> 0
C17: Nombre de jours d'ouverture à l'année : 365

Sheet Annexes
B3: ANNEXES
B7: ANNEXE 1 : | C7: Calcul des appointements en points et en euros
B10: ANNEXE 2 : | C10: Calcul des charges sur appointements et détail du Groupe II
B13: ANNEXE 3 : | C13: Investissements et financement

Sheet ETP
B2: MNA 400 places | C2: TOTAL
A3: DIRECTION/ENCADREMENT | B3: =SUM(B4:B6) -> 1 | C3: =SUM(C4:C6) -> #REF!
A4: DIRECTEUR | B4: 0 | C4: =#REF!+B4 -> #REF!
A5: CHEF SERVICE | B5: 1 | C5: =#REF!+B5 -> #REF!
C6: =#REF!+B6 -> #REF!
A7: ADMINISTRATION/GESTION | B7: =SUM(B8:B9) -> 0.5 | C7: =SUM(C8:C9) -> #REF!
A8: COMPTABLE/RH | B8: 0.5 | C8: =#REF!+B8 -> #REF!
A9: SECRETAIRE | C9: =#REF!+B9 -> #REF!
C10: =#REF!+B10 -> #REF!
A11: SERVICES GENERAUX | B11: =SUM(B12:B13) -> 1 | C11: =SUM(C12:C13) -> #REF!
A12: RESPONSABLE SERVICE GENERAUX | C12: =#REF!+B12 -> #REF!
A13: OUVRIER QUALIFIE | B13: 1 | C13: =#REF!+B13 -> #REF!
A14: RESTAURATION | B14: =B15 -> 0 | C14: =C15 -> 0
A16: SOCIO-EDUCATIF | B16: =SUM(B17:B24) -> 8 | C16: =SUM(C17:C24) -> #REF!
A17: REFERENTS SOCIAUX EDUCATIFS | B17: 7 | C17: =#REF!+B17 -> #REF!
A18: TRAVAILLEUR SOCIAL | C18: =#REF!+B18 -> #REF!
A19: COORDONATEUR | B19: 0
A20: EDUCATEUR JEUNES ENFANTS | C20: =#REF!+B20 -> #REF!
A21: JURISTE | B21: 1
A22: TISF
A23: AMP | C23: =#REF!+B23 -> #REF!
A24: ASSISTANTE SOCIALE | C24: =#REF!+B24 -> #REF!
A25: PARA MEDICAL | B25: =SUM(B26:B30) -> 1.5 | C25: =SUM(C26:C30) -> #REF!
A26: PSYCHOLOGUE | B26: 0.5 | C26: =#REF!+B26 -> #REF!
A27: PSYCHOMOTRICIEN | C27: =#REF!+B27 -> #REF!
A28: ORTHOPHONISTE | C28: =#REF!+B28 -> #REF!
A29: ERGOTHERAPEUTE | C29: =#REF!+B29 -> #REF!
A30: INFIRMIER | B30: 1 | C30: =#REF!+B30 -> #REF!
C31: =#REF!+B31 -> #REF!
A32: MEDICAL | B32: =B33+B34 -> 0 | C32: =C33+C34 -> #REF!
A33: PSYCHIATRE | B33: 0 | C33: =#REF!+B33 -> #REF!
A34: MEDECIN GENERALISTE | B34: 0 | C34: =#REF!+B34 -> #REF!
C35: =#REF!+B35 -> #REF!
A36: DIVERS
A39: Total général | B39: =SUM(B3:B38)/2 -> 12 | C39: =SUM(C3:C38)/2 -> #REF!

Sheet tabl BRUT
A2: établissement | B2: MNA
A3: Mesures | B3: 400 pl MNA | K3: Valeur de point : | L3: ='BASE BRUTE'!M4 -> 3.93
A5: Étiquettes de lignes | B5: COEFF BASE | C5: IND.SUJ | D5: POINTS de base ANNUELS | E5: POINTS IND. SUJ° SPE. ANNUELS | F5: POINTS ANNUELS | G5: BRUT INDICIAIRE | H5: AVN | I5: LAFORCADE | J5: SEGUR 2 | K5: METIERS SOCIO EDUC | L5: BRUT TOTAL | M5: ETP
A6: SOCIO-EDUCATIF | B6: 4423 | D6: 21929 | E6: 2305.3551 | F6: 24234.355 | G6: 95241.016 | I6: 0 | J6: 0 | K6: 11662 | L6: 106903.02 | M6: 11
A7: COORDONATEUR | B7: 446 | D7: 3102 | E7: 285.6942 | F7: 3387.6942 | G7: 13313.638 | I7: 0 | J7: 0 | K7: 1428 | L7: 14741.638 | M7: 1
A8: à recruter | B8: 446 | D8: 3102 | E8: 285.6942 | F8: 3387.6942 | G8: 13313.638 | I8: 0 | J8: 0 | K8: 1428 | L8: 14741.638 | M8: 1
A9: TISF | B9: 421 | D9: 2856 | E9: 263.0376 | F9: 3119.0376 | G9: 12257.818 | I9: 0 | J9: 0 | K9: 1428 | L9: 13685.818 | M9: 1
A10: à recruter | B10: 421 | D10: 2856 | E10: 263.0376 | F10: 3119.0376 | G10: 12257.818 | I10: 0 | J10: 0 | K10: 1428 | L10: 13685.818 | M10: 1
A11: REFERENTS SOCIAUX EDUCATIFS | B11: 3122 | D11: 13959 | E11: 1571.3181 | F11: 15530.318 | G11: 61034.15 | I11: 0 | J11: 0 | K11: 7854 | L11: 68888.15 | M11: 8
A12: à recruter | B12: 3122 | D12: 13959 | E12: 1571.3181 | F12: 15530.318 | G12: 61034.15 | I12: 0 | J12: 0 | K12: 7854 | L12: 68888.15 | M12: 8
A13: JURISTE | B13: 434 | D13: 2012 | E13: 185.3052 | F13: 2197.3052 | G13: 8635.4094 | I13: 0 | J13: 0 | K13: 952 | L13: 9587.4094 | M13: 1
A14: à recruter | B14: 434 | D14: 2012 | E14: 185.3052 | F14: 2197.3052 | G14: 8635.4094 | I14: 0 | J14: 0 | K14: 952 | L14: 9587.4094 | M14: 1
A15: SERVICES GENERAUX | B15: 403 | C15: 7 | D15: 2592 | E15: 238.7232 | F15: 2872.7232 | G15: 11289.802 | I15: 0 | J15: 0 | K15: 0 | L15: 11289.802 | M15: 1
A16: OUVRIER QUALIFIE | B16: 403 | C16: 7 | D16: 2592 | E16: 238.7232 | F16: 2872.7232 | G16: 11289.802 | I16: 0 | J16: 0 | K16: 0 | L16: 11289.802 | M16: 1
A17: à recruter | B17: 403 | C17: 7 | D17: 2592 | E17: 238.7232 | F17: 2872.7232 | G17: 11289.802 | I17: 0 | J17: 0 | K17: 0 | L17: 11289.802 | M17: 1
A18: ADMINISTRATIF | B18: 411 | D18: 3507 | E18: 322.9947 | F18: 3829.9947 | G18: 15051.879 | I18: 0 | J18: 0 | K18: 0 | L18: 15051.879 | M18: 1
A19: COMPTABLE/RH | B19: 411 | D19: 3507 | E19: 322.9947 | F19: 3829.9947 | G19: 15051.879 | I19: 0 | J19: 0 | K19: 0 | L19: 15051.879 | M19: 1
A20: à recruter | B20: 411 | D20: 3507 | E20: 322.9947 | F20: 3829.9947 | G20: 15051.879 | I20: 0 | J20: 0 | K20: 0 | L20: 15051.879 | M20: 1
A21: DIRECTION | B21: 1570 | C21: 530 | D21: 8943.7 | E21: 0 | F21: 10793.7 | G21: 42419.241 | I21: 0 | J21: 0 | K21: 1666 | L21: 44085.241 | M21: 1.2
A22: CHEF SERVICE | B22: 770 | C22: 230 | D22: 5551.7 | E22: 0 | F22: 7161.7 | G22: 28145.481 | I22: 0 | J22: 0 | K22: 1666 | L22: 29811.481 | M22: 1
A23: à recruter | B23: 770 | C23: 230 | D23: 5551.7 | E23: 0 | F23: 7161.7 | G23: 28145.481 | I23: 0 | J23: 0 | K23: 1666 | L23: 29811.481 | M23: 1
A24: DIRECTEUR DE POLE ADJOINT | B24: 800 | C24: 300 | D24: 3392 | E24: 0 | F24: 3632 | G24: 14273.76 | I24: 0 | J24: 0 | K24: 0 | L24: 14273.76 | M24: 0.2
A25: à recruter | B25: 800 | C25: 300 | D25: 3392 | E25: 0 | F25: 3632 | G25: 14273.76 | I25: 0 | J25: 0 | K25: 0 | L25: 14273.76 | M25: 0.2
A26: PARA-MEDICAL | B26: 1246 | D26: 7088 | E26: 349.2432 | F26: 7437.2432 | G26: 29228.366 | I26: 0 | J26: 0 | K26: 1904 | L26: 31132.366 | M26: 1.5
A27: INFIRMIER | B27: 446 | D27: 3792 | E27: 349.2432 | F27: 4141.2432 | G27: 16275.086 | I27: 0 | J27: 0 | K27: 1428 | L27: 17703.086 | M27: 1
A28: à recruter | B28: 446 | D28: 3792 | E28: 349.2432 | F28: 4141.2432 | G28: 16275.086 | I28: 0 | J28: 0 | K28: 1428 | L28: 17703.086 | M28: 1
A29: PSYCHOLOGUE | B29: 800 | D29: 3296 | E29: 0 | F29: 3296 | G29: 12953.28 | I29: 0 | J29: 0 | K29: 476 | L29: 13429.28 | M29: 0.5
A30: à recruter | B30: 800 | D30: 3296 | E30: 0 | F30: 3296 | G30: 12953.28 | I30: 0 | J30: 0 | K30: 476 | L30: 13429.28 | M30: 0.5
A31: Total général | B31: 8053 | C31: 537 | D31: 44059.7 | E31: 3216.3162 | F31: 49168.016 | G31: 193230.3 | I31: 0 | J31: 0 | K31: 15232 | L31: 208462.3 | M31: 15.7

Sheet total GR II
A1: GROUPE II Charges de Personnel | B1: Tx charges moy réel 2022 | C1: 2022 | D1: MNA 400 places | E1: TOTAL
A2: BRUT soumis | C2: =C4 -> 423192 | D2: =D4 -> 194189 | E2: =E4 -> 194189
A3: 641 RETRAITE soumis cotisations
A4: 641-642 BRUT soumis cotisations | C4: 423192 | D4: 194189 | E4: =D4 -> 194189
A5: BRUT non soumis | C5: =C6+C7+C8 -> 0 | D5: =D6+D7 -> 0 | E5: =E6+E7 -> 0
A6: 64116000 Indemnité de licenciement (exo cot)
A7: 64116500 Primes exceptionnelles (exo cot)
A8: 64118000 Gratifications stagiaires (exo cot)
A9: Charges patronales entrant dans le tx moyen | B9: =SUM(B10:B17) -> 0.46946067 | C9: =SUM(C10:C17) -> 198672 | D9: =SUM(D10:D17) -> 91164.098 | E9: =SUM(E10:E17) -> 91164.098
A10: 63110000 Taxe sur les salaires | B10: =+C10/$C$2 -> 0.089160476 | C10: 37732 | D10: =D$2*$B10 -> 17313.984 | E10: =D10 -> 17313.984
A11: 63330000 Participat° à la formation profess. | B11: =+C11/$C$2 -> 0.023563772 | C11: 9972 | D11: =D$2*$B11 -> 4575.8254 | E11: =D11 -> 4575.8254
A12: 63340000 Participat° effort de construction | B12: =+C12/$C$2 -> 0.0043715382 | C12: 1850 | D12: =D$2*$B12 -> 848.90463 | E12: =D12 -> 848.90463
A13: 64511000 Cotisations à l'URSSAF | B13: =+C13/$C$2 -> 0.21317511 | C13: 90214 | D13: =D$2*$B13 -> 41396.261 | E13: =D13 -> 41396.261
A14: 64513000 Cotisations retraite AG2R | B14: =+C14/$C$2 -> 0.077175372 | C14: 32660 | D14: =D$2*$B14 -> 14986.608 | E14: =D14 -> 14986.608
A15: 64513500 Cotisations prévoyance CHORUM | B15: =+C15/$C$2 -> 0.012745988 | C15: 5394 | D15: =D$2*$B15 -> 2475.1306 | E15: =D15 -> 2475.1306
A16: 64514000 Cotisations à l'ASSEDIC | B16: =+C16/$C$2 -> 0.035180249 | C16: 14888 | D16: =D$2*$B16 -> 6831.6174 | E16: =D16 -> 6831.6174
A17: 64784000 Oeuvres sociales | B17: =+C17/$C$2 -> 0.014088168 | C17: 5962 | D17: =D$2*$B17 -> 2735.7673 | E17: =D17 -> 2735.7673
A18: Autres charges sur appointements | C18: =SUM(C19:C25) -> 25329 | D18: =SUM(D19:D25) -> 11398.43 | E18: =SUM(E19:E25) -> 11398.43
A19: 63380000 Autres impôts et taxes s/rémunération | E19: =D19 -> 0
A20: 64512000 Cotisations aux mutuelles | C20: 3658 | D20: =C20/13.26*ETP!$B$39 -> 3310.4072 | E20: =D20 -> 3310.4072
A21: 64750000 Médecine du travail | C21: 1789 | D21: =C21/13.26*ETP!$B$39 -> 1619.0045 | E21: =D21 -> 1619.0045
A22: 64781000 Cartes de transport | C22: 784 | D22: =C22/13.26*ETP!$B$39 -> 709.50226 | E22: =D22 -> 709.50226
A23: 64782000 Versement CET à HUMANIS | C23: 5302 | D23: =+'CET MNA'!F7 -> 2240.5159 | E23: =D23 -> 2240.5159
A24: 64785000 Chèques déjeuners | C24: 6471 | D24: =Tableau2[[#Totals],[montant]] -> 3519 | E24: =D24 -> 3519
A25: 64880000 Formation professionnelle hors PAUF | C25: 7325 | E25: =D25 -> 0
A26: Personnel extérieur & Honoraires | C26: =SUM(C27:C35) -> 27593 | D26: =SUM(D27:D35) -> 0 | E26: =SUM(E27:E35) -> 0
A27: 62110000 Personnel Intérimaire | C27: 1164 | E27: =+D27 -> 0
A28: 62180000 Autres personnels extérieurs | E28: =+D28 -> 0
A29: 62210000 Frais recrutement | E29: =+D29 -> 0
A30: 62261000 Honoraires avocats | E30: =+D30 -> 0
A31: 62263000 Honoraires CAC | E31: =+D31 -> 0
A32: 62264000 Honoraires GAP | E32: =+D32 -> 0
A33: 62270000 Frais actes et contentieux | E33: =+D33 -> 0
A34: 62280001 Honoraires interprétariat | E34: =+D34 -> 0
A35: 6228800 Autres honoraires | C35: 26429 | E35: =+D35 -> 0
A36: Total général | C36: =SUM(C2:C35)/2 -> 674786 | D36: =SUM(D2:D35)/2 -> 296751.53 | E36: =SUM(E2:E35)/2 -> 296751.53

Sheet Tables
A1: libellé poste | B1: LAFORCADE | C1: SEGUR 2 | D1: SOCIO EDUCATIFS | F1: NUMERO DE GRILLE | G1: ANCIENNETE | H1: COEFFICIENT | J1: METIER | K1: INTERNAT | L1: NUMERO DE GRILLE | N1: INTERNAT
A2: ERGOTHERAPEUTE | B2: TRUE | C2: TRUE | D2: FALSE | F2: 1 | G2: 0 | H2: 446 | J2: EDUCATEUR JEUNES ENFANTS | K2: TRUE | L2: 1 | N2: TRUE
A3: CHEF SERVICE | B3: FALSE | C3: FALSE | D3: TRUE | F3: 1 | G3: 1 | H3: 459 | J3: EDUCATEUR SPECIALISE | K3: TRUE | L3: 1 | N3: FALSE
A4: EDUCATEUR SPECIALISE | B4: FALSE | C4: FALSE | D4: TRUE | F4: 1 | G4: 3 | H4: 491 | J4: EDUCATEUR SPECIALISE | K4: FALSE | L4: 8
A5: EDUCATEUR JEUNES ENFANTS | B5: FALSE | C5: FALSE | D5: TRUE | F5: 1 | G5: 5 | H5: 517 | J5: ERGOTHERAPEUTE | K5: TRUE | L5: 1
A6: AMP | B6: TRUE | C6: FALSE | D6: FALSE | F6: 1 | G6: 7 | H6: 552 | J6: ORTHOPHONISTE | K6: TRUE | L6: 1
A7: PSYCHOLOGUE | B7: FALSE | C7: FALSE | D7: TRUE | F7: 1 | G7: 9 | H7: 586 | J7: PSYCHOMOTRICIEN | K7: TRUE | L7: 1
A8: PSYCHOMOTRICIEN | B8: TRUE | C8: TRUE | D8: FALSE | F8: 1 | G8: 11 | H8: 597 | J8: AMP | K8: FALSE | L8: 2
A9: ORTHOPHONISTE | B9: TRUE | C9: TRUE | D9: FALSE | F9: 1 | G9: 14 | H9: 632 | J9: OUVRIER QUALIFIE | K9: FALSE | L9: 5
A10: TRAVAILLEUR SOCIAL | B10: FALSE | C10: FALSE | D10: TRUE | F10: 1 | G10: 17 | H10: 665 | J10: TRAVAILLEUR SOCIAL | K10: TRUE | L10: 1
A11: OUVRIER QUALIFIE | B11: FALSE | C11: FALSE | D11: FALSE | F11: 1 | G11: 20 | H11: 698 | J11: COORDONATEUR | K11: TRUE | L11: 1
A12: COORDONATEUR | B12: FALSE | C12: FALSE | D12: TRUE | F12: 1 | G12: 24 | H12: 735 | J12: COORDONATEUR | K12: FALSE | L12: 8
A13: COMPTABLE/RH | B13: FALSE | C13: FALSE | D13: FALSE | F13: 1 | G13: 28 | H13: 783 | J13: COMPTABLE/RH | K13: FALSE | L13: 6
A14: REFERENTS SOCIAUX EDUCATIFS | B14: FALSE | C14: FALSE | D14: TRUE | F14: 2 | G14: 0 | H14: 403 | J14: REFERENTS SOCIAUX EDUCATIFS | K14: TRUE | L14: 1
A15: TISF | B15: FALSE | C15: FALSE | D15: TRUE | F15: 2 | G15: 1 | H15: 405 | J15: TISF | K15: TRUE | L15: 7
... A18: DIRECTEUR DE POLE ADJOINT | B18: FALSE | C18: FALSE | D18: FALSE | F18: 2 | G18: 7 | H18: 448 | J18: PSYCHOLOGUE | K18: FALSE | L18: 4
F19: 2 | G19: 10 | H19: 461 | J19: INFIRMIER | K19: TRUE | L19: 1
F20: 2 | G20: 13 | H20: 474 | J20: DAF | K20: FALSE | L20: 9
F21: 2 | G21: 16 | H21: 486 | J21: CADRE TECHNIQUE RH | K21: FALSE | L21: 10
F22: 2 | G22: 20 | H22: 498 | J22: ASSISTANT COMPTABLE | K22: FALSE | L22: 6
F23: 2 | G23: 24 | H23: 516 | J23: DIRECTEUR DE POLE ADJOINT | K23: FALSE | L23: 11
F24: 2 | G24: 28 | H24: 530
F25: 3 | G25: 0 | H25: 770
F26: 3 | G26: 3 | H26: 793.1
F27: 3 | G27: 6 | H27: 816.2
F28: 3 | G28: 9 | H28: 839.3
F29: 3 | G29: 12 | H29: 862.4
F30: 3 | G30: 15 | H30: 885.5
F31: 3 | G31: 18 | H31: 908.6
F32: 3 | G32: 21 | H32: 931.7
F33: 3 | G33: 24 | H33: 954.8
F34: 3 | G34: 28 | H34: 985.6
F35: 4 | G35: 0 | H35: 800
... F124: 11 | G124: 28 | H124: 1024

Sheet TCD PQ
C1: Années (Dates) | D1: Mois (Dates)
C2: 2023 | J2: Total 2023 | K2: Total général
A3: libellé poste | B3: Valeurs | C3: juin | D3: juil | E3: août | F3: sept | G3: oct | H3: nov | I3: déc
A4: CHEF SERVICE
B5: Nombre ETP | C5: 1 | D5: 1 | E5: 1 | F5: 1 | G5: 1 | H5: 1 | I5: 1 | J5: 7 | K5: 7
B6: Masse salariale | C6: 29811.481 | D6: 29811.481 | E6: 29811.481 | F6: 29811.481 | G6: 29811.481 | H6: 29811.481 | I6: 29811.481 | J6: 208680.37 | K6: 208680.37
A7: COMPTABLE/RH
B8: Nombre ETP | C8: 1 | D8: 1 | E8: 1 | F8: 1 | G8: 1 | J8: 5 | K8: 5
B9: Masse salariale | C9: 10751.342 | D9: 10751.342 | E9: 10751.342 | F9: 10751.342 | G9: 10751.342 | J9: 53756.711 | K9: 53756.711
A10: COORDONATEUR
B11: Nombre ETP | D11: 1 | E11: 1 | F11: 1 | G11: 1 | H11: 1 | I11: 1 | J11: 6 | K11: 6
B12: Masse salariale | D12: 14741.638 | E12: 14741.638 | F12: 14741.638 | G12: 14741.638 | H12: 14741.638 | I12: 14741.638 | J12: 88449.829 | K12: 88449.829
A13: DIRECTEUR DE POLE ADJOINT
B14: Nombre ETP | F14: 0.2 | G14: 0.2 | H14: 0.2 | I14: 0.2 | J14: 0.8 | K14: 0.8
B15: Masse salariale | F15: 14273.76 | G15: 14273.76 | H15: 14273.76 | I15: 14273.76 | J15: 57095.04 | K15: 57095.04
A16: INFIRMIER
B17: Nombre ETP | D17: 1 | E17: 1 | F17: 1 | G17: 1 | H17: 1 | I17: 1 | J17: 6 | K17: 6
B18: Masse salariale | D18: 17703.086 | E18: 17703.086 | F18: 17703.086 | G18: 17703.086 | H18: 17703.086 | I18: 17703.086 | J18: 106218.51 | K18: 106218.51
A19: JURISTE
B20: Nombre ETP | F20: 1 | G20: 1 | H20: 1 | I20: 1 | J20: 4 | K20: 4
B21: Masse salariale | F21: 9587.4094 | G21: 9587.4094 | H21: 9587.4094 | I21: 9587.4094 | J21: 38349.638 | K21: 38349.638
A22: OUVRIER QUALIFIE
B23: Nombre ETP | D23: 1 | E23: 1 | F23: 1 | G23: 1 | H23: 1 | I23: 1 | J23: 6 | K23: 6
B24: Masse salariale | D24: 11289.802 | E24: 11289.802 | F24: 11289.802 | G24: 11289.802 | H24: 11289.802 | I24: 11289.802 | J24: 67738.813 | K24: 67738.813
A25: PSYCHOLOGUE
B26: Nombre ETP | F26: 0.5 | G26: 0.5 | H26: 0.5 | I26: 0.5 | J26: 2 | K26: 2
B27: Masse salariale | F27: 13429.28 | G27: 13429.28 | H27: 13429.28 | I27: 13429.28 | J27: 53717.12 | K27: 53717.12
A28: REFERENTS SOCIAUX EDUCATIFS
B29: Nombre ETP | D29: 3 | E29: 4 | F29: 5 | G29: 6 | H29: 7 | I29: 8 | J29: 33 | K29: 33
B30: Masse salariale | D30: 32034.055 | E30: 44318.753 | F30: 54146.512 | G30: 61517.331 | H30: 66431.21 | I30: 68888.15 | J30: 327336.01 | K30: 327336.01
A31: TISF
B32: Nombre ETP | D32: 1 | E32: 1 | F32: 1 | G32: 1 | H32: 1 | I32: 1 | J32: 6 | K32: 6
B33: Masse salariale | D33: 13685.818 | E33: 13685.818 | F33: 13685.818 | G33: 13685.818 | H33: 13685.818 | I33: 13685.818 | J33: 82114.907 | K33: 82114.907
A34: Total Nombre ETP | C34: 2 | D34: 9 | E34: 10 | F34: 12.7 | G34: 13.7 | H34: 13.7 | I34: 14.7 | J34: 75.8 | K34: 75.8
A35: Total Masse salariale | C35: 40562.823 | D35: 130017.22 | E35: 142301.92 | F35: 189420.13 | G35: 196790.95 | H35: 190953.48 | I35: 193410.42 | J35: 1083457 | K35: 1083457

Sheet BASE BRUTE
A2: établissement | B2: libellé poste | C2: INTERNAT | D2: CADRE | E2: COEFF BASE | F2: IND.SUJ | G2: TITULAIRE | H2: ETP | I2: ANNEE | J2: TYPE BP | K2: Mesures | L2: tx IND. SUJ° SPEC. | M2: VALEUR POINT | N2: ANCIENNETÉ | O2: COEFF | P2: DATE DEBUT | Q2: NBRE MOIS | R2: POINTS de base ANNUELS | S2: POINTS IND. SUJ° SPE. ANNUELS | T2: POINTS ANNUELS | U2: BRUT INDICIAIRE | V2: AVN | W2: LAFORCADE | X2: SEGUR 2 | Y2: METIERS SOCIO EDUC | Z2: AUTRES | AA2: BRUT TOTAL | AB2: POINTS ALLOUES | AC2: CATEGORIE | AD2: Nbre usagers | AE2: taux encadrement | AF2: POLE
A3: MNA | B3: COMPTABLE/RH | C3: FALSE | E3: {=INDEX(Grille[COEFFICIENT],MATCH(INDEX(Métiers[NUMERO DE GRILLE],MATCH(budget5[[#This Row],[libellé poste]]&budget5[[#This Row],[INTERNAT]],Métiers[METIER]&Métiers[INTERNAT],0)),Grille[NUMERO DE GRILLE],0),1)} -> 411 | G3: à recruter | H3: 1 | I3: =ANNEE -> 2023 | J3: CNSA | K3: 400 pl MNA | L3: 0.0921 | M3: 3.93 | N3: 10 | O3: {=INDEX(Grille[COEFFICIENT],MATCH(budget5[[#This Row],[ANCIENNETÉ]],OFFSET(Grille[[#Headers],[ANCIENNETE]],MATCH(INDEX(Métiers[NUMERO DE GRILLE],MATCH(budget5[[#This Row],[libellé poste]]&budget5[[#This Row],[INTERNAT]],Métiers[METIER]&Métiers[INTERNAT],0)),Grille[NUMERO DE GRILLE],0),,COUNTIF(Grille[NUMERO DE GRILLE],INDEX(Métiers[NUMERO DE GRILLE],MATCH(budget5[[#This Row],[libellé poste]]&budget5[[#This Row],[INTERNAT]],Métiers[METIER]&Métiers[INTERNAT],0)))),1)+MATCH(INDEX(Métiers[NUMERO DE GRILLE],MATCH(budget5[[#This Row],[libellé poste]]&budget5[[#This Row],[INTERNAT]],Métiers[METIER]&Métiers[INTERNAT],0)),Grille[NUMERO DE GRILLE],0)-1)} -> 501 | P3: 45078 | Q3: =DATEDIF(P4,DATE(ANNEE,12,31),"M") -> 5 | R3: =+budget5[[#This Row],[COEFF]]*budget5[[#This Row],[NBRE MOIS ]] -> 2505 | S3: =IF(budget5[[#This Row],[CADRE]]="C",0,((budget5[[#This Row],[COEFF]]*budget5[[#This Row],[NBRE MOIS ]]*budget5[[#This Row],[ETP]]*budget5[[#This Row],[tx IND. SUJ° SPEC.]]))) -> 230.7105 | T3: =+budget5[[#This Row],[POINTS de base ANNUELS]]+budget5[[#This Row],[POINTS IND. SUJ° SPE. ANNUELS]]+budget5[[#This Row],[IND.SUJ]]*budget5[[#This Row],[ETP]]*budget5[[#This Row],[NBRE MOIS ]] -> 2735.7105 | U3: =IF(ISBLANK(budget5[[#This Row],[libellé poste]]),"",budget5[[#This Row],[POINTS ANNUELS]]*budget5[[#This Row],[VALEUR POINT ]]) -> 10751.342 | W3: =IF(ISBLANK(budget5[[#This Row],[libellé poste]]),"",N(INDEX(Postes[],MATCH(budget5[[#This Row],[libellé poste]],Postes[libellé poste],0),2))*238*budget5[[#This Row],[ETP]]*budget5[[#This Row],[NBRE MOIS ]]) -> 0 | X3: =IF(ISBLANK(budget5[[#This Row],[libellé poste]]),"",N(INDEX(Postes[],MATCH(budget5[[#This Row],[libellé poste]],Postes[libellé poste],0),3))*238*budget5[[#This Row],[ETP]]*budget5[[#This Row],[NBRE MOIS ]]) -> 0 | Y3: =IF(ISBLANK(budget5[[#This Row],[libellé poste]]),"",N(INDEX(Postes[],MATCH(budget5[[#This Row],[libellé poste]],Postes[libellé poste],0),4))*238*budget5[[#This Row],[ETP]]*budget5[[#This Row],[NBRE MOIS ]]) -> 0 | AA3: =IF(ISBLANK(budget5[[#This Row],[libellé poste]]),"",budget5[[#This Row],[BRUT INDICIAIRE]]+budget5[[#This Row],[AVN]]+budget5[[#This Row],[LAFORCADE]]+budget5[[#This Row],[SEGUR 2]]+budget5[[#This Row],[METIERS SOCIO EDUC]]+budget5[[#This Row],[AUTRES]]) -> 10751.342 | AB3: =IF(ISBLANK(budget5[[#This Row],[libellé poste]]),"",+budget5[[#This Row],[BRUT TOTAL]]/budget5[[#This Row],[VALEUR POINT ]]) -> 2735.7105 | AC3: ADMINISTRATIF
A4: MNA | B4: OUVRIER QUALIFIE | C4: FALSE | E4: {=INDEX(Grille[COEFFICIENT],MATCH(INDEX(Métiers[NUMERO DE GRILLE],MATCH(budget5[[#This Row],[libellé poste]]&budget5[[#This Row],[INTERNAT]],Métiers[METIER]&Métiers[INTERNAT],0)),Grille[NUMERO DE GRILLE],0),1)} -> 403 | F4: 7 | G4: à recruter | H4: 1 | I4: =ANNEE -> 2023 | J4: CNSA | K4: 400 pl MNA | L4: 0.0921 | M4: 3.93 | N4: 10 | O4: {=INDEX(Grille[COEFFICIENT],MATCH(budget5[[#This Row],[ANCIENNETÉ]],OFFSET(Grille[[#Headers],[ANCIENNETE]],MATCH(INDEX(Métiers[NUMERO DE GRILLE],MATCH(budget5[[#This Row],[libellé poste]]&budget5[[#This Row],[INTERNAT]],Métiers[METIER]&Métiers[INTERNAT],0)),Grille[NUMERO DE GRILLE],0),,COUNTIF(Grille[NUMERO DE GRILLE],INDEX(Métiers[NUMERO DE GRILLE],MATCH(budget5[[#This Row],[libellé poste]]&budget5[[#This Row],[INTERNAT]],Métiers[METIER]&Métiers[INTERNAT],0)))),1)+MATCH(INDEX(Métiers[NUMERO DE GRILLE],MATCH(budget5[[#This Row],[libellé poste]]&budget5[[#This Row],[INTERNAT]],Métiers[METIER]&Métiers[INTERNAT],0)),Grille[NUMERO DE GRILLE],0)-1)} -> 432 | P4: 45108 | Q4: 6 | R4: =+budget5[[#This Row],[COEFF]]*budget5[[#This Row],[NBRE MOIS ]] -> 2592 | S4: =IF(budget5[[#This Row],[CADRE]]="C",0,((budget5[[#This Row],[COEFF]]*budget5[[#This Row],[NBRE MOIS ]]*budget5[[#This Row],[ETP]]*budget5[[#This Row],[tx IND. SUJ° SPEC.]]))) -> 238.7232 | T4: =+budget5[[#This Row],[POINTS de base ANNUELS]]+budget5[[#This Row],[POINTS IND. SUJ° SPE. ANNUELS]]+budget5[[#This Row],[IND.SUJ]]*budget5[[#This Row],[ETP]]*budget5[[#This Row],[NBRE MOIS ]] -> 2872.7232 | U4: =IF(ISBLANK(budget5[[#This Row],[libellé poste]]),"",budget5[[#This Row],[POINTS ANNUELS]]*budget5[[#This Row],[VALEUR POINT ]]) -> 11289.802 | W4: =IF(ISBLANK(budget5[[#This Row],[libellé poste]]),"",N(INDEX(Postes[],MATCH(budget5[[#This Row],[libellé poste]],Postes[libellé poste],0),2))*238*budget5[[#This Row],[ETP]]*budget5[[#This Row],[NBRE MOIS ]]) -> 0 | X4: =IF(ISBLANK(budget5[[#This Row],[libellé poste]]),"",N(INDEX(Postes[],MATCH(budget5[[#This Row],[libellé poste]],Postes[libellé poste],0),3))*238*budget5[[#This Row],[ETP]]*budget5[[#This Row],[NBRE MOIS ]]) -> 0 | Y4: =IF(ISBLANK(budget5[[#This Row],[libellé poste]]),"",N(INDEX(Postes[],MATCH(budget5[[#This Row],[libellé poste]],Postes[libellé poste],0),4))*238*budget5[[#This Row],[ETP]]*budget5[[#This Row],[NBRE MOIS ]]) -> 0 | AA4: =IF(ISBLANK(budget5[[#This Row],[libellé poste]]),"",budget5[[#This Row],[BRUT INDICIAIRE]]+budget5[[#This Row],[AVN]]+budget5[[#This Row],[LAFORCADE]]+budget5[[#This Row],[SEGUR 2]]+budget5[[#This Row],[METIERS SOCIO EDUC]]+budget5[[#This Row],[AUTRES]]) -> 11289.802 | AB4: =IF(ISBLANK(budget5[[#This Row],[libellé poste]]),"",+budget5[[#This Row],[BRUT TOTAL]]/budget5[[#This Row],[VALEUR POINT ]]) -> 2872.7232 | AC4: SERVICES GENERAUX
A5: MNA | B5: COORDONATEUR | C5: TRUE | E5: {=INDEX(Grille[COEFFICIENT],MATCH(INDEX(Métiers[NUMERO DE GRILLE],MATCH(budget5[[#This Row],[libellé poste]]&budget5[[#This Row],[INTERNAT]],Métiers[METIER]&Métiers[INTERNAT],0)),Grille[NUMERO DE GRILLE],0),1)} -> 446 | G5: à recruter | H5: 1 | I5: =ANNEE -> 2023 | J5: CNSA | K5: 400 pl MNA | L5: 0.0921 | M5: 3.93 | N5: 5 | O5: {=INDEX(Grille[COEFFICIENT],MATCH(budget5[[#This Row],[ANCIENNETÉ]],OFFSET(Grille[[#Headers],[ANCIENNETE]],MATCH(INDEX(Métiers[NUMERO DE GRILLE],MATCH(budget5[[#This Row],[libellé poste]]&budget5[[#This Row],[INTERNAT]],Métiers[METIER]&Métiers[INTERNAT],0)),Grille[NUMERO DE GRILLE],0),,COUNTIF(Grille[NUMERO DE GRILLE],INDEX(Métiers[NUMERO DE GRILLE],MATCH(budget5[[#This Row],[libellé poste]]&budget5[[#This Row],[INTERNAT]],Métiers[METIER]&Métiers[INTERNAT],0)))),1)+MATCH(INDEX(Métiers[NUMERO DE GRILLE],MATCH(budget5[[#This Row],[libellé poste]]&budget5[[#This Row],[INTERNAT]],Métiers[METIER]&Métiers[INTERNAT],0)),Grille[NUMERO DE GRILLE],0)-1)} -> 517 | P5: 45108 | Q5: 6 | R5: =+budget5[[#This Row],[COEFF]]*budget5[[#This Row],[NBRE MOIS ]] -> 3102 | S5: =IF(budget5[[#This Row],[CADRE]]="C",0,((budget5[[#This Row],[COEFF]]*budget5[[#This Row],[NBRE MOIS ]]*budget5[[#This Row],[ETP]]*budget5[[#This Row],[tx IND. SUJ° SPEC.]]))) -> 285.6942 | T5: =+budget5[[#This Row],[POINTS de base ANNUELS]]+budget5[[#This Row],[POINTS IND. SUJ° SPE. ANNUELS]]+budget5[[#This Row],[IND.SUJ]]*budget5[[#This Row],[ETP]]*budget5[[#This Row],[NBRE MOIS ]] -> 3387.6942 | U5: =IF(ISBLANK(budget5[[#This Row],[libellé poste]]),"",budget5[[#This Row],[POINTS ANNUELS]]*budget5[[#This Row],[VALEUR POINT ]]) -> 13313.638 | W5: =IF(ISBLANK(budget5[[#This Row],[libellé poste]]),"",N(INDEX(Postes[],MATCH(budget5[[#This Row],[libellé poste]],Postes[libellé poste],0),2))*238*budget5[[#This Row],[ETP]]*budget5[[#This Row],[NBRE MOIS ]]) -> 0 | X5: =IF(ISBLANK(budget5[[#This Row],[libellé poste]]),"",N(INDEX(Postes[],MATCH(budget5[[#This Row],[libellé poste]],Postes[libellé poste],0),3))*238*budget5[[#This Row],[ETP]]*budget5[[#This Row],[NBRE MOIS ]]) -> 0 | Y5: =IF(ISBLANK(budget5[[#This Row],[libellé poste]]),"",N(INDEX(Postes[],MATCH(budget5[[#This Row],[libellé poste]],Postes[libellé poste],0),4))*238*budget5[[#This Row],[ETP]]*budget5[[#This Row],[NBRE MOIS ]]) -> 1428 | AA5: =IF(ISBLANK(budget5[[#This Row],[libellé poste]]),"",budget5[[#This Row],[BRUT INDICIAIRE]]+budget5[[#This Row],[AVN]]+budget5[[#This Row],[LAFORCADE]]+budget5[[#This Row],[SEGUR 2]]+budget5[[#This Row],[METIERS SOCIO EDUC]]+budget5[[#This Row],[AUTRES]]) -> 14741.638 | AB5: =IF(ISBLANK(budget5[[#This Row],[libellé poste]]),"",+budget5[[#This Row],[BRUT TOTAL]]/budget5[[#This Row],[VALEUR POINT ]]) -> 3751.053 | AC5: SOCIO-EDUCATIF
A6: MNA | B6: CHEF SERVICE | C6: FALSE | D6: C | E6: {=INDEX(Grille[COEFFICIENT],MATCH(INDEX(Métiers[NUMERO DE GRILLE],MATCH(budget5[[#This Row],[libellé poste]]&budget5[[#This Row],[INTERNAT]],Métiers[METIER]&Métiers[INTERNAT],0)),Grille[NUMERO DE GRILLE],0),1)} -> 770 | F6: 230 | G6: à recruter | H6: 1 | I6: =ANNEE -> 2023 | J6: CNSA | K6: 400 pl MNA | L6: 0.0921 | M6: 3.93 | N6: 5 | O6: {=INDEX(Grille[COEFFICIENT],MATCH(budget5[[#This Row],[ANCIENNETÉ]],OFFSET(Grille[[#Headers],[ANCIENNETE]],MATCH(INDEX(Métiers[NUMERO DE GRILLE],MATCH(budget5[[#This Row],[libellé poste]]&budget5[[#This Row],[INTERNAT]],Métiers[METIER]&Métiers[INTERNAT],0)),Grille[NUMERO DE GRILLE],0),,COUNTIF(Grille[NUMERO DE GRILLE],INDEX(Métiers[NUMERO DE GRILLE],MATCH(budget5[[#This Row],[libellé poste]]&budget5[[#This Row],[INTERNAT]],Métiers[METIER]&Métiers[INTERNAT],0)))),1)+MATCH(INDEX(Métiers[NUMERO DE GRILLE],MATCH(budget5[[#This Row],[libellé poste]]&budget5[[#This Row],[INTERNAT]],Métiers[METIER]&Métiers[INTERNAT],0)),Grille[NUMERO DE GRILLE],0)-1)} -> 793.1 | P6: 45078 | Q6: 7 | R6: =+budget5[[#This Row],[COEFF]]*budget5[[#This Row],[NBRE MOIS ]] -> 5551.7 | S6: =IF(budget5[[#This Row],[CADRE]]="C",0,((budget5[[#This Row],[COEFF]]*budget5[[#This Row],[NBRE MOIS ]]*budget5[[#This Row],[ETP]]*budget5[[#This Row],[tx IND. SUJ° SPEC.]]))) -> 0 | T6: =+budget5[[#This Row],[POINTS de base ANNUELS]]+budget5[[#This Row],[POINTS IND. SUJ° SPE. ANNUELS]]+budget5[[#This Row],[IND.SUJ]]*budget5[[#This Row],[ETP]]*budget5[[#This Row],[NBRE MOIS ]] -> 7161.7 | U6: =IF(ISBLANK(budget5[[#This Row],[libellé poste]]),"",budget5[[#This Row],[POINTS ANNUELS]]*budget5[[#This Row],[VALEUR POINT ]]) -> 28145.481 | W6: =IF(ISBLANK(budget5[[#This Row],[libellé poste]]),"",N(INDEX(Postes[],MATCH(budget5[[#This Row],[libellé poste]],Postes[libellé poste],0),2))*238*budget5[[#This Row],[ETP]]*budget5[[#This Row],[NBRE MOIS ]]) -> 0 | X6: =IF(ISBLANK(budget5[[#This Row],[libellé poste]]),"",N(INDEX(Postes[],MATCH(budget5[[#This Row],[libellé poste]],Postes[libellé poste],0),3))*238*budget5[[#This Row],[ETP]]*budget5[[#This Row],[NBRE MOIS ]]) -> 0 | Y6: =IF(ISBLANK(budget5[[#This Row],[libellé poste]]),"",N(INDEX(Postes[],MATCH(budget5[[#This Row],[libellé poste]],Postes[libellé poste],0),4))*238*budget5[[#This Row],[ETP]]*budget5[[#This Row],[NBRE MOIS ]]) -> 1666 | AA6: =IF(ISBLANK(budget5[[#This Row],[libellé poste]]),"",budget5[[#This Row],[BRUT INDICIAIRE]]+budget5[[#This Row],[AVN]]+budget5[[#This Row],[LAFORCADE]]+budget5[[#This Row],[SEGUR 2]]+budget5[[#This Row],[METIERS SOCIO EDUC]]+budget5[[#This Row],[AUTRES]]) -> 29811.481 | AB6: =IF(ISBLANK(budget5[[#This Row],[libellé poste]]),"",+budget5[[#This Row],[BRUT TOTAL]]/budget5[[#This Row],[VALEUR POINT ]]) -> 7585.6186 | AC6: DIRECTION
A7: MNA | B7: TISF | C7: TRUE | E7: {=INDEX(Grille[COEFFICIENT],MATCH(INDEX(Métiers[NUMERO DE GRILLE],MATCH(budget5[[#This Row],[libellé poste]]&budget5[[#This Row],[INTERNAT]],Métiers[METIER]&Métiers[INTERNAT],0)),Grille[NUMERO DE GRILLE],0),1)} -> 421 | G7: à recruter | H7: 1 | I7: =ANNEE -> 2023 | J7: CNSA | K7: 400 pl MNA | L7: 0.0921 | M7: 3.93 | N7: 5 | O7: {=INDEX(Grille[COEFFICIENT],MATCH(budget5[[#This Row],[ANCIENNETÉ]],OFFSET(Grille[[#Headers],[ANCIENNETE]],MATCH(INDEX(Métiers[NUMERO DE GRILLE],MATCH(budget5[[#This Row],[libellé poste]]&budget5[[#This Row],[INTERNAT]],Métiers[METIER]&Métiers[INTERNAT],0)),Grille[NUMERO DE GRILLE],0),,COUNTIF(Grille[NUMERO DE GRILLE],INDEX(Métiers[NUMERO DE GRILLE],MATCH(budget5[[#This Row],[libellé poste]]&budget5[[#This Row],[INTERNAT]],Métiers[METIER]&Métiers[INTERNAT],0)))),1)+MATCH(INDEX(Métiers[NUMERO DE GRILLE],MATCH(budget5[[#This Row],[libellé poste]]&budget5[[#This Row],[INTERNAT]],Métiers[METIER]&Métiers[INTERNAT],0)),Grille[NUMERO DE GRILLE],0)-1)} -> 476 | P7: 45108 | Q7: 6 | R7: =+budget5[[#This Row],[COEFF]]*budget5[[#This Row],[NBRE MOIS ]] -> 2856 | S7: =IF(budget5[[#This Row],[CADRE]]="C",0,((budget5[[#This Row],[COEFF]]*budget5[[#This Row],[NBRE MOIS ]]*budget5[[#This Row],[ETP]]*budget5[[#This Row],[tx IND. SUJ° SPEC.]]))) -> 263.0376 | T7: =+budget5[[#This Row],[POINTS de base ANNUELS]]+budget5[[#This Row],[POINTS IND. SUJ° SPE. ANNUELS]]+budget5[[#This Row],[IND.SUJ]]*budget5[[#This Row],[ETP]]*budget5[[#This Row],[NBRE MOIS ]] -> 3119.0376 | U7: =IF(ISBLANK(budget5[[#This Row],[libellé poste]]),"",budget5[[#This Row],[POINTS ANNUELS]]*budget5[[#This Row],[VALEUR POINT ]]) -> 12257.818 | W7: =IF(ISBLANK(budget5[[#This Row],[libellé poste]]),"",N(INDEX(Postes[],MATCH(budget5[[#This Row],[libellé poste]],Postes[libellé poste],0),2))*238*budget5[[#This Row],[ETP]]*budget5[[#This Row],[NBRE MOIS ]]) -> 0 | X7: =IF(ISBLANK(budget5[[#This Row],[libellé poste]]),"",N(INDEX(Postes[],MATCH(budget5[[#This Row],[libellé poste]],Postes[libellé poste],0),3))*238*budget5[[#This Row],[ETP]]*budget5[[#This Row],[NBRE MOIS ]]) -> 0 | Y7: =IF(ISBLANK(budget5[[#This Row],[libellé poste]]),"",N(INDEX(Postes[],MATCH(budget5[[#This Row],[libellé poste]],Postes[libellé poste],0),4))*238*budget5[[#This Row],[ETP]]*budget5[[#This Row],[NBRE MOIS ]]) -> 1428 | AA7: =IF(ISBLANK(budget5[[#This Row],[libellé poste]]),"",budget5[[#This Row],[BRUT INDICIAIRE]]+budget5[[#This Row],[AVN]]+budget5[[#This Row],[LAFORCADE]]+budget5[[#This Row],[SEGUR 2]]+budget5[[#This Row],[METIERS SOCIO EDUC]]+budget5[[#This Row],[AUTRES]]) -> 13685.818 | AB7: =IF(ISBLANK(budget5[[#This Row],[libellé poste]]),"",+budget5[[#This Row],[BRUT TOTAL]]/budget5[[#This Row],[VALEUR POINT ]]) -> 3482.3964 | AC7: SOCIO-EDUCATIF
A8: MNA | B8: REFERENTS SOCIAUX EDUCATIFS | C8: TRUE | E8: {=INDEX(Grille[COEFFICIENT],MATCH(INDEX(Métiers[NUMERO DE GRILLE],MATCH(budget5[[#This Row],[libellé poste]]&budget5[[#This Row],[INTERNAT]],Métiers[METIER]&Métiers[INTERNAT],0)),Grille[NUMERO DE GRILLE],0),1)} -> 446 | G8: à recruter | H8: 2 | I8: =ANNEE -> 2023 | J8: CNSA | K8: 400 pl MNA | L8: 0.0921 | M8: 3.93 | N8: 5 | O8: {=INDEX(Grille[COEFFICIENT],MATCH(budget5[[#This Row],[ANCIENNETÉ]],OFFSET(Grille[[#Headers],[ANCIENNETE]],MATCH(INDEX(Métiers[NUMERO DE GRILLE],MATCH(budget5[[#This Row],[libellé poste]]&budget5[[#This Row],[INTERNAT]],Métiers[METIER]&Métiers[INTERNAT],0)),Grille[NUMERO DE GRILLE],0),,COUNTIF(Grille[NUMERO DE GRILLE],INDEX(Métiers[NUMERO DE GRILLE],MATCH(budget5[[#This Row],[libellé poste]]&budget5[[#This Row],[INTERNAT]],Métiers[METIER]&Métiers[INTERNAT],0)))),1)+MATCH(INDEX(Métiers[NUMERO DE GRILLE],MATCH(budget5[[#This Row],[libellé poste]]&budget5[[#This Row],[INTERNAT]],Métiers[METIER]&Métiers[INTERNAT],0)),Grille[NUMERO DE GRILLE],0)-1)} -> 517 | P8: 45108 | Q8: 6 | R8: =+budget5[[#This Row],[COEFF]]*budget5[[#This Row],[NBRE MOIS ]] -> 3102 | S8: =IF(budget5[[#This Row],[CADRE]]="C",0,((budget5[[#This Row],[COEFF]]*budget5[[#This Row],[NBRE MOIS ]]*budget5[[#This Row],[ETP]]*budget5[[#This Row],[tx IND. SUJ° SPEC.]]))) -> 571.3884 | T8: =+budget5[[#This Row],[POINTS de base ANNUELS]]+budget5[[#This Row],[POINTS IND. SUJ° SPE. ANNUELS]]+budget5[[#This Row],[IND.SUJ]]*budget5[[#This Row],[ETP]]*budget5[[#This Row],[NBRE MOIS ]] -> 3673.3884 | U8: =IF(ISBLANK(budget5[[#This Row],[libellé poste]]),"",budget5[[#This Row],[POINTS ANNUELS]]*budget5[[#This Row],[VALEUR POINT ]]) -> 14436.416 | W8: =IF(ISBLANK(budget5[[#This Row],[libellé poste]]),"",N(INDEX(Postes[],MATCH(budget5[[#This Row],[libellé poste]],Postes[libellé poste],0),2))*238*budget5[[#This Row],[ETP]]*budget5[[#This Row],[NBRE MOIS ]]) -> 0 | X8: =IF(ISBLANK(budget5[[#This Row],[libellé poste]]),"",N(INDEX(Postes[],MATCH(budget5[[#This Row],[libellé poste]],Postes[libellé poste],0),3))*238*budget5[[#This Row],[ETP]]*budget5[[#This Row],[NBRE MOIS ]]) -> 0 | Y8: =IF(ISBLANK(budget5[[#This Row],[libellé poste]]),"",N(INDEX(Postes[],MATCH(budget5[[#This Row],[libellé poste]],Postes[libellé poste],0),4))*238*budget5[[#This Row],[ETP]]*budget5[[#This Row],[NBRE MOIS ]]) -> 2856 | AA8: =IF(ISBLANK(budget5[[#This Row],[libellé poste]]),"",budget5[[#This Row],[BRUT INDICIAIRE]]+budget5[[#This Row],[AVN]]+budget5[[#This Row],[LAFORCADE]]+budget5[[#This Row],[SEGUR 2]]+budget5[[#This Row],[METIERS SOCIO EDUC]]+budget5[[#This Row],[AUTRES]]) -> 17292.416 | AB8: =IF(ISBLANK(budget5[[#This Row],[libellé poste]]),"",+budget5[[#This Row],[BRUT TOTAL]]/budget5[[#This Row],[VALEUR POINT ]]) -> 4400.106 | AC8: SOCIO-EDUCATIF
A9: MNA | B9: REFERENTS SOCIAUX EDUCATIFS | C9: TRUE | E9: {=INDEX(Grille[COEFFICIENT],MATCH(INDEX(Métiers[NUMERO DE GRILLE],MATCH(budget5[[#This Row],[libellé poste]]&budget5[[#This Row],[INTERNAT]],Métiers[METIER]&Métiers[INTERNAT],0)),Grille[NUMERO DE GRILLE],0),1)} -> 446 | G9: à recruter | H9: 1 | I9: =ANNEE -> 2023 | J9: CNSA | K9: 400 pl MNA | L9: 0.0921 | M9: 3.93 | N9: 5 | O9: {=INDEX(Grille[COEFFICIENT],MATCH(budget5[[#This Row],[ANCIENNETÉ]],OFFSET(Grille[[#Headers],[ANCIENNETE]],MATCH(INDEX(Métiers[NUMERO DE GRILLE],MATCH(budget5[[#This Row],[libellé poste]]&budget5[[#This Row],[INTERNAT]],Métiers[METIER]&Métiers[INTERNAT],0)),Grille[NUMERO DE GRILLE],0),,COUNTIF(Grille[NUMERO DE GRILLE],INDEX(Métiers[NUMERO DE GRILLE],MATCH(budget5[[#This Row],[libellé poste]]&budget5[[#This Row],[INTERNAT]],Métiers[METIER]&Métiers[INTERNAT],0)))),1)+MATCH(INDEX(Métiers[NUMERO DE GRILLE],MATCH(budget5[[#This Row],[libellé poste]]&budget5[[#This Row],[INTERNAT]],Métiers[METIER]&Métiers[INTERNAT],0)),Grille[NUMERO DE GRILLE],0)-1)} -> 517 | P9: 45139 | Q9: 5 | R9: =+budget5[[#This Row],[COEFF]]*budget5[[#This Row],[NBRE MOIS ]] -> 2585 | S9: =IF(budget5[[#This Row],[CADRE]]="C",0,((budget5[[#This Row],[COEFF]]*budget5[[#This Row],[NBRE MOIS ]]*budget5[[#This Row],[ETP]]*budget5[[#This Row],[tx IND. SUJ° SPEC.]]))) -> 238.0785 | T9: =+budget5[[#This Row],[POINTS de base ANNUELS]]+budget5[[#This Row],[POINTS IND. SUJ° SPE. ANNUELS]]+budget5[[#This Row],[IND.SUJ]]*budget5[[#This Row],[ETP]]*budget5[[#This Row],[NBRE MOIS ]] -> 2823.0785 | U9: =IF(ISBLANK(budget5[[#This Row],[libellé poste]]),"",budget5[[#This Row],[POINTS ANNUELS]]*budget5[[#This Row],[VALEUR POINT ]]) -> 11094.699 | W9: =IF(ISBLANK(budget5[[#This Row],[libellé poste]]),"",N(INDEX(Postes[],MATCH(budget5[[#This Row],[libellé poste]],Postes[libellé poste],0),2))*238*budget5[[#This Row],[ETP]]*budget5[[#This Row],[NBRE MOIS ]]) -> 0 | X9: =IF(ISBLANK(budget5[[#This Row],[libellé poste]]),"",N(INDEX(Postes[],MATCH(budget5[[#This Row],[libellé poste]],Postes[libellé poste],0),3))*238*budget5[[#This Row],[ETP]]*budget5[[#This Row],[NBRE MOIS ]]) -> 0 | Y9: =IF(ISBLANK(budget5[[#This Row],[libellé poste]]),"",N(INDEX(Postes[],MATCH(budget5[[#This Row],[libellé poste]],Postes[libellé poste],0),4))*238*budget5[[#This Row],[ETP]]*budget5[[#This Row],[NBRE MOIS ]]) -> 1190 | AA9: =IF(ISBLANK(budget5[[#This Row],[libellé poste]]),"",budget5[[#This Row],[BRUT INDICIAIRE]]+budget5[[#This Row],[AVN]]+budget5[[#This Row],[LAFORCADE]]+budget5[[#This Row],[SEGUR 2]]+budget5[[#This Row],[METIERS SOCIO EDUC]]+budget5[[#This Row],[AUTRES]]) -> 12284.699 | AB9: =IF(ISBLANK(budget5[[#This Row],[libellé poste]]),"",+budget5[[#This Row],[BRUT TOTAL]]/budget5[[#This Row],[VALEUR POINT ]]) -> 3125.8775 | AC9: SOCIO-EDUCATIF
A10: MNA | B10: REFERENTS SOCIAUX EDUCATIFS | C10: TRUE | E10: {=INDEX(Grille[COEFFICIENT],MATCH(INDEX(Métiers[NUMERO DE GRILLE],MATCH(budget5[[#This Row],[libellé poste]]&budget5[[#This Row],[INTERNAT]],Métiers[METIER]&Métiers[INTERNAT],0)),Grille[NUMERO DE GRILLE],0),1)} -> 446 | G10: à recruter | H10: 1 | I10: =ANNEE -> 2023 | J10: CNSA | K10: 400 pl MNA | L10: 0.0921 | M10: 3.93 | N10: 5 | O10: {=INDEX(Grille[COEFFICIENT],MATCH(budget5[[#This Row],[ANCIENNETÉ]],OFFSET(Grille[[#Headers],[ANCIENNETE]],MATCH(INDEX(Métiers[NUMERO DE GRILLE],MATCH(budget5[[#This Row],[libellé poste]]&budget5[[#This Row],[INTERNAT]],Métiers[METIER]&Métiers[INTERNAT],0)),Grille[NUMERO DE GRILLE],0),,COUNTIF(Grille[NUMERO DE GRILLE],INDEX(Métiers[NUMERO DE GRILLE],MATCH(budget5[[#This Row],[libellé poste]]&budget5[[#This Row],[INTERNAT]],Métiers[METIER]&Métiers[INTERNAT],0)))),1)+MATCH(INDEX(Métiers[NUMERO DE GRILLE],MATCH(budget5[[#This Row],[libellé poste]]&budget5[[#This Row],[INTERNAT]],Métiers[METIER]&Métiers[INTERNAT],0)),Grille[NUMERO DE GRILLE],0)-1)} -> 517 | P10: 45170 | Q10: 4 | R10: =+budget5[[#This Row],[COEFF]]*budget5[[#This Row],[NBRE MOIS ]] -> 2068 | S10: =IF(budget5[[#This Row],[CADRE]]="C",0,((budget5[[#This Row],[COEFF]]*budget5[[#This Row],[NBRE MOIS ]]*budget5[[#This Row],[ETP]]*budget5[[#This Row],[tx IND. SUJ° SPEC.]]))) -> 190.4628 | T10: =+budget5[[#This Row],[POINTS de base ANNUELS]]+budget5[[#This Row],[POINTS IND. SUJ° SPE. ANNUELS]]+budget5[[#This Row],[IND.SUJ]]*budget5[[#This Row],[ETP]]*budget5[[#This Row],[NBRE MOIS ]] -> 2258.4628 | U10: =IF(ISBLANK(budget5[[#This Row],[libellé poste]]),"",budget5[[#This Row],[POINTS ANNUELS]]*budget5[[#This Row],[VALEUR POINT ]]) -> 8875.7588 | W10: =IF(ISBLANK(budget5[[#This Row],[libellé poste]]),"",N(INDEX(Postes[],MATCH(budget5[[#This Row],[libellé poste]],Postes[libellé poste],0),2))*238*budget5[[#This Row],[ETP]]*budget5[[#This Row],[NBRE MOIS ]]) -> 0 | X10: =IF(ISBLANK(budget5[[#This Row],[libellé poste]]),"",N(INDEX(Postes[],MATCH(budget5[[#This Row],[libellé poste]],Postes[libellé poste],0),3))*238*budget5[[#This Row],[ETP]]*budget5[[#This Row],[NBRE MOIS ]]) -> 0 | Y10: =IF(ISBLANK(budget5[[#This Row],[libellé poste]]),"",N(INDEX(Postes[],MATCH(budget5[[#This Row],[libellé poste]],Postes[libellé poste],0),4))*238*budget5[[#This Row],[ETP]]*budget5[[#This Row],[NBRE MOIS ]]) -> 952 | AA10: =IF(ISBLANK(budget5[[#This Row],[libellé poste]]),"",budget5[[#This Row],[BRUT INDICIAIRE]]+budget5[[#This Row],[AVN]]+budget5[[#This Row],[LAFORCADE]]+budget5[[#This Row],[SEGUR 2]]+budget5[[#This Row],[METIERS SOCIO EDUC]]+budget5[[#This Row],[AUTRES]]) -> 9827.7588 | AB10: =IF(ISBLANK(budget5[[#This Row],[libellé poste]]),"",+budget5[[#This Row],[BRUT TOTAL]]/budget5[[#This Row],[VALEUR POINT ]]) -> 2500.702 | AC10: SOCIO-EDUCATIF
A11: MNA | B11: REFERENTS SOCIAUX EDUCATIFS | C11: TRUE | E11: {=INDEX(Grille[COEFFICIENT],MATCH(INDEX(Métiers[NUMERO DE GRILLE],MATCH(budget5[[#This Row],[libellé poste]]&budget5[[#This Row],[INTERNAT]],Métiers[METIER]&Métiers[INTERNAT],0)),Grille[NUMERO DE GRILLE],0),1)} -> 446 | G11: à recruter | H11: 1 | I11: =ANNEE -> 2023 | J11: CNSA | K11: 400 pl MNA | L11: 0.0921 | M11: 3.93 | N11: 5 | O11: {=INDEX(Grille[COEFFICIENT],MATCH(budget5[[#This Row],[ANCIENNETÉ]],OFFSET(Grille[[#Headers],[ANCIENNETE]],MATCH(INDEX(Métiers[NUMERO DE GRILLE],MATCH(budget5[[#This Row],[libellé poste]]&budget5[[#This Row],[INTERNAT]],Métiers[METIER]&Métiers[INTERNAT],0)),Grille[NUMERO DE GRILLE],0),,COUNTIF(Grille[NUMERO DE GRILLE],INDEX(Métiers[NUMERO DE GRILLE],MATCH(budget5[[#This Row],[libellé poste]]&budget5[[#This Row],[INTERNAT]],Métiers[METIER]&Métiers[INTERNAT],0)))),1)+MATCH(INDEX(Métiers[NUMERO DE GRILLE],MATCH(budget5[[#This Row],[libellé poste]]&budget5[[#This Row],[INTERNAT]],Métiers[METIER]&Métiers[INTERNAT],0)),Grille[NUMERO DE GRILLE],0)-1)} -> 517 | P11: 45200 | Q11: 3 | R11: =+budget5[[#This Row],[COEFF]]*budget5[[#This Row],[NBRE MOIS ]] -> 1551 | S11: =IF(budget5[[#This Row],[CADRE]]="C",0,((budget5[[#This Row],[COEFF]]*budget5[[#This Row],[NBRE MOIS ]]*budget5[[#This Row],[ETP]]*budget5[[#This Row],[tx IND. SUJ° SPEC.]]))) -> 142.8471 | T11: =+budget5[[#This Row],[POINTS de base ANNUELS]]+budget5[[#This Row],[POINTS IND. SUJ° SPE. ANNUELS]]+budget5[[#This Row],[IND.SUJ]]*budget5[[#This Row],[ETP]]*budget5[[#This Row],[NBRE MOIS ]] -> 1693.8471 | U11: =IF(ISBLANK(budget5[[#This Row],[libellé poste]]),"",budget5[[#This Row],[POINTS ANNUELS]]*budget5[[#This Row],[VALEUR POINT ]]) -> 6656.8191 | W11: =IF(ISBLANK(budget5[[#This Row],[libellé poste]]),"",N(INDEX(Postes[],MATCH(budget5[[#This Row],[libellé poste]],Postes[libellé poste],0),2))*238*budget5[[#This Row],[ETP]]*budget5[[#This Row],[NBRE MOIS ]]) -> 0 | X11: =IF(ISBLANK(budget5[[#This Row],[libellé poste]]),"",N(INDEX(Postes[],MATCH(budget5[[#This Row],[libellé poste]],Postes[libellé poste],0),3))*238*budget5[[#This Row],[ETP]]*budget5[[#This Row],[NBRE MOIS ]]) -> 0 | Y11: =IF(ISBLANK(budget5[[#This Row],[libellé poste]]),"",N(INDEX(Postes[],MATCH(budget5[[#This Row],[libellé poste]],Postes[libellé poste],0),4))*238*budget5[[#This Row],[ETP]]*budget5[[#This Row],[NBRE MOIS ]]) -> 714 | AA11: =IF(ISBLANK(budget5[[#This Row],[libellé poste]]),"",budget5[[#This Row],[BRUT INDICIAIRE]]+budget5[[#This Row],[AVN]]+budget5[[#This Row],[LAFORCADE]]+budget5[[#This Row],[SEGUR 2]]+budget5[[#This Row],[METIERS SOCIO EDUC]]+budget5[[#This Row],[AUTRES]]) -> 7370.8191 | AB11: =IF(ISBLANK(budget5[[#This Row],[libellé poste]]),"",+budget5[[#This Row],[BRUT TOTAL]]/budget5[[#This Row],[VALEUR POINT ]]) -> 1875.5265 | AC11: SOCIO-EDUCATIF
A12: MNA | B12: REFERENTS SOCIAUX EDUCATIFS | C12: TRUE | E12: {=INDEX(Grille[COEFFICIENT],MATCH(INDEX(Métiers[NUMERO DE GRILLE],MATCH(budget5[[#This Row],[libellé poste]]&budget5[[#This Row],[INTERNAT]],Métiers[METIER]&Métiers[INTERNAT],0)),Grille[NUMERO DE GRILLE],0),1)} -> 446 | G12: à recruter | H12: 1 | I12: =ANNEE -> 2023 | J12: CNSA | K12: 400 pl MNA | L12: 0.0921 | M12: 3.93 | N12: 5 | O12: {=INDEX(Grille[COEFFICIENT],MATCH(budget5[[#This Row],[ANCIENNETÉ]],OFFSET(Grille[[#Headers],[ANCIENNETE]],MATCH(INDEX(Métiers[NUMERO DE GRILLE],MATCH(budget5[[#This Row],[libellé poste]]&budget5[[#This Row],[INTERNAT]],Métiers[METIER]&Métiers[INTERNAT],0)),Grille[NUMERO DE GRILLE],0),,COUNTIF(Grille[NUMERO DE GRILLE],INDEX(Métiers[NUMERO DE GRILLE],MATCH(budget5[[#This Row],[libellé poste]]&budget5[[#This Row],[INTERNAT]],Métiers[METIER]&Métiers[INTERNAT],0)))),1)+MATCH(INDEX(Métiers[NUMERO DE GRILLE],MATCH(budget5[[#This Row],[libellé poste]]&budget5[[#This Row],[INTERNAT]],Métiers[METIER]&Métiers[INTERNAT],0)),Grille[NUMERO DE GRILLE],0)-1)} -> 517 | P12: 45231 | Q12: 2 | R12: =+budget5[[#This Row],[COEFF]]*budget5[[#This Row],[NBRE MOIS ]] -> 1034 | S12: =IF(budget5[[#This Row],[CADRE]]="C",0,((budget5[[#This Row],[COEFF]]*budget5[[#This Row],[NBRE MOIS ]]*budget5[[#This Row],[ETP]]*budget5[[#This Row],[tx IND. SUJ° SPEC.]]))) -> 95.2314 | T12: =+budget5[[#This Row],[POINTS de base ANNUELS]]+budget5[[#This Row],[POINTS IND. SUJ° SPE. ANNUELS]]+budget5[[#This Row],[IND.SUJ]]*budget5[[#This Row],[ETP]]*budget5[[#This Row],[NBRE MOIS ]] -> 1129.2314 | U12: =IF(ISBLANK(budget5[[#This Row],[libellé poste]]),"",budget5[[#This Row],[POINTS ANNUELS]]*budget5[[#This Row],[VALEUR POINT ]]) -> 4437.8794 | W12: =IF(ISBLANK(budget5[[#This Row],[libellé poste]]),"",N(INDEX(Postes[],MATCH(budget5[[#This Row],[libellé poste]],Postes[libellé poste],0),2))*238*budget5[[#This Row],[ETP]]*budget5[[#This Row],[NBRE MOIS ]]) -> 0 | X12: =IF(ISBLANK(budget5[[#This Row],[libellé poste]]),"",N(INDEX(Postes[],MATCH(budget5[[#This Row],[libellé poste]],Postes[libellé poste],0),3))*238*budget5[[#This Row],[ETP]]*budget5[[#This Row],[NBRE MOIS ]]) -> 0 | Y12: =IF(ISBLANK(budget5[[#This Row],[libellé poste]]),"",N(INDEX(Postes[],MATCH(budget5[[#This Row],[libellé poste]],Postes[libellé poste],0),4))*238*budget5[[#This Row],[ETP]]*budget5[[#This Row],[NBRE MOIS ]]) -> 476 | AA12: =IF(ISBLANK(budget5[[#This Row],[libellé poste]]),"",budget5[[#This Row],[BRUT INDICIAIRE]]+budget5[[#This Row],[AVN]]+budget5[[#This Row],[LAFORCADE]]+budget5[[#This Row],[SEGUR 2]]+budget5[[#This Row],[METIERS SOCIO EDUC]]+budget5[[#This Row],[AUTRES]]) -> 4913.8794 | AB12: =IF(ISBLANK(budget5[[#This Row],[libellé poste]]),"",+budget5[[#This Row],[BRUT TOTAL]]/budget5[[#This Row],[VALEUR POINT ]]) -> 1250.351 | AC12: SOCIO-EDUCATIF
A13: MNA | B13: REFERENTS SOCIAUX EDUCATIFS | C13: TRUE | E13: {=INDEX(Grille[COEFFICIENT],MATCH(INDEX(Métiers[NUMERO DE GRILLE],MATCH(budget5[[#This Row],[libellé poste]]&budget5[[#This Row],[INTERNAT]],Métiers[METIER]&Métiers[INTERNAT],0)),Grille[NUMERO DE GRILLE],0),1)} -> 446 | G13: à recruter | H13: 1 | I13: =ANNEE -> 2023 | J13: CNSA | K13: 400 pl MNA | L13: 0.0921 | M13: 3.93 | N13: 5 | O13: {=INDEX(Grille[COEFFICIENT],MATCH(budget5[[#This Row],[ANCIENNETÉ]],OFFSET(Grille[[#Headers],[ANCIENNETE]],MATCH(INDEX(Métiers[NUMERO DE GRILLE],MATCH(budget5[[#This Row],[libellé poste]]&budget5[[#This Row],[INTERNAT]],Métiers[METIER]&Métiers[INTERNAT],0)),Grille[NUMERO DE GRILLE],0),,COUNTIF(Grille[NUMERO DE GRILLE],INDEX(Métiers[NUMERO DE GRILLE],MATCH(budget5[[#This Row],[libellé poste]]&budget5[[#This Row],[INTERNAT]],Métiers[METIER]&Métiers[INTERNAT],0)))),1)+MATCH(INDEX(Métiers[NUMERO DE GRILLE],MATCH(budget5[[#This Row],[libellé poste]]&budget5[[#This Row],[INTERNAT]],Métiers[METIER]&Métiers[INTERNAT],0)),Grille[NUMERO DE GRILLE],0)-1)} -> 517 | P13: 45261 | Q13: 1 | R13: =+budget5[[#This Row],[COEFF]]*budget5[[#This Row],[NBRE MOIS ]] -> 517 | S13: =IF(budget5[[#This Row],[CADRE]]="C",0,((budget5[[#This Row],[COEFF]]*budget5[[#This Row],[NBRE MOIS ]]*budget5[[#This Row],[ETP]]*budget5[[#This Row],[tx IND. SUJ° SPEC.]]))) -> 47.6157 | T13: =+budget5[[#This Row],[POINTS de base ANNUELS]]+budget5[[#This Row],[POINTS IND. SUJ° SPE. ANNUELS]]+budget5[[#This Row],[IND.SUJ]]*budget5[[#This Row],[ETP]]*budget5[[#This Row],[NBRE MOIS ]] -> 564.6157 | U13: =IF(ISBLANK(budget5[[#This Row],[libellé poste]]),"",budget5[[#This Row],[POINTS ANNUELS]]*budget5[[#This Row],[VALEUR POINT ]]) -> 2218.9397 | W13: =IF(ISBLANK(budget5[[#This Row],[libellé poste]]),"",N(INDEX(Postes[],MATCH(budget5[[#This Row],[libellé poste]],Postes[libellé poste],0),2))*238*budget5[[#This Row],[ETP]]*budget5[[#This Row],[NBRE MOIS ]]) -> 0 | X13: =IF(ISBLANK(budget5[[#This Row],[libellé poste]]),"",N(INDEX(Postes[],MATCH(budget5[[#This Row],[libellé poste]],Postes[libellé poste],0),3))*238*budget5[[#This Row],[ETP]]*budget5[[#This Row],[NBRE MOIS ]]) -> 0 | Y13: =IF(ISBLANK(budget5[[#This Row],[libellé poste]]),"",N(INDEX(Postes[],MATCH(budget5[[#This Row],[libellé poste]],Postes[libellé poste],0),4))*238*budget5[[#This Row],[ETP]]*budget5[[#This Row],[NBRE MOIS ]]) -> 238 | AA13: =IF(ISBLANK(budget5[[#This Row],[libellé poste]]),"",budget5[[#This Row],[BRUT INDICIAIRE]]+budget5[[#This Row],[AVN]]+budget5[[#This Row],[LAFORCADE]]+budget5[[#This Row],[SEGUR 2]]+budget5[[#This Row],[METIERS SOCIO EDUC]]+budget5[[#This Row],[AUTRES]]) -> 2456.9397 | AB13: =IF(ISBLANK(budget5[[#This Row],[libellé poste]]),"",+budget5[[#This Row],[BRUT TOTAL]]/budget5[[#This Row],[VALEUR POINT ]]) -> 625.1755 | AC13: SOCIO-EDUCATIF
A14: MNA | B14: REFERENTS SOCIAUX EDUCATIFS | C14: TRUE | E14: {=INDEX(Grille[COEFFICIENT],MATCH(INDEX(Métiers[NUMERO DE GRILLE],MATCH(budget5[[#This Row],[libellé poste]]&budget5[[#This Row],[INTERNAT]],Métiers[METIER]&Métiers[INTERNAT],0)),Grille[NUMERO DE GRILLE],0),1)} -> 446 | G14: à recruter | H14: 1 | I14: =ANNEE -> 2023 | J14: CNSA | K14: 400 pl MNA | L14: 0.0921 | M14: 3.93 | N14: 5 | O14: {=INDEX(Grille[COEFFICIENT],MATCH(budget5[[#This Row],[ANCIENNETÉ]],OFFSET(Grille[[#Headers],[ANCIENNETE]],MATCH(INDEX(Métiers[NUMERO DE GRILLE],MATCH(budget5[[#This Row],[libellé poste]]&budget5[[#This Row],[INTERNAT]],Métiers[METIER]&Métiers[INTERNAT],0)),Grille[NUMERO DE GRILLE],0),,COUNTIF(Grille[NUMERO DE GRILLE],INDEX(Métiers[NUMERO DE GRILLE],MATCH(budget5[[#This Row],[libellé poste]]&budget5[[#This Row],[INTERNAT]],Métiers[METIER]&Métiers[INTERNAT],0)))),1)+MATCH(INDEX(Métiers[NUMERO DE GRILLE],MATCH(budget5[[#This Row],[libellé poste]]&budget5[[#This Row],[INTERNAT]],Métiers[METIER]&Métiers[INTERNAT],0)),Grille[NUMERO DE GRILLE],0)-1)} -> 517 | P14: 45108 | Q14: 6 | R14: =+budget5[[#This Row],[COEFF]]*budget5[[#This Row],[NBRE MOIS ]] -> 3102 | S14: =IF(budget5[[#This Row],[CADRE]]="C",0,((budget5[[#This Row],[COEFF]]*budget5[[#This Row],[NBRE MOIS ]]*budget5[[#This Row],[ETP]]*budget5[[#This Row],[tx IND. SUJ° SPEC.]]))) -> 285.6942 | T14: =+budget5[[#This Row],[POINTS de base ANNUELS]]+budget5[[#This Row],[POINTS IND. SUJ° SPE. ANNUELS]]+budget5[[#This Row],[IND.SUJ]]*budget5[[#This Row],[ETP]]*budget5[[#This Row],[NBRE MOIS ]] -> 3387.6942 | U14: =IF(ISBLANK(budget5[[#This Row],[libellé poste]]),"",budget5[[#This Row],[POINTS ANNUELS]]*budget5[[#This Row],[VALEUR POINT ]]) -> 13313.638 | W14: =IF(ISBLANK(budget5[[#This Row],[libellé poste]]),"",N(INDEX(Postes[],MATCH(budget5[[#This Row],[libellé poste]],Postes[libellé poste],0),2))*238*budget5[[#This Row],[ETP]]*budget5[[#This Row],[NBRE MOIS ]]) -> 0 | X14: =IF(ISBLANK(budget5[[#This Row],[libellé poste]]),"",N(INDEX(Postes[],MATCH(budget5[[#This Row],[libellé poste]],Postes[libellé poste],0),3))*238*budget5[[#This Row],[ETP]]*budget5[[#This Row],[NBRE MOIS ]]) -> 0 | Y14: =IF(ISBLANK(budget5[[#This Row],[libellé poste]]),"",N(INDEX(Postes[],MATCH(budget5[[#This Row],[libellé poste]],Postes[libellé poste],0),4))*238*budget5[[#This Row],[ETP]]*budget5[[#This Row],[NBRE MOIS ]]) -> 1428 | AA14: =IF(ISBLANK(budget5[[#This Row],[libellé poste]]),"",budget5[[#This Row],[BRUT INDICIAIRE]]+budget5[[#This Row],[AVN]]+budget5[[#This Row],[LAFORCADE]]+budget5[[#This Row],[SEGUR 2]]+budget5[[#This Row],[METIERS SOCIO EDUC]]+budget5[[#This Row],[AUTRES]]) -> 14741.638 | AB14: =IF(ISBLANK(budget5[[#This Row],[libellé poste]]),"",+budget5[[#This Row],[BRUT TOTAL]]/budget5[[#This Row],[VALEUR POINT ]]) -> 3751.053 | AC14: SOCIO-EDUCATIF
A15: MNA | B15: INFIRMIER | C15: TRUE | E15: {=INDEX(Grille[COEFFICIENT],MATCH(INDEX(Métiers[NUMERO DE GRILLE],MATCH(budget5[[#This Row],[libellé poste]]&budget5[[#This Row],[INTERNAT]],Métiers[METIER]&Métiers[INTERNAT],0)),Grille[NUMERO DE GRILLE],0),1)} -> 446 | G15: à recruter | H15: 1 | I15: =ANNEE -> 2023 | J15: CNSA | K15: 400 pl MNA | L15: 0.0921 | M15: 3.93 | N15: 15 | O15: {=INDEX(Grille[COEFFICIENT],MATCH(budget5[[#This Row],[ANCIENNETÉ]],OFFSET(Grille[[#Headers],[ANCIENNETE]],MATCH(INDEX(Métiers[NUMERO DE GRILLE],MATCH(budget5[[#This Row],[libellé poste]]&budget5[[#This Row],[INTERNAT]],Métiers[METIER]&Métiers[INTERNAT],0)),Grille[NUMERO DE GRILLE],0),,COUNTIF(Grille[NUMERO DE GRILLE],INDEX(Métiers[NUMERO DE GRILLE],MATCH(budget5[[#This Row],[libellé poste]]&budget5[[#This Row],[INTERNAT]],Métiers[METIER]&Métiers[INTERNAT],0)))),1)+MATCH(INDEX(Métiers[NUMERO DE GRILLE],MATCH(budget5[[#This Row],[libellé poste]]&budget5[[#This Row],[INTERNAT]],Métiers[METIER]&Métiers[INTERNAT],0)),Grille[NUMERO DE GRILLE],0)-1)} -> 632 | P15: 45108 | Q15: 6 | R15: =+budget5[[#This Row],[COEFF]]*budget5[[#This Row],[NBRE MOIS ]] -> 3792 | S15: =IF(budget5[[#This Row],[CADRE]]="C",0,((budget5[[#This Row],[COEFF]]*budget5[[#This Row],[NBRE MOIS ]]*budget5[[#This Row],[ETP]]*budget5[[#This Row],[tx IND. SUJ° SPEC.]]))) -> 349.2432 | T15: =+budget5[[#This Row],[POINTS de base ANNUELS]]+budget5[[#This Row],[POINTS IND. SUJ° SPE. ANNUELS]]+budget5[[#This Row],[IND.SUJ]]*budget5[[#This Row],[ETP]]*budget5[[#This Row],[NBRE MOIS ]] -> 4141.2432 | U15: =IF(ISBLANK(budget5[[#This Row],[libellé poste]]),"",budget5[[#This Row],[POINTS ANNUELS]]*budget5[[#This Row],[VALEUR POINT ]]) -> 16275.086 | W15: =IF(ISBLANK(budget5[[#This Row],[libellé poste]]),"",N(INDEX(Postes[],MATCH(budget5[[#This Row],[libellé poste]],Postes[libellé poste],0),2))*238*budget5[[#This Row],[ETP]]*budget5[[#This Row],[NBRE MOIS ]]) -> 0 | X15: =IF(ISBLANK(budget5[[#This Row],[libellé poste]]),"",N(INDEX(Postes[],MATCH(budget5[[#This Row],[libellé poste]],Postes[libellé poste],0),3))*238*budget5[[#This Row],[ETP]]*budget5[[#This Row],[NBRE MOIS ]]) -> 0 | Y15: =IF(ISBLANK(budget5[[#This Row],[libellé poste]]),"",N(INDEX(Postes[],MATCH(budget5[[#This Row],[libellé poste]],Postes[libellé poste],0),4))*238*budget5[[#This Row],[ETP]]*budget5[[#This Row],[NBRE MOIS ]]) -> 1428 | AA15: =IF(ISBLANK(budget5[[#This Row],[libellé poste]]),"",budget5[[#This Row],[BRUT INDICIAIRE]]+budget5[[#This Row],[AVN]]+budget5[[#This Row],[LAFORCADE]]+budget5[[#This Row],[SEGUR 2]]+budget5[[#This Row],[METIERS SOCIO EDUC]]+budget5[[#This Row],[AUTRES]]) -> 17703.086 | AB15: =IF(ISBLANK(budget5[[#This Row],[libellé poste]]),"",+budget5[[#This Row],[BRUT TOTAL]]/budget5[[#This Row],[VALEUR POINT ]]) -> 4504.602 | AC15: PARA-MEDICAL
A16: MNA | B16: JURISTE | C16: FALSE | E16: {=INDEX(Grille[COEFFICIENT],MATCH(INDEX(Métiers[NUMERO DE GRILLE],MATCH(budget5[[#This Row],[libellé poste]]&budget5[[#This Row],[INTERNAT]],Métiers[METIER]&Métiers[INTERNAT],0)),Grille[NUMERO DE GRILLE],0),1)} -> 434 | G16: à recruter | H16: 1 | I16: =ANNEE -> 2023 | J16: CNSA | K16: 400 pl MNA | L16: 0.0921 | M16: 3.93 | N16: 5 | O16: {=INDEX(Grille[COEFFICIENT],MATCH(budget5[[#This Row],[ANCIENNETÉ]],OFFSET(Grille[[#Headers],[ANCIENNETE]],MATCH(INDEX(Métiers[NUMERO DE GRILLE],MATCH(budget5[[#This Row],[libellé poste]]&budget5[[#This Row],[INTERNAT]],Métiers[METIER]&Métiers[INTERNAT],0)),Grille[NUMERO DE GRILLE],0),,COUNTIF(Grille[NUMERO DE GRILLE],INDEX(Métiers[NUMERO DE GRILLE],MATCH(budget5[[#This Row],[libellé poste]]&budget5[[#This Row],[INTERNAT]],Métiers[METIER]&Métiers[INTERNAT],0)))),1)+MATCH(INDEX(Métiers[NUMERO DE GRILLE],MATCH(budget5[[#This Row],[libellé poste]]&budget5[[#This Row],[INTERNAT]],Métiers[METIER]&Métiers[INTERNAT],0)),Grille[NUMERO DE GRILLE],0)-1)} -> 503 | P16: 45170 | Q16: 4 | R16: =+budget5[[#This Row],[COEFF]]*budget5[[#This Row],[NBRE MOIS ]] -> 2012 | S16: =IF(budget5[[#This Row],[CADRE]]="C",0,((budget5[[#This Row],[COEFF]]*budget5[[#This Row],[NBRE MOIS ]]*budget5[[#This Row],[ETP]]*budget5[[#This Row],[tx IND. SUJ° SPEC.]]))) -> 185.3052 | T16: =+budget5[[#This Row],[POINTS de base ANNUELS]]+budget5[[#This Row],[POINTS IND. SUJ° SPE. ANNUELS]]+budget5[[#This Row],[IND.SUJ]]*budget5[[#This Row],[ETP]]*budget5[[#This Row],[NBRE MOIS ]] -> 2197.3052 | U16: =IF(ISBLANK(budget5[[#This Row],[libellé poste]]),"",budget5[[#This Row],[POINTS ANNUELS]]*budget5[[#This Row],[VALEUR POINT ]]) -> 8635.4094 | W16: =IF(ISBLANK(budget5[[#This Row],[libellé poste]]),"",N(INDEX(Postes[],MATCH(budget5[[#This Row],[libellé poste]],Postes[libellé poste],0),2))*238*budget5[[#This Row],[ETP]]*budget5[[#This Row],[NBRE MOIS ]]) -> 0 | X16: =IF(ISBLANK(budget5[[#This Row],[libellé poste]]),"",N(INDEX(Postes[],MATCH(budget5[[#This Row],[libellé poste]],Postes[libellé poste],0),3))*238*budget5[[#This Row],[ETP]]*budget5[[#This Row],[NBRE MOIS ]]) -> 0 | Y16: =IF(ISBLANK(budget5[[#This Row],[libellé poste]]),"",N(INDEX(Postes[],MATCH(budget5[[#This Row],[libellé poste]],Postes[libellé poste],0),4))*238*budget5[[#This Row],[ETP]]*budget5[[#This Row],[NBRE MOIS ]]) -> 952 | AA16: =IF(ISBLANK(budget5[[#This Row],[libellé poste]]),"",budget5[[#This Row],[BRUT INDICIAIRE]]+budget5[[#This Row],[AVN]]+budget5[[#This Row],[LAFORCADE]]+budget5[[#This Row],[SEGUR 2]]+budget5[[#This Row],[METIERS SOCIO EDUC]]+budget5[[#This Row],[AUTRES]]) -> 9587.4094 | AB16: =IF(ISBLANK(budget5[[#This Row],[libellé poste]]),"",+budget5[[#This Row],[BRUT TOTAL]]/budget5[[#This Row],[VALEUR POINT ]]) -> 2439.5444 | AC16: SOCIO-EDUCATIF
A17: MNA | B17: DIRECTEUR DE POLE ADJOINT | C17: FALSE | D17: C | E17: {=INDEX(Grille[COEFFICIENT],MATCH(INDEX(Métiers[NUMERO DE GRILLE],MATCH(budget5[[#This Row],[libellé poste]]&budget5[[#This Row],[INTERNAT]],Métiers[METIER]&Métiers[INTERNAT],0)),Grille[NUMERO DE GRILLE],0),1)} -> 800 | F17: 300 | G17: à recruter | H17: 0.2 | I17: =ANNEE -> 2023 | J17: CNSA | K17: 400 pl MNA | L17: 0.0921 | M17: 3.93 | N17: 8 | O17: {=INDEX(Grille[COEFFICIENT],MATCH(budget5[[#This Row],[ANCIENNETÉ]],OFFSET(Grille[[#Headers],[ANCIENNETE]],MATCH(INDEX(Métiers[NUMERO DE GRILLE],MATCH(budget5[[#This Row],[libellé poste]]&budget5[[#This Row],[INTERNAT]],Métiers[METIER]&Métiers[INTERNAT],0)),Grille[NUMERO DE GRILLE],0),,COUNTIF(Grille[NUMERO DE GRILLE],INDEX(Métiers[NUMERO DE GRILLE],MATCH(budget5[[#This Row],[libellé poste]]&budget5[[#This Row],[INTERNAT]],Métiers[METIER]&Métiers[INTERNAT],0)))),1)+MATCH(INDEX(Métiers[NUMERO DE GRILLE],MATCH(budget5[[#This Row],[libellé poste]]&budget5[[#This Row],[INTERNAT]],Métiers[METIER]&Métiers[INTERNAT],0)),Grille[NUMERO DE GRILLE],0)-1)} -> 848 | P17: 45170 | Q17: 4 | R17: =+budget5[[#This Row],[COEFF]]*budget5[[#This Row],[NBRE MOIS ]] -> 3392 | S17: =IF(budget5[[#This Row],[CADRE]]="C",0,((budget5[[#This Row],[COEFF]]*budget5[[#This Row],[NBRE MOIS ]]*budget5[[#This Row],[ETP]]*budget5[[#This Row],[tx IND. SUJ° SPEC.]]))) -> 0 | T17: =+budget5[[#This Row],[POINTS de base ANNUELS]]+budget5[[#This Row],[POINTS IND. SUJ° SPE. ANNUELS]]+budget5[[#This Row],[IND.SUJ]]*budget5[[#This Row],[ETP]]*budget5[[#This Row],[NBRE MOIS ]] -> 3632 | U17: =IF(ISBLANK(budget5[[#This Row],[libellé poste]]),"",budget5[[#This Row],[POINTS ANNUELS]]*budget5[[#This Row],[VALEUR POINT ]]) -> 14273.76 | W17: =IF(ISBLANK(budget5[[#This Row],[libellé poste]]),"",N(INDEX(Postes[],MATCH(budget5[[#This Row],[libellé poste]],Postes[libellé poste],0),2))*238*budget5[[#This Row],[ETP]]*budget5[[#This Row],[NBRE MOIS ]]) -> 0 | X17: =IF(ISBLANK(budget5[[#This Row],[libellé poste]]),"",N(INDEX(Postes[],MATCH(budget5[[#This Row],[libellé poste]],Postes[libellé poste],0),3))*238*budget5[[#This Row],[ETP]]*budget5[[#This Row],[NBRE MOIS ]]) -> 0 | Y17: 0 | AA17: =IF(ISBLANK(budget5[[#This Row],[libellé poste]]),"",budget5[[#This Row],[BRUT INDICIAIRE]]+budget5[[#This Row],[AVN]]+budget5[[#This Row],[LAFORCADE]]+budget5[[#This Row],[SEGUR 2]]+budget5[[#This Row],[METIERS SOCIO EDUC]]+budget5[[#This Row],[AUTRES]]) -> 14273.76 | AB17: =IF(ISBLANK(budget5[[#This Row],[libellé poste]]),"",+budget5[[#This Row],[BRUT TOTAL]]/budget5[[#This Row],[VALEUR POINT ]]) -> 3632 | AC17: DIRECTION
