Workbook

Sheet explication 
A1: explication
A3: je souhaite que dans l'onglet TEST OM si je renseigne C9 + C10 , le cellule E10 vienne recupérer le contenu de la D5 de ma "matrice planning paire" puis mettre le contenu de la D6 dans la E17 et ainsi de suite
A11: Est-ce que cela est possible d'une manière ou d'une autre

Sheet Matrice planning paire
A2: 8 | D2: SEMAINE PAIRE N° | G2: ST SULPICE 008 / REGIONAL (sans ramassage des retours) | X2: ST SULPICE 008 / REGIONAL (sans ramassage des retours) | AO2: ST SULPICE 008 / LONGUE DISTANCE
A3: 45145 | B3: 1 | C3: CAMION 1 | E3: 2 | F3: CAMION 2 | I3: CAMION 3 | L3: CAMION 4 | O3: CAMION 5 | R3: CAMION 6 | U3: CAMION 7 | X3: =A3 -> 45145 | Y3: 8 | Z3: CAMION 8 | AB3: 9 | AC3: CAMION 9 | AE3: 10 | AF3: x | AG3: CAMION 10 | AH3: 11 | AI3: x | AJ3: CAMION 11 | AK3: 12 | AL3: CAMION 12 | AO3: =A3 -> 45145 | AP3: 13 | AR3: GR1 | AS3: 4 | AU3: GR2 | AX3: GR12
B4: 0 | D4: =_xlfn.IFNA(VLOOKUP(B3,CTR[],2,FALSE),"") -> Arnaud / GC-690-DK | E4: 0 | G4: =_xlfn.IFNA(VLOOKUP(E3,CTR[],2,FALSE),"") -> Caroll / FZ-768-KH | H4: 0 | J4: =_xlfn.IFNA(VLOOKUP(H3,CTR[],2,FALSE),"") | K4: 0 | M4: =_xlfn.IFNA(VLOOKUP(K3,CTR[],2,FALSE),"") | N4: 0 | P4: =_xlfn.IFNA(VLOOKUP(N3,CTR[],2,FALSE),"") | Q4: 0 | S4: =_xlfn.IFNA(VLOOKUP(Q3,CTR[],2,FALSE),"") | T4: 0 | V4: =_xlfn.IFNA(VLOOKUP(T3,CTR[],2,FALSE),"") | Y4: 0 | AA4: =_xlfn.IFNA(VLOOKUP(Y3,CTR[],2,FALSE),"") -> Jean-Luc / FZ-272-CQ | AB4: 0 | AD4: =_xlfn.IFNA(VLOOKUP(AB3,CTR[],2,FALSE),"") -> Manu / FM-902-KS | AE4: 0 | AG4: =_xlfn.IFNA(VLOOKUP(AE3,CTR[],2,FALSE),"") -> Marco / FZ-672-MC | AH4: 0 | AJ4: =_xlfn.IFNA(VLOOKUP(AH3,CTR[],2,FALSE),"") -> Matthieu / GC-569-XQ | AK4: 0 | AM4: =_xlfn.IFNA(VLOOKUP(AK3,CTR[],2,FALSE),"") -> Sebastien / GJ998-GR | AP4: 0 | AR4: =_xlfn.IFNA(VLOOKUP(AP3,CTR[],2,FALSE),"") -> Yusuf / GJ-714-GR | AS4: 0 | AU4: =_xlfn.IFNA(VLOOKUP(AS3,CTR[],2,FALSE),"") -> Eric / GC-102-TG | AV4: 0 | AX4: =_xlfn.IFNA(VLOOKUP(AV3,CTR[],2,FALSE),"")
B5: =_xlfn.IFNA(VLOOKUP(B3,CTR[],3,FALSE),"") -> FW-097-JQ | C5: 8C | D5: =_xlfn.IFNA(VLOOKUP(C5:C16,Agences[],2,FALSE),"") -> CHGT PTF ST SULPICE | E5: =_xlfn.IFNA(VLOOKUP(E3,CTR[],3,FALSE),"") -> FZ-277-WC | F5: 8C | G5: =_xlfn.IFNA(VLOOKUP(F5:F16,Agences[],2,FALSE),"") -> CHGT PTF ST SULPICE | H5: =_xlfn.IFNA(VLOOKUP(H3,CTR[],3,FALSE),"") | I5: 8C | J5: =_xlfn.IFNA(VLOOKUP(I5:I16,Agences[],2,FALSE),"") -> CHGT PTF ST SULPICE | K5: =_xlfn.IFNA(VLOOKUP(K3,CTR[],3,FALSE),"") | L5: 8C | M5: =_xlfn.IFNA(VLOOKUP(L5:L16,Agences[],2,FALSE),"") -> CHGT PTF ST SULPICE | N5: =_xlfn.IFNA(VLOOKUP(N3,CTR[],3,FALSE),"") | O5: 6 | P5: =_xlfn.IFNA(VLOOKUP(O5:O16,Agences[],2,FALSE),"") -> PTF AUTO 6 | Q5: =_xlfn.IFNA(VLOOKUP(Q3,CTR[],3,FALSE),"") | R5: 8C | S5: =_xlfn.IFNA(VLOOKUP(R5:R16,Agences[],2,FALSE),"") -> CHGT PTF ST SULPICE | T5: =_xlfn.IFNA(VLOOKUP(T3,CTR[],3,FALSE),"") | U5: 8C | V5: =_xlfn.IFNA(VLOOKUP(U5:U13,Agences[],2,FALSE),"") -> CHGT PTF ST SULPICE | Y5: =_xlfn.IFNA(VLOOKUP(Y3,CTR[],3,FALSE),"") -> FZ-221-HR | Z5: 8C | AA5: =_xlfn.IFNA(VLOOKUP(Z5,Agences[],2,FALSE),"") -> CHGT PTF ST SULPICE | AB5: =_xlfn.IFNA(VLOOKUP(AB3,CTR[],3,FALSE),"") -> ET-125-BH | AC5: 8C | AD5: =_xlfn.IFNA(VLOOKUP(AC5,Agences[],2,FALSE),"") -> CHGT PTF ST SULPICE | AE5: =_xlfn.IFNA(VLOOKUP(AE3,CTR[],3,FALSE),"") -> FZ-446-WB | AF5: 6C | AG5: =_xlfn.IFNA(VLOOKUP(AF5,Agences[],2,FALSE),"") -> CHGT PTF AUTO | AH5: =_xlfn.IFNA(VLOOKUP(AH3,CTR[],3,FALSE),"") -> FB-856-AV | AI5: 6E | AJ5: =_xlfn.IFNA(VLOOKUP(AI5,Agences[],2,FALSE),"") -> E-COMMERCE ptf 006 | AK5: =_xlfn.IFNA(VLOOKUP(AK3,CTR[],3,FALSE),"") -> ET-231-QD | AL5: 8 | AM5: =_xlfn.IFNA(VLOOKUP(AL5,Agences[],2,FALSE),"") -> PTF ST SULPICE | AP5: =_xlfn.IFNA(VLOOKUP(AP3,CTR[],3,FALSE),"") -> FB-043-AA | AQ5: 9 | AR5: =_xlfn.IFNA(VLOOKUP(AQ5,Agences[],2,FALSE),"") -> ST ALBAN | AS5: =_xlfn.IFNA(VLOOKUP(AS3,CTR[],3,FALSE),"") -> FB-586-AV | AT5: 242 | AU5: =_xlfn.IFNA(VLOOKUP(AT5,Agences[],2,FALSE),"") -> LIMOGES cx | AV5: =_xlfn.IFNA(VLOOKUP(AV3,CTR[],3,FALSE),"") | AX5: =_xlfn.IFNA(VLOOKUP(AW5,Agences[],2,FALSE),"")
C6: 44 | D6: =_xlfn.IFNA(VLOOKUP(C6:C17,Agences[],2,FALSE),"") -> CARCASSONNE | F6: 12 | G6: =_xlfn.IFNA(VLOOKUP(F6:F17,Agences[],2,FALSE),"") -> Bd SUISSE (liv. 6H) | I6: 58 | J6: =_xlfn.IFNA(VLOOKUP(I6:I17,Agences[],2,FALSE),"") -> SALVIAC | L6: 87 | M6: =_xlfn.IFNA(VLOOKUP(L6:L17,Agences[],2,FALSE),"") -> COUIZA | O6: 460 | P6: =_xlfn.IFNA(VLOOKUP(O6:O17,Agences[],2,FALSE),"") -> ALBI (Lescure) RP | R6: 461 | S6: =_xlfn.IFNA(VLOOKUP(R5:R16,Agences[],2,FALSE),"") -> CASTRES (Saix) RP | U6: 181 | V6: =_xlfn.IFNA(VLOOKUP(U5:U16,Agences[],2,FALSE),"") -> NOGARO RP | Z6: 130 | AA6: =_xlfn.IFNA(VLOOKUP(Z6,Agences[],2,FALSE),"") -> BANYULS | AC6: 57 | AD6: =_xlfn.IFNA(VLOOKUP(AC6,Agences[],2,FALSE),"") -> VERFEIL | AF6: 463 | AG6: =_xlfn.IFNA(VLOOKUP(AF6,Agences[],2,FALSE),"") -> JUVIGNAC CARRELAGES | AI6: 139 | AJ6: =_xlfn.IFNA(VLOOKUP(AI6,Agences[],2,FALSE),"") -> ST GAUDENS CARR. | AM6: =_xlfn.IFNA(VLOOKUP(AL6,Agences[],2,FALSE),"") | AQ6: MAP 395 | AR6: =_xlfn.IFNA(VLOOKUP(AQ6,Agences[],2,FALSE),"") -> CHGT MAPEI 395 | AT6: 201 | AU6: =_xlfn.IFNA(VLOOKUP(AT6,Agences[],2,FALSE),"") -> CHATEAUROUX | AX6: =_xlfn.IFNA(VLOOKUP(AW6,Agences[],2,FALSE),"")
C7: 43 | D7: =_xlfn.IFNA(VLOOKUP(C7:C17,Agences[],2,FALSE),"") -> NARBONNE | F7: 119 | G7: =_xlfn.IFNA(VLOOKUP(F7:F20,Agences[],2,FALSE),"") -> FONSEGRIVES | I7: 59 | J7: =_xlfn.IFNA(VLOOKUP(I7:I17,Agences[],2,FALSE),"") -> GOURDON | L7: 86 | M7: =_xlfn.IFNA(VLOOKUP(L7:L17,Agences[],2,FALSE),"") -> LIMOUX | O7: 46 | P7: =_xlfn.IFNA(VLOOKUP(O7:O17,Agences[],2,FALSE),"") -> ALBI | R7: 163 | S7: =_xlfn.IFNA(VLOOKUP(R7:R17,Agences[],2,FALSE),"") -> CASTRES US. | U7: 36 | V7: =_xlfn.IFNA(VLOOKUP(U6:U17,Agences[],2,FALSE),"") -> AUCH | Z7: 51 | AA7: =_xlfn.IFNA(VLOOKUP(Z7,Agences[],2,FALSE),"") -> ARGELES | AC7: 117 | AD7: =_xlfn.IFNA(VLOOKUP(AC7,Agences[],2,FALSE),"") -> VERFEIL BETON via 57 | AF7: 307 | AG7: =_xlfn.IFNA(VLOOKUP(AF7,Agences[],2,FALSE),"") -> ARLES | AI7: 102 | AJ7: =_xlfn.IFNA(VLOOKUP(AI7,Agences[],2,FALSE),"") -> ST GAUDENS | AL7: 6C | AM7: =_xlfn.IFNA(VLOOKUP(AL7,Agences[],2,FALSE),"") -> CHGT PTF AUTO | AQ7: 395 | AR7: =_xlfn.IFNA(VLOOKUP(AQ7,Agences[],2,FALSE),"") -> SAINT PAUL | AU7: =_xlfn.IFNA(VLOOKUP(AT7,Agences[],2,FALSE),"") | AX7: =_xlfn.IFNA(VLOOKUP(AW7,Agences[],2,FALSE),"")
C8: 128 | D8: =_xlfn.IFNA(VLOOKUP(C8:C17,Agences[],2,FALSE),"") -> VINASSAN CHARP. | G8: =_xlfn.IFNA(VLOOKUP(F8:F21,Agences[],2,FALSE),"") | I8: 21 | J8: =_xlfn.IFNA(VLOOKUP(I8:I17,Agences[],2,FALSE),"") -> CASTELFRANC | L8: 88 | M8: =_xlfn.IFNA(VLOOKUP(L8:L17,Agences[],2,FALSE),"") -> BELVEZE | O8: 47 | P8: =_xlfn.IFNA(VLOOKUP(O8:O17,Agences[],2,FALSE),"") -> GAILLAC | R8: 684 | S8: =_xlfn.IFNA(VLOOKUP(R8:R17,Agences[],2,FALSE),"") -> POLE CASTRES | V8: =_xlfn.IFNA(VLOOKUP(U7:U17,Agences[],2,FALSE),"") | Z8: 52 | AA8: =_xlfn.IFNA(VLOOKUP(Z8,Agences[],2,FALSE),"") -> CABESTANY | AC8: 14 | AD8: =_xlfn.IFNA(VLOOKUP(AC8,Agences[],2,FALSE),"") -> BALMA | AF8: 315 | AG8: =_xlfn.IFNA(VLOOKUP(AF8,Agences[],2,FALSE),"") -> ST MITRE CX | AI8: 108 | AJ8: =_xlfn.IFNA(VLOOKUP(AI8,Agences[],2,FALSE),"") -> CAZERE / GARONNE | AL8: 8C | AM8: =_xlfn.IFNA(VLOOKUP(AL8,Agences[],2,FALSE),"") -> CHGT PTF ST SULPICE | AR8: =_xlfn.IFNA(VLOOKUP(AQ8,Agences[],2,FALSE),"") | AT8: 232C | AU8: =_xlfn.IFNA(VLOOKUP(AT8,Agences[],2,FALSE),"") -> CHGT MONTIERCHAUME | AX8: =_xlfn.IFNA(VLOOKUP(AW8,Agences[],2,FALSE),"")
C9: 415 | D9: =_xlfn.IFNA(VLOOKUP(C9:C16,Agences[],2,FALSE),"") -> VINASSAN | F9: 3 | G9: =_xlfn.IFNA(VLOOKUP(F9:F22,Agences[],2,FALSE),"") -> RECHERCHE DE FRET | J9: =_xlfn.IFNA(VLOOKUP(I9:I17,Agences[],2,FALSE),"") | M9: =_xlfn.IFNA(VLOOKUP(L9:L17,Agences[],2,FALSE),"") | P9: =_xlfn.IFNA(VLOOKUP(O9:O17,Agences[],2,FALSE),"") | R9: 403 | S9: =_xlfn.IFNA(VLOOKUP(R9:R17,Agences[],2,FALSE),"") -> CASTRES US. TP | U9: 3 | V9: =_xlfn.IFNA(VLOOKUP(U8:U17,Agences[],2,FALSE),"") -> RECHERCHE DE FRET | AA9: =_xlfn.IFNA(VLOOKUP(Z9,Agences[],2,FALSE),"") | AC9: MAP 395 | AD9: =_xlfn.IFNA(VLOOKUP(AC9,Agences[],2,FALSE),"") -> CHGT MAPEI 395 | AF9: 7C | AG9: =_xlfn.IFNA(VLOOKUP(AF9,Agences[],2,FALSE),"") -> CHGT PTF CARRELAGE | AI9: 470 | AJ9: =_xlfn.IFNA(VLOOKUP(AI9,Agences[],2,FALSE),"") -> NOE | AL9: 5 | AM9: =_xlfn.IFNA(VLOOKUP(AL9,Agences[],2,FALSE),"") -> PTF ST ANDRE | AR9: =_xlfn.IFNA(VLOOKUP(AQ9,Agences[],2,FALSE),"") | AT9: 275 | AU9: =_xlfn.IFNA(VLOOKUP(AT9,Agences[],2,FALSE),"") -> RIOM | AX9: =_xlfn.IFNA(VLOOKUP(AW9,Agences[],2,FALSE),"")
C10: 164 | D10: =_xlfn.IFNA(VLOOKUP(C10:C20,Agences[],2,FALSE),"") -> LEZIGNAN US. | G10: =_xlfn.IFNA(VLOOKUP(F10:F23,Agences[],2,FALSE),"") | I10: 3 | J10: =_xlfn.IFNA(VLOOKUP(I10:I20,Agences[],2,FALSE),"") -> RECHERCHE DE FRET | L10: 3 | M10: =_xlfn.IFNA(VLOOKUP(L10:L20,Agences[],2,FALSE),"") -> RECHERCHE DE FRET | O10: 3 | P10: =_xlfn.IFNA(VLOOKUP(O10:O20,Agences[],2,FALSE),"") -> RECHERCHE DE FRET | R10: 48 | S10: =_xlfn.IFNA(VLOOKUP(R10:R20,Agences[],2,FALSE),"") -> CASTRES | V10: =_xlfn.IFNA(VLOOKUP(U9:U17,Agences[],2,FALSE),"") | Z10: 3 | AA10: =_xlfn.IFNA(VLOOKUP(Z10,Agences[],2,FALSE),"") -> RECHERCHE DE FRET | AC10: 28 | AD10: =_xlfn.IFNA(VLOOKUP(AC10,Agences[],2,FALSE),"") -> CASTELSARRASIN | AG10: =_xlfn.IFNA(VLOOKUP(AF10,Agences[],2,FALSE),"") | AI10: 109 | AJ10: =_xlfn.IFNA(VLOOKUP(AI10,Agences[],2,FALSE),"") -> BERAT | AM10: =_xlfn.IFNA(VLOOKUP(AL10,Agences[],2,FALSE),"") | AR10: =_xlfn.IFNA(VLOOKUP(AQ10,Agences[],2,FALSE),"") | AT10: 276 | AU10: =_xlfn.IFNA(VLOOKUP(AT10,Agences[],2,FALSE),"") -> CLERMONT FD | AX10: =_xlfn.IFNA(VLOOKUP(AW10,Agences[],2,FALSE),"")
C11: 683 | D11: =_xlfn.IFNA(VLOOKUP(C11:C21,Agences[],2,FALSE),"") -> POLE LEZIGNAN | G11: =_xlfn.IFNA(VLOOKUP(F11:F24,Agences[],2,FALSE),"") | J11: =_xlfn.IFNA(VLOOKUP(I11:I21,Agences[],2,FALSE),"") | M11: =_xlfn.IFNA(VLOOKUP(L11:L21,Agences[],2,FALSE),"") | P11: =_xlfn.IFNA(VLOOKUP(O11:O21,Agences[],2,FALSE),"") | R11: 45 | S11: =_xlfn.IFNA(VLOOKUP(R11:R21,Agences[],2,FALSE),"") -> MAZAMET | V11: =_xlfn.IFNA(VLOOKUP(U10:U20,Agences[],2,FALSE),"") | AA11: =_xlfn.IFNA(VLOOKUP(Z11,Agences[],2,FALSE),"") | AD11: =_xlfn.IFNA(VLOOKUP(AC11,Agences[],2,FALSE),"") | AF11: PRAD | AG11: =_xlfn.IFNA(VLOOKUP(AF11,Agences[],2,FALSE),"") -> CHGT PRADIER GRANULA | AI11: 134 | AJ11: =_xlfn.IFNA(VLOOKUP(AI11,Agences[],2,FALSE),"") -> STE FOY DE P. | AM11: =_xlfn.IFNA(VLOOKUP(AL11,Agences[],2,FALSE),"") | AR11: =_xlfn.IFNA(VLOOKUP(AQ11,Agences[],2,FALSE),"") | AT11: 357 | AU11: =_xlfn.IFNA(VLOOKUP(AT11,Agences[],2,FALSE),"") -> USINE PT DU CHÂTEAU | AX11: =_xlfn.IFNA(VLOOKUP(AW11,Agences[],2,FALSE),"")
D12: =_xlfn.IFNA(VLOOKUP(C12:C22,Agences[],2,FALSE),"") | G12: =_xlfn.IFNA(VLOOKUP(F12:F25,Agences[],2,FALSE),"") | J12: =_xlfn.IFNA(VLOOKUP(I12:I22,Agences[],2,FALSE),"") | M12: =_xlfn.IFNA(VLOOKUP(L12:L22,Agences[],2,FALSE),"") | P12: =_xlfn.IFNA(VLOOKUP(O12:O22,Agences[],2,FALSE),"") | S12: =_xlfn.IFNA(VLOOKUP(R12:R22,Agences[],2,FALSE),"") | V12: =_xlfn.IFNA(VLOOKUP(U11:U20,Agences[],2,FALSE),"") | AA12: =_xlfn.IFNA(VLOOKUP(Z12,Agences[],2,FALSE),"") | AC12: 3 | AD12: =_xlfn.IFNA(VLOOKUP(AC12,Agences[],2,FALSE),"") -> RECHERCHE DE FRET | AG12: =_xlfn.IFNA(VLOOKUP(AF12,Agences[],2,FALSE),"") | AI12: 114 | AJ12: =_xlfn.IFNA(VLOOKUP(AI12,Agences[],2,FALSE),"") -> FONSORBES | AR12: =_xlfn.IFNA(VLOOKUP(AQ12,Agences[],2,FALSE),"") | AU12: =_xlfn.IFNA(VLOOKUP(AT12,Agences[],2,FALSE),"") | AX12: =_xlfn.IFNA(VLOOKUP(AW12,Agences[],2,FALSE),"")
C13: 3 | D13: =_xlfn.IFNA(VLOOKUP(C13:C23,Agences[],2,FALSE),"") -> RECHERCHE DE FRET | G13: =_xlfn.IFNA(VLOOKUP(F13:F26,Agences[],2,FALSE),"") | J13: =_xlfn.IFNA(VLOOKUP(I13:I23,Agences[],2,FALSE),"") | M13: =_xlfn.IFNA(VLOOKUP(L13:L23,Agences[],2,FALSE),"") | P13: =_xlfn.IFNA(VLOOKUP(O13:O23,Agences[],2,FALSE),"") | R13: 3 | S13: =_xlfn.IFNA(VLOOKUP(R13:R23,Agences[],2,FALSE),"") -> RECHERCHE DE FRET | V13: =_xlfn.IFNA(VLOOKUP(U12:U21,Agences[],2,FALSE),"") | AA13: =_xlfn.IFNA(VLOOKUP(Z13,Agences[],2,FALSE),"") | AD13: =_xlfn.IFNA(VLOOKUP(AC13,Agences[],2,FALSE),"") | AG13: =_xlfn.IFNA(VLOOKUP(AF13,Agences[],2,FALSE),"") | AI13: 133 | AJ13: =_xlfn.IFNA(VLOOKUP(AI13,Agences[],2,FALSE),"") -> MURET | AM13: =_xlfn.IFNA(VLOOKUP(AL13,Agences[],2,FALSE),"") | AR13: =_xlfn.IFNA(VLOOKUP(AQ13,Agences[],2,FALSE),"") | AU13: =_xlfn.IFNA(VLOOKUP(AT13,Agences[],2,FALSE),"") | AX13: =_xlfn.IFNA(VLOOKUP(AW13,Agences[],2,FALSE),"")
D14: =_xlfn.IFNA(VLOOKUP(C14:C24,Agences[],2,FALSE),"") | G14: =_xlfn.IFNA(VLOOKUP(F14:F27,Agences[],2,FALSE),"") | J14: =_xlfn.IFNA(VLOOKUP(I14:I24,Agences[],2,FALSE),"") | M14: =_xlfn.IFNA(VLOOKUP(L14:L24,Agences[],2,FALSE),"") | P14: =_xlfn.IFNA(VLOOKUP(O14:O24,Agences[],2,FALSE),"") | S14: =_xlfn.IFNA(VLOOKUP(R14:R24,Agences[],2,FALSE),"") | V14: =_xlfn.IFNA(VLOOKUP(U13:U22,Agences[],2,FALSE),"") | AA14: =_xlfn.IFNA(VLOOKUP(Z14,Agences[],2,FALSE),"") | AD14: =_xlfn.IFNA(VLOOKUP(AC14,Agences[],2,FALSE),"") | AG14: =_xlfn.IFNA(VLOOKUP(AF14,Agences[],2,FALSE),"") | AJ14: =_xlfn.IFNA(VLOOKUP(AI14,Agences[],2,FALSE),"") | AM14: =_xlfn.IFNA(VLOOKUP(AL14,Agences[],2,FALSE),"") | AR14: =_xlfn.IFNA(VLOOKUP(AQ14,Agences[],2,FALSE),"") | AU14: =_xlfn.IFNA(VLOOKUP(AT14,Agences[],2,FALSE),"") | AX14: =_xlfn.IFNA(VLOOKUP(AW14,Agences[],2,FALSE),"")
D15: =_xlfn.IFNA(VLOOKUP(C15:C25,Agences[],2,FALSE),"") | G15: =_xlfn.IFNA(VLOOKUP(F15:F28,Agences[],2,FALSE),"") | J15: =_xlfn.IFNA(VLOOKUP(I15:I25,Agences[],2,FALSE),"") | M15: =_xlfn.IFNA(VLOOKUP(L15:L25,Agences[],2,FALSE),"") | P15: =_xlfn.IFNA(VLOOKUP(O15:O25,Agences[],2,FALSE),"") | S15: =_xlfn.IFNA(VLOOKUP(R15:R25,Agences[],2,FALSE),"") | V15: =_xlfn.IFNA(VLOOKUP(U14:U23,Agences[],2,FALSE),"") | AA15: =_xlfn.IFNA(VLOOKUP(Z15,Agences[],2,FALSE),"") | AD15: =_xlfn.IFNA(VLOOKUP(AC15,Agences[],2,FALSE),"") | AG15: =_xlfn.IFNA(VLOOKUP(AF15,Agences[],2,FALSE),"") | AJ15: =_xlfn.IFNA(VLOOKUP(AI15,Agences[],2,FALSE),"") | AM15: =_xlfn.IFNA(VLOOKUP(AL15,Agences[],2,FALSE),"") | AR15: =_xlfn.IFNA(VLOOKUP(AQ15,Agences[],2,FALSE),"") | AU15: =_xlfn.IFNA(VLOOKUP(AT15,Agences[],2,FALSE),"") | AX15: =_xlfn.IFNA(VLOOKUP(AW15,Agences[],2,FALSE),"")
D16: =_xlfn.IFNA(VLOOKUP(C5:C17,Agences[],2,FALSE),"") | G16: =_xlfn.IFNA(VLOOKUP(F16:F30,Agences[],2,FALSE),"") | J16: =_xlfn.IFNA(VLOOKUP(I16:I24,Agences[],2,FALSE),"") | M16: =_xlfn.IFNA(VLOOKUP(L16:L24,Agences[],2,FALSE),"") | O16: 1 | P16: =_xlfn.IFNA(VLOOKUP(O16:O24,Agences[],2,FALSE),"") -> PARC | S16: =_xlfn.IFNA(VLOOKUP(R16:R24,Agences[],2,FALSE),"") | V16: =_xlfn.IFNA(VLOOKUP(U13:U22,Agences[],2,FALSE),"") | AA16: =_xlfn.IFNA(VLOOKUP(Z16,Agences[],2,FALSE),"") | AD16: =_xlfn.IFNA(VLOOKUP(AC16,Agences[],2,FALSE),"") | AG16: =_xlfn.IFNA(VLOOKUP(AF16,Agences[],2,FALSE),"") | AJ16: =_xlfn.IFNA(VLOOKUP(AI16,Agences[],2,FALSE),"") | AM16: =_xlfn.IFNA(VLOOKUP(AL16,Agences[],2,FALSE),"") | AR16: =_xlfn.IFNA(VLOOKUP(AQ16,Agences[],2,FALSE),"") | AU16: =_xlfn.IFNA(VLOOKUP(AT16,Agences[],2,FALSE),"") | AX16: =_xlfn.IFNA(VLOOKUP(AW16,Agences[],2,FALSE),"")
B17: 221 | D17: 158 | E17: 61 | G17: 36 | H17: 220 | J17: 165 | K17: 181 | M17: 118 | N17: 87 | P17: 27 | Q17: 80 | S17: 58 | T17: 232 | V17: 111 | Y17: 316 | AA17: 238 | AB17: 159 | AD17: 92 | AE17: 841 | AG17: 515 | AH17: 256 | AJ17: 58 | AK17: 290 | AP17: 428 | AS17: 860
B18: 0.60416667 | E18: 0.10416667 | H18: 0.3125 | K18: 0.27083333 | N18: 0.35416667 | Q18: 0.25902778 | T18: 0.26041667 | Y18: 0.41666667 | AB18: 0.29166667 | AE18: 0.39930556 | AH18: 0.29166667 | AK18: 0.17361111 | AP18: 0.29166667 | AS18: 0.625
A19: =A3+1 -> 45146 | B19: 2 | D19: CAMION 1 | E19: 1 | G19: CAMION 2 | H19: 11 | J19: CAMION 3 | K19: 10 | M19: CAMION 3 | N19: 12 | P19: CAMION 5 | Q19: 4 | R19: x | S19: CAMION 6 | T19: 4 | V19: CAMION 7 | X19: =X3+1 -> 45146 | AA19: CAMION 8 | AC19: x | AD19: CAMION 9 | AF19: x | AG19: CAMION 10 | AI19: CAMION 11 | AJ19: CAMION 11 | AL19: CAMION 12 | AO19: =AO3+1 -> 45146 | AP19: 13 | AR19: GR1 | AS19: 4 | AU19: GR2 | AX19: GR12
B20: 0 | D20: =_xlfn.IFNA(VLOOKUP(B19,CTR[],2,FALSE),"") -> Caroll / FZ-768-KH | E20: 0 | G20: =_xlfn.IFNA(VLOOKUP(E19,CTR[],2,FALSE),"") -> Arnaud / GC-690-DK | H20: 0 | J20: =_xlfn.IFNA(VLOOKUP(H19,CTR[],2,FALSE),"") -> Matthieu / GC-569-XQ | K20: 0 | M20: =_xlfn.IFNA(VLOOKUP(K19,CTR[],2,FALSE),"") -> Marco / FZ-672-MC | N20: 0 | P20: =_xlfn.IFNA(VLOOKUP(N19,CTR[],2,FALSE),"") -> Sebastien / GJ998-GR | Q20: 0 | S20: =_xlfn.IFNA(VLOOKUP(Q19,CTR[],2,FALSE),"") -> Eric / GC-102-TG | T20: 0 | V20: =_xlfn.IFNA(VLOOKUP(T19,CTR[],2,FALSE),"") -> Eric / GC-102-TG | Y20: 0 | AA20: =_xlfn.IFNA(VLOOKUP(Y19,CTR[],2,FALSE),"") | AB20: 0 | AD20: =_xlfn.IFNA(VLOOKUP(AB19,CTR[],2,FALSE),"") | AE20: 0 | AG20: =_xlfn.IFNA(VLOOKUP(AE19,CTR[],2,FALSE),"") | AH20: 0 | AJ20: =_xlfn.IFNA(VLOOKUP(AH19,CTR[],2,FALSE),"") | AK20: 0 | AM20: =_xlfn.IFNA(VLOOKUP(AK19,CTR[],2,FALSE),"") | AP20: 0 | AR20: =_xlfn.IFNA(VLOOKUP(AP19,CTR[],2,FALSE),"") -> Yusuf / GJ-714-GR | AS20: 0 | AU20: =_xlfn.IFNA(VLOOKUP(AS19,CTR[],2,FALSE),"") -> Eric / GC-102-TG | AV20: 0 | AX20: =_xlfn.IFNA(VLOOKUP(AV19,CTR[],2,FALSE),"")
B21: =_xlfn.IFNA(VLOOKUP(B19,CTR[],3,FALSE),"") -> FZ-277-WC | C21: 6 | D21: =_xlfn.IFNA(VLOOKUP(C21,Agences[],2,FALSE),"") -> PTF AUTO 6 | E21: =_xlfn.IFNA(VLOOKUP(E19,CTR[],3,FALSE),"") -> FW-097-JQ | F21: 8C | G21: =_xlfn.IFNA(VLOOKUP(F21,Agences[],2,FALSE),"") -> CHGT PTF ST SULPICE | H21: =_xlfn.IFNA(VLOOKUP(H19,CTR[],3,FALSE),"") -> FB-856-AV | I21: 8C | J21: =_xlfn.IFNA(VLOOKUP(I21:I32,Agences[],2,FALSE),"") -> CHGT PTF ST SULPICE | K21: =_xlfn.IFNA(VLOOKUP(K19,CTR[],3,FALSE),"") -> FZ-446-WB | L21: 8C | M21: =_xlfn.IFNA(VLOOKUP(L21:L32,Agences[],2,FALSE),"") -> CHGT PTF ST SULPICE | N21: =_xlfn.IFNA(VLOOKUP(N19,CTR[],3,FALSE),"") -> ET-231-QD | O21: 8C | P21: =_xlfn.IFNA(VLOOKUP(O21:O32,Agences[],2,FALSE),"") -> CHGT PTF ST SULPICE | Q21: =_xlfn.IFNA(VLOOKUP(Q19,CTR[],3,FALSE),"") -> FB-586-AV | R21: 8C | S21: =_xlfn.IFNA(VLOOKUP(R21:R32,Agences[],2,FALSE),"") -> CHGT PTF ST SULPICE | T21: =_xlfn.IFNA(VLOOKUP(T19,CTR[],3,FALSE),"") -> FB-586-AV | U21: 8C | V21: =_xlfn.IFNA(VLOOKUP(U20:U28,Agences[],2,FALSE),"") -> CHGT PTF ST SULPICE | Y21: =_xlfn.IFNA(VLOOKUP(Y19,CTR[],3,FALSE),"") | Z21: 8C | AA21: =_xlfn.IFNA(VLOOKUP(Z21:Z32,Agences[],2,FALSE),"") -> CHGT PTF ST SULPICE | AB21: =_xlfn.IFNA(VLOOKUP(AB19,CTR[],3,FALSE),"") | AC21: 8C | AD21: =_xlfn.IFNA(VLOOKUP(AC21:AC32,Agences[],2,FALSE),"") -> CHGT PTF ST SULPICE | AE21: =_xlfn.IFNA(VLOOKUP(AE19,CTR[],3,FALSE),"") | AF21: 8 | AG21: =_xlfn.IFNA(VLOOKUP(AF21:AF30,Agences[],2,FALSE),"") -> PTF ST SULPICE | AH21: =_xlfn.IFNA(VLOOKUP(AH19,CTR[],3,FALSE),"") | AI21: 6E | AJ21: =_xlfn.IFNA(VLOOKUP(AI21:AI32,Agences[],2,FALSE),"") -> E-COMMERCE ptf 006 | AK21: =_xlfn.IFNA(VLOOKUP(AK19,CTR[],3,FALSE),"") | AM21: =_xlfn.IFNA(VLOOKUP(AL21,Agences[],2,FALSE),"") | AP21: =_xlfn.IFNA(VLOOKUP(AP19,CTR[],3,FALSE),"") -> FB-043-AA | AQ21: 395 C | AR21: =_xlfn.IFNA(VLOOKUP(AQ21,Agences[],2,FALSE),"") -> CHGT ST PAUL | AS21: =_xlfn.IFNA(VLOOKUP(AS19,CTR[],3,FALSE),"") -> FB-586-AV | AT21: 363 | AU21: =_xlfn.IFNA(VLOOKUP(AT21:AT30,Agences[],2,FALSE),"") -> PT DU CHÂTEAU | AV21: =_xlfn.IFNA(VLOOKUP(AV19,CTR[],3,FALSE),"") | AX21: =_xlfn.IFNA(VLOOKUP(AW21:AW30,Agences[],2,FALSE),"")
C22: 32 | D22: =_xlfn.IFNA(VLOOKUP(C22,Agences[],2,FALSE),"") -> L'ISLE-JOURDAIN | F22: 180 | G22: =_xlfn.IFNA(VLOOKUP(F22,Agences[],2,FALSE),"") -> FUMEL RP | I22: 19 | J22: =_xlfn.IFNA(VLOOKUP(I22:I33,Agences[],2,FALSE),"") -> VILLEFRANCHE L. | L22: 95 | M22: =_xlfn.IFNA(VLOOKUP(L22:L33,Agences[],2,FALSE),"") -> SAINT-LAURENT | O22: 102 | P22: =_xlfn.IFNA(VLOOKUP(O22:O33,Agences[],2,FALSE),"") -> ST GAUDENS | R22: 145 | S22: =_xlfn.IFNA(VLOOKUP(R22:R33,Agences[],2,FALSE),"") -> CASTANET-TOLOSAN | U22: 475 | V22: =_xlfn.IFNA(VLOOKUP(U21:U30,Agences[],2,FALSE),"") -> TOULOUSE EXPRESS | Z22: 9 | AA22: =_xlfn.IFNA(VLOOKUP(Z22:Z33,Agences[],2,FALSE),"") -> ST ALBAN | AC22: 441 | AD22: =_xlfn.IFNA(VLOOKUP(AC22:AC33,Agences[],2,FALSE),"") -> BANASSAC | AG22: =_xlfn.IFNA(VLOOKUP(AF22:AF32,Agences[],2,FALSE),"") | AI22: 59 | AJ22: =_xlfn.IFNA(VLOOKUP(AI22:AI33,Agences[],2,FALSE),"") -> GOURDON | AL22: 3 | AM22: =_xlfn.IFNA(VLOOKUP(AL22,Agences[],2,FALSE),"") -> RECHERCHE DE FRET | AR22: =_xlfn.IFNA(VLOOKUP(AQ22,Agences[],2,FALSE),"") | AU22: =_xlfn.IFNA(VLOOKUP(AT22:AT33,Agences[],2,FALSE),"") | AX22: =_xlfn.IFNA(VLOOKUP(AW22:AW33,Agences[],2,FALSE),"")
C23: 469 | D23: =_xlfn.IFNA(VLOOKUP(C23,Agences[],2,FALSE),"") -> COLOMIERS RP | F23: 126 | G23: =_xlfn.IFNA(VLOOKUP(F23,Agences[],2,FALSE),"") -> MONFLANQUIN | I23: 42 | J23: =_xlfn.IFNA(VLOOKUP(I23:I36,Agences[],2,FALSE),"") -> CASTELNAUDARY | L23: 96 | M23: =_xlfn.IFNA(VLOOKUP(L23:L36,Agences[],2,FALSE),"") -> GRAMAT | O23: 139 | P23: =_xlfn.IFNA(VLOOKUP(O23:O36,Agences[],2,FALSE),"") -> ST GAUDENS CARR. | R23: 18 | S23: =_xlfn.IFNA(VLOOKUP(R23:R36,Agences[],2,FALSE),"") -> SAINT-ORENS | U23: 459 | V23: =_xlfn.IFNA(VLOOKUP(U22:U31,Agences[],2,FALSE),"") -> VILLENEUVE TOLOSANE | Z23: 131 | AA23: =_xlfn.IFNA(VLOOKUP(Z23:Z36,Agences[],2,FALSE),"") -> ST ALBAN BOIS. | AC23: 451 | AD23: =_xlfn.IFNA(VLOOKUP(AC23:AC36,Agences[],2,FALSE),"") -> ST CHELY D'APCHER | AF23: 6C | AG23: =_xlfn.IFNA(VLOOKUP(AF23:AF33,Agences[],2,FALSE),"") -> CHGT PTF AUTO | AI23: 26 | AJ23: =_xlfn.IFNA(VLOOKUP(AI23:AI36,Agences[],2,FALSE),"") -> CAHORS | AM23: =_xlfn.IFNA(VLOOKUP(AL23,Agences[],2,FALSE),"") | AQ23: 366 | AR23: =_xlfn.IFNA(VLOOKUP(AQ23,Agences[],2,FALSE),"") -> TREVOUX | AT23: RECT | AU23: =_xlfn.IFNA(VLOOKUP(AT23:AT33,Agences[],2,FALSE),"") -> CHGT RECTOR Ravel | AX23: =_xlfn.IFNA(VLOOKUP(AW23:AW33,Agences[],2,FALSE),"")
C24: 417 | D24: =_xlfn.IFNA(VLOOKUP(C24,Agences[],2,FALSE),"") -> COLOMIERS BOIS | F24: 116 | G24: =_xlfn.IFNA(VLOOKUP(F24,Agences[],2,FALSE),"") -> VILLEREAL | I24: 135 | J24: =_xlfn.IFNA(VLOOKUP(I24:I37,Agences[],2,FALSE),"") -> MAZERES (09) | L24: 26 | M24: =_xlfn.IFNA(VLOOKUP(L24:L37,Agences[],2,FALSE),"") -> CAHORS | O24: 106 | P24: =_xlfn.IFNA(VLOOKUP(O24:O37,Agences[],2,FALSE),"") -> ST GIRONS | S24: =_xlfn.IFNA(VLOOKUP(R24:R37,Agences[],2,FALSE),"") | U24: 15 | V24: =_xlfn.IFNA(VLOOKUP(U23:U32,Agences[],2,FALSE),"") -> PINSAGUEL | Z24: 146 | AA24: =_xlfn.IFNA(VLOOKUP(Z24:Z37,Agences[],2,FALSE),"") -> ST ALBAN BETON via 11 | AC24: 449 | AD24: =_xlfn.IFNA(VLOOKUP(AC24:AC37,Agences[],2,FALSE),"") -> MARVEJOLS | AF24: 8C | AG24: =_xlfn.IFNA(VLOOKUP(AF24:AF36,Agences[],2,FALSE),"") -> CHGT PTF ST SULPICE | AI24: 23 | AJ24: =_xlfn.IFNA(VLOOKUP(AI24:AI37,Agences[],2,FALSE),"") -> LALBENQUE | AM24: =_xlfn.IFNA(VLOOKUP(AL24,Agences[],2,FALSE),"") | AQ24: 377 | AR24: =_xlfn.IFNA(VLOOKUP(AQ24,Agences[],2,FALSE),"") -> L ARBRESLE | AU24: =_xlfn.IFNA(VLOOKUP(AT24:AT33,Agences[],2,FALSE),"") | AX24: =_xlfn.IFNA(VLOOKUP(AW24:AW33,Agences[],2,FALSE),"")
C25: 17 | D25: =_xlfn.IFNA(VLOOKUP(C25,Agences[],2,FALSE),"") -> COLOMIERS | G25: =_xlfn.IFNA(VLOOKUP(F25,Agences[],2,FALSE),"") | I25: 165 | J25: =_xlfn.IFNA(VLOOKUP(I25:I38,Agences[],2,FALSE),"") -> AUTERIVE | M25: =_xlfn.IFNA(VLOOKUP(L25:L38,Agences[],2,FALSE),"") | P25: =_xlfn.IFNA(VLOOKUP(O25:O38,Agences[],2,FALSE),"") | R25: 3 | S25: =_xlfn.IFNA(VLOOKUP(R25:R38,Agences[],2,FALSE),"") -> RECHERCHE DE FRET | U25: 133 | V25: =_xlfn.IFNA(VLOOKUP(U24:U33,Agences[],2,FALSE),"") -> MURET | Z25: 11 | AA25: =_xlfn.IFNA(VLOOKUP(Z25:Z38,Agences[],2,FALSE),"") -> ST ALBAN + D9 * | AC25: 437 | AD25: =_xlfn.IFNA(VLOOKUP(AC25:AC38,Agences[],2,FALSE),"") -> MARVEJOLS BET. VIA 0089 | AF25: 5 | AG25: =_xlfn.IFNA(VLOOKUP(AF25:AF37,Agences[],2,FALSE),"") -> PTF ST ANDRE | AI25: 64 | AJ25: =_xlfn.IFNA(VLOOKUP(AI25:AI38,Agences[],2,FALSE),"") -> LABENQUE US. | AM25: =_xlfn.IFNA(VLOOKUP(AL25,Agences[],2,FALSE),"") | AQ25: 375 | AR25: =_xlfn.IFNA(VLOOKUP(AQ25,Agences[],2,FALSE),"") -> TARARE | AT25: 241 | AU25: =_xlfn.IFNA(VLOOKUP(AT25:AT36,Agences[],2,FALSE),"") -> LIMOGES NORD | AX25: =_xlfn.IFNA(VLOOKUP(AW25:AW36,Agences[],2,FALSE),"")
C26: 692 | D26: =_xlfn.IFNA(VLOOKUP(C26,Agences[],2,FALSE),"") -> POLE COLOMIERS | F26: 3 | G26: =_xlfn.IFNA(VLOOKUP(F26,Agences[],2,FALSE),"") -> RECHERCHE DE FRET | J26: =_xlfn.IFNA(VLOOKUP(I26:I39,Agences[],2,FALSE),"") | L26: 3 | M26: =_xlfn.IFNA(VLOOKUP(L26:L39,Agences[],2,FALSE),"") -> RECHERCHE DE FRET | O26: 3 | P26: =_xlfn.IFNA(VLOOKUP(O26:O39,Agences[],2,FALSE),"") -> RECHERCHE DE FRET | S26: =_xlfn.IFNA(VLOOKUP(R26:R39,Agences[],2,FALSE),"") | V26: =_xlfn.IFNA(VLOOKUP(U25:U36,Agences[],2,FALSE),"") | Z26: 7C | AA26: =_xlfn.IFNA(VLOOKUP(Z26:Z39,Agences[],2,FALSE),"") -> CHGT PTF CARRELAGE | AC26: 450 | AD26: =_xlfn.IFNA(VLOOKUP(AC26:AC39,Agences[],2,FALSE),"") -> MENDE | AG26: =_xlfn.IFNA(VLOOKUP(AF26:AF38,Agences[],2,FALSE),"") | AI26: 35 | AJ26: =_xlfn.IFNA(VLOOKUP(AI26:AI39,Agences[],2,FALSE),"") -> CAUSSADE | AM26: =_xlfn.IFNA(VLOOKUP(AL26,Agences[],2,FALSE),"") | AR26: =_xlfn.IFNA(VLOOKUP(AQ26,Agences[],2,FALSE),"") | AU26: =_xlfn.IFNA(VLOOKUP(AT26:AT37,Agences[],2,FALSE),"") | AX26: =_xlfn.IFNA(VLOOKUP(AW26:AW37,Agences[],2,FALSE),"")
C27: 99 | D27: =_xlfn.IFNA(VLOOKUP(C27,Agences[],2,FALSE),"") -> COLOMIERS BET. | G27: =_xlfn.IFNA(VLOOKUP(F27,Agences[],2,FALSE),"") | I27: 3 | J27: =_xlfn.IFNA(VLOOKUP(I27:I40,Agences[],2,FALSE),"") -> RECHERCHE DE FRET | M27: =_xlfn.IFNA(VLOOKUP(L27:L40,Agences[],2,FALSE),"") | P27: =_xlfn.IFNA(VLOOKUP(O27:O40,Agences[],2,FALSE),"") | S27: =_xlfn.IFNA(VLOOKUP(R27:R40,Agences[],2,FALSE),"") | U27: PROS 395 | V27: =_xlfn.IFNA(VLOOKUP(U26:U37,Agences[],2,FALSE),"") -> CHGT PROSEC PLF 395 | Z27: 81 | AA27: =_xlfn.IFNA(VLOOKUP(Z27:Z40,Agences[],2,FALSE),"") -> TARBES | AC27: 438 | AD27: =_xlfn.IFNA(VLOOKUP(AC27:AC40,Agences[],2,FALSE),"") -> MENDE BET. VIA 450 | AG27: =_xlfn.IFNA(VLOOKUP(AF27:AF39,Agences[],2,FALSE),"") | AI27: 33 | AJ27: =_xlfn.IFNA(VLOOKUP(AI27:AI40,Agences[],2,FALSE),"") -> MONTAUBAN NORD | AM27: =_xlfn.IFNA(VLOOKUP(AL27,Agences[],2,FALSE),"") | AQ27: CHAB | AR27: =_xlfn.IFNA(VLOOKUP(AQ27,Agences[],2,FALSE),"") -> CHGT CHABANNE | AT27: 3 | AU27: =_xlfn.IFNA(VLOOKUP(AT27:AT38,Agences[],2,FALSE),"") -> RECHERCHE DE FRET | AX27: =_xlfn.IFNA(VLOOKUP(AW27:AW38,Agences[],2,FALSE),"")
C28: 61 | D28: =_xlfn.IFNA(VLOOKUP(C28,Agences[],2,FALSE),"") -> COLOMIERS US. VIA 99 | G28: =_xlfn.IFNA(VLOOKUP(F28,Agences[],2,FALSE),"") | J28: =_xlfn.IFNA(VLOOKUP(I28:I41,Agences[],2,FALSE),"") | M28: =_xlfn.IFNA(VLOOKUP(L28:L41,Agences[],2,FALSE),"") | P28: =_xlfn.IFNA(VLOOKUP(O28:O41,Agences[],2,FALSE),"") | S28: =_xlfn.IFNA(VLOOKUP(R28:R41,Agences[],2,FALSE),"") | V28: Cmd : | Z28: 474 | AA28: =_xlfn.IFNA(VLOOKUP(Z28:Z41,Agences[],2,FALSE),"") -> JURANCON | AD28: =_xlfn.IFNA(VLOOKUP(AC28:AC41,Agences[],2,FALSE),"") | AG28: =_xlfn.IFNA(VLOOKUP(AF28:AF40,Agences[],2,FALSE),"") | AI28: 121 | AJ28: =_xlfn.IFNA(VLOOKUP(AI28:AI41,Agences[],2,FALSE),"") -> MONTAUBAN SUD | AM28: =_xlfn.IFNA(VLOOKUP(AL28,Agences[],2,FALSE),"") | AR28: =_xlfn.IFNA(VLOOKUP(AQ28,Agences[],2,FALSE),"") | AU28: =_xlfn.IFNA(VLOOKUP(AT28:AT39,Agences[],2,FALSE),"") | AX28: =_xlfn.IFNA(VLOOKUP(AW28:AW39,Agences[],2,FALSE),"")
D29: =_xlfn.IFNA(VLOOKUP(C29,Agences[],2,FALSE),"") | G29: =_xlfn.IFNA(VLOOKUP(F29,Agences[],2,FALSE),"") | J29: =_xlfn.IFNA(VLOOKUP(I29:I42,Agences[],2,FALSE),"") | M29: =_xlfn.IFNA(VLOOKUP(L29:L42,Agences[],2,FALSE),"") | P29: =_xlfn.IFNA(VLOOKUP(O29:O42,Agences[],2,FALSE),"") | S29: =_xlfn.IFNA(VLOOKUP(R29:R42,Agences[],2,FALSE),"") | V29: =_xlfn.IFNA(VLOOKUP(U28:U39,Agences[],2,FALSE),"") | Z29: 139 | AA29: =_xlfn.IFNA(VLOOKUP(Z29:Z42,Agences[],2,FALSE),"") -> ST GAUDENS CARR. | AC29: 3 | AD29: =_xlfn.IFNA(VLOOKUP(AC29:AC42,Agences[],2,FALSE),"") -> RECHERCHE DE FRET | AG29: =_xlfn.IFNA(VLOOKUP(AF29:AF41,Agences[],2,FALSE),"") | AI29: 456 | AJ29: =_xlfn.IFNA(VLOOKUP(AI29:AI42,Agences[],2,FALSE),"") -> MONTAUBAN GYPSO | AM29: =_xlfn.IFNA(VLOOKUP(AL29,Agences[],2,FALSE),"") | AR29: =_xlfn.IFNA(VLOOKUP(AQ29,Agences[],2,FALSE),"")
C30: 3 | D30: =_xlfn.IFNA(VLOOKUP(C30,Agences[],2,FALSE),"") -> RECHERCHE DE FRET | G30: =_xlfn.IFNA(VLOOKUP(F30,Agences[],2,FALSE),"") | J30: =_xlfn.IFNA(VLOOKUP(I30:I43,Agences[],2,FALSE),"") | M30: =_xlfn.IFNA(VLOOKUP(L30:L43,Agences[],2,FALSE),"") | P30: =_xlfn.IFNA(VLOOKUP(O30:O43,Agences[],2,FALSE),"") | S30: =_xlfn.IFNA(VLOOKUP(R30:R43,Agences[],2,FALSE),"") | V30: =_xlfn.IFNA(VLOOKUP(U29:U40,Agences[],2,FALSE),"") | AA30: =_xlfn.IFNA(VLOOKUP(Z30:Z43,Agences[],2,FALSE),"") | AD30: =_xlfn.IFNA(VLOOKUP(AC30:AC43,Agences[],2,FALSE),"") | AG30: =_xlfn.IFNA(VLOOKUP(AF30:AF42,Agences[],2,FALSE),"") | AJ30: =_xlfn.IFNA(VLOOKUP(AI30:AI43,Agences[],2,FALSE),"") | AM30: =_xlfn.IFNA(VLOOKUP(AL30,Agences[],2,FALSE),"") | AR30: =_xlfn.IFNA(VLOOKUP(AQ30,Agences[],2,FALSE),"") | AU30: =_xlfn.IFNA(VLOOKUP(AT30:AT40,Agences[],2,FALSE),"") | AX30: =_xlfn.IFNA(VLOOKUP(AW30:AW40,Agences[],2,FALSE),"")
D31: =_xlfn.IFNA(VLOOKUP(C31,Agences[],2,FALSE),"") | G31: =_xlfn.IFNA(VLOOKUP(F31,Agences[],2,FALSE),"") | J31: =_xlfn.IFNA(VLOOKUP(I31:I46,Agences[],2,FALSE),"") | M31: =_xlfn.IFNA(VLOOKUP(L31:L46,Agences[],2,FALSE),"") | P31: =_xlfn.IFNA(VLOOKUP(O31:O46,Agences[],2,FALSE),"") | R31: 1 | S31: =_xlfn.IFNA(VLOOKUP(R31:R46,Agences[],2,FALSE),"") -> PARC | V31: =_xlfn.IFNA(VLOOKUP(U30:U41,Agences[],2,FALSE),"") | AA31: =_xlfn.IFNA(VLOOKUP(Z31:Z46,Agences[],2,FALSE),"") | AD31: =_xlfn.IFNA(VLOOKUP(AC31:AC46,Agences[],2,FALSE),"") | AG31: =_xlfn.IFNA(VLOOKUP(AF31:AF43,Agences[],2,FALSE),"") | AJ31: =_xlfn.IFNA(VLOOKUP(AI31:AI46,Agences[],2,FALSE),"") | AM31: =_xlfn.IFNA(VLOOKUP(AL31,Agences[],2,FALSE),"") | AR31: =_xlfn.IFNA(VLOOKUP(AQ31,Agences[],2,FALSE),"")
D32: =_xlfn.IFNA(VLOOKUP(C32,Agences[],2,FALSE),"") | G32: =_xlfn.IFNA(VLOOKUP(F32,Agences[],2,FALSE),"") | J32: =_xlfn.IFNA(VLOOKUP(I32:I47,Agences[],2,FALSE),"") | M32: =_xlfn.IFNA(VLOOKUP(L32:L47,Agences[],2,FALSE),"") | P32: =_xlfn.IFNA(VLOOKUP(O32:O47,Agences[],2,FALSE),"") | S32: =_xlfn.IFNA(VLOOKUP(R32:R47,Agences[],2,FALSE),"") | V32: =_xlfn.IFNA(VLOOKUP(U31:U42,Agences[],2,FALSE),"") | AA32: =_xlfn.IFNA(VLOOKUP(Z32:Z47,Agences[],2,FALSE),"") | AD32: =_xlfn.IFNA(VLOOKUP(AC32:AC47,Agences[],2,FALSE),"") | AG32: =_xlfn.IFNA(VLOOKUP(AF32:AF46,Agences[],2,FALSE),"") | AJ32: =_xlfn.IFNA(VLOOKUP(AI32:AI47,Agences[],2,FALSE),"") | AM32: =_xlfn.IFNA(VLOOKUP(AL32,Agences[],2,FALSE),"") | AR32: =_xlfn.IFNA(VLOOKUP(AQ32,Agences[],2,FALSE),"") | AU32: =_xlfn.IFNA(VLOOKUP(AT32:AT41,Agences[],2,FALSE),"") | AX32: =_xlfn.IFNA(VLOOKUP(AW32:AW41,Agences[],2,FALSE),"")
B33: 103 | D33: 153 | E33: 186 | G33: 179 | H33: 154 | J33: 71 | K33: 285 | M33: 143 | N33: 183 | P33: 132 | Q33: 55 | S33: 39 | T33: 458 | Y33: 438 | AA33: 132 | AB33: 290 | AD33: 219 | AE33: 290 | AG33: 292 | AH33: 319 | AJ33: 76 | AM33: 292 | AP33: 363 | AS33: 518 | AU33: 128
B34: 0.27777778 | E34: 0.31597222 | H34: 0.27777778 | K34: 0.32638889 | N34: 0.28472222 | Q34: 0.25 | T34: 0 | Y34: 0.44097222 | AB34: 0.37152778 | AE34: 0.375 | AH34: 0.33333333 | AK34: 0.14583333 | AP34: 0.23958333 | AS34: 0.33333333
A35: =A19+1 -> 45147 | B35: 2 | D35: CAMION 1 | E35: 3 | G35: CAMION 2 | H35: 4 | J35: CAMION 3 | K35: 2 | M35: CAMION 4 | P35: CAMION 5 | Q35: 4 | S35: CAMION 6 | T35: 8 | V35: CAMION 7 | X35: =X19+1 -> 45147 | AA35: CAMION 8 | AD35: CAMION 9 | AG35: CAMION 10 | AI35: CAMION 11 | AJ35: CAMION 11 | AL35: CAMION 12 | AO35: =AO19+1 -> 45147 | AP35: 13 | AR35: GR1 | AS35: 4 | AU35: GR2 | AX35: GR12
B36: 0 | D36: =_xlfn.IFNA(VLOOKUP(B35,CTR[],2,FALSE),"") -> Caroll / FZ-768-KH | E36: 0 | G36: =_xlfn.IFNA(VLOOKUP(E35,CTR[],2,FALSE),"") -> Django / FF-017-HG | H36: 0 | J36: =_xlfn.IFNA(VLOOKUP(H35,CTR[],2,FALSE),"") -> Eric / GC-102-TG | K36: 0 | M36: =_xlfn.IFNA(VLOOKUP(K35,CTR[],2,FALSE),"") -> Caroll / FZ-768-KH | N36: 0 | P36: =_xlfn.IFNA(VLOOKUP(N35,CTR[],2,FALSE),"") | Q36: 0 | S36: =_xlfn.IFNA(VLOOKUP(Q35,CTR[],2,FALSE),"") -> Eric / GC-102-TG | T36: 0 | V36: =_xlfn.IFNA(VLOOKUP(T35,CTR[],2,FALSE),"") -> Jean-Luc / FZ-272-CQ | Y36: 0 | AA36: =_xlfn.IFNA(VLOOKUP(Y35,CTR[],2,FALSE),"") | AB36: 0 | AD36: =_xlfn.IFNA(VLOOKUP(AB35,CTR[],2,FALSE),"") | AE36: 0 | AG36: =_xlfn.IFNA(VLOOKUP(AE35,CTR[],2,FALSE),"") | AH36: 0 | AJ36: =_xlfn.IFNA(VLOOKUP(AH35,CTR[],2,FALSE),"") | AK36: 0 | AM36: =_xlfn.IFNA(VLOOKUP(AK35,CTR[],2,FALSE),"") | AP36: 0 | AR36: =_xlfn.IFNA(VLOOKUP(AP35,CTR[],2,FALSE),"") -> Yusuf / GJ-714-GR | AS36: 0 | AU36: =_xlfn.IFNA(VLOOKUP(AS35,CTR[],2,FALSE),"") -> Eric / GC-102-TG | AV36: 0 | AX36: =_xlfn.IFNA(VLOOKUP(AV35,CTR[],2,FALSE),"")
B37: =_xlfn.IFNA(VLOOKUP(B35,CTR[],3,FALSE),"") -> FZ-277-WC | C37: 8C | D37: =_xlfn.IFNA(VLOOKUP(C37,Agences[],2,FALSE),"") -> CHGT PTF ST SULPICE | E37: =_xlfn.IFNA(VLOOKUP(E35,CTR[],3,FALSE),"") -> FW-038-JQ | F37: 8C | G37: =_xlfn.IFNA(VLOOKUP(F37,Agences[],2,FALSE),"") -> CHGT PTF ST SULPICE | H37: =_xlfn.IFNA(VLOOKUP(H35,CTR[],3,FALSE),"") -> FB-586-AV | I37: 8C | J37: =_xlfn.IFNA(VLOOKUP(I37:I48,Agences[],2,FALSE),"") -> CHGT PTF ST SULPICE | K37: =_xlfn.IFNA(VLOOKUP(K35,CTR[],3,FALSE),"") -> FZ-277-WC | L37: 8C | M37: =_xlfn.IFNA(VLOOKUP(L37:L48,Agences[],2,FALSE),"") -> CHGT PTF ST SULPICE | N37: =_xlfn.IFNA(VLOOKUP(N35,CTR[],3,FALSE),"") | O37: 8C | P37: =_xlfn.IFNA(VLOOKUP(O37:O48,Agences[],2,FALSE),"") -> CHGT PTF ST SULPICE | Q37: =_xlfn.IFNA(VLOOKUP(Q35,CTR[],3,FALSE),"") -> FB-586-AV | R37: 8C | S37: =_xlfn.IFNA(VLOOKUP(R37:R47,Agences[],2,FALSE),"") -> CHGT PTF ST SULPICE | T37: =_xlfn.IFNA(VLOOKUP(T35,CTR[],3,FALSE),"") -> FZ-221-HR | U37: 395 | V37: =_xlfn.IFNA(VLOOKUP(U37:U47,Agences[],2,FALSE),"") -> SAINT PAUL | Y37: =_xlfn.IFNA(VLOOKUP(Y35,CTR[],3,FALSE),"") | Z37: 3 | AA37: =_xlfn.IFNA(VLOOKUP(Z37:Z48,Agences[],2,FALSE),"") -> RECHERCHE DE FRET | AB37: =_xlfn.IFNA(VLOOKUP(AB35,CTR[],3,FALSE),"") | AD37: =_xlfn.IFNA(VLOOKUP(AC37:AC47,Agences[],2,FALSE),"") | AE37: =_xlfn.IFNA(VLOOKUP(AE35,CTR[],3,FALSE),"") | AG37: =_xlfn.IFNA(VLOOKUP(AF37:AF47,Agences[],2,FALSE),"") | AH37: =_xlfn.IFNA(VLOOKUP(AH35,CTR[],3,FALSE),"") | AI37: 6E | AJ37: =_xlfn.IFNA(VLOOKUP(AI37:AI47,Agences[],2,FALSE),"") -> E-COMMERCE ptf 006 | AK37: =_xlfn.IFNA(VLOOKUP(AK35,CTR[],3,FALSE),"") | AL37: 6 | AM37: =_xlfn.IFNA(VLOOKUP(AL37,Agences[],2,FALSE),"") -> PTF AUTO 6 | AP37: =_xlfn.IFNA(VLOOKUP(AP35,CTR[],3,FALSE),"") -> FB-043-AA | AQ37: 7 | AR37: =_xlfn.IFNA(VLOOKUP(AQ37:AQ47,Agences[],2,FALSE),"") -> PTF CARRELAGE | AS37: =_xlfn.IFNA(VLOOKUP(AS35,CTR[],3,FALSE),"") -> FB-586-AV | AT37: ELOS | AU37: =_xlfn.IFNA(VLOOKUP(AT37:AT47,Agences[],2,FALSE),"") -> CHGT ELOSBOIS TR81 | AV37: =_xlfn.IFNA(VLOOKUP(AV35,CTR[],3,FALSE),"") | AX37: =_xlfn.IFNA(VLOOKUP(AW37:AW47,AO:AQS,2,FALSE),"")
C38: 195 | D38: =_xlfn.IFNA(VLOOKUP(C38,Agences[],2,FALSE),"") -> LANNEMEZAN RP | F38: 446 | G38: =_xlfn.IFNA(VLOOKUP(F38,Agences[],2,FALSE),"") -> LA LOUBIERE | I38: 127 | J38: =_xlfn.IFNA(VLOOKUP(I38:I49,Agences[],2,FALSE),"") -> TREBES | L38: 141 | M38: =_xlfn.IFNA(VLOOKUP(L38:L49,Agences[],2,FALSE),"") -> MONTECH | O38: 103 | P38: =_xlfn.IFNA(VLOOKUP(O38:O49,Agences[],2,FALSE),"") -> AURIGNAC | R38: 53 | S38: =_xlfn.IFNA(VLOOKUP(R38:R49,Agences[],2,FALSE),"") -> PRADES | V38: =_xlfn.IFNA(VLOOKUP(U38:U48,Agences[],2,FALSE),"") | AA38: =_xlfn.IFNA(VLOOKUP(Z38:Z49,Agences[],2,FALSE),"") | AD38: =_xlfn.IFNA(VLOOKUP(AC38:AC49,Agences[],2,FALSE),"") | AF38: 3 | AG38: =_xlfn.IFNA(VLOOKUP(AF38:AF48,Agences[],2,FALSE),"") -> RECHERCHE DE FRET | AI38: 28 | AJ38: =_xlfn.IFNA(VLOOKUP(AI38:AI48,Agences[],2,FALSE),"") -> CASTELSARRASIN | AL38: 6C | AM38: =_xlfn.IFNA(VLOOKUP(AL38,Agences[],2,FALSE),"") -> CHGT PTF AUTO | AQ38: 6L | AR38: =_xlfn.IFNA(VLOOKUP(AQ38:AQ48,Agences[],2,FALSE),"") -> LIV PTF LAVAUR | AU38: =_xlfn.IFNA(VLOOKUP(AT38:AT48,Agences[],2,FALSE),"") | AX38: =_xlfn.IFNA(VLOOKUP(AW38:AW48,AO:AQS,2,FALSE),"")
C39: 193 | D39: =_xlfn.IFNA(VLOOKUP(C39,Agences[],2,FALSE),"") -> ARREAU RP | F39: 447 | G39: =_xlfn.IFNA(VLOOKUP(F39,Agences[],2,FALSE),"") -> LAGUIOLE | I39: 44 | J39: =_xlfn.IFNA(VLOOKUP(I39:I52,Agences[],2,FALSE),"") -> CARCASSONNE | L39: 477 | M39: =_xlfn.IFNA(VLOOKUP(L39:L52,Agences[],2,FALSE),"") -> BEAUMONT DE LOMAGNE | O39: 108 | P39: =_xlfn.IFNA(VLOOKUP(O39:O52,Agences[],2,FALSE),"") -> CAZERE / GARONNE | R39: 50 | S39: =_xlfn.IFNA(VLOOKUP(R39:R52,Agences[],2,FALSE),"") -> LE SOLER | U39: 3 | V39: =_xlfn.IFNA(VLOOKUP(U39:U49,Agences[],2,FALSE),"") -> RECHERCHE DE FRET | Z39: 140 | AA39: =_xlfn.IFNA(VLOOKUP(Z39:Z52,Agences[],2,FALSE),"") -> REALMONT | AD39: =_xlfn.IFNA(VLOOKUP(AC39:AC52,Agences[],2,FALSE),"") | AG39: =_xlfn.IFNA(VLOOKUP(AF39:AF49,Agences[],2,FALSE),"") | AI39: 477 | AJ39: =_xlfn.IFNA(VLOOKUP(AI39:AI49,Agences[],2,FALSE),"") -> BEAUMONT DE LOMAGNE | AL39: 151 | AM39: =_xlfn.IFNA(VLOOKUP(AL39,Agences[],2,FALSE),"") -> CARMAUX | AR39: =_xlfn.IFNA(VLOOKUP(AQ39:AQ49,Agences[],2,FALSE),"") | AT39: 48 | AU39: =_xlfn.IFNA(VLOOKUP(AT39:AT49,Agences[],2,FALSE),"") -> CASTRES | AX39: =_xlfn.IFNA(VLOOKUP(AW39:AW49,AO:AQS,2,FALSE),"")
D40: =_xlfn.IFNA(VLOOKUP(C40,Agences[],2,FALSE),"") | F40: 31 | G40: =_xlfn.IFNA(VLOOKUP(F40,Agences[],2,FALSE),"") -> RODEZ | J40: =_xlfn.IFNA(VLOOKUP(I40:I53,Agences[],2,FALSE),"") | L40: 28 | M40: =_xlfn.IFNA(VLOOKUP(L40:L53,Agences[],2,FALSE),"") -> CASTELSARRASIN | O40: 104 | P40: =_xlfn.IFNA(VLOOKUP(O40:O53,Agences[],2,FALSE),"") -> MONTESQUIEU V. | S40: =_xlfn.IFNA(VLOOKUP(R40:R53,Agences[],2,FALSE),"") | V40: =_xlfn.IFNA(VLOOKUP(U40:U52,Agences[],2,FALSE),"") | Z40: 49 | AA40: =_xlfn.IFNA(VLOOKUP(Z40:Z53,Agences[],2,FALSE),"") -> GRAULHET | AD40: =_xlfn.IFNA(VLOOKUP(AC40:AC53,Agences[],2,FALSE),"") | AG40: =_xlfn.IFNA(VLOOKUP(AF40:AF52,Agences[],2,FALSE),"") | AI40: 34 | AJ40: =_xlfn.IFNA(VLOOKUP(AI40:AI52,Agences[],2,FALSE),"") -> VERDUN SUR G. | AL40: 460 | AM40: =_xlfn.IFNA(VLOOKUP(AL40,Agences[],2,FALSE),"") -> ALBI (Lescure) RP | AQ40: 7C | AR40: =_xlfn.IFNA(VLOOKUP(AQ40:AQ49,Agences[],2,FALSE),"") -> CHGT PTF CARRELAGE | AT40: 156 | AU40: =_xlfn.IFNA(VLOOKUP(AT40:AT49,Agences[],2,FALSE),"") -> RABASTENS | AX40: =_xlfn.IFNA(VLOOKUP(AW40:AW49,AO:AQS,2,FALSE),"")
C41: 3 | D41: =_xlfn.IFNA(VLOOKUP(C41,Agences[],2,FALSE),"") -> RECHERCHE DE FRET | G41: =_xlfn.IFNA(VLOOKUP(F41,Agences[],2,FALSE),"") | I41: 3 | J41: =_xlfn.IFNA(VLOOKUP(I41:I54,Agences[],2,FALSE),"") -> RECHERCHE DE FRET | M41: =_xlfn.IFNA(VLOOKUP(L41:L54,Agences[],2,FALSE),"") | O41: 109 | P41: =_xlfn.IFNA(VLOOKUP(O41:O54,Agences[],2,FALSE),"") -> BERAT | R41: 3 | S41: =_xlfn.IFNA(VLOOKUP(R41:R54,Agences[],2,FALSE),"") -> RECHERCHE DE FRET | V41: =_xlfn.IFNA(VLOOKUP(U41:U53,Agences[],2,FALSE),"") | Z41: 56 | AA41: =_xlfn.IFNA(VLOOKUP(Z41:Z54,Agences[],2,FALSE),"") -> LAVAUR | AD41: =_xlfn.IFNA(VLOOKUP(AC41:AC54,Agences[],2,FALSE),"") | AF41: 8C | AG41: =_xlfn.IFNA(VLOOKUP(AF41:AF53,Agences[],2,FALSE),"") -> CHGT PTF ST SULPICE | AI41: 11 | AJ41: =_xlfn.IFNA(VLOOKUP(AI41:AI53,Agences[],2,FALSE),"") -> ST ALBAN + D9 * | AL41: 46 | AM41: =_xlfn.IFNA(VLOOKUP(AL41,Agences[],2,FALSE),"") -> ALBI | AQ41: 346 | AR41: =_xlfn.IFNA(VLOOKUP(AQ41:AQ49,Agences[],2,FALSE),"") -> ORANGE CARRELAGE | AU41: =_xlfn.IFNA(VLOOKUP(AT41:AT49,Agences[],2,FALSE),"") | AX41: =_xlfn.IFNA(VLOOKUP(AW41:AW49,AO:AQS,2,FALSE),"")
...

Sheet REF
A1: N | B1: Conducteur + Tracteur | C1: Remorque | E1: Agences | F1: Nom | G1: Adresse | H1: Code postal | I1: Ville
A2: 1 | B2: Arnaud / GC-690-DK | C2: FW-097-JQ | E2: R 395 | F2: RAM AG vers PTF 395
A3: 2 | B3: Caroll / FZ-768-KH | C3: FZ-277-WC | E3: 1 | F3: PARC
A4: 3 | B4: Django / FF-017-HG | C4: FW-038-JQ | E4: 2 | F4: 2ème TOUR
A5: 4 | B5: Eric / GC-102-TG | C5: FB-586-AV | E5: 3 | F5: RECHERCHE DE FRET
A6: 5 | B6: Francois / CG-359-XQ | C6: ES-646-PH | E6: 4 | F6: A DISPO DE L'EXPLOIT
A7: 6 | B7: Fred V / GE-241-HL | C7: ES-069-PJ | E7: 5 | F7: PTF ST ANDRE
A8: 7 | B8: Frederic / GJ-077-GS | C8: GG-223-VB | E8: 6L | F8: LIV PTF LAVAUR
A9: 8 | B9: Jean-Luc / FZ-272-CQ | C9: FZ-221-HR | E9: 6 | F9: PTF AUTO 6
A10: 9 | B10: Manu / FM-902-KS | C10: ET-125-BH | E10: 7 | F10: PTF CARRELAGE
A11: 10 | B11: Marco / FZ-672-MC | C11: FZ-446-WB | E11: 8 | F11: PTF ST SULPICE
A12: 11 | B12: Matthieu / GC-569-XQ | C12: FB-856-AV | E12: 9 | F12: ST ALBAN
A13: 12 | B13: Sebastien / GJ998-GR | C13: ET-231-QD | E13: 10 | F13: RAMASSAGE ptf 008
A14: 13 | B14: Yusuf / GJ-714-GR | C14: FB-043-AA | E14: 11 | F14: ST ALBAN + D9 *
A15: 14 | B15: Zou / GJ-063-VS | C15: ES-863-RJ | E15: 12 | F15: Bd SUISSE (liv. 6H)
A16: 15 | E16: 14 | F16: BALMA
A17: 16 | E17: 15 | F17: PINSAGUEL
A18: 17 | E18: 17 | F18: COLOMIERS
A19: 18 | E19: 18 | F19: SAINT-ORENS
A20: 19 | E20: 19 | F20: VILLEFRANCHE L.
A21: 20 | E21: 21 | F21: CASTELFRANC
A22: 21 | E22: 22 | F22: AGEN
A23: 22 | E23: 23 | F23: LALBENQUE
A24: 23 | E24: 24 | F24: VILLENEUVE / LOT
A25: 24 | E25: 25 | F25: BOUZIES
A26: 25 | E26: 26 | F26: CAHORS
A27: 26 | E27: 27 | F27: MAURS
... A30: 29 | E30: 31 | F30: RODEZ
E31: 32 | F31: L'ISLE-JOURDAIN
A32: SEMIS EN DEBORDS | C32: FJ-133-LN | E32: 33 | F32: MONTAUBAN NORD
C33: ES-487-DT | E33: 34 | F33: VERDUN SUR G.
C34: ET-635-VC | E34: 35 | F34: CAUSSADE
C35: EV-677-ZD | E35: 36 | F35: AUCH
E36: 42 | F36: CASTELNAUDARY
E37: 43 | F37: NARBONNE
E38: 44 | F38: CARCASSONNE
E39: 45 | F39: MAZAMET
E40: 46 | F40: ALBI
E41: 47 | F41: GAILLAC
E42: 48 | F42: CASTRES
...

Sheet test OM
B6: Informations: Informtion a saisir au jour le jour
B9: Date | C9: 45146 | D9: 1 | E9: {=INDEX('Matrice planning paire'!$A$2:$AX$82,MATCH($C$9,'Matrice planning paire'!A:A,0)+1,MATCH($C$10,INDIRECT("'Matrice planning paire'!L"&MATCH($C$9,'Matrice planning paire'!A:A,0)+1&"C1:L"&MATCH($C$9,'Matrice planning paire'!A:A,0)+1&"C"& COUNTA('Matrice planning paire'!4:4)+4*COUNTA('Matrice planning paire'!2:2),0),0))} -> CHGT PTF ST SULPICE | L9: Commentaires conducteurs a saisir a la main
B10: NOM | C10: Matthieu / GC-569-XQ | D10: ADRESSE | E10: {=INDEX('Matrice planning paire'!$A$2:$AM$82,MATCH($C$9,'Matrice planning paire'!A:A,0)+2,MATCH($C$10,INDIRECT("'Matrice planning paire'!L"&MATCH($C$9,'Matrice planning paire'!A:A,0)+1&"C1:L"&MATCH($C$9,'Matrice planning paire'!A:A,0)+1&"C"& COUNTA('Matrice planning paire'!4:4)+4*COUNTA('Matrice planning paire'!2:2),0),0))} -> VILLEFRANCHE L.
B11: TR: | C11: {=INDEX('Matrice planning paire'!$A$2:$AM$82,MATCH($C$9,'Matrice planning paire'!A:A,0)+1,MATCH($C$10,INDIRECT("'Matrice planning paire'!L"&MATCH($C$9,'Matrice planning paire'!A:A,0)+1&"C1:L"&MATCH($C$9,'Matrice planning paire'!A:A,0)+1&"C"&COUNTA('Matrice planning paire'!4:4)+4*COUNTA('Matrice planning paire'!2:2),0),0)-2)} -> FB-856-AV
B12: heure | C12: {=INDEX('Matrice planning paire'!$A$2:$AM$82,MATCH($C$9,'Matrice planning paire'!A:A,0),MATCH($C$10,INDIRECT("'Matrice planning paire'!L"&MATCH($C$9,'Matrice planning paire'!A:A,0)+1&"C1:L"&MATCH($C$9,'Matrice planning paire'!A:A,0)+1&"C"&COUNTA('Matrice planning paire'!4:4)+4*COUNTA('Matrice planning paire'!2:2),0),0)-2)} -> 0
D17: 2 | E17: {=INDEX('Matrice planning paire'!$A$2:$AM$82,MATCH($C$9,'Matrice planning paire'!A:A,0)+3,MATCH($C$10,INDIRECT("'Matrice planning paire'!L"&MATCH($C$9,'Matrice planning paire'!A:A,0)+1&"C1:L"&MATCH($C$9,'Matrice planning paire'!A:A,0)+1&"C"& COUNTA('Matrice planning paire'!4:4)+4*COUNTA('Matrice planning paire'!2:2),0),0))} -> CASTELNAUDARY | L17: Commentaires a saisir a la main
D19: ADRESSE | E19: EVENTUELLEMENT DES INFOS QUI RENVERAIENT A UNE ADRESSE DE D6
D24: 3 | L24: Commentaires a saisir a la main
D31: 4 | L31: Commentaires a saisir a la main
