Workbook

Sheet explication 
A1: explication
A3: je souhaite que dans l'onglet TEST OM si je renseigne C9 + C10 , le cellule E10 vienne recupérer le contenu de la D5 de ma "matrice planning paire" puis mettre le contenu de la D6 dans la E17 et ainsi de suite
A11: Est-ce que cela est possible d'une manière ou d'une autre

Sheet Matrice planning paire
A2: 8 | D2: SEMAINE PAIRE N° | G2: ST SULPICE 008 / REGIONAL (sans ramassage des retours) | X2: ST SULPICE 008 / REGIONAL (sans ramassage des retours) | AO2: ST SULPICE 008 / LONGUE DISTANCE
A3: 45145 | B3: 1 | C3: CAMION 1 | E3: 2 | F3: CAMION 2 | I3: CAMION 3 | L3: CAMION 4 | O3: CAMION 5 | R3: CAMION 6 | U3: CAMION 7 | X3: =A3 -> 45145 | Y3: 8 | Z3: CAMION 8 | AB3: 9 | AC3: CAMION 9 | AE3: 10 | AF3: x | AG3: CAMION 10 | AH3: 11 | AI3: x | AJ3: CAMION 11 | AK3: 12 | AL3: CAMION 12 | AO3: =A3 -> 45145 | AP3: 13 | AR3: GR1 | AS3: 4 | AU3: GR2 | AX3: GR12
B4: 0 | D4: =_xlfn.IFNA(VLOOKUP(B3,CTR[],2,FALSE),"") -> Arnaud / GC-690-DK | E4: 0 | G4: =_xlfn.IFNA(VLOOKUP(E3,CTR[],2,FALSE),"") -> Caroll / FZ-768-KH | H4: 0 | J4: =_xlfn.IFNA(VLOOKUP(H3,CTR[],2,FALSE),"") | K4: 0 | M4: =_xlfn.IFNA(VLOOKUP(K3,CTR[],2,FALSE),"") | N4: 0 | P4: =_xlfn.IFNA(VLOOKUP(N3,CTR[],2,FALSE),"") | Q4: 0 | S4: =_xlfn.IFNA(VLOOKUP(Q3,CTR[],2,FALSE),"") | T4: 0 | V4: =_xlfn.IFNA(VLOOKUP(T3,CTR[],2,FALSE),"") | Y4: 0 | AA4: =_xlfn.IFNA(VLOOKUP(Y3,CTR[],2,FALSE),"") -> Jean-Luc / FZ-272-CQ | AB4: 0 | AD4: =_xlfn.IFNA(VLOOKUP(AB3,CTR[],2,FALSE),"") -> Manu / FM-902-KS | AE4: 0 | AG4: =_xlfn.IFNA(VLOOKUP(AE3,CTR[],2,FALSE),"") -> Marco / FZ-672-MC | AH4: 0 | AJ4: =_xlfn.IFNA(VLOOKUP(AH3,CTR[],2,FALSE),"") -> Matthieu / GC-569-XQ | AK4: 0 | AM4: =_xlfn.IFNA(VLOOKUP(AK3,CTR[],2,FALSE),"") -> Sebastien / GJ998-GR | AP4: 0 | AR4: =_xlfn.IFNA(VLOOKUP(AP3,CTR[],2,FALSE),"") -> Yusuf / GJ-714-GR | AS4: 0 | AU4: =_xlfn.IFNA(VLOOKUP(AS3,CTR[],2,FALSE),"") -> Eric / GC-102-TG | AV4: 0 | AX4: =_xlfn.IFNA(VLOOKUP(AV3,CTR[],2,FALSE),"")
B5: =_xlfn.IFNA(VLOOKUP(B3,CTR[],3,FALSE),"") -> FW-097-JQ | C5: 8C | D5: =_xlfn.IFNA(VLOOKUP(C5:C16,Agences[],2,FALSE),"") -> CHGT PTF ST SULPICE | E5: =_xlfn.IFNA(VLOOKUP(E3,CTR[],3,FALSE),"") -> FZ-277-WC | F5: 8C | G5: =_xlfn.IFNA(VLOOKUP(F5:F16,Agences[],2,FALSE),"") -> CHGT PTF ST SULPICE | H5: =_xlfn.IFNA(VLOOKUP(H3,CTR[],3,FALSE),"") | I5: 8C | J5: =_xlfn.IFNA(VLOOKUP(I5:I16,Agences[],2,FALSE),"") -> CHGT PTF ST SULPICE | K5: =_xlfn.IFNA(VLOOKUP(K3,CTR[],3,FALSE),"") | L5: 8C | M5: =_xlfn.IFNA(VLOOKUP(L5:L16,Agences[],2,FALSE),"") -> CHGT PTF ST SULPICE | N5: =_xlfn.IFNA(VLOOKUP(N3,CTR[],3,FALSE),"") | O5: 6 | P5: =_xlfn.IFNA(VLOOKUP(O5:O16,Agences[],2,FALSE),"") -> PTF AUTO 6 | Q5: =_xlfn.IFNA(VLOOKUP(Q3,CTR[],3,FALSE),"") | R5: 8C | S5: =_xlfn.IFNA(VLOOKUP(R5:R16,Agences[],2,FALSE),"") -> CHGT PTF ST SULPICE | T5: =_xlfn.IFNA(VLOOKUP(T3,CTR[],3,FALSE),"") | U5: 8C | V5: =_xlfn.IFNA(VLOOKUP(U5:U13,Agences[],2,FALSE),"") -> CHGT PTF ST SULPICE | Y5: =_xlfn.IFNA(VLOOKUP(Y3,CTR[],3,FALSE),"") -> FZ-221-HR | Z5: 8C | AA5: =_xlfn.IFNA(VLOOKUP(Z5,Agences[],2,FALSE),"") -> CHGT PTF ST SULPICE | AB5: =_xlfn.IFNA(VLOOKUP(AB3,CTR[],3,FALSE),"") -> ET-125-BH | AC5: 8C | AD5: =_xlfn.IFNA(VLOOKUP(AC5,Agences[],2,FALSE),"") -> CHGT PTF ST SULPICE | AE5: =_xlfn.IFNA(VLOOKUP(AE3,CTR[],3,FALSE),"") -> FZ-446-WB | AF5: 6C | AG5: =_xlfn.IFNA(VLOOKUP(AF5,Agences[],2,FALSE),"") -> CHGT PTF AUTO | AH5: =_xlfn.IFNA(VLOOKUP(AH3,CTR[],3,FALSE),"") -> FB-856-AV | AI5: 6E | AJ5: =_xlfn.IFNA(VLOOKUP(AI5,Agences[],2,FALSE),"") -> E-COMMERCE ptf 006 | AK5: =_xlfn.IFNA(VLOOKUP(AK3,CTR[],3,FALSE),"") -> ET-231-QD | AL5: 8 | AM5: =_xlfn.IFNA(VLOOKUP(AL5,Agences[],2,FALSE),"") -> PTF ST SULPICE | AP5: =_xlfn.IFNA(VLOOKUP(AP3,CTR[],3,FALSE),"") -> FB-043-AA | AQ5: 9 | AR5: =_xlfn.IFNA(VLOOKUP(AQ5,Agences[],2,FALSE),"") -> ST ALBAN | AS5: =_xlfn.IFNA(VLOOKUP(AS3,CTR[],3,FALSE),"") -> FB-586-AV | AT5: 242 | AU5: =_xlfn.IFNA(VLOOKUP(AT5,Agences[],2,FALSE),"") -> LIMOGES cx | AV5: =_xlfn.IFNA(VLOOKUP(AV3,CTR[],3,FALSE),"") | AX5: =_xlfn.IFNA(VLOOKUP(AW5,Agences[],2,FALSE),"")
C6: 44 | D6: =_xlfn.IFNA(VLOOKUP(C6:C17,Agences[],2,FALSE),"") -> CARCASSONNE | F6: 12 | G6: =_xlfn.IFNA(VLOOKUP(F6:F17,Agences[],2,FALSE),"") -> Bd SUISSE (liv. 6H) | I6: 58 | J6: =_xlfn.IFNA(VLOOKUP(I6:I17,Agences[],2,FALSE),"") -> SALVIAC | L6: 87 | M6: =_xlfn.IFNA(VLOOKUP(L6:L17,Agences[],2,FALSE),"") -> COUIZA | O6: 460 | P6: =_xlfn.IFNA(VLOOKUP(O6:O17,Agences[],2,FALSE),"") -> ALBI (Lescure) RP | R6: 461 | S6: =_xlfn.IFNA(VLOOKUP(R5:R16,Agences[],2,FALSE),"") -> CASTRES (Saix) RP | U6: 181 | V6: =_xlfn.IFNA(VLOOKUP(U5:U16,Agences[],2,FALSE),"") -> NOGARO RP | Z6: 130 | AA6: =_xlfn.IFNA(VLOOKUP(Z6,Agences[],2,FALSE),"") -> BANYULS | AC6: 57 | AD6: =_xlfn.IFNA(VLOOKUP(AC6,Agences[],2,FALSE),"") -> VERFEIL | AF6: 463 | AG6: =_xlfn.IFNA(VLOOKUP(AF6,Agences[],2,FALSE),"") -> JUVIGNAC CARRELAGES | AI6: 139 | AJ6: =_xlfn.IFNA(VLOOKUP(AI6,Agences[],2,FALSE),"") -> ST GAUDENS CARR. | AM6: =_xlfn.IFNA(VLOOKUP(AL6,Agences[],2,FALSE),"") | AQ6: MAP 395 | AR6: =_xlfn.IFNA(VLOOKUP(AQ6,Agences[],2,FALSE),"") -> CHGT MAPEI 395 | AT6: 201 | AU6: =_xlfn.IFNA(VLOOKUP(AT6,Agences[],2,FALSE),"") -> CHATEAUROUX | AX6: =_xlfn.IFNA(VLOOKUP(AW6,Agences[],2,FALSE),"")
C7: 43 | D7: =_xlfn.IFNA(VLOOKUP(C7:C17,Agences[],2,FALSE),"") -> NARBONNE | F7: 119 | G7: =_xlfn.IFNA(VLOOKUP(F7:F20,Agences[],2,FALSE),"") -> FONSEGRIVES | I7: 59 | J7: =_xlfn.IFNA(VLOOKUP(I7:I17,Agences[],2,FALSE),"") -> GOURDON | L7: 86 | M7: =_xlfn.IFNA(VLOOKUP(L7:L17,Agences[],2,FALSE),"") -> LIMOUX | O7: 46 | P7: =_xlfn.IFNA(VLOOKUP(O7:O17,Agences[],2,FALSE),"") -> ALBI | R7: 163 | S7: =_xlfn.IFNA(VLOOKUP(R7:R17,Agences[],2,FALSE),"") -> CASTRES US. | U7: 36 | V7: =_xlfn.IFNA(VLOOKUP(U6:U17,Agences[],2,FALSE),"") -> AUCH | Z7: 51 | AA7: =_xlfn.IFNA(VLOOKUP(Z7,Agences[],2,FALSE),"") -> ARGELES | AC7: 117 | AD7: =_xlfn.IFNA(VLOOKUP(AC7,Agences[],2,FALSE),"") -> VERFEIL BETON via 57 | AF7: 307 | AG7: =_xlfn.IFNA(VLOOKUP(AF7,Agences[],2,FALSE),"") -> ARLES | AI7: 102 | AJ7: =_xlfn.IFNA(VLOOKUP(AI7,Agences[],2,FALSE),"") -> ST GAUDENS | AL7: 6C | AM7: =_xlfn.IFNA(VLOOKUP(AL7,Agences[],2,FALSE),"") -> CHGT PTF AUTO | AQ7: 395 | AR7: =_xlfn.IFNA(VLOOKUP(AQ7,Agences[],2,FALSE),"") -> SAINT PAUL | AU7: =_xlfn.IFNA(VLOOKUP(AT7,Agences[],2,FALSE),"") | AX7: =_xlfn.IFNA(VLOOKUP(AW7,Agences[],2,FALSE),"")
C8: 128 | D8: =_xlfn.IFNA(VLOOKUP(C8:C17,Agences[],2,FALSE),"") -> VINASSAN CHARP. | G8: =_xlfn.IFNA(VLOOKUP(F8:F21,Agences[],2,FALSE),"") | I8: 21 | J8: =_xlfn.IFNA(VLOOKUP(I8:I17,Agences[],2,FALSE),"") -> CASTELFRANC | L8: 88 | M8: =_xlfn.IFNA(VLOOKUP(L8:L17,Agences[],2,FALSE),"") -> BELVEZE | O8: 47 | P8: =_xlfn.IFNA(VLOOKUP(O8:O17,Agences[],2,FALSE),"") -> GAILLAC | R8: 684 | S8: =_xlfn.IFNA(VLOOKUP(R8:R17,Agences[],2,FALSE),"") -> POLE CASTRES | V8: =_xlfn.IFNA(VLOOKUP(U7:U17,Agences[],2,FALSE),"") | Z8: 52 | AA8: =_xlfn.IFNA(VLOOKUP(Z8,Agences[],2,FALSE),"") -> CABESTANY | AC8: 14 | AD8: =_xlfn.IFNA(VLOOKUP(AC8,Agences[],2,FALSE),"") -> BALMA | AF8: 315 | AG8: =_xlfn.IFNA(VLOOKUP(AF8,Agences[],2,FALSE),"") -> ST MITRE CX | AI8: 108 | AJ8: =_xlfn.IFNA(VLOOKUP(AI8,Agences[],2,FALSE),"") -> CAZERE / GARONNE | AL8: 8C | AM8: =_xlfn.IFNA(VLOOKUP(AL8,Agences[],2,FALSE),"") -> CHGT PTF ST SULPICE | AR8: =_xlfn.IFNA(VLOOKUP(AQ8,Agences[],2,FALSE),"") | AT8: 232C | AU8: =_xlfn.IFNA(VLOOKUP(AT8,Agences[],2,FALSE),"") -> CHGT MONTIERCHAUME | AX8: =_xlfn.IFNA(VLOOKUP(AW8,Agences[],2,FALSE),"")
C9: 415 | D9: =_xlfn.IFNA(VLOOKUP(C9:C16,Agences[],2,FALSE),"") -> VINASSAN | F9: 3 | G9: =_xlfn.IFNA(VLOOKUP(F9:F22,Agences[],2,FALSE),"") -> RECHERCHE DE FRET | J9: =_xlfn.IFNA(VLOOKUP(I9:I17,Agences[],2,FALSE),"") | M9: =_xlfn.IFNA(VLOOKUP(L9:L17,Agences[],2,FALSE),"") | P9: =_xlfn.IFNA(VLOOKUP(O9:O17,Agences[],2,FALSE),"") | R9: 403 | S9: =_xlfn.IFNA(VLOOKUP(R9:R17,Agences[],2,FALSE),"") -> CASTRES US. TP | U9: 3 | V9: =_xlfn.IFNA(VLOOKUP(U8:U17,Agences[],2,FALSE),"") -> RECHERCHE DE FRET | AA9: =_xlfn.IFNA(VLOOKUP(Z9,Agences[],2,FALSE),"") | AC9: MAP 395 | AD9: =_xlfn.IFNA(VLOOKUP(AC9,Agences[],2,FALSE),"") -> CHGT MAPEI 395 | AF9: 7C | AG9: =_xlfn.IFNA(VLOOKUP(AF9,Agences[],2,FALSE),"") -> CHGT PTF CARRELAGE | AI9: 470 | AJ9: =_xlfn.IFNA(VLOOKUP(AI9,Agences[],2,FALSE),"") -> NOE | AL9: 5 | AM9: =_xlfn.IFNA(VLOOKUP(AL9,Agences[],2,FALSE),"") -> PTF ST ANDRE | AR9: =_xlfn.IFNA(VLOOKUP(AQ9,Agences[],2,FALSE),"") | AT9: 275 | AU9: =_xlfn.IFNA(VLOOKUP(AT9,Agences[],2,FALSE),"") -> RIOM | AX9: =_xlfn.IFNA(VLOOKUP(AW9,Agences[],2,FALSE),"")
C10: 164 | D10: =_xlfn.IFNA(VLOOKUP(C10:C20,Agences[],2,FALSE),"") -> LEZIGNAN US. | G10: =_xlfn.IFNA(VLOOKUP(F10:F23,Agences[],2,FALSE),"") | I10: 3 | J10: =_xlfn.IFNA(VLOOKUP(I10:I20,Agences[],2,FALSE),"") -> RECHERCHE DE FRET | L10: 3 | M10: =_xlfn.IFNA(VLOOKUP(L10:L20,Agences[],2,FALSE),"") -> RECHERCHE DE FRET | O10: 3 | P10: =_xlfn.IFNA(VLOOKUP(O10:O20,Agences[],2,FALSE),"") -> RECHERCHE DE FRET | R10: 48 | S10: =_xlfn.IFNA(VLOOKUP(R10:R20,Agences[],2,FALSE),"") -> CASTRES | V10: =_xlfn.IFNA(VLOOKUP(U9:U17,Agences[],2,FALSE),"") | Z10: 3 | AA10: =_xlfn.IFNA(VLOOKUP(Z10,Agences[],2,FALSE),"") -> RECHERCHE DE FRET | AC10: 28 | AD10: =_xlfn.IFNA(VLOOKUP(AC10,Agences[],2,FALSE),"") -> CASTELSARRASIN | AG10: =_xlfn.IFNA(VLOOKUP(AF10,Agences[],2,FALSE),"") | AI10: 109 | AJ10: =_xlfn.IFNA(VLOOKUP(AI10,Agences[],2,FALSE),"") -> BERAT | AM10: =_xlfn.IFNA(VLOOKUP(AL10,Agences[],2,FALSE),"") | AR10: =_xlfn.IFNA(VLOOKUP(AQ10,Agences[],2,FALSE),"") | AT10: 276 | AU10: =_xlfn.IFNA(VLOOKUP(AT10,Agences[],2,FALSE),"") -> CLERMONT FD | AX10: =_xlfn.IFNA(VLOOKUP(AW10,Agences[],2,FALSE),"")
C11: 683 | D11: =_xlfn.IFNA(VLOOKUP(C11:C21,Agences[],2,FALSE),"") -> POLE LEZIGNAN | G11: =_xlfn.IFNA(VLOOKUP(F11:F24,Agences[],2,FALSE),"") | J11: =_xlfn.IFNA(VLOOKUP(I11:I21,Agences[],2,FALSE),"") | M11: =_xlfn.IFNA(VLOOKUP(L11:L21,Agences[],2,FALSE),"") | P11: =_xlfn.IFNA(VLOOKUP(O11:O21,Agences[],2,FALSE),"") | R11: 45 | S11: =_xlfn.IFNA(VLOOKUP(R11:R21,Agences[],2,FALSE),"") -> MAZAMET | V11: =_xlfn.IFNA(VLOOKUP(U10:U20,Agences[],2,FALSE),"") | AA11: =_xlfn.IFNA(VLOOKUP(Z11,Agences[],2,FALSE),"") | AD11: =_xlfn.IFNA(VLOOKUP(AC11,Agences[],2,FALSE),"") | AF11: PRAD | AG11: =_xlfn.IFNA(VLOOKUP(AF11,Agences[],2,FALSE),"") -> CHGT PRADIER GRANULA | AI11: 134 | AJ11: =_xlfn.IFNA(VLOOKUP(AI11,Agences[],2,FALSE),"") -> STE FOY DE P. | AM11: =_xlfn.IFNA(VLOOKUP(AL11,Agences[],2,FALSE),"") | AR11: =_xlfn.IFNA(VLOOKUP(AQ11,Agences[],2,FALSE),"") | AT11: 357 | AU11: =_xlfn.IFNA(VLOOKUP(AT11,Agences[],2,FALSE),"") -> USINE PT DU CHÂTEAU | AX11: =_xlfn.IFNA(VLOOKUP(AW11,Agences[],2,FALSE),"")
D12: =_xlfn.IFNA(VLOOKUP(C12:C22,Agences[],2,FALSE),"") | G12: =_xlfn.IFNA(VLOOKUP(F12:F25,Agences[],2,FALSE),"") | J12: =_xlfn.IFNA(VLOOKUP(I12:I22,Agences[],2,FALSE),"") | M12: =_xlfn.IFNA(VLOOKUP(L12:L22,Agences[],2,FALSE),"") | P12: =_xlfn.IFNA(VLOOKUP(O12:O22,Agences[],2,FALSE),"") | S12: =_xlfn.IFNA(VLOOKUP(R12:R22,Agences[],2,FALSE),"") | V12: =_xlfn.IFNA(VLOOKUP(U11:U20,Agences[],2,FALSE),"") | AA12: =_xlfn.IFNA(VLOOKUP(Z12,Agences[],2,FALSE),"") | AC12: 3 | AD12: =_xlfn.IFNA(VLOOKUP(AC12,Agences[],2,FALSE),"") -> RECHERCHE DE FRET | AG12: =_xlfn.IFNA(VLOOKUP(AF12,Agences[],2,FALSE),"") | AI12: 114 | AJ12: =_xlfn.IFNA(VLOOKUP(AI12,Agences[],2,FALSE),"") -> FONSORBES | AR12: =_xlfn.IFNA(VLOOKUP(AQ12,Agences[],2,FALSE),"") | AU12: =_xlfn.IFNA(VLOOKUP(AT12,Agences[],2,FALSE),"") | AX12: =_xlfn.IFNA(VLOOKUP(AW12,Agences[],2,FALSE),"")
C13: 3 | D13: =_xlfn.IFNA(VLOOKUP(C13:C23,Agences[],2,FALSE),"") -> RECHERCHE DE FRET | G13: =_xlfn.IFNA(VLOOKUP(F13:F26,Agences[],2,FALSE),"") | J13: =_xlfn.IFNA(VLOOKUP(I13:I23,Agences[],2,FALSE),"") | M13: =_xlfn.IFNA(VLOOKUP(L13:L23,Agences[],2,FALSE),"") | P13: =_xlfn.IFNA(VLOOKUP(O13:O23,Agences[],2,FALSE),"") | R13: 3 | S13: =_xlfn.IFNA(VLOOKUP(R13:R23,Agences[],2,FALSE),"") -> RECHERCHE DE FRET | V13: =_xlfn.IFNA(VLOOKUP(U12:U21,Agences[],2,FALSE),"") | AA13: =_xlfn.IFNA(VLOOKUP(Z13,Agences[],2,FALSE),"") | AD13: =_xlfn.IFNA(VLOOKUP(AC13,Agences[],2,FALSE),"") | AG13: =_xlfn.IFNA(VLOOKUP(AF13,Agences[],2,FALSE),"") | AI13: 133 | AJ13: =_xlfn.IFNA(VLOOKUP(AI13,Agences[],2,FALSE),"") -> MURET | AM13: =_xlfn.IFNA(VLOOKUP(AL13,Agences[],2,FALSE),"") | AR13: =_xlfn.IFNA(VLOOKUP(AQ13,Agences[],2,FALSE),"") | AU13: =_xlfn.IFNA(VLOOKUP(AT13,Agences[],2,FALSE),"") | AX13: =_xlfn.IFNA(VLOOKUP(AW13,Agences[],2,FALSE),"")
D14: =_xlfn.IFNA(VLOOKUP(C14:C24,Agences[],2,FALSE),"") | G14: =_xlfn.IFNA(VLOOKUP(F14:F27,Agences[],2,FALSE),"") | J14: =_xlfn.IFNA(VLOOKUP(I14:I24,Agences[],2,FALSE),"") | M14: =_xlfn.IFNA(VLOOKUP(L14:L24,Agences[],2,FALSE),"") | P14: =_xlfn.IFNA(VLOOKUP(O14:O24,Agences[],2,FALSE),"") | S14: =_xlfn.IFNA(VLOOKUP(R14:R24,Agences[],2,FALSE),"") | V14: =_xlfn.IFNA(VLOOKUP(U13:U22,Agences[],2,FALSE),"") | AA14: =_xlfn.IFNA(VLOOKUP(Z14,Agences[],2,FALSE),"") | AD14: =_xlfn.IFNA(VLOOKUP(AC14,Agences[],2,FALSE),"") | AG14: =_xlfn.IFNA(VLOOKUP(AF14,Agences[],2,FALSE),"") | AJ14: =_xlfn.IFNA(VLOOKUP(AI14,Agences[],2,FALSE),"") | AM14: =_xlfn.IFNA(VLOOKUP(AL14,Agences[],2,FALSE),"") | AR14: =_xlfn.IFNA(VLOOKUP(AQ14,Agences[],2,FALSE),"") | AU14: =_xlfn.IFNA(VLOOKUP(AT14,Agences[],2,FALSE),"") | AX14: =_xlfn.IFNA(VLOOKUP(AW14,Agences[],2,FALSE),"")
D15: =_xlfn.IFNA(VLOOKUP(C15:C25,Agences[],2,FALSE),"") | G15: =_xlfn.IFNA(VLOOKUP(F15:F28,Agences[],2,FALSE),"") | J15: =_xlfn.IFNA(VLOOKUP(I15:I25,Agences[],2,FALSE),"") | M15: =_xlfn.IFNA(VLOOKUP(L15:L25,Agences[],2,FALSE),"") | P15: =_xlfn.IFNA(VLOOKUP(O15:O25,Agences[],2,FALSE),"") | S15: =_xlfn.IFNA(VLOOKUP(R15:R25,Agences[],2,FALSE),"") | V15: =_xlfn.IFNA(VLOOKUP(U14:U23,Agences[],2,FALSE),"") | AA15: =_xlfn.IFNA(VLOOKUP(Z15,Agences[],2,FALSE),"") | AD15: =_xlfn.IFNA(VLOOKUP(AC15,Agences[],2,FALSE),"") | AG15: =_xlfn.IFNA(VLOOKUP(AF15,Agences[],2,FALSE),"") | AJ15: =_xlfn.IFNA(VLOOKUP(AI15,Agences[],2,FALSE),"") | AM15: =_xlfn.IFNA(VLOOKUP(AL15,Agences[],2,FALSE),"") | AR15: =_xlfn.IFNA(VLOOKUP(AQ15,Agences[],2,FALSE),"") | AU15: =_xlfn.IFNA(VLOOKUP(AT15,Agences[],2,FALSE),"") | AX15: =_xlfn.IFNA(VLOOKUP(AW15,Agences[],2,FALSE),"")
D16: =_xlfn.IFNA(VLOOKUP(C5:C17,Agences[],2,FALSE),"") | G16: =_xlfn.IFNA(VLOOKUP(F16:F30,Agences[],2,FALSE),"") | J16: =_xlfn.IFNA(VLOOKUP(I16:I24,Agences[],2,FALSE),"") | M16: =_xlfn.IFNA(VLOOKUP(L16:L24,Agences[],2,FALSE),"") | O16: 1 | P16: =_xlfn.IFNA(VLOOKUP(O16:O24,Agences[],2,FALSE),"") -> PARC | S16: =_xlfn.IFNA(VLOOKUP(R16:R24,Agences[],2,FALSE),"") | V16: =_xlfn.IFNA(VLOOKUP(U13:U22,Agences[],2,FALSE),"") | AA16: =_xlfn.IFNA(VLOOKUP(Z16,Agences[],2,FALSE),"") | AD16: =_xlfn.IFNA(VLOOKUP(AC16,Agences[],2,FALSE),"") | AG16: =_xlfn.IFNA(VLOOKUP(AF16,Agences[],2,FALSE),"") | AJ16: =_xlfn.IFNA(VLOOKUP(AI16,Agences[],2,FALSE),"") | AM16: =_xlfn.IFNA(VLOOKUP(AL16,Agences[],2,FALSE),"") | AR16: =_xlfn.IFNA(VLOOKUP(AQ16,Agences[],2,FALSE),"") | AU16: =_xlfn.IFNA(VLOOKUP(AT16,Agences[],2,FALSE),"") | AX16: =_xlfn.IFNA(VLOOKUP(AW16,Agences[],2,FALSE),"")
B17: 221 | D17: 158 | E17: 61 | G17: 36 | H17: 220 | J17: 165 | K17: 181 | M17: 118 | N17: 87 | P17: 27 | Q17: 80 | S17: 58 | T17: 232 | V17: 111 | Y17: 316 | AA17: 238 | AB17: 159 | AD17: 92 | AE17: 841 | AG17: 515 | AH17: 256 | AJ17: 58 | AK17: 290 | AP17: 428 | AS17: 860
B18: 0.60416667 | E18: 0.10416667 | H18: 0.3125 | K18: 0.27083333 | N18: 0.35416667 | Q18: 0.25902778 | T18: 0.26041667 | Y18: 0.41666667 | AB18: 0.29166667 | AE18: 0.39930556 | AH18: 0.29166667 | AK18: 0.17361111 | AP18: 0.29166667 | AS18: 0.625
A19: =A3+1 -> 45146 | B19: 2 | D19: CAMION 1 | E19: 1 | G19: CAMION 2 | H19: 11 | J19: CAMION 3 | K19: 10 | M19: CAMION 3 | N19: 12 | P19: CAMION 5 | Q19: 4 | R19: x | S19: CAMION 6 | T19: 4 | V19: CAMION 7 | X19: =X3+1 -> 45146 | AA19: CAMION 8 | AC19: x | AD19: CAMION 9 | AF19: x | AG19: CAMION 10 | AI19: CAMION 11 | AJ19: CAMION 11 | AL19: CAMION 12 | AO19: =AO3+1 -> 45146 | AP19: 13 | AR19: GR1 | AS19: 4 | AU19: GR2 | AX19: GR12
B20: 0 | D20: =_xlfn.IFNA(VLOOKUP(B19,CTR[],2,FALSE),"") -> Caroll / FZ-768-KH | E20: 0 | G20: =_xlfn.IFNA(VLOOKUP(E19,CTR[],2,FALSE),"") -> Arnaud / GC-690-DK | H20: 0 | J20: =_xlfn.IFNA(VLOOKUP(H19,CTR[],2,FALSE),"") -> Matthieu / GC-569-XQ | K20: 0 | M20: =_xlfn.IFNA(VLOOKUP(K19,CTR[],2,FALSE),"") -> Marco / FZ-672-MC | N20: 0 | P20: =_xlfn.IFNA(VLOOKUP(N19,CTR[],2,FALSE),"") -> Sebastien / GJ998-GR | Q20: 0 | S20: =_xlfn.IFNA(VLOOKUP(Q19,CTR[],2,FALSE),"") -> Eric / GC-102-TG | T20: 0 | V20: =_xlfn.IFNA(VLOOKUP(T19,CTR[],2,FALSE),"") -> Eric / GC-102-TG | Y20: 0 | AA20: =_xlfn.IFNA(VLOOKUP(Y19,CTR[],2,FALSE),"") | AB20: 0 | AD20: =_xlfn.IFNA(VLOOKUP(AB19,CTR[],2,FALSE),"") | AE20: 0 | AG20: =_xlfn.IFNA(VLOOKUP(AE19,CTR[],2,FALSE),"") | AH20: 0 | AJ20: =_xlfn.IFNA(VLOOKUP(AH19,CTR[],2,FALSE),"") | AK20: 0 | AM20: =_xlfn.IFNA(VLOOKUP(AK19,CTR[],2,FALSE),"") | AP20: 0 | AR20: =_xlfn.IFNA(VLOOKUP(AP19,CTR[],2,FALSE),"") -> Yusuf / GJ-714-GR | AS20: 0 | AU20: =_xlfn.IFNA(VLOOKUP(AS19,CTR[],2,FALSE),"") -> Eric / GC-102-TG | AV20: 0 | AX20: =_xlfn.IFNA(VLOOKUP(AV19,CTR[],2,FALSE),"")
B21: =_xlfn.IFNA(VLOOKUP(B19,CTR[],3,FALSE),"") -> FZ-277-WC | C21: 6 | D21: =_xlfn.IFNA(VLOOKUP(C21,Agences[],2,FALSE),"") -> PTF AUTO 6 | E21: =_xlfn.IFNA(VLOOKUP(E19,CTR[],3,FALSE),"") -> FW-097-JQ | F21: 8C | G21: =_xlfn.IFNA(VLOOKUP(F21,Agences[],2,FALSE),"") -> CHGT PTF ST SULPICE | H21: =_xlfn.IFNA(VLOOKUP(H19,CTR[],3,FALSE),"") -> FB-856-AV | I21: 8C | J21: =_xlfn.IFNA(VLOOKUP(I21:I32,Agences[],2,FALSE),"") -> CHGT PTF ST SULPICE | K21: =_xlfn.IFNA(VLOOKUP(K19,CTR[],3,FALSE),"") -> FZ-446-WB | L21: 8C | M21: =_xlfn.IFNA(VLOOKUP(L21:L32,Agences[],2,FALSE),"") -> CHGT PTF ST SULPICE | N21: =_xlfn.IFNA(VLOOKUP(N19,CTR[],3,FALSE),"") -> ET-231-QD | O21: 8C | P21: =_xlfn.IFNA(VLOOKUP(O21:O32,Agences[],2,FALSE),"") -> CHGT PTF ST SULPICE | Q21: =_xlfn.IFNA(VLOOKUP(Q19,CTR[],3,FALSE),"") -> FB-586-AV | R21: 8C | S21: =_xlfn.IFNA(VLOOKUP(R21:R32,Agences[],2,FALSE),"") -> CHGT PTF ST SULPICE | T21: =_xlfn.IFNA(VLOOKUP(T19,CTR[],3,FALSE),"") -> FB-586-AV | U21: 8C | V21: =_xlfn.IFNA(VLOOKUP(U20:U28,Agences[],2,FALSE),"") -> CHGT PTF ST SULPICE | Y21: =_xlfn.IFNA(VLOOKUP(Y19,CTR[],3,FALSE),"") | Z21: 8C | AA21: =_xlfn.IFNA(VLOOKUP(Z21:Z32,Agences[],2,FALSE),"") -> CHGT PTF ST SULPICE | AB21: =_xlfn.IFNA(VLOOKUP(AB19,CTR[],3,FALSE),"") | AC21: 8C | AD21: =_xlfn.IFNA(VLOOKUP(AC21:AC32,Agences[],2,FALSE),"") -> CHGT PTF ST SULPICE | AE21: =_xlfn.IFNA(VLOOKUP(AE19,CTR[],3,FALSE),"") | AF21: 8 | AG21: =_xlfn.IFNA(VLOOKUP(AF21:AF30,Agences[],2,FALSE),"") -> PTF ST SULPICE | AH21: =_xlfn.IFNA(VLOOKUP(AH19,CTR[],3,FALSE),"") | AI21: 6E | AJ21: =_xlfn.IFNA(VLOOKUP(AI21:AI32,Agences[],2,FALSE),"") -> E-COMMERCE ptf 006 | AK21: =_xlfn.IFNA(VLOOKUP(AK19,CTR[],3,FALSE),"") | AM21: =_xlfn.IFNA(VLOOKUP(AL21,Agences[],2,FALSE),"") | AP21: =_xlfn.IFNA(VLOOKUP(AP19,CTR[],3,FALSE),"") -> FB-043-AA | AQ21: 395 C | AR21: =_xlfn.IFNA(VLOOKUP(AQ21,Agences[],2,FALSE),"") -> CHGT ST PAUL | AS21: =_xlfn.IFNA(VLOOKUP(AS19,CTR[],3,FALSE),"") -> FB-586-AV | AT21: 363 | AU21: =_xlfn.IFNA(VLOOKUP(AT21:AT30,Agences[],2,FALSE),"") -> PT DU CHÂTEAU | AV21: =_xlfn.IFNA(VLOOKUP(AV19,CTR[],3,FALSE),"") | AX21: =_xlfn.IFNA(VLOOKUP(AW21:AW30,Agences[],2,FALSE),"")
C22: 32 | D22: =_xlfn.IFNA(VLOOKUP(C22,Agences[],2,FALSE),"") -> L'ISLE-JOURDAIN | F22: 180 | G22: =_xlfn.IFNA(VLOOKUP(F22,Agences[],2,FALSE),"") -> FUMEL RP | I22: 19 | J22: =_xlfn.IFNA(VLOOKUP(I22:I33,Agences[],2,FALSE),"") -> VILLEFRANCHE L. | L22: 95 | M22: =_xlfn.IFNA(VLOOKUP(L22:L33,Agences[],2,FALSE),"") -> SAINT-LAURENT | O22: 102 | P22: =_xlfn.IFNA(VLOOKUP(O22:O33,Agences[],2,FALSE),"") -> ST GAUDENS | R22: 145 | S22: =_xlfn.IFNA(VLOOKUP(R22:R33,Agences[],2,FALSE),"") -> CASTANET-TOLOSAN | U22: 475 | V22: =_xlfn.IFNA(VLOOKUP(U21:U30,Agences[],2,FALSE),"") -> TOULOUSE EXPRESS | Z22: 9 | AA22: =_xlfn.IFNA(VLOOKUP(Z22:Z33,Agences[],2,FALSE),"") -> ST ALBAN | AC22: 441 | AD22: =_xlfn.IFNA(VLOOKUP(AC22:AC33,Agences[],2,FALSE),"") -> BANASSAC | AG22: =_xlfn.IFNA(VLOOKUP(AF22:AF32,Agences[],2,FALSE),"") | AI22: 59 | AJ22: =_xlfn.IFNA(VLOOKUP(AI22:AI33,Agences[],2,FALSE),"") -> GOURDON | AL22: 3 | AM22: =_xlfn.IFNA(VLOOKUP(AL22,Agences[],2,FALSE),"") -> RECHERCHE DE FRET | AR22: =_xlfn.IFNA(VLOOKUP(AQ22,Agences[],2,FALSE),"") | AU22: =_xlfn.IFNA(VLOOKUP(AT22:AT33,Agences[],2,FALSE),"") | AX22: =_xlfn.IFNA(VLOOKUP(AW22:AW33,Agences[],2,FALSE),"")
C23: 469 | D23: =_xlfn.IFNA(VLOOKUP(C23,Agences[],2,FALSE),"") -> COLOMIERS RP | F23: 126 | G23: =_xlfn.IFNA(VLOOKUP(F23,Agences[],2,FALSE),"") -> MONFLANQUIN | I23: 42 | J23: =_xlfn.IFNA(VLOOKUP(I23:I36,Agences[],2,FALSE),"") -> CASTELNAUDARY | L23: 96 | M23: =_xlfn.IFNA(VLOOKUP(L23:L36,Agences[],2,FALSE),"") -> GRAMAT | O23: 139 | P23: =_xlfn.IFNA(VLOOKUP(O23:O36,Agences[],2,FALSE),"") -> ST GAUDENS CARR. | R23: 18 | S23: =_xlfn.IFNA(VLOOKUP(R23:R36,Agences[],2,FALSE),"") -> SAINT-ORENS | U23: 459 | V23: =_xlfn.IFNA(VLOOKUP(U22:U31,Agences[],2,FALSE),"") -> VILLENEUVE TOLOSANE | Z23: 131 | AA23: =_xlfn.IFNA(VLOOKUP(Z23:Z36,Agences[],2,FALSE),"") -> ST ALBAN BOIS. | AC23: 451 | AD23: =_xlfn.IFNA(VLOOKUP(AC23:AC36,Agences[],2,FALSE),"") -> ST CHELY D'APCHER | AF23: 6C | AG23: =_xlfn.IFNA(VLOOKUP(AF23:AF33,Agences[],2,FALSE),"") -> CHGT PTF AUTO | AI23: 26 | AJ23: =_xlfn.IFNA(VLOOKUP(AI23:AI36,Agences[],2,FALSE),"") -> CAHORS | AM23: =_xlfn.IFNA(VLOOKUP(AL23,Agences[],2,FALSE),"") | AQ23: 366 | AR23: =_xlfn.IFNA(VLOOKUP(AQ23,Agences[],2,FALSE),"") -> TREVOUX | AT23: RECT | AU23: =_xlfn.IFNA(VLOOKUP(AT23:AT33,Agences[],2,FALSE),"") -> CHGT RECTOR Ravel | AX23: =_xlfn.IFNA(VLOOKUP(AW23:AW33,Agences[],2,FALSE),"")
C24: 417 | D24: =_xlfn.IFNA(VLOOKUP(C24,Agences[],2,FALSE),"") -> COLOMIERS BOIS | F24: 116 | G24: =_xlfn.IFNA(VLOOKUP(F24,Agences[],2,FALSE),"") -> VILLEREAL | I24: 135 | J24: =_xlfn.IFNA(VLOOKUP(I24:I37,Agences[],2,FALSE),"") -> MAZERES (09) | L24: 26 | M24: =_xlfn.IFNA(VLOOKUP(L24:L37,Agences[],2,FALSE),"") -> CAHORS | O24: 106 | P24: =_xlfn.IFNA(VLOOKUP(O24:O37,Agences[],2,FALSE),"") -> ST GIRONS | S24: =_xlfn.IFNA(VLOOKUP(R24:R37,Agences[],2,FALSE),"") | U24: 15 | V24: =_xlfn.IFNA(VLOOKUP(U23:U32,Agences[],2,FALSE),"") -> PINSAGUEL | Z24: 146 | AA24: =_xlfn.IFNA(VLOOKUP(Z24:Z37,Agences[],2,FALSE),"") -> ST ALBAN BETON via 11 | AC24: 449 | AD24: =_xlfn.IFNA(VLOOKUP(AC24:AC37,Agences[],2,FALSE),"") -> MARVEJOLS | AF24: 8C | AG24: =_xlfn.IFNA(VLOOKUP(AF24:AF36,Agences[],2,FALSE),"") -> CHGT PTF ST SULPICE | AI24: 23 | AJ24: =_xlfn.IFNA(VLOOKUP(AI24:AI37,Agences[],2,FALSE),"") -> LALBENQUE | AM24: =_xlfn.IFNA(VLOOKUP(AL24,Agences[],2,FALSE),"") | AQ24: 377 | AR24: =_xlfn.IFNA(VLOOKUP(AQ24,Agences[],2,FALSE),"") -> L ARBRESLE | AU24: =_xlfn.IFNA(VLOOKUP(AT24:AT33,Agences[],2,FALSE),"") | AX24: =_xlfn.IFNA(VLOOKUP(AW24:AW33,Agences[],2,FALSE),"")
C25: 17 | D25: =_xlfn.IFNA(VLOOKUP(C25,Agences[],2,FALSE),"") -> COLOMIERS | G25: =_xlfn.IFNA(VLOOKUP(F25,Agences[],2,FALSE),"") | I25: 165 | J25: =_xlfn.IFNA(VLOOKUP(I25:I38,Agences[],2,FALSE),"") -> AUTERIVE | M25: =_xlfn.IFNA(VLOOKUP(L25:L38,Agences[],2,FALSE),"") | P25: =_xlfn.IFNA(VLOOKUP(O25:O38,Agences[],2,FALSE),"") | R25: 3 | S25: =_xlfn.IFNA(VLOOKUP(R25:R38,Agences[],2,FALSE),"") -> RECHERCHE DE FRET | U25: 133 | V25: =_xlfn.IFNA(VLOOKUP(U24:U33,Agences[],2,FALSE),"") -> MURET | Z25: 11 | AA25: =_xlfn.IFNA(VLOOKUP(Z25:Z38,Agences[],2,FALSE),"") -> ST ALBAN + D9 * | AC25: 437 | AD25: =_xlfn.IFNA(VLOOKUP(AC25:AC38,Agences[],2,FALSE),"") -> MARVEJOLS BET. VIA 0089 | AF25: 5 | AG25: =_xlfn.IFNA(VLOOKUP(AF25:AF37,Agences[],2,FALSE),"") -> PTF ST ANDRE | AI25: 64 | AJ25: =_xlfn.IFNA(VLOOKUP(AI25:AI38,Agences[],2,FALSE),"") -> LABENQUE US. | AM25: =_xlfn.IFNA(VLOOKUP(AL25,Agences[],2,FALSE),"") | AQ25: 375 | AR25: =_xlfn.IFNA(VLOOKUP(AQ25,Agences[],2,FALSE),"") -> TARARE | AT25: 241 | AU25: =_xlfn.IFNA(VLOOKUP(AT25:AT36,Agences[],2,FALSE),"") -> LIMOGES NORD | AX25: =_xlfn.IFNA(VLOOKUP(AW25:AW36,Agences[],2,FALSE),"")
C26: 692 | D26: =_xlfn.IFNA(VLOOKUP(C26,Agences[],2,FALSE),"") -> POLE COLOMIERS | F26: 3 | G26: =_xlfn.IFNA(VLOOKUP(F26,Agences[],2,FALSE),"") -> RECHERCHE DE FRET | J26: =_xlfn.IFNA(VLOOKUP(I26:I39,Agences[],2,FALSE),"") | L26: 3 | M26: =_xlfn.IFNA(VLOOKUP(L26:L39,Agences[],2,FALSE),"") -> RECHERCHE DE FRET | O26: 3 | P26: =_xlfn.IFNA(VLOOKUP(O26:O39,Agences[],2,FALSE),"") -> RECHERCHE DE FRET | S26: =_xlfn.IFNA(VLOOKUP(R26:R39,Agences[],2,FALSE),"") | V26: =_xlfn.IFNA(VLOOKUP(U25:U36,Agences[],2,FALSE),"") | Z26: 7C | AA26: =_xlfn.IFNA(VLOOKUP(Z26:Z39,Agences[],2,FALSE),"") -> CHGT PTF CARRELAGE | AC26: 450 | AD26: =_xlfn.IFNA(VLOOKUP(AC26:AC39,Agences[],2,FALSE),"") -> MENDE | AG26: =_xlfn.IFNA(VLOOKUP(AF26:AF38,Agences[],2,FALSE),"") | AI26: 35 | AJ26: =_xlfn.IFNA(VLOOKUP(AI26:AI39,Agences[],2,FALSE),"") -> CAUSSADE | AM26: =_xlfn.IFNA(VLOOKUP(AL26,Agences[],2,FALSE),"") | AR26: =_xlfn.IFNA(VLOOKUP(AQ26,Agences[],2,FALSE),"") | AU26: =_xlfn.IFNA(VLOOKUP(AT26:AT37,Agences[],2,FALSE),"") | AX26: =_xlfn.IFNA(VLOOKUP(AW26:AW37,Agences[],2,FALSE),"")
C27: 99 | D27: =_xlfn.IFNA(VLOOKUP(C27,Agences[],2,FALSE),"") -> COLOMIERS BET. | G27: =_xlfn.IFNA(VLOOKUP(F27,Agences[],2,FALSE),"") | I27: 3 | J27: =_xlfn.IFNA(VLOOKUP(I27:I40,Agences[],2,FALSE),"") -> RECHERCHE DE FRET | M27: =_xlfn.IFNA(VLOOKUP(L27:L40,Agences[],2,FALSE),"") | P27: =_xlfn.IFNA(VLOOKUP(O27:O40,Agences[],2,FALSE),"") | S27: =_xlfn.IFNA(VLOOKUP(R27:R40,Agences[],2,FALSE),"") | U27: PROS 395 | V27: =_xlfn.IFNA(VLOOKUP(U26:U37,Agences[],2,FALSE),"") -> CHGT PROSEC PLF 395 | Z27: 81 | AA27: =_xlfn.IFNA(VLOOKUP(Z27:Z40,Agences[],2,FALSE),"") -> TARBES | AC27: 438 | AD27: =_xlfn.IFNA(VLOOKUP(AC27:AC40,Agences[],2,FALSE),"") -> MENDE BET. VIA 450 | AG27: =_xlfn.IFNA(VLOOKUP(AF27:AF39,Agences[],2,FALSE),"") | AI27: 33 | AJ27: =_xlfn.IFNA(VLOOKUP(AI27:AI40,Agences[],2,FALSE),"") -> MONTAUBAN NORD | AM27: =_xlfn.IFNA(VLOOKUP(AL27,Agences[],2,FALSE),"") | AQ27: CHAB | AR27: =_xlfn.IFNA(VLOOKUP(AQ27,Agences[],2,FALSE),"") -> CHGT CHABANNE | AT27: 3 | AU27: =_xlfn.IFNA(VLOOKUP(AT27:AT38,Agences[],2,FALSE),"") -> RECHERCHE DE FRET | AX27: =_xlfn.IFNA(VLOOKUP(AW27:AW38,Agences[],2,FALSE),"")
C28: 61 | D28: =_xlfn.IFNA(VLOOKUP(C28,Agences[],2,FALSE),"") -> COLOMIERS US. VIA 99 | G28: =_xlfn.IFNA(VLOOKUP(F28,Agences[],2,FALSE),"") | J28: =_xlfn.IFNA(VLOOKUP(I28:I41,Agences[],2,FALSE),"") | M28: =_xlfn.IFNA(VLOOKUP(L28:L41,Agences[],2,FALSE),"") | P28: =_xlfn.IFNA(VLOOKUP(O28:O41,Agences[],2,FALSE),"") | S28: =_xlfn.IFNA(VLOOKUP(R28:R41,Agences[],2,FALSE),"") | V28: Cmd : | Z28: 474 | AA28: =_xlfn.IFNA(VLOOKUP(Z28:Z41,Agences[],2,FALSE),"") -> JURANCON | AD28: =_xlfn.IFNA(VLOOKUP(AC28:AC41,Agences[],2,FALSE),"") | AG28: =_xlfn.IFNA(VLOOKUP(AF28:AF40,Agences[],2,FALSE),"") | AI28: 121 | AJ28: =_xlfn.IFNA(VLOOKUP(AI28:AI41,Agences[],2,FALSE),"") -> MONTAUBAN SUD | AM28: =_xlfn.IFNA(VLOOKUP(AL28,Agences[],2,FALSE),"") | AR28: =_xlfn.IFNA(VLOOKUP(AQ28,Agences[],2,FALSE),"") | AU28: =_xlfn.IFNA(VLOOKUP(AT28:AT39,Agences[],2,FALSE),"") | AX28: =_xlfn.IFNA(VLOOKUP(AW28:AW39,Agences[],2,FALSE),"")
D29: =_xlfn.IFNA(VLOOKUP(C29,Agences[],2,FALSE),"") | G29: =_xlfn.IFNA(VLOOKUP(F29,Agences[],2,FALSE),"") | J29: =_xlfn.IFNA(VLOOKUP(I29:I42,Agences[],2,FALSE),"") | M29: =_xlfn.IFNA(VLOOKUP(L29:L42,Agences[],2,FALSE),"") | P29: =_xlfn.IFNA(VLOOKUP(O29:O42,Agences[],2,FALSE),"") | S29: =_xlfn.IFNA(VLOOKUP(R29:R42,Agences[],2,FALSE),"") | V29: =_xlfn.IFNA(VLOOKUP(U28:U39,Agences[],2,FALSE),"") | Z29: 139 | AA29: =_xlfn.IFNA(VLOOKUP(Z29:Z42,Agences[],2,FALSE),"") -> ST GAUDENS CARR. | AC29: 3 | AD29: =_xlfn.IFNA(VLOOKUP(AC29:AC42,Agences[],2,FALSE),"") -> RECHERCHE DE FRET | AG29: =_xlfn.IFNA(VLOOKUP(AF29:AF41,Agences[],2,FALSE),"") | AI29: 456 | AJ29: =_xlfn.IFNA(VLOOKUP(AI29:AI42,Agences[],2,FALSE),"") -> MONTAUBAN GYPSO | AM29: =_xlfn.IFNA(VLOOKUP(AL29,Agences[],2,FALSE),"") | AR29: =_xlfn.IFNA(VLOOKUP(AQ29,Agences[],2,FALSE),"")
C30: 3 | D30: =_xlfn.IFNA(VLOOKUP(C30,Agences[],2,FALSE),"") -> RECHERCHE DE FRET | G30: =_xlfn.IFNA(VLOOKUP(F30,Agences[],2,FALSE),"") | J30: =_xlfn.IFNA(VLOOKUP(I30:I43,Agences[],2,FALSE),"") | M30: =_xlfn.IFNA(VLOOKUP(L30:L43,Agences[],2,FALSE),"") | P30: =_xlfn.IFNA(VLOOKUP(O30:O43,Agences[],2,FALSE),"") | S30: =_xlfn.IFNA(VLOOKUP(R30:R43,Agences[],2,FALSE),"") | V30: =_xlfn.IFNA(VLOOKUP(U29:U40,Agences[],2,FALSE),"") | AA30: =_xlfn.IFNA(VLOOKUP(Z30:Z43,Agences[],2,FALSE),"") | AD30: =_xlfn.IFNA(VLOOKUP(AC30:AC43,Agences[],2,FALSE),"") | AG30: =_xlfn.IFNA(VLOOKUP(AF30:AF42,Agences[],2,FALSE),"") | AJ30: =_xlfn.IFNA(VLOOKUP(AI30:AI43,Agences[],2,FALSE),"") | AM30: =_xlfn.IFNA(VLOOKUP(AL30,Agences[],2,FALSE),"") | AR30: =_xlfn.IFNA(VLOOKUP(AQ30,Agences[],2,FALSE),"") | AU30: =_xlfn.IFNA(VLOOKUP(AT30:AT40,Agences[],2,FALSE),"") | AX30: =_xlfn.IFNA(VLOOKUP(AW30:AW40,Agences[],2,FALSE),"")
D31: =_xlfn.IFNA(VLOOKUP(C31,Agences[],2,FALSE),"") | G31: =_xlfn.IFNA(VLOOKUP(F31,Agences[],2,FALSE),"") | J31: =_xlfn.IFNA(VLOOKUP(I31:I46,Agences[],2,FALSE),"") | M31: =_xlfn.IFNA(VLOOKUP(L31:L46,Agences[],2,FALSE),"") | P31: =_xlfn.IFNA(VLOOKUP(O31:O46,Agences[],2,FALSE),"") | R31: 1 | S31: =_xlfn.IFNA(VLOOKUP(R31:R46,Agences[],2,FALSE),"") -> PARC | V31: =_xlfn.IFNA(VLOOKUP(U30:U41,Agences[],2,FALSE),"") | AA31: =_xlfn.IFNA(VLOOKUP(Z31:Z46,Agences[],2,FALSE),"") | AD31: =_xlfn.IFNA(VLOOKUP(AC31:AC46,Agences[],2,FALSE),"") | AG31: =_xlfn.IFNA(VLOOKUP(AF31:AF43,Agences[],2,FALSE),"") | AJ31: =_xlfn.IFNA(VLOOKUP(AI31:AI46,Agences[],2,FALSE),"") | AM31: =_xlfn.IFNA(VLOOKUP(AL31,Agences[],2,FALSE),"") | AR31: =_xlfn.IFNA(VLOOKUP(AQ31,Agences[],2,FALSE),"")
D32: =_xlfn.IFNA(VLOOKUP(C32,Agences[],2,FALSE),"") | G32: =_xlfn.IFNA(VLOOKUP(F32,Agences[],2,FALSE),"") | J32: =_xlfn.IFNA(VLOOKUP(I32:I47,Agences[],2,FALSE),"") | M32: =_xlfn.IFNA(VLOOKUP(L32:L47,Agences[],2,FALSE),"") | P32: =_xlfn.IFNA(VLOOKUP(O32:O47,Agences[],2,FALSE),"") | S32: =_xlfn.IFNA(VLOOKUP(R32:R47,Agences[],2,FALSE),"") | V32: =_xlfn.IFNA(VLOOKUP(U31:U42,Agences[],2,FALSE),"") | AA32: =_xlfn.IFNA(VLOOKUP(Z32:Z47,Agences[],2,FALSE),"") | AD32: =_xlfn.IFNA(VLOOKUP(AC32:AC47,Agences[],2,FALSE),"") | AG32: =_xlfn.IFNA(VLOOKUP(AF32:AF46,Agences[],2,FALSE),"") | AJ32: =_xlfn.IFNA(VLOOKUP(AI32:AI47,Agences[],2,FALSE),"") | AM32: =_xlfn.IFNA(VLOOKUP(AL32,Agences[],2,FALSE),"") | AR32: =_xlfn.IFNA(VLOOKUP(AQ32,Agences[],2,FALSE),"") | AU32: =_xlfn.IFNA(VLOOKUP(AT32:AT41,Agences[],2,FALSE),"") | AX32: =_xlfn.IFNA(VLOOKUP(AW32:AW41,Agences[],2,FALSE),"")
B33: 103 | D33: 153 | E33: 186 | G33: 179 | H33: 154 | J33: 71 | K33: 285 | M33: 143 | N33: 183 | P33: 132 | Q33: 55 | S33: 39 | T33: 458 | Y33: 438 | AA33: 132 | AB33: 290 | AD33: 219 | AE33: 290 | AG33: 292 | AH33: 319 | AJ33: 76 | AM33: 292 | AP33: 363 | AS33: 518 | AU33: 128
B34: 0.27777778 | E34: 0.31597222 | H34: 0.27777778 | K34: 0.32638889 | N34: 0.28472222 | Q34: 0.25 | T34: 0 | Y34: 0.44097222 | AB34: 0.37152778 | AE34: 0.375 | AH34: 0.33333333 | AK34: 0.14583333 | AP34: 0.23958333 | AS34: 0.33333333
A35: =A19+1 -> 45147 | B35: 2 | D35: CAMION 1 | E35: 3 | G35: CAMION 2 | H35: 4 | J35: CAMION 3 | K35: 2 | M35: CAMION 4 | P35: CAMION 5 | Q35: 4 | S35: CAMION 6 | T35: 8 | V35: CAMION 7 | X35: =X19+1 -> 45147 | AA35: CAMION 8 | AD35: CAMION 9 | AG35: CAMION 10 | AI35: CAMION 11 | AJ35: CAMION 11 | AL35: CAMION 12 | AO35: =AO19+1 -> 45147 | AP35: 13 | AR35: GR1 | AS35: 4 | AU35: GR2 | AX35: GR12
B36: 0 | D36: =_xlfn.IFNA(VLOOKUP(B35,CTR[],2,FALSE),"") -> Caroll / FZ-768-KH | E36: 0 | G36: =_xlfn.IFNA(VLOOKUP(E35,CTR[],2,FALSE),"") -> Django / FF-017-HG | H36: 0 | J36: =_xlfn.IFNA(VLOOKUP(H35,CTR[],2,FALSE),"") -> Eric / GC-102-TG | K36: 0 | M36: =_xlfn.IFNA(VLOOKUP(K35,CTR[],2,FALSE),"") -> Caroll / FZ-768-KH | N36: 0 | P36: =_xlfn.IFNA(VLOOKUP(N35,CTR[],2,FALSE),"") | Q36: 0 | S36: =_xlfn.IFNA(VLOOKUP(Q35,CTR[],2,FALSE),"") -> Eric / GC-102-TG | T36: 0 | V36: =_xlfn.IFNA(VLOOKUP(T35,CTR[],2,FALSE),"") -> Jean-Luc / FZ-272-CQ | Y36: 0 | AA36: =_xlfn.IFNA(VLOOKUP(Y35,CTR[],2,FALSE),"") | AB36: 0 | AD36: =_xlfn.IFNA(VLOOKUP(AB35,CTR[],2,FALSE),"") | AE36: 0 | AG36: =_xlfn.IFNA(VLOOKUP(AE35,CTR[],2,FALSE),"") | AH36: 0 | AJ36: =_xlfn.IFNA(VLOOKUP(AH35,CTR[],2,FALSE),"") | AK36: 0 | AM36: =_xlfn.IFNA(VLOOKUP(AK35,CTR[],2,FALSE),"") | AP36: 0 | AR36: =_xlfn.IFNA(VLOOKUP(AP35,CTR[],2,FALSE),"") -> Yusuf / GJ-714-GR | AS36: 0 | AU36: =_xlfn.IFNA(VLOOKUP(AS35,CTR[],2,FALSE),"") -> Eric / GC-102-TG | AV36: 0 | AX36: =_xlfn.IFNA(VLOOKUP(AV35,CTR[],2,FALSE),"")
B37: =_xlfn.IFNA(VLOOKUP(B35,CTR[],3,FALSE),"") -> FZ-277-WC | C37: 8C | D37: =_xlfn.IFNA(VLOOKUP(C37,Agences[],2,FALSE),"") -> CHGT PTF ST SULPICE | E37: =_xlfn.IFNA(VLOOKUP(E35,CTR[],3,FALSE),"") -> FW-038-JQ | F37: 8C | G37: =_xlfn.IFNA(VLOOKUP(F37,Agences[],2,FALSE),"") -> CHGT PTF ST SULPICE | H37: =_xlfn.IFNA(VLOOKUP(H35,CTR[],3,FALSE),"") -> FB-586-AV | I37: 8C | J37: =_xlfn.IFNA(VLOOKUP(I37:I48,Agences[],2,FALSE),"") -> CHGT PTF ST SULPICE | K37: =_xlfn.IFNA(VLOOKUP(K35,CTR[],3,FALSE),"") -> FZ-277-WC | L37: 8C | M37: =_xlfn.IFNA(VLOOKUP(L37:L48,Agences[],2,FALSE),"") -> CHGT PTF ST SULPICE | N37: =_xlfn.IFNA(VLOOKUP(N35,CTR[],3,FALSE),"") | O37: 8C | P37: =_xlfn.IFNA(VLOOKUP(O37:O48,Agences[],2,FALSE),"") -> CHGT PTF ST SULPICE | Q37: =_xlfn.IFNA(VLOOKUP(Q35,CTR[],3,FALSE),"") -> FB-586-AV | R37: 8C | S37: =_xlfn.IFNA(VLOOKUP(R37:R47,Agences[],2,FALSE),"") -> CHGT PTF ST SULPICE | T37: =_xlfn.IFNA(VLOOKUP(T35,CTR[],3,FALSE),"") -> FZ-221-HR | U37: 395 | V37: =_xlfn.IFNA(VLOOKUP(U37:U47,Agences[],2,FALSE),"") -> SAINT PAUL | Y37: =_xlfn.IFNA(VLOOKUP(Y35,CTR[],3,FALSE),"") | Z37: 3 | AA37: =_xlfn.IFNA(VLOOKUP(Z37:Z48,Agences[],2,FALSE),"") -> RECHERCHE DE FRET | AB37: =_xlfn.IFNA(VLOOKUP(AB35,CTR[],3,FALSE),"") | AD37: =_xlfn.IFNA(VLOOKUP(AC37:AC47,Agences[],2,FALSE),"") | AE37: =_xlfn.IFNA(VLOOKUP(AE35,CTR[],3,FALSE),"") | AG37: =_xlfn.IFNA(VLOOKUP(AF37:AF47,Agences[],2,FALSE),"") | AH37: =_xlfn.IFNA(VLOOKUP(AH35,CTR[],3,FALSE),"") | AI37: 6E | AJ37: =_xlfn.IFNA(VLOOKUP(AI37:AI47,Agences[],2,FALSE),"") -> E-COMMERCE ptf 006 | AK37: =_xlfn.IFNA(VLOOKUP(AK35,CTR[],3,FALSE),"") | AL37: 6 | AM37: =_xlfn.IFNA(VLOOKUP(AL37,Agences[],2,FALSE),"") -> PTF AUTO 6 | AP37: =_xlfn.IFNA(VLOOKUP(AP35,CTR[],3,FALSE),"") -> FB-043-AA | AQ37: 7 | AR37: =_xlfn.IFNA(VLOOKUP(AQ37:AQ47,Agences[],2,FALSE),"") -> PTF CARRELAGE | AS37: =_xlfn.IFNA(VLOOKUP(AS35,CTR[],3,FALSE),"") -> FB-586-AV | AT37: ELOS | AU37: =_xlfn.IFNA(VLOOKUP(AT37:AT47,Agences[],2,FALSE),"") -> CHGT ELOSBOIS TR81 | AV37: =_xlfn.IFNA(VLOOKUP(AV35,CTR[],3,FALSE),"") | AX37: =_xlfn.IFNA(VLOOKUP(AW37:AW47,AO:AQS,2,FALSE),"")
C38: 195 | D38: =_xlfn.IFNA(VLOOKUP(C38,Agences[],2,FALSE),"") -> LANNEMEZAN RP | F38: 446 | G38: =_xlfn.IFNA(VLOOKUP(F38,Agences[],2,FALSE),"") -> LA LOUBIERE | I38: 127 | J38: =_xlfn.IFNA(VLOOKUP(I38:I49,Agences[],2,FALSE),"") -> TREBES | L38: 141 | M38: =_xlfn.IFNA(VLOOKUP(L38:L49,Agences[],2,FALSE),"") -> MONTECH | O38: 103 | P38: =_xlfn.IFNA(VLOOKUP(O38:O49,Agences[],2,FALSE),"") -> AURIGNAC | R38: 53 | S38: =_xlfn.IFNA(VLOOKUP(R38:R49,Agences[],2,FALSE),"") -> PRADES | V38: =_xlfn.IFNA(VLOOKUP(U38:U48,Agences[],2,FALSE),"") | AA38: =_xlfn.IFNA(VLOOKUP(Z38:Z49,Agences[],2,FALSE),"") | AD38: =_xlfn.IFNA(VLOOKUP(AC38:AC49,Agences[],2,FALSE),"") | AF38: 3 | AG38: =_xlfn.IFNA(VLOOKUP(AF38:AF48,Agences[],2,FALSE),"") -> RECHERCHE DE FRET | AI38: 28 | AJ38: =_xlfn.IFNA(VLOOKUP(AI38:AI48,Agences[],2,FALSE),"") -> CASTELSARRASIN | AL38: 6C | AM38: =_xlfn.IFNA(VLOOKUP(AL38,Agences[],2,FALSE),"") -> CHGT PTF AUTO | AQ38: 6L | AR38: =_xlfn.IFNA(VLOOKUP(AQ38:AQ48,Agences[],2,FALSE),"") -> LIV PTF LAVAUR | AU38: =_xlfn.IFNA(VLOOKUP(AT38:AT48,Agences[],2,FALSE),"") | AX38: =_xlfn.IFNA(VLOOKUP(AW38:AW48,AO:AQS,2,FALSE),"")
C39: 193 | D39: =_xlfn.IFNA(VLOOKUP(C39,Agences[],2,FALSE),"") -> ARREAU RP | F39: 447 | G39: =_xlfn.IFNA(VLOOKUP(F39,Agences[],2,FALSE),"") -> LAGUIOLE | I39: 44 | J39: =_xlfn.IFNA(VLOOKUP(I39:I52,Agences[],2,FALSE),"") -> CARCASSONNE | L39: 477 | M39: =_xlfn.IFNA(VLOOKUP(L39:L52,Agences[],2,FALSE),"") -> BEAUMONT DE LOMAGNE | O39: 108 | P39: =_xlfn.IFNA(VLOOKUP(O39:O52,Agences[],2,FALSE),"") -> CAZERE / GARONNE | R39: 50 | S39: =_xlfn.IFNA(VLOOKUP(R39:R52,Agences[],2,FALSE),"") -> LE SOLER | U39: 3 | V39: =_xlfn.IFNA(VLOOKUP(U39:U49,Agences[],2,FALSE),"") -> RECHERCHE DE FRET | Z39: 140 | AA39: =_xlfn.IFNA(VLOOKUP(Z39:Z52,Agences[],2,FALSE),"") -> REALMONT | AD39: =_xlfn.IFNA(VLOOKUP(AC39:AC52,Agences[],2,FALSE),"") | AG39: =_xlfn.IFNA(VLOOKUP(AF39:AF49,Agences[],2,FALSE),"") | AI39: 477 | AJ39: =_xlfn.IFNA(VLOOKUP(AI39:AI49,Agences[],2,FALSE),"") -> BEAUMONT DE LOMAGNE | AL39: 151 | AM39: =_xlfn.IFNA(VLOOKUP(AL39,Agences[],2,FALSE),"") -> CARMAUX | AR39: =_xlfn.IFNA(VLOOKUP(AQ39:AQ49,Agences[],2,FALSE),"") | AT39: 48 | AU39: =_xlfn.IFNA(VLOOKUP(AT39:AT49,Agences[],2,FALSE),"") -> CASTRES | AX39: =_xlfn.IFNA(VLOOKUP(AW39:AW49,AO:AQS,2,FALSE),"")
D40: =_xlfn.IFNA(VLOOKUP(C40,Agences[],2,FALSE),"") | F40: 31 | G40: =_xlfn.IFNA(VLOOKUP(F40,Agences[],2,FALSE),"") -> RODEZ | J40: =_xlfn.IFNA(VLOOKUP(I40:I53,Agences[],2,FALSE),"") | L40: 28 | M40: =_xlfn.IFNA(VLOOKUP(L40:L53,Agences[],2,FALSE),"") -> CASTELSARRASIN | O40: 104 | P40: =_xlfn.IFNA(VLOOKUP(O40:O53,Agences[],2,FALSE),"") -> MONTESQUIEU V. | S40: =_xlfn.IFNA(VLOOKUP(R40:R53,Agences[],2,FALSE),"") | V40: =_xlfn.IFNA(VLOOKUP(U40:U52,Agences[],2,FALSE),"") | Z40: 49 | AA40: =_xlfn.IFNA(VLOOKUP(Z40:Z53,Agences[],2,FALSE),"") -> GRAULHET | AD40: =_xlfn.IFNA(VLOOKUP(AC40:AC53,Agences[],2,FALSE),"") | AG40: =_xlfn.IFNA(VLOOKUP(AF40:AF52,Agences[],2,FALSE),"") | AI40: 34 | AJ40: =_xlfn.IFNA(VLOOKUP(AI40:AI52,Agences[],2,FALSE),"") -> VERDUN SUR G. | AL40: 460 | AM40: =_xlfn.IFNA(VLOOKUP(AL40,Agences[],2,FALSE),"") -> ALBI (Lescure) RP | AQ40: 7C | AR40: =_xlfn.IFNA(VLOOKUP(AQ40:AQ49,Agences[],2,FALSE),"") -> CHGT PTF CARRELAGE | AT40: 156 | AU40: =_xlfn.IFNA(VLOOKUP(AT40:AT49,Agences[],2,FALSE),"") -> RABASTENS | AX40: =_xlfn.IFNA(VLOOKUP(AW40:AW49,AO:AQS,2,FALSE),"")
C41: 3 | D41: =_xlfn.IFNA(VLOOKUP(C41,Agences[],2,FALSE),"") -> RECHERCHE DE FRET | G41: =_xlfn.IFNA(VLOOKUP(F41,Agences[],2,FALSE),"") | I41: 3 | J41: =_xlfn.IFNA(VLOOKUP(I41:I54,Agences[],2,FALSE),"") -> RECHERCHE DE FRET | M41: =_xlfn.IFNA(VLOOKUP(L41:L54,Agences[],2,FALSE),"") | O41: 109 | P41: =_xlfn.IFNA(VLOOKUP(O41:O54,Agences[],2,FALSE),"") -> BERAT | R41: 3 | S41: =_xlfn.IFNA(VLOOKUP(R41:R54,Agences[],2,FALSE),"") -> RECHERCHE DE FRET | V41: =_xlfn.IFNA(VLOOKUP(U41:U53,Agences[],2,FALSE),"") | Z41: 56 | AA41: =_xlfn.IFNA(VLOOKUP(Z41:Z54,Agences[],2,FALSE),"") -> LAVAUR | AD41: =_xlfn.IFNA(VLOOKUP(AC41:AC54,Agences[],2,FALSE),"") | AF41: 8C | AG41: =_xlfn.IFNA(VLOOKUP(AF41:AF53,Agences[],2,FALSE),"") -> CHGT PTF ST SULPICE | AI41: 11 | AJ41: =_xlfn.IFNA(VLOOKUP(AI41:AI53,Agences[],2,FALSE),"") -> ST ALBAN + D9 * | AL41: 46 | AM41: =_xlfn.IFNA(VLOOKUP(AL41,Agences[],2,FALSE),"") -> ALBI | AQ41: 346 | AR41: =_xlfn.IFNA(VLOOKUP(AQ41:AQ49,Agences[],2,FALSE),"") -> ORANGE CARRELAGE | AU41: =_xlfn.IFNA(VLOOKUP(AT41:AT49,Agences[],2,FALSE),"") | AX41: =_xlfn.IFNA(VLOOKUP(AW41:AW49,AO:AQS,2,FALSE),"")
D42: =_xlfn.IFNA(VLOOKUP(C42,Agences[],2,FALSE),"") | F42: 3 | G42: =_xlfn.IFNA(VLOOKUP(F42,Agences[],2,FALSE),"") -> RECHERCHE DE FRET | J42: =_xlfn.IFNA(VLOOKUP(I42:I55,Agences[],2,FALSE),"") | L42: 3 | M42: =_xlfn.IFNA(VLOOKUP(L42:L55,Agences[],2,FALSE),"") -> RECHERCHE DE FRET | P42: =_xlfn.IFNA(VLOOKUP(O42:O55,Agences[],2,FALSE),"") | S42: =_xlfn.IFNA(VLOOKUP(R42:R55,Agences[],2,FALSE),"") | V42: =_xlfn.IFNA(VLOOKUP(U42:U54,Agences[],2,FALSE),"") | Z42: 454 | AA42: =_xlfn.IFNA(VLOOKUP(Z42:Z55,Agences[],2,FALSE),"") -> LAVAUR CHARPENTES | AD42: =_xlfn.IFNA(VLOOKUP(AC42:AC55,Agences[],2,FALSE),"") | AG42: =_xlfn.IFNA(VLOOKUP(AF42:AF54,Agences[],2,FALSE),"") | AI42: 9 | AJ42: =_xlfn.IFNA(VLOOKUP(AI42:AI54,Agences[],2,FALSE),"") -> ST ALBAN | AL42: 8C | AM42: =_xlfn.IFNA(VLOOKUP(AL42,Agences[],2,FALSE),"") -> CHGT PTF ST SULPICE | AR42: =_xlfn.IFNA(VLOOKUP(AQ42:AQ52,Agences[],2,FALSE),"") | AU42: =_xlfn.IFNA(VLOOKUP(AT42:AT52,Agences[],2,FALSE),"") | AX42: =_xlfn.IFNA(VLOOKUP(AW42:AW52,AO:AQS,2,FALSE),"")
D43: =_xlfn.IFNA(VLOOKUP(C43,Agences[],2,FALSE),"") | G43: =_xlfn.IFNA(VLOOKUP(F43,Agences[],2,FALSE),"") | J43: =_xlfn.IFNA(VLOOKUP(I43:I56,Agences[],2,FALSE),"") | M43: =_xlfn.IFNA(VLOOKUP(L43:L56,Agences[],2,FALSE),"") | O43: 3 | P43: =_xlfn.IFNA(VLOOKUP(O43:O56,Agences[],2,FALSE),"") -> RECHERCHE DE FRET | S43: =_xlfn.IFNA(VLOOKUP(R43:R56,Agences[],2,FALSE),"") | V43: =_xlfn.IFNA(VLOOKUP(U43:U55,Agences[],2,FALSE),"") | Z43: 455 | AA43: =_xlfn.IFNA(VLOOKUP(Z43:Z56,Agences[],2,FALSE),"") -> LAVAUR GYPSO | AD43: =_xlfn.IFNA(VLOOKUP(AC43:AC56,Agences[],2,FALSE),"") | AG43: =_xlfn.IFNA(VLOOKUP(AF43:AF55,Agences[],2,FALSE),"") | AI43: 17 | AJ43: =_xlfn.IFNA(VLOOKUP(AI43:AI55,Agences[],2,FALSE),"") -> COLOMIERS | AM43: =_xlfn.IFNA(VLOOKUP(AL43,Agences[],2,FALSE),"") | AR43: =_xlfn.IFNA(VLOOKUP(AQ43:AQ53,Agences[],2,FALSE),"") | AU43: =_xlfn.IFNA(VLOOKUP(AT43:AT53,Agences[],2,FALSE),"") | AX43: =_xlfn.IFNA(VLOOKUP(AW43:AW53,AO:AQS,2,FALSE),"")
D44: =_xlfn.IFNA(VLOOKUP(C44,Agences[],2,FALSE),"") | G44: =_xlfn.IFNA(VLOOKUP(F44,Agences[],2,FALSE),"") | J44: =_xlfn.IFNA(VLOOKUP(I44:I57,Agences[],2,FALSE),"") | M44: =_xlfn.IFNA(VLOOKUP(L44:L57,Agences[],2,FALSE),"") | P44: =_xlfn.IFNA(VLOOKUP(O44:O57,Agences[],2,FALSE),"") | S44: =_xlfn.IFNA(VLOOKUP(R44:R57,Agences[],2,FALSE),"") | V44: =_xlfn.IFNA(VLOOKUP(U44:U56,Agences[],2,FALSE),"") | AA44: =_xlfn.IFNA(VLOOKUP(Z44:Z57,Agences[],2,FALSE),"") | AD44: =_xlfn.IFNA(VLOOKUP(AC44:AC57,Agences[],2,FALSE),"") | AG44: =_xlfn.IFNA(VLOOKUP(AF44:AF56,Agences[],2,FALSE),"") | AJ44: =_xlfn.IFNA(VLOOKUP(AI44:AI56,Agences[],2,FALSE),"") | AM44: =_xlfn.IFNA(VLOOKUP(AL44,Agences[],2,FALSE),"")
D45: =_xlfn.IFNA(VLOOKUP(C45,Agences[],2,FALSE),"") | G45: =_xlfn.IFNA(VLOOKUP(F45,Agences[],2,FALSE),"") | J45: =_xlfn.IFNA(VLOOKUP(I45:I58,Agences[],2,FALSE),"") | M45: =_xlfn.IFNA(VLOOKUP(L45:L58,Agences[],2,FALSE),"") | P45: =_xlfn.IFNA(VLOOKUP(O45:O58,Agences[],2,FALSE),"") | S45: =_xlfn.IFNA(VLOOKUP(R45:R58,Agences[],2,FALSE),"") | V45: =_xlfn.IFNA(VLOOKUP(U45:U57,Agences[],2,FALSE),"") | AA45: =_xlfn.IFNA(VLOOKUP(Z45:Z58,Agences[],2,FALSE),"") | AD45: =_xlfn.IFNA(VLOOKUP(AC45:AC58,Agences[],2,FALSE),"") | AG45: =_xlfn.IFNA(VLOOKUP(AF45:AF57,Agences[],2,FALSE),"") | AJ45: =_xlfn.IFNA(VLOOKUP(AI45:AI57,Agences[],2,FALSE),"") | AM45: =_xlfn.IFNA(VLOOKUP(AL45,Agences[],2,FALSE),"")
D46: =_xlfn.IFNA(VLOOKUP(C46,Agences[],2,FALSE),"") | G46: =_xlfn.IFNA(VLOOKUP(F46,Agences[],2,FALSE),"") | J46: =_xlfn.IFNA(VLOOKUP(I46:I61,Agences[],2,FALSE),"") | M46: =_xlfn.IFNA(VLOOKUP(L46:L61,Agences[],2,FALSE),"") | P46: =_xlfn.IFNA(VLOOKUP(O46:O61,Agences[],2,FALSE),"") | S46: =_xlfn.IFNA(VLOOKUP(R46:R61,Agences[],2,FALSE),"") | V46: =_xlfn.IFNA(VLOOKUP(U46:U58,Agences[],2,FALSE),"") | AA46: =_xlfn.IFNA(VLOOKUP(Z46:Z61,Agences[],2,FALSE),"") | AD46: =_xlfn.IFNA(VLOOKUP(AC46:AC61,Agences[],2,FALSE),"") | AG46: =_xlfn.IFNA(VLOOKUP(AF46:AF58,Agences[],2,FALSE),"") | AJ46: =_xlfn.IFNA(VLOOKUP(AI46:AI58,Agences[],2,FALSE),"") | AM46: =_xlfn.IFNA(VLOOKUP(AL46,Agences[],2,FALSE),"") | AR46: =_xlfn.IFNA(VLOOKUP(AQ46:AQ54,Agences[],2,FALSE),"") | AU46: =_xlfn.IFNA(VLOOKUP(AT46:AT54,Agences[],2,FALSE),"") | AX46: =_xlfn.IFNA(VLOOKUP(AW46:AW54,AO:AQS,2,FALSE),"")
D47: =_xlfn.IFNA(VLOOKUP(C47,Agences[],2,FALSE),"") | G47: =_xlfn.IFNA(VLOOKUP(F47,Agences[],2,FALSE),"") | J47: =_xlfn.IFNA(VLOOKUP(I47:I62,Agences[],2,FALSE),"") | M47: =_xlfn.IFNA(VLOOKUP(L47:L62,Agences[],2,FALSE),"") | P47: =_xlfn.IFNA(VLOOKUP(O47:O62,Agences[],2,FALSE),"") | S47: =_xlfn.IFNA(VLOOKUP(R47:R62,Agences[],2,FALSE),"") | V47: =_xlfn.IFNA(VLOOKUP(U47:U61,Agences[],2,FALSE),"") | AA47: =_xlfn.IFNA(VLOOKUP(Z47:Z62,Agences[],2,FALSE),"") | AD47: =_xlfn.IFNA(VLOOKUP(AC47:AC62,Agences[],2,FALSE),"") | AG47: =_xlfn.IFNA(VLOOKUP(AF47:AF61,Agences[],2,FALSE),"") | AJ47: =_xlfn.IFNA(VLOOKUP(AI47:AI61,Agences[],2,FALSE),"") | AM47: =_xlfn.IFNA(VLOOKUP(AL47,Agences[],2,FALSE),"") | AR47: =_xlfn.IFNA(VLOOKUP(AQ47:AQ55,Agences[],2,FALSE),"") | AU47: =_xlfn.IFNA(VLOOKUP(AT47:AT55,Agences[],2,FALSE),"") | AX47: =_xlfn.IFNA(VLOOKUP(AW47:AW55,AO:AQS,2,FALSE),"")
D48: =_xlfn.IFNA(VLOOKUP(C48,Agences[],2,FALSE),"") | G48: =_xlfn.IFNA(VLOOKUP(F48,Agences[],2,FALSE),"") | I48: 1 | J48: =_xlfn.IFNA(VLOOKUP(I48:I63,Agences[],2,FALSE),"") -> PARC | M48: =_xlfn.IFNA(VLOOKUP(L48:L63,Agences[],2,FALSE),"") | P48: =_xlfn.IFNA(VLOOKUP(O48:O63,Agences[],2,FALSE),"") | S48: =_xlfn.IFNA(VLOOKUP(R48:R63,Agences[],2,FALSE),"") | V48: =_xlfn.IFNA(VLOOKUP(U48:U62,Agences[],2,FALSE),"") | AA48: =_xlfn.IFNA(VLOOKUP(Z48:Z63,Agences[],2,FALSE),"") | AD48: =_xlfn.IFNA(VLOOKUP(AC48:AC63,Agences[],2,FALSE),"") | AG48: =_xlfn.IFNA(VLOOKUP(AF48:AF62,Agences[],2,FALSE),"") | AJ48: =_xlfn.IFNA(VLOOKUP(AI48:AI62,Agences[],2,FALSE),"") | AM48: =_xlfn.IFNA(VLOOKUP(AL48,Agences[],2,FALSE),"") | AR48: =_xlfn.IFNA(VLOOKUP(AQ48:AQ56,Agences[],2,FALSE),"") | AU48: =_xlfn.IFNA(VLOOKUP(AT48:AT56,Agences[],2,FALSE),"") | AX48: =_xlfn.IFNA(VLOOKUP(AW48:AW56,AO:AQS,2,FALSE),"")
B49: 183 | D49: 183 | E49: 229 | G49: 120 | H49: 147 | J49: 120 | K49: 138 | M49: 92 | N49: 184 | P49: 79 | Q49: 312 | S49: 241 | V49: 401 | Y49: 102 | AA49: 14 | AE49: 443 | AH49: 197 | AJ49: 49 | AK49: 455 | AP49: 792 | AS49: 392 | AU49: 15
B50: 0.25 | E50: 0.29166667 | H50: 0.36458333 | K50: 0.23958333 | N50: 0.27083333 | Q50: 0.34722222 | T50: 0.40625 | Y50: 0.27430556 | AB50: 0 | AE50: 0.39583333 | AH50: 0.26736111 | AK50: 0.375 | AP50: 0.55208333 | AS50: 0.34375
A51: =A35+1 -> 45148 | B51: 3 | D51: CAMION 1 | E51: 1 | G51: CAMION 2 | H51: 4 | J51: CAMION 3 | K51: 5 | M51: CAMION 4 | N51: 6 | P51: CAMION 5 | Q51: 7 | S51: CAMION 6 | T51: 8 | V51: CAMION 7 | X51: =X35+1 -> 45148 | AA51: CAMION 8 | AD51: CAMION 9 | AG51: CAMION 10 | AI51: CAMION 11 | AJ51: CAMION 11 | AM51: CAMION 11 | AO51: =AO35+1 -> 45148 | AP51: 13 | AR51: GR1 | AS51: 4 | AU51: GR2 | AX51: GR12
B52: 0 | D52: =_xlfn.IFNA(VLOOKUP(B51,CTR[],2,FALSE),"") -> Django / FF-017-HG | E52: 0 | G52: =_xlfn.IFNA(VLOOKUP(E51,CTR[],2,FALSE),"") -> Arnaud / GC-690-DK | H52: 0 | J52: =_xlfn.IFNA(VLOOKUP(H51,CTR[],2,FALSE),"") -> Eric / GC-102-TG | K52: 0 | M52: =_xlfn.IFNA(VLOOKUP(K51,CTR[],2,FALSE),"") -> Francois / CG-359-XQ | N52: 0 | P52: =_xlfn.IFNA(VLOOKUP(N51,CTR[],2,FALSE),"") -> Fred V / GE-241-HL | Q52: 0 | S52: =_xlfn.IFNA(VLOOKUP(Q51,CTR[],2,FALSE),"") -> Frederic / GJ-077-GS | T52: 0 | V52: =_xlfn.IFNA(VLOOKUP(T51,CTR[],2,FALSE),"") -> Jean-Luc / FZ-272-CQ | Y52: 0 | AA52: =_xlfn.IFNA(VLOOKUP(Y51,CTR[],2,FALSE),"") | AB52: 0 | AD52: =_xlfn.IFNA(VLOOKUP(AB51,CTR[],2,FALSE),"") | AE52: 0 | AG52: =_xlfn.IFNA(VLOOKUP(AE51,CTR[],2,FALSE),"") | AH52: 0 | AJ52: =_xlfn.IFNA(VLOOKUP(AH51,CTR[],2,FALSE),"") | AK52: 0 | AM52: =_xlfn.IFNA(VLOOKUP(AK51,CTR[],2,FALSE),"") | AP52: 0 | AR52: =_xlfn.IFNA(VLOOKUP(AP51,CTR[],2,FALSE),"") -> Yusuf / GJ-714-GR | AS52: 0 | AU52: =_xlfn.IFNA(VLOOKUP(AS51,CTR[],2,FALSE),"") -> Eric / GC-102-TG | AV52: 0 | AX52: =_xlfn.IFNA(VLOOKUP(AV51,CTR[],2,FALSE),"")
B53: =_xlfn.IFNA(VLOOKUP(B51,CTR[],3,FALSE),"") -> FW-038-JQ | C53: 8C | D53: =_xlfn.IFNA(VLOOKUP(C53,Agences[],2,FALSE),"") -> CHGT PTF ST SULPICE | E53: =_xlfn.IFNA(VLOOKUP(E51,CTR[],3,FALSE),"") -> FW-097-JQ | F53: 8C | G53: =_xlfn.IFNA(VLOOKUP(F53,Agences[],2,FALSE),"") -> CHGT PTF ST SULPICE | H53: =_xlfn.IFNA(VLOOKUP(H51,CTR[],3,FALSE),"") -> FB-586-AV | I53: 8C | J53: =_xlfn.IFNA(VLOOKUP(I53:I64,Agences[],2,FALSE),"") -> CHGT PTF ST SULPICE | K53: =_xlfn.IFNA(VLOOKUP(K51,CTR[],3,FALSE),"") -> ES-646-PH | L53: 8C | M53: =_xlfn.IFNA(VLOOKUP(L53:L64,Agences[],2,FALSE),"") -> CHGT PTF ST SULPICE | N53: =_xlfn.IFNA(VLOOKUP(N51,CTR[],3,FALSE),"") -> ES-069-PJ | O53: 8C | P53: =_xlfn.IFNA(VLOOKUP(O53:O64,Agences[],2,FALSE),"") -> CHGT PTF ST SULPICE | Q53: =_xlfn.IFNA(VLOOKUP(Q51,CTR[],3,FALSE),"") -> GG-223-VB | R53: 8C | S53: =_xlfn.IFNA(VLOOKUP(R53:R64,Agences[],2,FALSE),"") -> CHGT PTF ST SULPICE | T53: =_xlfn.IFNA(VLOOKUP(T51,CTR[],3,FALSE),"") -> FZ-221-HR | U53: 6 | V53: =_xlfn.IFNA(VLOOKUP(U53:U64,Agences[],2,FALSE),"") -> PTF AUTO 6 | Y53: =_xlfn.IFNA(VLOOKUP(Y51,CTR[],3,FALSE),"") | Z53: 8C | AA53: =_xlfn.IFNA(VLOOKUP(Z53:Z64,Agences[],2,FALSE),"") -> CHGT PTF ST SULPICE | AB53: =_xlfn.IFNA(VLOOKUP(AB51,CTR[],3,FALSE),"") | AC53: 8C | AD53: =_xlfn.IFNA(VLOOKUP(AC53:AC64,Agences[],2,FALSE),"") -> CHGT PTF ST SULPICE | AE53: =_xlfn.IFNA(VLOOKUP(AE51,CTR[],3,FALSE),"") | AF53: 232 | AG53: =_xlfn.IFNA(VLOOKUP(AF53:AF63,Agences[],2,FALSE),"") -> PTF Châteauroux | AH53: =_xlfn.IFNA(VLOOKUP(AH51,CTR[],3,FALSE),"") | AI53: 6E | AJ53: =_xlfn.IFNA(VLOOKUP(AI53:AI64,Agences[],2,FALSE),"") -> E-COMMERCE ptf 006 | AK53: =_xlfn.IFNA(VLOOKUP(AK51,CTR[],3,FALSE),"") | AL53: 395 | AM53: =_xlfn.IFNA(VLOOKUP(AL53,Agences[],2,FALSE),"") -> SAINT PAUL | AP53: =_xlfn.IFNA(VLOOKUP(AP51,CTR[],3,FALSE),"") -> FB-043-AA | AQ53: 320 | AR53: =_xlfn.IFNA(VLOOKUP(AQ53:AQ64,Agences[],2,FALSE),"") -> PONT ST ESPRIT | AS53: =_xlfn.IFNA(VLOOKUP(AS51,CTR[],3,FALSE),"") -> FB-586-AV | AT53: 4 | AU53: =_xlfn.IFNA(VLOOKUP(AT53:AT63,Agences[],2,FALSE),"") -> A DISPO DE L'EXPLOIT | AV53: =_xlfn.IFNA(VLOOKUP(AV51,CTR[],3,FALSE),"") | AX53: =_xlfn.IFNA(VLOOKUP(AW53:AW63,Agences[],2,FALSE),"")
C54: 43 | D54: =_xlfn.IFNA(VLOOKUP(C54,Agences[],2,FALSE),"") -> NARBONNE | F54: 26 | G54: =_xlfn.IFNA(VLOOKUP(F54,Agences[],2,FALSE),"") -> CAHORS | I54: 137 | J54: =_xlfn.IFNA(VLOOKUP(I54:I65,Agences[],2,FALSE),"") -> VILLEFRANCHE DE R. | L54: 471 | M54: =_xlfn.IFNA(VLOOKUP(L54:L65,Agences[],2,FALSE),"") -> FIGEAC RP | O54: 138 | P54: =_xlfn.IFNA(VLOOKUP(O54:O65,Agences[],2,FALSE),"") -> BAGNERES DE BIG. | R54: 85 | S54: =_xlfn.IFNA(VLOOKUP(R54:R65,Agences[],2,FALSE),"") -> LUCHON | U54: 47 | V54: =_xlfn.IFNA(VLOOKUP(U53:U64,Agences[],2,FALSE),"") -> GAILLAC | Z54: 24 | AA54: =_xlfn.IFNA(VLOOKUP(Z54:Z65,Agences[],2,FALSE),"") -> VILLENEUVE / LOT | AC54: 12 | AD54: =_xlfn.IFNA(VLOOKUP(AC54:AC65,Agences[],2,FALSE),"") -> Bd SUISSE (liv. 6H) | AG54: =_xlfn.IFNA(VLOOKUP(AF54:AF64,Agences[],2,FALSE),"") | AI54: 45 | AJ54: =_xlfn.IFNA(VLOOKUP(AI54:AI65,Agences[],2,FALSE),"") -> MAZAMET | AM54: =_xlfn.IFNA(VLOOKUP(AL54,Agences[],2,FALSE),"") | AQ54: FAB | AR54: =_xlfn.IFNA(VLOOKUP(AQ54:AQ65,Agences[],2,FALSE),"") -> CHGT FABEMI | AU54: =_xlfn.IFNA(VLOOKUP(AT54:AT65,Agences[],2,FALSE),"") | AX54: =_xlfn.IFNA(VLOOKUP(AW54:AW64,Agences[],2,FALSE),"")
C55: 118 | D55: =_xlfn.IFNA(VLOOKUP(C55,Agences[],2,FALSE),"") -> SIGEAN | F55: 23 | G55: =_xlfn.IFNA(VLOOKUP(F55,Agences[],2,FALSE),"") -> LALBENQUE | I55: 30 | J55: =_xlfn.IFNA(VLOOKUP(I55:I68,Agences[],2,FALSE),"") -> CAPDENAC | L55: 27 | M55: =_xlfn.IFNA(VLOOKUP(L55:L68,Agences[],2,FALSE),"") -> MAURS | O55: 197 | P55: =_xlfn.IFNA(VLOOKUP(O55:O68,Agences[],2,FALSE),"") -> MAUBOURGUET RP | R55: 139 | S55: =_xlfn.IFNA(VLOOKUP(R55:R68,Agences[],2,FALSE),"") -> ST GAUDENS CARR. | U55: 156 | V55: =_xlfn.IFNA(VLOOKUP(U54:U65,Agences[],2,FALSE),"") -> RABASTENS | Z55: 22 | AA55: =_xlfn.IFNA(VLOOKUP(Z55:Z68,Agences[],2,FALSE),"") -> AGEN | AC55: 119 | AD55: =_xlfn.IFNA(VLOOKUP(AC55:AC68,Agences[],2,FALSE),"") -> FONSEGRIVES | AF55: 3 | AG55: =_xlfn.IFNA(VLOOKUP(AF55:AF65,Agences[],2,FALSE),"") -> RECHERCHE DE FRET | AI55: 48 | AJ55: =_xlfn.IFNA(VLOOKUP(AI55:AI68,Agences[],2,FALSE),"") -> CASTRES | AL55: 3 | AM55: =_xlfn.IFNA(VLOOKUP(AL55,Agences[],2,FALSE),"") -> RECHERCHE DE FRET | AR55: =_xlfn.IFNA(VLOOKUP(AQ55:AQ65,Agences[],2,FALSE),"") | AU55: =_xlfn.IFNA(VLOOKUP(AT55:AT65,Agences[],2,FALSE),"") | AX55: =_xlfn.IFNA(VLOOKUP(AW55:AW65,Agences[],2,FALSE),"")
C56: 162 | D56: =_xlfn.IFNA(VLOOKUP(C56,Agences[],2,FALSE),"") -> PAZIOLS | F56: 111 | G56: =_xlfn.IFNA(VLOOKUP(F56,Agences[],2,FALSE),"") -> LALBENQUE BETON | I56: 158 | J56: =_xlfn.IFNA(VLOOKUP(I56:I69,Agences[],2,FALSE),"") -> MONTBAZENS | L56: 153 | M56: =_xlfn.IFNA(VLOOKUP(L56:L69,Agences[],2,FALSE),"") -> MAURS BETON | P56: =_xlfn.IFNA(VLOOKUP(O56:O69,Agences[],2,FALSE),"") | R56: 102 | S56: =_xlfn.IFNA(VLOOKUP(R56:R69,Agences[],2,FALSE),"") -> ST GAUDENS | U56: 54 | V56: =_xlfn.IFNA(VLOOKUP(U55:U68,Agences[],2,FALSE),"") -> SAINT-SULPICE | Z56: 413 | AA56: =_xlfn.IFNA(VLOOKUP(Z56:Z69,Agences[],2,FALSE),"") -> BOE BOIS | AD56: =_xlfn.IFNA(VLOOKUP(AC56:AC69,Agences[],2,FALSE),"") | AG56: =_xlfn.IFNA(VLOOKUP(AF56:AF68,Agences[],2,FALSE),"") | AI56: 461 | AJ56: =_xlfn.IFNA(VLOOKUP(AI56:AI69,Agences[],2,FALSE),"") -> CASTRES (Saix) RP | AM56: =_xlfn.IFNA(VLOOKUP(AL56,Agences[],2,FALSE),"") | AR56: =_xlfn.IFNA(VLOOKUP(AQ56:AQ65,Agences[],2,FALSE),"") | AU56: =_xlfn.IFNA(VLOOKUP(AT56:AT65,Agences[],2,FALSE),"") | AX56: =_xlfn.IFNA(VLOOKUP(AW56:AW65,Agences[],2,FALSE),"")
D57: =_xlfn.IFNA(VLOOKUP(C57,Agences[],2,FALSE),"") | F57: 695 | G57: =_xlfn.IFNA(VLOOKUP(F57,Agences[],2,FALSE),"") -> POLE LALBENQUE | I57: 157 | J57: =_xlfn.IFNA(VLOOKUP(I57:I70,Agences[],2,FALSE),"") -> RIGNAC | L57: 149 | M57: =_xlfn.IFNA(VLOOKUP(L57:L70,Agences[],2,FALSE),"") -> AURILLAC | O57: 3 | P57: =_xlfn.IFNA(VLOOKUP(O57:O70,Agences[],2,FALSE),"") -> RECHERCHE DE FRET | S57: =_xlfn.IFNA(VLOOKUP(R57:R70,Agences[],2,FALSE),"") | U57: 690 | V57: =_xlfn.IFNA(VLOOKUP(U56:U69,Agences[],2,FALSE),"") -> POLE SAINT-SULPICE | AA57: =_xlfn.IFNA(VLOOKUP(Z57:Z70,Agences[],2,FALSE),"") | AC57: PROS 395 | AD57: =_xlfn.IFNA(VLOOKUP(AC57:AC70,Agences[],2,FALSE),"") -> CHGT PROSEC PLF 395 | AG57: =_xlfn.IFNA(VLOOKUP(AF57:AF69,Agences[],2,FALSE),"") | AI57: 140 | AJ57: =_xlfn.IFNA(VLOOKUP(AI57:AI70,Agences[],2,FALSE),"") -> REALMONT | AM57: =_xlfn.IFNA(VLOOKUP(AL57,Agences[],2,FALSE),"") | AR57: =_xlfn.IFNA(VLOOKUP(AQ57:AQ68,Agences[],2,FALSE),"") | AU57: =_xlfn.IFNA(VLOOKUP(AT57:AT68,Agences[],2,FALSE),"") | AX57: =_xlfn.IFNA(VLOOKUP(AW57:AW65,Agences[],2,FALSE),"")
C58: 3 | D58: =_xlfn.IFNA(VLOOKUP(C58,Agences[],2,FALSE),"") -> RECHERCHE DE FRET | F58: 64 | G58: =_xlfn.IFNA(VLOOKUP(F58,Agences[],2,FALSE),"") -> LABENQUE US. | I58: 160 | J58: =_xlfn.IFNA(VLOOKUP(I58:I71,Agences[],2,FALSE),"") -> RIGNAC BETON | L58: 101 | M58: =_xlfn.IFNA(VLOOKUP(L58:L71,Agences[],2,FALSE),"") -> AURILLAC BET. VIA 149 | P58: =_xlfn.IFNA(VLOOKUP(O58:O71,Agences[],2,FALSE),"") | R58: 3 | S58: =_xlfn.IFNA(VLOOKUP(R58:R71,Agences[],2,FALSE),"") -> RECHERCHE DE FRET | V58: =_xlfn.IFNA(VLOOKUP(U57:U70,Agences[],2,FALSE),"") | Z58: 3 | AA58: =_xlfn.IFNA(VLOOKUP(Z58:Z71,Agences[],2,FALSE),"") -> RECHERCHE DE FRET | AD58: =_xlfn.IFNA(VLOOKUP(AC58:AC71,Agences[],2,FALSE),"") | AG58: =_xlfn.IFNA(VLOOKUP(AF58:AF70,Agences[],2,FALSE),"") | AI58: 455 | AJ58: =_xlfn.IFNA(VLOOKUP(AI58:AI71,Agences[],2,FALSE),"") -> LAVAUR GYPSO | AM58: =_xlfn.IFNA(VLOOKUP(AL58,Agences[],2,FALSE),"") | AR58: =_xlfn.IFNA(VLOOKUP(AQ58:AQ69,Agences[],2,FALSE),"") | AU58: =_xlfn.IFNA(VLOOKUP(AT58:AT69,Agences[],2,FALSE),"") | AX58: =_xlfn.IFNA(VLOOKUP(AW58:AW68,Agences[],2,FALSE),"")
D59: =_xlfn.IFNA(VLOOKUP(C59,Agences[],2,FALSE),"") | F59: 25 | G59: =_xlfn.IFNA(VLOOKUP(F59,Agences[],2,FALSE),"") -> BOUZIES | J59: =_xlfn.IFNA(VLOOKUP(I59:I72,Agences[],2,FALSE),"") | M59: =_xlfn.IFNA(VLOOKUP(L59:L72,Agences[],2,FALSE),"") | P59: =_xlfn.IFNA(VLOOKUP(O59:O72,Agences[],2,FALSE),"") | S59: =_xlfn.IFNA(VLOOKUP(R59:R72,Agences[],2,FALSE),"") | V59: =_xlfn.IFNA(VLOOKUP(U58:U71,Agences[],2,FALSE),"") | AA59: =_xlfn.IFNA(VLOOKUP(Z59:Z72,Agences[],2,FALSE),"") | AD59: =_xlfn.IFNA(VLOOKUP(AC59:AC72,Agences[],2,FALSE),"") | AG59: =_xlfn.IFNA(VLOOKUP(AF59:AF71,Agences[],2,FALSE),"") | AI59: 454 | AJ59: =_xlfn.IFNA(VLOOKUP(AI59:AI72,Agences[],2,FALSE),"") -> LAVAUR CHARPENTES | AM59: =_xlfn.IFNA(VLOOKUP(AL59,Agences[],2,FALSE),"") | AR59: =_xlfn.IFNA(VLOOKUP(AQ59:AQ70,Agences[],2,FALSE),"") | AU59: =_xlfn.IFNA(VLOOKUP(AT59:AT70,Agences[],2,FALSE),"") | AX59: =_xlfn.IFNA(VLOOKUP(AW59:AW69,Agences[],2,FALSE),"")
D60: =_xlfn.IFNA(VLOOKUP(C60,Agences[],2,FALSE),"") | G60: =_xlfn.IFNA(VLOOKUP(F60,Agences[],2,FALSE),"") | I60: 3 | J60: =_xlfn.IFNA(VLOOKUP(I60:I75,Agences[],2,FALSE),"") -> RECHERCHE DE FRET | L60: 3 | M60: =_xlfn.IFNA(VLOOKUP(L60:L75,Agences[],2,FALSE),"") -> RECHERCHE DE FRET | P60: =_xlfn.IFNA(VLOOKUP(O60:O75,Agences[],2,FALSE),"") | S60: =_xlfn.IFNA(VLOOKUP(R60:R75,Agences[],2,FALSE),"") | V60: =_xlfn.IFNA(VLOOKUP(U59:U72,Agences[],2,FALSE),"") | AA60: =_xlfn.IFNA(VLOOKUP(Z60:Z75,Agences[],2,FALSE),"") | AD60: =_xlfn.IFNA(VLOOKUP(AC60:AC75,Agences[],2,FALSE),"") | AG60: =_xlfn.IFNA(VLOOKUP(AF60:AF72,Agences[],2,FALSE),"") | AJ60: =_xlfn.IFNA(VLOOKUP(AI60:AI75,Agences[],2,FALSE),"") | AM60: =_xlfn.IFNA(VLOOKUP(AL60,Agences[],2,FALSE),"") | AR60: =_xlfn.IFNA(VLOOKUP(AQ60:AQ71,Agences[],2,FALSE),"") | AU60: =_xlfn.IFNA(VLOOKUP(AT60:AT71,Agences[],2,FALSE),"") | AX60: =_xlfn.IFNA(VLOOKUP(AW60:AW70,Agences[],2,FALSE),"")
D61: =_xlfn.IFNA(VLOOKUP(C61,Agences[],2,FALSE),"") | F61: 3 | G61: =_xlfn.IFNA(VLOOKUP(F61,Agences[],2,FALSE),"") -> RECHERCHE DE FRET | J61: =_xlfn.IFNA(VLOOKUP(I61:I76,Agences[],2,FALSE),"") | M61: =_xlfn.IFNA(VLOOKUP(L61:L76,Agences[],2,FALSE),"") | P61: =_xlfn.IFNA(VLOOKUP(O61:O76,Agences[],2,FALSE),"") | S61: =_xlfn.IFNA(VLOOKUP(R61:R76,Agences[],2,FALSE),"") | V61: =_xlfn.IFNA(VLOOKUP(U60:U75,Agences[],2,FALSE),"") | AA61: =_xlfn.IFNA(VLOOKUP(Z61:Z76,Agences[],2,FALSE),"") | AD61: =_xlfn.IFNA(VLOOKUP(AC61:AC76,Agences[],2,FALSE),"") | AG61: =_xlfn.IFNA(VLOOKUP(AF61:AF75,Agences[],2,FALSE),"") | AJ61: =_xlfn.IFNA(VLOOKUP(AI61:AI76,Agences[],2,FALSE),"") | AM61: =_xlfn.IFNA(VLOOKUP(AL61,Agences[],2,FALSE),"") | AR61: =_xlfn.IFNA(VLOOKUP(AQ61:AQ70,Agences[],2,FALSE),"") | AU61: =_xlfn.IFNA(VLOOKUP(AT61:AT70,Agences[],2,FALSE),"") | AX61: =_xlfn.IFNA(VLOOKUP(AW61:AW69,Agences[],2,FALSE),"")
D62: =_xlfn.IFNA(VLOOKUP(C62,Agences[],2,FALSE),"") | G62: =_xlfn.IFNA(VLOOKUP(F62,Agences[],2,FALSE),"") | J62: =_xlfn.IFNA(VLOOKUP(I62:I77,Agences[],2,FALSE),"") | M62: =_xlfn.IFNA(VLOOKUP(L62:L77,Agences[],2,FALSE),"") | P62: =_xlfn.IFNA(VLOOKUP(O62:O77,Agences[],2,FALSE),"") | S62: =_xlfn.IFNA(VLOOKUP(R62:R77,Agences[],2,FALSE),"") | V62: =_xlfn.IFNA(VLOOKUP(U61:U76,Agences[],2,FALSE),"") | AA62: =_xlfn.IFNA(VLOOKUP(Z62:Z77,Agences[],2,FALSE),"") | AD62: =_xlfn.IFNA(VLOOKUP(AC62:AC77,Agences[],2,FALSE),"") | AG62: =_xlfn.IFNA(VLOOKUP(AF62:AF76,Agences[],2,FALSE),"") | AJ62: =_xlfn.IFNA(VLOOKUP(AI62:AI77,Agences[],2,FALSE),"") | AM62: =_xlfn.IFNA(VLOOKUP(AL62,Agences[],2,FALSE),"") | AR62: =_xlfn.IFNA(VLOOKUP(AQ62:AQ71,Agences[],2,FALSE),"") | AU62: =_xlfn.IFNA(VLOOKUP(AT62:AT71,Agences[],2,FALSE),"") | AX62: =_xlfn.IFNA(VLOOKUP(AW62:AW70,Agences[],2,FALSE),"")
D63: =_xlfn.IFNA(VLOOKUP(C63,Agences[],2,FALSE),"") | G63: =_xlfn.IFNA(VLOOKUP(F63,Agences[],2,FALSE),"") | J63: =_xlfn.IFNA(VLOOKUP(I63:I78,Agences[],2,FALSE),"") | M63: =_xlfn.IFNA(VLOOKUP(L63:L78,Agences[],2,FALSE),"") | P63: =_xlfn.IFNA(VLOOKUP(O63:O78,Agences[],2,FALSE),"") | S63: =_xlfn.IFNA(VLOOKUP(R63:R78,Agences[],2,FALSE),"") | U63: 1 | V63: =_xlfn.IFNA(VLOOKUP(U62:U77,Agences[],2,FALSE),"") -> PARC | AA63: =_xlfn.IFNA(VLOOKUP(Z63:Z78,Agences[],2,FALSE),"") | AD63: =_xlfn.IFNA(VLOOKUP(AC63:AC78,Agences[],2,FALSE),"") | AG63: =_xlfn.IFNA(VLOOKUP(AF63:AF77,Agences[],2,FALSE),"") | AJ63: =_xlfn.IFNA(VLOOKUP(AI63:AI78,Agences[],2,FALSE),"") | AM63: =_xlfn.IFNA(VLOOKUP(AL63,Agences[],2,FALSE),"") | AR63: =_xlfn.IFNA(VLOOKUP(AQ63:AQ72,Agences[],2,FALSE),"") | AU63: =_xlfn.IFNA(VLOOKUP(AT63:AT72,Agences[],2,FALSE),"") | AX63: =_xlfn.IFNA(VLOOKUP(AW63:AW71,Agences[],2,FALSE),"")
D64: =_xlfn.IFNA(VLOOKUP(C64,Agences[],2,FALSE),"") | G64: =_xlfn.IFNA(VLOOKUP(F64,Agences[],2,FALSE),"") | J64: =_xlfn.IFNA(VLOOKUP(I64:I79,Agences[],2,FALSE),"") | M64: =_xlfn.IFNA(VLOOKUP(L64:L79,Agences[],2,FALSE),"") | P64: =_xlfn.IFNA(VLOOKUP(O64:O79,Agences[],2,FALSE),"") | S64: =_xlfn.IFNA(VLOOKUP(R64:R79,Agences[],2,FALSE),"") | V64: =_xlfn.IFNA(VLOOKUP(U63:U78,Agences[],2,FALSE),"") | AA64: =_xlfn.IFNA(VLOOKUP(Z64:Z79,Agences[],2,FALSE),"") | AD64: =_xlfn.IFNA(VLOOKUP(AC64:AC79,Agences[],2,FALSE),"") | AG64: =_xlfn.IFNA(VLOOKUP(AF64:AF78,Agences[],2,FALSE),"") | AJ64: =_xlfn.IFNA(VLOOKUP(AI64:AI79,Agences[],2,FALSE),"") | AM64: =_xlfn.IFNA(VLOOKUP(AL64,Agences[],2,FALSE),"") | AR64: =_xlfn.IFNA(VLOOKUP(AQ64:AQ75,Agences[],2,FALSE),"") | AU64: =_xlfn.IFNA(VLOOKUP(AT64:AT75,Agences[],2,FALSE),"") | AX64: =_xlfn.IFNA(VLOOKUP(AW64:AW72,Agences[],2,FALSE),"")
B65: 272 | D65: 225 | E65: 232 | G65: 180 | H65: 172 | J65: 123 | K65: 204 | M65: 204 | N65: 240 | P65: 180 | Q65: 245 | S65: 132 | T65: 54 | V65: 4 | Y65: 213 | AA65: 140 | AB65: 463 | AG65: 444 | AH65: 157 | AJ65: 15 | AM65: 401 | AP65: 53 | AR65: 421
B66: 0.32638889 | E66: 0.36458333 | H66: 0.33680556 | K66: 0.40625 | N66: 0.3125 | Q66: 0.3125 | T66: 0.29166667 | Y66: 0.29166667 | AB66: 0.41666667 | AE66: 0.20833333 | AH66: 0.19791667 | AK66: 0.20138889 | AP66: 0.28125 | AS66: 0
A67: =A51+1 -> 45149 | B67: 1 | D67: CAMION 1 | E67: 2 | G67: CAMION 2 | H67: 3 | J67: CAMION 3 | K67: 4 | M67: CAMION 4 | N67: 5 | P67: CAMION 5 | Q67: 6 | S67: CAMION 6 | T67: 7 | V67: CAMION 7 | X67: =X51+1 -> 45149 | AA67: CAMION 8 | AD67: CAMION 9 | AG67: CAMION 10 | AJ67: CAMION 10 | AM67: CAMION 10 | AO67: =AO51+1 -> 45149 | AP67: 13 | AR67: GR1 | AS67: 4 | AU67: GR2 | AX67: GR12
B68: 0 | D68: =_xlfn.IFNA(VLOOKUP(B67,CTR[],2,FALSE),"") -> Arnaud / GC-690-DK | E68: 0 | G68: =_xlfn.IFNA(VLOOKUP(E67,CTR[],2,FALSE),"") -> Caroll / FZ-768-KH | H68: 0 | J68: =_xlfn.IFNA(VLOOKUP(H67,CTR[],2,FALSE),"") -> Django / FF-017-HG | K68: 0 | M68: =_xlfn.IFNA(VLOOKUP(K67,CTR[],2,FALSE),"") -> Eric / GC-102-TG | N68: 0 | P68: =_xlfn.IFNA(VLOOKUP(N67,CTR[],2,FALSE),"") -> Francois / CG-359-XQ | Q68: 0 | S68: =_xlfn.IFNA(VLOOKUP(Q67,CTR[],2,FALSE),"") -> Fred V / GE-241-HL | T68: 0 | V68: =_xlfn.IFNA(VLOOKUP(T67,CTR[],2,FALSE),"") -> Frederic / GJ-077-GS | Y68: 0 | AA68: =_xlfn.IFNA(VLOOKUP(Y67,CTR[],2,FALSE),"") | AB68: 0 | AD68: =_xlfn.IFNA(VLOOKUP(AB67,CTR[],2,FALSE),"") | AE68: 0 | AG68: =_xlfn.IFNA(VLOOKUP(AE67,CTR[],2,FALSE),"") | AH68: 0 | AJ68: =_xlfn.IFNA(VLOOKUP(AH67,CTR[],2,FALSE),"") | AK68: 0 | AM68: =_xlfn.IFNA(VLOOKUP(AK67,CTR[],2,FALSE),"") | AP68: 0 | AR68: =_xlfn.IFNA(VLOOKUP(AP67,CTR[],2,FALSE),"") -> Yusuf / GJ-714-GR | AS68: 0 | AU68: =_xlfn.IFNA(VLOOKUP(AS67,CTR[],2,FALSE),"") -> Eric / GC-102-TG | AV68: 0 | AX68: =_xlfn.IFNA(VLOOKUP(AV67,CTR[],2,FALSE),"")
B69: =_xlfn.IFNA(VLOOKUP(B67,CTR[],3,FALSE),"") -> FW-097-JQ | C69: 8C | D69: =_xlfn.IFNA(VLOOKUP(C69,Agences[],2,FALSE),"") -> CHGT PTF ST SULPICE | E69: =_xlfn.IFNA(VLOOKUP(E67,CTR[],3,FALSE),"") -> FZ-277-WC | F69: 8C | G69: =_xlfn.IFNA(VLOOKUP(F69,Agences[],2,FALSE),"") -> CHGT PTF ST SULPICE | H69: =_xlfn.IFNA(VLOOKUP(H67,CTR[],3,FALSE),"") -> FW-038-JQ | I69: 8C | J69: =_xlfn.IFNA(VLOOKUP(I69:I80,Agences[],2,FALSE),"") -> CHGT PTF ST SULPICE | K69: =_xlfn.IFNA(VLOOKUP(K67,CTR[],3,FALSE),"") -> FB-586-AV | L69: 8C | M69: =_xlfn.IFNA(VLOOKUP(L69:L80,Agences[],2,FALSE),"") -> CHGT PTF ST SULPICE | N69: =_xlfn.IFNA(VLOOKUP(N67,CTR[],3,FALSE),"") -> ES-646-PH | O69: 8C | P69: =_xlfn.IFNA(VLOOKUP(O69:O80,Agences[],2,FALSE),"") -> CHGT PTF ST SULPICE | Q69: =_xlfn.IFNA(VLOOKUP(Q67,CTR[],3,FALSE),"") -> ES-069-PJ | R69: 8C | S69: =_xlfn.IFNA(VLOOKUP(R69:R80,Agences[],2,FALSE),"") -> CHGT PTF ST SULPICE | T69: =_xlfn.IFNA(VLOOKUP(T67,CTR[],3,FALSE),"") -> GG-223-VB | U69: 8C | V69: =_xlfn.IFNA(VLOOKUP(U69:U79,Agences[],2,FALSE),"") -> CHGT PTF ST SULPICE | Y69: =_xlfn.IFNA(VLOOKUP(Y67,CTR[],3,FALSE),"") | Z69: 6 | AA69: =_xlfn.IFNA(VLOOKUP(Z69:Z79,Agences[],2,FALSE),"") -> PTF AUTO 6 | AB69: =_xlfn.IFNA(VLOOKUP(AB67,CTR[],3,FALSE),"") | AD69: =_xlfn.IFNA(VLOOKUP(AC69:AC79,Agences[],2,FALSE),"") | AE69: =_xlfn.IFNA(VLOOKUP(AE67,CTR[],3,FALSE),"") | AG69: =_xlfn.IFNA(VLOOKUP(AF69:AF79,Agences[],2,FALSE),"") | AH69: =_xlfn.IFNA(VLOOKUP(AH67,CTR[],3,FALSE),"") | AI69: 6E | AJ69: =_xlfn.IFNA(VLOOKUP(AI69:AI79,Agences[],2,FALSE),"") -> E-COMMERCE ptf 006 | AK69: =_xlfn.IFNA(VLOOKUP(AK67,CTR[],3,FALSE),"") | AM69: =_xlfn.IFNA(VLOOKUP(AL69,Agences[],2,FALSE),"") | AP69: =_xlfn.IFNA(VLOOKUP(AP67,CTR[],3,FALSE),"") -> FB-043-AA | AQ69: 8 | AR69: =_xlfn.IFNA(VLOOKUP(AQ69:AQ79,Agences[],2,FALSE),"") -> PTF ST SULPICE | AS69: =_xlfn.IFNA(VLOOKUP(AS67,CTR[],3,FALSE),"") -> FB-586-AV | AU69: =_xlfn.IFNA(VLOOKUP(AT69:AT79,Agences[],2,FALSE),"") | AV69: =_xlfn.IFNA(VLOOKUP(AV67,CTR[],3,FALSE),"") | AX69: =_xlfn.IFNA(VLOOKUP(AW69:AW79,Agences[],2,FALSE),"")
C70: 136 | D70: =_xlfn.IFNA(VLOOKUP(C70,Agences[],2,FALSE),"") -> FOIX | F70: 89 | G70: =_xlfn.IFNA(VLOOKUP(F70,Agences[],2,FALSE),"") -> MIREPOIX | I70: 194 | J70: =_xlfn.IFNA(VLOOKUP(I70:I81,Agences[],2,FALSE),"") -> SOULOM RP | L70: 33 | M70: =_xlfn.IFNA(VLOOKUP(L70:L81,Agences[],2,FALSE),"") -> MONTAUBAN NORD | O70: 114 | P70: =_xlfn.IFNA(VLOOKUP(O70:O81,Agences[],2,FALSE),"") -> FONSORBES | R70: 142 | S70: =_xlfn.IFNA(VLOOKUP(R70:R81,Agences[],2,FALSE),"") -> LABASTIDE ST PIERRE | U70: 19 | V70: =_xlfn.IFNA(VLOOKUP(U69:U80,Agences[],2,FALSE),"") -> VILLEFRANCHE L. | AA70: =_xlfn.IFNA(VLOOKUP(Z70:Z81,Agences[],2,FALSE),"") | AC70: 3 | AD70: =_xlfn.IFNA(VLOOKUP(AC70:AC80,Agences[],2,FALSE),"") -> RECHERCHE DE FRET | AG70: =_xlfn.IFNA(VLOOKUP(AF70:AF80,Agences[],2,FALSE),"") | AI70: 165 | AJ70: =_xlfn.IFNA(VLOOKUP(AI70:AI80,Agences[],2,FALSE),"") -> AUTERIVE | AL70: 4 | AM70: =_xlfn.IFNA(VLOOKUP(AL70,Agences[],2,FALSE),"") -> A DISPO DE L'EXPLOIT | AR70: =_xlfn.IFNA(VLOOKUP(AQ70:AQ80,Agences[],2,FALSE),"") | AU70: =_xlfn.IFNA(VLOOKUP(AT70:AT80,Agences[],2,FALSE),"") | AX70: =_xlfn.IFNA(VLOOKUP(AW70:AW80,Agences[],2,FALSE),"")
C71: 97 | D71: =_xlfn.IFNA(VLOOKUP(C71,Agences[],2,FALSE),"") -> TARASCON / ARIEGE | F71: 90 | G71: =_xlfn.IFNA(VLOOKUP(F71,Agences[],2,FALSE),"") -> PAMIERS | I71: 81 | J71: =_xlfn.IFNA(VLOOKUP(I71:I81,Agences[],2,FALSE),"") -> TARBES | L71: 121 | M71: =_xlfn.IFNA(VLOOKUP(L71:L84,Agences[],2,FALSE),"") -> MONTAUBAN SUD | O71: 134 | P71: =_xlfn.IFNA(VLOOKUP(O71:O84,Agences[],2,FALSE),"") -> STE FOY DE P. | R71: 35 | S71: =_xlfn.IFNA(VLOOKUP(R71:R84,Agences[],2,FALSE),"") -> CAUSSADE | U71: 86 | V71: =_xlfn.IFNA(VLOOKUP(U70:U81,Agences[],2,FALSE),"") -> LIMOUX | Z71: 4 | AA71: =_xlfn.IFNA(VLOOKUP(Z71:Z84,Agences[],2,FALSE),"") -> A DISPO DE L'EXPLOIT | AD71: =_xlfn.IFNA(VLOOKUP(AC71:AC81,Agences[],2,FALSE),"") | AG71: =_xlfn.IFNA(VLOOKUP(AF71:AF81,Agences[],2,FALSE),"") | AI71: 15 | AJ71: =_xlfn.IFNA(VLOOKUP(AI71:AI81,Agences[],2,FALSE),"") -> PINSAGUEL | AM71: =_xlfn.IFNA(VLOOKUP(AL71,Agences[],2,FALSE),"") | AQ71: 4 | AR71: =_xlfn.IFNA(VLOOKUP(AQ71:AQ81,Agences[],2,FALSE),"") -> A DISPO DE L'EXPLOIT | AU71: =_xlfn.IFNA(VLOOKUP(AT71:AT81,Agences[],2,FALSE),"") | AX71: =_xlfn.IFNA(VLOOKUP(AW71:AW81,Agences[],2,FALSE),"")
D72: =_xlfn.IFNA(VLOOKUP(C72,Agences[],2,FALSE),"") | G72: =_xlfn.IFNA(VLOOKUP(F72,Agences[],2,FALSE),"") | I72: 154 | J72: =_xlfn.IFNA(VLOOKUP(I72:I84,Agences[],2,FALSE),"") -> TARBES BET. VIA 81 | L72: 499 | M72: =_xlfn.IFNA(VLOOKUP(L72:L85,Agences[],2,FALSE),"") -> MONTAUBAN BOIS | O72: 470 | P72: =_xlfn.IFNA(VLOOKUP(O72:O85,Agences[],2,FALSE),"") -> NOE | R72: 34 | S72: =_xlfn.IFNA(VLOOKUP(R72:R85,Agences[],2,FALSE),"") -> VERDUN SUR G. | V72: =_xlfn.IFNA(VLOOKUP(U69:U80,Agences[],2,FALSE),"") | AA72: =_xlfn.IFNA(VLOOKUP(Z72:Z85,Agences[],2,FALSE),"") | AC72: 4 | AD72: =_xlfn.IFNA(VLOOKUP(AC72:AC84,Agences[],2,FALSE),"") -> A DISPO DE L'EXPLOIT | AF72: 4 | AG72: =_xlfn.IFNA(VLOOKUP(AF72:AF84,Agences[],2,FALSE),"") -> A DISPO DE L'EXPLOIT | AI72: 145 | AJ72: =_xlfn.IFNA(VLOOKUP(AI72:AI84,Agences[],2,FALSE),"") -> CASTANET-TOLOSAN | AM72: =_xlfn.IFNA(VLOOKUP(AL72,Agences[],2,FALSE),"") | AR72: =_xlfn.IFNA(VLOOKUP(AQ72:AQ81,Agences[],2,FALSE),"") | AU72: =_xlfn.IFNA(VLOOKUP(AT72:AT81,Agences[],2,FALSE),"") | AX72: =_xlfn.IFNA(VLOOKUP(AW72:AW81,Agences[],2,FALSE),"")
C73: 3 | D73: =_xlfn.IFNA(VLOOKUP(C73,Agences[],2,FALSE),"") -> RECHERCHE DE FRET | F73: 3 | G73: =_xlfn.IFNA(VLOOKUP(F73,Agences[],2,FALSE),"") -> RECHERCHE DE FRET | I73: 196 | J73: =_xlfn.IFNA(VLOOKUP(I73:I85,Agences[],2,FALSE),"") -> TARBES BOIS | L73: 456 | M73: =_xlfn.IFNA(VLOOKUP(L73:L86,Agences[],2,FALSE),"") -> MONTAUBAN GYPSO | P73: =_xlfn.IFNA(VLOOKUP(O73:O86,Agences[],2,FALSE),"") | S73: =_xlfn.IFNA(VLOOKUP(R73:R86,Agences[],2,FALSE),"") | U73: 3 | V73: =_xlfn.IFNA(VLOOKUP(U70:U81,Agences[],2,FALSE),"") -> RECHERCHE DE FRET | AA73: =_xlfn.IFNA(VLOOKUP(Z73:Z86,Agences[],2,FALSE),"") | AD73: =_xlfn.IFNA(VLOOKUP(AC73:AC85,Agences[],2,FALSE),"") | AG73: =_xlfn.IFNA(VLOOKUP(AF73:AF85,Agences[],2,FALSE),"") | AI73: 18 | AJ73: =_xlfn.IFNA(VLOOKUP(AI73:AI85,Agences[],2,FALSE),"") -> SAINT-ORENS | AM73: =_xlfn.IFNA(VLOOKUP(AL73,Agences[],2,FALSE),"")
D74: =_xlfn.IFNA(VLOOKUP(C74,Agences[],2,FALSE),"") | G74: =_xlfn.IFNA(VLOOKUP(F74,Agences[],2,FALSE),"") | J74: =_xlfn.IFNA(VLOOKUP(I74:I86,Agences[],2,FALSE),"") | M74: =_xlfn.IFNA(VLOOKUP(L74:L88,Agences[],2,FALSE),"") | O74: 3 | P74: =_xlfn.IFNA(VLOOKUP(O74:O88,Agences[],2,FALSE),"") -> RECHERCHE DE FRET | R74: 3 | S74: =_xlfn.IFNA(VLOOKUP(R74:R88,Agences[],2,FALSE),"") -> RECHERCHE DE FRET | V74: =_xlfn.IFNA(VLOOKUP(U71:U84,Agences[],2,FALSE),"") | AA74: =_xlfn.IFNA(VLOOKUP(Z74:Z88,Agences[],2,FALSE),"") | AD74: =_xlfn.IFNA(VLOOKUP(AC74:AC86,Agences[],2,FALSE),"") | AG74: =_xlfn.IFNA(VLOOKUP(AF74:AF86,Agences[],2,FALSE),"") | AI74: 14 | AJ74: =_xlfn.IFNA(VLOOKUP(AI74:AI86,Agences[],2,FALSE),"") -> BALMA | AM74: =_xlfn.IFNA(VLOOKUP(AL74,Agences[],2,FALSE),"")
D75: =_xlfn.IFNA(VLOOKUP(C75,Agences[],2,FALSE),"") | G75: =_xlfn.IFNA(VLOOKUP(F75,Agences[],2,FALSE),"") | I75: 3 | J75: =_xlfn.IFNA(VLOOKUP(I75:I88,Agences[],2,FALSE),"") -> RECHERCHE DE FRET | L75: 3 | M75: =_xlfn.IFNA(VLOOKUP(L75:L89,Agences[],2,FALSE),"") -> RECHERCHE DE FRET | P75: =_xlfn.IFNA(VLOOKUP(O75:O89,Agences[],2,FALSE),"") | S75: =_xlfn.IFNA(VLOOKUP(R75:R89,Agences[],2,FALSE),"") | V75: =_xlfn.IFNA(VLOOKUP(U72:U85,Agences[],2,FALSE),"") | AA75: =_xlfn.IFNA(VLOOKUP(Z75:Z89,Agences[],2,FALSE),"") | AD75: =_xlfn.IFNA(VLOOKUP(AC75:AC88,Agences[],2,FALSE),"") | AG75: =_xlfn.IFNA(VLOOKUP(AF75:AF88,Agences[],2,FALSE),"") | AI75: 119 | AJ75: =_xlfn.IFNA(VLOOKUP(AI75:AI88,Agences[],2,FALSE),"") -> FONSEGRIVES | AM75: =_xlfn.IFNA(VLOOKUP(AL75,Agences[],2,FALSE),"") | AR75: =_xlfn.IFNA(VLOOKUP(AQ75:AQ81,Agences[],2,FALSE),"") | AU75: =_xlfn.IFNA(VLOOKUP(AT75:AT81,Agences[],2,FALSE),"") | AX75: =_xlfn.IFNA(VLOOKUP(AW75:AW81,Agences[],2,FALSE),"")
D76: =_xlfn.IFNA(VLOOKUP(C76,Agences[],2,FALSE),"") | G76: =_xlfn.IFNA(VLOOKUP(F76,Agences[],2,FALSE),"") | J76: =_xlfn.IFNA(VLOOKUP(I76:I89,Agences[],2,FALSE),"") | M76: =_xlfn.IFNA(VLOOKUP(L76:L90,Agences[],2,FALSE),"") | P76: =_xlfn.IFNA(VLOOKUP(O76:O90,Agences[],2,FALSE),"") | S76: =_xlfn.IFNA(VLOOKUP(R76:R90,Agences[],2,FALSE),"") | V76: =_xlfn.IFNA(VLOOKUP(U73:U86,Agences[],2,FALSE),"") | AA76: =_xlfn.IFNA(VLOOKUP(Z76:Z90,Agences[],2,FALSE),"") | AD76: =_xlfn.IFNA(VLOOKUP(AC76:AC89,Agences[],2,FALSE),"") | AG76: =_xlfn.IFNA(VLOOKUP(AF76:AF89,Agences[],2,FALSE),"") | AI76: 57 | AJ76: =_xlfn.IFNA(VLOOKUP(AI76:AI89,Agences[],2,FALSE),"") -> VERFEIL | AM76: =_xlfn.IFNA(VLOOKUP(AL76,Agences[],2,FALSE),"") | AR76: =_xlfn.IFNA(VLOOKUP(AQ76:AQ81,Agences[],2,FALSE),"") | AU76: =_xlfn.IFNA(VLOOKUP(AT76:AT81,Agences[],2,FALSE),"") | AX76: =_xlfn.IFNA(VLOOKUP(AW76:AW81,Agences[],2,FALSE),"")
D77: =_xlfn.IFNA(VLOOKUP(C77,Agences[],2,FALSE),"") | G77: =_xlfn.IFNA(VLOOKUP(F77,Agences[],2,FALSE),"") | J77: =_xlfn.IFNA(VLOOKUP(I77:I90,Agences[],2,FALSE),"") | M77: =_xlfn.IFNA(VLOOKUP(L77:L91,Agences[],2,FALSE),"") | P77: =_xlfn.IFNA(VLOOKUP(O77:O91,Agences[],2,FALSE),"") | S77: =_xlfn.IFNA(VLOOKUP(R77:R91,Agences[],2,FALSE),"") | V77: =_xlfn.IFNA(VLOOKUP(U74:U87,Agences[],2,FALSE),"") | AA77: =_xlfn.IFNA(VLOOKUP(Z77:Z91,Agences[],2,FALSE),"") | AD77: =_xlfn.IFNA(VLOOKUP(AC77:AC90,Agences[],2,FALSE),"") | AG77: =_xlfn.IFNA(VLOOKUP(AF77:AF90,Agences[],2,FALSE),"") | AJ77: =_xlfn.IFNA(VLOOKUP(AI77:AI90,Agences[],2,FALSE),"") | AM77: =_xlfn.IFNA(VLOOKUP(AL77,Agences[],2,FALSE),"") | AR77: =_xlfn.IFNA(VLOOKUP(AQ77:AQ84,Agences[],2,FALSE),"") | AU77: =_xlfn.IFNA(VLOOKUP(AT77:AT84,Agences[],2,FALSE),"") | AX77: =_xlfn.IFNA(VLOOKUP(AW77:AW84,Agences[],2,FALSE),"")
D78: =_xlfn.IFNA(VLOOKUP(C78,Agences[],2,FALSE),"") | G78: =_xlfn.IFNA(VLOOKUP(F78,Agences[],2,FALSE),"") | J78: =_xlfn.IFNA(VLOOKUP(I78:I91,Agences[],2,FALSE),"") | M78: =_xlfn.IFNA(VLOOKUP(L78:L93,Agences[],2,FALSE),"") | P78: =_xlfn.IFNA(VLOOKUP(O78:O93,Agences[],2,FALSE),"") | S78: =_xlfn.IFNA(VLOOKUP(R78:R93,Agences[],2,FALSE),"") | V78: =_xlfn.IFNA(VLOOKUP(U75:U88,Agences[],2,FALSE),"") | AA78: =_xlfn.IFNA(VLOOKUP(Z78:Z93,Agences[],2,FALSE),"") | AD78: =_xlfn.IFNA(VLOOKUP(AC78:AC91,Agences[],2,FALSE),"") | AG78: =_xlfn.IFNA(VLOOKUP(AF78:AF91,Agences[],2,FALSE),"") | AJ78: =_xlfn.IFNA(VLOOKUP(AI78:AI91,Agences[],2,FALSE),"") | AM78: =_xlfn.IFNA(VLOOKUP(AL78,Agences[],2,FALSE),"") | AR78: =_xlfn.IFNA(VLOOKUP(AQ78:AQ85,Agences[],2,FALSE),"") | AU78: =_xlfn.IFNA(VLOOKUP(AT78:AT85,Agences[],2,FALSE),"") | AX78: =_xlfn.IFNA(VLOOKUP(AW78:AW85,Agences[],2,FALSE),"")
D79: =_xlfn.IFNA(VLOOKUP(C79,Agences[],2,FALSE),"") | G79: =_xlfn.IFNA(VLOOKUP(F79,Agences[],2,FALSE),"") | J79: =_xlfn.IFNA(VLOOKUP(I79:I93,Agences[],2,FALSE),"") | M79: =_xlfn.IFNA(VLOOKUP(L79:L94,Agences[],2,FALSE),"") | P79: =_xlfn.IFNA(VLOOKUP(O79:O94,Agences[],2,FALSE),"") | S79: =_xlfn.IFNA(VLOOKUP(R79:R94,Agences[],2,FALSE),"") | U79: 1 | V79: =_xlfn.IFNA(VLOOKUP(U76:U89,Agences[],2,FALSE),"") -> PARC | AA79: =_xlfn.IFNA(VLOOKUP(Z79:Z94,Agences[],2,FALSE),"") | AD79: =_xlfn.IFNA(VLOOKUP(AC79:AC93,Agences[],2,FALSE),"") | AG79: =_xlfn.IFNA(VLOOKUP(AF79:AF93,Agences[],2,FALSE),"") | AJ79: =_xlfn.IFNA(VLOOKUP(AI79:AI93,Agences[],2,FALSE),"") | AM79: =_xlfn.IFNA(VLOOKUP(AL79,Agences[],2,FALSE),"") | AR79: =_xlfn.IFNA(VLOOKUP(AQ79:AQ86,Agences[],2,FALSE),"") | AU79: =_xlfn.IFNA(VLOOKUP(AT79:AT86,Agences[],2,FALSE),"") | AX79: =_xlfn.IFNA(VLOOKUP(AW79:AW86,Agences[],2,FALSE),"")
D80: =_xlfn.IFNA(VLOOKUP(C80,Agences[],2,FALSE),"") | G80: =_xlfn.IFNA(VLOOKUP(F80,Agences[],2,FALSE),"") | J80: =_xlfn.IFNA(VLOOKUP(I80:I94,Agences[],2,FALSE),"") | M80: =_xlfn.IFNA(VLOOKUP(L80:L95,Agences[],2,FALSE),"") | P80: =_xlfn.IFNA(VLOOKUP(O80:O95,Agences[],2,FALSE),"") | S80: =_xlfn.IFNA(VLOOKUP(R80:R95,Agences[],2,FALSE),"") | V80: =_xlfn.IFNA(VLOOKUP(U77:U90,Agences[],2,FALSE),"") | AA80: =_xlfn.IFNA(VLOOKUP(Z80:Z95,Agences[],2,FALSE),"") | AD80: =_xlfn.IFNA(VLOOKUP(AC80:AC94,Agences[],2,FALSE),"") | AG80: =_xlfn.IFNA(VLOOKUP(AF80:AF94,Agences[],2,FALSE),"") | AJ80: =_xlfn.IFNA(VLOOKUP(AI80:AI94,Agences[],2,FALSE),"") | AM80: =_xlfn.IFNA(VLOOKUP(AL80,Agences[],2,FALSE),"") | AQ80: 7C | AR80: =_xlfn.IFNA(VLOOKUP(AQ80:AQ87,Agences[],2,FALSE),"") -> CHGT PTF CARRELAGE | AT80: 7C | AU80: =_xlfn.IFNA(VLOOKUP(AT80:AT87,Agences[],2,FALSE),"") -> CHGT PTF CARRELAGE | AX80: =_xlfn.IFNA(VLOOKUP(AW80:AW87,Agences[],2,FALSE),"")
B81: 159 | D81: 115 | E81: 146 | G81: 118 | H81: 275 | J81: 193 | K81: 92 | M81: 76 | N81: 99 | P81: 76 | Q81: 174 | S81: 64 | T81: 138 | V81: 131 | Y81: 10 | AA81: 10 | AD81: 401 | AH81: 173 | AJ81: 25
B82: 0.27083333 | E82: 0.22916667 | H82: 0.36458333 | K82: 0.20138889 | N82: 0.1875 | Q82: 0.22916667 | T82: 0.38541667 | Y82: 0.0010416667 | AB82: 0.20833333 | AH82: 0.25 | AP82: 0.0625 | AS82: 0.041666667
B83: =SUM(B18,B34,B50,B66,B82) -> 1.7291667 | E83: =SUM(E18,E34,E50,E66,E82) -> 1.3055556 | H83: =SUM(H18,H34,H50,H66,H82) -> 1.65625 | K83: =SUM(K18,K34,K50,K66,K82) -> 1.4444444 | N83: =SUM(N18,N34,N50,N66,N82) -> 1.4097222 | Q83: =SUM(Q18,Q34,Q50,Q66,Q82) -> 1.3979167 | T83: =SUM(T18,T34,T50,T66,T82) -> 1.34375 | Y83: =SUM(Y18,Y34,Y50,Y66,Y82) -> 1.4246528 | AB83: =SUM(AB18,AB34,AB50,AB66,AB82) -> 1.2881944 | AE83: =SUM(AE18,AE34,AE50,AE66,AE82) -> 1.3784722 | AH83: =SUM(AH18,AH34,AH50,AH66,AH82) -> 1.3402778 | AK83: =SUM(AK18,AK34,AK50,AK66,AK82) -> 0.89583333 | AP83: =SUM(AP18,AP34,AP50,AP66,AP82) -> 1.4270833 | AS83: =SUM(AS18,AS34,AS50,AS66,AS82) -> 1.34375 | AV83: =SUM(AV18,AV34,AV50,AV66,AV82) -> 0
A85: L | D85: =SUM(D86:D88) -> 556.55 | G85: =SUM(G86:G88) -> 227 | J85: =SUM(J86:J88) -> 437.375 | M85: =SUM(M86:M88) -> 381.55 | P85: =SUM(P86:P88) -> 313.125 | S85: =SUM(S86:S88) -> 373.95 | V85: =SUM(V86:V88) -> 435.725 | X85: L | AA85: =SUM(AA86:AA88) -> 563.05 | AD85: =SUM(AD86:AD88) -> 350.2 | AG85: =SUM(AG86:AG88) -> 1216.725 | AJ85: =SUM(AJ86:AJ88) -> 627.55 | AM85: =SUM(AM86:AM88) -> 469 | AO85: L | AR85: =SUM(AR86:AR88) -> 620.8 | AU85: =SUM(AU86:AU88) -> 1096 | AX85: =SUM(AX86:AX88) -> 150
B86: KM Aller | D86: =SUM(B17*$P$113+$P$114) -> 393.1 | E86: KM Aller | G86: =SUM(E17*$P$113+$P$114) -> 217.1 | H86: KM Aller | J86: =SUM(H17*$P$113+$P$114) -> 392 | K86: KM Aller | M86: =SUM(K17*$P$113+$P$114) -> 349.1 | N86: KM Aller | P86: =SUM(N17*$P$113+$P$114) -> 245.7 | Q86: KM Aller | S86: =SUM(Q17*$P$113+$P$114) -> 238 | T86: KM Aller | V86: =SUM(T17*$P$113+$P$114) -> 405.2 | Y86: KM Aller | AA86: =SUM(Y17*$P$113+$P$114) -> 497.6 | AB86: KM Aller | AD86: =SUM(AB17*$P$113+$P$114) -> 324.9 | AE86: KM Aller | AG86: =SUM(AE17*$P$113+$P$114) -> 1075.1 | AH86: KM Aller | AJ86: =SUM(AH17*$P$113+$P$114) -> 431.6 | AK86: KM Aller | AM86: =SUM(AK17*$P$113+$P$114) -> 469 | AP86: KM Aller | AR86: =SUM(AP17*$P$113+$P$114) -> 620.8 | AS86: KM Aller | AU86: =SUM(AS17*$P$113+$P$114) -> 1096 | AV86: KM Aller | AX86: =SUM(AV17*$P$113+$P$114) -> 150
B87: KM retour | D87: =SUM(($D$17*$P$113)*0.25) -> 43.45 | E87: KM retour | G87: =SUM((G17*$P$113)*0.25) -> 9.9 | H87: KM retour | J87: =SUM((J17*$P$113)*0.25) -> 45.375 | K87: KM retour | M87: =SUM((M17*$P$113)*0.25) -> 32.45 | N87: KM retour | P87: =SUM((P17*$P$113)*0.25) -> 7.425 | Q87: KM retour | S87: =SUM((S17*$P$113)*0.25) -> 15.95 | T87: KM retour | V87: =SUM((V17*$P$113)*0.25) -> 30.525 | Y87: KM retour | AA87: =SUM((AA17*$P$113)*0.25) -> 65.45 | AB87: KM retour | AD87: =SUM((AD17*$P$113)*0.25) -> 25.3 | AE87: KM retour | AG87: =SUM((AG17*$P$113)*0.25) -> 141.625 | AH87: KM retour | AJ87: =SUM((AJ17*$P$113)*0.25) -> 15.95 | AK87: KM retour | AM87: =SUM((AM17*$P$113)*0.25) -> 0 | AP87: KM retour | AR87: =SUM((AR17*$P$113)*0.25) -> 0 | AS87: KM retour | AU87: =SUM((AU17*$P$113)*0.25) -> 0 | AV87: KM retour | AX87: =SUM((AX17*$P$113)*0.25) -> 0
B88: € | D88: =IF(AND(COUNTIF(C5:C16,">0")>0,COUNTIF(C5:C16,">0")>5),(COUNTIF(C5:C16,">0")-5)*$P$115,0) -> 120 | E88: € | G88: =IF(AND(COUNTIF(F5:F16,">0")>0,COUNTIF(F5:F16,">0")>5),(COUNTIF(F5:F16,">0")-5)*$P$115,0) -> 0 | H88: € | J88: =IF(AND(COUNTIF(I5:I16,">0")>0,COUNTIF(I5:I16,">0")>5),(COUNTIF(I5:I16,">0")-5)*$P$115,0) -> 0 | K88: € | M88: =IF(AND(COUNTIF(L5:L16,">0")>0,COUNTIF(L5:L16,">0")>5),(COUNTIF(L5:L16,">0")-5)*$P$115,0) -> 0 | N88: € | P88: =IF(AND(COUNTIF(O5:O16,">0")>0,COUNTIF(O5:O16,">0")>5),(COUNTIF(O5:O16,">0")-5)*$P$115,0) -> 60 | Q88: € | S88: =IF(AND(COUNTIF(R5:R16,">0")>0,COUNTIF(R5:R16,">0")>5),(COUNTIF(R5:R16,">0")-5)*$P$115,0) -> 120 | T88: € | V88: =IF(AND(COUNTIF(U5:U16,">0")>0,COUNTIF(U5:U16,">0")>5),(COUNTIF(U5:U16,">0")-5)*$P$115,0) -> 0 | Y88: € | AA88: =IF(AND(COUNTIF(Z5:Z16,">0")>0,COUNTIF(Z5:Z16,">0")>5),(COUNTIF(Z5:Z16,">0")-5)*$P$115,0) -> 0 | AB88: € | AD88: =IF(AND(COUNTIF(AC5:AC16,">0")>0,COUNTIF(AC5:AC16,">0")>5),(COUNTIF(AC5:AC16,">0")-5)*$P$115,0) -> 0 | AE88: € | AG88: =IF(AND(COUNTIF(AF5:AF16,">0")>0,COUNTIF(AF5:AF16,">0")>5),(COUNTIF(AF5:AF16,">0")-5)*$P$115,0) -> 0 | AH88: € | AJ88: =IF(AND(COUNTIF(AI5:AI16,">0")>0,COUNTIF(AI5:AI16,">0")>5),(COUNTIF(AI5:AI16,">0")-5)*$P$115,0) -> 180 | AK88: € | AM88: =IF(AND(COUNTIF(AL5:AL16,">0")>0,COUNTIF(AL5:AL16,">0")>5),(COUNTIF(AL5:AL16,">0")-5)*$P$115,0) -> 0 | AP88: € | AR88: =IF(AND(COUNTIF(AQ5:AQ16,">0")>0,COUNTIF(AQ5:AQ16,">0")>5),(COUNTIF(AQ5:AQ16,">0")-5)*$P$115,0) -> 0 | AS88: € | AU88: =IF(AND(COUNTIF(AT5:AT16,">0")>0,COUNTIF(AT5:AT16,">0")>5),(COUNTIF(AT5:AT16,">0")-5)*$P$115,0) -> 0 | AV88: € | AX88: =IF(AND(COUNTIF(AW5:AW16,">0")>0,COUNTIF(AW5:AW16,">0")>5),(COUNTIF(AW5:AW16,">0")-5)*$P$115,0) -> 0
A89: Ma | D89: =SUM($D$90:$D$92) -> 365.375 | G89: =SUM($G$90:$G$92) -> 403.825 | J89: =SUM($J$90:$J$92) -> 338.925 | M89: =SUM($M$90:$M$92) -> 502.825 | P89: =SUM($P$90:$P$92) -> 387.6 | S89: =SUM($S$90:$S$92) -> 221.225 | V89: =SUM($S$90:$S$92) -> 221.225 | X89: Ma | AA89: =SUM(AA90:AA92) -> 883.8 | AD89: =SUM(AD90:AD92) -> 808 | AG89: =SUM(AG90:AG92) -> 761 | AJ89: =SUM(AJ90:AJ92) -> 756.9 | AM89: =SUM(AM90:AM92) -> 442 | AO89: Ma | AR89: =SUM(AR90:AR92) -> 549.3 | AU89: =SUM(AU90:AU92) -> 847.8 | AX89: =SUM(AX90:AX92) -> 150
B90: KM Aller | D90: =SUM(B33*$P$113+$P$114) -> 263.3 | E90: KM | G90: =SUM(E33*$P$113+$P$114) -> 354.6 | H90: KM | J90: =SUM(H33*$P$113+$P$114) -> 319.4 | K90: KM | M90: =SUM(K33*$P$113+$P$114) -> 463.5 | N90: KM | P90: =SUM(N33*$P$113+$P$114) -> 351.3 | Q90: KM | S90: =SUM(Q33*$P$113+$P$114) -> 210.5 | T90: KM | V90: =SUM(T33*$P$113+$P$114) -> 653.8 | Y90: KM | AA90: =SUM(Y33*$P$113+$P$114) -> 631.8 | AB90: KM | AD90: =SUM(AB33*$P$113+$P$114) -> 469 | AE90: KM | AG90: =SUM(AE33*$P$113+$P$114) -> 469 | AH90: KM | AJ90: =SUM(AH33*$P$113+$P$114) -> 500.9 | AK90: KM | AM90: =SUM(AK33*$P$113+$P$114) -> 150 | AP90: KM Aller | AR90: =SUM(AP33*$P$113+$P$114) -> 549.3 | AS90: KM Aller | AU90: =SUM(AS33*$P$113+$P$114) -> 719.8 | AV90: KM Aller | AX90: =SUM(AV33*$P$113+$P$114) -> 150
B91: KM retour | D91: =SUM((D33*$P$113)*0.25) -> 42.075 | E91: € | G91: =SUM((G33*$P$113)*0.25) -> 49.225 | H91: € | J91: =SUM((J33*$P$113)*0.25) -> 19.525 | K91: € | M91: =SUM((M33*$P$113)*0.25) -> 39.325 | N91: € | P91: =SUM((P33*$P$113)*0.25) -> 36.3 | Q91: € | S91: =SUM((S33*$P$113)*0.25) -> 10.725 | T91: € | V91: =SUM((V33*$P$113)*0.25) -> 0 | Y91: € | AA91: =SUM(AA33) -> 132 | AB91: € | AD91: =SUM(AD33) -> 219 | AE91: € | AG91: =SUM(AG33) -> 292 | AH91: € | AJ91: =SUM(AJ33) -> 76 | AK91: € | AM91: =SUM(AM33) -> 292 | AP91: KM retour | AR91: =SUM(AR33) -> 0 | AS91: KM retour | AU91: =SUM(AU33) -> 128 | AV91: KM retour | AX91: =SUM(AX33) -> 0
B92: € | D92: =IF(AND(COUNTIF(C9:C22,">0")>0,COUNTIF(C9:C22,">0")>5),(COUNTIF(C9:C22,">0")-5)*$P$115,0) -> 60 | E92: € | G92: =IF(AND(COUNTIF(F9:F22,">0")>0,COUNTIF(F9:F22,">0")>5),(COUNTIF(F9:F22,">0")-5)*$P$115,0) -> 0 | H92: € | J92: =IF(AND(COUNTIF(I9:I22,">0")>0,COUNTIF(I9:I22,">0")>5),(COUNTIF(I9:I22,">0")-5)*$P$115,0) -> 0 | K92: € | M92: =IF(AND(COUNTIF(L9:L22,">0")>0,COUNTIF(L9:L22,">0")>5),(COUNTIF(L9:L22,">0")-5)*$P$115,0) -> 0 | N92: € | P92: =IF(AND(COUNTIF(O9:O22,">0")>0,COUNTIF(O9:O22,">0")>5),(COUNTIF(O9:O22,">0")-5)*$P$115,0) -> 0 | Q92: € | S92: =IF(AND(COUNTIF(R9:R22,">0")>0,COUNTIF(R9:R22,">0")>5),(COUNTIF(R9:R22,">0")-5)*$P$115,0) -> 0 | T92: € | V92: =IF(AND(COUNTIF(U9:U22,">0")>0,COUNTIF(U9:U22,">0")>5),(COUNTIF(U9:U22,">0")-5)*$P$115,0) -> 0 | Y92: € | AA92: =IF(AND(COUNTIF(Z21:Z32,">0")>0,COUNTIF(Z21:Z32,">0")>5),(COUNTIF(Z21:Z32,">0")-5)*$P$115,0) -> 120 | AB92: € | AD92: =IF(AND(COUNTIF(AC21:AC32,">0")>0,COUNTIF(AC21:AC32,">0")>5),(COUNTIF(AC21:AC32,">0")-5)*$P$115,0) -> 120 | AE92: € | AG92: =IF(AND(COUNTIF(AF21:AF32,">0")>0,COUNTIF(AF21:AF32,">0")>5),(COUNTIF(AF21:AF32,">0")-5)*$P$115,0) -> 0 | AH92: € | AJ92: =IF(AND(COUNTIF(AI21:AI32,">0")>0,COUNTIF(AI21:AI32,">0")>5),(COUNTIF(AI21:AI32,">0")-5)*$P$115,0) -> 180 | AK92: € | AM92: =IF(AND(COUNTIF(AL21:AL32,">0")>0,COUNTIF(AL21:AL32,">0")>5),(COUNTIF(AL21:AL32,">0")-5)*$P$115,0) -> 0 | AP92: € | AR92: =IF(AND(COUNTIF(AQ21:AQ32,">0")>0,COUNTIF(AQ21:AQ32,">0")>5),(COUNTIF(AQ21:AQ32,">0")-5)*$P$115,0) -> 0 | AS92: € | AU92: =IF(AND(COUNTIF(AT21:AT32,">0")>0,COUNTIF(AT21:AT32,">0")>5),(COUNTIF(AT21:AT32,">0")-5)*$P$115,0) -> 0 | AV92: € | AX92: =IF(AND(COUNTIF(AW21:AW32,">0")>0,COUNTIF(AW21:AW32,">0")>5),(COUNTIF(AW21:AW32,">0")-5)*$P$115,0) -> 0
A93: Me | D93: =SUM($D$94:$D$96) -> 521.625 | G93: =SUM($G$94:$G$96) -> 434.9 | J93: =SUM($J$94:$J$96) -> 344.7 | M93: =SUM($M$94:$M$96) -> 327.1 | P93: =SUM($D$94:$D$96) -> 521.625 | S93: =SUM($S$94:$S$96) -> 559.475 | V93: =SUM($S$94:$S$96) -> 559.475 | X93: Me | AA93: =SUM(AA94:AA96) -> 336.2 | AD93: =SUM(AD94:AD96) -> 150 | AG93: =SUM(AG94:AG96) -> 637.3 | AJ93: =SUM(AJ94:AJ96) -> 475.7 | AM93: =SUM(AM94:AM96) -> 650.5 | AO93: Me | AR93: =SUM(AR94:AR96) -> 1021.2 | AU93: =SUM(AU94:AU96) -> 596.2 | AX93: =SUM(AX94:AX96) -> 150
B94: KM Aller | D94: =SUM(B49*$P$113+$P$114) -> 351.3 | E94: KM | G94: =SUM(E49*$P$113+$P$114) -> 401.9 | H94: KM | J94: =SUM(H49*$P$113+$P$114) -> 311.7 | K94: KM | M94: =SUM(K49*$P$113+$P$114) -> 301.8 | N94: KM | P94: =SUM(N49*$P$113+$P$114) -> 352.4 | Q94: KM | S94: =SUM(Q49*$P$113+$P$114) -> 493.2 | T94: KM | V94: =SUM(T49*$P$113+$P$114) -> 150 | Y94: KM | AA94: =SUM(Y49*$P$113+$P$114) -> 262.2 | AB94: KM | AD94: =SUM(AB49*$P$113+$P$114) -> 150 | AE94: KM | AG94: =SUM(AE49*$P$113+$P$114) -> 637.3 | AH94: KM | AJ94: =SUM(AH49*$P$113+$P$114) -> 366.7 | AK94: KM | AM94: =SUM(AK49*$P$113+$P$114) -> 650.5 | AP94: KM Aller | AR94: =SUM(AP49*$P$113+$P$114) -> 1021.2 | AS94: KM Aller | AU94: =SUM(AS49*$P$113+$P$114) -> 581.2 | AV94: KM Aller | AX94: =SUM(AV49*$P$113+$P$114) -> 150
B95: KM retour | D95: =SUM((D49*$P$113)*0.25) -> 50.325 | E95: € | G95: =SUM((G49*$P$113)*0.25) -> 33 | H95: € | J95: =SUM((J49*$P$113)*0.25) -> 33 | K95: € | M95: =SUM((M49*$P$113)*0.25) -> 25.3 | N95: € | P95: =SUM((P49*$P$113)*0.25) -> 21.725 | Q95: € | S95: =SUM((S49*$P$113)*0.25) -> 66.275 | T95: € | V95: =SUM((V49*$P$113)*0.25) -> 110.275 | Y95: € | AA95: =SUM(AA49) -> 14 | AB95: € | AD95: =SUM(AD49) -> 0 | AE95: € | AG95: =SUM(AG49) -> 0 | AH95: € | AJ95: =SUM(AJ49) -> 49 | AK95: € | AM95: =SUM(AM49) -> 0 | AP95: KM retour | AR95: =SUM(AR49) -> 0 | AS95: KM retour | AU95: =SUM(AU49) -> 15 | AV95: KM retour | AX95: =SUM(AX49) -> 0
B96: € | D96: =IF(AND(COUNTIF(C13:C26,">0")>0,COUNTIF(C13:C26,">0")>5),(COUNTIF(C13:C26,">0")-5)*$P$115,0) -> 120 | E96: € | G96: =IF(AND(COUNTIF(F13:F26,">0")>0,COUNTIF(F13:F26,">0")>5),(COUNTIF(F13:F26,">0")-5)*$P$115,0) -> 0 | H96: € | J96: =IF(AND(COUNTIF(I13:I26,">0")>0,COUNTIF(I13:I26,">0")>5),(COUNTIF(I13:I26,">0")-5)*$P$115,0) -> 0 | K96: € | M96: =IF(AND(COUNTIF(L13:L26,">0")>0,COUNTIF(L13:L26,">0")>5),(COUNTIF(L13:L26,">0")-5)*$P$115,0) -> 0 | N96: € | P96: =IF(AND(COUNTIF(O13:O26,">0")>0,COUNTIF(O13:O26,">0")>5),(COUNTIF(O13:O26,">0")-5)*$P$115,0) -> 0 | Q96: € | S96: =IF(AND(COUNTIF(R13:R26,">0")>0,COUNTIF(R13:R26,">0")>5),(COUNTIF(R13:R26,">0")-5)*$P$115,0) -> 0 | T96: € | V96: =IF(AND(COUNTIF(U13:U26,">0")>0,COUNTIF(U13:U26,">0")>5),(COUNTIF(U13:U26,">0")-5)*$P$115,0) -> 0 | Y96: € | AA96: =IF(AND(COUNTIF(Z37:Z48,">0")>0,COUNTIF(Z37:Z48,">0")>5),(COUNTIF(Z37:Z48,">0")-5)*$P$115,0) -> 60 | AB96: € | AD96: =IF(AND(COUNTIF(AC37:AC48,">0")>0,COUNTIF(AC37:AC48,">0")>5),(COUNTIF(AC37:AC48,">0")-5)*$P$115,0) -> 0 | AE96: € | AG96: =IF(AND(COUNTIF(AF53:AF64,">0")>0,COUNTIF(AF53:AF64,">0")>5),(COUNTIF(AF53:AF64,">0")-5)*$P$115,0) -> 0 | AH96: € | AJ96: =IF(AND(COUNTIF(AI37:AI48,">0")>0,COUNTIF(AI37:AI48,">0")>5),(COUNTIF(AI37:AI48,">0")-5)*$P$115,0) -> 60 | AK96: € | AM96: =IF(AND(COUNTIF(AL37:AL48,">0")>0,COUNTIF(AL37:AL48,">0")>5),(COUNTIF(AL37:AL48,">0")-5)*$P$115,0) -> 0 | AP96: € | AR96: =IF(AND(COUNTIF(AQ37:AQ48,">0")>0,COUNTIF(AQ37:AQ48,">0")>5),(COUNTIF(AQ37:AQ48,">0")-5)*$P$115,0) -> 0 | AS96: € | AU96: =IF(AND(COUNTIF(AT37:AT48,">0")>0,COUNTIF(AT37:AT48,">0")>5),(COUNTIF(AT37:AT48,">0")-5)*$P$115,0) -> 0 | AV96: € | AX96: =IF(AND(COUNTIF(AW37:AW48,">0")>0,COUNTIF(AW37:AW48,">0")>5),(COUNTIF(AW37:AW48,">0")-5)*$P$115,0) -> 0
A97: J | D97: =SUM(D98:D100) -> 751.075 | G97: =SUM(G98:G100) -> 454.7 | J97: =SUM(J98:J100) -> 373.025 | M97: =SUM(M98:M100) -> 430.5 | P97: =SUM(P98:P100) -> 463.5 | S97: =SUM(S98:S100) -> 455.8 | V97: =SUM(V98:V100) -> 210.5 | X97: J | AA97: =SUM(AA98:AA100) -> 524.3 | AD97: =SUM(AD98:AD100) -> 659.3 | AG97: =SUM(AG98:AG100) -> 594 | AJ97: =SUM(AJ98:AJ100) -> 397.7 | AM97: =SUM(AM98:AM100) -> 551 | AO97: J | AR97: =SUM(AR98:AR100) -> 629.3 | AU97: =SUM(AU98:AU100) -> 150 | AX97: =SUM(AX98:AX100) -> 150
B98: KM Aller | D98: =SUM(B65*$P$113+$P$114) -> 449.2 | E98: KM | G98: =SUM(E65*$P$113+$P$114) -> 405.2 | H98: KM | J98: =SUM(H65*$P$113+$P$114) -> 339.2 | K98: KM | M98: =SUM(K65*$P$113+$P$114) -> 374.4 | N98: KM | P98: =SUM(N65*$P$113+$P$114) -> 414 | Q98: KM | S98: =SUM(Q65*$P$113+$P$114) -> 419.5 | T98: KM | V98: =SUM(T65*$P$113+$P$114) -> 209.4 | Y98: KM | AA98: =SUM(Y65*$P$113+$P$114) -> 384.3 | AB98: KM | AD98: =SUM(AB65*$P$113+$P$114) -> 659.3 | AE98: KM | AG98: =SUM(AE65*$P$113+$P$114) -> 150 | AH98: KM | AJ98: =SUM(AH65*$P$113+$P$114) -> 322.7 | AK98: KM | AM98: =SUM(AK65*$P$113+$P$114) -> 150 | AP98: KM Aller | AR98: =SUM(AP65*$P$113+$P$114) -> 208.3 | AS98: KM Aller | AU98: =SUM(AS65*$P$113+$P$114) -> 150 | AV98: KM Aller | AX98: =SUM(AV65*$P$113+$P$114) -> 150
B99: KM retour | D99: =SUM((D65*$P$113)*0.25) -> 61.875 | E99: € | G99: =SUM((G65*$P$113)*0.25) -> 49.5 | H99: € | J99: =SUM((J65*$P$113)*0.25) -> 33.825 | K99: € | M99: =SUM((M65*$P$113)*0.25) -> 56.1 | N99: € | P99: =SUM((P65*$P$113)*0.25) -> 49.5 | Q99: € | S99: =SUM((S65*$P$113)*0.25) -> 36.3 | T99: € | V99: =SUM((V65*$P$113)*0.25) -> 1.1 | Y99: € | AA99: =SUM(AA65) -> 140 | AB99: € | AD99: =SUM(AD65) -> 0 | AE99: € | AG99: =SUM(AG65) -> 444 | AH99: € | AJ99: =SUM(AJ65) -> 15 | AK99: € | AM99: =SUM(AM65) -> 401 | AP99: KM retour | AR99: =SUM(AR65) -> 421 | AS99: KM retour | AU99: =SUM(AU65) -> 0 | AV99: KM retour | AX99: =SUM(AX65) -> 0
B100: € | D100: =IF(AND(COUNTIF(C17:C30,">0")>0,COUNTIF(C17:C30,">0")>5),(COUNTIF(C17:C30,">0")-5)*$P$115,0) -> 240 | E100: € | G100: =IF(AND(COUNTIF(F17:F30,">0")>0,COUNTIF(F17:F30,">0")>5),(COUNTIF(F17:F30,">0")-5)*$P$115,0) -> 0 | H100: € | J100: =IF(AND(COUNTIF(I17:I30,">0")>0,COUNTIF(I17:I30,">0")>5),(COUNTIF(I17:I30,">0")-5)*$P$115,0) -> 0 | K100: € | M100: =IF(AND(COUNTIF(L17:L30,">0")>0,COUNTIF(L17:L30,">0")>5),(COUNTIF(L17:L30,">0")-5)*$P$115,0) -> 0 | N100: € | P100: =IF(AND(COUNTIF(O17:O30,">0")>0,COUNTIF(O17:O30,">0")>5),(COUNTIF(O17:O30,">0")-5)*$P$115,0) -> 0 | Q100: € | S100: =IF(AND(COUNTIF(R17:R30,">0")>0,COUNTIF(R17:R30,">0")>5),(COUNTIF(R17:R30,">0")-5)*$P$115,0) -> 0 | T100: € | V100: =IF(AND(COUNTIF(U17:U30,">0")>0,COUNTIF(U17:U30,">0")>5),(COUNTIF(U17:U30,">0")-5)*$P$115,0) -> 0 | Y100: € | AA100: =IF(AND(COUNTIF(Z53:Z64,">0")>0,COUNTIF(Z53:Z64,">0")>5),(COUNTIF(Z53:Z64,">0")-5)*$P$115,0) -> 0 | AB100: € | AD100: =IF(AND(COUNTIF(AC53:AC64,">0")>0,COUNTIF(AC53:AC64,">0")>5),(COUNTIF(AC53:AC64,">0")-5)*$P$115,0) -> 0 | AE100: € | AG100: =IF(AND(COUNTIF(AF53:AF64,">0")>0,COUNTIF(AF53:AF64,">0")>5),(COUNTIF(AF53:AF64,">0")-5)*$P$115,0) -> 0 | AH100: € | AJ100: =IF(AND(COUNTIF(AI53:AI64,">0")>0,COUNTIF(AI53:AI64,">0")>5),(COUNTIF(AI53:AI64,">0")-5)*$P$115,0) -> 60 | AK100: € | AM100: =IF(AND(COUNTIF(AL53:AL64,">0")>0,COUNTIF(AL53:AL64,">0")>5),(COUNTIF(AL53:AL64,">0")-5)*$P$115,0) -> 0 | AP100: € | AR100: =IF(AND(COUNTIF(AQ53:AQ64,">0")>0,COUNTIF(AQ53:AQ64,">0")>5),(COUNTIF(AQ53:AQ64,">0")-5)*$P$115,0) -> 0 | AS100: € | AU100: =IF(AND(COUNTIF(AT53:AT64,">0")>0,COUNTIF(AT53:AT64,">0")>5),(COUNTIF(AT53:AT64,">0")-5)*$P$115,0) -> 0 | AV100: € | AX100: =IF(AND(COUNTIF(AW53:AW64,">0")>0,COUNTIF(AW53:AW64,">0")>5),(COUNTIF(AW53:AW64,">0")-5)*$P$115,0) -> 0
A101: V | D101: =SUM(D102:D104) -> 476.525 | G101: =SUM(G102:G104) -> 343.05 | J101: =SUM(J102:J104) -> 505.575 | M101: =SUM(M102:M104) -> 272.1 | P101: =SUM(P102:P104) -> 279.8 | S101: =SUM(S102:S104) -> 359 | V101: =SUM(V102:V104) -> 337.825 | X101: V | AA101: =SUM(AA102:AA104) -> 171 | AD101: =SUM(AD102:AD104) -> 551 | AG101: =SUM(AG102:AG104) -> 150 | AJ101: =SUM(AJ102:AJ104) -> 485.3 | AM101: =SUM(AM102:AM104) -> 150 | AO101: V | AR101: =SUM(AR102:AR104) -> 150 | AU101: =SUM(AU102:AU104) -> 150 | AX101: =SUM(AX102:AX104) -> 150
B102: KM Aller | D102: =SUM(B81*$P$113+$P$114) -> 324.9 | E102: KM | G102: =SUM(E81*$P$113+$P$114) -> 310.6 | H102: KM | J102: =SUM(H81*$P$113+$P$114) -> 452.5 | K102: KM | M102: =SUM(K81*$P$113+$P$114) -> 251.2 | N102: KM | P102: =SUM(N81*$P$113+$P$114) -> 258.9 | Q102: KM | S102: =SUM(Q81*$P$113+$P$114) -> 341.4 | T102: KM | V102: =SUM(T81*$P$113+$P$114) -> 301.8 | Y102: KM | AA102: =SUM(Y81*$P$113+$P$114) -> 161 | AB102: KM | AD102: =SUM(AB81*$P$113+$P$114) -> 150 | AE102: KM | AG102: =SUM(AE81*$P$113+$P$114) -> 150 | AH102: KM | AJ102: =SUM(AH81*$P$113+$P$114) -> 340.3 | AK102: KM | AM102: =SUM(AK81*$P$113+$P$114) -> 150 | AP102: KM Aller | AR102: =SUM(AP81*$P$113+$P$114) -> 150 | AS102: KM Aller | AU102: =SUM(AS81*$P$113+$P$114) -> 150 | AV102: KM Aller | AX102: =SUM(AV81*$P$113+$P$114) -> 150
...

Sheet REF
A1: N | B1: Conducteur + Tracteur | C1: Remorque | E1: Agences | F1: Nom | G1: Adresse | H1: Code postal | I1: Ville
A2: 1 | B2: Arnaud / GC-690-DK | C2: FW-097-JQ | E2: R 395 | F2: RAM AG vers PTF 395
A3: 2 | B3: Caroll / FZ-768-KH | C3: FZ-277-WC | E3: 1 | F3: PARC
A4: 3 | B4: Django / FF-017-HG | C4: FW-038-JQ | E4: 2 | F4: 2ème TOUR
A5: 4 | B5: Eric / GC-102-TG | C5: FB-586-AV | E5: 3 | F5: RECHERCHE DE FRET
A6: 5 | B6: Francois / CG-359-XQ | C6: ES-646-PH | E6: 4 | F6: A DISPO DE L'EXPLOIT
A7: 6 | B7: Fred V / GE-241-HL | C7: ES-069-PJ | E7: 5 | F7: PTF ST ANDRE
A8: 7 | B8: Frederic / GJ-077-GS | C8: GG-223-VB | E8: 6L | F8: LIV PTF LAVAUR
A9: 8 | B9: Jean-Luc / FZ-272-CQ | C9: FZ-221-HR | E9: 6 | F9: PTF AUTO 6
A10: 9 | B10: Manu / FM-902-KS | C10: ET-125-BH | E10: 7 | F10: PTF CARRELAGE
A11: 10 | B11: Marco / FZ-672-MC | C11: FZ-446-WB | E11: 8 | F11: PTF ST SULPICE
A12: 11 | B12: Matthieu / GC-569-XQ | C12: FB-856-AV | E12: 9 | F12: ST ALBAN
A13: 12 | B13: Sebastien / GJ998-GR | C13: ET-231-QD | E13: 10 | F13: RAMASSAGE ptf 008
A14: 13 | B14: Yusuf / GJ-714-GR | C14: FB-043-AA | E14: 11 | F14: ST ALBAN + D9 *
A15: 14 | B15: Zou / GJ-063-VS | C15: ES-863-RJ | E15: 12 | F15: Bd SUISSE (liv. 6H)
A16: 15 | E16: 14 | F16: BALMA
A17: 16 | E17: 15 | F17: PINSAGUEL
A18: 17 | E18: 17 | F18: COLOMIERS
A19: 18 | E19: 18 | F19: SAINT-ORENS
A20: 19 | E20: 19 | F20: VILLEFRANCHE L.
A21: 20 | E21: 21 | F21: CASTELFRANC
A22: 21 | E22: 22 | F22: AGEN
A23: 22 | E23: 23 | F23: LALBENQUE
A24: 23 | E24: 24 | F24: VILLENEUVE / LOT
A25: 24 | E25: 25 | F25: BOUZIES
A26: 25 | E26: 26 | F26: CAHORS
A27: 26 | E27: 27 | F27: MAURS
... A30: 29 | E30: 31 | F30: RODEZ
E31: 32 | F31: L'ISLE-JOURDAIN
A32: SEMIS EN DEBORDS | C32: FJ-133-LN | E32: 33 | F32: MONTAUBAN NORD
C33: ES-487-DT | E33: 34 | F33: VERDUN SUR G.
C34: ET-635-VC | E34: 35 | F34: CAUSSADE
C35: EV-677-ZD | E35: 36 | F35: AUCH
E36: 42 | F36: CASTELNAUDARY
E37: 43 | F37: NARBONNE
E38: 44 | F38: CARCASSONNE
E39: 45 | F39: MAZAMET
E40: 46 | F40: ALBI
E41: 47 | F41: GAILLAC
E42: 48 | F42: CASTRES
E43: 49 | F43: GRAULHET
E44: 50 | F44: LE SOLER
E45: 51 | F45: ARGELES
E46: 52 | F46: CABESTANY
E47: 53 | F47: PRADES
... E184: 695 | F184: POLE LALBENQUE
E185: 232C | F185: CHGT MONTIERCHAUME
E186: 395 C | F186: CHGT ST PAUL
E187: 6C | F187: CHGT PTF AUTO
E188: 6E | F188: E-COMMERCE ptf 006
E189: 7C | F189: CHGT PTF CARRELAGE
E190: 8C | F190: CHGT PTF ST SULPICE
E191: C A DEF | F191: CHGT A DEFINIR
E192: CHAB | F192: CHGT CHABANNE
E193: CT | F193: CONTRÔLE TECHNIQUE
E194: ELOS | F194: CHGT ELOSBOIS TR81
E195: FAB | F195: CHGT FABEMI
E196: L A DEF | F196: LIV A DEFINIR
... E205: VM | F205: VISITE MEDICALE

Sheet test OM
B6: Informations: Informtion a saisir au jour le jour
B9: Date | C9: 45146 | D9: 1 | E9: {=INDEX('Matrice planning paire'!$A$2:$AX$82,MATCH($C$9,'Matrice planning paire'!A:A,0)+1,MATCH($C$10,INDIRECT("'Matrice planning paire'!L"&MATCH($C$9,'Matrice planning paire'!A:A,0)+1&"C1:L"&MATCH($C$9,'Matrice planning paire'!A:A,0)+1&"C"& COUNTA('Matrice planning paire'!4:4)+4*COUNTA('Matrice planning paire'!2:2),0),0))} -> CHGT PTF ST SULPICE | L9: Commentaires conducteurs a saisir a la main
B10: NOM | C10: Matthieu / GC-569-XQ | D10: ADRESSE | E10: {=INDEX('Matrice planning paire'!$A$2:$AM$82,MATCH($C$9,'Matrice planning paire'!A:A,0)+2,MATCH($C$10,INDIRECT("'Matrice planning paire'!L"&MATCH($C$9,'Matrice planning paire'!A:A,0)+1&"C1:L"&MATCH($C$9,'Matrice planning paire'!A:A,0)+1&"C"& COUNTA('Matrice planning paire'!4:4)+4*COUNTA('Matrice planning paire'!2:2),0),0))} -> VILLEFRANCHE L.
B11: TR: | C11: {=INDEX('Matrice planning paire'!$A$2:$AM$82,MATCH($C$9,'Matrice planning paire'!A:A,0)+1,MATCH($C$10,INDIRECT("'Matrice planning paire'!L"&MATCH($C$9,'Matrice planning paire'!A:A,0)+1&"C1:L"&MATCH($C$9,'Matrice planning paire'!A:A,0)+1&"C"&COUNTA('Matrice planning paire'!4:4)+4*COUNTA('Matrice planning paire'!2:2),0),0)-2)} -> FB-856-AV
B12: heure | C12: {=INDEX('Matrice planning paire'!$A$2:$AM$82,MATCH($C$9,'Matrice planning paire'!A:A,0),MATCH($C$10,INDIRECT("'Matrice planning paire'!L"&MATCH($C$9,'Matrice planning paire'!A:A,0)+1&"C1:L"&MATCH($C$9,'Matrice planning paire'!A:A,0)+1&"C"&COUNTA('Matrice planning paire'!4:4)+4*COUNTA('Matrice planning paire'!2:2),0),0)-2)} -> 0
D17: 2 | E17: {=INDEX('Matrice planning paire'!$A$2:$AM$82,MATCH($C$9,'Matrice planning paire'!A:A,0)+3,MATCH($C$10,INDIRECT("'Matrice planning paire'!L"&MATCH($C$9,'Matrice planning paire'!A:A,0)+1&"C1:L"&MATCH($C$9,'Matrice planning paire'!A:A,0)+1&"C"& COUNTA('Matrice planning paire'!4:4)+4*COUNTA('Matrice planning paire'!2:2),0),0))} -> CASTELNAUDARY | L17: Commentaires a saisir a la main
D19: ADRESSE | E19: EVENTUELLEMENT DES INFOS QUI RENVERAIENT A UNE ADRESSE DE D6
D24: 3 | L24: Commentaires a saisir a la main
D31: 4 | L31: Commentaires a saisir a la main
