Workbook
Name Face: Faces[Face]
Name Feuille: Feuilles[Feuille]
Name Format: Formats[Format]
Name Grammage: Grammages[Grammage]
Name Impression: Impressions[Impression]
Name TableauTarifs: Base[#All]

Sheet Base_donnees
A1: CONCATENATION | B1: Format | C1: Feuille | D1: Grammage | E1: Face | F1: Impression | G1: Quantité | H1: PUTVAC | L1: Format | N1: Feuille | P1: Grammage | R1: Face | T1: Impression
A2: =CONCATENATE(B2," ",C2," ",D2," ",E2," ",F2) -> A4 blanc 80 Recto NB | B2: A4 | C2: blanc | D2: 80 | E2: Recto | F2: NB | G2: 1 | H2: 0.1 | L2: A3 | N2: blanc | P2: 80 | R2: Recto | T2: NB
A3: =CONCATENATE(B3," ",C3," ",D3," ",E3," ",F3) -> A4 blanc 80 Recto NB | B3: A4 | C3: blanc | D3: 80 | E3: Recto | F3: NB | G3: 20 | H3: 0.055 | L3: A4 | N3: couleur | P3: 160 | R3: Recto/Verso | T3: FC
A4: =CONCATENATE(B4," ",C4," ",D4," ",E4," ",F4) -> A4 blanc 80 Recto NB | B4: A4 | C4: blanc | D4: 80 | E4: Recto | F4: NB | G4: 100 | H4: 0.04 | P4: 200
A5: =CONCATENATE(B5," ",C5," ",D5," ",E5," ",F5) -> A4 blanc 80 Recto NB | B5: A4 | C5: blanc | D5: 80 | E5: Recto | F5: NB | G5: 500 | H5: 0.036 | P5: 250
A6: =CONCATENATE(B6," ",C6," ",D6," ",E6," ",F6) -> A4 blanc 80 Recto NB | B6: A4 | C6: blanc | D6: 80 | E6: Recto | F6: NB | G6: 5000 | H6: 0.029 | P6: 300
A7: =CONCATENATE(B7," ",C7," ",D7," ",E7," ",F7) -> A4 blanc 80 Recto/Verso NB | B7: A4 | C7: blanc | D7: 80 | E7: Recto/Verso | F7: NB | G7: 1 | H7: 0.2
A8: =CONCATENATE(B8," ",C8," ",D8," ",E8," ",F8) -> A4 blanc 80 Recto/Verso NB | B8: A4 | C8: blanc | D8: 80 | E8: Recto/Verso | F8: NB | G8: 20 | H8: 0.11
A9: =CONCATENATE(B9," ",C9," ",D9," ",E9," ",F9) -> A4 blanc 80 Recto/Verso NB | B9: A4 | C9: blanc | D9: 80 | E9: Recto/Verso | F9: NB | G9: 100 | H9: 0.08
A10: =CONCATENATE(B10," ",C10," ",D10," ",E10," ",F10) -> A4 blanc 80 Recto/Verso NB | B10: A4 | C10: blanc | D10: 80 | E10: Recto/Verso | F10: NB | G10: 500 | H10: 0.072
A11: =CONCATENATE(B11," ",C11," ",D11," ",E11," ",F11) -> A4 blanc 80 Recto/Verso NB | B11: A4 | C11: blanc | D11: 80 | E11: Recto/Verso | F11: NB | G11: 5000 | H11: 0.058
A12: =CONCATENATE(B12," ",C12," ",D12," ",E12," ",F12) -> A4 blanc 160 Recto NB | B12: A4 | C12: blanc | D12: 160 | E12: Recto | F12: NB | G12: 1 | H12: 0.2
A13: =CONCATENATE(B13," ",C13," ",D13," ",E13," ",F13) -> A4 blanc 160 Recto NB | B13: A4 | C13: blanc | D13: 160 | E13: Recto | F13: NB | G13: 20 | H13: 0.11
A14: =CONCATENATE(B14," ",C14," ",D14," ",E14," ",F14) -> A4 blanc 160 Recto NB | B14: A4 | C14: blanc | D14: 160 | E14: Recto | F14: NB | G14: 100 | H14: 0.08
A15: =CONCATENATE(B15," ",C15," ",D15," ",E15," ",F15) -> A4 blanc 160 Recto NB | B15: A4 | C15: blanc | D15: 160 | E15: Recto | F15: NB | G15: 500 | H15: 0.072
A16: =CONCATENATE(B16," ",C16," ",D16," ",E16," ",F16) -> A4 blanc 160 Recto NB | B16: A4 | C16: blanc | D16: 160 | E16: Recto | F16: NB | G16: 5000 | H16: 0.058
A17: =CONCATENATE(B17," ",C17," ",D17," ",E17," ",F17) -> A4 blanc 160 Recto/Verso NB | B17: A4 | C17: blanc | D17: 160 | E17: Recto/Verso | F17: NB | G17: 1 | H17: 0.3
A18: =CONCATENATE(B18," ",C18," ",D18," ",E18," ",F18) -> A4 blanc 160 Recto/Verso NB | B18: A4 | C18: blanc | D18: 160 | E18: Recto/Verso | F18: NB | G18: 20 | H18: 0.165
... A41: =CONCATENATE(B41," ",C41," ",D41," ",E41," ",F41) -> A4 couleur 160 Recto/Verso NB | B41: A4 | C41: couleur | D41: 160 | E41: Recto/Verso | F41: NB | G41: 5000 | H41: 0.116

Sheet DEVIS
B3: Format | C3: Feuille | D3: Grammage | E3: Face | F3: Impression | G3: Quantité | H3: PRIX UNITAIRE | I3: PRIX TVAC | J3: CONCATENATION
B4: A4 | C4: blanc | D4: 80 | E4: Recto | F4: NB | G4: 20 | H4: {=INDEX(Base[PUTVAC],MATCH(DEVIS!G4,OFFSET(Base[[#Headers],[Quantité]],MATCH(DEVIS!J4,Base[CONCATENATION],0),,COUNTIF(Base[CONCATENATION],DEVIS!J4),1))+MATCH(DEVIS!J4,Base[CONCATENATION],0)-1)} -> 0.055 | I4: =G4*H4 -> 1.1 | J4: =CONCATENATE(B4," ",C4," ",D4," ",E4," ",+F4) -> A4 blanc 80 Recto NB
B5: A4 | C5: blanc | D5: 80 | E5: Recto | F5: NB | G5: 26 | H5: {=INDEX(Base[PUTVAC],MATCH(DEVIS!G5,OFFSET(Base[[#Headers],[Quantité]],MATCH(DEVIS!J5,Base[CONCATENATION],0),,COUNTIF(Base[CONCATENATION],DEVIS!J5),1))+MATCH(DEVIS!J5,Base[CONCATENATION],0)-1)} -> 0.055 | I5: =G5*H5 -> 1.43 | J5: =CONCATENATE(B5," ",C5," ",D5," ",E5," ",+F5) -> A4 blanc 80 Recto NB
B6: A4 | C6: blanc | D6: 80 | E6: Recto/Verso | F6: NB | G6: 1 | H6: {=INDEX(Base[PUTVAC],MATCH(DEVIS!G6,OFFSET(Base[[#Headers],[Quantité]],MATCH(DEVIS!J6,Base[CONCATENATION],0),,COUNTIF(Base[CONCATENATION],DEVIS!J6),1))+MATCH(DEVIS!J6,Base[CONCATENATION],0)-1)} -> 0.2 | I6: =G6*H6 -> 0.2 | J6: =CONCATENATE(B6," ",C6," ",D6," ",E6," ",+F6) -> A4 blanc 80 Recto/Verso NB
B7: A4 | C7: blanc | D7: 80 | E7: Recto | F7: NB | G7: 4 | H7: {=INDEX(Base[PUTVAC],MATCH(DEVIS!G7,OFFSET(Base[[#Headers],[Quantité]],MATCH(DEVIS!J7,Base[CONCATENATION],0),,COUNTIF(Base[CONCATENATION],DEVIS!J7),1))+MATCH(DEVIS!J7,Base[CONCATENATION],0)-1)} -> 0.1 | I7: =G7*H7 -> 0.4 | J7: =CONCATENATE(B7," ",C7," ",D7," ",E7," ",+F7) -> A4 blanc 80 Recto NB
B8: A4 | C8: blanc | D8: 80 | E8: Recto | F8: NB | G8: 120 | H8: {=INDEX(Base[PUTVAC],MATCH(DEVIS!G8,OFFSET(Base[[#Headers],[Quantité]],MATCH(DEVIS!J8,Base[CONCATENATION],0),,COUNTIF(Base[CONCATENATION],DEVIS!J8),1))+MATCH(DEVIS!J8,Base[CONCATENATION],0)-1)} -> 0.04 | I8: =G8*H8 -> 4.8 | J8: =CONCATENATE(B8," ",C8," ",D8," ",E8," ",+F8) -> A4 blanc 80 Recto NB
J9: =CONCATENATE(B9," ",C9," ",D9," ",E9," ",+F9)
J10: =CONCATENATE(B10," ",C10," ",D10," ",E10," ",+F10)
J11: =CONCATENATE(B11," ",C11," ",D11," ",E11," ",+F11)
J12: =CONCATENATE(B12," ",C12," ",D12," ",E12," ",+F12)
J13: =CONCATENATE(B13," ",C13," ",D13," ",E13," ",+F13)
J14: =CONCATENATE(B14," ",C14," ",D14," ",E14," ",+F14)
J15: =CONCATENATE(B15," ",C15," ",D15," ",E15," ",+F15)
J16: =CONCATENATE(B16," ",C16," ",D16," ",E16," ",+F16)
J17: =CONCATENATE(B17," ",C17," ",D17," ",E17," ",+F17)
J18: =CONCATENATE(B18," ",C18," ",D18," ",E18," ",+F18)
J19: =CONCATENATE(B19," ",C19," ",D19," ",E19," ",+F19)
