Workbook
Name CalendarYear: #REF!

Sheet Janvier
N2: Janvier | T2: 2032 | W2: du | X2: =DATE(T2,1,1) -> 48214
W3: au | X3: =EOMONTH(X2,0) -> 48244
G5: ="Période du "&TEXT(X2,"jj Mmmm aaaa")&" au "&TEXT(X3,"jj Mmmm aaaa") -> Période du 01 janvier 2032 au 31 janvier 2032
G10: =_xlfn.ISOWEEKNUM(X2) -> 1 | H10: =_xlfn.ISOWEEKNUM(H12) -> 1 | I10: =_xlfn.ISOWEEKNUM(I12) -> 1 | J10: =_xlfn.ISOWEEKNUM(J12) -> 1 | K10: =_xlfn.ISOWEEKNUM(K12) -> 2 | L10: =_xlfn.ISOWEEKNUM(L12) -> 2 | M10: =_xlfn.ISOWEEKNUM(M12) -> 2 | N10: =_xlfn.ISOWEEKNUM(N12) -> 2 | O10: =_xlfn.ISOWEEKNUM(O12) -> 2 | ... AK10: =_xlfn.ISOWEEKNUM(AK12) -> 5
G11: =DATE(T2,MONTH(X2),1) -> 48214 | H11: =IF(G12<>"",IF(MONTH(G12+1)=MONTH($G$12),G12+1,""),"") -> 48215 | I11: =IF(H12<>"",IF(MONTH(H12+1)=MONTH($G$12),H12+1,""),"") -> 48216 | J11: =IF(I12<>"",IF(MONTH(I12+1)=MONTH($G$12),I12+1,""),"") -> 48217 | K11: =IF(J12<>"",IF(MONTH(J12+1)=MONTH($G$12),J12+1,""),"") -> 48218 | L11: =IF(K12<>"",IF(MONTH(K12+1)=MONTH($G$12),K12+1,""),"") -> 48219 | M11: =IF(L12<>"",IF(MONTH(L12+1)=MONTH($G$12),L12+1,""),"") -> 48220 | N11: =IF(M12<>"",IF(MONTH(M12+1)=MONTH($G$12),M12+1,""),"") -> 48221 | O11: =IF(N12<>"",IF(MONTH(N12+1)=MONTH($G$12),N12+1,""),"") -> 48222 | ... AK11: =IF(AJ12<>"",IF(MONTH(AJ12+1)=MONTH($G$12),AJ12+1,""),"") -> 48244
G12: =X2 -> 48214 | H12: =G12+1 -> 48215 | I12: =H12+1 -> 48216 | J12: =I12+1 -> 48217 | K12: =J12+1 -> 48218 | L12: =K12+1 -> 48219 | M12: =L12+1 -> 48220 | N12: =M12+1 -> 48221 | O12: =N12+1 -> 48222 | ... AK12: =AJ12+1 -> 48244

Sheet Février
N2: Février | T2: =Janvier!T2 -> 2032 | W2: du | X2: =DATE(T2,2,1) -> 48245
W3: au | X3: =EOMONTH(X2,0) -> 48273
G5: ="Période du "&TEXT(X2,"jj Mmmm aaaa")&" au "&TEXT(X3,"jj Mmmm aaaa") -> Période du 01 février 2032 au 29 février 2032
G10: =_xlfn.ISOWEEKNUM(G12) -> 5 | H10: =_xlfn.ISOWEEKNUM(H12) -> 6 | I10: =_xlfn.ISOWEEKNUM(I12) -> 6 | J10: =_xlfn.ISOWEEKNUM(J12) -> 6 | K10: =_xlfn.ISOWEEKNUM(K12) -> 6 | L10: =_xlfn.ISOWEEKNUM(L12) -> 6 | M10: =_xlfn.ISOWEEKNUM(M12) -> 6 | N10: =_xlfn.ISOWEEKNUM(N12) -> 6 | ... AI10: =_xlfn.ISOWEEKNUM(AI12) -> 9
G11: =DATE(T2,MONTH(X2),1) -> 48245 | H11: =IF(G12<>"",IF(MONTH(G12+1)=MONTH($G$12),G12+1,""),"") -> 48246 | I11: =IF(H12<>"",IF(MONTH(H12+1)=MONTH($G$12),H12+1,""),"") -> 48247 | J11: =IF(I12<>"",IF(MONTH(I12+1)=MONTH($G$12),I12+1,""),"") -> 48248 | K11: =IF(J12<>"",IF(MONTH(J12+1)=MONTH($G$12),J12+1,""),"") -> 48249 | L11: =IF(K12<>"",IF(MONTH(K12+1)=MONTH($G$12),K12+1,""),"") -> 48250 | M11: =IF(L12<>"",IF(MONTH(L12+1)=MONTH($G$12),L12+1,""),"") -> 48251 | N11: =IF(M12<>"",IF(MONTH(M12+1)=MONTH($G$12),M12+1,""),"") -> 48252 | O11: =IF(N12<>"",IF(MONTH(N12+1)=MONTH($G$12),N12+1,""),"") -> 48253 | ... AI11: =IF(AH12<>"",IF(MONTH(AH12+1)=MONTH($G$12),AH12+1,""),"") -> 48273
G12: =X2 -> 48245 | H12: =IF(G12<>"",IF(MONTH(G12+1)=MONTH($G$12),G12+1,""),"") -> 48246 | I12: =IF(H12<>"",IF(MONTH(H12+1)=MONTH($G$12),H12+1,""),"") -> 48247 | J12: =IF(I12<>"",IF(MONTH(I12+1)=MONTH($G$12),I12+1,""),"") -> 48248 | K12: =IF(J12<>"",IF(MONTH(J12+1)=MONTH($G$12),J12+1,""),"") -> 48249 | L12: =IF(K12<>"",IF(MONTH(K12+1)=MONTH($G$12),K12+1,""),"") -> 48250 | M12: =IF(L12<>"",IF(MONTH(L12+1)=MONTH($G$12),L12+1,""),"") -> 48251 | N12: =IF(M12<>"",IF(MONTH(M12+1)=MONTH($G$12),M12+1,""),"") -> 48252 | O12: =IF(N12<>"",IF(MONTH(N12+1)=MONTH($G$12),N12+1,""),"") -> 48253 | ... AI12: =IF(AH12<>"",IF(MONTH(AH12+1)=MONTH($G$12),AH12+1,""),"") -> 48273

Sheet Mars
N2: Mars | T2: =Janvier!T2 -> 2032 | W2: du | X2: =DATE(T2,3,1) -> 48274
W3: au | X3: =EOMONTH(X2,0) -> 48304
G5: ="Période du "&TEXT(X2,"jj Mmmm aaaa")&" au "&TEXT(X3,"jj Mmmm aaaa") -> Période du 01 mars 2032 au 31 mars 2032
G10: =_xlfn.ISOWEEKNUM(G12) -> 10 | H10: =_xlfn.ISOWEEKNUM(H12) -> 10 | I10: =_xlfn.ISOWEEKNUM(I12) -> 10 | J10: =_xlfn.ISOWEEKNUM(J12) -> 10 | K10: =_xlfn.ISOWEEKNUM(K12) -> 10 | L10: =_xlfn.ISOWEEKNUM(L12) -> 10 | M10: =_xlfn.ISOWEEKNUM(M12) -> 10 | N10: =_xlfn.ISOWEEKNUM(N12) -> 11 | ... AK10: =_xlfn.ISOWEEKNUM(AK12) -> 14
G11: =DATE(T2,MONTH(X2),1) -> 48274 | H11: =DAY(H12) -> 2 | I11: =DAY(I12) -> 3 | J11: =DAY(J12) -> 4 | K11: =DAY(K12) -> 5 | L11: =DAY(L12) -> 6 | M11: =DAY(M12) -> 7 | N11: =DAY(N12) -> 8 | O11: =DAY(O12) -> 9 | ... AK11: =DAY(AK12) -> 31
G12: =X2 -> 48274 | H12: =IF(G12<>"",IF(MONTH(G12+1)=MONTH($G$12),G12+1,""),"") -> 48275 | I12: =IF(H12<>"",IF(MONTH(H12+1)=MONTH($G$12),H12+1,""),"") -> 48276 | J12: =IF(I12<>"",IF(MONTH(I12+1)=MONTH($G$12),I12+1,""),"") -> 48277 | K12: =IF(J12<>"",IF(MONTH(J12+1)=MONTH($G$12),J12+1,""),"") -> 48278 | L12: =IF(K12<>"",IF(MONTH(K12+1)=MONTH($G$12),K12+1,""),"") -> 48279 | M12: =IF(L12<>"",IF(MONTH(L12+1)=MONTH($G$12),L12+1,""),"") -> 48280 | N12: =IF(M12<>"",IF(MONTH(M12+1)=MONTH($G$12),M12+1,""),"") -> 48281 | O12: =IF(N12<>"",IF(MONTH(N12+1)=MONTH($G$12),N12+1,""),"") -> 48282 | ... AK12: =IF(AJ12<>"",IF(MONTH(AJ12+1)=MONTH($G$12),AJ12+1,""),"") -> 48304

Sheet Avril
N2: Avril | T2: =Janvier!T2 -> 2032 | W2: du | X2: =DATE(T2,4,1) -> 48305
W3: au | X3: =EOMONTH(X2,0) -> 48334
G5: ="Période du "&TEXT(X2,"jj Mmmm aaaa")&" au "&TEXT(X3,"jj Mmmm aaaa") -> Période du 01 avril 2032 au 30 avril 2032
G10: =_xlfn.ISOWEEKNUM(G12) -> 14 | H10: =_xlfn.ISOWEEKNUM(H12) -> 14 | I10: =_xlfn.ISOWEEKNUM(I12) -> 14 | J10: =_xlfn.ISOWEEKNUM(J12) -> 14 | K10: =_xlfn.ISOWEEKNUM(K12) -> 15 | L10: =_xlfn.ISOWEEKNUM(L12) -> 15 | M10: =_xlfn.ISOWEEKNUM(M12) -> 15 | N10: =_xlfn.ISOWEEKNUM(N12) -> 15 | ... AJ10: =_xlfn.ISOWEEKNUM(AJ12) -> 18
G11: =DATE(T2,MONTH(X2),1) -> 48305 | H11: =DAY(H12) -> 2 | I11: =DAY(I12) -> 3 | J11: =DAY(J12) -> 4 | K11: =DAY(K12) -> 5 | L11: =DAY(L12) -> 6 | M11: =DAY(M12) -> 7 | N11: =DAY(N12) -> 8 | O11: =DAY(O12) -> 9 | ... AJ11: =DAY(AJ12) -> 30
G12: =X2 -> 48305 | H12: =IF(G12<>"",IF(MONTH(G12+1)=MONTH($G$12),G12+1,""),"") -> 48306 | I12: =IF(H12<>"",IF(MONTH(H12+1)=MONTH($G$12),H12+1,""),"") -> 48307 | J12: =IF(I12<>"",IF(MONTH(I12+1)=MONTH($G$12),I12+1,""),"") -> 48308 | K12: =IF(J12<>"",IF(MONTH(J12+1)=MONTH($G$12),J12+1,""),"") -> 48309 | L12: =IF(K12<>"",IF(MONTH(K12+1)=MONTH($G$12),K12+1,""),"") -> 48310 | M12: =IF(L12<>"",IF(MONTH(L12+1)=MONTH($G$12),L12+1,""),"") -> 48311 | N12: =IF(M12<>"",IF(MONTH(M12+1)=MONTH($G$12),M12+1,""),"") -> 48312 | O12: =IF(N12<>"",IF(MONTH(N12+1)=MONTH($G$12),N12+1,""),"") -> 48313 | ... AK12: =IF(AJ12<>"",IF(MONTH(AJ12+1)=MONTH($G$12),AJ12+1,""),"")

Sheet Mai
N2: Mai | T2: =Janvier!T2 -> 2032 | W2: du | X2: =DATE(T2,5,1) -> 48335
W3: au | X3: =EOMONTH(X2,0) -> 48365
G5: ="Période du "&TEXT(X2,"jj Mmmm aaaa")&" au "&TEXT(X3,"jj Mmmm aaaa") -> Période du 01 mai 2032 au 31 mai 2032
G10: =_xlfn.ISOWEEKNUM(G12) -> 18 | H10: =_xlfn.ISOWEEKNUM(H12) -> 18 | I10: =_xlfn.ISOWEEKNUM(I12) -> 19 | J10: =_xlfn.ISOWEEKNUM(J12) -> 19 | K10: =_xlfn.ISOWEEKNUM(K12) -> 19 | L10: =_xlfn.ISOWEEKNUM(L12) -> 19 | M10: =_xlfn.ISOWEEKNUM(M12) -> 19 | N10: =_xlfn.ISOWEEKNUM(N12) -> 19 | ... AK10: =_xlfn.ISOWEEKNUM(AK12) -> 23
G11: =DATE(T2,MONTH(X2),1) -> 48335 | H11: =DAY(H12) -> 2 | I11: =DAY(I12) -> 3 | J11: =DAY(J12) -> 4 | K11: =DAY(K12) -> 5 | L11: =DAY(L12) -> 6 | M11: =DAY(M12) -> 7 | N11: =DAY(N12) -> 8 | O11: =DAY(O12) -> 9 | ... AK11: =DAY(AK12) -> 31
G12: =X2 -> 48335 | H12: =IF(G12<>"",IF(MONTH(G12+1)=MONTH($G$12),G12+1,""),"") -> 48336 | I12: =IF(H12<>"",IF(MONTH(H12+1)=MONTH($G$12),H12+1,""),"") -> 48337 | J12: =IF(I12<>"",IF(MONTH(I12+1)=MONTH($G$12),I12+1,""),"") -> 48338 | K12: =IF(J12<>"",IF(MONTH(J12+1)=MONTH($G$12),J12+1,""),"") -> 48339 | L12: =IF(K12<>"",IF(MONTH(K12+1)=MONTH($G$12),K12+1,""),"") -> 48340 | M12: =IF(L12<>"",IF(MONTH(L12+1)=MONTH($G$12),L12+1,""),"") -> 48341 | N12: =IF(M12<>"",IF(MONTH(M12+1)=MONTH($G$12),M12+1,""),"") -> 48342 | O12: =IF(N12<>"",IF(MONTH(N12+1)=MONTH($G$12),N12+1,""),"") -> 48343 | ... AK12: =IF(AJ12<>"",IF(MONTH(AJ12+1)=MONTH($G$12),AJ12+1,""),"") -> 48365

Sheet Juin
N2: Juin | T2: =Janvier!T2 -> 2032 | W2: du | X2: =DATE(T2,6,1) -> 48366
W3: au | X3: =EOMONTH(X2,0) -> 48395
G5: ="Période du "&TEXT(X2,"jj Mmmm aaaa")&" au "&TEXT(X3,"jj Mmmm aaaa") -> Période du 01 juin 2032 au 30 juin 2032
G10: =_xlfn.ISOWEEKNUM(G12) -> 23 | H10: =_xlfn.ISOWEEKNUM(H12) -> 23 | I10: =_xlfn.ISOWEEKNUM(I12) -> 23 | J10: =_xlfn.ISOWEEKNUM(J12) -> 23 | K10: =_xlfn.ISOWEEKNUM(K12) -> 23 | L10: =_xlfn.ISOWEEKNUM(L12) -> 23 | M10: =_xlfn.ISOWEEKNUM(M12) -> 24 | N10: =_xlfn.ISOWEEKNUM(N12) -> 24 | ... AJ10: =_xlfn.ISOWEEKNUM(AJ12) -> 27
G11: =DATE(T2,MONTH(X2),1) -> 48366 | H11: =DAY(H12) -> 2 | I11: =DAY(I12) -> 3 | J11: =DAY(J12) -> 4 | K11: =DAY(K12) -> 5 | L11: =DAY(L12) -> 6 | M11: =DAY(M12) -> 7 | N11: =DAY(N12) -> 8 | O11: =DAY(O12) -> 9 | ... AJ11: =DAY(AJ12) -> 30
G12: =X2 -> 48366 | H12: =IF(G12<>"",IF(MONTH(G12+1)=MONTH($G$12),G12+1,""),"") -> 48367 | I12: =IF(H12<>"",IF(MONTH(H12+1)=MONTH($G$12),H12+1,""),"") -> 48368 | J12: =IF(I12<>"",IF(MONTH(I12+1)=MONTH($G$12),I12+1,""),"") -> 48369 | K12: =IF(J12<>"",IF(MONTH(J12+1)=MONTH($G$12),J12+1,""),"") -> 48370 | L12: =IF(K12<>"",IF(MONTH(K12+1)=MONTH($G$12),K12+1,""),"") -> 48371 | M12: =IF(L12<>"",IF(MONTH(L12+1)=MONTH($G$12),L12+1,""),"") -> 48372 | N12: =IF(M12<>"",IF(MONTH(M12+1)=MONTH($G$12),M12+1,""),"") -> 48373 | O12: =IF(N12<>"",IF(MONTH(N12+1)=MONTH($G$12),N12+1,""),"") -> 48374 | ... AK12: =IF(AJ12<>"",IF(MONTH(AJ12+1)=MONTH($G$12),AJ12+1,""),"")

Sheet Juillet
N2: Juillet | T2: =Janvier!T2 -> 2032 | W2: du | X2: =DATE(T2,7,1) -> 48396
W3: au | X3: =EOMONTH(X2,0) -> 48426
G5: ="Période du "&TEXT(X2,"jj Mmmm aaaa")&" au "&TEXT(X3,"jj Mmmm aaaa") -> Période du 01 juillet 2032 au 31 juillet 2032
G10: =_xlfn.ISOWEEKNUM(G12) -> 27 | H10: =_xlfn.ISOWEEKNUM(H12) -> 27 | I10: =_xlfn.ISOWEEKNUM(I12) -> 27 | J10: =_xlfn.ISOWEEKNUM(J12) -> 27 | K10: =_xlfn.ISOWEEKNUM(K12) -> 28 | L10: =_xlfn.ISOWEEKNUM(L12) -> 28 | M10: =_xlfn.ISOWEEKNUM(M12) -> 28 | N10: =_xlfn.ISOWEEKNUM(N12) -> 28 | ... AK10: =_xlfn.ISOWEEKNUM(AK12) -> 31
G11: =DATE(T2,MONTH(X2),1) -> 48396 | H11: =DAY(H12) -> 2 | I11: =DAY(I12) -> 3 | J11: =DAY(J12) -> 4 | K11: =DAY(K12) -> 5 | L11: =DAY(L12) -> 6 | M11: =DAY(M12) -> 7 | N11: =DAY(N12) -> 8 | O11: =DAY(O12) -> 9 | ... AK11: =DAY(AK12) -> 31
G12: =X2 -> 48396 | H12: =IF(G12<>"",IF(MONTH(G12+1)=MONTH($G$12),G12+1,""),"") -> 48397 | I12: =IF(H12<>"",IF(MONTH(H12+1)=MONTH($G$12),H12+1,""),"") -> 48398 | J12: =IF(I12<>"",IF(MONTH(I12+1)=MONTH($G$12),I12+1,""),"") -> 48399 | K12: =IF(J12<>"",IF(MONTH(J12+1)=MONTH($G$12),J12+1,""),"") -> 48400 | L12: =IF(K12<>"",IF(MONTH(K12+1)=MONTH($G$12),K12+1,""),"") -> 48401 | M12: =IF(L12<>"",IF(MONTH(L12+1)=MONTH($G$12),L12+1,""),"") -> 48402 | N12: =IF(M12<>"",IF(MONTH(M12+1)=MONTH($G$12),M12+1,""),"") -> 48403 | O12: =IF(N12<>"",IF(MONTH(N12+1)=MONTH($G$12),N12+1,""),"") -> 48404 | ... AK12: =IF(AJ12<>"",IF(MONTH(AJ12+1)=MONTH($G$12),AJ12+1,""),"") -> 48426

Sheet Août
N2: Août | T2: =Janvier!T2 -> 2032 | W2: du | X2: =DATE(T2,8,1) -> 48427
W3: au | X3: =EOMONTH(X2,0) -> 48457
G5: ="Période du "&TEXT(X2,"jj Mmmm aaaa")&" au "&TEXT(X3,"jj Mmmm aaaa") -> Période du 01 août 2032 au 31 août 2032
G10: =_xlfn.ISOWEEKNUM(G12) -> 31 | H10: =_xlfn.ISOWEEKNUM(H12) -> 32 | I10: =_xlfn.ISOWEEKNUM(I12) -> 32 | J10: =_xlfn.ISOWEEKNUM(J12) -> 32 | K10: =_xlfn.ISOWEEKNUM(K12) -> 32 | L10: =_xlfn.ISOWEEKNUM(L12) -> 32 | M10: =_xlfn.ISOWEEKNUM(M12) -> 32 | N10: =_xlfn.ISOWEEKNUM(N12) -> 32 | ... AK10: =_xlfn.ISOWEEKNUM(AK12) -> 36
G11: =DATE(T2,MONTH(X2),1) -> 48427 | H11: =DAY(H12) -> 2 | I11: =DAY(I12) -> 3 | J11: =DAY(J12) -> 4 | K11: =DAY(K12) -> 5 | L11: =DAY(L12) -> 6 | M11: =DAY(M12) -> 7 | N11: =DAY(N12) -> 8 | O11: =DAY(O12) -> 9 | ... AK11: =DAY(AK12) -> 31
G12: =X2 -> 48427 | H12: =IF(G12<>"",IF(MONTH(G12+1)=MONTH($G$12),G12+1,""),"") -> 48428 | I12: =IF(H12<>"",IF(MONTH(H12+1)=MONTH($G$12),H12+1,""),"") -> 48429 | J12: =IF(I12<>"",IF(MONTH(I12+1)=MONTH($G$12),I12+1,""),"") -> 48430 | K12: =IF(J12<>"",IF(MONTH(J12+1)=MONTH($G$12),J12+1,""),"") -> 48431 | L12: =IF(K12<>"",IF(MONTH(K12+1)=MONTH($G$12),K12+1,""),"") -> 48432 | M12: =IF(L12<>"",IF(MONTH(L12+1)=MONTH($G$12),L12+1,""),"") -> 48433 | N12: =IF(M12<>"",IF(MONTH(M12+1)=MONTH($G$12),M12+1,""),"") -> 48434 | O12: =IF(N12<>"",IF(MONTH(N12+1)=MONTH($G$12),N12+1,""),"") -> 48435 | ... AK12: =IF(AJ12<>"",IF(MONTH(AJ12+1)=MONTH($G$12),AJ12+1,""),"") -> 48457

Sheet Septembre
L2: Septembre | T2: =Janvier!T2 -> 2032 | W2: du | X2: =DATE(T2,9,1) -> 48458
W3: au | X3: =EOMONTH(X2,0) -> 48487
G5: ="Période du "&TEXT(X2,"jj Mmmm aaaa")&" au "&TEXT(X3,"jj Mmmm aaaa") -> Période du 01 septembre 2032 au 30 septembre 2032
G10: =_xlfn.ISOWEEKNUM(G12) -> 36 | H10: =_xlfn.ISOWEEKNUM(H12) -> 36 | I10: =_xlfn.ISOWEEKNUM(I12) -> 36 | J10: =_xlfn.ISOWEEKNUM(J12) -> 36 | K10: =_xlfn.ISOWEEKNUM(K12) -> 36 | L10: =_xlfn.ISOWEEKNUM(L12) -> 37 | M10: =_xlfn.ISOWEEKNUM(M12) -> 37 | N10: =_xlfn.ISOWEEKNUM(N12) -> 37 | ... AJ10: =_xlfn.ISOWEEKNUM(AJ12) -> 40
G11: =DATE(T2,MONTH(X2),1) -> 48458 | H11: =DAY(H12) -> 2 | I11: =DAY(I12) -> 3 | J11: =DAY(J12) -> 4 | K11: =DAY(K12) -> 5 | L11: =DAY(L12) -> 6 | M11: =DAY(M12) -> 7 | N11: =DAY(N12) -> 8 | O11: =DAY(O12) -> 9 | ... AJ11: =DAY(AJ12) -> 30
G12: =X2 -> 48458 | H12: =IF(G12<>"",IF(MONTH(G12+1)=MONTH($G$12),G12+1,""),"") -> 48459 | I12: =IF(H12<>"",IF(MONTH(H12+1)=MONTH($G$12),H12+1,""),"") -> 48460 | J12: =IF(I12<>"",IF(MONTH(I12+1)=MONTH($G$12),I12+1,""),"") -> 48461 | K12: =IF(J12<>"",IF(MONTH(J12+1)=MONTH($G$12),J12+1,""),"") -> 48462 | L12: =IF(K12<>"",IF(MONTH(K12+1)=MONTH($G$12),K12+1,""),"") -> 48463 | M12: =IF(L12<>"",IF(MONTH(L12+1)=MONTH($G$12),L12+1,""),"") -> 48464 | N12: =IF(M12<>"",IF(MONTH(M12+1)=MONTH($G$12),M12+1,""),"") -> 48465 | O12: =IF(N12<>"",IF(MONTH(N12+1)=MONTH($G$12),N12+1,""),"") -> 48466 | ... AK12: =IF(AJ12<>"",IF(MONTH(AJ12+1)=MONTH($G$12),AJ12+1,""),"")

Sheet Octobre
N2: Octobre | T2: =Janvier!T2 -> 2032 | W2: du | X2: =DATE(T2,10,1) -> 48488
W3: au | X3: =EOMONTH(X2,0) -> 48518
G5: ="Période du "&TEXT(X2,"jj Mmmm aaaa")&" au "&TEXT(X3,"jj Mmmm aaaa") -> Période du 01 octobre 2032 au 31 octobre 2032
G10: =_xlfn.ISOWEEKNUM(G12) -> 40 | H10: =_xlfn.ISOWEEKNUM(H12) -> 40 | I10: =_xlfn.ISOWEEKNUM(I12) -> 40 | J10: =_xlfn.ISOWEEKNUM(J12) -> 41 | K10: =_xlfn.ISOWEEKNUM(K12) -> 41 | L10: =_xlfn.ISOWEEKNUM(L12) -> 41 | M10: =_xlfn.ISOWEEKNUM(M12) -> 41 | N10: =_xlfn.ISOWEEKNUM(N12) -> 41 | ... AK10: =_xlfn.ISOWEEKNUM(AK12) -> 44
G11: =DATE(T2,MONTH(X2),1) -> 48488 | H11: =DAY(H12) -> 2 | I11: =DAY(I12) -> 3 | J11: =DAY(J12) -> 4 | K11: =DAY(K12) -> 5 | L11: =DAY(L12) -> 6 | M11: =DAY(M12) -> 7 | N11: =DAY(N12) -> 8 | O11: =DAY(O12) -> 9 | ... AK11: =DAY(AK12) -> 31
G12: =X2 -> 48488 | H12: =IF(G12<>"",IF(MONTH(G12+1)=MONTH($G$12),G12+1,""),"") -> 48489 | I12: =IF(H12<>"",IF(MONTH(H12+1)=MONTH($G$12),H12+1,""),"") -> 48490 | J12: =IF(I12<>"",IF(MONTH(I12+1)=MONTH($G$12),I12+1,""),"") -> 48491 | K12: =IF(J12<>"",IF(MONTH(J12+1)=MONTH($G$12),J12+1,""),"") -> 48492 | L12: =IF(K12<>"",IF(MONTH(K12+1)=MONTH($G$12),K12+1,""),"") -> 48493 | M12: =IF(L12<>"",IF(MONTH(L12+1)=MONTH($G$12),L12+1,""),"") -> 48494 | N12: =IF(M12<>"",IF(MONTH(M12+1)=MONTH($G$12),M12+1,""),"") -> 48495 | O12: =IF(N12<>"",IF(MONTH(N12+1)=MONTH($G$12),N12+1,""),"") -> 48496 | ... AK12: =IF(AJ12<>"",IF(MONTH(AJ12+1)=MONTH($G$12),AJ12+1,""),"") -> 48518

Sheet Novembre
L2: Novembre | T2: =Janvier!T2 -> 2032 | W2: du | X2: =DATE(T2,11,1) -> 48519
W3: au | X3: =EOMONTH(X2,0) -> 48548
G5: ="Période du "&TEXT(X2,"jj Mmmm aaaa")&" au "&TEXT(X3,"jj Mmmm aaaa") -> Période du 01 novembre 2032 au 30 novembre 2032
G10: =_xlfn.ISOWEEKNUM(G12) -> 45 | H10: =_xlfn.ISOWEEKNUM(H12) -> 45 | I10: =_xlfn.ISOWEEKNUM(I12) -> 45 | J10: =_xlfn.ISOWEEKNUM(J12) -> 45 | K10: =_xlfn.ISOWEEKNUM(K12) -> 45 | L10: =_xlfn.ISOWEEKNUM(L12) -> 45 | M10: =_xlfn.ISOWEEKNUM(M12) -> 45 | N10: =_xlfn.ISOWEEKNUM(N12) -> 46 | ... AJ10: =_xlfn.ISOWEEKNUM(AJ12) -> 49
G11: =DATE(T2,MONTH(X2),1) -> 48519 | H11: =DAY(H12) -> 2 | I11: =DAY(I12) -> 3 | J11: =DAY(J12) -> 4 | K11: =DAY(K12) -> 5 | L11: =DAY(L12) -> 6 | M11: =DAY(M12) -> 7 | N11: =DAY(N12) -> 8 | O11: =DAY(O12) -> 9 | ... AJ11: =DAY(AJ12) -> 30
G12: =X2 -> 48519 | H12: =IF(G12<>"",IF(MONTH(G12+1)=MONTH($G$12),G12+1,""),"") -> 48520 | I12: =IF(H12<>"",IF(MONTH(H12+1)=MONTH($G$12),H12+1,""),"") -> 48521 | J12: =IF(I12<>"",IF(MONTH(I12+1)=MONTH($G$12),I12+1,""),"") -> 48522 | K12: =IF(J12<>"",IF(MONTH(J12+1)=MONTH($G$12),J12+1,""),"") -> 48523 | L12: =IF(K12<>"",IF(MONTH(K12+1)=MONTH($G$12),K12+1,""),"") -> 48524 | M12: =IF(L12<>"",IF(MONTH(L12+1)=MONTH($G$12),L12+1,""),"") -> 48525 | N12: =IF(M12<>"",IF(MONTH(M12+1)=MONTH($G$12),M12+1,""),"") -> 48526 | O12: =IF(N12<>"",IF(MONTH(N12+1)=MONTH($G$12),N12+1,""),"") -> 48527 | ... AK12: =IF(AJ12<>"",IF(MONTH(AJ12+1)=MONTH($G$12),AJ12+1,""),"")

Sheet Décembre
L2: Décembre | T2: =Janvier!T2 -> 2032 | W2: du | X2: =DATE(T2,12,1) -> 48549
W3: au | X3: =EOMONTH(X2,0) -> 48579
G5: ="Période du "&TEXT(X2,"jj Mmmm aaaa")&" au "&TEXT(X3,"jj Mmmm aaaa") -> Période du 01 décembre 2032 au 31 décembre 2032
G10: =_xlfn.ISOWEEKNUM(G12) -> 49 | H10: =_xlfn.ISOWEEKNUM(H12) -> 49 | I10: =_xlfn.ISOWEEKNUM(I12) -> 49 | J10: =_xlfn.ISOWEEKNUM(J12) -> 49 | K10: =_xlfn.ISOWEEKNUM(K12) -> 49 | L10: =_xlfn.ISOWEEKNUM(L12) -> 50 | M10: =_xlfn.ISOWEEKNUM(M12) -> 50 | N10: =_xlfn.ISOWEEKNUM(N12) -> 50 | ... AK10: =_xlfn.ISOWEEKNUM(AK12) -> 53
G11: =DATE(T2,MONTH(X2),1) -> 48549 | H11: =DAY(H12) -> 2 | I11: =DAY(I12) -> 3 | J11: =DAY(J12) -> 4 | K11: =DAY(K12) -> 5 | L11: =DAY(L12) -> 6 | M11: =DAY(M12) -> 7 | N11: =DAY(N12) -> 8 | O11: =DAY(O12) -> 9 | ... AK11: =DAY(AK12) -> 31
G12: =X2 -> 48549 | H12: =IF(G12<>"",IF(MONTH(G12+1)=MONTH($G$12),G12+1,""),"") -> 48550 | I12: =IF(H12<>"",IF(MONTH(H12+1)=MONTH($G$12),H12+1,""),"") -> 48551 | J12: =IF(I12<>"",IF(MONTH(I12+1)=MONTH($G$12),I12+1,""),"") -> 48552 | K12: =IF(J12<>"",IF(MONTH(J12+1)=MONTH($G$12),J12+1,""),"") -> 48553 | L12: =IF(K12<>"",IF(MONTH(K12+1)=MONTH($G$12),K12+1,""),"") -> 48554 | M12: =IF(L12<>"",IF(MONTH(L12+1)=MONTH($G$12),L12+1,""),"") -> 48555 | N12: =IF(M12<>"",IF(MONTH(M12+1)=MONTH($G$12),M12+1,""),"") -> 48556 | O12: =IF(N12<>"",IF(MONTH(N12+1)=MONTH($G$12),N12+1,""),"") -> 48557 | ... AK12: =IF(AJ12<>"",IF(MONTH(AJ12+1)=MONTH($G$12),AJ12+1,""),"") -> 48579

Sheet Données
