Workbook
Name Loxo: Références!$A$101:$A$102

Sheet Feuil2
A1: Colonne1 | B1: Colonne2 | C1: Colonne3 | D1: Colonne4 | E1: Colonne5 | F1: Colonne6 | G1: Colonne7 | H1: Colonne8 | I1: Colonne9 | J1: Colonne10 | K1: Colonne11 | L1: Colonne12 | M1: Colonne13 | N1: Colonne14 | O1: Colonne15 | P1: Colonne16 | Q1: Colonne17 | R1: Colonne18 | S1: Colonne19 | T1: Colonne20 | U1: Colonne21 | V1: Colonne22 | W1: Colonne23 | X1: Colonne24 | Y1: Colonne25 | Z1: Colonne26 | AA1: Colonne27 | AB1: Colonne28 | AC1: Colonne29 | AD1: Colonne30 | AE1: Colonne31 | AF1: Colonne32 | AG1: Colonne33 | AH1: Colonne34 | AI1: Colonne35 | AJ1: Colonne36 | AK1: Colonne37 | AL1: Colonne38 | AM1: Colonne39 | AN1: Colonne40 | AO1: Colonne41 | AP1: Colonne42 | AQ1: Colonne43 | AR1: Colonne44 | AS1: Colonne45 | AT1: Colonne46 | AU1: Colonne47 | AV1: Colonne48 | AW1: Colonne49 | AX1: Colonne50 | AY1: Colonne51 | AZ1: Colonne52 | BA1: Colonne53 | BB1: Colonne54 | BC1: Colonne55 | BD1: Colonne56 | BE1: Colonne57 | BF1: Colonne58 | BG1: Colonne59 | BH1: Colonne60 | BI1: Colonne61 | BJ1: Colonne62 | BK1: Colonne63 | BL1: Colonne64 | BM1: Colonne65 | BN1: Colonne66 | BO1: Colonne67 | BP1: Colonne68
C2: Latitude | F2: Longitude | V2: Mercator | AA2: Plane | AC2: Ortho | BB2: Effets vents | BG2: effet courants | BN2: Temps
A3: No. | B3: Degrés | C3: Minutes | D3: N/S | E3: Degrés2 | F3: Minutes3 | G3: W/E | H3: Lat. Deg. | I3: Lat. Valeurs radiants | J3: Lat Radian signe | K3: Lg Deg. | L3: Lg Valeurs radiant | M3: MP | N3: DMP | O3: D.Lat (min) | P3: D.Lat S Corr | Q3: D.Long (min) | R3: D.long S corr | S3: D.Lat | T3: D.Long | U3: R (Mercator) | V3: R Merc. Cap. | W3: M (Mercator) | X3: Lat moy. (deg.) | Y3: DEP | Z3: R (plane) | AA3: R plane Cap. | AB3: M Plane | AC3: Ro | AD3: Ro Cap | AE3: Mo | AF3: Type of sailing | AG3: Cap | AH3: Distance | AI3: angle | AJ3: Cap courant | AK3: Angle courant | AL3: x eau og. | AM3: y eau og | AN3: y derive og | AO3: x derive og | AP3: Choix | AQ3: y'' Route eau | AR3: y' derive | AS3: x'' route eau | AT3: x' derive | AU3: y total | AV3: x total | AW3: angle | AX3: angle vecteur | AY3: difference | AZ3: Beaufort | BA3: Ft | BB3: direction | BC3: Vitesse optimale | BD3: V. Manuelle | BE3: gisement | BF3: vitesse | BG3: V. fond | BH3: route fond | BI3: ordre de barre | BJ3: attente (min) | BK3: Temps | BL3: ZD | BM3: ZD' | BN3: Temps4 | BO3: Colonne5 | BP3: ETA (GMT)
A4: 1 | B4: 2 | C4: 14.508 | D4: S | E4: 79 | F4: 52.55 | G4: W | H4: =(C4/60)+B4 -> 2.2418 | I4: =RADIANS(H4) -> 0.039126791 | J4: =IF(D4="S",I4,I4*-1) -> 0.039126791 | K4: =(F4/60)+E4 -> 79.875833 | L4: =RADIANS(K4) -> 1.3940963 | M4: =7915.704468*LOG((TAN((RADIANS(45)+(I4/2)))))-23.268932*SIN(I4)-0.0525*(SIN(I4)^3)*(SIN(I4)^5) -> 133.63213 | N4: {=_xlfn.IFS(D4<>OFFSET(D4,1,),M4+OFFSET(M4,1,),OFFSET(M4,1,)-M4<0,(OFFSET(M4,1,)-M4)*-1,OFFSET(M4,1,)-M4>0,OFFSET(M4,1,)-M4)} -> 2.6560158 | O4: =(DEGREES(IF(D4=D5,I5-I4,I4+I5)))*60 -> 2.672 | P4: =_xlfn.IFS(AND(D5="N",D4<>D5,O4>0),O4*-1,AND(D5="N",D4=D5,O4<0),O4*-1,AND(D5="S",D4=D5,O4>0),O4,AND(D5="S",D4<>D5,O4<0),O4,AND(D5="N",D5<>D4,O4<0),O4*-1,AND(D5="N",D5=D4,O4<0),O4*-1,AND(D5="S",D4=D5,O4<0),O4,AND(D5="N",D5=D4,O4>0),O4*-1) -> 2.672 | Q4: =(DEGREES(_xlfn.IFS(G4=G5,L5-L4,(L4+L5)>(RADIANS(180)),RADIANS(360)-(L4+L5),G4<>G5,L4+L5)))*60 -> -2.449 | R4: {=_xlfn.IFS(AND(G5="E",G5<>G4,L4+L5>(RADIANS(180)),Q4<0),Q4*-1,AND(G5="W",G5<>G4,L5+L4>(RADIANS(180)),Q4<0),Q4,AND(G5="E",G5<>G4,L5+L4>(RADIANS(180)),Q4>0),Q4,AND(G5="W",G5<>G4,L5+L4>(RADIANS(180)),Q4>0),Q4*-1,AND(G5="W",G5=G4,Q4<0),Q4,AND(G5="W",G5=G4,Q4>0),Q4,AND(G5="E",G5=G4,Q4<0),Q4*-1,AND(G5="E",G5=G4,Q4>0),Q4*-1,AND(G5="E",G5<>G4,Q4>0),Q4*-1,AND(G5="E",G5<>G4,Q4<0),Q4,AND(G5="W",G5<>G4,Q4>0),Q4,AND(G5="W",G5<>G4,Q4<0),Q4*-1)} -> -2.449 | S4: =IF(O4<0,-1*O4,O4) -> 2.672 | T4: =IF(Q4<0,-1*Q4,Q4) -> 2.449 | U4: =DEGREES(ATAN(T4/N4)) -> 42.677845 | V4: =_xlfn.IFS(AND(P4>0,R4>0),180+U4,AND(P4<0,R4>0),360-U4,AND(P4>0,R4<0),180-U4,AND(P4<0,R4<0),U4) -> 137.32215 | W4: =(S4/(COS(RADIANS(U4)))) -> 3.6345001 | X4: =AVERAGE(H4,H5) -> 2.2640667 | Y4: =(T4*(COS(RADIANS(X4)))) -> 2.4470882 | Z4: =DEGREES(ATAN(Y4/S4)) -> 42.484276 | AA4: =_xlfn.IFS(AND(P4>0,R4>0),180+Z4,AND(P4<0,R4>0),360-Z4,AND(P4>0,R4<0),180-Z4,AND(P4<0,R4<0),Z4) -> 137.51572 | AB4: =(S4/(COS(RADIANS(Z4)))) -> 3.623234 | AC4: =DEGREES(ACOS(((SIN(J5)-(SIN(J4))*(COS(RADIANS(AE4/60))))/(COS(J4)*SIN(RADIANS(AE4/60)))))) -> 42.483472 | AD4: =_xlfn.IFS(AND(P4>0,R4<0),180-AC4,AND(P4>0,R4>0),180+AC4,AND(P4<0,R4>0),180+AC4,AND(P4<0,R4<0),180-AC4) -> 137.51653 | AE4: =(DEGREES(ACOS((SIN(J4)*SIN(J5)+(COS(J4)*COS(J5)*COS(RADIANS(T4/60)))))))*60 -> 3.623234 | AF4: loxo | AG4: {=_xlfn.IFS(AH4=W4,V4,AH4=AB4,AA4,AH4=AE4,AD4)} -> 137.51572 | AH4: =_xlfn.IFS(AND(AF4="loxo",W4<600),AB4,AND(AF4="loxo",W4>600),W4,AND(B4>60,AF4="loxo"),W4,AF4="ortho",AE4) -> 3.623234 | AI4: =_xlfn.IFS(AND(AF4="loxo",W4>600),V4+BE4,AF4="ortho",AD4+BE4,AND(AF4="loxo",W4<600),AA4+BE4) -> 387.51572 | AJ4: =_xlfn.IFS(AI4>360,AI4-360,AI4<360,AI4) -> 27.515724 | AK4: =_xlfn.IFS(AJ4>270,AJ4-270,AJ4<90,90-AJ4,AJ4<180,AJ4-90,AJ4>180,270-AJ4) -> 62.484276 | AL4: =_xlfn.IFS(AND(AF4="loxo",W4>600),(SIN(RADIANS(U4))*BC4),AF4="ortho",(SIN(RADIANS(AC4))*BC4),AND(AF4="loxo",W4<600),(SIN(RADIANS(Z4))*BC4)) -> 10.413548 | AM4: =_xlfn.IFS(AND(AF4="loxo",W4>600),SQRT((BC4^2)-((SIN(RADIANS(U4))*BC4)^2)),AF4="ortho",SQRT((BC4^2)-((SIN(RADIANS(AC4))*BC4)^2)),AND(AF4="loxo",W4<600),SQRT((BC4^2)-((SIN(RADIANS(Z4))*BC4)^2))) -> 11.370656 | AN4: =(SIN(RADIANS(AK4))*BF4) -> 0 | AO4: =SQRT((BF4^2)-((SIN(RADIANS(AK4))*BF4)^2)) -> 0 | AP4: =_xlfn.IFS(AND(AF4="loxo",W4<600),AA4,AND(AF4="loxo",W4>600),V4,AND(B4>60,AF4="loxo"),V4,AF4="ortho",AD4) -> 137.51572 | AQ4: =_xlfn.IFS(AP4>270,AM4,AP4<90,AM4,AP4<270,AM4*-1,AP4>90,AM4*-1) -> -11.370656 | AR4: =_xlfn.IFS(AJ4>270,AN4,AJ4<90,AN4,AJ4<270,AN4*-1,AJ4>90,AN4*-1) -> 0 | AS4: =_xlfn.IFS(AND(AP4>180,AP4<360),AL4*-1,AND(AP4<180,AP4>0),AL4) -> 10.413548 | AT4: =_xlfn.IFS(AJ4>180,AO4*-1,AJ4<180,AO4,AJ4=0,AO4,AJ4=360,AO4) -> 0 | AU4: =(AQ4+AR4) -> -11.370656 | AV4: =(AS4+AT4) -> 10.413548 | AW4: =DEGREES(ATAN(AV4/AU4)) -> -42.484276 | AX4: =_xlfn.IFS((DEGREES(ATAN(AV4/AU4)))<0,(DEGREES(ATAN(AV4/AU4)))*-1,DEGREES(ATAN(AV4/AU4))>0,(DEGREES(ATAN(AV4/AU4)))) -> 42.484276 | AY4: =_xlfn.IFS(AND(AF4="loxo",W4<600),BH4-AA4,AND(AF4="loxo",W4>600),BH4-V4,AND(B4>60,AF4="loxo"),BH4-V4,AF4="ortho",BH4-AD4) -> 0 | AZ4: 1 | BA4: =_xlfn.IFS(AZ4=1,Références!$B$80,AZ4=2,Références!$B$81,AZ4=3,Références!$B$82,AZ4=4,Références!$B$83,AZ4=5,Références!$B$84,AZ4=6,Références!$B$85,AZ4=7,Références!$B$86,AZ4=8,Références!$B$87,AZ4=9,Références!$B$88,AZ4=10,Références!$B$89,AZ4=11,Références!$B$90,AZ4=12,Références!$B$91) -> 1 | BB4: Beam | BC4: {=_xlfn.IFS(BB4="Beam", -0.0000000868778*BA4^5-0.0000459619*BA4^4+0.00347366*BA4^3-0.0884721*BA4^2+0.510463*BA4+14.9932,BB4="Following",0.000652681*BA4^3-0.0356523*BA4^2+0.29714*BA4+15.2038,BB4="Head",-0.00000154449*BA4^5+0.0000797696*BA4^4+0.000148965*BA4^3-0.0570448*BA4^2+0.244115*BA4+15.0029)} -> 15.418619 | BE4: 250 | BF4: 0 | BG4: =IF(BD4=0,SQRT((AU4^2)+(AV4^2)),SQRT((AU4^2)+(AV4^2))) -> 15.418619 | BH4: =_xlfn.IFS(AND(AV4>0,AU4>0),AX4,AND(AV4<0,AU4>0),360-AX4,AND(AV4>0,AU4<0),180-AX4,AND(AV4<0,AU4<0),180+AX4) -> 137.51572 | BI4: =(AP4-AY4) -> 137.51572 | BK4: =IF(BJ4=0,(AH4/BG4)*60,((AH4/BG4)*60)+BJ4) -> 14.09945 | BL4: =IF(G4="W",(ROUND((E4/15),0))*-1,(ROUND((E4/15),0))) -> -5 | BM4: =IF(BL4<0,((BL4*-1)/24),BL4/24) -> 0.20833333 | BN4: =IF(BJ4=0,BK4/(60*24),(BK4/(60*24))+(BJ4/(60*24))) -> 0.0097912848 | BO4: =C51 -> 44927.432 | BP4: =IF(BL4<0,C51+BM4,C51-BM4) -> 44927.64
A5: 2 | B5: 2 | C5: 17.18 | D5: S | E5: 79 | F5: 50.101 | G5: W | H5: =(C5/60)+B5 -> 2.2863333 | I5: =RADIANS(H5) -> 0.039904044 | J5: =IF(D5="S",I5,I5*-1) -> 0.039904044 | K5: =(F5/60)+E5 -> 79.835017 | L5: =RADIANS(K5) -> 1.3933839 | M5: =7915.704468*LOG((TAN((RADIANS(45)+(I5/2)))))-23.268932*SIN(I5)-0.0525*(SIN(I5)^3)*(SIN(I5)^5) -> 136.28814 | N5: {=_xlfn.IFS(D5<>OFFSET(D5,1,),M5+OFFSET(M5,1,),OFFSET(M5,1,)-M5<0,(OFFSET(M5,1,)-M5)*-1,OFFSET(M5,1,)-M5>0,OFFSET(M5,1,)-M5)} -> 4.82816 | O5: =(DEGREES(IF(D5=D6,I6-I5,I5+I6)))*60 -> 4.857 | P5: =_xlfn.IFS(AND(D6="N",D5<>D6,O5>0),O5*-1,AND(D6="N",D5=D6,O5<0),O5*-1,AND(D6="S",D5=D6,O5>0),O5,AND(D6="S",D5<>D6,O5<0),O5,AND(D6="N",D6<>D5,O5<0),O5*-1,AND(D6="N",D6=D5,O5<0),O5*-1,AND(D6="S",D5=D6,O5<0),O5,AND(D6="N",D6=D5,O5>0),O5*-1) -> 4.857 | Q5: =(DEGREES(_xlfn.IFS(G5=G6,L6-L5,(L5+L6)>(RADIANS(180)),RADIANS(360)-(L5+L6),G5<>G6,L5+L6)))*60 -> -0.068 | R5: {=_xlfn.IFS(AND(G6="E",G6<>G5,L5+L6>(RADIANS(180)),Q5<0),Q5*-1,AND(G6="W",G6<>G5,L6+L5>(RADIANS(180)),Q5<0),Q5,AND(G6="E",G6<>G5,L6+L5>(RADIANS(180)),Q5>0),Q5,AND(G6="W",G6<>G5,L6+L5>(RADIANS(180)),Q5>0),Q5*-1,AND(G6="W",G6=G5,Q5<0),Q5,AND(G6="W",G6=G5,Q5>0),Q5,AND(G6="E",G6=G5,Q5<0),Q5*-1,AND(G6="E",G6=G5,Q5>0),Q5*-1,AND(G6="E",G6<>G5,Q5>0),Q5*-1,AND(G6="E",G6<>G5,Q5<0),Q5,AND(G6="W",G6<>G5,Q5>0),Q5,AND(G6="W",G6<>G5,Q5<0),Q5*-1)} -> -0.068 | S5: =IF(O5<0,-1*O5,O5) -> 4.857 | T5: =IF(Q5<0,-1*Q5,Q5) -> 0.068 | U5: =DEGREES(ATAN(T5/N5)) -> 0.80690272 | V5: =_xlfn.IFS(AND(P5>0,R5>0),180+U5,AND(P5<0,R5>0),360-U5,AND(P5>0,R5<0),180-U5,AND(P5<0,R5<0),U5) -> 179.1931 | W5: =(S5/(COS(RADIANS(U5)))) -> 4.8574817 | X5: =AVERAGE(H5,H6) -> 2.3268083 | Y5: =(T5*(COS(RADIANS(X5)))) -> 0.067943935 | Z5: =DEGREES(ATAN(Y5/S5)) -> 0.80145085 | AA5: =_xlfn.IFS(AND(P5>0,R5>0),180+Z5,AND(P5<0,R5>0),360-Z5,AND(P5>0,R5<0),180-Z5,AND(P5<0,R5<0),Z5) -> 179.19855 | AB5: =(S5/(COS(RADIANS(Z5)))) -> 4.8574752 | AC5: =DEGREES(ACOS(((SIN(J6)-(SIN(J5))*(COS(RADIANS(AE5/60))))/(COS(J5)*SIN(RADIANS(AE5/60)))))) -> 0.80142798 | AD5: =_xlfn.IFS(AND(P5>0,R5<0),180-AC5,AND(P5>0,R5>0),180+AC5,AND(P5<0,R5>0),180+AC5,AND(P5<0,R5<0),180-AC5) -> 179.19857 | AE5: =(DEGREES(ACOS((SIN(J5)*SIN(J6)+(COS(J5)*COS(J6)*COS(RADIANS(T5/60)))))))*60 -> 4.8574752 | AF5: loxo | AG5: {=_xlfn.IFS(AH5=W5,V5,AH5=AB5,AA5,AH5=AE5,AD5)} -> 179.19855 | AH5: =_xlfn.IFS(AND(AF5="loxo",W5<600),AB5,AND(AF5="loxo",W5>600),W5,AND(B5>60,AF5="loxo"),W5,AF5="ortho",AE5) -> 4.8574752 | AI5: =_xlfn.IFS(AND(AF5="loxo",W5>600),V5+BE5,AF5="ortho",AD5+BE5,AND(AF5="loxo",W5<600),AA5+BE5) -> 429.19855 | AJ5: =_xlfn.IFS(AI5>360,AI5-360,AI5<360,AI5) -> 69.198549 | AK5: =_xlfn.IFS(AJ5>270,AJ5-270,AJ5<90,90-AJ5,AJ5<180,AJ5-90,AJ5>180,270-AJ5) -> 20.801451 | AL5: =_xlfn.IFS(AND(AF5="loxo",W5>600),(SIN(RADIANS(U5))*BC5),AF5="ortho",(SIN(RADIANS(AC5))*BC5),AND(AF5="loxo",W5<600),(SIN(RADIANS(Z5))*BC5)) -> 0.21566793 | AM5: =_xlfn.IFS(AND(AF5="loxo",W5>600),SQRT((BC5^2)-((SIN(RADIANS(U5))*BC5)^2)),AF5="ortho",SQRT((BC5^2)-((SIN(RADIANS(AC5))*BC5)^2)),AND(AF5="loxo",W5<600),SQRT((BC5^2)-((SIN(RADIANS(Z5))*BC5)^2))) -> 15.41711 | AN5: =(SIN(RADIANS(AK5))*BF5) -> 0 | AO5: =SQRT((BF5^2)-((SIN(RADIANS(AK5))*BF5)^2)) -> 0 | AP5: =_xlfn.IFS(AND(AF5="loxo",W5<600),AA5,AND(AF5="loxo",W5>600),V5,AND(B5>60,AF5="loxo"),V5,AF5="ortho",AD5) -> 179.19855 | AQ5: =_xlfn.IFS(AP5>270,AM5,AP5<90,AM5,AP5<270,AM5*-1,AP5>90,AM5*-1) -> -15.41711 | AR5: =_xlfn.IFS(AJ5>270,AN5,AJ5<90,AN5,AJ5<270,AN5*-1,AJ5>90,AN5*-1) -> 0 | AS5: =_xlfn.IFS(AND(AP5>180,AP5<360),AL5*-1,AND(AP5<180,AP5>0),AL5) -> 0.21566793 | AT5: =_xlfn.IFS(AJ5>180,AO5*-1,AJ5<180,AO5,AJ5=0,AO5,AJ5=360,AO5) -> 0 | AU5: =(AQ5+AR5) -> -15.41711 | AV5: =(AS5+AT5) -> 0.21566793 | AW5: =DEGREES(ATAN(AV5/AU5)) -> -0.80145085 | AX5: =_xlfn.IFS((DEGREES(ATAN(AV5/AU5)))<0,(DEGREES(ATAN(AV5/AU5)))*-1,DEGREES(ATAN(AV5/AU5))>0,(DEGREES(ATAN(AV5/AU5)))) -> 0.80145085 | AY5: =_xlfn.IFS(AND(AF5="loxo",W5<600),BH5-AA5,AND(AF5="loxo",W5>600),BH5-V5,AND(B5>60,AF5="loxo"),BH5-V5,AF5="ortho",BH5-AD5) -> 0 | AZ5: 1 | BA5: =_xlfn.IFS(AZ5=1,Références!$B$80,AZ5=2,Références!$B$81,AZ5=3,Références!$B$82,AZ5=4,Références!$B$83,AZ5=5,Références!$B$84,AZ5=6,Références!$B$85,AZ5=7,Références!$B$86,AZ5=8,Références!$B$87,AZ5=9,Références!$B$88,AZ5=10,Références!$B$89,AZ5=11,Références!$B$90,AZ5=12,Références!$B$91) -> 1 | BB5: Beam | BC5: {=_xlfn.IFS(BB5="Beam", -0.0000000868778*BA5^5-0.0000459619*BA5^4+0.00347366*BA5^3-0.0884721*BA5^2+0.510463*BA5+14.9932,BB5="Following",0.000652681*BA5^3-0.0356523*BA5^2+0.29714*BA5+15.2038,BB5="Head",-0.00000154449*BA5^5+0.0000797696*BA5^4+0.000148965*BA5^3-0.0570448*BA5^2+0.244115*BA5+15.0029)} -> 15.418619 | BE5: 250 | BF5: 0 | BG5: =IF(BD5=0,SQRT((AU5^2)+(AV5^2)),SQRT((AU5^2)+(AV5^2))) -> 15.418619 | BH5: =_xlfn.IFS(AND(AV5>0,AU5>0),AX5,AND(AV5<0,AU5>0),360-AX5,AND(AV5>0,AU5<0),180-AX5,AND(AV5<0,AU5<0),180+AX5) -> 179.19855 | BI5: =(AP5-AY5) -> 179.19855 | BK5: =IF(BJ5=0,(AH5/BG5)*60,((AH5/BG5)*60)+BJ5) -> 18.902375 | BL5: =IF(G5="W",(ROUND((E5/15),0))*-1,(ROUND((E5/15),0))) -> -5 | BM5: =IF(BL5<0,((BL5*-1)/24),BL5/24) -> 0.20833333 | BN5: =IF(BJ5=0,BK5/(60*24),(BK5/(60*24))+(BJ5/(60*24))) -> 0.013126649 | BO5: =BO4+BN4 -> 44927.442 | BP5: =BP4+BN4 -> 44927.65
A6: 3 | B6: 2 | C6: 22.037 | D6: S | E6: 79 | F6: 50.033 | G6: W | H6: =(C6/60)+B6 -> 2.3672833 | I6: =RADIANS(H6) -> 0.041316888 | J6: =IF(D6="S",I6,I6*-1) -> 0.041316888 | K6: =(F6/60)+E6 -> 79.833883 | L6: =RADIANS(K6) -> 1.3933641 | M6: =7915.704468*LOG((TAN((RADIANS(45)+(I6/2)))))-23.268932*SIN(I6)-0.0525*(SIN(I6)^3)*(SIN(I6)^5) -> 141.1163 | N6: {=_xlfn.IFS(D6<>OFFSET(D6,1,),M6+OFFSET(M6,1,),OFFSET(M6,1,)-M6<0,(OFFSET(M6,1,)-M6)*-1,OFFSET(M6,1,)-M6>0,OFFSET(M6,1,)-M6)} -> 7.8228863 | O6: =(DEGREES(IF(D6=D7,I7-I6,I6+I7)))*60 -> 7.869 | P6: =_xlfn.IFS(AND(D7="N",D6<>D7,O6>0),O6*-1,AND(D7="N",D6=D7,O6<0),O6*-1,AND(D7="S",D6=D7,O6>0),O6,AND(D7="S",D6<>D7,O6<0),O6,AND(D7="N",D7<>D6,O6<0),O6*-1,AND(D7="N",D7=D6,O6<0),O6*-1,AND(D7="S",D6=D7,O6<0),O6,AND(D7="N",D7=D6,O6>0),O6*-1) -> 7.869 | Q6: =(DEGREES(_xlfn.IFS(G6=G7,L7-L6,(L6+L7)>(RADIANS(180)),RADIANS(360)-(L6+L7),G6<>G7,L6+L7)))*60 -> 1.886 | R6: {=_xlfn.IFS(AND(G7="E",G7<>G6,L6+L7>(RADIANS(180)),Q6<0),Q6*-1,AND(G7="W",G7<>G6,L7+L6>(RADIANS(180)),Q6<0),Q6,AND(G7="E",G7<>G6,L7+L6>(RADIANS(180)),Q6>0),Q6,AND(G7="W",G7<>G6,L7+L6>(RADIANS(180)),Q6>0),Q6*-1,AND(G7="W",G7=G6,Q6<0),Q6,AND(G7="W",G7=G6,Q6>0),Q6,AND(G7="E",G7=G6,Q6<0),Q6*-1,AND(G7="E",G7=G6,Q6>0),Q6*-1,AND(G7="E",G7<>G6,Q6>0),Q6*-1,AND(G7="E",G7<>G6,Q6<0),Q6,AND(G7="W",G7<>G6,Q6>0),Q6,AND(G7="W",G7<>G6,Q6<0),Q6*-1)} -> 1.886 | S6: =IF(O6<0,-1*O6,O6) -> 7.869 | T6: =IF(Q6<0,-1*Q6,Q6) -> 1.886 | U6: =DEGREES(ATAN(T6/N6)) -> 13.554634 | V6: =_xlfn.IFS(AND(P6>0,R6>0),180+U6,AND(P6<0,R6>0),360-U6,AND(P6>0,R6<0),180-U6,AND(P6<0,R6<0),U6) -> 193.55463 | W6: =(S6/(COS(RADIANS(U6)))) -> 8.0944559 | X6: =AVERAGE(H6,H7) -> 2.4328583 | Y6: =(T6*(COS(RADIANS(X6)))) -> 1.8843001 | Z6: =DEGREES(ATAN(Y6/S6)) -> 13.466401 | AA6: =_xlfn.IFS(AND(P6>0,R6>0),180+Z6,AND(P6<0,R6>0),360-Z6,AND(P6>0,R6<0),180-Z6,AND(P6<0,R6<0),Z6) -> 193.4664 | AB6: =(S6/(COS(RADIANS(Z6)))) -> 8.0914614 | AC6: =DEGREES(ACOS(((SIN(J7)-(SIN(J6))*(COS(RADIANS(AE6/60))))/(COS(J6)*SIN(RADIANS(AE6/60)))))) -> 13.465737 | AD6: =_xlfn.IFS(AND(P6>0,R6<0),180-AC6,AND(P6>0,R6>0),180+AC6,AND(P6<0,R6>0),180+AC6,AND(P6<0,R6<0),180-AC6) -> 193.46574 | AE6: =(DEGREES(ACOS((SIN(J6)*SIN(J7)+(COS(J6)*COS(J7)*COS(RADIANS(T6/60)))))))*60 -> 8.0914613 | AF6: loxo | AG6: {=_xlfn.IFS(AH6=W6,V6,AH6=AB6,AA6,AH6=AE6,AD6)} -> 193.4664 | AH6: =_xlfn.IFS(AND(AF6="loxo",W6<600),AB6,AND(AF6="loxo",W6>600),W6,AND(B6>60,AF6="loxo"),W6,AF6="ortho",AE6) -> 8.0914614 | AI6: =_xlfn.IFS(AND(AF6="loxo",W6>600),V6+BE6,AF6="ortho",AD6+BE6,AND(AF6="loxo",W6<600),AA6+BE6) -> 443.4664 | AJ6: =_xlfn.IFS(AI6>360,AI6-360,AI6<360,AI6) -> 83.466401 | AK6: =_xlfn.IFS(AJ6>270,AJ6-270,AJ6<90,90-AJ6,AJ6<180,AJ6-90,AJ6>180,270-AJ6) -> 6.5335985 | AL6: =_xlfn.IFS(AND(AF6="loxo",W6>600),(SIN(RADIANS(U6))*BC6),AF6="ortho",(SIN(RADIANS(AC6))*BC6),AND(AF6="loxo",W6<600),(SIN(RADIANS(Z6))*BC6)) -> 3.5906127 | AM6: =_xlfn.IFS(AND(AF6="loxo",W6>600),SQRT((BC6^2)-((SIN(RADIANS(U6))*BC6)^2)),AF6="ortho",SQRT((BC6^2)-((SIN(RADIANS(AC6))*BC6)^2)),AND(AF6="loxo",W6<600),SQRT((BC6^2)-((SIN(RADIANS(Z6))*BC6)^2))) -> 14.994709 | AN6: =(SIN(RADIANS(AK6))*BF6) -> 0 | AO6: =SQRT((BF6^2)-((SIN(RADIANS(AK6))*BF6)^2)) -> 0 | AP6: =_xlfn.IFS(AND(AF6="loxo",W6<600),AA6,AND(AF6="loxo",W6>600),V6,AND(B6>60,AF6="loxo"),V6,AF6="ortho",AD6) -> 193.4664 | AQ6: =_xlfn.IFS(AP6>270,AM6,AP6<90,AM6,AP6<270,AM6*-1,AP6>90,AM6*-1) -> -14.994709 | AR6: =_xlfn.IFS(AJ6>270,AN6,AJ6<90,AN6,AJ6<270,AN6*-1,AJ6>90,AN6*-1) -> 0 | AS6: =_xlfn.IFS(AND(AP6>180,AP6<360),AL6*-1,AND(AP6<180,AP6>0),AL6) -> -3.5906127 | AT6: =_xlfn.IFS(AJ6>180,AO6*-1,AJ6<180,AO6,AJ6=0,AO6,AJ6=360,AO6) -> 0 | AU6: =(AQ6+AR6) -> -14.994709 | AV6: =(AS6+AT6) -> -3.5906127 | AW6: =DEGREES(ATAN(AV6/AU6)) -> 13.466401 | AX6: =_xlfn.IFS((DEGREES(ATAN(AV6/AU6)))<0,(DEGREES(ATAN(AV6/AU6)))*-1,DEGREES(ATAN(AV6/AU6))>0,(DEGREES(ATAN(AV6/AU6)))) -> 13.466401 | AY6: =_xlfn.IFS(AND(AF6="loxo",W6<600),BH6-AA6,AND(AF6="loxo",W6>600),BH6-V6,AND(B6>60,AF6="loxo"),BH6-V6,AF6="ortho",BH6-AD6) -> 0 | AZ6: 1 | BA6: =_xlfn.IFS(AZ6=1,Références!$B$80,AZ6=2,Références!$B$81,AZ6=3,Références!$B$82,AZ6=4,Références!$B$83,AZ6=5,Références!$B$84,AZ6=6,Références!$B$85,AZ6=7,Références!$B$86,AZ6=8,Références!$B$87,AZ6=9,Références!$B$88,AZ6=10,Références!$B$89,AZ6=11,Références!$B$90,AZ6=12,Références!$B$91) -> 1 | BB6: Beam | BC6: {=_xlfn.IFS(BB6="Beam", -0.0000000868778*BA6^5-0.0000459619*BA6^4+0.00347366*BA6^3-0.0884721*BA6^2+0.510463*BA6+14.9932,BB6="Following",0.000652681*BA6^3-0.0356523*BA6^2+0.29714*BA6+15.2038,BB6="Head",-0.00000154449*BA6^5+0.0000797696*BA6^4+0.000148965*BA6^3-0.0570448*BA6^2+0.244115*BA6+15.0029)} -> 15.418619 | BE6: 250 | BF6: 0 | BG6: =IF(BD6=0,SQRT((AU6^2)+(AV6^2)),SQRT((AU6^2)+(AV6^2))) -> 15.418619 | BH6: =_xlfn.IFS(AND(AV6>0,AU6>0),AX6,AND(AV6<0,AU6>0),360-AX6,AND(AV6>0,AU6<0),180-AX6,AND(AV6<0,AU6<0),180+AX6) -> 193.4664 | BI6: =(AP6-AY6) -> 193.4664 | BK6: =IF(BJ6=0,(AH6/BG6)*60,((AH6/BG6)*60)+BJ6) -> 31.487107 | BL6: =IF(G6="W",(ROUND((E6/15),0))*-1,(ROUND((E6/15),0))) -> -5 | BM6: =IF(BL6<0,((BL6*-1)/24),BL6/24) -> 0.20833333 | BN6: =IF(BJ6=0,BK6/(60*24),(BK6/(60*24))+(BJ6/(60*24))) -> 0.021866046 | BO6: =BO5+BN5 -> 44927.455 | BP6: =BP5+BN5 -> 44927.663
A7: 4 | B7: 2 | C7: 29.906 | D7: S | E7: 79 | F7: 51.919 | G7: W | H7: =(C7/60)+B7 -> 2.4984333 | I7: =RADIANS(H7) -> 0.043605888 | J7: =IF(D7="S",I7,I7*-1) -> 0.043605888 | K7: =(F7/60)+E7 -> 79.865317 | L7: =RADIANS(K7) -> 1.3939127 | M7: =7915.704468*LOG((TAN((RADIANS(45)+(I7/2)))))-23.268932*SIN(I7)-0.0525*(SIN(I7)^3)*(SIN(I7)^5) -> 148.93919 | N7: {=_xlfn.IFS(D7<>OFFSET(D7,1,),M7+OFFSET(M7,1,),OFFSET(M7,1,)-M7<0,(OFFSET(M7,1,)-M7)*-1,OFFSET(M7,1,)-M7>0,OFFSET(M7,1,)-M7)} -> 4.3417477 | O7: =(DEGREES(IF(D7=D8,I8-I7,I7+I8)))*60 -> 4.367 | P7: =_xlfn.IFS(AND(D8="N",D7<>D8,O7>0),O7*-1,AND(D8="N",D7=D8,O7<0),O7*-1,AND(D8="S",D7=D8,O7>0),O7,AND(D8="S",D7<>D8,O7<0),O7,AND(D8="N",D8<>D7,O7<0),O7*-1,AND(D8="N",D8=D7,O7<0),O7*-1,AND(D8="S",D7=D8,O7<0),O7,AND(D8="N",D8=D7,O7>0),O7*-1) -> 4.367 | Q7: =(DEGREES(_xlfn.IFS(G7=G8,L8-L7,(L7+L8)>(RADIANS(180)),RADIANS(360)-(L7+L8),G7<>G8,L7+L8)))*60 -> 1.281 | R7: {=_xlfn.IFS(AND(G8="E",G8<>G7,L7+L8>(RADIANS(180)),Q7<0),Q7*-1,AND(G8="W",G8<>G7,L8+L7>(RADIANS(180)),Q7<0),Q7,AND(G8="E",G8<>G7,L8+L7>(RADIANS(180)),Q7>0),Q7,AND(G8="W",G8<>G7,L8+L7>(RADIANS(180)),Q7>0),Q7*-1,AND(G8="W",G8=G7,Q7<0),Q7,AND(G8="W",G8=G7,Q7>0),Q7,AND(G8="E",G8=G7,Q7<0),Q7*-1,AND(G8="E",G8=G7,Q7>0),Q7*-1,AND(G8="E",G8<>G7,Q7>0),Q7*-1,AND(G8="E",G8<>G7,Q7<0),Q7,AND(G8="W",G8<>G7,Q7>0),Q7,AND(G8="W",G8<>G7,Q7<0),Q7*-1)} -> 1.281 | S7: =IF(O7<0,-1*O7,O7) -> 4.367 | T7: =IF(Q7<0,-1*Q7,Q7) -> 1.281 | U7: =DEGREES(ATAN(T7/N7)) -> 16.438298 | V7: =_xlfn.IFS(AND(P7>0,R7>0),180+U7,AND(P7<0,R7>0),360-U7,AND(P7>0,R7<0),180-U7,AND(P7<0,R7<0),U7) -> 196.4383 | W7: =(S7/(COS(RADIANS(U7)))) -> 4.5531081 | X7: =AVERAGE(H7,H8) -> 2.534825 | Y7: =(T7*(COS(RADIANS(X7)))) -> 1.2797466 | Z7: =DEGREES(ATAN(Y7/S7)) -> 16.333189 | AA7: =_xlfn.IFS(AND(P7>0,R7>0),180+Z7,AND(P7<0,R7>0),360-Z7,AND(P7>0,R7<0),180-Z7,AND(P7<0,R7<0),Z7) -> 196.33319 | AB7: =(S7/(COS(RADIANS(Z7)))) -> 4.5506527 | AC7: =DEGREES(ACOS(((SIN(J8)-(SIN(J7))*(COS(RADIANS(AE7/60))))/(COS(J7)*SIN(RADIANS(AE7/60)))))) -> 16.332718 | AD7: =_xlfn.IFS(AND(P7>0,R7<0),180-AC7,AND(P7>0,R7>0),180+AC7,AND(P7<0,R7>0),180+AC7,AND(P7<0,R7<0),180-AC7) -> 196.33272 | AE7: =(DEGREES(ACOS((SIN(J7)*SIN(J8)+(COS(J7)*COS(J8)*COS(RADIANS(T7/60)))))))*60 -> 4.5506527 | AF7: loxo | AG7: {=_xlfn.IFS(AH7=W7,V7,AH7=AB7,AA7,AH7=AE7,AD7)} -> 196.33319 | AH7: =_xlfn.IFS(AND(AF7="loxo",W7<600),AB7,AND(AF7="loxo",W7>600),W7,AND(B7>60,AF7="loxo"),W7,AF7="ortho",AE7) -> 4.5506527 | AI7: =_xlfn.IFS(AND(AF7="loxo",W7>600),V7+BE7,AF7="ortho",AD7+BE7,AND(AF7="loxo",W7<600),AA7+BE7) -> 446.33319 | AJ7: =_xlfn.IFS(AI7>360,AI7-360,AI7<360,AI7) -> 86.333189 | AK7: =_xlfn.IFS(AJ7>270,AJ7-270,AJ7<90,90-AJ7,AJ7<180,AJ7-90,AJ7>180,270-AJ7) -> 3.6668108 | AL7: =_xlfn.IFS(AND(AF7="loxo",W7>600),(SIN(RADIANS(U7))*BC7),AF7="ortho",(SIN(RADIANS(AC7))*BC7),AND(AF7="loxo",W7<600),(SIN(RADIANS(Z7))*BC7)) -> 4.3360646 | AM7: =_xlfn.IFS(AND(AF7="loxo",W7>600),SQRT((BC7^2)-((SIN(RADIANS(U7))*BC7)^2)),AF7="ortho",SQRT((BC7^2)-((SIN(RADIANS(AC7))*BC7)^2)),AND(AF7="loxo",W7<600),SQRT((BC7^2)-((SIN(RADIANS(Z7))*BC7)^2))) -> 14.796362 | AN7: =(SIN(RADIANS(AK7))*BF7) -> 0 | AO7: =SQRT((BF7^2)-((SIN(RADIANS(AK7))*BF7)^2)) -> 0 | AP7: =_xlfn.IFS(AND(AF7="loxo",W7<600),AA7,AND(AF7="loxo",W7>600),V7,AND(B7>60,AF7="loxo"),V7,AF7="ortho",AD7) -> 196.33319 | AQ7: =_xlfn.IFS(AP7>270,AM7,AP7<90,AM7,AP7<270,AM7*-1,AP7>90,AM7*-1) -> -14.796362 | AR7: =_xlfn.IFS(AJ7>270,AN7,AJ7<90,AN7,AJ7<270,AN7*-1,AJ7>90,AN7*-1) -> 0 | AS7: =_xlfn.IFS(AND(AP7>180,AP7<360),AL7*-1,AND(AP7<180,AP7>0),AL7) -> -4.3360646 | AT7: =_xlfn.IFS(AJ7>180,AO7*-1,AJ7<180,AO7,AJ7=0,AO7,AJ7=360,AO7) -> 0 | AU7: =(AQ7+AR7) -> -14.796362 | AV7: =(AS7+AT7) -> -4.3360646 | AW7: =DEGREES(ATAN(AV7/AU7)) -> 16.333189 | AX7: =_xlfn.IFS((DEGREES(ATAN(AV7/AU7)))<0,(DEGREES(ATAN(AV7/AU7)))*-1,DEGREES(ATAN(AV7/AU7))>0,(DEGREES(ATAN(AV7/AU7)))) -> 16.333189 | AY7: =_xlfn.IFS(AND(AF7="loxo",W7<600),BH7-AA7,AND(AF7="loxo",W7>600),BH7-V7,AND(B7>60,AF7="loxo"),BH7-V7,AF7="ortho",BH7-AD7) -> 0 | AZ7: 1 | BA7: =_xlfn.IFS(AZ7=1,Références!$B$80,AZ7=2,Références!$B$81,AZ7=3,Références!$B$82,AZ7=4,Références!$B$83,AZ7=5,Références!$B$84,AZ7=6,Références!$B$85,AZ7=7,Références!$B$86,AZ7=8,Références!$B$87,AZ7=9,Références!$B$88,AZ7=10,Références!$B$89,AZ7=11,Références!$B$90,AZ7=12,Références!$B$91) -> 1 | BB7: Beam | BC7: {=_xlfn.IFS(BB7="Beam", -0.0000000868778*BA7^5-0.0000459619*BA7^4+0.00347366*BA7^3-0.0884721*BA7^2+0.510463*BA7+14.9932,BB7="Following",0.000652681*BA7^3-0.0356523*BA7^2+0.29714*BA7+15.2038,BB7="Head",-0.00000154449*BA7^5+0.0000797696*BA7^4+0.000148965*BA7^3-0.0570448*BA7^2+0.244115*BA7+15.0029)} -> 15.418619 | BE7: 250 | BF7: 0 | BG7: =IF(BD7=0,SQRT((AU7^2)+(AV7^2)),SQRT((AU7^2)+(AV7^2))) -> 15.418619 | BH7: =_xlfn.IFS(AND(AV7>0,AU7>0),AX7,AND(AV7<0,AU7>0),360-AX7,AND(AV7>0,AU7<0),180-AX7,AND(AV7<0,AU7<0),180+AX7) -> 196.33319 | BI7: =(AP7-AY7) -> 196.33319 | BK7: =IF(BJ7=0,(AH7/BG7)*60,((AH7/BG7)*60)+BJ7) -> 17.708406 | BL7: =IF(G7="W",(ROUND((E7/15),0))*-1,(ROUND((E7/15),0))) -> -5 | BM7: =IF(BL7<0,((BL7*-1)/24),BL7/24) -> 0.20833333 | BN7: =IF(BJ7=0,BK7/(60*24),(BK7/(60*24))+(BJ7/(60*24))) -> 0.012297504 | BO7: =BO6+BN6 -> 44927.477 | BP7: =BP6+BN6 -> 44927.685
A8: 5 | B8: 2 | C8: 34.273 | D8: S | E8: 79 | F8: 53.2 | G8: W | H8: =(C8/60)+B8 -> 2.5712167 | I8: =RADIANS(H8) -> 0.044876197 | J8: =IF(D8="S",I8,I8*-1) -> 0.044876197 | K8: =(F8/60)+E8 -> 79.886667 | L8: =RADIANS(K8) -> 1.3942854 | M8: =7915.704468*LOG((TAN((RADIANS(45)+(I8/2)))))-23.268932*SIN(I8)-0.0525*(SIN(I8)^3)*(SIN(I8)^5) -> 153.28094 | N8: {=_xlfn.IFS(D8<>OFFSET(D8,1,),M8+OFFSET(M8,1,),OFFSET(M8,1,)-M8<0,(OFFSET(M8,1,)-M8)*-1,OFFSET(M8,1,)-M8>0,OFFSET(M8,1,)-M8)} -> 1.2368522 | O8: =(DEGREES(IF(D8=D9,I9-I8,I8+I9)))*60 -> 1.244 | P8: =_xlfn.IFS(AND(D9="N",D8<>D9,O8>0),O8*-1,AND(D9="N",D8=D9,O8<0),O8*-1,AND(D9="S",D8=D9,O8>0),O8,AND(D9="S",D8<>D9,O8<0),O8,AND(D9="N",D9<>D8,O8<0),O8*-1,AND(D9="N",D9=D8,O8<0),O8*-1,AND(D9="S",D8=D9,O8<0),O8,AND(D9="N",D9=D8,O8>0),O8*-1) -> 1.244 | Q8: =(DEGREES(_xlfn.IFS(G8=G9,L9-L8,(L8+L9)>(RADIANS(180)),RADIANS(360)-(L8+L9),G8<>G9,L8+L9)))*60 -> 0.698 | R8: {=_xlfn.IFS(AND(G9="E",G9<>G8,L8+L9>(RADIANS(180)),Q8<0),Q8*-1,AND(G9="W",G9<>G8,L9+L8>(RADIANS(180)),Q8<0),Q8,AND(G9="E",G9<>G8,L9+L8>(RADIANS(180)),Q8>0),Q8,AND(G9="W",G9<>G8,L9+L8>(RADIANS(180)),Q8>0),Q8*-1,AND(G9="W",G9=G8,Q8<0),Q8,AND(G9="W",G9=G8,Q8>0),Q8,AND(G9="E",G9=G8,Q8<0),Q8*-1,AND(G9="E",G9=G8,Q8>0),Q8*-1,AND(G9="E",G9<>G8,Q8>0),Q8*-1,AND(G9="E",G9<>G8,Q8<0),Q8,AND(G9="W",G9<>G8,Q8>0),Q8,AND(G9="W",G9<>G8,Q8<0),Q8*-1)} -> 0.698 | S8: =IF(O8<0,-1*O8,O8) -> 1.244 | T8: =IF(Q8<0,-1*Q8,Q8) -> 0.698 | U8: =DEGREES(ATAN(T8/N8)) -> 29.437595 | V8: =_xlfn.IFS(AND(P8>0,R8>0),180+U8,AND(P8<0,R8>0),360-U8,AND(P8>0,R8<0),180-U8,AND(P8<0,R8<0),U8) -> 209.43759 | W8: =(S8/(COS(RADIANS(U8)))) -> 1.4284213 | X8: =AVERAGE(H8,H9) -> 2.5815833 | Y8: =(T8*(COS(RADIANS(X8)))) -> 0.6972916 | Z8: =DEGREES(ATAN(Y8/S8)) -> 29.271668 | AA8: =_xlfn.IFS(AND(P8>0,R8>0),180+Z8,AND(P8<0,R8>0),360-Z8,AND(P8>0,R8<0),180-Z8,AND(P8<0,R8<0),Z8) -> 209.27167 | AB8: =(S8/(COS(RADIANS(Z8)))) -> 1.4260966 | AC8: =DEGREES(ACOS(((SIN(J9)-(SIN(J8))*(COS(RADIANS(AE8/60))))/(COS(J8)*SIN(RADIANS(AE8/60)))))) -> 29.271406 | AD8: =_xlfn.IFS(AND(P8>0,R8<0),180-AC8,AND(P8>0,R8>0),180+AC8,AND(P8<0,R8>0),180+AC8,AND(P8<0,R8<0),180-AC8) -> 209.27141 | AE8: =(DEGREES(ACOS((SIN(J8)*SIN(J9)+(COS(J8)*COS(J9)*COS(RADIANS(T8/60)))))))*60 -> 1.4260966 | AF8: loxo | AG8: {=_xlfn.IFS(AH8=W8,V8,AH8=AB8,AA8,AH8=AE8,AD8)} -> 209.27167 | AH8: =_xlfn.IFS(AND(AF8="loxo",W8<600),AB8,AND(AF8="loxo",W8>600),W8,AND(B8>60,AF8="loxo"),W8,AF8="ortho",AE8) -> 1.4260966 | AI8: =_xlfn.IFS(AND(AF8="loxo",W8>600),V8+BE8,AF8="ortho",AD8+BE8,AND(AF8="loxo",W8<600),AA8+BE8) -> 459.27167 | AJ8: =_xlfn.IFS(AI8>360,AI8-360,AI8<360,AI8) -> 99.271668 | AK8: =_xlfn.IFS(AJ8>270,AJ8-270,AJ8<90,90-AJ8,AJ8<180,AJ8-90,AJ8>180,270-AJ8) -> 9.2716677 | AL8: =_xlfn.IFS(AND(AF8="loxo",W8>600),(SIN(RADIANS(U8))*BC8),AF8="ortho",(SIN(RADIANS(AC8))*BC8),AND(AF8="loxo",W8<600),(SIN(RADIANS(Z8))*BC8)) -> 7.5389514 | AM8: =_xlfn.IFS(AND(AF8="loxo",W8>600),SQRT((BC8^2)-((SIN(RADIANS(U8))*BC8)^2)),AF8="ortho",SQRT((BC8^2)-((SIN(RADIANS(AC8))*BC8)^2)),AND(AF8="loxo",W8<600),SQRT((BC8^2)-((SIN(RADIANS(Z8))*BC8)^2))) -> 13.449833 | AN8: =(SIN(RADIANS(AK8))*BF8) -> 0 | AO8: =SQRT((BF8^2)-((SIN(RADIANS(AK8))*BF8)^2)) -> 0 | AP8: =_xlfn.IFS(AND(AF8="loxo",W8<600),AA8,AND(AF8="loxo",W8>600),V8,AND(B8>60,AF8="loxo"),V8,AF8="ortho",AD8) -> 209.27167 | AQ8: =_xlfn.IFS(AP8>270,AM8,AP8<90,AM8,AP8<270,AM8*-1,AP8>90,AM8*-1) -> -13.449833 | AR8: =_xlfn.IFS(AJ8>270,AN8,AJ8<90,AN8,AJ8<270,AN8*-1,AJ8>90,AN8*-1) -> 0 | AS8: =_xlfn.IFS(AND(AP8>180,AP8<360),AL8*-1,AND(AP8<180,AP8>0),AL8) -> -7.5389514 | AT8: =_xlfn.IFS(AJ8>180,AO8*-1,AJ8<180,AO8,AJ8=0,AO8,AJ8=360,AO8) -> 0 | AU8: =(AQ8+AR8) -> -13.449833 | AV8: =(AS8+AT8) -> -7.5389514 | AW8: =DEGREES(ATAN(AV8/AU8)) -> 29.271668 | AX8: =_xlfn.IFS((DEGREES(ATAN(AV8/AU8)))<0,(DEGREES(ATAN(AV8/AU8)))*-1,DEGREES(ATAN(AV8/AU8))>0,(DEGREES(ATAN(AV8/AU8)))) -> 29.271668 | AY8: =_xlfn.IFS(AND(AF8="loxo",W8<600),BH8-AA8,AND(AF8="loxo",W8>600),BH8-V8,AND(B8>60,AF8="loxo"),BH8-V8,AF8="ortho",BH8-AD8) -> 0 | AZ8: 1 | BA8: =_xlfn.IFS(AZ8=1,Références!$B$80,AZ8=2,Références!$B$81,AZ8=3,Références!$B$82,AZ8=4,Références!$B$83,AZ8=5,Références!$B$84,AZ8=6,Références!$B$85,AZ8=7,Références!$B$86,AZ8=8,Références!$B$87,AZ8=9,Références!$B$88,AZ8=10,Références!$B$89,AZ8=11,Références!$B$90,AZ8=12,Références!$B$91) -> 1 | BB8: Beam | BC8: {=_xlfn.IFS(BB8="Beam", -0.0000000868778*BA8^5-0.0000459619*BA8^4+0.00347366*BA8^3-0.0884721*BA8^2+0.510463*BA8+14.9932,BB8="Following",0.000652681*BA8^3-0.0356523*BA8^2+0.29714*BA8+15.2038,BB8="Head",-0.00000154449*BA8^5+0.0000797696*BA8^4+0.000148965*BA8^3-0.0570448*BA8^2+0.244115*BA8+15.0029)} -> 15.418619 | BE8: 250 | BF8: 0 | BG8: =IF(BD8=0,SQRT((AU8^2)+(AV8^2)),SQRT((AU8^2)+(AV8^2))) -> 15.418619 | BH8: =_xlfn.IFS(AND(AV8>0,AU8>0),AX8,AND(AV8<0,AU8>0),360-AX8,AND(AV8>0,AU8<0),180-AX8,AND(AV8<0,AU8<0),180+AX8) -> 209.27167 | BI8: =(AP8-AY8) -> 209.27167 | BK8: =IF(BJ8=0,(AH8/BG8)*60,((AH8/BG8)*60)+BJ8) -> 5.5495113 | BL8: =IF(G8="W",(ROUND((E8/15),0))*-1,(ROUND((E8/15),0))) -> -5 | BM8: =IF(BL8<0,((BL8*-1)/24),BL8/24) -> 0.20833333 | BN8: =IF(BJ8=0,BK8/(60*24),(BK8/(60*24))+(BJ8/(60*24))) -> 0.0038538273 | BO8: =BO7+BN7 -> 44927.489 | BP8: =BP7+BN7 -> 44927.697
A9: 6 | B9: 2 | C9: 35.517 | D9: S | E9: 79 | F9: 53.898 | G9: W | H9: =(C9/60)+B9 -> 2.59195 | I9: =RADIANS(H9) -> 0.045238062 | J9: =IF(D9="S",I9,I9*-1) -> 0.045238062 | K9: =(F9/60)+E9 -> 79.8983 | L9: =RADIANS(K9) -> 1.3944884 | M9: =7915.704468*LOG((TAN((RADIANS(45)+(I9/2)))))-23.268932*SIN(I9)-0.0525*(SIN(I9)^3)*(SIN(I9)^5) -> 154.51779 | N9: {=_xlfn.IFS(D9<>OFFSET(D9,1,),M9+OFFSET(M9,1,),OFFSET(M9,1,)-M9<0,(OFFSET(M9,1,)-M9)*-1,OFFSET(M9,1,)-M9>0,OFFSET(M9,1,)-M9)} -> 1.0757997 | O9: =(DEGREES(IF(D9=D10,I10-I9,I9+I10)))*60 -> 1.082 | P9: =_xlfn.IFS(AND(D10="N",D9<>D10,O9>0),O9*-1,AND(D10="N",D9=D10,O9<0),O9*-1,AND(D10="S",D9=D10,O9>0),O9,AND(D10="S",D9<>D10,O9<0),O9,AND(D10="N",D10<>D9,O9<0),O9*-1,AND(D10="N",D10=D9,O9<0),O9*-1,AND(D10="S",D9=D10,O9<0),O9,AND(D10="N",D10=D9,O9>0),O9*-1) -> 1.082 | Q9: =(DEGREES(_xlfn.IFS(G9=G10,L10-L9,(L9+L10)>(RADIANS(180)),RADIANS(360)-(L9+L10),G9<>G10,L9+L10)))*60 -> 0.787 | R9: {=_xlfn.IFS(AND(G10="E",G10<>G9,L9+L10>(RADIANS(180)),Q9<0),Q9*-1,AND(G10="W",G10<>G9,L10+L9>(RADIANS(180)),Q9<0),Q9,AND(G10="E",G10<>G9,L10+L9>(RADIANS(180)),Q9>0),Q9,AND(G10="W",G10<>G9,L10+L9>(RADIANS(180)),Q9>0),Q9*-1,AND(G10="W",G10=G9,Q9<0),Q9,AND(G10="W",G10=G9,Q9>0),Q9,AND(G10="E",G10=G9,Q9<0),Q9*-1,AND(G10="E",G10=G9,Q9>0),Q9*-1,AND(G10="E",G10<>G9,Q9>0),Q9*-1,AND(G10="E",G10<>G9,Q9<0),Q9,AND(G10="W",G10<>G9,Q9>0),Q9,AND(G10="W",G10<>G9,Q9<0),Q9*-1)} -> 0.787 | S9: =IF(O9<0,-1*O9,O9) -> 1.082 | T9: =IF(Q9<0,-1*Q9,Q9) -> 0.787 | U9: =DEGREES(ATAN(T9/N9)) -> 36.187293 | V9: =_xlfn.IFS(AND(P9>0,R9>0),180+U9,AND(P9<0,R9>0),360-U9,AND(P9>0,R9<0),180-U9,AND(P9<0,R9<0),U9) -> 216.18729 | W9: =(S9/(COS(RADIANS(U9)))) -> 1.3406166 | X9: =AVERAGE(H9,H10) -> 2.6009667 | Y9: =(T9*(COS(RADIANS(X9)))) -> 0.78618924 | Z9: =DEGREES(ATAN(Y9/S9)) -> 36.002434 | AA9: =_xlfn.IFS(AND(P9>0,R9>0),180+Z9,AND(P9<0,R9>0),360-Z9,AND(P9>0,R9<0),180-Z9,AND(P9<0,R9<0),Z9) -> 216.00243 | AB9: =(S9/(COS(RADIANS(Z9)))) -> 1.3374668 | AC9: =DEGREES(ACOS(((SIN(J10)-(SIN(J9))*(COS(RADIANS(AE9/60))))/(COS(J9)*SIN(RADIANS(AE9/60)))))) -> 36.002136 | AD9: =_xlfn.IFS(AND(P9>0,R9<0),180-AC9,AND(P9>0,R9>0),180+AC9,AND(P9<0,R9>0),180+AC9,AND(P9<0,R9<0),180-AC9) -> 216.00214 | AE9: =(DEGREES(ACOS((SIN(J9)*SIN(J10)+(COS(J9)*COS(J10)*COS(RADIANS(T9/60)))))))*60 -> 1.3374668 | AF9: loxo | AG9: {=_xlfn.IFS(AH9=W9,V9,AH9=AB9,AA9,AH9=AE9,AD9)} -> 216.00243 | AH9: =_xlfn.IFS(AND(AF9="loxo",W9<600),AB9,AND(AF9="loxo",W9>600),W9,AND(B9>60,AF9="loxo"),W9,AF9="ortho",AE9) -> 1.3374668 | AI9: =_xlfn.IFS(AND(AF9="loxo",W9>600),V9+BE9,AF9="ortho",AD9+BE9,AND(AF9="loxo",W9<600),AA9+BE9) -> 466.00243 | AJ9: =_xlfn.IFS(AI9>360,AI9-360,AI9<360,AI9) -> 106.00243 | AK9: =_xlfn.IFS(AJ9>270,AJ9-270,AJ9<90,90-AJ9,AJ9<180,AJ9-90,AJ9>180,270-AJ9) -> 16.002434 | AL9: =_xlfn.IFS(AND(AF9="loxo",W9>600),(SIN(RADIANS(U9))*BC9),AF9="ortho",(SIN(RADIANS(AC9))*BC9),AND(AF9="loxo",W9<600),(SIN(RADIANS(Z9))*BC9)) -> 9.0633664 | AM9: =_xlfn.IFS(AND(AF9="loxo",W9>600),SQRT((BC9^2)-((SIN(RADIANS(U9))*BC9)^2)),AF9="ortho",SQRT((BC9^2)-((SIN(RADIANS(AC9))*BC9)^2)),AND(AF9="loxo",W9<600),SQRT((BC9^2)-((SIN(RADIANS(Z9))*BC9)^2))) -> 12.473539 | AN9: =(SIN(RADIANS(AK9))*BF9) -> 0 | AO9: =SQRT((BF9^2)-((SIN(RADIANS(AK9))*BF9)^2)) -> 0 | AP9: =_xlfn.IFS(AND(AF9="loxo",W9<600),AA9,AND(AF9="loxo",W9>600),V9,AND(B9>60,AF9="loxo"),V9,AF9="ortho",AD9) -> 216.00243 | AQ9: =_xlfn.IFS(AP9>270,AM9,AP9<90,AM9,AP9<270,AM9*-1,AP9>90,AM9*-1) -> -12.473539 | AR9: =_xlfn.IFS(AJ9>270,AN9,AJ9<90,AN9,AJ9<270,AN9*-1,AJ9>90,AN9*-1) -> 0 | AS9: =_xlfn.IFS(AND(AP9>180,AP9<360),AL9*-1,AND(AP9<180,AP9>0),AL9) -> -9.0633664 | AT9: =_xlfn.IFS(AJ9>180,AO9*-1,AJ9<180,AO9,AJ9=0,AO9,AJ9=360,AO9) -> 0 | AU9: =(AQ9+AR9) -> -12.473539 | AV9: =(AS9+AT9) -> -9.0633664 | AW9: =DEGREES(ATAN(AV9/AU9)) -> 36.002434 | AX9: =_xlfn.IFS((DEGREES(ATAN(AV9/AU9)))<0,(DEGREES(ATAN(AV9/AU9)))*-1,DEGREES(ATAN(AV9/AU9))>0,(DEGREES(ATAN(AV9/AU9)))) -> 36.002434 | AY9: =_xlfn.IFS(AND(AF9="loxo",W9<600),BH9-AA9,AND(AF9="loxo",W9>600),BH9-V9,AND(B9>60,AF9="loxo"),BH9-V9,AF9="ortho",BH9-AD9) -> 0 | AZ9: 1 | BA9: =_xlfn.IFS(AZ9=1,Références!$B$80,AZ9=2,Références!$B$81,AZ9=3,Références!$B$82,AZ9=4,Références!$B$83,AZ9=5,Références!$B$84,AZ9=6,Références!$B$85,AZ9=7,Références!$B$86,AZ9=8,Références!$B$87,AZ9=9,Références!$B$88,AZ9=10,Références!$B$89,AZ9=11,Références!$B$90,AZ9=12,Références!$B$91) -> 1 | BB9: Beam | BC9: {=_xlfn.IFS(BB9="Beam", -0.0000000868778*BA9^5-0.0000459619*BA9^4+0.00347366*BA9^3-0.0884721*BA9^2+0.510463*BA9+14.9932,BB9="Following",0.000652681*BA9^3-0.0356523*BA9^2+0.29714*BA9+15.2038,BB9="Head",-0.00000154449*BA9^5+0.0000797696*BA9^4+0.000148965*BA9^3-0.0570448*BA9^2+0.244115*BA9+15.0029)} -> 15.418619 | BE9: 250 | BF9: 0 | BG9: =IF(BD9=0,SQRT((AU9^2)+(AV9^2)),SQRT((AU9^2)+(AV9^2))) -> 15.418619 | BH9: =_xlfn.IFS(AND(AV9>0,AU9>0),AX9,AND(AV9<0,AU9>0),360-AX9,AND(AV9>0,AU9<0),180-AX9,AND(AV9<0,AU9<0),180+AX9) -> 216.00243 | BI9: =(AP9-AY9) -> 216.00243 | BK9: =IF(BJ9=0,(AH9/BG9)*60,((AH9/BG9)*60)+BJ9) -> 5.2046174 | BL9: =IF(G9="W",(ROUND((E9/15),0))*-1,(ROUND((E9/15),0))) -> -5 | BM9: =IF(BL9<0,((BL9*-1)/24),BL9/24) -> 0.20833333 | BN9: =IF(BJ9=0,BK9/(60*24),(BK9/(60*24))+(BJ9/(60*24))) -> 0.0036143176 | BO9: =BO8+BN8 -> 44927.493 | BP9: =BP8+BN8 -> 44927.701
A10: 7 | B10: 2 | C10: 36.599 | D10: S | E10: 79 | F10: 54.685 | G10: W | H10: =(C10/60)+B10 -> 2.6099833 | I10: =RADIANS(H10) -> 0.045552803 | J10: =IF(D10="S",I10,I10*-1) -> 0.045552803 | K10: =(F10/60)+E10 -> 79.911417 | L10: =RADIANS(K10) -> 1.3947173 | M10: =7915.704468*LOG((TAN((RADIANS(45)+(I10/2)))))-23.268932*SIN(I10)-0.0525*(SIN(I10)^3)*(SIN(I10)^5) -> 155.59359 | N10: {=_xlfn.IFS(D10<>OFFSET(D10,1,),M10+OFFSET(M10,1,),OFFSET(M10,1,)-M10<0,(OFFSET(M10,1,)-M10)*-1,OFFSET(M10,1,)-M10>0,OFFSET(M10,1,)-M10)} -> 2.1854528 | O10: =(DEGREES(IF(D10=D11,I11-I10,I10+I11)))*60 -> 2.198 | P10: =_xlfn.IFS(AND(D11="N",D10<>D11,O10>0),O10*-1,AND(D11="N",D10=D11,O10<0),O10*-1,AND(D11="S",D10=D11,O10>0),O10,AND(D11="S",D10<>D11,O10<0),O10,AND(D11="N",D11<>D10,O10<0),O10*-1,AND(D11="N",D11=D10,O10<0),O10*-1,AND(D11="S",D10=D11,O10<0),O10,AND(D11="N",D11=D10,O10>0),O10*-1) -> 2.198 | Q10: =(DEGREES(_xlfn.IFS(G10=G11,L11-L10,(L10+L11)>(RADIANS(180)),RADIANS(360)-(L10+L11),G10<>G11,L10+L11)))*60 -> 1.044 | R10: {=_xlfn.IFS(AND(G11="E",G11<>G10,L10+L11>(RADIANS(180)),Q10<0),Q10*-1,AND(G11="W",G11<>G10,L11+L10>(RADIANS(180)),Q10<0),Q10,AND(G11="E",G11<>G10,L11+L10>(RADIANS(180)),Q10>0),Q10,AND(G11="W",G11<>G10,L11+L10>(RADIANS(180)),Q10>0),Q10*-1,AND(G11="W",G11=G10,Q10<0),Q10,AND(G11="W",G11=G10,Q10>0),Q10,AND(G11="E",G11=G10,Q10<0),Q10*-1,AND(G11="E",G11=G10,Q10>0),Q10*-1,AND(G11="E",G11<>G10,Q10>0),Q10*-1,AND(G11="E",G11<>G10,Q10<0),Q10,AND(G11="W",G11<>G10,Q10>0),Q10,AND(G11="W",G11<>G10,Q10<0),Q10*-1)} -> 1.044 | S10: =IF(O10<0,-1*O10,O10) -> 2.198 | T10: =IF(Q10<0,-1*Q10,Q10) -> 1.044 | U10: =DEGREES(ATAN(T10/N10)) -> 25.534002 | V10: =_xlfn.IFS(AND(P10>0,R10>0),180+U10,AND(P10<0,R10>0),360-U10,AND(P10>0,R10<0),180-U10,AND(P10<0,R10<0),U10) -> 205.534 | W10: =(S10/(COS(RADIANS(U10)))) -> 2.4359169 | X10: =AVERAGE(H10,H11) -> 2.6283 | Y10: =(T10*(COS(RADIANS(X10)))) -> 1.0429018 | Z10: =DEGREES(ATAN(Y10/S10)) -> 25.383292 | AA10: =_xlfn.IFS(AND(P10>0,R10>0),180+Z10,AND(P10<0,R10>0),360-Z10,AND(P10>0,R10<0),180-Z10,AND(P10<0,R10<0),Z10) -> 205.38329 | AB10: =(S10/(COS(RADIANS(Z10)))) -> 2.4328683 | AC10: =DEGREES(ACOS(((SIN(J11)-(SIN(J10))*(COS(RADIANS(AE10/60))))/(COS(J10)*SIN(RADIANS(AE10/60)))))) -> 25.382893 | AD10: =_xlfn.IFS(AND(P10>0,R10<0),180-AC10,AND(P10>0,R10>0),180+AC10,AND(P10<0,R10>0),180+AC10,AND(P10<0,R10<0),180-AC10) -> 205.38289 | AE10: =(DEGREES(ACOS((SIN(J10)*SIN(J11)+(COS(J10)*COS(J11)*COS(RADIANS(T10/60)))))))*60 -> 2.4328683 | AF10: loxo | AG10: {=_xlfn.IFS(AH10=W10,V10,AH10=AB10,AA10,AH10=AE10,AD10)} -> 205.38329 | AH10: =_xlfn.IFS(AND(AF10="loxo",W10<600),AB10,AND(AF10="loxo",W10>600),W10,AND(B10>60,AF10="loxo"),W10,AF10="ortho",AE10) -> 2.4328683 | AI10: =_xlfn.IFS(AND(AF10="loxo",W10>600),V10+BE10,AF10="ortho",AD10+BE10,AND(AF10="loxo",W10<600),AA10+BE10) -> 455.38329 | AJ10: =_xlfn.IFS(AI10>360,AI10-360,AI10<360,AI10) -> 95.383292 | AK10: =_xlfn.IFS(AJ10>270,AJ10-270,AJ10<90,90-AJ10,AJ10<180,AJ10-90,AJ10>180,270-AJ10) -> 5.3832917 | AL10: =_xlfn.IFS(AND(AF10="loxo",W10>600),(SIN(RADIANS(U10))*BC10),AF10="ortho",(SIN(RADIANS(AC10))*BC10),AND(AF10="loxo",W10<600),(SIN(RADIANS(Z10))*BC10)) -> 6.6095252 | AM10: =_xlfn.IFS(AND(AF10="loxo",W10>600),SQRT((BC10^2)-((SIN(RADIANS(U10))*BC10)^2)),AF10="ortho",SQRT((BC10^2)-((SIN(RADIANS(AC10))*BC10)^2)),AND(AF10="loxo",W10<600),SQRT((BC10^2)-((SIN(RADIANS(Z10))*BC10)^2))) -> 13.93011 | AN10: =(SIN(RADIANS(AK10))*BF10) -> 0 | AO10: =SQRT((BF10^2)-((SIN(RADIANS(AK10))*BF10)^2)) -> 0 | AP10: =_xlfn.IFS(AND(AF10="loxo",W10<600),AA10,AND(AF10="loxo",W10>600),V10,AND(B10>60,AF10="loxo"),V10,AF10="ortho",AD10) -> 205.38329 | AQ10: =_xlfn.IFS(AP10>270,AM10,AP10<90,AM10,AP10<270,AM10*-1,AP10>90,AM10*-1) -> -13.93011 | AR10: =_xlfn.IFS(AJ10>270,AN10,AJ10<90,AN10,AJ10<270,AN10*-1,AJ10>90,AN10*-1) -> 0 | AS10: =_xlfn.IFS(AND(AP10>180,AP10<360),AL10*-1,AND(AP10<180,AP10>0),AL10) -> -6.6095252 | AT10: =_xlfn.IFS(AJ10>180,AO10*-1,AJ10<180,AO10,AJ10=0,AO10,AJ10=360,AO10) -> 0 | AU10: =(AQ10+AR10) -> -13.93011 | AV10: =(AS10+AT10) -> -6.6095252 | AW10: =DEGREES(ATAN(AV10/AU10)) -> 25.383292 | AX10: =_xlfn.IFS((DEGREES(ATAN(AV10/AU10)))<0,(DEGREES(ATAN(AV10/AU10)))*-1,DEGREES(ATAN(AV10/AU10))>0,(DEGREES(ATAN(AV10/AU10)))) -> 25.383292 | AY10: =_xlfn.IFS(AND(AF10="loxo",W10<600),BH10-AA10,AND(AF10="loxo",W10>600),BH10-V10,AND(B10>60,AF10="loxo"),BH10-V10,AF10="ortho",BH10-AD10) -> 0 | AZ10: 1 | BA10: =_xlfn.IFS(AZ10=1,Références!$B$80,AZ10=2,Références!$B$81,AZ10=3,Références!$B$82,AZ10=4,Références!$B$83,AZ10=5,Références!$B$84,AZ10=6,Références!$B$85,AZ10=7,Références!$B$86,AZ10=8,Références!$B$87,AZ10=9,Références!$B$88,AZ10=10,Références!$B$89,AZ10=11,Références!$B$90,AZ10=12,Références!$B$91) -> 1 | BB10: Beam | BC10: {=_xlfn.IFS(BB10="Beam", -0.0000000868778*BA10^5-0.0000459619*BA10^4+0.00347366*BA10^3-0.0884721*BA10^2+0.510463*BA10+14.9932,BB10="Following",0.000652681*BA10^3-0.0356523*BA10^2+0.29714*BA10+15.2038,BB10="Head",-0.00000154449*BA10^5+0.0000797696*BA10^4+0.000148965*BA10^3-0.0570448*BA10^2+0.244115*BA10+15.0029)} -> 15.418619 | BE10: 250 | BF10: 0 | BG10: =IF(BD10=0,SQRT((AU10^2)+(AV10^2)),SQRT((AU10^2)+(AV10^2))) -> 15.418619 | BH10: =_xlfn.IFS(AND(AV10>0,AU10>0),AX10,AND(AV10<0,AU10>0),360-AX10,AND(AV10>0,AU10<0),180-AX10,AND(AV10<0,AU10<0),180+AX10) -> 205.38329 | BI10: =(AP10-AY10) -> 205.38329 | BK10: =IF(BJ10=0,(AH10/BG10)*60,((AH10/BG10)*60)+BJ10) -> 9.4672617 | BL10: =IF(G10="W",(ROUND((E10/15),0))*-1,(ROUND((E10/15),0))) -> -5 | BM10: =IF(BL10<0,((BL10*-1)/24),BL10/24) -> 0.20833333 | BN10: =IF(BJ10=0,BK10/(60*24),(BK10/(60*24))+(BJ10/(60*24))) -> 0.0065744873 | BO10: =BO9+BN9 -> 44927.496 | BP10: =BP9+BN9 -> 44927.705
A11: 8 | B11: 2 | C11: 38.797 | D11: S | E11: 79 | F11: 55.729 | G11: W | H11: =(C11/60)+B11 -> 2.6466167 | I11: =RADIANS(H11) -> 0.046192175 | J11: =IF(D11="S",I11,I11*-1) -> 0.046192175 | K11: =(F11/60)+E11 -> 79.928817 | L11: =RADIANS(K11) -> 1.395021 | M11: =7915.704468*LOG((TAN((RADIANS(45)+(I11/2)))))-23.268932*SIN(I11)-0.0525*(SIN(I11)^3)*(SIN(I11)^5) -> 157.77904 | N11: {=_xlfn.IFS(D11<>OFFSET(D11,1,),M11+OFFSET(M11,1,),OFFSET(M11,1,)-M11<0,(OFFSET(M11,1,)-M11)*-1,OFFSET(M11,1,)-M11>0,OFFSET(M11,1,)-M11)} -> 3.4702124 | O11: =(DEGREES(IF(D11=D12,I12-I11,I11+I12)))*60 -> 3.49 | P11: =_xlfn.IFS(AND(D12="N",D11<>D12,O11>0),O11*-1,AND(D12="N",D11=D12,O11<0),O11*-1,AND(D12="S",D11=D12,O11>0),O11,AND(D12="S",D11<>D12,O11<0),O11,AND(D12="N",D12<>D11,O11<0),O11*-1,AND(D12="N",D12=D11,O11<0),O11*-1,AND(D12="S",D11=D12,O11<0),O11,AND(D12="N",D12=D11,O11>0),O11*-1) -> 3.49 | Q11: =(DEGREES(_xlfn.IFS(G11=G12,L12-L11,(L11+L12)>(RADIANS(180)),RADIANS(360)-(L11+L12),G11<>G12,L11+L12)))*60 -> 1.213 | R11: {=_xlfn.IFS(AND(G12="E",G12<>G11,L11+L12>(RADIANS(180)),Q11<0),Q11*-1,AND(G12="W",G12<>G11,L12+L11>(RADIANS(180)),Q11<0),Q11,AND(G12="E",G12<>G11,L12+L11>(RADIANS(180)),Q11>0),Q11,AND(G12="W",G12<>G11,L12+L11>(RADIANS(180)),Q11>0),Q11*-1,AND(G12="W",G12=G11,Q11<0),Q11,AND(G12="W",G12=G11,Q11>0),Q11,AND(G12="E",G12=G11,Q11<0),Q11*-1,AND(G12="E",G12=G11,Q11>0),Q11*-1,AND(G12="E",G12<>G11,Q11>0),Q11*-1,AND(G12="E",G12<>G11,Q11<0),Q11,AND(G12="W",G12<>G11,Q11>0),Q11,AND(G12="W",G12<>G11,Q11<0),Q11*-1)} -> 1.213 | S11: =IF(O11<0,-1*O11,O11) -> 3.49 | T11: =IF(Q11<0,-1*Q11,Q11) -> 1.213 | U11: =DEGREES(ATAN(T11/N11)) -> 19.266886 | V11: =_xlfn.IFS(AND(P11>0,R11>0),180+U11,AND(P11<0,R11>0),360-U11,AND(P11>0,R11<0),180-U11,AND(P11<0,R11<0),U11) -> 199.26689 | W11: =(S11/(COS(RADIANS(U11)))) -> 3.697066 | X11: =AVERAGE(H11,H12) -> 2.6757 | Y11: =(T11*(COS(RADIANS(X11)))) -> 1.2116775 | Z11: =DEGREES(ATAN(Y11/S11)) -> 19.146262 | AA11: =_xlfn.IFS(AND(P11>0,R11>0),180+Z11,AND(P11<0,R11>0),360-Z11,AND(P11>0,R11<0),180-Z11,AND(P11<0,R11<0),Z11) -> 199.14626 | AB11: =(S11/(COS(RADIANS(Z11)))) -> 3.6943555 | AC11: =DEGREES(ACOS(((SIN(J12)-(SIN(J11))*(COS(RADIANS(AE11/60))))/(COS(J11)*SIN(RADIANS(AE11/60)))))) -> 19.145791 | AD11: =_xlfn.IFS(AND(P11>0,R11<0),180-AC11,AND(P11>0,R11>0),180+AC11,AND(P11<0,R11>0),180+AC11,AND(P11<0,R11<0),180-AC11) -> 199.14579 | AE11: =(DEGREES(ACOS((SIN(J11)*SIN(J12)+(COS(J11)*COS(J12)*COS(RADIANS(T11/60)))))))*60 -> 3.6943555 | AF11: loxo | AG11: {=_xlfn.IFS(AH11=W11,V11,AH11=AB11,AA11,AH11=AE11,AD11)} -> 199.14626 | AH11: =_xlfn.IFS(AND(AF11="loxo",W11<600),AB11,AND(AF11="loxo",W11>600),W11,AND(B11>60,AF11="loxo"),W11,AF11="ortho",AE11) -> 3.6943555 | AI11: =_xlfn.IFS(AND(AF11="loxo",W11>600),V11+BE11,AF11="ortho",AD11+BE11,AND(AF11="loxo",W11<600),AA11+BE11) -> 449.14626 | AJ11: =_xlfn.IFS(AI11>360,AI11-360,AI11<360,AI11) -> 89.146262 | AK11: =_xlfn.IFS(AJ11>270,AJ11-270,AJ11<90,90-AJ11,AJ11<180,AJ11-90,AJ11>180,270-AJ11) -> 0.85373804 | AL11: =_xlfn.IFS(AND(AF11="loxo",W11>600),(SIN(RADIANS(U11))*BC11),AF11="ortho",(SIN(RADIANS(AC11))*BC11),AND(AF11="loxo",W11<600),(SIN(RADIANS(Z11))*BC11)) -> 5.0570103 | AM11: =_xlfn.IFS(AND(AF11="loxo",W11>600),SQRT((BC11^2)-((SIN(RADIANS(U11))*BC11)^2)),AF11="ortho",SQRT((BC11^2)-((SIN(RADIANS(AC11))*BC11)^2)),AND(AF11="loxo",W11<600),SQRT((BC11^2)-((SIN(RADIANS(Z11))*BC11)^2))) -> 14.565728 | AN11: =(SIN(RADIANS(AK11))*BF11) -> 0 | AO11: =SQRT((BF11^2)-((SIN(RADIANS(AK11))*BF11)^2)) -> 0 | AP11: =_xlfn.IFS(AND(AF11="loxo",W11<600),AA11,AND(AF11="loxo",W11>600),V11,AND(B11>60,AF11="loxo"),V11,AF11="ortho",AD11) -> 199.14626 | AQ11: =_xlfn.IFS(AP11>270,AM11,AP11<90,AM11,AP11<270,AM11*-1,AP11>90,AM11*-1) -> -14.565728 | AR11: =_xlfn.IFS(AJ11>270,AN11,AJ11<90,AN11,AJ11<270,AN11*-1,AJ11>90,AN11*-1) -> 0 | AS11: =_xlfn.IFS(AND(AP11>180,AP11<360),AL11*-1,AND(AP11<180,AP11>0),AL11) -> -5.0570103 | AT11: =_xlfn.IFS(AJ11>180,AO11*-1,AJ11<180,AO11,AJ11=0,AO11,AJ11=360,AO11) -> 0 | AU11: =(AQ11+AR11) -> -14.565728 | AV11: =(AS11+AT11) -> -5.0570103 | AW11: =DEGREES(ATAN(AV11/AU11)) -> 19.146262 | AX11: =_xlfn.IFS((DEGREES(ATAN(AV11/AU11)))<0,(DEGREES(ATAN(AV11/AU11)))*-1,DEGREES(ATAN(AV11/AU11))>0,(DEGREES(ATAN(AV11/AU11)))) -> 19.146262 | AY11: =_xlfn.IFS(AND(AF11="loxo",W11<600),BH11-AA11,AND(AF11="loxo",W11>600),BH11-V11,AND(B11>60,AF11="loxo"),BH11-V11,AF11="ortho",BH11-AD11) -> 0 | AZ11: 1 | BA11: =_xlfn.IFS(AZ11=1,Références!$B$80,AZ11=2,Références!$B$81,AZ11=3,Références!$B$82,AZ11=4,Références!$B$83,AZ11=5,Références!$B$84,AZ11=6,Références!$B$85,AZ11=7,Références!$B$86,AZ11=8,Références!$B$87,AZ11=9,Références!$B$88,AZ11=10,Références!$B$89,AZ11=11,Références!$B$90,AZ11=12,Références!$B$91) -> 1 | BB11: Beam | BC11: {=_xlfn.IFS(BB11="Beam", -0.0000000868778*BA11^5-0.0000459619*BA11^4+0.00347366*BA11^3-0.0884721*BA11^2+0.510463*BA11+14.9932,BB11="Following",0.000652681*BA11^3-0.0356523*BA11^2+0.29714*BA11+15.2038,BB11="Head",-0.00000154449*BA11^5+0.0000797696*BA11^4+0.000148965*BA11^3-0.0570448*BA11^2+0.244115*BA11+15.0029)} -> 15.418619 | BE11: 250 | BF11: 0 | BG11: =IF(BD11=0,SQRT((AU11^2)+(AV11^2)),SQRT((AU11^2)+(AV11^2))) -> 15.418619 | BH11: =_xlfn.IFS(AND(AV11>0,AU11>0),AX11,AND(AV11<0,AU11>0),360-AX11,AND(AV11>0,AU11<0),180-AX11,AND(AV11<0,AU11<0),180+AX11) -> 199.14626 | BI11: =(AP11-AY11) -> 199.14626 | BK11: =IF(BJ11=0,(AH11/BG11)*60,((AH11/BG11)*60)+BJ11) -> 14.376212 | BL11: =IF(G11="W",(ROUND((E11/15),0))*-1,(ROUND((E11/15),0))) -> -5 | BM11: =IF(BL11<0,((BL11*-1)/24),BL11/24) -> 0.20833333 | BN11: =IF(BJ11=0,BK11/(60*24),(BK11/(60*24))+(BJ11/(60*24))) -> 0.0099834806 | BO11: =BO10+BN10 -> 44927.503 | BP11: =BP10+BN10 -> 44927.711
A12: 9 | B12: 2 | C12: 42.287 | D12: S | E12: 79 | F12: 56.942 | G12: W | H12: =(C12/60)+B12 -> 2.7047833 | I12: =RADIANS(H12) -> 0.047207375 | J12: =IF(D12="S",I12,I12*-1) -> 0.047207375 | K12: =(F12/60)+E12 -> 79.949033 | L12: =RADIANS(K12) -> 1.3953739 | M12: =7915.704468*LOG((TAN((RADIANS(45)+(I12/2)))))-23.268932*SIN(I12)-0.0525*(SIN(I12)^3)*(SIN(I12)^5) -> 161.24925 | N12: {=_xlfn.IFS(D12<>OFFSET(D12,1,),M12+OFFSET(M12,1,),OFFSET(M12,1,)-M12<0,(OFFSET(M12,1,)-M12)*-1,OFFSET(M12,1,)-M12>0,OFFSET(M12,1,)-M12)} -> 2.6797345 | O12: =(DEGREES(IF(D12=D13,I13-I12,I12+I13)))*60 -> -2.695 | P12: =_xlfn.IFS(AND(D13="N",D12<>D13,O12>0),O12*-1,AND(D13="N",D12=D13,O12<0),O12*-1,AND(D13="S",D12=D13,O12>0),O12,AND(D13="S",D12<>D13,O12<0),O12,AND(D13="N",D13<>D12,O12<0),O12*-1,AND(D13="N",D13=D12,O12<0),O12*-1,AND(D13="S",D12=D13,O12<0),O12,AND(D13="N",D13=D12,O12>0),O12*-1) -> -2.695 | Q12: =(DEGREES(_xlfn.IFS(G12=G13,L13-L12,(L12+L13)>(RADIANS(180)),RADIANS(360)-(L12+L13),G12<>G13,L12+L13)))*60 -> 4.609 | R12: {=_xlfn.IFS(AND(G13="E",G13<>G12,L12+L13>(RADIANS(180)),Q12<0),Q12*-1,AND(G13="W",G13<>G12,L13+L12>(RADIANS(180)),Q12<0),Q12,AND(G13="E",G13<>G12,L13+L12>(RADIANS(180)),Q12>0),Q12,AND(G13="W",G13<>G12,L13+L12>(RADIANS(180)),Q12>0),Q12*-1,AND(G13="W",G13=G12,Q12<0),Q12,AND(G13="W",G13=G12,Q12>0),Q12,AND(G13="E",G13=G12,Q12<0),Q12*-1,AND(G13="E",G13=G12,Q12>0),Q12*-1,AND(G13="E",G13<>G12,Q12>0),Q12*-1,AND(G13="E",G13<>G12,Q12<0),Q12,AND(G13="W",G13<>G12,Q12>0),Q12,AND(G13="W",G13<>G12,Q12<0),Q12*-1)} -> 4.609 | S12: =IF(O12<0,-1*O12,O12) -> 2.695 | T12: =IF(Q12<0,-1*Q12,Q12) -> 4.609 | U12: =DEGREES(ATAN(T12/N12)) -> 59.825706 | V12: =_xlfn.IFS(AND(P12>0,R12>0),180+U12,AND(P12<0,R12>0),360-U12,AND(P12>0,R12<0),180-U12,AND(P12<0,R12<0),U12) -> 300.17429 | W12: =(S12/(COS(RADIANS(U12)))) -> 5.3617741 | X12: =AVERAGE(H12,H13) -> 2.682325 | Y12: =(T12*(COS(RADIANS(X12)))) -> 4.6039502 | Z12: =DEGREES(ATAN(Y12/S12)) -> 59.656707 | AA12: =_xlfn.IFS(AND(P12>0,R12>0),180+Z12,AND(P12<0,R12>0),360-Z12,AND(P12>0,R12<0),180-Z12,AND(P12<0,R12<0),Z12) -> 300.34329 | AB12: =(S12/(COS(RADIANS(Z12)))) -> 5.3347336 | AC12: =DEGREES(ACOS(((SIN(J13)-(SIN(J12))*(COS(RADIANS(AE12/60))))/(COS(J12)*SIN(RADIANS(AE12/60)))))) -> 120.34149 | AD12: =_xlfn.IFS(AND(P12>0,R12<0),180-AC12,AND(P12>0,R12>0),180+AC12,AND(P12<0,R12>0),180+AC12,AND(P12<0,R12<0),180-AC12) -> 300.34149 | AE12: =(DEGREES(ACOS((SIN(J12)*SIN(J13)+(COS(J12)*COS(J13)*COS(RADIANS(T12/60)))))))*60 -> 5.3347335 | AF12: loxo | AG12: {=_xlfn.IFS(AH12=W12,V12,AH12=AB12,AA12,AH12=AE12,AD12)} -> 300.34329 | AH12: =_xlfn.IFS(AND(AF12="loxo",W12<600),AB12,AND(AF12="loxo",W12>600),W12,AND(B12>60,AF12="loxo"),W12,AF12="ortho",AE12) -> 5.3347336 | AI12: =_xlfn.IFS(AND(AF12="loxo",W12>600),V12+BE12,AF12="ortho",AD12+BE12,AND(AF12="loxo",W12<600),AA12+BE12) -> 550.34329 | AJ12: =_xlfn.IFS(AI12>360,AI12-360,AI12<360,AI12) -> 190.34329 | AK12: =_xlfn.IFS(AJ12>270,AJ12-270,AJ12<90,90-AJ12,AJ12<180,AJ12-90,AJ12>180,270-AJ12) -> 79.656707 | AL12: =_xlfn.IFS(AND(AF12="loxo",W12>600),(SIN(RADIANS(U12))*BC12),AF12="ortho",(SIN(RADIANS(AC12))*BC12),AND(AF12="loxo",W12<600),(SIN(RADIANS(Z12))*BC12)) -> 13.306485 | AM12: =_xlfn.IFS(AND(AF12="loxo",W12>600),SQRT((BC12^2)-((SIN(RADIANS(U12))*BC12)^2)),AF12="ortho",SQRT((BC12^2)-((SIN(RADIANS(AC12))*BC12)^2)),AND(AF12="loxo",W12<600),SQRT((BC12^2)-((SIN(RADIANS(Z12))*BC12)^2))) -> 7.7891756 | AN12: =(SIN(RADIANS(AK12))*BF12) -> 0 | AO12: =SQRT((BF12^2)-((SIN(RADIANS(AK12))*BF12)^2)) -> 0 | AP12: =_xlfn.IFS(AND(AF12="loxo",W12<600),AA12,AND(AF12="loxo",W12>600),V12,AND(B12>60,AF12="loxo"),V12,AF12="ortho",AD12) -> 300.34329 | AQ12: =_xlfn.IFS(AP12>270,AM12,AP12<90,AM12,AP12<270,AM12*-1,AP12>90,AM12*-1) -> 7.7891756 | AR12: =_xlfn.IFS(AJ12>270,AN12,AJ12<90,AN12,AJ12<270,AN12*-1,AJ12>90,AN12*-1) -> 0 | AS12: =_xlfn.IFS(AND(AP12>180,AP12<360),AL12*-1,AND(AP12<180,AP12>0),AL12) -> -13.306485 | AT12: =_xlfn.IFS(AJ12>180,AO12*-1,AJ12<180,AO12,AJ12=0,AO12,AJ12=360,AO12) -> 0 | AU12: =(AQ12+AR12) -> 7.7891756 | AV12: =(AS12+AT12) -> -13.306485 | AW12: =DEGREES(ATAN(AV12/AU12)) -> -59.656707 | AX12: =_xlfn.IFS((DEGREES(ATAN(AV12/AU12)))<0,(DEGREES(ATAN(AV12/AU12)))*-1,DEGREES(ATAN(AV12/AU12))>0,(DEGREES(ATAN(AV12/AU12)))) -> 59.656707 | AY12: =_xlfn.IFS(AND(AF12="loxo",W12<600),BH12-AA12,AND(AF12="loxo",W12>600),BH12-V12,AND(B12>60,AF12="loxo"),BH12-V12,AF12="ortho",BH12-AD12) -> 0 | AZ12: 1 | BA12: =_xlfn.IFS(AZ12=1,Références!$B$80,AZ12=2,Références!$B$81,AZ12=3,Références!$B$82,AZ12=4,Références!$B$83,AZ12=5,Références!$B$84,AZ12=6,Références!$B$85,AZ12=7,Références!$B$86,AZ12=8,Références!$B$87,AZ12=9,Références!$B$88,AZ12=10,Références!$B$89,AZ12=11,Références!$B$90,AZ12=12,Références!$B$91) -> 1 | BB12: Beam | BC12: {=_xlfn.IFS(BB12="Beam", -0.0000000868778*BA12^5-0.0000459619*BA12^4+0.00347366*BA12^3-0.0884721*BA12^2+0.510463*BA12+14.9932,BB12="Following",0.000652681*BA12^3-0.0356523*BA12^2+0.29714*BA12+15.2038,BB12="Head",-0.00000154449*BA12^5+0.0000797696*BA12^4+0.000148965*BA12^3-0.0570448*BA12^2+0.244115*BA12+15.0029)} -> 15.418619 | BE12: 250 | BF12: 0 | BG12: =IF(BD12=0,SQRT((AU12^2)+(AV12^2)),SQRT((AU12^2)+(AV12^2))) -> 15.418619 | BH12: =_xlfn.IFS(AND(AV12>0,AU12>0),AX12,AND(AV12<0,AU12>0),360-AX12,AND(AV12>0,AU12<0),180-AX12,AND(AV12<0,AU12<0),180+AX12) -> 300.34329 | BI12: =(AP12-AY12) -> 300.34329 | BK12: =IF(BJ12=0,(AH12/BG12)*60,((AH12/BG12)*60)+BJ12) -> 20.759578 | BL12: =IF(G12="W",(ROUND((E12/15),0))*-1,(ROUND((E12/15),0))) -> -5 | BM12: =IF(BL12<0,((BL12*-1)/24),BL12/24) -> 0.20833333 | BN12: =IF(BJ12=0,BK12/(60*24),(BK12/(60*24))+(BJ12/(60*24))) -> 0.014416374 | BO12: =BO11+BN11 -> 44927.513 | BP12: =BP11+BN11 -> 44927.721
A13: 10 | B13: 2 | C13: 39.592 | D13: S | E13: 80 | F13: 1.551 | G13: W | H13: =(C13/60)+B13 -> 2.6598667 | I13: =RADIANS(H13) -> 0.046423431 | J13: =IF(D13="S",I13,I13*-1) -> 0.046423431 | K13: =(F13/60)+E13 -> 80.02585 | L13: =RADIANS(K13) -> 1.3967146 | M13: =7915.704468*LOG((TAN((RADIANS(45)+(I13/2)))))-23.268932*SIN(I13)-0.0525*(SIN(I13)^3)*(SIN(I13)^5) -> 158.56952 | N13: {=_xlfn.IFS(D13<>OFFSET(D13,1,),M13+OFFSET(M13,1,),OFFSET(M13,1,)-M13<0,(OFFSET(M13,1,)-M13)*-1,OFFSET(M13,1,)-M13>0,OFFSET(M13,1,)-M13)} -> 0.14417585 | O13: =(DEGREES(IF(D13=D14,I14-I13,I13+I14)))*60 -> -0.145 | P13: =_xlfn.IFS(AND(D14="N",D13<>D14,O13>0),O13*-1,AND(D14="N",D13=D14,O13<0),O13*-1,AND(D14="S",D13=D14,O13>0),O13,AND(D14="S",D13<>D14,O13<0),O13,AND(D14="N",D14<>D13,O13<0),O13*-1,AND(D14="N",D14=D13,O13<0),O13*-1,AND(D14="S",D13=D14,O13<0),O13,AND(D14="N",D14=D13,O13>0),O13*-1) -> -0.145 | Q13: =(DEGREES(_xlfn.IFS(G13=G14,L14-L13,(L13+L14)>(RADIANS(180)),RADIANS(360)-(L13+L14),G13<>G14,L13+L14)))*60 -> 4.673 | R13: {=_xlfn.IFS(AND(G14="E",G14<>G13,L13+L14>(RADIANS(180)),Q13<0),Q13*-1,AND(G14="W",G14<>G13,L14+L13>(RADIANS(180)),Q13<0),Q13,AND(G14="E",G14<>G13,L14+L13>(RADIANS(180)),Q13>0),Q13,AND(G14="W",G14<>G13,L14+L13>(RADIANS(180)),Q13>0),Q13*-1,AND(G14="W",G14=G13,Q13<0),Q13,AND(G14="W",G14=G13,Q13>0),Q13,AND(G14="E",G14=G13,Q13<0),Q13*-1,AND(G14="E",G14=G13,Q13>0),Q13*-1,AND(G14="E",G14<>G13,Q13>0),Q13*-1,AND(G14="E",G14<>G13,Q13<0),Q13,AND(G14="W",G14<>G13,Q13>0),Q13,AND(G14="W",G14<>G13,Q13<0),Q13*-1)} -> 4.673 | S13: =IF(O13<0,-1*O13,O13) -> 0.145 | T13: =IF(Q13<0,-1*Q13,Q13) -> 4.673 | U13: =DEGREES(ATAN(T13/N13)) -> 88.232817 | V13: =_xlfn.IFS(AND(P13>0,R13>0),180+U13,AND(P13<0,R13>0),360-U13,AND(P13>0,R13<0),180-U13,AND(P13<0,R13<0),U13) -> 271.76718 | W13: =(S13/(COS(RADIANS(U13)))) -> 4.7019486 | X13: =AVERAGE(H13,H14) -> 2.6586583 | Y13: =(T13*(COS(RADIANS(X13)))) -> 4.66797 | Z13: =DEGREES(ATAN(Y13/S13)) -> 88.220807 | AA13: =_xlfn.IFS(AND(P13>0,R13>0),180+Z13,AND(P13<0,R13>0),360-Z13,AND(P13>0,R13<0),180-Z13,AND(P13<0,R13<0),Z13) -> 271.77919 | AB13: =(S13/(COS(RADIANS(Z13)))) -> 4.6702215 | AC13: =DEGREES(ACOS(((SIN(J14)-(SIN(J13))*(COS(RADIANS(AE13/60))))/(COS(J13)*SIN(RADIANS(AE13/60)))))) -> 91.777386 | AD13: =_xlfn.IFS(AND(P13>0,R13<0),180-AC13,AND(P13>0,R13>0),180+AC13,AND(P13<0,R13>0),180+AC13,AND(P13<0,R13<0),180-AC13) -> 271.77739 | AE13: =(DEGREES(ACOS((SIN(J13)*SIN(J14)+(COS(J13)*COS(J14)*COS(RADIANS(T13/60)))))))*60 -> 4.6702215 | AF13: loxo | AG13: {=_xlfn.IFS(AH13=W13,V13,AH13=AB13,AA13,AH13=AE13,AD13)} -> 271.77919 | AH13: =_xlfn.IFS(AND(AF13="loxo",W13<600),AB13,AND(AF13="loxo",W13>600),W13,AND(B13>60,AF13="loxo"),W13,AF13="ortho",AE13) -> 4.6702215 | AI13: =_xlfn.IFS(AND(AF13="loxo",W13>600),V13+BE13,AF13="ortho",AD13+BE13,AND(AF13="loxo",W13<600),AA13+BE13) -> 521.77919 | AJ13: =_xlfn.IFS(AI13>360,AI13-360,AI13<360,AI13) -> 161.77919 | AK13: =_xlfn.IFS(AJ13>270,AJ13-270,AJ13<90,90-AJ13,AJ13<180,AJ13-90,AJ13>180,270-AJ13) -> 71.779193 | AL13: =_xlfn.IFS(AND(AF13="loxo",W13>600),(SIN(RADIANS(U13))*BC13),AF13="ortho",(SIN(RADIANS(AC13))*BC13),AND(AF13="loxo",W13<600),(SIN(RADIANS(Z13))*BC13)) -> 15.411185 | AM13: =_xlfn.IFS(AND(AF13="loxo",W13>600),SQRT((BC13^2)-((SIN(RADIANS(U13))*BC13)^2)),AF13="ortho",SQRT((BC13^2)-((SIN(RADIANS(AC13))*BC13)^2)),AND(AF13="loxo",W13<600),SQRT((BC13^2)-((SIN(RADIANS(Z13))*BC13)^2))) -> 0.47871384 | AN13: =(SIN(RADIANS(AK13))*BF13) -> 0 | AO13: =SQRT((BF13^2)-((SIN(RADIANS(AK13))*BF13)^2)) -> 0 | AP13: =_xlfn.IFS(AND(AF13="loxo",W13<600),AA13,AND(AF13="loxo",W13>600),V13,AND(B13>60,AF13="loxo"),V13,AF13="ortho",AD13) -> 271.77919 | AQ13: =_xlfn.IFS(AP13>270,AM13,AP13<90,AM13,AP13<270,AM13*-1,AP13>90,AM13*-1) -> 0.47871384 | AR13: =_xlfn.IFS(AJ13>270,AN13,AJ13<90,AN13,AJ13<270,AN13*-1,AJ13>90,AN13*-1) -> 0 | AS13: =_xlfn.IFS(AND(AP13>180,AP13<360),AL13*-1,AND(AP13<180,AP13>0),AL13) -> -15.411185 | AT13: =_xlfn.IFS(AJ13>180,AO13*-1,AJ13<180,AO13,AJ13=0,AO13,AJ13=360,AO13) -> 0 | AU13: =(AQ13+AR13) -> 0.47871384 | AV13: =(AS13+AT13) -> -15.411185 | AW13: =DEGREES(ATAN(AV13/AU13)) -> -88.220807 | AX13: =_xlfn.IFS((DEGREES(ATAN(AV13/AU13)))<0,(DEGREES(ATAN(AV13/AU13)))*-1,DEGREES(ATAN(AV13/AU13))>0,(DEGREES(ATAN(AV13/AU13)))) -> 88.220807 | AY13: =_xlfn.IFS(AND(AF13="loxo",W13<600),BH13-AA13,AND(AF13="loxo",W13>600),BH13-V13,AND(B13>60,AF13="loxo"),BH13-V13,AF13="ortho",BH13-AD13) -> 2.2737368e-13 | AZ13: 1 | BA13: =_xlfn.IFS(AZ13=1,Références!$B$80,AZ13=2,Références!$B$81,AZ13=3,Références!$B$82,AZ13=4,Références!$B$83,AZ13=5,Références!$B$84,AZ13=6,Références!$B$85,AZ13=7,Références!$B$86,AZ13=8,Références!$B$87,AZ13=9,Références!$B$88,AZ13=10,Références!$B$89,AZ13=11,Références!$B$90,AZ13=12,Références!$B$91) -> 1 | BB13: Beam | BC13: {=_xlfn.IFS(BB13="Beam", -0.0000000868778*BA13^5-0.0000459619*BA13^4+0.00347366*BA13^3-0.0884721*BA13^2+0.510463*BA13+14.9932,BB13="Following",0.000652681*BA13^3-0.0356523*BA13^2+0.29714*BA13+15.2038,BB13="Head",-0.00000154449*BA13^5+0.0000797696*BA13^4+0.000148965*BA13^3-0.0570448*BA13^2+0.244115*BA13+15.0029)} -> 15.418619 | BE13: 250 | BF13: 0 | BG13: =IF(BD13=0,SQRT((AU13^2)+(AV13^2)),SQRT((AU13^2)+(AV13^2))) -> 15.418619 | BH13: =_xlfn.IFS(AND(AV13>0,AU13>0),AX13,AND(AV13<0,AU13>0),360-AX13,AND(AV13>0,AU13<0),180-AX13,AND(AV13<0,AU13<0),180+AX13) -> 271.77919 | BI13: =(AP13-AY13) -> 271.77919 | BK13: =IF(BJ13=0,(AH13/BG13)*60,((AH13/BG13)*60)+BJ13) -> 18.173696 | BL13: =IF(G13="W",(ROUND((E13/15),0))*-1,(ROUND((E13/15),0))) -> -5 | BM13: =IF(BL13<0,((BL13*-1)/24),BL13/24) -> 0.20833333 | BN13: =IF(BJ13=0,BK13/(60*24),(BK13/(60*24))+(BJ13/(60*24))) -> 0.012620622 | BO13: =BO12+BN12 -> 44927.527 | BP13: =BP12+BN12 -> 44927.736
A14: 11 | B14: 2 | C14: 39.447 | D14: S | E14: 80 | F14: 6.224 | G14: W | H14: =(C14/60)+B14 -> 2.65745 | I14: =RADIANS(H14) -> 0.046381252 | J14: =IF(D14="S",I14,I14*-1) -> 0.046381252 | K14: =(F14/60)+E14 -> 80.103733 | L14: =RADIANS(K14) -> 1.3980739 | M14: =7915.704468*LOG((TAN((RADIANS(45)+(I14/2)))))-23.268932*SIN(I14)-0.0525*(SIN(I14)^3)*(SIN(I14)^5) -> 158.42534 | N14: {=_xlfn.IFS(D14<>OFFSET(D14,1,),M14+OFFSET(M14,1,),OFFSET(M14,1,)-M14<0,(OFFSET(M14,1,)-M14)*-1,OFFSET(M14,1,)-M14>0,OFFSET(M14,1,)-M14)} -> 4.3124741 | O14: =(DEGREES(IF(D14=D15,I15-I14,I14+I15)))*60 -> 4.337 | P14: =_xlfn.IFS(AND(D15="N",D14<>D15,O14>0),O14*-1,AND(D15="N",D14=D15,O14<0),O14*-1,AND(D15="S",D14=D15,O14>0),O14,AND(D15="S",D14<>D15,O14<0),O14,AND(D15="N",D15<>D14,O14<0),O14*-1,AND(D15="N",D15=D14,O14<0),O14*-1,AND(D15="S",D14=D15,O14<0),O14,AND(D15="N",D15=D14,O14>0),O14*-1) -> 4.337 | Q14: =(DEGREES(_xlfn.IFS(G14=G15,L15-L14,(L14+L15)>(RADIANS(180)),RADIANS(360)-(L14+L15),G14<>G15,L14+L15)))*60 -> 6.496 | R14: {=_xlfn.IFS(AND(G15="E",G15<>G14,L14+L15>(RADIANS(180)),Q14<0),Q14*-1,AND(G15="W",G15<>G14,L15+L14>(RADIANS(180)),Q14<0),Q14,AND(G15="E",G15<>G14,L15+L14>(RADIANS(180)),Q14>0),Q14,AND(G15="W",G15<>G14,L15+L14>(RADIANS(180)),Q14>0),Q14*-1,AND(G15="W",G15=G14,Q14<0),Q14,AND(G15="W",G15=G14,Q14>0),Q14,AND(G15="E",G15=G14,Q14<0),Q14*-1,AND(G15="E",G15=G14,Q14>0),Q14*-1,AND(G15="E",G15<>G14,Q14>0),Q14*-1,AND(G15="E",G15<>G14,Q14<0),Q14,AND(G15="W",G15<>G14,Q14>0),Q14,AND(G15="W",G15<>G14,Q14<0),Q14*-1)} -> 6.496 | S14: =IF(O14<0,-1*O14,O14) -> 4.337 | T14: =IF(Q14<0,-1*Q14,Q14) -> 6.496 | U14: =DEGREES(ATAN(T14/N14)) -> 56.421165 | V14: =_xlfn.IFS(AND(P14>0,R14>0),180+U14,AND(P14<0,R14>0),360-U14,AND(P14>0,R14<0),180-U14,AND(P14<0,R14<0),U14) -> 236.42116 | W14: =(S14/(COS(RADIANS(U14)))) -> 7.8414875 | X14: =AVERAGE(H14,H15) -> 2.6935917 | Y14: =(T14*(COS(RADIANS(X14)))) -> 6.4888228 | Z14: =DEGREES(ATAN(Y14/S14)) -> 56.242021 | AA14: =_xlfn.IFS(AND(P14>0,R14>0),180+Z14,AND(P14<0,R14>0),360-Z14,AND(P14>0,R14<0),180-Z14,AND(P14<0,R14<0),Z14) -> 236.24202 | AB14: =(S14/(COS(RADIANS(Z14)))) -> 7.8047672 | AC14: =DEGREES(ACOS(((SIN(J15)-(SIN(J14))*(COS(RADIANS(AE14/60))))/(COS(J14)*SIN(RADIANS(AE14/60)))))) -> 56.239487 | AD14: =_xlfn.IFS(AND(P14>0,R14<0),180-AC14,AND(P14>0,R14>0),180+AC14,AND(P14<0,R14>0),180+AC14,AND(P14<0,R14<0),180-AC14) -> 236.23949 | AE14: =(DEGREES(ACOS((SIN(J14)*SIN(J15)+(COS(J14)*COS(J15)*COS(RADIANS(T14/60)))))))*60 -> 7.8047668 | AF14: loxo | AG14: {=_xlfn.IFS(AH14=W14,V14,AH14=AB14,AA14,AH14=AE14,AD14)} -> 236.24202 | AH14: =_xlfn.IFS(AND(AF14="loxo",W14<600),AB14,AND(AF14="loxo",W14>600),W14,AND(B14>60,AF14="loxo"),W14,AF14="ortho",AE14) -> 7.8047672 | AI14: =_xlfn.IFS(AND(AF14="loxo",W14>600),V14+BE14,AF14="ortho",AD14+BE14,AND(AF14="loxo",W14<600),AA14+BE14) -> 486.24202 | AJ14: =_xlfn.IFS(AI14>360,AI14-360,AI14<360,AI14) -> 126.24202 | AK14: =_xlfn.IFS(AJ14>270,AJ14-270,AJ14<90,90-AJ14,AJ14<180,AJ14-90,AJ14>180,270-AJ14) -> 36.242021 | AL14: =_xlfn.IFS(AND(AF14="loxo",W14>600),(SIN(RADIANS(U14))*BC14),AF14="ortho",(SIN(RADIANS(AC14))*BC14),AND(AF14="loxo",W14<600),(SIN(RADIANS(Z14))*BC14)) -> 12.81892 | AM14: =_xlfn.IFS(AND(AF14="loxo",W14>600),SQRT((BC14^2)-((SIN(RADIANS(U14))*BC14)^2)),AF14="ortho",SQRT((BC14^2)-((SIN(RADIANS(AC14))*BC14)^2)),AND(AF14="loxo",W14<600),SQRT((BC14^2)-((SIN(RADIANS(Z14))*BC14)^2))) -> 8.5679107 | AN14: =(SIN(RADIANS(AK14))*BF14) -> 0 | AO14: =SQRT((BF14^2)-((SIN(RADIANS(AK14))*BF14)^2)) -> 0 | AP14: =_xlfn.IFS(AND(AF14="loxo",W14<600),AA14,AND(AF14="loxo",W14>600),V14,AND(B14>60,AF14="loxo"),V14,AF14="ortho",AD14) -> 236.24202 | AQ14: =_xlfn.IFS(AP14>270,AM14,AP14<90,AM14,AP14<270,AM14*-1,AP14>90,AM14*-1) -> -8.5679107 | AR14: =_xlfn.IFS(AJ14>270,AN14,AJ14<90,AN14,AJ14<270,AN14*-1,AJ14>90,AN14*-1) -> 0 | AS14: =_xlfn.IFS(AND(AP14>180,AP14<360),AL14*-1,AND(AP14<180,AP14>0),AL14) -> -12.81892 | AT14: =_xlfn.IFS(AJ14>180,AO14*-1,AJ14<180,AO14,AJ14=0,AO14,AJ14=360,AO14) -> 0 | AU14: =(AQ14+AR14) -> -8.5679107 | AV14: =(AS14+AT14) -> -12.81892 | AW14: =DEGREES(ATAN(AV14/AU14)) -> 56.242021 | AX14: =_xlfn.IFS((DEGREES(ATAN(AV14/AU14)))<0,(DEGREES(ATAN(AV14/AU14)))*-1,DEGREES(ATAN(AV14/AU14))>0,(DEGREES(ATAN(AV14/AU14)))) -> 56.242021 | AY14: =_xlfn.IFS(AND(AF14="loxo",W14<600),BH14-AA14,AND(AF14="loxo",W14>600),BH14-V14,AND(B14>60,AF14="loxo"),BH14-V14,AF14="ortho",BH14-AD14) -> 0 | AZ14: 1 | BA14: =_xlfn.IFS(AZ14=1,Références!$B$80,AZ14=2,Références!$B$81,AZ14=3,Références!$B$82,AZ14=4,Références!$B$83,AZ14=5,Références!$B$84,AZ14=6,Références!$B$85,AZ14=7,Références!$B$86,AZ14=8,Références!$B$87,AZ14=9,Références!$B$88,AZ14=10,Références!$B$89,AZ14=11,Références!$B$90,AZ14=12,Références!$B$91) -> 1 | BB14: Beam | BC14: {=_xlfn.IFS(BB14="Beam", -0.0000000868778*BA14^5-0.0000459619*BA14^4+0.00347366*BA14^3-0.0884721*BA14^2+0.510463*BA14+14.9932,BB14="Following",0.000652681*BA14^3-0.0356523*BA14^2+0.29714*BA14+15.2038,BB14="Head",-0.00000154449*BA14^5+0.0000797696*BA14^4+0.000148965*BA14^3-0.0570448*BA14^2+0.244115*BA14+15.0029)} -> 15.418619 | BE14: 250 | BF14: 0 | BG14: =IF(BD14=0,SQRT((AU14^2)+(AV14^2)),SQRT((AU14^2)+(AV14^2))) -> 15.418619 | BH14: =_xlfn.IFS(AND(AV14>0,AU14>0),AX14,AND(AV14<0,AU14>0),360-AX14,AND(AV14>0,AU14<0),180-AX14,AND(AV14<0,AU14<0),180+AX14) -> 236.24202 | BI14: =(AP14-AY14) -> 236.24202 | BK14: =IF(BJ14=0,(AH14/BG14)*60,((AH14/BG14)*60)+BJ14) -> 30.371465 | BL14: =IF(G14="W",(ROUND((E14/15),0))*-1,(ROUND((E14/15),0))) -> -5 | BM14: =IF(BL14<0,((BL14*-1)/24),BL14/24) -> 0.20833333 | BN14: =IF(BJ14=0,BK14/(60*24),(BK14/(60*24))+(BJ14/(60*24))) -> 0.021091295 | BO14: =BO13+BN13 -> 44927.54 | BP14: =BP13+BN13 -> 44927.748
A15: 12 | B15: 2 | C15: 43.784 | D15: S | E15: 80 | F15: 12.72 | G15: W | H15: =(C15/60)+B15 -> 2.7297333 | I15: =RADIANS(H15) -> 0.047642834 | J15: =IF(D15="S",I15,I15*-1) -> 0.047642834 | K15: =(F15/60)+E15 -> 80.212 | L15: =RADIANS(K15) -> 1.3999635 | M15: =7915.704468*LOG((TAN((RADIANS(45)+(I15/2)))))-23.268932*SIN(I15)-0.0525*(SIN(I15)^3)*(SIN(I15)^5) -> 162.73782 | N15: {=_xlfn.IFS(D15<>OFFSET(D15,1,),M15+OFFSET(M15,1,),OFFSET(M15,1,)-M15<0,(OFFSET(M15,1,)-M15)*-1,OFFSET(M15,1,)-M15>0,OFFSET(M15,1,)-M15)} -> 2.6162493 | O15: =(DEGREES(IF(D15=D16,I16-I15,I15+I16)))*60 -> 2.631 | P15: =_xlfn.IFS(AND(D16="N",D15<>D16,O15>0),O15*-1,AND(D16="N",D15=D16,O15<0),O15*-1,AND(D16="S",D15=D16,O15>0),O15,AND(D16="S",D15<>D16,O15<0),O15,AND(D16="N",D16<>D15,O15<0),O15*-1,AND(D16="N",D16=D15,O15<0),O15*-1,AND(D16="S",D15=D16,O15<0),O15,AND(D16="N",D16=D15,O15>0),O15*-1) -> 2.631 | Q15: =(DEGREES(_xlfn.IFS(G15=G16,L16-L15,(L15+L16)>(RADIANS(180)),RADIANS(360)-(L15+L16),G15<>G16,L15+L16)))*60 -> 2.441 | R15: {=_xlfn.IFS(AND(G16="E",G16<>G15,L15+L16>(RADIANS(180)),Q15<0),Q15*-1,AND(G16="W",G16<>G15,L16+L15>(RADIANS(180)),Q15<0),Q15,AND(G16="E",G16<>G15,L16+L15>(RADIANS(180)),Q15>0),Q15,AND(G16="W",G16<>G15,L16+L15>(RADIANS(180)),Q15>0),Q15*-1,AND(G16="W",G16=G15,Q15<0),Q15,AND(G16="W",G16=G15,Q15>0),Q15,AND(G16="E",G16=G15,Q15<0),Q15*-1,AND(G16="E",G16=G15,Q15>0),Q15*-1,AND(G16="E",G16<>G15,Q15>0),Q15*-1,AND(G16="E",G16<>G15,Q15<0),Q15,AND(G16="W",G16<>G15,Q15>0),Q15,AND(G16="W",G16<>G15,Q15<0),Q15*-1)} -> 2.441 | S15: =IF(O15<0,-1*O15,O15) -> 2.631 | T15: =IF(Q15<0,-1*Q15,Q15) -> 2.441 | U15: =DEGREES(ATAN(T15/N15)) -> 43.015318 | V15: =_xlfn.IFS(AND(P15>0,R15>0),180+U15,AND(P15<0,R15>0),360-U15,AND(P15>0,R15<0),180-U15,AND(P15<0,R15<0),U15) -> 223.01532 | W15: =(S15/(COS(RADIANS(U15)))) -> 3.5983358 | X15: =AVERAGE(H15,H16) -> 2.7516583 | Y15: =(T15*(COS(RADIANS(X15)))) -> 2.4381855 | Z15: =DEGREES(ATAN(Y15/S15)) -> 42.821715 | AA15: =_xlfn.IFS(AND(P15>0,R15>0),180+Z15,AND(P15<0,R15>0),360-Z15,AND(P15>0,R15<0),180-Z15,AND(P15<0,R15<0),Z15) -> 222.82171 | AB15: =(S15/(COS(RADIANS(Z15)))) -> 3.5870475 | AC15: =DEGREES(ACOS(((SIN(J16)-(SIN(J15))*(COS(RADIANS(AE15/60))))/(COS(J15)*SIN(RADIANS(AE15/60)))))) -> 42.82074 | AD15: =_xlfn.IFS(AND(P15>0,R15<0),180-AC15,AND(P15>0,R15>0),180+AC15,AND(P15<0,R15>0),180+AC15,AND(P15<0,R15<0),180-AC15) -> 222.82074 | AE15: =(DEGREES(ACOS((SIN(J15)*SIN(J16)+(COS(J15)*COS(J16)*COS(RADIANS(T15/60)))))))*60 -> 3.5870474 | AF15: loxo | AG15: {=_xlfn.IFS(AH15=W15,V15,AH15=AB15,AA15,AH15=AE15,AD15)} -> 222.82171 | AH15: =_xlfn.IFS(AND(AF15="loxo",W15<600),AB15,AND(AF15="loxo",W15>600),W15,AND(B15>60,AF15="loxo"),W15,AF15="ortho",AE15) -> 3.5870475 | AI15: =_xlfn.IFS(AND(AF15="loxo",W15>600),V15+BE15,AF15="ortho",AD15+BE15,AND(AF15="loxo",W15<600),AA15+BE15) -> 472.82171 | AJ15: =_xlfn.IFS(AI15>360,AI15-360,AI15<360,AI15) -> 112.82171 | AK15: =_xlfn.IFS(AJ15>270,AJ15-270,AJ15<90,90-AJ15,AJ15<180,AJ15-90,AJ15>180,270-AJ15) -> 22.821715 | AL15: =_xlfn.IFS(AND(AF15="loxo",W15>600),(SIN(RADIANS(U15))*BC15),AF15="ortho",(SIN(RADIANS(AC15))*BC15),AND(AF15="loxo",W15<600),(SIN(RADIANS(Z15))*BC15)) -> 10.480333 | AM15: =_xlfn.IFS(AND(AF15="loxo",W15>600),SQRT((BC15^2)-((SIN(RADIANS(U15))*BC15)^2)),AF15="ortho",SQRT((BC15^2)-((SIN(RADIANS(AC15))*BC15)^2)),AND(AF15="loxo",W15<600),SQRT((BC15^2)-((SIN(RADIANS(Z15))*BC15)^2))) -> 11.30913 | AN15: =(SIN(RADIANS(AK15))*BF15) -> 0 | AO15: =SQRT((BF15^2)-((SIN(RADIANS(AK15))*BF15)^2)) -> 0 | AP15: =_xlfn.IFS(AND(AF15="loxo",W15<600),AA15,AND(AF15="loxo",W15>600),V15,AND(B15>60,AF15="loxo"),V15,AF15="ortho",AD15) -> 222.82171 | AQ15: =_xlfn.IFS(AP15>270,AM15,AP15<90,AM15,AP15<270,AM15*-1,AP15>90,AM15*-1) -> -11.30913 | AR15: =_xlfn.IFS(AJ15>270,AN15,AJ15<90,AN15,AJ15<270,AN15*-1,AJ15>90,AN15*-1) -> 0 | AS15: =_xlfn.IFS(AND(AP15>180,AP15<360),AL15*-1,AND(AP15<180,AP15>0),AL15) -> -10.480333 | AT15: =_xlfn.IFS(AJ15>180,AO15*-1,AJ15<180,AO15,AJ15=0,AO15,AJ15=360,AO15) -> 0 | AU15: =(AQ15+AR15) -> -11.30913 | AV15: =(AS15+AT15) -> -10.480333 | AW15: =DEGREES(ATAN(AV15/AU15)) -> 42.821715 | AX15: =_xlfn.IFS((DEGREES(ATAN(AV15/AU15)))<0,(DEGREES(ATAN(AV15/AU15)))*-1,DEGREES(ATAN(AV15/AU15))>0,(DEGREES(ATAN(AV15/AU15)))) -> 42.821715 | AY15: =_xlfn.IFS(AND(AF15="loxo",W15<600),BH15-AA15,AND(AF15="loxo",W15>600),BH15-V15,AND(B15>60,AF15="loxo"),BH15-V15,AF15="ortho",BH15-AD15) -> 0 | AZ15: 1 | BA15: =_xlfn.IFS(AZ15=1,Références!$B$80,AZ15=2,Références!$B$81,AZ15=3,Références!$B$82,AZ15=4,Références!$B$83,AZ15=5,Références!$B$84,AZ15=6,Références!$B$85,AZ15=7,Références!$B$86,AZ15=8,Références!$B$87,AZ15=9,Références!$B$88,AZ15=10,Références!$B$89,AZ15=11,Références!$B$90,AZ15=12,Références!$B$91) -> 1 | BB15: Beam | BC15: {=_xlfn.IFS(BB15="Beam", -0.0000000868778*BA15^5-0.0000459619*BA15^4+0.00347366*BA15^3-0.0884721*BA15^2+0.510463*BA15+14.9932,BB15="Following",0.000652681*BA15^3-0.0356523*BA15^2+0.29714*BA15+15.2038,BB15="Head",-0.00000154449*BA15^5+0.0000797696*BA15^4+0.000148965*BA15^3-0.0570448*BA15^2+0.244115*BA15+15.0029)} -> 15.418619 | BE15: 250 | BF15: 0 | BG15: =IF(BD15=0,SQRT((AU15^2)+(AV15^2)),SQRT((AU15^2)+(AV15^2))) -> 15.418619 | BH15: =_xlfn.IFS(AND(AV15>0,AU15>0),AX15,AND(AV15<0,AU15>0),360-AX15,AND(AV15>0,AU15<0),180-AX15,AND(AV15<0,AU15<0),180+AX15) -> 222.82171 | BI15: =(AP15-AY15) -> 222.82171 | BK15: =IF(BJ15=0,(AH15/BG15)*60,((AH15/BG15)*60)+BJ15) -> 13.958634 | BL15: =IF(G15="W",(ROUND((E15/15),0))*-1,(ROUND((E15/15),0))) -> -5 | BM15: =IF(BL15<0,((BL15*-1)/24),BL15/24) -> 0.20833333 | BN15: =IF(BJ15=0,BK15/(60*24),(BK15/(60*24))+(BJ15/(60*24))) -> 0.0096934957 | BO15: =BO14+BN14 -> 44927.561 | BP15: =BP14+BN14 -> 44927.77
A16: 13 | B16: 2 | C16: 46.415 | D16: S | E16: 80 | F16: 15.161 | G16: W | H16: =(C16/60)+B16 -> 2.7735833 | I16: =RADIANS(H16) -> 0.048408161 | J16: =IF(D16="S",I16,I16*-1) -> 0.048408161 | K16: =(F16/60)+E16 -> 80.252683 | L16: =RADIANS(K16) -> 1.4006736 | M16: =7915.704468*LOG((TAN((RADIANS(45)+(I16/2)))))-23.268932*SIN(I16)-0.0525*(SIN(I16)^3)*(SIN(I16)^5) -> 165.35407 | N16: {=_xlfn.IFS(D16<>OFFSET(D16,1,),M16+OFFSET(M16,1,),OFFSET(M16,1,)-M16<0,(OFFSET(M16,1,)-M16)*-1,OFFSET(M16,1,)-M16>0,OFFSET(M16,1,)-M16)} -> 3.8313652 | O16: =(DEGREES(IF(D16=D17,I17-I16,I16+I17)))*60 -> -3.853 | P16: =_xlfn.IFS(AND(D17="N",D16<>D17,O16>0),O16*-1,AND(D17="N",D16=D17,O16<0),O16*-1,AND(D17="S",D16=D17,O16>0),O16,AND(D17="S",D16<>D17,O16<0),O16,AND(D17="N",D17<>D16,O16<0),O16*-1,AND(D17="N",D17=D16,O16<0),O16*-1,AND(D17="S",D16=D17,O16<0),O16,AND(D17="N",D17=D16,O16>0),O16*-1) -> -3.853 | Q16: =(DEGREES(_xlfn.IFS(G16=G17,L17-L16,(L16+L17)>(RADIANS(180)),RADIANS(360)-(L16+L17),G16<>G17,L16+L17)))*60 -> 4.306 | R16: {=_xlfn.IFS(AND(G17="E",G17<>G16,L16+L17>(RADIANS(180)),Q16<0),Q16*-1,AND(G17="W",G17<>G16,L17+L16>(RADIANS(180)),Q16<0),Q16,AND(G17="E",G17<>G16,L17+L16>(RADIANS(180)),Q16>0),Q16,AND(G17="W",G17<>G16,L17+L16>(RADIANS(180)),Q16>0),Q16*-1,AND(G17="W",G17=G16,Q16<0),Q16,AND(G17="W",G17=G16,Q16>0),Q16,AND(G17="E",G17=G16,Q16<0),Q16*-1,AND(G17="E",G17=G16,Q16>0),Q16*-1,AND(G17="E",G17<>G16,Q16>0),Q16*-1,AND(G17="E",G17<>G16,Q16<0),Q16,AND(G17="W",G17<>G16,Q16>0),Q16,AND(G17="W",G17<>G16,Q16<0),Q16*-1)} -> 4.306 | S16: =IF(O16<0,-1*O16,O16) -> 3.853 | T16: =IF(Q16<0,-1*Q16,Q16) -> 4.306 | U16: =DEGREES(ATAN(T16/N16)) -> 48.338156 | V16: =_xlfn.IFS(AND(P16>0,R16>0),180+U16,AND(P16<0,R16>0),360-U16,AND(P16>0,R16<0),180-U16,AND(P16<0,R16<0),U16) -> 311.66184 | W16: =(S16/(COS(RADIANS(U16)))) -> 5.7963123 | X16: =AVERAGE(H16,H17) -> 2.741475 | Y16: =(T16*(COS(RADIANS(X16)))) -> 4.3010718 | Z16: =DEGREES(ATAN(Y16/S16)) -> 48.145279 | AA16: =_xlfn.IFS(AND(P16>0,R16>0),180+Z16,AND(P16<0,R16>0),360-Z16,AND(P16>0,R16<0),180-Z16,AND(P16<0,R16<0),Z16) -> 311.85472 | AB16: =(S16/(COS(RADIANS(Z16)))) -> 5.7744981 | AC16: =DEGREES(ACOS(((SIN(J17)-(SIN(J16))*(COS(RADIANS(AE16/60))))/(COS(J16)*SIN(RADIANS(AE16/60)))))) -> 131.853 | AD16: =_xlfn.IFS(AND(P16>0,R16<0),180-AC16,AND(P16>0,R16>0),180+AC16,AND(P16<0,R16>0),180+AC16,AND(P16<0,R16<0),180-AC16) -> 311.853 | AE16: =(DEGREES(ACOS((SIN(J16)*SIN(J17)+(COS(J16)*COS(J17)*COS(RADIANS(T16/60)))))))*60 -> 5.7744979 | AF16: loxo | AG16: {=_xlfn.IFS(AH16=W16,V16,AH16=AB16,AA16,AH16=AE16,AD16)} -> 311.85472 | AH16: =_xlfn.IFS(AND(AF16="loxo",W16<600),AB16,AND(AF16="loxo",W16>600),W16,AND(B16>60,AF16="loxo"),W16,AF16="ortho",AE16) -> 5.7744981 | AI16: =_xlfn.IFS(AND(AF16="loxo",W16>600),V16+BE16,AF16="ortho",AD16+BE16,AND(AF16="loxo",W16<600),AA16+BE16) -> 561.85472 | AJ16: =_xlfn.IFS(AI16>360,AI16-360,AI16<360,AI16) -> 201.85472 | AK16: =_xlfn.IFS(AJ16>270,AJ16-270,AJ16<90,90-AJ16,AJ16<180,AJ16-90,AJ16>180,270-AJ16) -> 68.145279 | AL16: =_xlfn.IFS(AND(AF16="loxo",W16>600),(SIN(RADIANS(U16))*BC16),AF16="ortho",(SIN(RADIANS(AC16))*BC16),AND(AF16="loxo",W16<600),(SIN(RADIANS(Z16))*BC16)) -> 11.48439 | AM16: =_xlfn.IFS(AND(AF16="loxo",W16>600),SQRT((BC16^2)-((SIN(RADIANS(U16))*BC16)^2)),AF16="ortho",SQRT((BC16^2)-((SIN(RADIANS(AC16))*BC16)^2)),AND(AF16="loxo",W16<600),SQRT((BC16^2)-((SIN(RADIANS(Z16))*BC16)^2))) -> 10.287983 | AN16: =(SIN(RADIANS(AK16))*BF16) -> 0 | AO16: =SQRT((BF16^2)-((SIN(RADIANS(AK16))*BF16)^2)) -> 0 | AP16: =_xlfn.IFS(AND(AF16="loxo",W16<600),AA16,AND(AF16="loxo",W16>600),V16,AND(B16>60,AF16="loxo"),V16,AF16="ortho",AD16) -> 311.85472 | AQ16: =_xlfn.IFS(AP16>270,AM16,AP16<90,AM16,AP16<270,AM16*-1,AP16>90,AM16*-1) -> 10.287983 | AR16: =_xlfn.IFS(AJ16>270,AN16,AJ16<90,AN16,AJ16<270,AN16*-1,AJ16>90,AN16*-1) -> 0 | AS16: =_xlfn.IFS(AND(AP16>180,AP16<360),AL16*-1,AND(AP16<180,AP16>0),AL16) -> -11.48439 | AT16: =_xlfn.IFS(AJ16>180,AO16*-1,AJ16<180,AO16,AJ16=0,AO16,AJ16=360,AO16) -> 0 | AU16: =(AQ16+AR16) -> 10.287983 | AV16: =(AS16+AT16) -> -11.48439 | AW16: =DEGREES(ATAN(AV16/AU16)) -> -48.145279 | AX16: =_xlfn.IFS((DEGREES(ATAN(AV16/AU16)))<0,(DEGREES(ATAN(AV16/AU16)))*-1,DEGREES(ATAN(AV16/AU16))>0,(DEGREES(ATAN(AV16/AU16)))) -> 48.145279 | AY16: =_xlfn.IFS(AND(AF16="loxo",W16<600),BH16-AA16,AND(AF16="loxo",W16>600),BH16-V16,AND(B16>60,AF16="loxo"),BH16-V16,AF16="ortho",BH16-AD16) -> 0 | AZ16: 1 | BA16: =_xlfn.IFS(AZ16=1,Références!$B$80,AZ16=2,Références!$B$81,AZ16=3,Références!$B$82,AZ16=4,Références!$B$83,AZ16=5,Références!$B$84,AZ16=6,Références!$B$85,AZ16=7,Références!$B$86,AZ16=8,Références!$B$87,AZ16=9,Références!$B$88,AZ16=10,Références!$B$89,AZ16=11,Références!$B$90,AZ16=12,Références!$B$91) -> 1 | BB16: Beam | BC16: {=_xlfn.IFS(BB16="Beam", -0.0000000868778*BA16^5-0.0000459619*BA16^4+0.00347366*BA16^3-0.0884721*BA16^2+0.510463*BA16+14.9932,BB16="Following",0.000652681*BA16^3-0.0356523*BA16^2+0.29714*BA16+15.2038,BB16="Head",-0.00000154449*BA16^5+0.0000797696*BA16^4+0.000148965*BA16^3-0.0570448*BA16^2+0.244115*BA16+15.0029)} -> 15.418619 | BE16: 250 | BF16: 0 | BG16: =IF(BD16=0,SQRT((AU16^2)+(AV16^2)),SQRT((AU16^2)+(AV16^2))) -> 15.418619 | BH16: =_xlfn.IFS(AND(AV16>0,AU16>0),AX16,AND(AV16<0,AU16>0),360-AX16,AND(AV16>0,AU16<0),180-AX16,AND(AV16<0,AU16<0),180+AX16) -> 311.85472 | BI16: =(AP16-AY16) -> 311.85472 | BK16: =IF(BJ16=0,(AH16/BG16)*60,((AH16/BG16)*60)+BJ16) -> 22.470877 | BL16: =IF(G16="W",(ROUND((E16/15),0))*-1,(ROUND((E16/15),0))) -> -5 | BM16: =IF(BL16<0,((BL16*-1)/24),BL16/24) -> 0.20833333 | BN16: =IF(BJ16=0,BK16/(60*24),(BK16/(60*24))+(BJ16/(60*24))) -> 0.015604776 | BO16: =BO15+BN15 -> 44927.571 | BP16: =BP15+BN15 -> 44927.779
... A19: 15.1 | B19: 2 | C19: 30 | D19: S | E19: 105 | F19: 0 | G19: W | H19: =(C19/60)+B19 -> 2.5 | I19: =RADIANS(H19) -> 0.043633231 | J19: =IF(D19="S",I19,I19*-1) -> 0.043633231 | K19: =(F19/60)+E19 -> 105 | L19: =RADIANS(K19) -> 1.8325957 | M19: =7915.704468*LOG((TAN((RADIANS(45)+(I19/2)))))-23.268932*SIN(I19)-0.0525*(SIN(I19)^3)*(SIN(I19)^5) -> 149.03264 | N19: {=_xlfn.IFS(D19<>OFFSET(D19,1,),M19+OFFSET(M19,1,),OFFSET(M19,1,)-M19<0,(OFFSET(M19,1,)-M19)*-1,OFFSET(M19,1,)-M19>0,OFFSET(M19,1,)-M19)} -> 380.53579 | O19: =(DEGREES(IF(D19=D20,I20-I19,I19+I20)))*60 -> 382.9 | P19: =_xlfn.IFS(AND(D20="N",D19<>D20,O19>0),O19*-1,AND(D20="N",D19=D20,O19<0),O19*-1,AND(D20="S",D19=D20,O19>0),O19,AND(D20="S",D19<>D20,O19<0),O19,AND(D20="N",D20<>D19,O19<0),O19*-1,AND(D20="N",D20=D19,O19<0),O19*-1,AND(D20="S",D19=D20,O19<0),O19,AND(D20="N",D20=D19,O19>0),O19*-1) -> -382.9 | Q19: =(DEGREES(_xlfn.IFS(G19=G20,L20-L19,(L19+L20)>(RADIANS(180)),RADIANS(360)-(L19+L20),G19<>G20,L19+L20)))*60 -> 900 | R19: {=_xlfn.IFS(AND(G20="E",G20<>G19,L19+L20>(RADIANS(180)),Q19<0),Q19*-1,AND(G20="W",G20<>G19,L20+L19>(RADIANS(180)),Q19<0),Q19,AND(G20="E",G20<>G19,L20+L19>(RADIANS(180)),Q19>0),Q19,AND(G20="W",G20<>G19,L20+L19>(RADIANS(180)),Q19>0),Q19*-1,AND(G20="W",G20=G19,Q19<0),Q19,AND(G20="W",G20=G19,Q19>0),Q19,AND(G20="E",G20=G19,Q19<0),Q19*-1,AND(G20="E",G20=G19,Q19>0),Q19*-1,AND(G20="E",G20<>G19,Q19>0),Q19*-1,AND(G20="E",G20<>G19,Q19<0),Q19,AND(G20="W",G20<>G19,Q19>0),Q19,AND(G20="W",G20<>G19,Q19<0),Q19*-1)} -> 900 | S19: =IF(O19<0,-1*O19,O19) -> 382.9 | T19: =IF(Q19<0,-1*Q19,Q19) -> 900 | U19: =DEGREES(ATAN(T19/N19)) -> 67.080506 | V19: =_xlfn.IFS(AND(P19>0,R19>0),180+U19,AND(P19<0,R19>0),360-U19,AND(P19>0,R19<0),180-U19,AND(P19<0,R19<0),U19) -> 292.91949 | W19: =(S19/(COS(RADIANS(U19)))) -> 983.21334 | X19: =AVERAGE(H19,H20) -> 3.1908333 | Y19: =(T19*(COS(RADIANS(X19)))) -> 898.60471 | Z19: =DEGREES(ATAN(Y19/S19)) -> 66.920902 | AA19: =_xlfn.IFS(AND(P19>0,R19>0),180+Z19,AND(P19<0,R19>0),360-Z19,AND(P19>0,R19<0),180-Z19,AND(P19<0,R19<0),Z19) -> 293.0791 | AB19: =(S19/(COS(RADIANS(Z19)))) -> 976.78188 | AC19: =DEGREES(ACOS(((SIN(J20)-(SIN(J19))*(COS(RADIANS(AE19/60))))/(COS(J19)*SIN(RADIANS(AE19/60)))))) -> 113.01089 | AD19: =_xlfn.IFS(AND(P19>0,R19<0),180-AC19,AND(P19>0,R19>0),180+AC19,AND(P19<0,R19>0),180+AC19,AND(P19<0,R19<0),180-AC19) -> 293.01089 | AE19: =(DEGREES(ACOS((SIN(J19)*SIN(J20)+(COS(J19)*COS(J20)*COS(RADIANS(T19/60)))))))*60 -> 977.5762 | AF19: loxo | AG19: {=_xlfn.IFS(AH19=W19,V19,AH19=AB19,AA19,AH19=AE19,AD19)} -> 292.91949 | AH19: =_xlfn.IFS(AND(AF19="loxo",W19<600),AB19,AND(AF19="loxo",W19>600),W19,AND(B19>60,AF19="loxo"),W19,AF19="ortho",AE19) -> 983.21334 | AI19: =_xlfn.IFS(AND(AF19="loxo",W19>600),V19+BE19,AF19="ortho",AD19+BE19,AND(AF19="loxo",W19<600),AA19+BE19) -> 292.91949 | AJ19: =_xlfn.IFS(AI19>360,AI19-360,AI19<360,AI19) -> 292.91949 | AK19: =_xlfn.IFS(AJ19>270,AJ19-270,AJ19<90,90-AJ19,AJ19<180,AJ19-90,AJ19>180,270-AJ19) -> 22.919494 | AL19: =_xlfn.IFS(AND(AF19="loxo",W19>600),(SIN(RADIANS(U19))*BC19),AF19="ortho",(SIN(RADIANS(AC19))*BC19),AND(AF19="loxo",W19<600),(SIN(RADIANS(Z19))*BC19)) -> 14.584904 | AM19: =_xlfn.IFS(AND(AF19="loxo",W19>600),SQRT((BC19^2)-((SIN(RADIANS(U19))*BC19)^2)),AF19="ortho",SQRT((BC19^2)-((SIN(RADIANS(AC19))*BC19)^2)),AND(AF19="loxo",W19<600),SQRT((BC19^2)-((SIN(RADIANS(Z19))*BC19)^2))) -> 6.1667533 | AN19: =(SIN(RADIANS(AK19))*BF19) -> 0.31154988 | AO19: =SQRT((BF19^2)-((SIN(RADIANS(AK19))*BF19)^2)) -> 0.73684237 | AP19: =_xlfn.IFS(AND(AF19="loxo",W19<600),AA19,AND(AF19="loxo",W19>600),V19,AND(B19>60,AF19="loxo"),V19,AF19="ortho",AD19) -> 292.91949 | AQ19: =_xlfn.IFS(AP19>270,AM19,AP19<90,AM19,AP19<270,AM19*-1,AP19>90,AM19*-1) -> 6.1667533 | AR19: =_xlfn.IFS(AJ19>270,AN19,AJ19<90,AN19,AJ19<270,AN19*-1,AJ19>90,AN19*-1) -> 0.31154988 | AS19: =_xlfn.IFS(AND(AP19>180,AP19<360),AL19*-1,AND(AP19<180,AP19>0),AL19) -> -14.584904 | AT19: =_xlfn.IFS(AJ19>180,AO19*-1,AJ19<180,AO19,AJ19=0,AO19,AJ19=360,AO19) -> -0.73684237 | AU19: =(AQ19+AR19) -> 6.4783032 | AV19: =(AS19+AT19) -> -15.321746 | AW19: =DEGREES(ATAN(AV19/AU19)) -> -67.080506 | AX19: =_xlfn.IFS((DEGREES(ATAN(AV19/AU19)))<0,(DEGREES(ATAN(AV19/AU19)))*-1,DEGREES(ATAN(AV19/AU19))>0,(DEGREES(ATAN(AV19/AU19)))) -> 67.080506 | AY19: =_xlfn.IFS(AND(AF19="loxo",W19<600),BH19-AA19,AND(AF19="loxo",W19>600),BH19-V19,AND(B19>60,AF19="loxo"),BH19-V19,AF19="ortho",BH19-AD19) -> 0 | AZ19: 3 | BA19: =_xlfn.IFS(AZ19=1,Références!$B$80,AZ19=2,Références!$B$81,AZ19=3,Références!$B$82,AZ19=4,Références!$B$83,AZ19=5,Références!$B$84,AZ19=6,Références!$B$85,AZ19=7,Références!$B$86,AZ19=8,Références!$B$87,AZ19=9,Références!$B$88,AZ19=10,Références!$B$89,AZ19=11,Références!$B$90,AZ19=12,Références!$B$91) -> 3.5 | BB19: Following | BC19: {=_xlfn.IFS(BB19="Beam", -0.0000000868778*BA19^5-0.0000459619*BA19^4+0.00347366*BA19^3-0.0884721*BA19^2+0.510463*BA19+14.9932,BB19="Following",0.000652681*BA19^3-0.0356523*BA19^2+0.29714*BA19+15.2038,BB19="Head",-0.00000154449*BA19^5+0.0000797696*BA19^4+0.000148965*BA19^3-0.0570448*BA19^2+0.244115*BA19+15.0029)} -> 15.835033 | BE19: 0 | BF19: 0.8 | BG19: =IF(BD19=0,SQRT((AU19^2)+(AV19^2)),SQRT((AU19^2)+(AV19^2))) -> 16.635033 | BH19: =_xlfn.IFS(AND(AV19>0,AU19>0),AX19,AND(AV19<0,AU19>0),360-AX19,AND(AV19>0,AU19<0),180-AX19,AND(AV19<0,AU19<0),180+AX19) -> 292.91949 | BI19: =(AP19-AY19) -> 292.91949 | BK19: =IF(BJ19=0,(AH19/BG19)*60,((AH19/BG19)*60)+BJ19) -> 3546.299 | BL19: =IF(G19="W",(ROUND((E19/15),0))*-1,(ROUND((E19/15),0))) -> -7 | BM19: =IF(BL19<0,((BL19*-1)/24),BL19/24) -> 0.29166667 | BN19: =IF(BJ19=0,BK19/(60*24),(BK19/(60*24))+(BJ19/(60*24))) -> 2.4627076 | BO19: =BO18+BN18 -> 44931.386 | BP19: =BP18+BN18 -> 44931.594
B20: 3 | C20: 52.9 | D20: N | E20: 120 | F20: 0 | G20: W | H20: =(C20/60)+B20 -> 3.8816667 | I20: =RADIANS(H20) -> 0.067747864 | J20: =IF(D20="S",I20,I20*-1) -> -0.067747864 | K20: =(F20/60)+E20 -> 120 | L20: =RADIANS(K20) -> 2.0943951 | M20: =7915.704468*LOG((TAN((RADIANS(45)+(I20/2)))))-23.268932*SIN(I20)-0.0525*(SIN(I20)^3)*(SIN(I20)^5) -> 231.50315 | N20: {=_xlfn.IFS(D20<>OFFSET(D20,1,),M20+OFFSET(M20,1,),OFFSET(M20,1,)-M20<0,(OFFSET(M20,1,)-M20)*-1,OFFSET(M20,1,)-M20>0,OFFSET(M20,1,)-M20)} -> 362.18012 | O20: =(DEGREES(IF(D20=D21,I21-I20,I20+I21)))*60 -> 361.8 | P20: =_xlfn.IFS(AND(D21="N",D20<>D21,O20>0),O20*-1,AND(D21="N",D20=D21,O20<0),O20*-1,AND(D21="S",D20=D21,O20>0),O20,AND(D21="S",D20<>D21,O20<0),O20,AND(D21="N",D21<>D20,O20<0),O20*-1,AND(D21="N",D21=D20,O20<0),O20*-1,AND(D21="S",D20=D21,O20<0),O20,AND(D21="N",D21=D20,O20>0),O20*-1) -> -361.8 | Q20: =(DEGREES(_xlfn.IFS(G20=G21,L21-L20,(L20+L21)>(RADIANS(180)),RADIANS(360)-(L20+L21),G20<>G21,L20+L21)))*60 -> 900 | R20: {=_xlfn.IFS(AND(G21="E",G21<>G20,L20+L21>(RADIANS(180)),Q20<0),Q20*-1,AND(G21="W",G21<>G20,L21+L20>(RADIANS(180)),Q20<0),Q20,AND(G21="E",G21<>G20,L21+L20>(RADIANS(180)),Q20>0),Q20,AND(G21="W",G21<>G20,L21+L20>(RADIANS(180)),Q20>0),Q20*-1,AND(G21="W",G21=G20,Q20<0),Q20,AND(G21="W",G21=G20,Q20>0),Q20,AND(G21="E",G21=G20,Q20<0),Q20*-1,AND(G21="E",G21=G20,Q20>0),Q20*-1,AND(G21="E",G21<>G20,Q20>0),Q20*-1,AND(G21="E",G21<>G20,Q20<0),Q20,AND(G21="W",G21<>G20,Q20>0),Q20,AND(G21="W",G21<>G20,Q20<0),Q20*-1)} -> 900 | S20: =IF(O20<0,-1*O20,O20) -> 361.8 | T20: =IF(Q20<0,-1*Q20,Q20) -> 900 | U20: =DEGREES(ATAN(T20/N20)) -> 68.079043 | V20: =_xlfn.IFS(AND(P20>0,R20>0),180+U20,AND(P20<0,R20>0),360-U20,AND(P20>0,R20<0),180-U20,AND(P20<0,R20<0),U20) -> 291.92096 | W20: =(S20/(COS(RADIANS(U20)))) -> 969.12325 | X20: =AVERAGE(H20,H21) -> 6.8966667 | Y20: =(T20*(COS(RADIANS(X20)))) -> 893.4879 | Z20: =DEGREES(ATAN(Y20/S20)) -> 67.955501 | AA20: =_xlfn.IFS(AND(P20>0,R20>0),180+Z20,AND(P20<0,R20>0),360-Z20,AND(P20>0,R20<0),180-Z20,AND(P20<0,R20<0),Z20) -> 292.0445 | AB20: =(S20/(COS(RADIANS(Z20)))) -> 963.96051 | AC20: =DEGREES(ACOS(((SIN(J21)-(SIN(J20))*(COS(RADIANS(AE20/60))))/(COS(J20)*SIN(RADIANS(AE20/60)))))) -> 112.82822 | AD20: =_xlfn.IFS(AND(P20>0,R20<0),180-AC20,AND(P20>0,R20>0),180+AC20,AND(P20<0,R20>0),180+AC20,AND(P20<0,R20<0),180-AC20) -> 292.82822 | AE20: =(DEGREES(ACOS((SIN(J20)*SIN(J21)+(COS(J20)*COS(J21)*COS(RADIANS(T20/60)))))))*60 -> 963.52652 | AF20: loxo | AG20: {=_xlfn.IFS(AH20=W20,V20,AH20=AB20,AA20,AH20=AE20,AD20)} -> 291.92096 | AH20: =_xlfn.IFS(AND(AF20="loxo",W20<600),AB20,AND(AF20="loxo",W20>600),W20,AND(B20>60,AF20="loxo"),W20,AF20="ortho",AE20) -> 969.12325 | AI20: =_xlfn.IFS(AND(AF20="loxo",W20>600),V20+BE20,AF20="ortho",AD20+BE20,AND(AF20="loxo",W20<600),AA20+BE20) -> 321.92096 | AJ20: =_xlfn.IFS(AI20>360,AI20-360,AI20<360,AI20) -> 321.92096 | AK20: =_xlfn.IFS(AJ20>270,AJ20-270,AJ20<90,90-AJ20,AJ20<180,AJ20-90,AJ20>180,270-AJ20) -> 51.920957 | AL20: =_xlfn.IFS(AND(AF20="loxo",W20>600),(SIN(RADIANS(U20))*BC20),AF20="ortho",(SIN(RADIANS(AC20))*BC20),AND(AF20="loxo",W20<600),(SIN(RADIANS(Z20))*BC20)) -> 14.698602 | AM20: =_xlfn.IFS(AND(AF20="loxo",W20>600),SQRT((BC20^2)-((SIN(RADIANS(U20))*BC20)^2)),AF20="ortho",SQRT((BC20^2)-((SIN(RADIANS(AC20))*BC20)^2)),AND(AF20="loxo",W20<600),SQRT((BC20^2)-((SIN(RADIANS(Z20))*BC20)^2))) -> 5.9150459 | AN20: =(SIN(RADIANS(AK20))*BF20) -> 0.39358033 | AO20: =SQRT((BF20^2)-((SIN(RADIANS(AK20))*BF20)^2)) -> 0.308374 | AP20: =_xlfn.IFS(AND(AF20="loxo",W20<600),AA20,AND(AF20="loxo",W20>600),V20,AND(B20>60,AF20="loxo"),V20,AF20="ortho",AD20) -> 291.92096 | AQ20: =_xlfn.IFS(AP20>270,AM20,AP20<90,AM20,AP20<270,AM20*-1,AP20>90,AM20*-1) -> 5.9150459 | AR20: =_xlfn.IFS(AJ20>270,AN20,AJ20<90,AN20,AJ20<270,AN20*-1,AJ20>90,AN20*-1) -> 0.39358033 | AS20: =_xlfn.IFS(AND(AP20>180,AP20<360),AL20*-1,AND(AP20<180,AP20>0),AL20) -> -14.698602 | AT20: =_xlfn.IFS(AJ20>180,AO20*-1,AJ20<180,AO20,AJ20=0,AO20,AJ20=360,AO20) -> -0.308374 | AU20: =(AQ20+AR20) -> 6.3086262 | AV20: =(AS20+AT20) -> -15.006976 | AW20: =DEGREES(ATAN(AV20/AU20)) -> -67.199109 | AX20: =_xlfn.IFS((DEGREES(ATAN(AV20/AU20)))<0,(DEGREES(ATAN(AV20/AU20)))*-1,DEGREES(ATAN(AV20/AU20))>0,(DEGREES(ATAN(AV20/AU20)))) -> 67.199109 | AY20: =_xlfn.IFS(AND(AF20="loxo",W20<600),BH20-AA20,AND(AF20="loxo",W20>600),BH20-V20,AND(B20>60,AF20="loxo"),BH20-V20,AF20="ortho",BH20-AD20) -> 0.87993412 | AZ20: 4 | BA20: =_xlfn.IFS(AZ20=1,Références!$B$80,AZ20=2,Références!$B$81,AZ20=3,Références!$B$82,AZ20=4,Références!$B$83,AZ20=5,Références!$B$84,AZ20=6,Références!$B$85,AZ20=7,Références!$B$86,AZ20=8,Références!$B$87,AZ20=9,Références!$B$88,AZ20=10,Références!$B$89,AZ20=11,Références!$B$90,AZ20=12,Références!$B$91) -> 6 | BB20: Following | BC20: {=_xlfn.IFS(BB20="Beam", -0.0000000868778*BA20^5-0.0000459619*BA20^4+0.00347366*BA20^3-0.0884721*BA20^2+0.510463*BA20+14.9932,BB20="Following",0.000652681*BA20^3-0.0356523*BA20^2+0.29714*BA20+15.2038,BB20="Head",-0.00000154449*BA20^5+0.0000797696*BA20^4+0.000148965*BA20^3-0.0570448*BA20^2+0.244115*BA20+15.0029)} -> 15.844136 | BE20: 30 | BF20: 0.5 | BG20: =IF(BD20=0,SQRT((AU20^2)+(AV20^2)),SQRT((AU20^2)+(AV20^2))) -> 16.279069 | BH20: =_xlfn.IFS(AND(AV20>0,AU20>0),AX20,AND(AV20<0,AU20>0),360-AX20,AND(AV20>0,AU20<0),180-AX20,AND(AV20<0,AU20<0),180+AX20) -> 292.80089 | BI20: =(AP20-AY20) -> 291.04102 | BK20: =IF(BJ20=0,(AH20/BG20)*60,((AH20/BG20)*60)+BJ20) -> 3571.9116 | BL20: =IF(G20="W",(ROUND((E20/15),0))*-1,(ROUND((E20/15),0))) -> -8 | BM20: =IF(BL20<0,((BL20*-1)/24),BL20/24) -> 0.33333333 | BN20: =IF(BJ20=0,BK20/(60*24),(BK20/(60*24))+(BJ20/(60*24))) -> 2.4804942 | BO20: =BO19+BN19 -> 44933.849 | BP20: =BP19+BN19 -> 44934.057
B21: 9 | C21: 54.7 | D21: N | E21: 135 | F21: 0 | G21: W | H21: =(C21/60)+B21 -> 9.9116667 | I21: =RADIANS(H21) -> 0.17299122 | J21: =IF(D21="S",I21,I21*-1) -> -0.17299122 | K21: =(F21/60)+E21 -> 135 | L21: =RADIANS(K21) -> 2.3561945 | M21: =7915.704468*LOG((TAN((RADIANS(45)+(I21/2)))))-23.268932*SIN(I21)-0.0525*(SIN(I21)^3)*(SIN(I21)^5) -> 593.68327 | N21: {=_xlfn.IFS(D21<>OFFSET(D21,1,),M21+OFFSET(M21,1,),OFFSET(M21,1,)-M21<0,(OFFSET(M21,1,)-M21)*-1,OFFSET(M21,1,)-M21>0,OFFSET(M21,1,)-M21)} -> 316.61999 | O21: =(DEGREES(IF(D21=D22,I22-I21,I21+I22)))*60 -> 311 | P21: =_xlfn.IFS(AND(D22="N",D21<>D22,O21>0),O21*-1,AND(D22="N",D21=D22,O21<0),O21*-1,AND(D22="S",D21=D22,O21>0),O21,AND(D22="S",D21<>D22,O21<0),O21,AND(D22="N",D22<>D21,O21<0),O21*-1,AND(D22="N",D22=D21,O21<0),O21*-1,AND(D22="S",D21=D22,O21<0),O21,AND(D22="N",D22=D21,O21>0),O21*-1) -> -311 | Q21: =(DEGREES(_xlfn.IFS(G21=G22,L22-L21,(L21+L22)>(RADIANS(180)),RADIANS(360)-(L21+L22),G21<>G22,L21+L22)))*60 -> 900 | R21: {=_xlfn.IFS(AND(G22="E",G22<>G21,L21+L22>(RADIANS(180)),Q21<0),Q21*-1,AND(G22="W",G22<>G21,L22+L21>(RADIANS(180)),Q21<0),Q21,AND(G22="E",G22<>G21,L22+L21>(RADIANS(180)),Q21>0),Q21,AND(G22="W",G22<>G21,L22+L21>(RADIANS(180)),Q21>0),Q21*-1,AND(G22="W",G22=G21,Q21<0),Q21,AND(G22="W",G22=G21,Q21>0),Q21,AND(G22="E",G22=G21,Q21<0),Q21*-1,AND(G22="E",G22=G21,Q21>0),Q21*-1,AND(G22="E",G22<>G21,Q21>0),Q21*-1,AND(G22="E",G22<>G21,Q21<0),Q21,AND(G22="W",G22<>G21,Q21>0),Q21,AND(G22="W",G22<>G21,Q21<0),Q21*-1)} -> 900 | S21: =IF(O21<0,-1*O21,O21) -> 311 | T21: =IF(Q21<0,-1*Q21,Q21) -> 900 | U21: =DEGREES(ATAN(T21/N21)) -> 70.618128 | V21: =_xlfn.IFS(AND(P21>0,R21>0),180+U21,AND(P21<0,R21>0),360-U21,AND(P21>0,R21<0),180-U21,AND(P21<0,R21<0),U21) -> 289.38187 | W21: =(S21/(COS(RADIANS(U21)))) -> 937.1346 | X21: =AVERAGE(H21,H22) -> 12.503333 | Y21: =(T21*(COS(RADIANS(X21)))) -> 878.65507 | Z21: =DEGREES(ATAN(Y21/S21)) -> 70.508581 | AA21: =_xlfn.IFS(AND(P21>0,R21>0),180+Z21,AND(P21<0,R21>0),360-Z21,AND(P21>0,R21<0),180-Z21,AND(P21<0,R21<0),Z21) -> 289.49142 | AB21: =(S21/(COS(RADIANS(Z21)))) -> 932.07067 | AC21: =DEGREES(ACOS(((SIN(J22)-(SIN(J21))*(COS(RADIANS(AE21/60))))/(COS(J21)*SIN(RADIANS(AE21/60)))))) -> 111.01647 | AD21: =_xlfn.IFS(AND(P21>0,R21<0),180-AC21,AND(P21>0,R21>0),180+AC21,AND(P21<0,R21>0),180+AC21,AND(P21<0,R21<0),180-AC21) -> 291.01647 | AE21: =(DEGREES(ACOS((SIN(J21)*SIN(J22)+(COS(J21)*COS(J22)*COS(RADIANS(T21/60)))))))*60 -> 931.63434 | AF21: loxo | AG21: {=_xlfn.IFS(AH21=W21,V21,AH21=AB21,AA21,AH21=AE21,AD21)} -> 289.38187 | AH21: =_xlfn.IFS(AND(AF21="loxo",W21<600),AB21,AND(AF21="loxo",W21>600),W21,AND(B21>60,AF21="loxo"),W21,AF21="ortho",AE21) -> 937.1346 | AI21: =_xlfn.IFS(AND(AF21="loxo",W21>600),V21+BE21,AF21="ortho",AD21+BE21,AND(AF21="loxo",W21<600),AA21+BE21) -> 319.38187 | AJ21: =_xlfn.IFS(AI21>360,AI21-360,AI21<360,AI21) -> 319.38187 | AK21: =_xlfn.IFS(AJ21>270,AJ21-270,AJ21<90,90-AJ21,AJ21<180,AJ21-90,AJ21>180,270-AJ21) -> 49.381872 | AL21: =_xlfn.IFS(AND(AF21="loxo",W21>600),(SIN(RADIANS(U21))*BC21),AF21="ortho",(SIN(RADIANS(AC21))*BC21),AND(AF21="loxo",W21<600),(SIN(RADIANS(Z21))*BC21)) -> 14.946213 | AM21: =_xlfn.IFS(AND(AF21="loxo",W21>600),SQRT((BC21^2)-((SIN(RADIANS(U21))*BC21)^2)),AF21="ortho",SQRT((BC21^2)-((SIN(RADIANS(AC21))*BC21)^2)),AND(AF21="loxo",W21<600),SQRT((BC21^2)-((SIN(RADIANS(Z21))*BC21)^2))) -> 5.2580775 | AN21: =(SIN(RADIANS(AK21))*BF21) -> 0.37953268 | AO21: =SQRT((BF21^2)-((SIN(RADIANS(AK21))*BF21)^2)) -> 0.32550721 | AP21: =_xlfn.IFS(AND(AF21="loxo",W21<600),AA21,AND(AF21="loxo",W21>600),V21,AND(B21>60,AF21="loxo"),V21,AF21="ortho",AD21) -> 289.38187 | AQ21: =_xlfn.IFS(AP21>270,AM21,AP21<90,AM21,AP21<270,AM21*-1,AP21>90,AM21*-1) -> 5.2580775 | AR21: =_xlfn.IFS(AJ21>270,AN21,AJ21<90,AN21,AJ21<270,AN21*-1,AJ21>90,AN21*-1) -> 0.37953268 | AS21: =_xlfn.IFS(AND(AP21>180,AP21<360),AL21*-1,AND(AP21<180,AP21>0),AL21) -> -14.946213 | AT21: =_xlfn.IFS(AJ21>180,AO21*-1,AJ21<180,AO21,AJ21=0,AO21,AJ21=360,AO21) -> -0.32550721 | AU21: =(AQ21+AR21) -> 5.6376102 | AV21: =(AS21+AT21) -> -15.27172 | AW21: =DEGREES(ATAN(AV21/AU21)) -> -69.738194 | AX21: =_xlfn.IFS((DEGREES(ATAN(AV21/AU21)))<0,(DEGREES(ATAN(AV21/AU21)))*-1,DEGREES(ATAN(AV21/AU21))>0,(DEGREES(ATAN(AV21/AU21)))) -> 69.738194 | AY21: =_xlfn.IFS(AND(AF21="loxo",W21<600),BH21-AA21,AND(AF21="loxo",W21>600),BH21-V21,AND(B21>60,AF21="loxo"),BH21-V21,AF21="ortho",BH21-AD21) -> 0.87993412 | AZ21: 4 | BA21: =_xlfn.IFS(AZ21=1,Références!$B$80,AZ21=2,Références!$B$81,AZ21=3,Références!$B$82,AZ21=4,Références!$B$83,AZ21=5,Références!$B$84,AZ21=6,Références!$B$85,AZ21=7,Références!$B$86,AZ21=8,Références!$B$87,AZ21=9,Références!$B$88,AZ21=10,Références!$B$89,AZ21=11,Références!$B$90,AZ21=12,Références!$B$91) -> 6 | BB21: Following | BC21: {=_xlfn.IFS(BB21="Beam", -0.0000000868778*BA21^5-0.0000459619*BA21^4+0.00347366*BA21^3-0.0884721*BA21^2+0.510463*BA21+14.9932,BB21="Following",0.000652681*BA21^3-0.0356523*BA21^2+0.29714*BA21+15.2038,BB21="Head",-0.00000154449*BA21^5+0.0000797696*BA21^4+0.000148965*BA21^3-0.0570448*BA21^2+0.244115*BA21+15.0029)} -> 15.844136 | BE21: 30 | BF21: 0.5 | BG21: =IF(BD21=0,SQRT((AU21^2)+(AV21^2)),SQRT((AU21^2)+(AV21^2))) -> 16.279069 | BH21: =_xlfn.IFS(AND(AV21>0,AU21>0),AX21,AND(AV21<0,AU21>0),360-AX21,AND(AV21>0,AU21<0),180-AX21,AND(AV21<0,AU21<0),180+AX21) -> 290.26181 | BI21: =(AP21-AY21) -> 288.50194 | BK21: =IF(BJ21=0,(AH21/BG21)*60,((AH21/BG21)*60)+BJ21) -> 3454.0106 | BL21: =IF(G21="W",(ROUND((E21/15),0))*-1,(ROUND((E21/15),0))) -> -9 | BM21: =IF(BL21<0,((BL21*-1)/24),BL21/24) -> 0.375 | BN21: =IF(BJ21=0,BK21/(60*24),(BK21/(60*24))+(BJ21/(60*24))) -> 2.3986185 | BO21: =BO20+BN20 -> 44936.329 | BP21: =BP20+BN20 -> 44936.538
B22: 15 | C22: 5.7 | D22: N | E22: 150 | F22: 0 | G22: W | H22: =(C22/60)+B22 -> 15.095 | I22: =RADIANS(H22) -> 0.26345745 | J22: =IF(D22="S",I22,I22*-1) -> -0.26345745 | K22: =(F22/60)+E22 -> 150 | L22: =RADIANS(K22) -> 2.6179939 | M22: =7915.704468*LOG((TAN((RADIANS(45)+(I22/2)))))-23.268932*SIN(I22)-0.0525*(SIN(I22)^3)*(SIN(I22)^5) -> 910.30327 | N22: {=_xlfn.IFS(D22<>OFFSET(D22,1,),M22+OFFSET(M22,1,),OFFSET(M22,1,)-M22<0,(OFFSET(M22,1,)-M22)*-1,OFFSET(M22,1,)-M22>0,OFFSET(M22,1,)-M22)} -> 250.02266 | O22: =(DEGREES(IF(D22=D23,I23-I22,I22+I23)))*60 -> 240.4 | P22: =_xlfn.IFS(AND(D23="N",D22<>D23,O22>0),O22*-1,AND(D23="N",D22=D23,O22<0),O22*-1,AND(D23="S",D22=D23,O22>0),O22,AND(D23="S",D22<>D23,O22<0),O22,AND(D23="N",D23<>D22,O22<0),O22*-1,AND(D23="N",D23=D22,O22<0),O22*-1,AND(D23="S",D22=D23,O22<0),O22,AND(D23="N",D23=D22,O22>0),O22*-1) -> -240.4 | Q22: =(DEGREES(_xlfn.IFS(G22=G23,L23-L22,(L22+L23)>(RADIANS(180)),RADIANS(360)-(L22+L23),G22<>G23,L22+L23)))*60 -> 900 | R22: {=_xlfn.IFS(AND(G23="E",G23<>G22,L22+L23>(RADIANS(180)),Q22<0),Q22*-1,AND(G23="W",G23<>G22,L23+L22>(RADIANS(180)),Q22<0),Q22,AND(G23="E",G23<>G22,L23+L22>(RADIANS(180)),Q22>0),Q22,AND(G23="W",G23<>G22,L23+L22>(RADIANS(180)),Q22>0),Q22*-1,AND(G23="W",G23=G22,Q22<0),Q22,AND(G23="W",G23=G22,Q22>0),Q22,AND(G23="E",G23=G22,Q22<0),Q22*-1,AND(G23="E",G23=G22,Q22>0),Q22*-1,AND(G23="E",G23<>G22,Q22>0),Q22*-1,AND(G23="E",G23<>G22,Q22<0),Q22,AND(G23="W",G23<>G22,Q22>0),Q22,AND(G23="W",G23<>G22,Q22<0),Q22*-1)} -> 900 | S22: =IF(O22<0,-1*O22,O22) -> 240.4 | T22: =IF(Q22<0,-1*Q22,Q22) -> 900 | U22: =DEGREES(ATAN(T22/N22)) -> 74.47455 | V22: =_xlfn.IFS(AND(P22>0,R22>0),180+U22,AND(P22<0,R22>0),360-U22,AND(P22>0,R22<0),180-U22,AND(P22<0,R22<0),U22) -> 285.52545 | W22: =(S22/(COS(RADIANS(U22)))) -> 898.13296 | X22: =AVERAGE(H22,H23) -> 17.098333 | Y22: =(T22*(COS(RADIANS(X22)))) -> 860.22141 | Z22: =DEGREES(ATAN(Y22/S22)) -> 74.386292 | AA22: =_xlfn.IFS(AND(P22>0,R22>0),180+Z22,AND(P22<0,R22>0),360-Z22,AND(P22>0,R22<0),180-Z22,AND(P22<0,R22<0),Z22) -> 285.61371 | AB22: =(S22/(COS(RADIANS(Z22)))) -> 893.18141 | AC22: =DEGREES(ACOS(((SIN(J23)-(SIN(J22))*(COS(RADIANS(AE22/60))))/(COS(J22)*SIN(RADIANS(AE22/60)))))) -> 107.74376 | AD22: =_xlfn.IFS(AND(P22>0,R22<0),180-AC22,AND(P22>0,R22>0),180+AC22,AND(P22<0,R22>0),180+AC22,AND(P22<0,R22<0),180-AC22) -> 287.74376 | AE22: =(DEGREES(ACOS((SIN(J22)*SIN(J23)+(COS(J22)*COS(J23)*COS(RADIANS(T22/60)))))))*60 -> 892.75846 | AF22: loxo | AG22: {=_xlfn.IFS(AH22=W22,V22,AH22=AB22,AA22,AH22=AE22,AD22)} -> 285.52545 | AH22: =_xlfn.IFS(AND(AF22="loxo",W22<600),AB22,AND(AF22="loxo",W22>600),W22,AND(B22>60,AF22="loxo"),W22,AF22="ortho",AE22) -> 898.13296 | AI22: =_xlfn.IFS(AND(AF22="loxo",W22>600),V22+BE22,AF22="ortho",AD22+BE22,AND(AF22="loxo",W22<600),AA22+BE22) -> 585.52545 | AJ22: =_xlfn.IFS(AI22>360,AI22-360,AI22<360,AI22) -> 225.52545 | AK22: =_xlfn.IFS(AJ22>270,AJ22-270,AJ22<90,90-AJ22,AJ22<180,AJ22-90,AJ22>180,270-AJ22) -> 44.47455 | AL22: =_xlfn.IFS(AND(AF22="loxo",W22>600),(SIN(RADIANS(U22))*BC22),AF22="ortho",(SIN(RADIANS(AC22))*BC22),AND(AF22="loxo",W22<600),(SIN(RADIANS(Z22))*BC22)) -> 15.26601 | AM22: =_xlfn.IFS(AND(AF22="loxo",W22>600),SQRT((BC22^2)-((SIN(RADIANS(U22))*BC22)^2)),AF22="ortho",SQRT((BC22^2)-((SIN(RADIANS(AC22))*BC22)^2)),AND(AF22="loxo",W22<600),SQRT((BC22^2)-((SIN(RADIANS(Z22))*BC22)^2))) -> 4.2409426 | AN22: =(SIN(RADIANS(AK22))*BF22) -> 0.42035543 | AO22: =SQRT((BF22^2)-((SIN(RADIANS(AK22))*BF22)^2)) -> 0.42813703 | AP22: =_xlfn.IFS(AND(AF22="loxo",W22<600),AA22,AND(AF22="loxo",W22>600),V22,AND(B22>60,AF22="loxo"),V22,AF22="ortho",AD22) -> 285.52545 | AQ22: =_xlfn.IFS(AP22>270,AM22,AP22<90,AM22,AP22<270,AM22*-1,AP22>90,AM22*-1) -> 4.2409426 | AR22: =_xlfn.IFS(AJ22>270,AN22,AJ22<90,AN22,AJ22<270,AN22*-1,AJ22>90,AN22*-1) -> -0.42035543 | AS22: =_xlfn.IFS(AND(AP22>180,AP22<360),AL22*-1,AND(AP22<180,AP22>0),AL22) -> -15.26601 | AT22: =_xlfn.IFS(AJ22>180,AO22*-1,AJ22<180,AO22,AJ22=0,AO22,AJ22=360,AO22) -> -0.42813703 | AU22: =(AQ22+AR22) -> 3.8205872 | AV22: =(AS22+AT22) -> -15.694147 | AW22: =DEGREES(ATAN(AV22/AU22)) -> -76.318036 | AX22: =_xlfn.IFS((DEGREES(ATAN(AV22/AU22)))<0,(DEGREES(ATAN(AV22/AU22)))*-1,DEGREES(ATAN(AV22/AU22))>0,(DEGREES(ATAN(AV22/AU22)))) -> 76.318036 | AY22: =_xlfn.IFS(AND(AF22="loxo",W22<600),BH22-AA22,AND(AF22="loxo",W22>600),BH22-V22,AND(B22>60,AF22="loxo"),BH22-V22,AF22="ortho",BH22-AD22) -> -1.8434858 | AZ22: 4 | BA22: =_xlfn.IFS(AZ22=1,Références!$B$80,AZ22=2,Références!$B$81,AZ22=3,Références!$B$82,AZ22=4,Références!$B$83,AZ22=5,Références!$B$84,AZ22=6,Références!$B$85,AZ22=7,Références!$B$86,AZ22=8,Références!$B$87,AZ22=9,Références!$B$88,AZ22=10,Références!$B$89,AZ22=11,Références!$B$90,AZ22=12,Références!$B$91) -> 6 | BB22: Following | BC22: {=_xlfn.IFS(BB22="Beam", -0.0000000868778*BA22^5-0.0000459619*BA22^4+0.00347366*BA22^3-0.0884721*BA22^2+0.510463*BA22+14.9932,BB22="Following",0.000652681*BA22^3-0.0356523*BA22^2+0.29714*BA22+15.2038,BB22="Head",-0.00000154449*BA22^5+0.0000797696*BA22^4+0.000148965*BA22^3-0.0570448*BA22^2+0.244115*BA22+15.0029)} -> 15.844136 | BE22: 300 | BF22: 0.6 | BG22: =IF(BD22=0,SQRT((AU22^2)+(AV22^2)),SQRT((AU22^2)+(AV22^2))) -> 16.152496 | BH22: =_xlfn.IFS(AND(AV22>0,AU22>0),AX22,AND(AV22<0,AU22>0),360-AX22,AND(AV22>0,AU22<0),180-AX22,AND(AV22<0,AU22<0),180+AX22) -> 283.68196 | BI22: =(AP22-AY22) -> 287.36894 | BK22: =IF(BJ22=0,(AH22/BG22)*60,((AH22/BG22)*60)+BJ22) -> 3336.2012 | BL22: =IF(G22="W",(ROUND((E22/15),0))*-1,(ROUND((E22/15),0))) -> -10 | BM22: =IF(BL22<0,((BL22*-1)/24),BL22/24) -> 0.41666667 | BN22: =IF(BJ22=0,BK22/(60*24),(BK22/(60*24))+(BJ22/(60*24))) -> 2.3168064 | BO22: =BO21+BN21 -> 44938.728 | BP22: =BP21+BN21 -> 44938.936
A23: 15.2 | B23: 19 | C23: 6.1 | D23: N | E23: 165 | F23: 0 | G23: W | H23: =(C23/60)+B23 -> 19.101667 | I23: =RADIANS(H23) -> 0.33338698 | J23: =IF(D23="S",I23,I23*-1) -> -0.33338698 | K23: =(F23/60)+E23 -> 165 | L23: =RADIANS(K23) -> 2.8797933 | M23: =7915.704468*LOG((TAN((RADIANS(45)+(I23/2)))))-23.268932*SIN(I23)-0.0525*(SIN(I23)^3)*(SIN(I23)^5) -> 1160.3259 | N23: {=_xlfn.IFS(D23<>OFFSET(D23,1,),M23+OFFSET(M23,1,),OFFSET(M23,1,)-M23<0,(OFFSET(M23,1,)-M23)*-1,OFFSET(M23,1,)-M23>0,OFFSET(M23,1,)-M23)} -> 169.75013 | O23: =(DEGREES(IF(D23=D24,I24-I23,I23+I24)))*60 -> 160 | P23: =_xlfn.IFS(AND(D24="N",D23<>D24,O23>0),O23*-1,AND(D24="N",D23=D24,O23<0),O23*-1,AND(D24="S",D23=D24,O23>0),O23,AND(D24="S",D23<>D24,O23<0),O23,AND(D24="N",D24<>D23,O23<0),O23*-1,AND(D24="N",D24=D23,O23<0),O23*-1,AND(D24="S",D23=D24,O23<0),O23,AND(D24="N",D24=D23,O23>0),O23*-1) -> -160 | Q23: =(DEGREES(_xlfn.IFS(G23=G24,L24-L23,(L23+L24)>(RADIANS(180)),RADIANS(360)-(L23+L24),G23<>G24,L23+L24)))*60 -> 900 | R23: {=_xlfn.IFS(AND(G24="E",G24<>G23,L23+L24>(RADIANS(180)),Q23<0),Q23*-1,AND(G24="W",G24<>G23,L24+L23>(RADIANS(180)),Q23<0),Q23,AND(G24="E",G24<>G23,L24+L23>(RADIANS(180)),Q23>0),Q23,AND(G24="W",G24<>G23,L24+L23>(RADIANS(180)),Q23>0),Q23*-1,AND(G24="W",G24=G23,Q23<0),Q23,AND(G24="W",G24=G23,Q23>0),Q23,AND(G24="E",G24=G23,Q23<0),Q23*-1,AND(G24="E",G24=G23,Q23>0),Q23*-1,AND(G24="E",G24<>G23,Q23>0),Q23*-1,AND(G24="E",G24<>G23,Q23<0),Q23,AND(G24="W",G24<>G23,Q23>0),Q23,AND(G24="W",G24<>G23,Q23<0),Q23*-1)} -> 900 | S23: =IF(O23<0,-1*O23,O23) -> 160 | T23: =IF(Q23<0,-1*Q23,Q23) -> 900 | U23: =DEGREES(ATAN(T23/N23)) -> 79.318849 | V23: =_xlfn.IFS(AND(P23>0,R23>0),180+U23,AND(P23<0,R23>0),360-U23,AND(P23>0,R23<0),180-U23,AND(P23<0,R23<0),U23) -> 280.68115 | W23: =(S23/(COS(RADIANS(U23)))) -> 863.26274 | X23: =AVERAGE(H23,H24) -> 20.435 | Y23: =(T23*(COS(RADIANS(X23)))) -> 843.362 | Z23: =DEGREES(ATAN(Y23/S23)) -> 79.257691 | AA23: =_xlfn.IFS(AND(P23>0,R23>0),180+Z23,AND(P23<0,R23>0),360-Z23,AND(P23>0,R23<0),180-Z23,AND(P23<0,R23<0),Z23) -> 280.74231 | AB23: =(S23/(COS(RADIANS(Z23)))) -> 858.40518 | AC23: =DEGREES(ACOS(((SIN(J24)-(SIN(J23))*(COS(RADIANS(AE23/60))))/(COS(J23)*SIN(RADIANS(AE23/60)))))) -> 103.31386 | AD23: =_xlfn.IFS(AND(P23>0,R23<0),180-AC23,AND(P23>0,R23>0),180+AC23,AND(P23<0,R23>0),180+AC23,AND(P23<0,R23<0),180-AC23) -> 283.31386 | AE23: =(DEGREES(ACOS((SIN(J23)*SIN(J24)+(COS(J23)*COS(J24)*COS(RADIANS(T23/60)))))))*60 -> 858.00888 | AF23: loxo | AG23: {=_xlfn.IFS(AH23=W23,V23,AH23=AB23,AA23,AH23=AE23,AD23)} -> 280.68115 | AH23: =_xlfn.IFS(AND(AF23="loxo",W23<600),AB23,AND(AF23="loxo",W23>600),W23,AND(B23>60,AF23="loxo"),W23,AF23="ortho",AE23) -> 863.26274 | AI23: =_xlfn.IFS(AND(AF23="loxo",W23>600),V23+BE23,AF23="ortho",AD23+BE23,AND(AF23="loxo",W23<600),AA23+BE23) -> 320.68115 | AJ23: =_xlfn.IFS(AI23>360,AI23-360,AI23<360,AI23) -> 320.68115 | AK23: =_xlfn.IFS(AJ23>270,AJ23-270,AJ23<90,90-AJ23,AJ23<180,AJ23-90,AJ23>180,270-AJ23) -> 50.681151 | AL23: =_xlfn.IFS(AND(AF23="loxo",W23>600),(SIN(RADIANS(U23))*BC23),AF23="ortho",(SIN(RADIANS(AC23))*BC23),AND(AF23="loxo",W23<600),(SIN(RADIANS(Z23))*BC23)) -> 15.291437 | AM23: =_xlfn.IFS(AND(AF23="loxo",W23>600),SQRT((BC23^2)-((SIN(RADIANS(U23))*BC23)^2)),AF23="ortho",SQRT((BC23^2)-((SIN(RADIANS(AC23))*BC23)^2)),AND(AF23="loxo",W23<600),SQRT((BC23^2)-((SIN(RADIANS(Z23))*BC23)^2))) -> 2.8841371 | AN23: =(SIN(RADIANS(AK23))*BF23) -> 0.3868159 | AO23: =SQRT((BF23^2)-((SIN(RADIANS(AK23))*BF23)^2)) -> 0.31681771 | AP23: =_xlfn.IFS(AND(AF23="loxo",W23<600),AA23,AND(AF23="loxo",W23>600),V23,AND(B23>60,AF23="loxo"),V23,AF23="ortho",AD23) -> 280.68115 | AQ23: =_xlfn.IFS(AP23>270,AM23,AP23<90,AM23,AP23<270,AM23*-1,AP23>90,AM23*-1) -> 2.8841371 | AR23: =_xlfn.IFS(AJ23>270,AN23,AJ23<90,AN23,AJ23<270,AN23*-1,AJ23>90,AN23*-1) -> 0.3868159 | AS23: =_xlfn.IFS(AND(AP23>180,AP23<360),AL23*-1,AND(AP23<180,AP23>0),AL23) -> -15.291437 | AT23: =_xlfn.IFS(AJ23>180,AO23*-1,AJ23<180,AO23,AJ23=0,AO23,AJ23=360,AO23) -> -0.31681771 | AU23: =(AQ23+AR23) -> 3.270953 | AV23: =(AS23+AT23) -> -15.608255 | AW23: =DEGREES(ATAN(AV23/AU23)) -> -78.164062 | AX23: =_xlfn.IFS((DEGREES(ATAN(AV23/AU23)))<0,(DEGREES(ATAN(AV23/AU23)))*-1,DEGREES(ATAN(AV23/AU23))>0,(DEGREES(ATAN(AV23/AU23)))) -> 78.164062 | AY23: =_xlfn.IFS(AND(AF23="loxo",W23<600),BH23-AA23,AND(AF23="loxo",W23>600),BH23-V23,AND(B23>60,AF23="loxo"),BH23-V23,AF23="ortho",BH23-AD23) -> 1.1547874 | AZ23: 4 | BA23: =_xlfn.IFS(AZ23=1,Références!$B$80,AZ23=2,Références!$B$81,AZ23=3,Références!$B$82,AZ23=4,Références!$B$83,AZ23=5,Références!$B$84,AZ23=6,Références!$B$85,AZ23=7,Références!$B$86,AZ23=8,Références!$B$87,AZ23=9,Références!$B$88,AZ23=10,Références!$B$89,AZ23=11,Références!$B$90,AZ23=12,Références!$B$91) -> 6 | BB23: Beam | BC23: {=_xlfn.IFS(BB23="Beam", -0.0000000868778*BA23^5-0.0000459619*BA23^4+0.00347366*BA23^3-0.0884721*BA23^2+0.510463*BA23+14.9932,BB23="Following",0.000652681*BA23^3-0.0356523*BA23^2+0.29714*BA23+15.2038,BB23="Head",-0.00000154449*BA23^5+0.0000797696*BA23^4+0.000148965*BA23^3-0.0570448*BA23^2+0.244115*BA23+15.0029)} -> 15.561051 | BE23: 40 | BF23: 0.5 | BG23: =IF(BD23=0,SQRT((AU23^2)+(AV23^2)),SQRT((AU23^2)+(AV23^2))) -> 15.947312 | BH23: =_xlfn.IFS(AND(AV23>0,AU23>0),AX23,AND(AV23<0,AU23>0),360-AX23,AND(AV23>0,AU23<0),180-AX23,AND(AV23<0,AU23<0),180+AX23) -> 281.83594 | BI23: =(AP23-AY23) -> 279.52636 | BK23: =IF(BJ23=0,(AH23/BG23)*60,((AH23/BG23)*60)+BJ23) -> 3247.9307 | BL23: =IF(G23="W",(ROUND((E23/15),0))*-1,(ROUND((E23/15),0))) -> -11 | BM23: =IF(BL23<0,((BL23*-1)/24),BL23/24) -> 0.45833333 | BN23: =IF(BJ23=0,BK23/(60*24),(BK23/(60*24))+(BJ23/(60*24))) -> 2.2555075 | BO23: =BO22+BN22 -> 44941.045 | BP23: =BP22+BN22 -> 44941.253
B24: 21 | C24: 46.1 | D24: N | E24: 180 | F24: 0 | G24: W | H24: =(C24/60)+B24 -> 21.768333 | I24: =RADIANS(H24) -> 0.37992909 | J24: =IF(D24="S",I24,I24*-1) -> -0.37992909 | K24: =(F24/60)+E24 -> 180 | L24: =RADIANS(K24) -> 3.1415927 | M24: =7915.704468*LOG((TAN((RADIANS(45)+(I24/2)))))-23.268932*SIN(I24)-0.0525*(SIN(I24)^3)*(SIN(I24)^5) -> 1330.0761 | N24: {=_xlfn.IFS(D24<>OFFSET(D24,1,),M24+OFFSET(M24,1,),OFFSET(M24,1,)-M24<0,(OFFSET(M24,1,)-M24)*-1,OFFSET(M24,1,)-M24>0,OFFSET(M24,1,)-M24)} -> 81.406018 | O24: =(DEGREES(IF(D24=D25,I25-I24,I24+I25)))*60 -> 75.7 | P24: =_xlfn.IFS(AND(D25="N",D24<>D25,O24>0),O24*-1,AND(D25="N",D24=D25,O24<0),O24*-1,AND(D25="S",D24=D25,O24>0),O24,AND(D25="S",D24<>D25,O24<0),O24,AND(D25="N",D25<>D24,O24<0),O24*-1,AND(D25="N",D25=D24,O24<0),O24*-1,AND(D25="S",D24=D25,O24<0),O24,AND(D25="N",D25=D24,O24>0),O24*-1) -> -75.7 | Q24: =(DEGREES(_xlfn.IFS(G24=G25,L25-L24,(L24+L25)>(RADIANS(180)),RADIANS(360)-(L24+L25),G24<>G25,L24+L25)))*60 -> 900 | R24: {=_xlfn.IFS(AND(G25="E",G25<>G24,L24+L25>(RADIANS(180)),Q24<0),Q24*-1,AND(G25="W",G25<>G24,L25+L24>(RADIANS(180)),Q24<0),Q24,AND(G25="E",G25<>G24,L25+L24>(RADIANS(180)),Q24>0),Q24,AND(G25="W",G25<>G24,L25+L24>(RADIANS(180)),Q24>0),Q24*-1,AND(G25="W",G25=G24,Q24<0),Q24,AND(G25="W",G25=G24,Q24>0),Q24,AND(G25="E",G25=G24,Q24<0),Q24*-1,AND(G25="E",G25=G24,Q24>0),Q24*-1,AND(G25="E",G25<>G24,Q24>0),Q24*-1,AND(G25="E",G25<>G24,Q24<0),Q24,AND(G25="W",G25<>G24,Q24>0),Q24,AND(G25="W",G25<>G24,Q24<0),Q24*-1)} -> 900 | S24: =IF(O24<0,-1*O24,O24) -> 75.7 | T24: =IF(Q24<0,-1*Q24,Q24) -> 900 | U24: =DEGREES(ATAN(T24/N24)) -> 84.831596 | V24: =_xlfn.IFS(AND(P24>0,R24>0),180+U24,AND(P24<0,R24>0),360-U24,AND(P24>0,R24<0),180-U24,AND(P24<0,R24<0),U24) -> 275.1684 | W24: =(S24/(COS(RADIANS(U24)))) -> 840.33261 | X24: =AVERAGE(H24,H25) -> 22.399167 | Y24: =(T24*(COS(RADIANS(X24)))) -> 832.09642 | Z24: =DEGREES(ATAN(Y24/S24)) -> 84.801824 | AA24: =_xlfn.IFS(AND(P24>0,R24>0),180+Z24,AND(P24<0,R24>0),360-Z24,AND(P24>0,R24<0),180-Z24,AND(P24<0,R24<0),Z24) -> 275.19818 | AB24: =(S24/(COS(RADIANS(Z24)))) -> 835.53273 | AC24: =DEGREES(ACOS(((SIN(J25)-(SIN(J24))*(COS(RADIANS(AE24/60))))/(COS(J24)*SIN(RADIANS(AE24/60)))))) -> 98.040639 | AD24: =_xlfn.IFS(AND(P24>0,R24<0),180-AC24,AND(P24>0,R24>0),180+AC24,AND(P24<0,R24>0),180+AC24,AND(P24<0,R24<0),180-AC24) -> 278.04064 | AE24: =(DEGREES(ACOS((SIN(J24)*SIN(J25)+(COS(J24)*COS(J25)*COS(RADIANS(T24/60)))))))*60 -> 835.1618 | AF24: loxo | AG24: {=_xlfn.IFS(AH24=W24,V24,AH24=AB24,AA24,AH24=AE24,AD24)} -> 275.1684 | AH24: =_xlfn.IFS(AND(AF24="loxo",W24<600),AB24,AND(AF24="loxo",W24>600),W24,AND(B24>60,AF24="loxo"),W24,AF24="ortho",AE24) -> 840.33261 | AI24: =_xlfn.IFS(AND(AF24="loxo",W24>600),V24+BE24,AF24="ortho",AD24+BE24,AND(AF24="loxo",W24<600),AA24+BE24) -> 575.1684 | AJ24: =_xlfn.IFS(AI24>360,AI24-360,AI24<360,AI24) -> 215.1684 | AK24: =_xlfn.IFS(AJ24>270,AJ24-270,AJ24<90,90-AJ24,AJ24<180,AJ24-90,AJ24>180,270-AJ24) -> 54.831596 | AL24: =_xlfn.IFS(AND(AF24="loxo",W24>600),(SIN(RADIANS(U24))*BC24),AF24="ortho",(SIN(RADIANS(AC24))*BC24),AND(AF24="loxo",W24<600),(SIN(RADIANS(Z24))*BC24)) -> 15.779718 | AM24: =_xlfn.IFS(AND(AF24="loxo",W24>600),SQRT((BC24^2)-((SIN(RADIANS(U24))*BC24)^2)),AF24="ortho",SQRT((BC24^2)-((SIN(RADIANS(AC24))*BC24)^2)),AND(AF24="loxo",W24<600),SQRT((BC24^2)-((SIN(RADIANS(Z24))*BC24)^2))) -> 1.4272933 | AN24: =(SIN(RADIANS(AK24))*BF24) -> 0.40873133 | AO24: =SQRT((BF24^2)-((SIN(RADIANS(AK24))*BF24)^2)) -> 0.2879908 | AP24: =_xlfn.IFS(AND(AF24="loxo",W24<600),AA24,AND(AF24="loxo",W24>600),V24,AND(B24>60,AF24="loxo"),V24,AF24="ortho",AD24) -> 275.1684 | AQ24: =_xlfn.IFS(AP24>270,AM24,AP24<90,AM24,AP24<270,AM24*-1,AP24>90,AM24*-1) -> 1.4272933 | AR24: =_xlfn.IFS(AJ24>270,AN24,AJ24<90,AN24,AJ24<270,AN24*-1,AJ24>90,AN24*-1) -> -0.40873133 | AS24: =_xlfn.IFS(AND(AP24>180,AP24<360),AL24*-1,AND(AP24<180,AP24>0),AL24) -> -15.779718 | AT24: =_xlfn.IFS(AJ24>180,AO24*-1,AJ24<180,AO24,AJ24=0,AO24,AJ24=360,AO24) -> -0.2879908 | AU24: =(AQ24+AR24) -> 1.018562 | AV24: =(AS24+AT24) -> -16.067708 | AW24: =DEGREES(ATAN(AV24/AU24)) -> -86.372767 | AX24: =_xlfn.IFS((DEGREES(ATAN(AV24/AU24)))<0,(DEGREES(ATAN(AV24/AU24)))*-1,DEGREES(ATAN(AV24/AU24))>0,(DEGREES(ATAN(AV24/AU24)))) -> 86.372767 | AY24: =_xlfn.IFS(AND(AF24="loxo",W24<600),BH24-AA24,AND(AF24="loxo",W24>600),BH24-V24,AND(B24>60,AF24="loxo"),BH24-V24,AF24="ortho",BH24-AD24) -> -1.541171 | AZ24: 4 | BA24: =_xlfn.IFS(AZ24=1,Références!$B$80,AZ24=2,Références!$B$81,AZ24=3,Références!$B$82,AZ24=4,Références!$B$83,AZ24=5,Références!$B$84,AZ24=6,Références!$B$85,AZ24=7,Références!$B$86,AZ24=8,Références!$B$87,AZ24=9,Références!$B$88,AZ24=10,Références!$B$89,AZ24=11,Références!$B$90,AZ24=12,Références!$B$91) -> 6 | BB24: Following | BC24: {=_xlfn.IFS(BB24="Beam", -0.0000000868778*BA24^5-0.0000459619*BA24^4+0.00347366*BA24^3-0.0884721*BA24^2+0.510463*BA24+14.9932,BB24="Following",0.000652681*BA24^3-0.0356523*BA24^2+0.29714*BA24+15.2038,BB24="Head",-0.00000154449*BA24^5+0.0000797696*BA24^4+0.000148965*BA24^3-0.0570448*BA24^2+0.244115*BA24+15.0029)} -> 15.844136 | BE24: 300 | BF24: 0.5 | BG24: =IF(BD24=0,SQRT((AU24^2)+(AV24^2)),SQRT((AU24^2)+(AV24^2))) -> 16.09996 | BH24: =_xlfn.IFS(AND(AV24>0,AU24>0),AX24,AND(AV24<0,AU24>0),360-AX24,AND(AV24>0,AU24<0),180-AX24,AND(AV24<0,AU24<0),180+AX24) -> 273.62723 | BI24: =(AP24-AY24) -> 276.70957 | BK24: =IF(BJ24=0,(AH24/BG24)*60,((AH24/BG24)*60)+BJ24) -> 3131.6821 | BL24: =IF(G24="W",(ROUND((E24/15),0))*-1,(ROUND((E24/15),0))) -> -12 | BM24: =IF(BL24<0,((BL24*-1)/24),BL24/24) -> 0.5 | BN24: =IF(BJ24=0,BK24/(60*24),(BK24/(60*24))+(BJ24/(60*24))) -> 2.1747792 | BO24: =BO23+BN23 -> 44943.3 | BP24: =BP23+BN23 -> 44943.509
B25: 23 | C25: 1.8 | D25: N | E25: 165 | F25: 0 | G25: E | H25: =(C25/60)+B25 -> 23.03 | I25: =RADIANS(H25) -> 0.40194933 | J25: =IF(D25="S",I25,I25*-1) -> -0.40194933 | K25: =(F25/60)+E25 -> 165 | L25: =RADIANS(K25) -> 2.8797933 | M25: =7915.704468*LOG((TAN((RADIANS(45)+(I25/2)))))-23.268932*SIN(I25)-0.0525*(SIN(I25)^3)*(SIN(I25)^5) -> 1411.4821 | N25: {=_xlfn.IFS(D25<>OFFSET(D25,1,),M25+OFFSET(M25,1,),OFFSET(M25,1,)-M25<0,(OFFSET(M25,1,)-M25)*-1,OFFSET(M25,1,)-M25>0,OFFSET(M25,1,)-M25)} -> 1.944452 | O25: =(DEGREES(IF(D25=D26,I26-I25,I25+I26)))*60 -> -1.8 | P25: =_xlfn.IFS(AND(D26="N",D25<>D26,O25>0),O25*-1,AND(D26="N",D25=D26,O25<0),O25*-1,AND(D26="S",D25=D26,O25>0),O25,AND(D26="S",D25<>D26,O25<0),O25,AND(D26="N",D26<>D25,O25<0),O25*-1,AND(D26="N",D26=D25,O25<0),O25*-1,AND(D26="S",D25=D26,O25<0),O25,AND(D26="N",D26=D25,O25>0),O25*-1) -> 1.8 | Q25: =(DEGREES(_xlfn.IFS(G25=G26,L26-L25,(L25+L26)>(RADIANS(180)),RADIANS(360)-(L25+L26),G25<>G26,L25+L26)))*60 -> -750 | R25: {=_xlfn.IFS(AND(G26="E",G26<>G25,L25+L26>(RADIANS(180)),Q25<0),Q25*-1,AND(G26="W",G26<>G25,L26+L25>(RADIANS(180)),Q25<0),Q25,AND(G26="E",G26<>G25,L26+L25>(RADIANS(180)),Q25>0),Q25,AND(G26="W",G26<>G25,L26+L25>(RADIANS(180)),Q25>0),Q25*-1,AND(G26="W",G26=G25,Q25<0),Q25,AND(G26="W",G26=G25,Q25>0),Q25,AND(G26="E",G26=G25,Q25<0),Q25*-1,AND(G26="E",G26=G25,Q25>0),Q25*-1,AND(G26="E",G26<>G25,Q25>0),Q25*-1,AND(G26="E",G26<>G25,Q25<0),Q25,AND(G26="W",G26<>G25,Q25>0),Q25,AND(G26="W",G26<>G25,Q25<0),Q25*-1)} -> 750 | S25: =IF(O25<0,-1*O25,O25) -> 1.8 | T25: =IF(Q25<0,-1*Q25,Q25) -> 750 | U25: =DEGREES(ATAN(T25/N25)) -> 89.851455 | V25: =_xlfn.IFS(AND(P25>0,R25>0),180+U25,AND(P25<0,R25>0),360-U25,AND(P25>0,R25<0),180-U25,AND(P25<0,R25<0),U25) -> 269.85146 | W25: =(S25/(COS(RADIANS(U25)))) -> 694.28534 | X25: =AVERAGE(H25,H26) -> 23.015 | Y25: =(T25*(COS(RADIANS(X25)))) -> 690.3019 | Z25: =DEGREES(ATAN(Y25/S25)) -> 89.850598 | AA25: =_xlfn.IFS(AND(P25>0,R25>0),180+Z25,AND(P25<0,R25>0),360-Z25,AND(P25>0,R25<0),180-Z25,AND(P25<0,R25<0),Z25) -> 269.8506 | AB25: =(S25/(COS(RADIANS(Z25)))) -> 690.30424 | AC25: =DEGREES(ACOS(((SIN(J26)-(SIN(J25))*(COS(RADIANS(AE25/60))))/(COS(J25)*SIN(RADIANS(AE25/60)))))) -> 92.303008 | AD25: =_xlfn.IFS(AND(P25>0,R25<0),180-AC25,AND(P25>0,R25>0),180+AC25,AND(P25<0,R25>0),180+AC25,AND(P25<0,R25<0),180-AC25) -> 272.30301 | AE25: =(DEGREES(ACOS((SIN(J25)*SIN(J26)+(COS(J25)*COS(J26)*COS(RADIANS(T25/60)))))))*60 -> 690.09414 | AF25: loxo | AG25: {=_xlfn.IFS(AH25=W25,V25,AH25=AB25,AA25,AH25=AE25,AD25)} -> 269.85146 | AH25: =_xlfn.IFS(AND(AF25="loxo",W25<600),AB25,AND(AF25="loxo",W25>600),W25,AND(B25>60,AF25="loxo"),W25,AF25="ortho",AE25) -> 694.28534 | AI25: =_xlfn.IFS(AND(AF25="loxo",W25>600),V25+BE25,AF25="ortho",AD25+BE25,AND(AF25="loxo",W25<600),AA25+BE25) -> 569.85146 | AJ25: =_xlfn.IFS(AI25>360,AI25-360,AI25<360,AI25) -> 209.85146 | AK25: =_xlfn.IFS(AJ25>270,AJ25-270,AJ25<90,90-AJ25,AJ25<180,AJ25-90,AJ25>180,270-AJ25) -> 60.148545 | AL25: =_xlfn.IFS(AND(AF25="loxo",W25>600),(SIN(RADIANS(U25))*BC25),AF25="ortho",(SIN(RADIANS(AC25))*BC25),AND(AF25="loxo",W25<600),(SIN(RADIANS(Z25))*BC25)) -> 15.844083 | AM25: =_xlfn.IFS(AND(AF25="loxo",W25>600),SQRT((BC25^2)-((SIN(RADIANS(U25))*BC25)^2)),AF25="ortho",SQRT((BC25^2)-((SIN(RADIANS(AC25))*BC25)^2)),AND(AF25="loxo",W25<600),SQRT((BC25^2)-((SIN(RADIANS(Z25))*BC25)^2))) -> 0.041077412 | AN25: =(SIN(RADIANS(AK25))*BF25) -> 0.4336594 | AO25: =SQRT((BF25^2)-((SIN(RADIANS(AK25))*BF25)^2)) -> 0.24887653 | AP25: =_xlfn.IFS(AND(AF25="loxo",W25<600),AA25,AND(AF25="loxo",W25>600),V25,AND(B25>60,AF25="loxo"),V25,AF25="ortho",AD25) -> 269.85146 | AQ25: =_xlfn.IFS(AP25>270,AM25,AP25<90,AM25,AP25<270,AM25*-1,AP25>90,AM25*-1) -> -0.041077412 | AR25: =_xlfn.IFS(AJ25>270,AN25,AJ25<90,AN25,AJ25<270,AN25*-1,AJ25>90,AN25*-1) -> -0.4336594 | AS25: =_xlfn.IFS(AND(AP25>180,AP25<360),AL25*-1,AND(AP25<180,AP25>0),AL25) -> -15.844083 | AT25: =_xlfn.IFS(AJ25>180,AO25*-1,AJ25<180,AO25,AJ25=0,AO25,AJ25=360,AO25) -> -0.24887653 | AU25: =(AQ25+AR25) -> -0.47473681 | AV25: =(AS25+AT25) -> -16.09296 | AW25: =DEGREES(ATAN(AV25/AU25)) -> 88.310284 | AX25: =_xlfn.IFS((DEGREES(ATAN(AV25/AU25)))<0,(DEGREES(ATAN(AV25/AU25)))*-1,DEGREES(ATAN(AV25/AU25))>0,(DEGREES(ATAN(AV25/AU25)))) -> 88.310284 | AY25: =_xlfn.IFS(AND(AF25="loxo",W25<600),BH25-AA25,AND(AF25="loxo",W25>600),BH25-V25,AND(B25>60,AF25="loxo"),BH25-V25,AF25="ortho",BH25-AD25) -> -1.541171 | AZ25: 4 | BA25: =_xlfn.IFS(AZ25=1,Références!$B$80,AZ25=2,Références!$B$81,AZ25=3,Références!$B$82,AZ25=4,Références!$B$83,AZ25=5,Références!$B$84,AZ25=6,Références!$B$85,AZ25=7,Références!$B$86,AZ25=8,Références!$B$87,AZ25=9,Références!$B$88,AZ25=10,Références!$B$89,AZ25=11,Références!$B$90,AZ25=12,Références!$B$91) -> 6 | BB25: Following | BC25: {=_xlfn.IFS(BB25="Beam", -0.0000000868778*BA25^5-0.0000459619*BA25^4+0.00347366*BA25^3-0.0884721*BA25^2+0.510463*BA25+14.9932,BB25="Following",0.000652681*BA25^3-0.0356523*BA25^2+0.29714*BA25+15.2038,BB25="Head",-0.00000154449*BA25^5+0.0000797696*BA25^4+0.000148965*BA25^3-0.0570448*BA25^2+0.244115*BA25+15.0029)} -> 15.844136 | BE25: 300 | BF25: 0.5 | BG25: =IF(BD25=0,SQRT((AU25^2)+(AV25^2)),SQRT((AU25^2)+(AV25^2))) -> 16.09996 | BH25: =_xlfn.IFS(AND(AV25>0,AU25>0),AX25,AND(AV25<0,AU25>0),360-AX25,AND(AV25>0,AU25<0),180-AX25,AND(AV25<0,AU25<0),180+AX25) -> 268.31028 | BI25: =(AP25-AY25) -> 271.39263 | BK25: =IF(BJ25=0,(AH25/BG25)*60,((AH25/BG25)*60)+BJ25) -> 2587.4052 | BL25: =IF(G25="W",(ROUND((E25/15),0))*-1,(ROUND((E25/15),0))) -> 11 | BM25: =IF(BL25<0,((BL25*-1)/24),BL25/24) -> 0.45833333 | BN25: =IF(BJ25=0,BK25/(60*24),(BK25/(60*24))+(BJ25/(60*24))) -> 1.7968091 | BO25: =BO24+BN24 -> 44945.475 | BP25: =BP24+BN24 -> 44945.683
B26: 23 | C26: 0 | D26: N | E26: 152 | F26: 30 | G26: E | H26: =(C26/60)+B26 -> 23 | I26: =RADIANS(H26) -> 0.40142573 | J26: =IF(D26="S",I26,I26*-1) -> -0.40142573 | K26: =(F26/60)+E26 -> 152.5 | L26: =RADIANS(K26) -> 2.6616271 | M26: =7915.704468*LOG((TAN((RADIANS(45)+(I26/2)))))-23.268932*SIN(I26)-0.0525*(SIN(I26)^3)*(SIN(I26)^5) -> 1409.5376 | N26: {=_xlfn.IFS(D26<>OFFSET(D26,1,),M26+OFFSET(M26,1,),OFFSET(M26,1,)-M26<0,(OFFSET(M26,1,)-M26)*-1,OFFSET(M26,1,)-M26>0,OFFSET(M26,1,)-M26)} -> 1330.1755 | O26: =(DEGREES(IF(D26=D27,I27-I26,I26+I27)))*60 -> 1120.236 | P26: =_xlfn.IFS(AND(D27="N",D26<>D27,O26>0),O26*-1,AND(D27="N",D26=D27,O26<0),O26*-1,AND(D27="S",D26=D27,O26>0),O26,AND(D27="S",D26<>D27,O26<0),O26,AND(D27="N",D27<>D26,O26<0),O26*-1,AND(D27="N",D27=D26,O26<0),O26*-1,AND(D27="S",D26=D27,O26<0),O26,AND(D27="N",D27=D26,O26>0),O26*-1) -> -1120.236 | Q26: =(DEGREES(_xlfn.IFS(G26=G27,L27-L26,(L26+L27)>(RADIANS(180)),RADIANS(360)-(L26+L27),G26<>G27,L26+L27)))*60 -> -647.551 | R26: {=_xlfn.IFS(AND(G27="E",G27<>G26,L26+L27>(RADIANS(180)),Q26<0),Q26*-1,AND(G27="W",G27<>G26,L27+L26>(RADIANS(180)),Q26<0),Q26,AND(G27="E",G27<>G26,L27+L26>(RADIANS(180)),Q26>0),Q26,AND(G27="W",G27<>G26,L27+L26>(RADIANS(180)),Q26>0),Q26*-1,AND(G27="W",G27=G26,Q26<0),Q26,AND(G27="W",G27=G26,Q26>0),Q26,AND(G27="E",G27=G26,Q26<0),Q26*-1,AND(G27="E",G27=G26,Q26>0),Q26*-1,AND(G27="E",G27<>G26,Q26>0),Q26*-1,AND(G27="E",G27<>G26,Q26<0),Q26,AND(G27="W",G27<>G26,Q26>0),Q26,AND(G27="W",G27<>G26,Q26<0),Q26*-1)} -> 647.551 | S26: =IF(O26<0,-1*O26,O26) -> 1120.236 | T26: =IF(Q26<0,-1*Q26,Q26) -> 647.551 | U26: =DEGREES(ATAN(T26/N26)) -> 25.95757 | V26: =_xlfn.IFS(AND(P26>0,R26>0),180+U26,AND(P26<0,R26>0),360-U26,AND(P26>0,R26<0),180-U26,AND(P26<0,R26<0),U26) -> 334.04243 | W26: =(S26/(COS(RADIANS(U26)))) -> 1245.9271 | X26: =AVERAGE(H26,H27) -> 32.3353 | Y26: =(T26*(COS(RADIANS(X26)))) -> 547.13686 | Z26: =DEGREES(ATAN(Y26/S26)) -> 26.031445 | AA26: =_xlfn.IFS(AND(P26>0,R26>0),180+Z26,AND(P26<0,R26>0),360-Z26,AND(P26>0,R26<0),180-Z26,AND(P26<0,R26<0),Z26) -> 333.96856 | AB26: =(S26/(COS(RADIANS(Z26)))) -> 1246.7106 | AC26: =DEGREES(ACOS(((SIN(J27)-(SIN(J26))*(COS(RADIANS(AE26/60))))/(COS(J26)*SIN(RADIANS(AE26/60)))))) -> 156.73235 | AD26: =_xlfn.IFS(AND(P26>0,R26<0),180-AC26,AND(P26>0,R26>0),180+AC26,AND(P26<0,R26>0),180+AC26,AND(P26<0,R26<0),180-AC26) -> 336.73235 | AE26: =(DEGREES(ACOS((SIN(J26)*SIN(J27)+(COS(J26)*COS(J27)*COS(RADIANS(T26/60)))))))*60 -> 1244.2524 | AF26: loxo | AG26: {=_xlfn.IFS(AH26=W26,V26,AH26=AB26,AA26,AH26=AE26,AD26)} -> 334.04243 | AH26: =_xlfn.IFS(AND(AF26="loxo",W26<600),AB26,AND(AF26="loxo",W26>600),W26,AND(B26>60,AF26="loxo"),W26,AF26="ortho",AE26) -> 1245.9271 | AI26: =_xlfn.IFS(AND(AF26="loxo",W26>600),V26+BE26,AF26="ortho",AD26+BE26,AND(AF26="loxo",W26<600),AA26+BE26) -> 484.04243 | AJ26: =_xlfn.IFS(AI26>360,AI26-360,AI26<360,AI26) -> 124.04243 | AK26: =_xlfn.IFS(AJ26>270,AJ26-270,AJ26<90,90-AJ26,AJ26<180,AJ26-90,AJ26>180,270-AJ26) -> 34.04243 | AL26: =_xlfn.IFS(AND(AF26="loxo",W26>600),(SIN(RADIANS(U26))*BC26),AF26="ortho",(SIN(RADIANS(AC26))*BC26),AND(AF26="loxo",W26<600),(SIN(RADIANS(Z26))*BC26)) -> 4.6256452 | AM26: =_xlfn.IFS(AND(AF26="loxo",W26>600),SQRT((BC26^2)-((SIN(RADIANS(U26))*BC26)^2)),AF26="ortho",SQRT((BC26^2)-((SIN(RADIANS(AC26))*BC26)^2)),AND(AF26="loxo",W26<600),SQRT((BC26^2)-((SIN(RADIANS(Z26))*BC26)^2))) -> 9.5018306 | AN26: =(SIN(RADIANS(AK26))*BF26) -> 0.27990334 | AO26: =SQRT((BF26^2)-((SIN(RADIANS(AK26))*BF26)^2)) -> 0.41431162 | AP26: =_xlfn.IFS(AND(AF26="loxo",W26<600),AA26,AND(AF26="loxo",W26>600),V26,AND(B26>60,AF26="loxo"),V26,AF26="ortho",AD26) -> 334.04243 | AQ26: =_xlfn.IFS(AP26>270,AM26,AP26<90,AM26,AP26<270,AM26*-1,AP26>90,AM26*-1) -> 9.5018306 | AR26: =_xlfn.IFS(AJ26>270,AN26,AJ26<90,AN26,AJ26<270,AN26*-1,AJ26>90,AN26*-1) -> -0.27990334 | AS26: =_xlfn.IFS(AND(AP26>180,AP26<360),AL26*-1,AND(AP26<180,AP26>0),AL26) -> -4.6256452 | AT26: =_xlfn.IFS(AJ26>180,AO26*-1,AJ26<180,AO26,AJ26=0,AO26,AJ26=360,AO26) -> 0.41431162 | AU26: =(AQ26+AR26) -> 9.2219273 | AV26: =(AS26+AT26) -> -4.2113336 | AW26: =DEGREES(ATAN(AV26/AU26)) -> -24.544532 | AX26: =_xlfn.IFS((DEGREES(ATAN(AV26/AU26)))<0,(DEGREES(ATAN(AV26/AU26)))*-1,DEGREES(ATAN(AV26/AU26))>0,(DEGREES(ATAN(AV26/AU26)))) -> 24.544532 | AY26: =_xlfn.IFS(AND(AF26="loxo",W26<600),BH26-AA26,AND(AF26="loxo",W26>600),BH26-V26,AND(B26>60,AF26="loxo"),BH26-V26,AF26="ortho",BH26-AD26) -> 1.4130382 | AZ26: 6 | BA26: =_xlfn.IFS(AZ26=1,Références!$B$80,AZ26=2,Références!$B$81,AZ26=3,Références!$B$82,AZ26=4,Références!$B$83,AZ26=5,Références!$B$84,AZ26=6,Références!$B$85,AZ26=7,Références!$B$86,AZ26=8,Références!$B$87,AZ26=9,Références!$B$88,AZ26=10,Références!$B$89,AZ26=11,Références!$B$90,AZ26=12,Références!$B$91) -> 13 | BB26: head | BC26: {=_xlfn.IFS(BB26="Beam", -0.0000000868778*BA26^5-0.0000459619*BA26^4+0.00347366*BA26^3-0.0884721*BA26^2+0.510463*BA26+14.9932,BB26="Following",0.000652681*BA26^3-0.0356523*BA26^2+0.29714*BA26+15.2038,BB26="Head",-0.00000154449*BA26^5+0.0000797696*BA26^4+0.000148965*BA26^3-0.0570448*BA26^2+0.244115*BA26+15.0029)} -> 10.567941 | BE26: 150 | BF26: 0.5 | BG26: =IF(BD26=0,SQRT((AU26^2)+(AV26^2)),SQRT((AU26^2)+(AV26^2))) -> 10.138011 | BH26: =_xlfn.IFS(AND(AV26>0,AU26>0),AX26,AND(AV26<0,AU26>0),360-AX26,AND(AV26>0,AU26<0),180-AX26,AND(AV26<0,AU26<0),180+AX26) -> 335.45547 | BI26: =(AP26-AY26) -> 332.62939 | BK26: =IF(BJ26=0,(AH26/BG26)*60,((AH26/BG26)*60)+BJ26) -> 7373.7957 | BL26: =IF(G26="W",(ROUND((E26/15),0))*-1,(ROUND((E26/15),0))) -> 10 | BM26: =IF(BL26<0,((BL26*-1)/24),BL26/24) -> 0.41666667 | BN26: =IF(BJ26=0,BK26/(60*24),(BK26/(60*24))+(BJ26/(60*24))) -> 5.1206915 | BO26: =BO25+BN25 -> 44947.272 | BP26: =BP25+BN25 -> 44947.48
A27: 16 | B27: 41 | C27: 40.236 | D27: N | E27: 141 | F27: 42.449 | G27: E | H27: =(C27/60)+B27 -> 41.6706 | I27: =RADIANS(H27) -> 0.72728917 | J27: =IF(D27="S",I27,I27*-1) -> -0.72728917 | K27: =(F27/60)+E27 -> 141.70748 | L27: =RADIANS(K27) -> 2.4732622 | M27: =7915.704468*LOG((TAN((RADIANS(45)+(I27/2)))))-23.268932*SIN(I27)-0.0525*(SIN(I27)^3)*(SIN(I27)^5) -> 2739.7131 | N27: {=_xlfn.IFS(D27<>OFFSET(D27,1,),M27+OFFSET(M27,1,),OFFSET(M27,1,)-M27<0,(OFFSET(M27,1,)-M27)*-1,OFFSET(M27,1,)-M27>0,OFFSET(M27,1,)-M27)} -> 2.7146185 | O27: =(DEGREES(IF(D27=D28,I28-I27,I27+I28)))*60 -> -2.036 | P27: =_xlfn.IFS(AND(D28="N",D27<>D28,O27>0),O27*-1,AND(D28="N",D27=D28,O27<0),O27*-1,AND(D28="S",D27=D28,O27>0),O27,AND(D28="S",D27<>D28,O27<0),O27,AND(D28="N",D28<>D27,O27<0),O27*-1,AND(D28="N",D28=D27,O27<0),O27*-1,AND(D28="S",D27=D28,O27<0),O27,AND(D28="N",D28=D27,O27>0),O27*-1) -> 2.036 | Q27: =(DEGREES(_xlfn.IFS(G27=G28,L28-L27,(L27+L28)>(RADIANS(180)),RADIANS(360)-(L27+L28),G27<>G28,L27+L28)))*60 -> -49.809 | R27: {=_xlfn.IFS(AND(G28="E",G28<>G27,L27+L28>(RADIANS(180)),Q27<0),Q27*-1,AND(G28="W",G28<>G27,L28+L27>(RADIANS(180)),Q27<0),Q27,AND(G28="E",G28<>G27,L28+L27>(RADIANS(180)),Q27>0),Q27,AND(G28="W",G28<>G27,L28+L27>(RADIANS(180)),Q27>0),Q27*-1,AND(G28="W",G28=G27,Q27<0),Q27,AND(G28="W",G28=G27,Q27>0),Q27,AND(G28="E",G28=G27,Q27<0),Q27*-1,AND(G28="E",G28=G27,Q27>0),Q27*-1,AND(G28="E",G28<>G27,Q27>0),Q27*-1,AND(G28="E",G28<>G27,Q27<0),Q27,AND(G28="W",G28<>G27,Q27>0),Q27,AND(G28="W",G28<>G27,Q27<0),Q27*-1)} -> 49.809 | S27: =IF(O27<0,-1*O27,O27) -> 2.036 | T27: =IF(Q27<0,-1*Q27,Q27) -> 49.809 | U27: =DEGREES(ATAN(T27/N27)) -> 86.880434 | V27: =_xlfn.IFS(AND(P27>0,R27>0),180+U27,AND(P27<0,R27>0),360-U27,AND(P27>0,R27<0),180-U27,AND(P27<0,R27<0),U27) -> 266.88043 | W27: =(S27/(COS(RADIANS(U27)))) -> 37.412853 | X27: =AVERAGE(H27,H28) -> 41.653633 | Y27: =(T27*(COS(RADIANS(X27)))) -> 37.216103 | Z27: =DEGREES(ATAN(Y27/S27)) -> 86.868613 | AA27: =_xlfn.IFS(AND(P27>0,R27>0),180+Z27,AND(P27<0,R27>0),360-Z27,AND(P27>0,R27<0),180-Z27,AND(P27<0,R27<0),Z27) -> 266.86861 | AB27: =(S27/(COS(RADIANS(Z27)))) -> 37.271754 | AC27: =DEGREES(ACOS(((SIN(J28)-(SIN(J27))*(COS(RADIANS(AE27/60))))/(COS(J27)*SIN(RADIANS(AE27/60)))))) -> 87.14454 | AD27: =_xlfn.IFS(AND(P27>0,R27<0),180-AC27,AND(P27>0,R27>0),180+AC27,AND(P27<0,R27>0),180+AC27,AND(P27<0,R27<0),180-AC27) -> 267.14454 | AE27: =(DEGREES(ACOS((SIN(J27)*SIN(J28)+(COS(J27)*COS(J28)*COS(RADIANS(T27/60)))))))*60 -> 37.271608 | AF27: loxo | AG27: {=_xlfn.IFS(AH27=W27,V27,AH27=AB27,AA27,AH27=AE27,AD27)} -> 266.86861 | AH27: =_xlfn.IFS(AND(AF27="loxo",W27<600),AB27,AND(AF27="loxo",W27>600),W27,AND(B27>60,AF27="loxo"),W27,AF27="ortho",AE27) -> 37.271754 | AI27: =_xlfn.IFS(AND(AF27="loxo",W27>600),V27+BE27,AF27="ortho",AD27+BE27,AND(AF27="loxo",W27<600),AA27+BE27) -> 516.86861 | AJ27: =_xlfn.IFS(AI27>360,AI27-360,AI27<360,AI27) -> 156.86861 | AK27: =_xlfn.IFS(AJ27>270,AJ27-270,AJ27<90,90-AJ27,AJ27<180,AJ27-90,AJ27>180,270-AJ27) -> 66.868613 | AL27: =_xlfn.IFS(AND(AF27="loxo",W27>600),(SIN(RADIANS(U27))*BC27),AF27="ortho",(SIN(RADIANS(AC27))*BC27),AND(AF27="loxo",W27<600),(SIN(RADIANS(Z27))*BC27)) -> 15.395597 | AM27: =_xlfn.IFS(AND(AF27="loxo",W27>600),SQRT((BC27^2)-((SIN(RADIANS(U27))*BC27)^2)),AF27="ortho",SQRT((BC27^2)-((SIN(RADIANS(AC27))*BC27)^2)),AND(AF27="loxo",W27<600),SQRT((BC27^2)-((SIN(RADIANS(Z27))*BC27)^2))) -> 0.84225463 | AN27: =(SIN(RADIANS(AK27))*BF27) -> 0 | AO27: =SQRT((BF27^2)-((SIN(RADIANS(AK27))*BF27)^2)) -> 0 | AP27: =_xlfn.IFS(AND(AF27="loxo",W27<600),AA27,AND(AF27="loxo",W27>600),V27,AND(B27>60,AF27="loxo"),V27,AF27="ortho",AD27) -> 266.86861 | AQ27: =_xlfn.IFS(AP27>270,AM27,AP27<90,AM27,AP27<270,AM27*-1,AP27>90,AM27*-1) -> -0.84225463 | AR27: =_xlfn.IFS(AJ27>270,AN27,AJ27<90,AN27,AJ27<270,AN27*-1,AJ27>90,AN27*-1) -> 0 | AS27: =_xlfn.IFS(AND(AP27>180,AP27<360),AL27*-1,AND(AP27<180,AP27>0),AL27) -> -15.395597 | AT27: =_xlfn.IFS(AJ27>180,AO27*-1,AJ27<180,AO27,AJ27=0,AO27,AJ27=360,AO27) -> 0 | AU27: =(AQ27+AR27) -> -0.84225463 | AV27: =(AS27+AT27) -> -15.395597 | AW27: =DEGREES(ATAN(AV27/AU27)) -> 86.868613 | AX27: =_xlfn.IFS((DEGREES(ATAN(AV27/AU27)))<0,(DEGREES(ATAN(AV27/AU27)))*-1,DEGREES(ATAN(AV27/AU27))>0,(DEGREES(ATAN(AV27/AU27)))) -> 86.868613 | AY27: =_xlfn.IFS(AND(AF27="loxo",W27<600),BH27-AA27,AND(AF27="loxo",W27>600),BH27-V27,AND(B27>60,AF27="loxo"),BH27-V27,AF27="ortho",BH27-AD27) -> 0 | AZ27: 1 | BA27: =_xlfn.IFS(AZ27=1,Références!$B$80,AZ27=2,Références!$B$81,AZ27=3,Références!$B$82,AZ27=4,Références!$B$83,AZ27=5,Références!$B$84,AZ27=6,Références!$B$85,AZ27=7,Références!$B$86,AZ27=8,Références!$B$87,AZ27=9,Références!$B$88,AZ27=10,Références!$B$89,AZ27=11,Références!$B$90,AZ27=12,Références!$B$91) -> 1 | BB27: Beam | BC27: {=_xlfn.IFS(BB27="Beam", -0.0000000868778*BA27^5-0.0000459619*BA27^4+0.00347366*BA27^3-0.0884721*BA27^2+0.510463*BA27+14.9932,BB27="Following",0.000652681*BA27^3-0.0356523*BA27^2+0.29714*BA27+15.2038,BB27="Head",-0.00000154449*BA27^5+0.0000797696*BA27^4+0.000148965*BA27^3-0.0570448*BA27^2+0.244115*BA27+15.0029)} -> 15.418619 | BE27: 250 | BF27: 0 | BG27: =IF(BD27=0,SQRT((AU27^2)+(AV27^2)),SQRT((AU27^2)+(AV27^2))) -> 15.418619 | BH27: =_xlfn.IFS(AND(AV27>0,AU27>0),AX27,AND(AV27<0,AU27>0),360-AX27,AND(AV27>0,AU27<0),180-AX27,AND(AV27<0,AU27<0),180+AX27) -> 266.86861 | BI27: =(AP27-AY27) -> 266.86861 | BK27: =IF(BJ27=0,(AH27/BG27)*60,((AH27/BG27)*60)+BJ27) -> 145.03927 | BL27: =IF(G27="W",(ROUND((E27/15),0))*-1,(ROUND((E27/15),0))) -> 9 | BM27: =IF(BL27<0,((BL27*-1)/24),BL27/24) -> 0.375 | BN27: =IF(BJ27=0,BK27/(60*24),(BK27/(60*24))+(BJ27/(60*24))) -> 0.10072172 | BO27: =BO26+BN26 -> 44952.393 | BP27: =BP26+BN26 -> 44952.601
A28: 17 | B28: 41 | C28: 38.2 | D28: N | E28: 140 | F28: 52.64 | G28: E | H28: =(C28/60)+B28 -> 41.636667 | I28: =RADIANS(H28) -> 0.72669692 | J28: =IF(D28="S",I28,I28*-1) -> -0.72669692 | K28: =(F28/60)+E28 -> 140.87733 | L28: =RADIANS(K28) -> 2.4587733 | M28: =7915.704468*LOG((TAN((RADIANS(45)+(I28/2)))))-23.268932*SIN(I28)-0.0525*(SIN(I28)^3)*(SIN(I28)^5) -> 2736.9985 | N28: {=_xlfn.IFS(D28<>OFFSET(D28,1,),M28+OFFSET(M28,1,),OFFSET(M28,1,)-M28<0,(OFFSET(M28,1,)-M28)*-1,OFFSET(M28,1,)-M28>0,OFFSET(M28,1,)-M28)} -> 40.885112 | O28: =(DEGREES(IF(D28=D29,I29-I28,I28+I29)))*60 -> -30.795 | P28: =_xlfn.IFS(AND(D29="N",D28<>D29,O28>0),O28*-1,AND(D29="N",D28=D29,O28<0),O28*-1,AND(D29="S",D28=D29,O28>0),O28,AND(D29="S",D28<>D29,O28<0),O28,AND(D29="N",D29<>D28,O28<0),O28*-1,AND(D29="N",D29=D28,O28<0),O28*-1,AND(D29="S",D28=D29,O28<0),O28,AND(D29="N",D29=D28,O28>0),O28*-1) -> 30.795 | Q28: =(DEGREES(_xlfn.IFS(G28=G29,L29-L28,(L28+L29)>(RADIANS(180)),RADIANS(360)-(L28+L29),G28<>G29,L28+L29)))*60 -> -63.354 | R28: {=_xlfn.IFS(AND(G29="E",G29<>G28,L28+L29>(RADIANS(180)),Q28<0),Q28*-1,AND(G29="W",G29<>G28,L29+L28>(RADIANS(180)),Q28<0),Q28,AND(G29="E",G29<>G28,L29+L28>(RADIANS(180)),Q28>0),Q28,AND(G29="W",G29<>G28,L29+L28>(RADIANS(180)),Q28>0),Q28*-1,AND(G29="W",G29=G28,Q28<0),Q28,AND(G29="W",G29=G28,Q28>0),Q28,AND(G29="E",G29=G28,Q28<0),Q28*-1,AND(G29="E",G29=G28,Q28>0),Q28*-1,AND(G29="E",G29<>G28,Q28>0),Q28*-1,AND(G29="E",G29<>G28,Q28<0),Q28,AND(G29="W",G29<>G28,Q28>0),Q28,AND(G29="W",G29<>G28,Q28<0),Q28*-1)} -> 63.354 | S28: =IF(O28<0,-1*O28,O28) -> 30.795 | T28: =IF(Q28<0,-1*Q28,Q28) -> 63.354 | U28: =DEGREES(ATAN(T28/N28)) -> 57.164075 | V28: =_xlfn.IFS(AND(P28>0,R28>0),180+U28,AND(P28<0,R28>0),360-U28,AND(P28>0,R28<0),180-U28,AND(P28<0,R28<0),U28) -> 237.16407 | W28: =(S28/(COS(RADIANS(U28)))) -> 56.792703 | X28: =AVERAGE(H28,H29) -> 41.380042 | Y28: =(T28*(COS(RADIANS(X28)))) -> 47.537128 | Z28: =DEGREES(ATAN(Y28/S28)) -> 57.064453 | AA28: =_xlfn.IFS(AND(P28>0,R28>0),180+Z28,AND(P28<0,R28>0),360-Z28,AND(P28>0,R28<0),180-Z28,AND(P28<0,R28<0),Z28) -> 237.06445 | AB28: =(S28/(COS(RADIANS(Z28)))) -> 56.640185 | AC28: =DEGREES(ACOS(((SIN(J29)-(SIN(J28))*(COS(RADIANS(AE28/60))))/(COS(J28)*SIN(RADIANS(AE28/60)))))) -> 57.414291 | AD28: =_xlfn.IFS(AND(P28>0,R28<0),180-AC28,AND(P28>0,R28>0),180+AC28,AND(P28<0,R28>0),180+AC28,AND(P28<0,R28<0),180-AC28) -> 237.41429 | AE28: =(DEGREES(ACOS((SIN(J28)*SIN(J29)+(COS(J28)*COS(J29)*COS(RADIANS(T28/60)))))))*60 -> 56.639494 | AF28: loxo | AG28: {=_xlfn.IFS(AH28=W28,V28,AH28=AB28,AA28,AH28=AE28,AD28)} -> 237.06445 | AH28: =_xlfn.IFS(AND(AF28="loxo",W28<600),AB28,AND(AF28="loxo",W28>600),W28,AND(B28>60,AF28="loxo"),W28,AF28="ortho",AE28) -> 56.640185 | AI28: =_xlfn.IFS(AND(AF28="loxo",W28>600),V28+BE28,AF28="ortho",AD28+BE28,AND(AF28="loxo",W28<600),AA28+BE28) -> 487.06445 | AJ28: =_xlfn.IFS(AI28>360,AI28-360,AI28<360,AI28) -> 127.06445 | AK28: =_xlfn.IFS(AJ28>270,AJ28-270,AJ28<90,90-AJ28,AJ28<180,AJ28-90,AJ28>180,270-AJ28) -> 37.064453 | AL28: =_xlfn.IFS(AND(AF28="loxo",W28>600),(SIN(RADIANS(U28))*BC28),AF28="ortho",(SIN(RADIANS(AC28))*BC28),AND(AF28="loxo",W28<600),(SIN(RADIANS(Z28))*BC28)) -> 12.94058 | AM28: =_xlfn.IFS(AND(AF28="loxo",W28>600),SQRT((BC28^2)-((SIN(RADIANS(U28))*BC28)^2)),AF28="ortho",SQRT((BC28^2)-((SIN(RADIANS(AC28))*BC28)^2)),AND(AF28="loxo",W28<600),SQRT((BC28^2)-((SIN(RADIANS(Z28))*BC28)^2))) -> 8.3830298 | AN28: =(SIN(RADIANS(AK28))*BF28) -> 0 | AO28: =SQRT((BF28^2)-((SIN(RADIANS(AK28))*BF28)^2)) -> 0 | AP28: =_xlfn.IFS(AND(AF28="loxo",W28<600),AA28,AND(AF28="loxo",W28>600),V28,AND(B28>60,AF28="loxo"),V28,AF28="ortho",AD28) -> 237.06445 | AQ28: =_xlfn.IFS(AP28>270,AM28,AP28<90,AM28,AP28<270,AM28*-1,AP28>90,AM28*-1) -> -8.3830298 | AR28: =_xlfn.IFS(AJ28>270,AN28,AJ28<90,AN28,AJ28<270,AN28*-1,AJ28>90,AN28*-1) -> 0 | AS28: =_xlfn.IFS(AND(AP28>180,AP28<360),AL28*-1,AND(AP28<180,AP28>0),AL28) -> -12.94058 | AT28: =_xlfn.IFS(AJ28>180,AO28*-1,AJ28<180,AO28,AJ28=0,AO28,AJ28=360,AO28) -> 0 | AU28: =(AQ28+AR28) -> -8.3830298 | AV28: =(AS28+AT28) -> -12.94058 | AW28: =DEGREES(ATAN(AV28/AU28)) -> 57.064453 | AX28: =_xlfn.IFS((DEGREES(ATAN(AV28/AU28)))<0,(DEGREES(ATAN(AV28/AU28)))*-1,DEGREES(ATAN(AV28/AU28))>0,(DEGREES(ATAN(AV28/AU28)))) -> 57.064453 | AY28: =_xlfn.IFS(AND(AF28="loxo",W28<600),BH28-AA28,AND(AF28="loxo",W28>600),BH28-V28,AND(B28>60,AF28="loxo"),BH28-V28,AF28="ortho",BH28-AD28) -> 0 | AZ28: 1 | BA28: =_xlfn.IFS(AZ28=1,Références!$B$80,AZ28=2,Références!$B$81,AZ28=3,Références!$B$82,AZ28=4,Références!$B$83,AZ28=5,Références!$B$84,AZ28=6,Références!$B$85,AZ28=7,Références!$B$86,AZ28=8,Références!$B$87,AZ28=9,Références!$B$88,AZ28=10,Références!$B$89,AZ28=11,Références!$B$90,AZ28=12,Références!$B$91) -> 1 | BB28: Beam | BC28: {=_xlfn.IFS(BB28="Beam", -0.0000000868778*BA28^5-0.0000459619*BA28^4+0.00347366*BA28^3-0.0884721*BA28^2+0.510463*BA28+14.9932,BB28="Following",0.000652681*BA28^3-0.0356523*BA28^2+0.29714*BA28+15.2038,BB28="Head",-0.00000154449*BA28^5+0.0000797696*BA28^4+0.000148965*BA28^3-0.0570448*BA28^2+0.244115*BA28+15.0029)} -> 15.418619 | BE28: 250 | BF28: 0 | BG28: =IF(BD28=0,SQRT((AU28^2)+(AV28^2)),SQRT((AU28^2)+(AV28^2))) -> 15.418619 | BH28: =_xlfn.IFS(AND(AV28>0,AU28>0),AX28,AND(AV28<0,AU28>0),360-AX28,AND(AV28>0,AU28<0),180-AX28,AND(AV28<0,AU28<0),180+AX28) -> 237.06445 | BI28: =(AP28-AY28) -> 237.06445 | BK28: =IF(BJ28=0,(AH28/BG28)*60,((AH28/BG28)*60)+BJ28) -> 220.40957 | BL28: =IF(G28="W",(ROUND((E28/15),0))*-1,(ROUND((E28/15),0))) -> 9 | BM28: =IF(BL28<0,((BL28*-1)/24),BL28/24) -> 0.375 | BN28: =IF(BJ28=0,BK28/(60*24),(BK28/(60*24))+(BJ28/(60*24))) -> 0.1530622 | BO28: =BO27+BN27 -> 44952.493 | BP28: =BP27+BN27 -> 44952.702
A29: 18 | B29: 41 | C29: 7.405 | D29: N | E29: 139 | F29: 49.286 | G29: E | H29: =(C29/60)+B29 -> 41.123417 | I29: =RADIANS(H29) -> 0.71773902 | J29: =IF(D29="S",I29,I29*-1) -> -0.71773902 | K29: =(F29/60)+E29 -> 139.82143 | L29: =RADIANS(K29) -> 2.4403444 | M29: =7915.704468*LOG((TAN((RADIANS(45)+(I29/2)))))-23.268932*SIN(I29)-0.0525*(SIN(I29)^3)*(SIN(I29)^5) -> 2696.1134 | N29: {=_xlfn.IFS(D29<>OFFSET(D29,1,),M29+OFFSET(M29,1,),OFFSET(M29,1,)-M29<0,(OFFSET(M29,1,)-M29)*-1,OFFSET(M29,1,)-M29>0,OFFSET(M29,1,)-M29)} -> 18.471222 | O29: =(DEGREES(IF(D29=D30,I30-I29,I29+I30)))*60 -> 13.943 | P29: =_xlfn.IFS(AND(D30="N",D29<>D30,O29>0),O29*-1,AND(D30="N",D29=D30,O29<0),O29*-1,AND(D30="S",D29=D30,O29>0),O29,AND(D30="S",D29<>D30,O29<0),O29,AND(D30="N",D30<>D29,O29<0),O29*-1,AND(D30="N",D30=D29,O29<0),O29*-1,AND(D30="S",D29=D30,O29<0),O29,AND(D30="N",D30=D29,O29>0),O29*-1) -> -13.943 | Q29: =(DEGREES(_xlfn.IFS(G29=G30,L30-L29,(L29+L30)>(RADIANS(180)),RADIANS(360)-(L29+L30),G29<>G30,L29+L30)))*60 -> -46.183 | R29: {=_xlfn.IFS(AND(G30="E",G30<>G29,L29+L30>(RADIANS(180)),Q29<0),Q29*-1,AND(G30="W",G30<>G29,L30+L29>(RADIANS(180)),Q29<0),Q29,AND(G30="E",G30<>G29,L30+L29>(RADIANS(180)),Q29>0),Q29,AND(G30="W",G30<>G29,L30+L29>(RADIANS(180)),Q29>0),Q29*-1,AND(G30="W",G30=G29,Q29<0),Q29,AND(G30="W",G30=G29,Q29>0),Q29,AND(G30="E",G30=G29,Q29<0),Q29*-1,AND(G30="E",G30=G29,Q29>0),Q29*-1,AND(G30="E",G30<>G29,Q29>0),Q29*-1,AND(G30="E",G30<>G29,Q29<0),Q29,AND(G30="W",G30<>G29,Q29>0),Q29,AND(G30="W",G30<>G29,Q29<0),Q29*-1)} -> 46.183 | S29: =IF(O29<0,-1*O29,O29) -> 13.943 | T29: =IF(Q29<0,-1*Q29,Q29) -> 46.183 | U29: =DEGREES(ATAN(T29/N29)) -> 68.200707 | V29: =_xlfn.IFS(AND(P29>0,R29>0),180+U29,AND(P29<0,R29>0),360-U29,AND(P29>0,R29<0),180-U29,AND(P29<0,R29<0),U29) -> 291.79929 | W29: =(S29/(COS(RADIANS(U29)))) -> 37.546143 | X29: =AVERAGE(H29,H30) -> 41.239608 | Y29: =(T29*(COS(RADIANS(X29)))) -> 34.72774 | Z29: =DEGREES(ATAN(Y29/S29)) -> 68.124806 | AA29: =_xlfn.IFS(AND(P29>0,R29>0),180+Z29,AND(P29<0,R29>0),360-Z29,AND(P29>0,R29<0),180-Z29,AND(P29<0,R29<0),Z29) -> 291.87519 | AB29: =(S29/(COS(RADIANS(Z29)))) -> 37.422228 | AC29: =DEGREES(ACOS(((SIN(J30)-(SIN(J29))*(COS(RADIANS(AE29/60))))/(COS(J29)*SIN(RADIANS(AE29/60)))))) -> 112.12859 | AD29: =_xlfn.IFS(AND(P29>0,R29<0),180-AC29,AND(P29>0,R29>0),180+AC29,AND(P29<0,R29>0),180+AC29,AND(P29<0,R29<0),180-AC29) -> 292.12859 | AE29: =(DEGREES(ACOS((SIN(J29)*SIN(J30)+(COS(J29)*COS(J30)*COS(RADIANS(T29/60)))))))*60 -> 37.42205 | AF29: loxo | AG29: {=_xlfn.IFS(AH29=W29,V29,AH29=AB29,AA29,AH29=AE29,AD29)} -> 291.87519 | AH29: =_xlfn.IFS(AND(AF29="loxo",W29<600),AB29,AND(AF29="loxo",W29>600),W29,AND(B29>60,AF29="loxo"),W29,AF29="ortho",AE29) -> 37.422228 | AI29: =_xlfn.IFS(AND(AF29="loxo",W29>600),V29+BE29,AF29="ortho",AD29+BE29,AND(AF29="loxo",W29<600),AA29+BE29) -> 541.87519 | AJ29: =_xlfn.IFS(AI29>360,AI29-360,AI29<360,AI29) -> 181.87519 | AK29: =_xlfn.IFS(AJ29>270,AJ29-270,AJ29<90,90-AJ29,AJ29<180,AJ29-90,AJ29>180,270-AJ29) -> 88.124806 | AL29: =_xlfn.IFS(AND(AF29="loxo",W29>600),(SIN(RADIANS(U29))*BC29),AF29="ortho",(SIN(RADIANS(AC29))*BC29),AND(AF29="loxo",W29<600),(SIN(RADIANS(Z29))*BC29)) -> 14.308442 | AM29: =_xlfn.IFS(AND(AF29="loxo",W29>600),SQRT((BC29^2)-((SIN(RADIANS(U29))*BC29)^2)),AF29="ortho",SQRT((BC29^2)-((SIN(RADIANS(AC29))*BC29)^2)),AND(AF29="loxo",W29<600),SQRT((BC29^2)-((SIN(RADIANS(Z29))*BC29)^2))) -> 5.7447621 | AN29: =(SIN(RADIANS(AK29))*BF29) -> 0 | AO29: =SQRT((BF29^2)-((SIN(RADIANS(AK29))*BF29)^2)) -> 0 | AP29: =_xlfn.IFS(AND(AF29="loxo",W29<600),AA29,AND(AF29="loxo",W29>600),V29,AND(B29>60,AF29="loxo"),V29,AF29="ortho",AD29) -> 291.87519 | AQ29: =_xlfn.IFS(AP29>270,AM29,AP29<90,AM29,AP29<270,AM29*-1,AP29>90,AM29*-1) -> 5.7447621 | AR29: =_xlfn.IFS(AJ29>270,AN29,AJ29<90,AN29,AJ29<270,AN29*-1,AJ29>90,AN29*-1) -> 0 | AS29: =_xlfn.IFS(AND(AP29>180,AP29<360),AL29*-1,AND(AP29<180,AP29>0),AL29) -> -14.308442 | AT29: =_xlfn.IFS(AJ29>180,AO29*-1,AJ29<180,AO29,AJ29=0,AO29,AJ29=360,AO29) -> 0 | AU29: =(AQ29+AR29) -> 5.7447621 | AV29: =(AS29+AT29) -> -14.308442 | AW29: =DEGREES(ATAN(AV29/AU29)) -> -68.124806 | AX29: =_xlfn.IFS((DEGREES(ATAN(AV29/AU29)))<0,(DEGREES(ATAN(AV29/AU29)))*-1,DEGREES(ATAN(AV29/AU29))>0,(DEGREES(ATAN(AV29/AU29)))) -> 68.124806 | AY29: =_xlfn.IFS(AND(AF29="loxo",W29<600),BH29-AA29,AND(AF29="loxo",W29>600),BH29-V29,AND(B29>60,AF29="loxo"),BH29-V29,AF29="ortho",BH29-AD29) -> 0 | AZ29: 1 | BA29: =_xlfn.IFS(AZ29=1,Références!$B$80,AZ29=2,Références!$B$81,AZ29=3,Références!$B$82,AZ29=4,Références!$B$83,AZ29=5,Références!$B$84,AZ29=6,Références!$B$85,AZ29=7,Références!$B$86,AZ29=8,Références!$B$87,AZ29=9,Références!$B$88,AZ29=10,Références!$B$89,AZ29=11,Références!$B$90,AZ29=12,Références!$B$91) -> 1 | BB29: Beam | BC29: {=_xlfn.IFS(BB29="Beam", -0.0000000868778*BA29^5-0.0000459619*BA29^4+0.00347366*BA29^3-0.0884721*BA29^2+0.510463*BA29+14.9932,BB29="Following",0.000652681*BA29^3-0.0356523*BA29^2+0.29714*BA29+15.2038,BB29="Head",-0.00000154449*BA29^5+0.0000797696*BA29^4+0.000148965*BA29^3-0.0570448*BA29^2+0.244115*BA29+15.0029)} -> 15.418619 | BE29: 250 | BF29: 0 | BG29: =IF(BD29=0,SQRT((AU29^2)+(AV29^2)),SQRT((AU29^2)+(AV29^2))) -> 15.418619 | BH29: =_xlfn.IFS(AND(AV29>0,AU29>0),AX29,AND(AV29<0,AU29>0),360-AX29,AND(AV29>0,AU29<0),180-AX29,AND(AV29<0,AU29<0),180+AX29) -> 291.87519 | BI29: =(AP29-AY29) -> 291.87519 | BK29: =IF(BJ29=0,(AH29/BG29)*60,((AH29/BG29)*60)+BJ29) -> 145.62483 | BL29: =IF(G29="W",(ROUND((E29/15),0))*-1,(ROUND((E29/15),0))) -> 9 | BM29: =IF(BL29<0,((BL29*-1)/24),BL29/24) -> 0.375 | BN29: =IF(BJ29=0,BK29/(60*24),(BK29/(60*24))+(BJ29/(60*24))) -> 0.10112835 | BO29: =BO28+BN28 -> 44952.646 | BP29: =BP28+BN28 -> 44952.855
A30: 19 | B30: 41 | C30: 21.348 | D30: N | E30: 139 | F30: 3.103 | G30: E | H30: =(C30/60)+B30 -> 41.3558 | I30: =RADIANS(H30) -> 0.72179487 | J30: =IF(D30="S",I30,I30*-1) -> -0.72179487 | K30: =(F30/60)+E30 -> 139.05172 | L30: =RADIANS(K30) -> 2.4269103 | M30: =7915.704468*LOG((TAN((RADIANS(45)+(I30/2)))))-23.268932*SIN(I30)-0.0525*(SIN(I30)^3)*(SIN(I30)^5) -> 2714.5846 | N30: {=_xlfn.IFS(D30<>OFFSET(D30,1,),M30+OFFSET(M30,1,),OFFSET(M30,1,)-M30<0,(OFFSET(M30,1,)-M30)*-1,OFFSET(M30,1,)-M30>0,OFFSET(M30,1,)-M30)} -> 7.3140027 | O30: =(DEGREES(IF(D30=D31,I31-I30,I30+I31)))*60 -> -5.515 | P30: =_xlfn.IFS(AND(D31="N",D30<>D31,O30>0),O30*-1,AND(D31="N",D30=D31,O30<0),O30*-1,AND(D31="S",D30=D31,O30>0),O30,AND(D31="S",D30<>D31,O30<0),O30,AND(D31="N",D31<>D30,O30<0),O30*-1,AND(D31="N",D31=D30,O30<0),O30*-1,AND(D31="S",D30=D31,O30<0),O30,AND(D31="N",D31=D30,O30>0),O30*-1) -> 5.515 | Q30: =(DEGREES(_xlfn.IFS(G30=G31,L31-L30,(L30+L31)>(RADIANS(180)),RADIANS(360)-(L30+L31),G30<>G31,L30+L31)))*60 -> 3.835 | R30: {=_xlfn.IFS(AND(G31="E",G31<>G30,L30+L31>(RADIANS(180)),Q30<0),Q30*-1,AND(G31="W",G31<>G30,L31+L30>(RADIANS(180)),Q30<0),Q30,AND(G31="E",G31<>G30,L31+L30>(RADIANS(180)),Q30>0),Q30,AND(G31="W",G31<>G30,L31+L30>(RADIANS(180)),Q30>0),Q30*-1,AND(G31="W",G31=G30,Q30<0),Q30,AND(G31="W",G31=G30,Q30>0),Q30,AND(G31="E",G31=G30,Q30<0),Q30*-1,AND(G31="E",G31=G30,Q30>0),Q30*-1,AND(G31="E",G31<>G30,Q30>0),Q30*-1,AND(G31="E",G31<>G30,Q30<0),Q30,AND(G31="W",G31<>G30,Q30>0),Q30,AND(G31="W",G31<>G30,Q30<0),Q30*-1)} -> -3.835 | S30: =IF(O30<0,-1*O30,O30) -> 5.515 | T30: =IF(Q30<0,-1*Q30,Q30) -> 3.835 | U30: =DEGREES(ATAN(T30/N30)) -> 27.669672 | V30: =_xlfn.IFS(AND(P30>0,R30>0),180+U30,AND(P30<0,R30>0),360-U30,AND(P30>0,R30<0),180-U30,AND(P30<0,R30<0),U30) -> 152.33033 | W30: =(S30/(COS(RADIANS(U30)))) -> 6.2271383 | X30: =AVERAGE(H30,H31) -> 41.309842 | Y30: =(T30*(COS(RADIANS(X30)))) -> 2.8806631 | Z30: =DEGREES(ATAN(Y30/S30)) -> 27.579523 | AA30: =_xlfn.IFS(AND(P30>0,R30>0),180+Z30,AND(P30<0,R30>0),360-Z30,AND(P30>0,R30<0),180-Z30,AND(P30<0,R30<0),Z30) -> 152.42048 | AB30: =(S30/(COS(RADIANS(Z30)))) -> 6.2220129 | AC30: =DEGREES(ACOS(((SIN(J31)-(SIN(J30))*(COS(RADIANS(AE30/60))))/(COS(J30)*SIN(RADIANS(AE30/60)))))) -> 27.600625 | AD30: =_xlfn.IFS(AND(P30>0,R30<0),180-AC30,AND(P30>0,R30>0),180+AC30,AND(P30<0,R30>0),180+AC30,AND(P30<0,R30<0),180-AC30) -> 152.39937 | AE30: =(DEGREES(ACOS((SIN(J30)*SIN(J31)+(COS(J30)*COS(J31)*COS(RADIANS(T30/60)))))))*60 -> 6.2220124 | AF30: loxo | AG30: {=_xlfn.IFS(AH30=W30,V30,AH30=AB30,AA30,AH30=AE30,AD30)} -> 152.42048 | AH30: =_xlfn.IFS(AND(AF30="loxo",W30<600),AB30,AND(AF30="loxo",W30>600),W30,AND(B30>60,AF30="loxo"),W30,AF30="ortho",AE30) -> 6.2220129 | AI30: =_xlfn.IFS(AND(AF30="loxo",W30>600),V30+BE30,AF30="ortho",AD30+BE30,AND(AF30="loxo",W30<600),AA30+BE30) -> 402.42048 | AJ30: =_xlfn.IFS(AI30>360,AI30-360,AI30<360,AI30) -> 42.420477 | AK30: =_xlfn.IFS(AJ30>270,AJ30-270,AJ30<90,90-AJ30,AJ30<180,AJ30-90,AJ30>180,270-AJ30) -> 47.579523 | AL30: =_xlfn.IFS(AND(AF30="loxo",W30>600),(SIN(RADIANS(U30))*BC30),AF30="ortho",(SIN(RADIANS(AC30))*BC30),AND(AF30="loxo",W30<600),(SIN(RADIANS(Z30))*BC30)) -> 7.1385011 | AM30: =_xlfn.IFS(AND(AF30="loxo",W30>600),SQRT((BC30^2)-((SIN(RADIANS(U30))*BC30)^2)),AF30="ortho",SQRT((BC30^2)-((SIN(RADIANS(AC30))*BC30)^2)),AND(AF30="loxo",W30<600),SQRT((BC30^2)-((SIN(RADIANS(Z30))*BC30)^2))) -> 13.666587 | AN30: =(SIN(RADIANS(AK30))*BF30) -> 0 | AO30: =SQRT((BF30^2)-((SIN(RADIANS(AK30))*BF30)^2)) -> 0 | AP30: =_xlfn.IFS(AND(AF30="loxo",W30<600),AA30,AND(AF30="loxo",W30>600),V30,AND(B30>60,AF30="loxo"),V30,AF30="ortho",AD30) -> 152.42048 | AQ30: =_xlfn.IFS(AP30>270,AM30,AP30<90,AM30,AP30<270,AM30*-1,AP30>90,AM30*-1) -> -13.666587 | AR30: =_xlfn.IFS(AJ30>270,AN30,AJ30<90,AN30,AJ30<270,AN30*-1,AJ30>90,AN30*-1) -> 0 | AS30: =_xlfn.IFS(AND(AP30>180,AP30<360),AL30*-1,AND(AP30<180,AP30>0),AL30) -> 7.1385011 | AT30: =_xlfn.IFS(AJ30>180,AO30*-1,AJ30<180,AO30,AJ30=0,AO30,AJ30=360,AO30) -> 0 | AU30: =(AQ30+AR30) -> -13.666587 | AV30: =(AS30+AT30) -> 7.1385011 | AW30: =DEGREES(ATAN(AV30/AU30)) -> -27.579523 | AX30: =_xlfn.IFS((DEGREES(ATAN(AV30/AU30)))<0,(DEGREES(ATAN(AV30/AU30)))*-1,DEGREES(ATAN(AV30/AU30))>0,(DEGREES(ATAN(AV30/AU30)))) -> 27.579523 | AY30: =_xlfn.IFS(AND(AF30="loxo",W30<600),BH30-AA30,AND(AF30="loxo",W30>600),BH30-V30,AND(B30>60,AF30="loxo"),BH30-V30,AF30="ortho",BH30-AD30) -> 0 | AZ30: 1 | BA30: =_xlfn.IFS(AZ30=1,Références!$B$80,AZ30=2,Références!$B$81,AZ30=3,Références!$B$82,AZ30=4,Références!$B$83,AZ30=5,Références!$B$84,AZ30=6,Références!$B$85,AZ30=7,Références!$B$86,AZ30=8,Références!$B$87,AZ30=9,Références!$B$88,AZ30=10,Références!$B$89,AZ30=11,Références!$B$90,AZ30=12,Références!$B$91) -> 1 | BB30: Beam | BC30: {=_xlfn.IFS(BB30="Beam", -0.0000000868778*BA30^5-0.0000459619*BA30^4+0.00347366*BA30^3-0.0884721*BA30^2+0.510463*BA30+14.9932,BB30="Following",0.000652681*BA30^3-0.0356523*BA30^2+0.29714*BA30+15.2038,BB30="Head",-0.00000154449*BA30^5+0.0000797696*BA30^4+0.000148965*BA30^3-0.0570448*BA30^2+0.244115*BA30+15.0029)} -> 15.418619 | BE30: 250 | BF30: 0 | BG30: =IF(BD30=0,SQRT((AU30^2)+(AV30^2)),SQRT((AU30^2)+(AV30^2))) -> 15.418619 | BH30: =_xlfn.IFS(AND(AV30>0,AU30>0),AX30,AND(AV30<0,AU30>0),360-AX30,AND(AV30>0,AU30<0),180-AX30,AND(AV30<0,AU30<0),180+AX30) -> 152.42048 | BI30: =(AP30-AY30) -> 152.42048 | BK30: =IF(BJ30=0,(AH30/BG30)*60,((AH30/BG30)*60)+BJ30) -> 24.212336 | BL30: =IF(G30="W",(ROUND((E30/15),0))*-1,(ROUND((E30/15),0))) -> 9 | BM30: =IF(BL30<0,((BL30*-1)/24),BL30/24) -> 0.375 | BN30: =IF(BJ30=0,BK30/(60*24),(BK30/(60*24))+(BJ30/(60*24))) -> 0.016814122 | BO30: =BO29+BN29 -> 44952.747 | BP30: =BP29+BN29 -> 44952.956
A31: 20 | B31: 41 | C31: 15.833 | D31: N | E31: 139 | F31: 6.938 | G31: E | H31: =(C31/60)+B31 -> 41.263883 | I31: =RADIANS(H31) -> 0.72019063 | J31: =IF(D31="S",I31,I31*-1) -> -0.72019063 | K31: =(F31/60)+E31 -> 139.11563 | L31: =RADIANS(K31) -> 2.4280258 | M31: =7915.704468*LOG((TAN((RADIANS(45)+(I31/2)))))-23.268932*SIN(I31)-0.0525*(SIN(I31)^3)*(SIN(I31)^5) -> 2707.2706 | N31: {=_xlfn.IFS(D31<>OFFSET(D31,1,),M31+OFFSET(M31,1,),OFFSET(M31,1,)-M31<0,(OFFSET(M31,1,)-M31)*-1,OFFSET(M31,1,)-M31>0,OFFSET(M31,1,)-M31)} -> 42.534972 | O31: =(DEGREES(IF(D31=D32,I32-I31,I31+I32)))*60 -> 31.963 | P31: =_xlfn.IFS(AND(D32="N",D31<>D32,O31>0),O31*-1,AND(D32="N",D31=D32,O31<0),O31*-1,AND(D32="S",D31=D32,O31>0),O31,AND(D32="S",D31<>D32,O31<0),O31,AND(D32="N",D32<>D31,O31<0),O31*-1,AND(D32="N",D32=D31,O31<0),O31*-1,AND(D32="S",D31=D32,O31<0),O31,AND(D32="N",D32=D31,O31>0),O31*-1) -> -31.963 | Q31: =(DEGREES(_xlfn.IFS(G31=G32,L32-L31,(L31+L32)>(RADIANS(180)),RADIANS(360)-(L31+L32),G31<>G32,L31+L32)))*60 -> 26.469 | R31: {=_xlfn.IFS(AND(G32="E",G32<>G31,L31+L32>(RADIANS(180)),Q31<0),Q31*-1,AND(G32="W",G32<>G31,L32+L31>(RADIANS(180)),Q31<0),Q31,AND(G32="E",G32<>G31,L32+L31>(RADIANS(180)),Q31>0),Q31,AND(G32="W",G32<>G31,L32+L31>(RADIANS(180)),Q31>0),Q31*-1,AND(G32="W",G32=G31,Q31<0),Q31,AND(G32="W",G32=G31,Q31>0),Q31,AND(G32="E",G32=G31,Q31<0),Q31*-1,AND(G32="E",G32=G31,Q31>0),Q31*-1,AND(G32="E",G32<>G31,Q31>0),Q31*-1,AND(G32="E",G32<>G31,Q31<0),Q31,AND(G32="W",G32<>G31,Q31>0),Q31,AND(G32="W",G32<>G31,Q31<0),Q31*-1)} -> -26.469 | S31: =IF(O31<0,-1*O31,O31) -> 31.963 | T31: =IF(Q31<0,-1*Q31,Q31) -> 26.469 | U31: =DEGREES(ATAN(T31/N31)) -> 31.893506 | V31: =_xlfn.IFS(AND(P31>0,R31>0),180+U31,AND(P31<0,R31>0),360-U31,AND(P31>0,R31<0),180-U31,AND(P31<0,R31<0),U31) -> 31.893506 | W31: =(S31/(COS(RADIANS(U31)))) -> 37.646421 | X31: =AVERAGE(H31,H32) -> 41.530242 | Y31: =(T31*(COS(RADIANS(X31)))) -> 19.814849 | Z31: =DEGREES(ATAN(Y31/S31)) -> 31.79605 | AA31: =_xlfn.IFS(AND(P31>0,R31>0),180+Z31,AND(P31<0,R31>0),360-Z31,AND(P31>0,R31<0),180-Z31,AND(P31<0,R31<0),Z31) -> 31.79605 | AB31: =(S31/(COS(RADIANS(Z31)))) -> 37.60667 | AC31: =DEGREES(ACOS(((SIN(J32)-(SIN(J31))*(COS(RADIANS(AE31/60))))/(COS(J31)*SIN(RADIANS(AE31/60)))))) -> 148.34998 | AD31: =_xlfn.IFS(AND(P31>0,R31<0),180-AC31,AND(P31>0,R31>0),180+AC31,AND(P31<0,R31>0),180+AC31,AND(P31<0,R31<0),180-AC31) -> 31.650022 | AE31: =(DEGREES(ACOS((SIN(J31)*SIN(J32)+(COS(J31)*COS(J32)*COS(RADIANS(T31/60)))))))*60 -> 37.606532 | AF31: loxo | AG31: {=_xlfn.IFS(AH31=W31,V31,AH31=AB31,AA31,AH31=AE31,AD31)} -> 31.79605 | AH31: =_xlfn.IFS(AND(AF31="loxo",W31<600),AB31,AND(AF31="loxo",W31>600),W31,AND(B31>60,AF31="loxo"),W31,AF31="ortho",AE31) -> 37.60667 | AI31: =_xlfn.IFS(AND(AF31="loxo",W31>600),V31+BE31,AF31="ortho",AD31+BE31,AND(AF31="loxo",W31<600),AA31+BE31) -> 281.79605 | AJ31: =_xlfn.IFS(AI31>360,AI31-360,AI31<360,AI31) -> 281.79605 | AK31: =_xlfn.IFS(AJ31>270,AJ31-270,AJ31<90,90-AJ31,AJ31<180,AJ31-90,AJ31>180,270-AJ31) -> 11.79605 | AL31: =_xlfn.IFS(AND(AF31="loxo",W31>600),(SIN(RADIANS(U31))*BC31),AF31="ortho",(SIN(RADIANS(AC31))*BC31),AND(AF31="loxo",W31<600),(SIN(RADIANS(Z31))*BC31)) -> 8.1240269 | AM31: =_xlfn.IFS(AND(AF31="loxo",W31>600),SQRT((BC31^2)-((SIN(RADIANS(U31))*BC31)^2)),AF31="ortho",SQRT((BC31^2)-((SIN(RADIANS(AC31))*BC31)^2)),AND(AF31="loxo",W31<600),SQRT((BC31^2)-((SIN(RADIANS(Z31))*BC31)^2))) -> 13.104731 | AN31: =(SIN(RADIANS(AK31))*BF31) -> 0 | AO31: =SQRT((BF31^2)-((SIN(RADIANS(AK31))*BF31)^2)) -> 0 | AP31: =_xlfn.IFS(AND(AF31="loxo",W31<600),AA31,AND(AF31="loxo",W31>600),V31,AND(B31>60,AF31="loxo"),V31,AF31="ortho",AD31) -> 31.79605 | AQ31: =_xlfn.IFS(AP31>270,AM31,AP31<90,AM31,AP31<270,AM31*-1,AP31>90,AM31*-1) -> 13.104731 | AR31: =_xlfn.IFS(AJ31>270,AN31,AJ31<90,AN31,AJ31<270,AN31*-1,AJ31>90,AN31*-1) -> 0 | AS31: =_xlfn.IFS(AND(AP31>180,AP31<360),AL31*-1,AND(AP31<180,AP31>0),AL31) -> 8.1240269 | AT31: =_xlfn.IFS(AJ31>180,AO31*-1,AJ31<180,AO31,AJ31=0,AO31,AJ31=360,AO31) -> 0 | AU31: =(AQ31+AR31) -> 13.104731 | AV31: =(AS31+AT31) -> 8.1240269 | AW31: =DEGREES(ATAN(AV31/AU31)) -> 31.79605 | AX31: =_xlfn.IFS((DEGREES(ATAN(AV31/AU31)))<0,(DEGREES(ATAN(AV31/AU31)))*-1,DEGREES(ATAN(AV31/AU31))>0,(DEGREES(ATAN(AV31/AU31)))) -> 31.79605 | AY31: =_xlfn.IFS(AND(AF31="loxo",W31<600),BH31-AA31,AND(AF31="loxo",W31>600),BH31-V31,AND(B31>60,AF31="loxo"),BH31-V31,AF31="ortho",BH31-AD31) -> 3.5527137e-15 | AZ31: 1 | BA31: =_xlfn.IFS(AZ31=1,Références!$B$80,AZ31=2,Références!$B$81,AZ31=3,Références!$B$82,AZ31=4,Références!$B$83,AZ31=5,Références!$B$84,AZ31=6,Références!$B$85,AZ31=7,Références!$B$86,AZ31=8,Références!$B$87,AZ31=9,Références!$B$88,AZ31=10,Références!$B$89,AZ31=11,Références!$B$90,AZ31=12,Références!$B$91) -> 1 | BB31: Beam | BC31: {=_xlfn.IFS(BB31="Beam", -0.0000000868778*BA31^5-0.0000459619*BA31^4+0.00347366*BA31^3-0.0884721*BA31^2+0.510463*BA31+14.9932,BB31="Following",0.000652681*BA31^3-0.0356523*BA31^2+0.29714*BA31+15.2038,BB31="Head",-0.00000154449*BA31^5+0.0000797696*BA31^4+0.000148965*BA31^3-0.0570448*BA31^2+0.244115*BA31+15.0029)} -> 15.418619 | BE31: 250 | BF31: 0 | BG31: =IF(BD31=0,SQRT((AU31^2)+(AV31^2)),SQRT((AU31^2)+(AV31^2))) -> 15.418619 | BH31: =_xlfn.IFS(AND(AV31>0,AU31>0),AX31,AND(AV31<0,AU31>0),360-AX31,AND(AV31>0,AU31<0),180-AX31,AND(AV31<0,AU31<0),180+AX31) -> 31.79605 | BI31: =(AP31-AY31) -> 31.79605 | BK31: =IF(BJ31=0,(AH31/BG31)*60,((AH31/BG31)*60)+BJ31) -> 146.34257 | BL31: =IF(G31="W",(ROUND((E31/15),0))*-1,(ROUND((E31/15),0))) -> 9 | BM31: =IF(BL31<0,((BL31*-1)/24),BL31/24) -> 0.375 | BN31: =IF(BJ31=0,BK31/(60*24),(BK31/(60*24))+(BJ31/(60*24))) -> 0.10162678 | BO31: =BO30+BN30 -> 44952.764 | BP31: =BP30+BN30 -> 44952.973
A32: 21 | B32: 41 | C32: 47.796 | D32: N | E32: 139 | F32: 33.407 | G32: E | H32: =(C32/60)+B32 -> 41.7966 | I32: =RADIANS(H32) -> 0.72948829 | J32: =IF(D32="S",I32,I32*-1) -> -0.72948829 | K32: =(F32/60)+E32 -> 139.55678 | L32: =RADIANS(K32) -> 2.4357254 | M32: =7915.704468*LOG((TAN((RADIANS(45)+(I32/2)))))-23.268932*SIN(I32)-0.0525*(SIN(I32)^3)*(SIN(I32)^5) -> 2749.8056 | N32: {=_xlfn.IFS(D32<>OFFSET(D32,1,),M32+OFFSET(M32,1,),OFFSET(M32,1,)-M32<0,(OFFSET(M32,1,)-M32)*-1,OFFSET(M32,1,)-M32>0,OFFSET(M32,1,)-M32)} -> 22.343489 | O32: =(DEGREES(IF(D32=D33,I33-I32,I32+I33)))*60 -> -16.757 | P32: =_xlfn.IFS(AND(D33="N",D32<>D33,O32>0),O32*-1,AND(D33="N",D32=D33,O32<0),O32*-1,AND(D33="S",D32=D33,O32>0),O32,AND(D33="S",D32<>D33,O32<0),O32,AND(D33="N",D33<>D32,O32<0),O32*-1,AND(D33="N",D33=D32,O32<0),O32*-1,AND(D33="S",D32=D33,O32<0),O32,AND(D33="N",D33=D32,O32>0),O32*-1) -> 16.757 | Q32: =(DEGREES(_xlfn.IFS(G32=G33,L33-L32,(L32+L33)>(RADIANS(180)),RADIANS(360)-(L32+L33),G32<>G33,L32+L33)))*60 -> 34.639 | R32: {=_xlfn.IFS(AND(G33="E",G33<>G32,L32+L33>(RADIANS(180)),Q32<0),Q32*-1,AND(G33="W",G33<>G32,L33+L32>(RADIANS(180)),Q32<0),Q32,AND(G33="E",G33<>G32,L33+L32>(RADIANS(180)),Q32>0),Q32,AND(G33="W",G33<>G32,L33+L32>(RADIANS(180)),Q32>0),Q32*-1,AND(G33="W",G33=G32,Q32<0),Q32,AND(G33="W",G33=G32,Q32>0),Q32,AND(G33="E",G33=G32,Q32<0),Q32*-1,AND(G33="E",G33=G32,Q32>0),Q32*-1,AND(G33="E",G33<>G32,Q32>0),Q32*-1,AND(G33="E",G33<>G32,Q32<0),Q32,AND(G33="W",G33<>G32,Q32>0),Q32,AND(G33="W",G33<>G32,Q32<0),Q32*-1)} -> -34.639 | S32: =IF(O32<0,-1*O32,O32) -> 16.757 | T32: =IF(Q32<0,-1*Q32,Q32) -> 34.639 | U32: =DEGREES(ATAN(T32/N32)) -> 57.176425 | V32: =_xlfn.IFS(AND(P32>0,R32>0),180+U32,AND(P32<0,R32>0),360-U32,AND(P32>0,R32<0),180-U32,AND(P32<0,R32<0),U32) -> 122.82357 | W32: =(S32/(COS(RADIANS(U32)))) -> 30.913893 | X32: =AVERAGE(H32,H33) -> 41.656958 | Y32: =(T32*(COS(RADIANS(X32)))) -> 25.880103 | Z32: =DEGREES(ATAN(Y32/S32)) -> 57.077515 | AA32: =_xlfn.IFS(AND(P32>0,R32>0),180+Z32,AND(P32<0,R32>0),360-Z32,AND(P32>0,R32<0),180-Z32,AND(P32<0,R32<0),Z32) -> 122.92248 | AB32: =(S32/(COS(RADIANS(Z32)))) -> 30.831425 | AC32: =DEGREES(ACOS(((SIN(J33)-(SIN(J32))*(COS(RADIANS(AE32/60))))/(COS(J32)*SIN(RADIANS(AE32/60)))))) -> 57.269626 | AD32: =_xlfn.IFS(AND(P32>0,R32<0),180-AC32,AND(P32>0,R32>0),180+AC32,AND(P32<0,R32>0),180+AC32,AND(P32<0,R32<0),180-AC32) -> 122.73037 | AE32: =(DEGREES(ACOS((SIN(J32)*SIN(J33)+(COS(J32)*COS(J33)*COS(RADIANS(T32/60)))))))*60 -> 30.831312 | AF32: loxo | AG32: {=_xlfn.IFS(AH32=W32,V32,AH32=AB32,AA32,AH32=AE32,AD32)} -> 122.92248 | AH32: =_xlfn.IFS(AND(AF32="loxo",W32<600),AB32,AND(AF32="loxo",W32>600),W32,AND(B32>60,AF32="loxo"),W32,AF32="ortho",AE32) -> 30.831425 | AI32: =_xlfn.IFS(AND(AF32="loxo",W32>600),V32+BE32,AF32="ortho",AD32+BE32,AND(AF32="loxo",W32<600),AA32+BE32) -> 372.92248 | AJ32: =_xlfn.IFS(AI32>360,AI32-360,AI32<360,AI32) -> 12.922485 | AK32: =_xlfn.IFS(AJ32>270,AJ32-270,AJ32<90,90-AJ32,AJ32<180,AJ32-90,AJ32>180,270-AJ32) -> 77.077515 | AL32: =_xlfn.IFS(AND(AF32="loxo",W32>600),(SIN(RADIANS(U32))*BC32),AF32="ortho",(SIN(RADIANS(AC32))*BC32),AND(AF32="loxo",W32<600),(SIN(RADIANS(Z32))*BC32)) -> 12.942491 | AM32: =_xlfn.IFS(AND(AF32="loxo",W32>600),SQRT((BC32^2)-((SIN(RADIANS(U32))*BC32)^2)),AF32="ortho",SQRT((BC32^2)-((SIN(RADIANS(AC32))*BC32)^2)),AND(AF32="loxo",W32<600),SQRT((BC32^2)-((SIN(RADIANS(Z32))*BC32)^2))) -> 8.3800794 | AN32: =(SIN(RADIANS(AK32))*BF32) -> 0 | AO32: =SQRT((BF32^2)-((SIN(RADIANS(AK32))*BF32)^2)) -> 0 | AP32: =_xlfn.IFS(AND(AF32="loxo",W32<600),AA32,AND(AF32="loxo",W32>600),V32,AND(B32>60,AF32="loxo"),V32,AF32="ortho",AD32) -> 122.92248 | AQ32: =_xlfn.IFS(AP32>270,AM32,AP32<90,AM32,AP32<270,AM32*-1,AP32>90,AM32*-1) -> -8.3800794 | AR32: =_xlfn.IFS(AJ32>270,AN32,AJ32<90,AN32,AJ32<270,AN32*-1,AJ32>90,AN32*-1) -> 0 | AS32: =_xlfn.IFS(AND(AP32>180,AP32<360),AL32*-1,AND(AP32<180,AP32>0),AL32) -> 12.942491 | AT32: =_xlfn.IFS(AJ32>180,AO32*-1,AJ32<180,AO32,AJ32=0,AO32,AJ32=360,AO32) -> 0 | AU32: =(AQ32+AR32) -> -8.3800794 | AV32: =(AS32+AT32) -> 12.942491 | AW32: =DEGREES(ATAN(AV32/AU32)) -> -57.077515 | AX32: =_xlfn.IFS((DEGREES(ATAN(AV32/AU32)))<0,(DEGREES(ATAN(AV32/AU32)))*-1,DEGREES(ATAN(AV32/AU32))>0,(DEGREES(ATAN(AV32/AU32)))) -> 57.077515 | AY32: =_xlfn.IFS(AND(AF32="loxo",W32<600),BH32-AA32,AND(AF32="loxo",W32>600),BH32-V32,AND(B32>60,AF32="loxo"),BH32-V32,AF32="ortho",BH32-AD32) -> 0 | AZ32: 1 | BA32: =_xlfn.IFS(AZ32=1,Références!$B$80,AZ32=2,Références!$B$81,AZ32=3,Références!$B$82,AZ32=4,Références!$B$83,AZ32=5,Références!$B$84,AZ32=6,Références!$B$85,AZ32=7,Références!$B$86,AZ32=8,Références!$B$87,AZ32=9,Références!$B$88,AZ32=10,Références!$B$89,AZ32=11,Références!$B$90,AZ32=12,Références!$B$91) -> 1 | BB32: Beam | BC32: {=_xlfn.IFS(BB32="Beam", -0.0000000868778*BA32^5-0.0000459619*BA32^4+0.00347366*BA32^3-0.0884721*BA32^2+0.510463*BA32+14.9932,BB32="Following",0.000652681*BA32^3-0.0356523*BA32^2+0.29714*BA32+15.2038,BB32="Head",-0.00000154449*BA32^5+0.0000797696*BA32^4+0.000148965*BA32^3-0.0570448*BA32^2+0.244115*BA32+15.0029)} -> 15.418619 | BE32: 250 | BF32: 0 | BG32: =IF(BD32=0,SQRT((AU32^2)+(AV32^2)),SQRT((AU32^2)+(AV32^2))) -> 15.418619 | BH32: =_xlfn.IFS(AND(AV32>0,AU32>0),AX32,AND(AV32<0,AU32>0),360-AX32,AND(AV32>0,AU32<0),180-AX32,AND(AV32<0,AU32<0),180+AX32) -> 122.92248 | BI32: =(AP32-AY32) -> 122.92248 | BK32: =IF(BJ32=0,(AH32/BG32)*60,((AH32/BG32)*60)+BJ32) -> 119.97738 | BL32: =IF(G32="W",(ROUND((E32/15),0))*-1,(ROUND((E32/15),0))) -> 9 | BM32: =IF(BL32<0,((BL32*-1)/24),BL32/24) -> 0.375 | BN32: =IF(BJ32=0,BK32/(60*24),(BK32/(60*24))+(BJ32/(60*24))) -> 0.083317628 | BO32: =BO31+BN31 -> 44952.866 | BP32: =BP31+BN31 -> 44953.074
A33: 22 | B33: 41 | C33: 31.039 | D33: N | E33: 140 | F33: 8.046 | G33: E | H33: =(C33/60)+B33 -> 41.517317 | I33: =RADIANS(H33) -> 0.72461387 | J33: =IF(D33="S",I33,I33*-1) -> -0.72461387 | K33: =(F33/60)+E33 -> 140.1341 | L33: =RADIANS(K33) -> 2.4458014 | M33: =7915.704468*LOG((TAN((RADIANS(45)+(I33/2)))))-23.268932*SIN(I33)-0.0525*(SIN(I33)^3)*(SIN(I33)^5) -> 2727.4621 | N33: {=_xlfn.IFS(D33<>OFFSET(D33,1,),M33+OFFSET(M33,1,),OFFSET(M33,1,)-M33<0,(OFFSET(M33,1,)-M33)*-1,OFFSET(M33,1,)-M33>0,OFFSET(M33,1,)-M33)} -> 0.42710071 | O33: =(DEGREES(IF(D33=D34,I34-I33,I33+I34)))*60 -> 0.321 | P33: =_xlfn.IFS(AND(D34="N",D33<>D34,O33>0),O33*-1,AND(D34="N",D33=D34,O33<0),O33*-1,AND(D34="S",D33=D34,O33>0),O33,AND(D34="S",D33<>D34,O33<0),O33,AND(D34="N",D34<>D33,O33<0),O33*-1,AND(D34="N",D34=D33,O33<0),O33*-1,AND(D34="S",D33=D34,O33<0),O33,AND(D34="N",D34=D33,O33>0),O33*-1) -> -0.321 | Q33: =(DEGREES(_xlfn.IFS(G33=G34,L34-L33,(L33+L34)>(RADIANS(180)),RADIANS(360)-(L33+L34),G33<>G34,L33+L34)))*60 -> 22.331 | R33: {=_xlfn.IFS(AND(G34="E",G34<>G33,L33+L34>(RADIANS(180)),Q33<0),Q33*-1,AND(G34="W",G34<>G33,L34+L33>(RADIANS(180)),Q33<0),Q33,AND(G34="E",G34<>G33,L34+L33>(RADIANS(180)),Q33>0),Q33,AND(G34="W",G34<>G33,L34+L33>(RADIANS(180)),Q33>0),Q33*-1,AND(G34="W",G34=G33,Q33<0),Q33,AND(G34="W",G34=G33,Q33>0),Q33,AND(G34="E",G34=G33,Q33<0),Q33*-1,AND(G34="E",G34=G33,Q33>0),Q33*-1,AND(G34="E",G34<>G33,Q33>0),Q33*-1,AND(G34="E",G34<>G33,Q33<0),Q33,AND(G34="W",G34<>G33,Q33>0),Q33,AND(G34="W",G34<>G33,Q33<0),Q33*-1)} -> -22.331 | S33: =IF(O33<0,-1*O33,O33) -> 0.321 | T33: =IF(Q33<0,-1*Q33,Q33) -> 22.331 | U33: =DEGREES(ATAN(T33/N33)) -> 88.9043 | V33: =_xlfn.IFS(AND(P33>0,R33>0),180+U33,AND(P33<0,R33>0),360-U33,AND(P33>0,R33<0),180-U33,AND(P33<0,R33<0),U33) -> 88.9043 | W33: =(S33/(COS(RADIANS(U33)))) -> 16.786584 | X33: =AVERAGE(H33,H34) -> 41.519992 | Y33: =(T33*(COS(RADIANS(X33)))) -> 16.719766 | Z33: =DEGREES(ATAN(Y33/S33)) -> 88.900123 | AA33: =_xlfn.IFS(AND(P33>0,R33>0),180+Z33,AND(P33<0,R33>0),360-Z33,AND(P33>0,R33<0),180-Z33,AND(P33<0,R33<0),Z33) -> 88.900123 | AB33: =(S33/(COS(RADIANS(Z33)))) -> 16.722847 | AC33: =DEGREES(ACOS(((SIN(J34)-(SIN(J33))*(COS(RADIANS(AE33/60))))/(COS(J33)*SIN(RADIANS(AE33/60)))))) -> 91.22323 | AD33: =_xlfn.IFS(AND(P33>0,R33<0),180-AC33,AND(P33>0,R33>0),180+AC33,AND(P33<0,R33>0),180+AC33,AND(P33<0,R33<0),180-AC33) -> 88.77677 | AE33: =(DEGREES(ACOS((SIN(J33)*SIN(J34)+(COS(J33)*COS(J34)*COS(RADIANS(T33/60)))))))*60 -> 16.722834 | AF33: loxo | AG33: {=_xlfn.IFS(AH33=W33,V33,AH33=AB33,AA33,AH33=AE33,AD33)} -> 88.900123 | AH33: =_xlfn.IFS(AND(AF33="loxo",W33<600),AB33,AND(AF33="loxo",W33>600),W33,AND(B33>60,AF33="loxo"),W33,AF33="ortho",AE33) -> 16.722847 | AI33: =_xlfn.IFS(AND(AF33="loxo",W33>600),V33+BE33,AF33="ortho",AD33+BE33,AND(AF33="loxo",W33<600),AA33+BE33) -> 338.90012 | AJ33: =_xlfn.IFS(AI33>360,AI33-360,AI33<360,AI33) -> 338.90012 | AK33: =_xlfn.IFS(AJ33>270,AJ33-270,AJ33<90,90-AJ33,AJ33<180,AJ33-90,AJ33>180,270-AJ33) -> 68.900123 | AL33: =_xlfn.IFS(AND(AF33="loxo",W33>600),(SIN(RADIANS(U33))*BC33),AF33="ortho",(SIN(RADIANS(AC33))*BC33),AND(AF33="loxo",W33<600),(SIN(RADIANS(Z33))*BC33)) -> 15.415778 | AM33: =_xlfn.IFS(AND(AF33="loxo",W33>600),SQRT((BC33^2)-((SIN(RADIANS(U33))*BC33)^2)),AF33="ortho",SQRT((BC33^2)-((SIN(RADIANS(AC33))*BC33)^2)),AND(AF33="loxo",W33<600),SQRT((BC33^2)-((SIN(RADIANS(Z33))*BC33)^2))) -> 0.29596494 | AN33: =(SIN(RADIANS(AK33))*BF33) -> 0 | AO33: =SQRT((BF33^2)-((SIN(RADIANS(AK33))*BF33)^2)) -> 0 | AP33: =_xlfn.IFS(AND(AF33="loxo",W33<600),AA33,AND(AF33="loxo",W33>600),V33,AND(B33>60,AF33="loxo"),V33,AF33="ortho",AD33) -> 88.900123 | AQ33: =_xlfn.IFS(AP33>270,AM33,AP33<90,AM33,AP33<270,AM33*-1,AP33>90,AM33*-1) -> 0.29596494 | AR33: =_xlfn.IFS(AJ33>270,AN33,AJ33<90,AN33,AJ33<270,AN33*-1,AJ33>90,AN33*-1) -> 0 | AS33: =_xlfn.IFS(AND(AP33>180,AP33<360),AL33*-1,AND(AP33<180,AP33>0),AL33) -> 15.415778 | AT33: =_xlfn.IFS(AJ33>180,AO33*-1,AJ33<180,AO33,AJ33=0,AO33,AJ33=360,AO33) -> 0 | AU33: =(AQ33+AR33) -> 0.29596494 | AV33: =(AS33+AT33) -> 15.415778 | AW33: =DEGREES(ATAN(AV33/AU33)) -> 88.900123 | AX33: =_xlfn.IFS((DEGREES(ATAN(AV33/AU33)))<0,(DEGREES(ATAN(AV33/AU33)))*-1,DEGREES(ATAN(AV33/AU33))>0,(DEGREES(ATAN(AV33/AU33)))) -> 88.900123 | AY33: =_xlfn.IFS(AND(AF33="loxo",W33<600),BH33-AA33,AND(AF33="loxo",W33>600),BH33-V33,AND(B33>60,AF33="loxo"),BH33-V33,AF33="ortho",BH33-AD33) -> 9.9475983e-14 | AZ33: 1 | BA33: =_xlfn.IFS(AZ33=1,Références!$B$80,AZ33=2,Références!$B$81,AZ33=3,Références!$B$82,AZ33=4,Références!$B$83,AZ33=5,Références!$B$84,AZ33=6,Références!$B$85,AZ33=7,Références!$B$86,AZ33=8,Références!$B$87,AZ33=9,Références!$B$88,AZ33=10,Références!$B$89,AZ33=11,Références!$B$90,AZ33=12,Références!$B$91) -> 1 | BB33: Beam | BC33: {=_xlfn.IFS(BB33="Beam", -0.0000000868778*BA33^5-0.0000459619*BA33^4+0.00347366*BA33^3-0.0884721*BA33^2+0.510463*BA33+14.9932,BB33="Following",0.000652681*BA33^3-0.0356523*BA33^2+0.29714*BA33+15.2038,BB33="Head",-0.00000154449*BA33^5+0.0000797696*BA33^4+0.000148965*BA33^3-0.0570448*BA33^2+0.244115*BA33+15.0029)} -> 15.418619 | BE33: 250 | BF33: 0 | BG33: =IF(BD33=0,SQRT((AU33^2)+(AV33^2)),SQRT((AU33^2)+(AV33^2))) -> 15.418619 | BH33: =_xlfn.IFS(AND(AV33>0,AU33>0),AX33,AND(AV33<0,AU33>0),360-AX33,AND(AV33>0,AU33<0),180-AX33,AND(AV33<0,AU33<0),180+AX33) -> 88.900123 | BI33: =(AP33-AY33) -> 88.900123 | BK33: =IF(BJ33=0,(AH33/BG33)*60,((AH33/BG33)*60)+BJ33) -> 65.075275 | BL33: =IF(G33="W",(ROUND((E33/15),0))*-1,(ROUND((E33/15),0))) -> 9 | BM33: =IF(BL33<0,((BL33*-1)/24),BL33/24) -> 0.375 | BN33: =IF(BJ33=0,BK33/(60*24),(BK33/(60*24))+(BJ33/(60*24))) -> 0.045191163 | BO33: =BO32+BN32 -> 44952.949 | BP33: =BP32+BN32 -> 44953.158
A34: 23 | B34: 41 | C34: 31.36 | D34: N | E34: 140 | F34: 30.377 | G34: E | H34: =(C34/60)+B34 -> 41.522667 | I34: =RADIANS(H34) -> 0.72470725 | J34: =IF(D34="S",I34,I34*-1) -> -0.72470725 | K34: =(F34/60)+E34 -> 140.50628 | L34: =RADIANS(K34) -> 2.4522973 | M34: =7915.704468*LOG((TAN((RADIANS(45)+(I34/2)))))-23.268932*SIN(I34)-0.0525*(SIN(I34)^3)*(SIN(I34)^5) -> 2727.8892 | N34: {=_xlfn.IFS(D34<>OFFSET(D34,1,),M34+OFFSET(M34,1,),OFFSET(M34,1,)-M34<0,(OFFSET(M34,1,)-M34)*-1,OFFSET(M34,1,)-M34>0,OFFSET(M34,1,)-M34)} -> 11.94275 | O34: =(DEGREES(IF(D34=D35,I35-I34,I34+I35)))*60 -> -8.986 | P34: =_xlfn.IFS(AND(D35="N",D34<>D35,O34>0),O34*-1,AND(D35="N",D34=D35,O34<0),O34*-1,AND(D35="S",D34=D35,O34>0),O34,AND(D35="S",D34<>D35,O34<0),O34,AND(D35="N",D35<>D34,O34<0),O34*-1,AND(D35="N",D35=D34,O34<0),O34*-1,AND(D35="S",D34=D35,O34<0),O34,AND(D35="N",D35=D34,O34>0),O34*-1) -> 8.986 | Q34: =(DEGREES(_xlfn.IFS(G34=G35,L35-L34,(L34+L35)>(RADIANS(180)),RADIANS(360)-(L34+L35),G34<>G35,L34+L35)))*60 -> 22.836 | R34: {=_xlfn.IFS(AND(G35="E",G35<>G34,L34+L35>(RADIANS(180)),Q34<0),Q34*-1,AND(G35="W",G35<>G34,L35+L34>(RADIANS(180)),Q34<0),Q34,AND(G35="E",G35<>G34,L35+L34>(RADIANS(180)),Q34>0),Q34,AND(G35="W",G35<>G34,L35+L34>(RADIANS(180)),Q34>0),Q34*-1,AND(G35="W",G35=G34,Q34<0),Q34,AND(G35="W",G35=G34,Q34>0),Q34,AND(G35="E",G35=G34,Q34<0),Q34*-1,AND(G35="E",G35=G34,Q34>0),Q34*-1,AND(G35="E",G35<>G34,Q34>0),Q34*-1,AND(G35="E",G35<>G34,Q34<0),Q34,AND(G35="W",G35<>G34,Q34>0),Q34,AND(G35="W",G35<>G34,Q34<0),Q34*-1)} -> -22.836 | S34: =IF(O34<0,-1*O34,O34) -> 8.986 | T34: =IF(Q34<0,-1*Q34,Q34) -> 22.836 | U34: =DEGREES(ATAN(T34/N34)) -> 62.391374 | V34: =_xlfn.IFS(AND(P34>0,R34>0),180+U34,AND(P34<0,R34>0),360-U34,AND(P34>0,R34<0),180-U34,AND(P34<0,R34<0),U34) -> 117.60863 | W34: =(S34/(COS(RADIANS(U34)))) -> 19.390222 | X34: =AVERAGE(H34,H35) -> 41.447783 | Y34: =(T34*(COS(RADIANS(X34)))) -> 17.116936 | Z34: =DEGREES(ATAN(Y34/S34)) -> 62.301554 | AA34: =_xlfn.IFS(AND(P34>0,R34>0),180+Z34,AND(P34<0,R34>0),360-Z34,AND(P34>0,R34<0),180-Z34,AND(P34<0,R34<0),Z34) -> 117.69845 | AB34: =(S34/(COS(RADIANS(Z34)))) -> 19.332297 | AC34: =DEGREES(ACOS(((SIN(J35)-(SIN(J34))*(COS(RADIANS(AE34/60))))/(COS(J34)*SIN(RADIANS(AE34/60)))))) -> 62.427615 | AD34: =_xlfn.IFS(AND(P34>0,R34<0),180-AC34,AND(P34>0,R34>0),180+AC34,AND(P34<0,R34>0),180+AC34,AND(P34<0,R34<0),180-AC34) -> 117.57239 | AE34: =(DEGREES(ACOS((SIN(J34)*SIN(J35)+(COS(J34)*COS(J35)*COS(RADIANS(T34/60)))))))*60 -> 19.33227 | AF34: loxo | AG34: {=_xlfn.IFS(AH34=W34,V34,AH34=AB34,AA34,AH34=AE34,AD34)} -> 117.69845 | AH34: =_xlfn.IFS(AND(AF34="loxo",W34<600),AB34,AND(AF34="loxo",W34>600),W34,AND(B34>60,AF34="loxo"),W34,AF34="ortho",AE34) -> 19.332297 | AI34: =_xlfn.IFS(AND(AF34="loxo",W34>600),V34+BE34,AF34="ortho",AD34+BE34,AND(AF34="loxo",W34<600),AA34+BE34) -> 367.69845 | AJ34: =_xlfn.IFS(AI34>360,AI34-360,AI34<360,AI34) -> 7.6984458 | AK34: =_xlfn.IFS(AJ34>270,AJ34-270,AJ34<90,90-AJ34,AJ34<180,AJ34-90,AJ34>180,270-AJ34) -> 82.301554 | AL34: =_xlfn.IFS(AND(AF34="loxo",W34>600),(SIN(RADIANS(U34))*BC34),AF34="ortho",(SIN(RADIANS(AC34))*BC34),AND(AF34="loxo",W34<600),(SIN(RADIANS(Z34))*BC34)) -> 13.651741 | AM34: =_xlfn.IFS(AND(AF34="loxo",W34>600),SQRT((BC34^2)-((SIN(RADIANS(U34))*BC34)^2)),AF34="ortho",SQRT((BC34^2)-((SIN(RADIANS(AC34))*BC34)^2)),AND(AF34="loxo",W34<600),SQRT((BC34^2)-((SIN(RADIANS(Z34))*BC34)^2))) -> 7.1668519 | AN34: =(SIN(RADIANS(AK34))*BF34) -> 0 | AO34: =SQRT((BF34^2)-((SIN(RADIANS(AK34))*BF34)^2)) -> 0 | AP34: =_xlfn.IFS(AND(AF34="loxo",W34<600),AA34,AND(AF34="loxo",W34>600),V34,AND(B34>60,AF34="loxo"),V34,AF34="ortho",AD34) -> 117.69845 | AQ34: =_xlfn.IFS(AP34>270,AM34,AP34<90,AM34,AP34<270,AM34*-1,AP34>90,AM34*-1) -> -7.1668519 | AR34: =_xlfn.IFS(AJ34>270,AN34,AJ34<90,AN34,AJ34<270,AN34*-1,AJ34>90,AN34*-1) -> 0 | AS34: =_xlfn.IFS(AND(AP34>180,AP34<360),AL34*-1,AND(AP34<180,AP34>0),AL34) -> 13.651741 | AT34: =_xlfn.IFS(AJ34>180,AO34*-1,AJ34<180,AO34,AJ34=0,AO34,AJ34=360,AO34) -> 0 | AU34: =(AQ34+AR34) -> -7.1668519 | AV34: =(AS34+AT34) -> 13.651741 | AW34: =DEGREES(ATAN(AV34/AU34)) -> -62.301554 | AX34: =_xlfn.IFS((DEGREES(ATAN(AV34/AU34)))<0,(DEGREES(ATAN(AV34/AU34)))*-1,DEGREES(ATAN(AV34/AU34))>0,(DEGREES(ATAN(AV34/AU34)))) -> 62.301554 | AY34: =_xlfn.IFS(AND(AF34="loxo",W34<600),BH34-AA34,AND(AF34="loxo",W34>600),BH34-V34,AND(B34>60,AF34="loxo"),BH34-V34,AF34="ortho",BH34-AD34) -> 0 | AZ34: 1 | BA34: =_xlfn.IFS(AZ34=1,Références!$B$80,AZ34=2,Références!$B$81,AZ34=3,Références!$B$82,AZ34=4,Références!$B$83,AZ34=5,Références!$B$84,AZ34=6,Références!$B$85,AZ34=7,Références!$B$86,AZ34=8,Références!$B$87,AZ34=9,Références!$B$88,AZ34=10,Références!$B$89,AZ34=11,Références!$B$90,AZ34=12,Références!$B$91) -> 1 | BB34: Beam | BC34: {=_xlfn.IFS(BB34="Beam", -0.0000000868778*BA34^5-0.0000459619*BA34^4+0.00347366*BA34^3-0.0884721*BA34^2+0.510463*BA34+14.9932,BB34="Following",0.000652681*BA34^3-0.0356523*BA34^2+0.29714*BA34+15.2038,BB34="Head",-0.00000154449*BA34^5+0.0000797696*BA34^4+0.000148965*BA34^3-0.0570448*BA34^2+0.244115*BA34+15.0029)} -> 15.418619 | BE34: 250 | BF34: 0 | BG34: =IF(BD34=0,SQRT((AU34^2)+(AV34^2)),SQRT((AU34^2)+(AV34^2))) -> 15.418619 | BH34: =_xlfn.IFS(AND(AV34>0,AU34>0),AX34,AND(AV34<0,AU34>0),360-AX34,AND(AV34>0,AU34<0),180-AX34,AND(AV34<0,AU34<0),180+AX34) -> 117.69845 | BI34: =(AP34-AY34) -> 117.69845 | BK34: =IF(BJ34=0,(AH34/BG34)*60,((AH34/BG34)*60)+BJ34) -> 75.229684 | BL34: =IF(G34="W",(ROUND((E34/15),0))*-1,(ROUND((E34/15),0))) -> 9 | BM34: =IF(BL34<0,((BL34*-1)/24),BL34/24) -> 0.375 | BN34: =IF(BJ34=0,BK34/(60*24),(BK34/(60*24))+(BJ34/(60*24))) -> 0.052242836 | BO34: =BO33+BN33 -> 44952.994 | BP34: =BP33+BN33 -> 44953.203
A35: 24 | B35: 41 | C35: 22.374 | D35: N | E35: 140 | F35: 53.213 | G35: E | H35: =(C35/60)+B35 -> 41.3729 | I35: =RADIANS(H35) -> 0.72209333 | J35: =IF(D35="S",I35,I35*-1) -> -0.72209333 | K35: =(F35/60)+E35 -> 140.88688 | L35: =RADIANS(K35) -> 2.45894 | M35: =7915.704468*LOG((TAN((RADIANS(45)+(I35/2)))))-23.268932*SIN(I35)-0.0525*(SIN(I35)^3)*(SIN(I35)^5) -> 2715.9464 | N35: {=_xlfn.IFS(D35<>OFFSET(D35,1,),M35+OFFSET(M35,1,),OFFSET(M35,1,)-M35<0,(OFFSET(M35,1,)-M35)*-1,OFFSET(M35,1,)-M35>0,OFFSET(M35,1,)-M35)} -> 13.339965 | O35: =(DEGREES(IF(D35=D36,I36-I35,I35+I36)))*60 -> -10.062 | P35: =_xlfn.IFS(AND(D36="N",D35<>D36,O35>0),O35*-1,AND(D36="N",D35=D36,O35<0),O35*-1,AND(D36="S",D35=D36,O35>0),O35,AND(D36="S",D35<>D36,O35<0),O35,AND(D36="N",D36<>D35,O35<0),O35*-1,AND(D36="N",D36=D35,O35<0),O35*-1,AND(D36="S",D35=D36,O35<0),O35,AND(D36="N",D36=D35,O35>0),O35*-1) -> 10.062 | Q35: =(DEGREES(_xlfn.IFS(G35=G36,L36-L35,(L35+L36)>(RADIANS(180)),RADIANS(360)-(L35+L36),G35<>G36,L35+L36)))*60 -> 22.698 | R35: {=_xlfn.IFS(AND(G36="E",G36<>G35,L35+L36>(RADIANS(180)),Q35<0),Q35*-1,AND(G36="W",G36<>G35,L36+L35>(RADIANS(180)),Q35<0),Q35,AND(G36="E",G36<>G35,L36+L35>(RADIANS(180)),Q35>0),Q35,AND(G36="W",G36<>G35,L36+L35>(RADIANS(180)),Q35>0),Q35*-1,AND(G36="W",G36=G35,Q35<0),Q35,AND(G36="W",G36=G35,Q35>0),Q35,AND(G36="E",G36=G35,Q35<0),Q35*-1,AND(G36="E",G36=G35,Q35>0),Q35*-1,AND(G36="E",G36<>G35,Q35>0),Q35*-1,AND(G36="E",G36<>G35,Q35<0),Q35,AND(G36="W",G36<>G35,Q35>0),Q35,AND(G36="W",G36<>G35,Q35<0),Q35*-1)} -> -22.698 | S35: =IF(O35<0,-1*O35,O35) -> 10.062 | T35: =IF(Q35<0,-1*Q35,Q35) -> 22.698 | U35: =DEGREES(ATAN(T35/N35)) -> 59.556589 | V35: =_xlfn.IFS(AND(P35>0,R35>0),180+U35,AND(P35<0,R35>0),360-U35,AND(P35>0,R35<0),180-U35,AND(P35<0,R35<0),U35) -> 120.44341 | W35: =(S35/(COS(RADIANS(U35)))) -> 19.858409 | X35: =AVERAGE(H35,H36) -> 41.28905 | Y35: =(T35*(COS(RADIANS(X35)))) -> 17.055056 | Z35: =DEGREES(ATAN(Y35/S35)) -> 59.460599 | AA35: =_xlfn.IFS(AND(P35>0,R35>0),180+Z35,AND(P35<0,R35>0),360-Z35,AND(P35>0,R35<0),180-Z35,AND(P35<0,R35<0),Z35) -> 120.5394 | AB35: =(S35/(COS(RADIANS(Z35)))) -> 19.801989 | AC35: =DEGREES(ACOS(((SIN(J36)-(SIN(J35))*(COS(RADIANS(AE35/60))))/(COS(J35)*SIN(RADIANS(AE35/60)))))) -> 59.585512 | AD35: =_xlfn.IFS(AND(P35>0,R35<0),180-AC35,AND(P35>0,R35>0),180+AC35,AND(P35<0,R35>0),180+AC35,AND(P35<0,R35<0),180-AC35) -> 120.41449 | AE35: =(DEGREES(ACOS((SIN(J35)*SIN(J36)+(COS(J35)*COS(J36)*COS(RADIANS(T35/60)))))))*60 -> 19.80196 | AF35: loxo | AG35: {=_xlfn.IFS(AH35=W35,V35,AH35=AB35,AA35,AH35=AE35,AD35)} -> 120.5394 | AH35: =_xlfn.IFS(AND(AF35="loxo",W35<600),AB35,AND(AF35="loxo",W35>600),W35,AND(B35>60,AF35="loxo"),W35,AF35="ortho",AE35) -> 19.801989 | AI35: =_xlfn.IFS(AND(AF35="loxo",W35>600),V35+BE35,AF35="ortho",AD35+BE35,AND(AF35="loxo",W35<600),AA35+BE35) -> 370.5394 | AJ35: =_xlfn.IFS(AI35>360,AI35-360,AI35<360,AI35) -> 10.539401 | AK35: =_xlfn.IFS(AJ35>270,AJ35-270,AJ35<90,90-AJ35,AJ35<180,AJ35-90,AJ35>180,270-AJ35) -> 79.460599 | AL35: =_xlfn.IFS(AND(AF35="loxo",W35>600),(SIN(RADIANS(U35))*BC35),AF35="ortho",(SIN(RADIANS(AC35))*BC35),AND(AF35="loxo",W35<600),(SIN(RADIANS(Z35))*BC35)) -> 13.279747 | AM35: =_xlfn.IFS(AND(AF35="loxo",W35>600),SQRT((BC35^2)-((SIN(RADIANS(U35))*BC35)^2)),AF35="ortho",SQRT((BC35^2)-((SIN(RADIANS(AC35))*BC35)^2)),AND(AF35="loxo",W35<600),SQRT((BC35^2)-((SIN(RADIANS(Z35))*BC35)^2))) -> 7.8346744 | AN35: =(SIN(RADIANS(AK35))*BF35) -> 0 | AO35: =SQRT((BF35^2)-((SIN(RADIANS(AK35))*BF35)^2)) -> 0 | AP35: =_xlfn.IFS(AND(AF35="loxo",W35<600),AA35,AND(AF35="loxo",W35>600),V35,AND(B35>60,AF35="loxo"),V35,AF35="ortho",AD35) -> 120.5394 | AQ35: =_xlfn.IFS(AP35>270,AM35,AP35<90,AM35,AP35<270,AM35*-1,AP35>90,AM35*-1) -> -7.8346744 | AR35: =_xlfn.IFS(AJ35>270,AN35,AJ35<90,AN35,AJ35<270,AN35*-1,AJ35>90,AN35*-1) -> 0 | AS35: =_xlfn.IFS(AND(AP35>180,AP35<360),AL35*-1,AND(AP35<180,AP35>0),AL35) -> 13.279747 | AT35: =_xlfn.IFS(AJ35>180,AO35*-1,AJ35<180,AO35,AJ35=0,AO35,AJ35=360,AO35) -> 0 | AU35: =(AQ35+AR35) -> -7.8346744 | AV35: =(AS35+AT35) -> 13.279747 | AW35: =DEGREES(ATAN(AV35/AU35)) -> -59.460599 | AX35: =_xlfn.IFS((DEGREES(ATAN(AV35/AU35)))<0,(DEGREES(ATAN(AV35/AU35)))*-1,DEGREES(ATAN(AV35/AU35))>0,(DEGREES(ATAN(AV35/AU35)))) -> 59.460599 | AY35: =_xlfn.IFS(AND(AF35="loxo",W35<600),BH35-AA35,AND(AF35="loxo",W35>600),BH35-V35,AND(B35>60,AF35="loxo"),BH35-V35,AF35="ortho",BH35-AD35) -> 0 | AZ35: 1 | BA35: =_xlfn.IFS(AZ35=1,Références!$B$80,AZ35=2,Références!$B$81,AZ35=3,Références!$B$82,AZ35=4,Références!$B$83,AZ35=5,Références!$B$84,AZ35=6,Références!$B$85,AZ35=7,Références!$B$86,AZ35=8,Références!$B$87,AZ35=9,Références!$B$88,AZ35=10,Références!$B$89,AZ35=11,Références!$B$90,AZ35=12,Références!$B$91) -> 1 | BB35: Beam | BC35: {=_xlfn.IFS(BB35="Beam", -0.0000000868778*BA35^5-0.0000459619*BA35^4+0.00347366*BA35^3-0.0884721*BA35^2+0.510463*BA35+14.9932,BB35="Following",0.000652681*BA35^3-0.0356523*BA35^2+0.29714*BA35+15.2038,BB35="Head",-0.00000154449*BA35^5+0.0000797696*BA35^4+0.000148965*BA35^3-0.0570448*BA35^2+0.244115*BA35+15.0029)} -> 15.418619 | BE35: 250 | BF35: 0 | BG35: =IF(BD35=0,SQRT((AU35^2)+(AV35^2)),SQRT((AU35^2)+(AV35^2))) -> 15.418619 | BH35: =_xlfn.IFS(AND(AV35>0,AU35>0),AX35,AND(AV35<0,AU35>0),360-AX35,AND(AV35>0,AU35<0),180-AX35,AND(AV35<0,AU35<0),180+AX35) -> 120.5394 | BI35: =(AP35-AY35) -> 120.5394 | BK35: =IF(BJ35=0,(AH35/BG35)*60,((AH35/BG35)*60)+BJ35) -> 77.057446 | BL35: =IF(G35="W",(ROUND((E35/15),0))*-1,(ROUND((E35/15),0))) -> 9 | BM35: =IF(BL35<0,((BL35*-1)/24),BL35/24) -> 0.375 | BN35: =IF(BJ35=0,BK35/(60*24),(BK35/(60*24))+(BJ35/(60*24))) -> 0.053512115 | BO35: =BO34+BN34 -> 44953.047 | BP35: =BP34+BN34 -> 44953.255
A36: 25 | B36: 41 | C36: 12.312 | D36: N | E36: 141 | F36: 15.911 | G36: E | H36: =(C36/60)+B36 -> 41.2052 | I36: =RADIANS(H36) -> 0.71916641 | J36: =IF(D36="S",I36,I36*-1) -> -0.71916641 | K36: =(F36/60)+E36 -> 141.26518 | L36: =RADIANS(K36) -> 2.4655426 | M36: =7915.704468*LOG((TAN((RADIANS(45)+(I36/2)))))-23.268932*SIN(I36)-0.0525*(SIN(I36)^3)*(SIN(I36)^5) -> 2702.6065 | N36: {=_xlfn.IFS(D36<>OFFSET(D36,1,),M36+OFFSET(M36,1,),OFFSET(M36,1,)-M36<0,(OFFSET(M36,1,)-M36)*-1,OFFSET(M36,1,)-M36>0,OFFSET(M36,1,)-M36)} -> 2702.6065 | O36: =(DEGREES(IF(D36=D37,I37-I36,I36+I37)))*60 -> 2472.312 | P36: =_xlfn.IFS(AND(D37="N",D36<>D37,O36>0),O36*-1,AND(D37="N",D36=D37,O36<0),O36*-1,AND(D37="S",D36=D37,O36>0),O36,AND(D37="S",D36<>D37,O36<0),O36,AND(D37="N",D37<>D36,O36<0),O36*-1,AND(D37="N",D37=D36,O36<0),O36*-1,AND(D37="S",D36=D37,O36<0),O36,AND(D37="N",D37=D36,O36>0),O36*-1) -> #N/A | Q36: =(DEGREES(_xlfn.IFS(G36=G37,L37-L36,(L36+L37)>(RADIANS(180)),RADIANS(360)-(L36+L37),G36<>G37,L36+L37)))*60 -> 8475.911 | R36: {=_xlfn.IFS(AND(G37="E",G37<>G36,L36+L37>(RADIANS(180)),Q36<0),Q36*-1,AND(G37="W",G37<>G36,L37+L36>(RADIANS(180)),Q36<0),Q36,AND(G37="E",G37<>G36,L37+L36>(RADIANS(180)),Q36>0),Q36,AND(G37="W",G37<>G36,L37+L36>(RADIANS(180)),Q36>0),Q36*-1,AND(G37="W",G37=G36,Q36<0),Q36,AND(G37="W",G37=G36,Q36>0),Q36,AND(G37="E",G37=G36,Q36<0),Q36*-1,AND(G37="E",G37=G36,Q36>0),Q36*-1,AND(G37="E",G37<>G36,Q36>0),Q36*-1,AND(G37="E",G37<>G36,Q36<0),Q36,AND(G37="W",G37<>G36,Q36>0),Q36,AND(G37="W",G37<>G36,Q36<0),Q36*-1)} -> #N/A | S36: =IF(O36<0,-1*O36,O36) -> 2472.312 | T36: =IF(Q36<0,-1*Q36,Q36) -> 8475.911 | U36: =DEGREES(ATAN(T36/N36)) -> 72.314736 | V36: =_xlfn.IFS(AND(P36>0,R36>0),180+U36,AND(P36<0,R36>0),360-U36,AND(P36>0,R36<0),180-U36,AND(P36<0,R36<0),U36) -> #N/A | W36: =(S36/(COS(RADIANS(U36)))) -> 8138.2798 | X36: =AVERAGE(H36,H37) -> 41.2052 | Y36: =(T36*(COS(RADIANS(X36)))) -> 6376.8951 | Z36: =DEGREES(ATAN(Y36/S36)) -> 68.808768 | AA36: =_xlfn.IFS(AND(P36>0,R36>0),180+Z36,AND(P36<0,R36>0),360-Z36,AND(P36>0,R36<0),180-Z36,AND(P36<0,R36<0),Z36) -> #N/A | AB36: =(S36/(COS(RADIANS(Z36)))) -> 6839.3799 | AC36: =DEGREES(ACOS(((SIN(J37)-(SIN(J36))*(COS(RADIANS(AE36/60))))/(COS(J36)*SIN(RADIANS(AE36/60)))))) -> 129.39424 | AD36: =_xlfn.IFS(AND(P36>0,R36<0),180-AC36,AND(P36>0,R36>0),180+AC36,AND(P36<0,R36>0),180+AC36,AND(P36<0,R36<0),180-AC36) -> #N/A | AE36: =(DEGREES(ACOS((SIN(J36)*SIN(J37)+(COS(J36)*COS(J37)*COS(RADIANS(T36/60)))))))*60 -> 7556.1331 | AF36: loxo | AG36: {=_xlfn.IFS(AH36=W36,V36,AH36=AB36,AA36,AH36=AE36,AD36)} -> #N/A | AH36: =_xlfn.IFS(AND(AF36="loxo",W36<600),AB36,AND(AF36="loxo",W36>600),W36,AND(B36>60,AF36="loxo"),W36,AF36="ortho",AE36) -> 8138.2798 | AI36: =_xlfn.IFS(AND(AF36="loxo",W36>600),V36+BE36,AF36="ortho",AD36+BE36,AND(AF36="loxo",W36<600),AA36+BE36) -> #N/A | AJ36: =_xlfn.IFS(AI36>360,AI36-360,AI36<360,AI36) -> #N/A | AK36: =_xlfn.IFS(AJ36>270,AJ36-270,AJ36<90,90-AJ36,AJ36<180,AJ36-90,AJ36>180,270-AJ36) -> #N/A | AL36: =_xlfn.IFS(AND(AF36="loxo",W36>600),(SIN(RADIANS(U36))*BC36),AF36="ortho",(SIN(RADIANS(AC36))*BC36),AND(AF36="loxo",W36<600),(SIN(RADIANS(Z36))*BC36)) -> 14.689929 | AM36: =_xlfn.IFS(AND(AF36="loxo",W36>600),SQRT((BC36^2)-((SIN(RADIANS(U36))*BC36)^2)),AF36="ortho",SQRT((BC36^2)-((SIN(RADIANS(AC36))*BC36)^2)),AND(AF36="loxo",W36<600),SQRT((BC36^2)-((SIN(RADIANS(Z36))*BC36)^2))) -> 4.6839918 | AN36: =(SIN(RADIANS(AK36))*BF36) -> #N/A | AO36: =SQRT((BF36^2)-((SIN(RADIANS(AK36))*BF36)^2)) -> #N/A | AP36: =_xlfn.IFS(AND(AF36="loxo",W36<600),AA36,AND(AF36="loxo",W36>600),V36,AND(B36>60,AF36="loxo"),V36,AF36="ortho",AD36) -> #N/A | AQ36: =_xlfn.IFS(AP36>270,AM36,AP36<90,AM36,AP36<270,AM36*-1,AP36>90,AM36*-1) -> #N/A | AR36: =_xlfn.IFS(AJ36>270,AN36,AJ36<90,AN36,AJ36<270,AN36*-1,AJ36>90,AN36*-1) -> #N/A | AS36: =_xlfn.IFS(AND(AP36>180,AP36<360),AL36*-1,AND(AP36<180,AP36>0),AL36) -> #N/A | AT36: =_xlfn.IFS(AJ36>180,AO36*-1,AJ36<180,AO36,AJ36=0,AO36,AJ36=360,AO36) -> #N/A | AU36: =(AQ36+AR36) -> #N/A | AV36: =(AS36+AT36) -> #N/A | AW36: =DEGREES(ATAN(AV36/AU36)) -> #N/A | AX36: =_xlfn.IFS((DEGREES(ATAN(AV36/AU36)))<0,(DEGREES(ATAN(AV36/AU36)))*-1,DEGREES(ATAN(AV36/AU36))>0,(DEGREES(ATAN(AV36/AU36)))) -> #N/A | AY36: =_xlfn.IFS(AND(AF36="loxo",W36<600),BH36-AA36,AND(AF36="loxo",W36>600),BH36-V36,AND(B36>60,AF36="loxo"),BH36-V36,AF36="ortho",BH36-AD36) -> #N/A | AZ36: 1 | BA36: =_xlfn.IFS(AZ36=1,Références!$B$80,AZ36=2,Références!$B$81,AZ36=3,Références!$B$82,AZ36=4,Références!$B$83,AZ36=5,Références!$B$84,AZ36=6,Références!$B$85,AZ36=7,Références!$B$86,AZ36=8,Références!$B$87,AZ36=9,Références!$B$88,AZ36=10,Références!$B$89,AZ36=11,Références!$B$90,AZ36=12,Références!$B$91) -> 1 | BB36: Beam | BC36: {=_xlfn.IFS(BB36="Beam", -0.0000000868778*BA36^5-0.0000459619*BA36^4+0.00347366*BA36^3-0.0884721*BA36^2+0.510463*BA36+14.9932,BB36="Following",0.000652681*BA36^3-0.0356523*BA36^2+0.29714*BA36+15.2038,BB36="Head",-0.00000154449*BA36^5+0.0000797696*BA36^4+0.000148965*BA36^3-0.0570448*BA36^2+0.244115*BA36+15.0029)} -> 15.418619 | BE36: 250 | BF36: 0 | BG36: =IF(BD36=0,SQRT((AU36^2)+(AV36^2)),SQRT((AU36^2)+(AV36^2))) -> #N/A | BH36: =_xlfn.IFS(AND(AV36>0,AU36>0),AX36,AND(AV36<0,AU36>0),360-AX36,AND(AV36>0,AU36<0),180-AX36,AND(AV36<0,AU36<0),180+AX36) -> #N/A | BI36: =(AP36-AY36) -> #N/A | BK36: =IF(BJ36=0,(AH36/BG36)*60,((AH36/BG36)*60)+BJ36) -> #N/A | BL36: =IF(G36="W",(ROUND((E36/15),0))*-1,(ROUND((E36/15),0))) -> 9 | BM36: =IF(BL36<0,((BL36*-1)/24),BL36/24) -> 0.375 | BN36: =IF(BJ36=0,BK36/(60*24),(BK36/(60*24))+(BJ36/(60*24))) -> #N/A | BO36: =BO35+BN35 -> 44953.1 | BP36: =BP35+BN35 -> 44953.309
BM38: total
C39: wind effect on speed | AG39: dist. Finale: | AH39: =SUM(AH4:AH35) -> 9239.9615 | BN39: =SUM(BN4:BN35) -> 25.668244
C40: BEAUFORT | D40: Ft | E40: DIRECTION | F40: speed kn
C41: 5 | D41: =_xlfn.IFS(C41=1,Références!B80,C41=2,Références!B81,C41=3,Références!B82,C41=4,Références!B83,C41=5,Références!B84,C41=6,Références!B85,C41=7,Références!B86,C41=8,Références!B87,C41=9,Références!B88,C41=10,Références!B89,C41=11,Références!B90,C41=12,Références!B91) -> 9 | E41: Beam | F41: {=_xlfn.IFS(E41="Beam", -0.0000000868778*D41^5-0.0000459619*D41^4+0.00347366*D41^3-0.0884721*D41^2+0.510463*D41+14.9932,E41="Following",0.000652681*D41^3-0.0356523*D41^2+0.29714*D41+15.2038,E41="Head",-0.00000154449*D41^5+0.0000797696*D41^4+0.000148965*D41^3-0.0570448*D41^2+0.244115*D41+15.0029)} -> 14.646739
C44: Current effect
C45: gisement | D45: speed | F45: Vitesse fond
C46: 250 | D46: 3 | F46: =SQRT(((F41^2)+(D46^2))-(2*F41*D46*(COS(RADIANS(Références!A95))))) -> 13.909352
C49: Date départ
C50: DD | D50: M | E50: YYYY
C51: 44927.432
C53: Passage méridien 180
C54: oui
C56: Date arrivé ZT
C57: {=_xlfn.IFS(AND(C54="oui",BL36>0),(BP36+1)+BM36,AND(C54="oui",BL36<0),(BP36-1)-BM36,AND(C54="non",BL36>0),BP36+BM36,AND(C54="non",BL36<0),BP36-BM36)} -> 44954.684

Sheet Références
A1: Wave FT | B1: following kts | D1: Test | F1: Formule final
A2: 0 | B2: 15 | D2: =0.000652681*A2^3-0.0356523*A2^2+0.29714*A2+15.2038 -> 15.2038 | F2: = 0,000652681*X^3-0,0356523*X^2+0,29714*X+15,2038
A3: 2.5 | B3: 15.9 | D3: =0.000652681*A3^3-0.0356523*A3^2+0.29714*A3+15.2038 -> 15.734021
A4: 5 | B4: 16.1 | D4: =0.000652681*A4^3-0.0356523*A4^2+0.29714*A4+15.2038 -> 15.879778
A5: 7.5 | B5: 15.8 | D5: =0.000652681*A5^3-0.0356523*A5^2+0.29714*A5+15.2038 -> 15.702258
A6: 10 | B6: 15 | D6: =0.000652681*A6^3-0.0356523*A6^2+0.29714*A6+15.2038 -> 15.262651
A7: 12.5 | B7: 14.6 | D7: =0.000652681*A7^3-0.0356523*A7^2+0.29714*A7+15.2038 -> 14.622146
A8: 15 | B8: 13.8 | D8: =0.000652681*A8^3-0.0356523*A8^2+0.29714*A8+15.2038 -> 13.841931
A9: 17.5 | B9: 12.9 | D9: =0.000652681*A9^3-0.0356523*A9^2+0.29714*A9+15.2038 -> 12.983195
A10: 20 | B10: 12.1 | D10: =0.000652681*A10^3-0.0356523*A10^2+0.29714*A10+15.2038 -> 12.107128
A11: 22.5 | B11: 11.3 | D11: =0.000652681*A11^3-0.0356523*A11^2+0.29714*A11+15.2038 -> 11.274918
A12: 25 | B12: 10.7 | D12: =0.000652681*A12^3-0.0356523*A12^2+0.29714*A12+15.2038 -> 10.547753
A13: 27.5 | B13: 10.1 | D13: =0.000652681*A13^3-0.0356523*A13^2+0.29714*A13+15.2038 -> 9.9868233
A14: 30 | B14: 9.5 | D14: =0.000652681*A14^3-0.0356523*A14^2+0.29714*A14+15.2038 -> 9.653317
A16: wave FT | B16: Beam kts | D16: Test | F16: Formule final
A17: 0 | B17: 15 | D17: =-0.0000000868778*A17^5-0.0000459619*A17^4+0.00347366*A17^3-0.0884721*A17^2+0.510463*A17+14.9932 -> 14.9932 | F17: = -0,0000000868778*X^5-0,0000459619*X^4+0,00347366*X^3-0,0884721*X^2+0,510463*X+14,9932
A18: 2.5 | B18: 15.7 | D18: =-0.0000000868778*A18^5-0.0000459619*A18^4+0.00347366*A18^3-0.0884721*A18^2+0.510463*A18+14.9932 -> 15.768879
A19: 5 | B19: 15.9 | D19: =-0.0000000868778*A19^5-0.0000459619*A19^4+0.00347366*A19^3-0.0884721*A19^2+0.510463*A19+14.9932 -> 15.738922
A20: 7.5 | B20: 15.1 | D20: =-0.0000000868778*A20^5-0.0000459619*A20^4+0.00347366*A20^3-0.0884721*A20^2+0.510463*A20+14.9932 -> 15.163079
A21: 10 | B21: 14.1 | D21: =-0.0000000868778*A21^5-0.0000459619*A21^4+0.00347366*A21^3-0.0884721*A21^2+0.510463*A21+14.9932 -> 14.255973
A22: 12.5 | B22: 13.3 | D22: =-0.0000000868778*A22^5-0.0000459619*A22^4+0.00347366*A22^3-0.0884721*A22^2+0.510463*A22+14.9932 -> 13.186084
A23: 15 | B23: 12.1 | D23: =-0.0000000868778*A23^5-0.0000459619*A23^4+0.00347366*A23^3-0.0884721*A23^2+0.510463*A23+14.9932 -> 12.074731
A24: 17.5 | B24: 11 | D24: =-0.0000000868778*A24^5-0.0000459619*A24^4+0.00347366*A24^3-0.0884721*A24^2+0.510463*A24+14.9932 -> 10.995052
A25: 20 | B25: 10 | D25: =-0.0000000868778*A25^5-0.0000459619*A25^4+0.00347366*A25^3-0.0884721*A25^2+0.510463*A25+14.9932 -> 9.970987
A26: 22.5 | B26: 8.9 | D26: =-0.0000000868778*A26^5-0.0000459619*A26^4+0.00347366*A26^3-0.0884721*A26^2+0.510463*A26+14.9932 -> 8.9762619
A27: 25 | B27: 7.9 | D27: =-0.0000000868778*A27^5-0.0000459619*A27^4+0.00347366*A27^3-0.0884721*A27^2+0.510463*A27+14.9932 -> 7.9333668
A28: 27.5 | B28: 6.8 | D28: =-0.0000000868778*A28^5-0.0000459619*A28^4+0.00347366*A28^3-0.0884721*A28^2+0.510463*A28+14.9932 -> 6.7125403
A29: 30 | B29: 5.1 | D29: =-0.0000000868778*A29^5-0.0000459619*A29^4+0.00347366*A29^3-0.0884721*A29^2+0.510463*A29+14.9932 -> 5.1307505
A31: Wave FT | B31: Head kts | D31: Test | F31: Formule final
A32: 0 | B32: 15 | D32: =-0.00000154449*A32^5+0.0000797696*A32^4+0.000148965*A32^3-0.0570448*A32^2+0.244115*A32+15.0029 -> 15.0029 | F32: =-0,00000154449*X^5+0,0000797696*X^4+0,000148965*X^3-0,0570448*X^2+0,244115*X+15,0029
A33: 2.5 | B33: 15.3 | D33: =-0.00000154449*A33^5+0.0000797696*A33^4+0.000148965*A33^3-0.0570448*A33^2+0.244115*A33+15.0029 -> 15.26195
A34: 5 | B34: 14.8 | D34: =-0.00000154449*A34^5+0.0000797696*A34^4+0.000148965*A34^3-0.0570448*A34^2+0.244115*A34+15.0029 -> 14.861005
A35: 7.5 | B35: 13.8 | D35: =-0.00000154449*A35^5+0.0000797696*A35^4+0.000148965*A35^3-0.0570448*A35^2+0.244115*A35+15.0029 -> 13.903582
A36: 10 | B36: 12.8 | D36: =-0.00000154449*A36^5+0.0000797696*A36^4+0.000148965*A36^3-0.0570448*A36^2+0.244115*A36+15.0029 -> 12.531782
A37: 12.5 | B37: 10.9 | D37: =-0.00000154449*A37^5+0.0000797696*A37^4+0.000148965*A37^3-0.0570448*A37^2+0.244115*A37+15.0029 -> 10.908194
A38: 15 | B38: 8.9 | D38: =-0.00000154449*A38^5+0.0000797696*A38^4+0.000148965*A38^3-0.0570448*A38^2+0.244115*A38+15.0029 -> 9.1977908
A39: 17.5 | B39: 7.7 | D39: =-0.00000154449*A39^5+0.0000797696*A39^4+0.000148965*A39^3-0.0570448*A39^2+0.244115*A39+15.0029 -> 7.5498331
A40: 20 | B40: 6.1 | D40: =-0.00000154449*A40^5+0.0000797696*A40^4+0.000148965*A40^3-0.0570448*A40^2+0.244115*A40+15.0029 -> 6.079768
A41: 22.5 | B41: 4.9 | D41: =-0.00000154449*A41^5+0.0000797696*A41^4+0.000148965*A41^3-0.0570448*A41^2+0.244115*A41+15.0029 -> 4.8511303
A42: 25 | B42: 3.8 | D42: =-0.00000154449*A42^5+0.0000797696*A42^4+0.000148965*A42^3-0.0570448*A42^2+0.244115*A42+15.0029 -> 3.857443
A43: 27.5 | B43: 3 | D43: =-0.00000154449*A43^5+0.0000797696*A43^4+0.000148965*A43^3-0.0570448*A43^2+0.244115*A43+15.0029 -> 3.0041173
A44: 30 | B44: 2.1 | D44: =-0.00000154449*A44^5+0.0000797696*A44^4+0.000148965*A44^3-0.0570448*A44^2+0.244115*A44+15.0029 -> 2.090354
B49: =RADIANS(20) -> 0.34906585 | D49: =7915.704468*LOG((TAN((RADIANS(45)+(B49/2)))))-23.268932*SIN(B49)-0.0525*(SIN(B49)^3)*(SIN(B49)^5) -> 1217.1806 | F49: =7915,704468*LOG((TAN((RADIANS(45)+(X/2)))))-23,268932*SIN(X)-0,0525*(SIN(X)^3)*(SIN(X)^5)
A53: 160 | B53: E | D53: =RADIANS(A53) -> 2.7925268 | F53: =RADIANS(360) -> 6.2831853 | G53: =RADIANS(180) -> 3.1415927
A54: 140 | B54: W | D54: =RADIANS(A54) -> 2.443461 | F54: =(360-(A53+A54)) -> 60
A55: =(A53+A54) -> 300 | B55: W | D55: =RADIANS(A55) -> 5.2359878 | F55: {=_xlfn.IFS(B53=B54,A54-A53,(A53+A54)>180,360-(A53+A54),B53<>B54,A53+A54)} -> 60
A56: =(360-A55) -> 60 | D56: =RADIANS(A56) -> 1.0471976 | F56: {=_xlfn.IFS(B53=B54,D54-D53,(D53+D54)>(RADIANS(180)),RADIANS(360)-(D53+D54),B53<>B54,D53+D54)} -> 1.0471976 | G56: =DEGREES(F56) -> 60
F57: =SI.CONDITIONS(B53=B54;D54-D53;(D53+D54)>(RADIANS(180));RADIANS(360)-(D53+D54);B53<>B54;D53+D54)
F58: =DEGRES(SI.CONDITIONS(B53=B54;D54-D53;(D53+D54)>(RADIANS(180));RADIANS(360)-(D53+D54);B53<>B54;D53+D54))*60
A60: dg | B60: dmp | C60: dl
A61: 4200 | B61: 121.8 | C61: 696 | F61: =DEGREES(ATAN(A61/B61)) -> 88.338888
F62: =DEGRES(ATAN(A61/B61))
F64: =(C61/(COS(RADIANS(F61)))) -> 24010.09
F65: '=(C61/(COS(RADIANS(F61))))
A67: Dep | B67: diff lat | F67: R Plane
A68: 130.6 | B68: 420 | F68: =DEGREES(ATAN(A68/B68)) -> 17.273206
A73: lat 1 | B73: Lat 2 | C73: Dg | F73: Mo
A74: =RADIANS(35.9333) -> 0.6271544 | B74: =RADIANS(36.9666) -> 0.64518888 | C74: 97.3 | F74: =(DEGREES(ACOS((SIN(A74)*SIN(B74)+(COS(A74)*COS(B74)*COS(RADIANS(C74)))))))*60 -> 4457.6639
F75: 4457.661
A77: Échelle de Beaufort
A78: coefficient | B78: height ft. | D78: directions vent
A79: 0 | B79: 0 | D79: head | E79: 330-30
A80: 1 | B80: 1 | D80: Beam | E80: 330-210/30-150
A81: 2 | B81: 2 | D81: Following | E81: 210-150
A82: 3 | B82: 3.5
A83: 4 | B83: 6
A84: 5 | B84: 9
A85: 6 | B85: 13
A86: 7 | B86: 19
A87: 8 | B87: 25
A88: 9 | B88: 32
A89: 10 | B89: 41
A90: 11 | B90: 52
A91: 12 | B91: 60
A93: Angles courants
A95: =_xlfn.IFS(Feuil2!C46=180,0,Feuil2!C46>180,Feuil2!C46-180,Feuil2!C46<180,180-Feuil2!C46) -> 70
A97: =@SI.CONDITIONS(Feuil2!C37=180;0;Feuil2!C37>180;Feuil2!C37-180;Feuil2!C37<180;180-Feuil2!C37)
A101: Mercator | C101: ortho
A102: Plane | C102: loxo
A105: '=BL4+BK4+TEMPS(BJ5-BJ4;;)
A109: Temps | B109: =SI.CONDITIONS(ET(BK4>0;R4<0;G4<>G5;90<=E5;E5<=180);(BN4+BL4)-1;ET(BK4>0;R4>0;G4<>G5;90<=E5;E5<=180);(BN4+BL4)+1;ET(BK4<0;R4>0;G4<>G5;90<=E5;E5<=180);(BN4-BL4)+1;ET(BK4<0;R4<0;G4<>G5;90<=E5;E5<=180);(BN4-BL4)-1;BK4<0;BN4-BL4;BK4>0;BN4+BL4)
