Workbook
Name Loxo: Références!$A$101:$A$102

Sheet Feuil2
A1: Colonne1 | B1: Colonne2 | C1: Colonne3 | D1: Colonne4 | E1: Colonne5 | F1: Colonne6 | G1: Colonne7 | H1: Colonne8 | I1: Colonne9 | J1: Colonne10 | K1: Colonne11 | L1: Colonne12 | M1: Colonne13 | N1: Colonne14 | O1: Colonne15 | P1: Colonne16 | Q1: Colonne17 | R1: Colonne18 | S1: Colonne19 | T1: Colonne20 | U1: Colonne21 | V1: Colonne22 | W1: Colonne23 | X1: Colonne24 | Y1: Colonne25 | Z1: Colonne26 | AA1: Colonne27 | AB1: Colonne28 | AC1: Colonne29 | AD1: Colonne30 | AE1: Colonne31 | AF1: Colonne32 | AG1: Colonne33 | AH1: Colonne34 | AI1: Colonne35 | AJ1: Colonne36 | AK1: Colonne37 | AL1: Colonne38 | AM1: Colonne39 | AN1: Colonne40 | AO1: Colonne41 | AP1: Colonne42 | AQ1: Colonne43 | AR1: Colonne44 | AS1: Colonne45 | AT1: Colonne46 | AU1: Colonne47 | AV1: Colonne48 | AW1: Colonne49 | AX1: Colonne50 | AY1: Colonne51 | AZ1: Colonne52 | BA1: Colonne53 | BB1: Colonne54 | BC1: Colonne55 | BD1: Colonne56 | BE1: Colonne57 | BF1: Colonne58 | BG1: Colonne59 | BH1: Colonne60 | BI1: Colonne61 | BJ1: Colonne62 | BK1: Colonne63 | BL1: Colonne64 | BM1: Colonne65 | BN1: Colonne66 | BO1: Colonne67 | BP1: Colonne68
C2: Latitude | F2: Longitude | V2: Mercator | AA2: Plane | AC2: Ortho | BB2: Effets vents | BG2: effet courants | BN2: Temps
A3: No. | B3: Degrés | C3: Minutes | D3: N/S | E3: Degrés2 | F3: Minutes3 | G3: W/E | H3: Lat. Deg. | I3: Lat. Valeurs radiants | J3: Lat Radian signe | K3: Lg Deg. | L3: Lg Valeurs radiant | M3: MP | N3: DMP | O3: D.Lat (min) | P3: D.Lat S Corr | Q3: D.Long (min) | R3: D.long S corr | S3: D.Lat | T3: D.Long | U3: R (Mercator) | V3: R Merc. Cap. | W3: M (Mercator) | X3: Lat moy. (deg.) | Y3: DEP | Z3: R (plane) | AA3: R plane Cap. | AB3: M Plane | AC3: Ro | AD3: Ro Cap | AE3: Mo | AF3: Type of sailing | AG3: Cap | AH3: Distance | AI3: angle | AJ3: Cap courant | AK3: Angle courant | AL3: x eau og. | AM3: y eau og | AN3: y derive og | AO3: x derive og | AP3: Choix | AQ3: y'' Route eau | AR3: y' derive | AS3: x'' route eau | AT3: x' derive | AU3: y total | AV3: x total | AW3: angle | AX3: angle vecteur | AY3: difference | AZ3: Beaufort | BA3: Ft | BB3: direction | BC3: Vitesse optimale | BD3: V. Manuelle | BE3: gisement | BF3: vitesse | BG3: V. fond | BH3: route fond | BI3: ordre de barre | BJ3: attente (min) | BK3: Temps | BL3: ZD | BM3: ZD' | BN3: Temps4 | BO3: Colonne5 | BP3: ETA (GMT)
A4: 1 | B4: 2 | C4: 14.508 | D4: S | E4: 79 | F4: 52.55 | G4: W | H4: =(C4/60)+B4 -> 2.2418 | I4: =RADIANS(H4) -> 0.039126791 | J4: =IF(D4="S",I4,I4*-1) -> 0.039126791 | K4: =(F4/60)+E4 -> 79.875833 | L4: =RADIANS(K4) -> 1.3940963 | M4: =7915.704468*LOG((TAN((RADIANS(45)+(I4/2)))))-23.268932*SIN(I4)-0.0525*(SIN(I4)^3)*(SIN(I4)^5) -> 133.63213 | N4: {=_xlfn.IFS(D4<>OFFSET(D4,1,),M4+OFFSET(M4,1,),OFFSET(M4,1,)-M4<0,(OFFSET(M4,1,)-M4)*-1,OFFSET(M4,1,)-M4>0,OFFSET(M4,1,)-M4)} -> 2.6560158 | O4: =(DEGREES(IF(D4=D5,I5-I4,I4+I5)))*60 -> 2.672 | P4: =_xlfn.IFS(AND(D5="N",D4<>D5,O4>0),O4*-1,AND(D5="N",D4=D5,O4<0),O4*-1,AND(D5="S",D4=D5,O4>0),O4,AND(D5="S",D4<>D5,O4<0),O4,AND(D5="N",D5<>D4,O4<0),O4*-1,AND(D5="N",D5=D4,O4<0),O4*-1,AND(D5="S",D4=D5,O4<0),O4,AND(D5="N",D5=D4,O4>0),O4*-1) -> 2.672 | Q4: =(DEGREES(_xlfn.IFS(G4=G5,L5-L4,(L4+L5)>(RADIANS(180)),RADIANS(360)-(L4+L5),G4<>G5,L4+L5)))*60 -> -2.449 | R4: {=_xlfn.IFS(AND(G5="E",G5<>G4,L4+L5>(RADIANS(180)),Q4<0),Q4*-1,AND(G5="W",G5<>G4,L5+L4>(RADIANS(180)),Q4<0),Q4,AND(G5="E",G5<>G4,L5+L4>(RADIANS(180)),Q4>0),Q4,AND(G5="W",G5<>G4,L5+L4>(RADIANS(180)),Q4>0),Q4*-1,AND(G5="W",G5=G4,Q4<0),Q4,AND(G5="W",G5=G4,Q4>0),Q4,AND(G5="E",G5=G4,Q4<0),Q4*-1,AND(G5="E",G5=G4,Q4>0),Q4*-1,AND(G5="E",G5<>G4,Q4>0),Q4*-1,AND(G5="E",G5<>G4,Q4<0),Q4,AND(G5="W",G5<>G4,Q4>0),Q4,AND(G5="W",G5<>G4,Q4<0),Q4*-1)} -> -2.449 | S4: =IF(O4<0,-1*O4,O4) -> 2.672 | T4: =IF(Q4<0,-1*Q4,Q4) -> 2.449 | U4: =DEGREES(ATAN(T4/N4)) -> 42.677845 | V4: =_xlfn.IFS(AND(P4>0,R4>0),180+U4,AND(P4<0,R4>0),360-U4,AND(P4>0,R4<0),180-U4,AND(P4<0,R4<0),U4) -> 137.32215 | W4: =(S4/(COS(RADIANS(U4)))) -> 3.6345001 | X4: =AVERAGE(H4,H5) -> 2.2640667 | Y4: =(T4*(COS(RADIANS(X4)))) -> 2.4470882 | Z4: =DEGREES(ATAN(Y4/S4)) -> 42.484276 | AA4: =_xlfn.IFS(AND(P4>0,R4>0),180+Z4,AND(P4<0,R4>0),360-Z4,AND(P4>0,R4<0),180-Z4,AND(P4<0,R4<0),Z4) -> 137.51572 | AB4: =(S4/(COS(RADIANS(Z4)))) -> 3.623234 | AC4: =DEGREES(ACOS(((SIN(J5)-(SIN(J4))*(COS(RADIANS(AE4/60))))/(COS(J4)*SIN(RADIANS(AE4/60)))))) -> 42.483472 | AD4: =_xlfn.IFS(AND(P4>0,R4<0),180-AC4,AND(P4>0,R4>0),180+AC4,AND(P4<0,R4>0),180+AC4,AND(P4<0,R4<0),180-AC4) -> 137.51653 | AE4: =(DEGREES(ACOS((SIN(J4)*SIN(J5)+(COS(J4)*COS(J5)*COS(RADIANS(T4/60)))))))*60 -> 3.623234 | AF4: loxo | AG4: {=_xlfn.IFS(AH4=W4,V4,AH4=AB4,AA4,AH4=AE4,AD4)} -> 137.51572 | AH4: =_xlfn.IFS(AND(AF4="loxo",W4<600),AB4,AND(AF4="loxo",W4>600),W4,AND(B4>60,AF4="loxo"),W4,AF4="ortho",AE4) -> 3.623234 | AI4: =_xlfn.IFS(AND(AF4="loxo",W4>600),V4+BE4,AF4="ortho",AD4+BE4,AND(AF4="loxo",W4<600),AA4+BE4) -> 387.51572 | AJ4: =_xlfn.IFS(AI4>360,AI4-360,AI4<360,AI4) -> 27.515724 | AK4: =_xlfn.IFS(AJ4>270,AJ4-270,AJ4<90,90-AJ4,AJ4<180,AJ4-90,AJ4>180,270-AJ4) -> 62.484276 | AL4: =_xlfn.IFS(AND(AF4="loxo",W4>600),(SIN(RADIANS(U4))*BC4),AF4="ortho",(SIN(RADIANS(AC4))*BC4),AND(AF4="loxo",W4<600),(SIN(RADIANS(Z4))*BC4)) -> 10.413548 | AM4: =_xlfn.IFS(AND(AF4="loxo",W4>600),SQRT((BC4^2)-((SIN(RADIANS(U4))*BC4)^2)),AF4="ortho",SQRT((BC4^2)-((SIN(RADIANS(AC4))*BC4)^2)),AND(AF4="loxo",W4<600),SQRT((BC4^2)-((SIN(RADIANS(Z4))*BC4)^2))) -> 11.370656 | AN4: =(SIN(RADIANS(AK4))*BF4) -> 0 | AO4: =SQRT((BF4^2)-((SIN(RADIANS(AK4))*BF4)^2)) -> 0 | AP4: =_xlfn.IFS(AND(AF4="loxo",W4<600),AA4,AND(AF4="loxo",W4>600),V4,AND(B4>60,AF4="loxo"),V4,AF4="ortho",AD4) -> 137.51572 | AQ4: =_xlfn.IFS(AP4>270,AM4,AP4<90,AM4,AP4<270,AM4*-1,AP4>90,AM4*-1) -> -11.370656 | AR4: =_xlfn.IFS(AJ4>270,AN4,AJ4<90,AN4,AJ4<270,AN4*-1,AJ4>90,AN4*-1) -> 0 | AS4: =_xlfn.IFS(AND(AP4>180,AP4<360),AL4*-1,AND(AP4<180,AP4>0),AL4) -> 10.413548 | AT4: =_xlfn.IFS(AJ4>180,AO4*-1,AJ4<180,AO4,AJ4=0,AO4,AJ4=360,AO4) -> 0 | AU4: =(AQ4+AR4) -> -11.370656 | AV4: =(AS4+AT4) -> 10.413548 | AW4: =DEGREES(ATAN(AV4/AU4)) -> -42.484276 | AX4: =_xlfn.IFS((DEGREES(ATAN(AV4/AU4)))<0,(DEGREES(ATAN(AV4/AU4)))*-1,DEGREES(ATAN(AV4/AU4))>0,(DEGREES(ATAN(AV4/AU4)))) -> 42.484276 | AY4: =_xlfn.IFS(AND(AF4="loxo",W4<600),BH4-AA4,AND(AF4="loxo",W4>600),BH4-V4,AND(B4>60,AF4="loxo"),BH4-V4,AF4="ortho",BH4-AD4) -> 0 | AZ4: 1 | BA4: =_xlfn.IFS(AZ4=1,Références!$B$80,AZ4=2,Références!$B$81,AZ4=3,Références!$B$82,AZ4=4,Références!$B$83,AZ4=5,Références!$B$84,AZ4=6,Références!$B$85,AZ4=7,Références!$B$86,AZ4=8,Références!$B$87,AZ4=9,Références!$B$88,AZ4=10,Références!$B$89,AZ4=11,Références!$B$90,AZ4=12,Références!$B$91) -> 1 | BB4: Beam | BC4: {=_xlfn.IFS(BB4="Beam", -0.0000000868778*BA4^5-0.0000459619*BA4^4+0.00347366*BA4^3-0.0884721*BA4^2+0.510463*BA4+14.9932,BB4="Following",0.000652681*BA4^3-0.0356523*BA4^2+0.29714*BA4+15.2038,BB4="Head",-0.00000154449*BA4^5+0.0000797696*BA4^4+0.000148965*BA4^3-0.0570448*BA4^2+0.244115*BA4+15.0029)} -> 15.418619 | BE4: 250 | BF4: 0 | BG4: =IF(BD4=0,SQRT((AU4^2)+(AV4^2)),SQRT((AU4^2)+(AV4^2))) -> 15.418619 | BH4: =_xlfn.IFS(AND(AV4>0,AU4>0),AX4,AND(AV4<0,AU4>0),360-AX4,AND(AV4>0,AU4<0),180-AX4,AND(AV4<0,AU4<0),180+AX4) -> 137.51572 | BI4: =(AP4-AY4) -> 137.51572 | BK4: =IF(BJ4=0,(AH4/BG4)*60,((AH4/BG4)*60)+BJ4) -> 14.09945 | BL4: =IF(G4="W",(ROUND((E4/15),0))*-1,(ROUND((E4/15),0))) -> -5 | BM4: =IF(BL4<0,((BL4*-1)/24),BL4/24) -> 0.20833333 | BN4: =IF(BJ4=0,BK4/(60*24),(BK4/(60*24))+(BJ4/(60*24))) -> 0.0097912848 | BO4: =C51 -> 44927.432 | BP4: =IF(BL4<0,C51+BM4,C51-BM4) -> 44927.64
A5: 2 | B5: 2 | C5: 17.18 | D5: S | E5: 79 | F5: 50.101 | G5: W | H5: =(C5/60)+B5 -> 2.2863333 | I5: =RADIANS(H5) -> 0.039904044 | J5: =IF(D5="S",I5,I5*-1) -> 0.039904044 | K5: =(F5/60)+E5 -> 79.835017 | L5: =RADIANS(K5) -> 1.3933839 | M5: =7915.704468*LOG((TAN((RADIANS(45)+(I5/2)))))-23.268932*SIN(I5)-0.0525*(SIN(I5)^3)*(SIN(I5)^5) -> 136.28814 | N5: {=_xlfn.IFS(D5<>OFFSET(D5,1,),M5+OFFSET(M5,1,),OFFSET(M5,1,)-M5<0,(OFFSET(M5,1,)-M5)*-1,OFFSET(M5,1,)-M5>0,OFFSET(M5,1,)-M5)} -> 4.82816 | O5: =(DEGREES(IF(D5=D6,I6-I5,I5+I6)))*60 -> 4.857 | P5: =_xlfn.IFS(AND(D6="N",D5<>D6,O5>0),O5*-1,AND(D6="N",D5=D6,O5<0),O5*-1,AND(D6="S",D5=D6,O5>0),O5,AND(D6="S",D5<>D6,O5<0),O5,AND(D6="N",D6<>D5,O5<0),O5*-1,AND(D6="N",D6=D5,O5<0),O5*-1,AND(D6="S",D5=D6,O5<0),O5,AND(D6="N",D6=D5,O5>0),O5*-1) -> 4.857 | Q5: =(DEGREES(_xlfn.IFS(G5=G6,L6-L5,(L5+L6)>(RADIANS(180)),RADIANS(360)-(L5+L6),G5<>G6,L5+L6)))*60 -> -0.068 | R5: {=_xlfn.IFS(AND(G6="E",G6<>G5,L5+L6>(RADIANS(180)),Q5<0),Q5*-1,AND(G6="W",G6<>G5,L6+L5>(RADIANS(180)),Q5<0),Q5,AND(G6="E",G6<>G5,L6+L5>(RADIANS(180)),Q5>0),Q5,AND(G6="W",G6<>G5,L6+L5>(RADIANS(180)),Q5>0),Q5*-1,AND(G6="W",G6=G5,Q5<0),Q5,AND(G6="W",G6=G5,Q5>0),Q5,AND(G6="E",G6=G5,Q5<0),Q5*-1,AND(G6="E",G6=G5,Q5>0),Q5*-1,AND(G6="E",G6<>G5,Q5>0),Q5*-1,AND(G6="E",G6<>G5,Q5<0),Q5,AND(G6="W",G6<>G5,Q5>0),Q5,AND(G6="W",G6<>G5,Q5<0),Q5*-1)} -> -0.068 | S5: =IF(O5<0,-1*O5,O5) -> 4.857 | T5: =IF(Q5<0,-1*Q5,Q5) -> 0.068 | U5: =DEGREES(ATAN(T5/N5)) -> 0.80690272 | V5: =_xlfn.IFS(AND(P5>0,R5>0),180+U5,AND(P5<0,R5>0),360-U5,AND(P5>0,R5<0),180-U5,AND(P5<0,R5<0),U5) -> 179.1931 | W5: =(S5/(COS(RADIANS(U5)))) -> 4.8574817 | X5: =AVERAGE(H5,H6) -> 2.3268083 | Y5: =(T5*(COS(RADIANS(X5)))) -> 0.067943935 | Z5: =DEGREES(ATAN(Y5/S5)) -> 0.80145085 | AA5: =_xlfn.IFS(AND(P5>0,R5>0),180+Z5,AND(P5<0,R5>0),360-Z5,AND(P5>0,R5<0),180-Z5,AND(P5<0,R5<0),Z5) -> 179.19855 | AB5: =(S5/(COS(RADIANS(Z5)))) -> 4.8574752 | AC5: =DEGREES(ACOS(((SIN(J6)-(SIN(J5))*(COS(RADIANS(AE5/60))))/(COS(J5)*SIN(RADIANS(AE5/60)))))) -> 0.80142798 | AD5: =_xlfn.IFS(AND(P5>0,R5<0),180-AC5,AND(P5>0,R5>0),180+AC5,AND(P5<0,R5>0),180+AC5,AND(P5<0,R5<0),180-AC5) -> 179.19857 | AE5: =(DEGREES(ACOS((SIN(J5)*SIN(J6)+(COS(J5)*COS(J6)*COS(RADIANS(T5/60)))))))*60 -> 4.8574752 | AF5: loxo | AG5: {=_xlfn.IFS(AH5=W5,V5,AH5=AB5,AA5,AH5=AE5,AD5)} -> 179.19855 | AH5: =_xlfn.IFS(AND(AF5="loxo",W5<600),AB5,AND(AF5="loxo",W5>600),W5,AND(B5>60,AF5="loxo"),W5,AF5="ortho",AE5) -> 4.8574752 | AI5: =_xlfn.IFS(AND(AF5="loxo",W5>600),V5+BE5,AF5="ortho",AD5+BE5,AND(AF5="loxo",W5<600),AA5+BE5) -> 429.19855 | AJ5: =_xlfn.IFS(AI5>360,AI5-360,AI5<360,AI5) -> 69.198549 | AK5: =_xlfn.IFS(AJ5>270,AJ5-270,AJ5<90,90-AJ5,AJ5<180,AJ5-90,AJ5>180,270-AJ5) -> 20.801451 | AL5: =_xlfn.IFS(AND(AF5="loxo",W5>600),(SIN(RADIANS(U5))*BC5),AF5="ortho",(SIN(RADIANS(AC5))*BC5),AND(AF5="loxo",W5<600),(SIN(RADIANS(Z5))*BC5)) -> 0.21566793 | AM5: =_xlfn.IFS(AND(AF5="loxo",W5>600),SQRT((BC5^2)-((SIN(RADIANS(U5))*BC5)^2)),AF5="ortho",SQRT((BC5^2)-((SIN(RADIANS(AC5))*BC5)^2)),AND(AF5="loxo",W5<600),SQRT((BC5^2)-((SIN(RADIANS(Z5))*BC5)^2))) -> 15.41711 | AN5: =(SIN(RADIANS(AK5))*BF5) -> 0 | AO5: =SQRT((BF5^2)-((SIN(RADIANS(AK5))*BF5)^2)) -> 0 | AP5: =_xlfn.IFS(AND(AF5="loxo",W5<600),AA5,AND(AF5="loxo",W5>600),V5,AND(B5>60,AF5="loxo"),V5,AF5="ortho",AD5) -> 179.19855 | AQ5: =_xlfn.IFS(AP5>270,AM5,AP5<90,AM5,AP5<270,AM5*-1,AP5>90,AM5*-1) -> -15.41711 | AR5: =_xlfn.IFS(AJ5>270,AN5,AJ5<90,AN5,AJ5<270,AN5*-1,AJ5>90,AN5*-1) -> 0 | AS5: =_xlfn.IFS(AND(AP5>180,AP5<360),AL5*-1,AND(AP5<180,AP5>0),AL5) -> 0.21566793 | AT5: =_xlfn.IFS(AJ5>180,AO5*-1,AJ5<180,AO5,AJ5=0,AO5,AJ5=360,AO5) -> 0 | AU5: =(AQ5+AR5) -> -15.41711 | AV5: =(AS5+AT5) -> 0.21566793 | AW5: =DEGREES(ATAN(AV5/AU5)) -> -0.80145085 | AX5: =_xlfn.IFS((DEGREES(ATAN(AV5/AU5)))<0,(DEGREES(ATAN(AV5/AU5)))*-1,DEGREES(ATAN(AV5/AU5))>0,(DEGREES(ATAN(AV5/AU5)))) -> 0.80145085 | AY5: =_xlfn.IFS(AND(AF5="loxo",W5<600),BH5-AA5,AND(AF5="loxo",W5>600),BH5-V5,AND(B5>60,AF5="loxo"),BH5-V5,AF5="ortho",BH5-AD5) -> 0 | AZ5: 1 | BA5: =_xlfn.IFS(AZ5=1,Références!$B$80,AZ5=2,Références!$B$81,AZ5=3,Références!$B$82,AZ5=4,Références!$B$83,AZ5=5,Références!$B$84,AZ5=6,Références!$B$85,AZ5=7,Références!$B$86,AZ5=8,Références!$B$87,AZ5=9,Références!$B$88,AZ5=10,Références!$B$89,AZ5=11,Références!$B$90,AZ5=12,Références!$B$91) -> 1 | BB5: Beam | BC5: {=_xlfn.IFS(BB5="Beam", -0.0000000868778*BA5^5-0.0000459619*BA5^4+0.00347366*BA5^3-0.0884721*BA5^2+0.510463*BA5+14.9932,BB5="Following",0.000652681*BA5^3-0.0356523*BA5^2+0.29714*BA5+15.2038,BB5="Head",-0.00000154449*BA5^5+0.0000797696*BA5^4+0.000148965*BA5^3-0.0570448*BA5^2+0.244115*BA5+15.0029)} -> 15.418619 | BE5: 250 | BF5: 0 | BG5: =IF(BD5=0,SQRT((AU5^2)+(AV5^2)),SQRT((AU5^2)+(AV5^2))) -> 15.418619 | BH5: =_xlfn.IFS(AND(AV5>0,AU5>0),AX5,AND(AV5<0,AU5>0),360-AX5,AND(AV5>0,AU5<0),180-AX5,AND(AV5<0,AU5<0),180+AX5) -> 179.19855 | BI5: =(AP5-AY5) -> 179.19855 | BK5: =IF(BJ5=0,(AH5/BG5)*60,((AH5/BG5)*60)+BJ5) -> 18.902375 | BL5: =IF(G5="W",(ROUND((E5/15),0))*-1,(ROUND((E5/15),0))) -> -5 | BM5: =IF(BL5<0,((BL5*-1)/24),BL5/24) -> 0.20833333 | BN5: =IF(BJ5=0,BK5/(60*24),(BK5/(60*24))+(BJ5/(60*24))) -> 0.013126649 | BO5: =BO4+BN4 -> 44927.442 | BP5: =BP4+BN4 -> 44927.65
A6: 3 | B6: 2 | C6: 22.037 | D6: S | E6: 79 | F6: 50.033 | G6: W | H6: =(C6/60)+B6 -> 2.3672833 | I6: =RADIANS(H6) -> 0.041316888 | J6: =IF(D6="S",I6,I6*-1) -> 0.041316888 | K6: =(F6/60)+E6 -> 79.833883 | L6: =RADIANS(K6) -> 1.3933641 | M6: =7915.704468*LOG((TAN((RADIANS(45)+(I6/2)))))-23.268932*SIN(I6)-0.0525*(SIN(I6)^3)*(SIN(I6)^5) -> 141.1163 | N6: {=_xlfn.IFS(D6<>OFFSET(D6,1,),M6+OFFSET(M6,1,),OFFSET(M6,1,)-M6<0,(OFFSET(M6,1,)-M6)*-1,OFFSET(M6,1,)-M6>0,OFFSET(M6,1,)-M6)} -> 7.8228863 | O6: =(DEGREES(IF(D6=D7,I7-I6,I6+I7)))*60 -> 7.869 | P6: =_xlfn.IFS(AND(D7="N",D6<>D7,O6>0),O6*-1,AND(D7="N",D6=D7,O6<0),O6*-1,AND(D7="S",D6=D7,O6>0),O6,AND(D7="S",D6<>D7,O6<0),O6,AND(D7="N",D7<>D6,O6<0),O6*-1,AND(D7="N",D7=D6,O6<0),O6*-1,AND(D7="S",D6=D7,O6<0),O6,AND(D7="N",D7=D6,O6>0),O6*-1) -> 7.869 | Q6: =(DEGREES(_xlfn.IFS(G6=G7,L7-L6,(L6+L7)>(RADIANS(180)),RADIANS(360)-(L6+L7),G6<>G7,L6+L7)))*60 -> 1.886 | R6: {=_xlfn.IFS(AND(G7="E",G7<>G6,L6+L7>(RADIANS(180)),Q6<0),Q6*-1,AND(G7="W",G7<>G6,L7+L6>(RADIANS(180)),Q6<0),Q6,AND(G7="E",G7<>G6,L7+L6>(RADIANS(180)),Q6>0),Q6,AND(G7="W",G7<>G6,L7+L6>(RADIANS(180)),Q6>0),Q6*-1,AND(G7="W",G7=G6,Q6<0),Q6,AND(G7="W",G7=G6,Q6>0),Q6,AND(G7="E",G7=G6,Q6<0),Q6*-1,AND(G7="E",G7=G6,Q6>0),Q6*-1,AND(G7="E",G7<>G6,Q6>0),Q6*-1,AND(G7="E",G7<>G6,Q6<0),Q6,AND(G7="W",G7<>G6,Q6>0),Q6,AND(G7="W",G7<>G6,Q6<0),Q6*-1)} -> 1.886 | S6: =IF(O6<0,-1*O6,O6) -> 7.869 | T6: =IF(Q6<0,-1*Q6,Q6) -> 1.886 | U6: =DEGREES(ATAN(T6/N6)) -> 13.554634 | V6: =_xlfn.IFS(AND(P6>0,R6>0),180+U6,AND(P6<0,R6>0),360-U6,AND(P6>0,R6<0),180-U6,AND(P6<0,R6<0),U6) -> 193.55463 | W6: =(S6/(COS(RADIANS(U6)))) -> 8.0944559 | X6: =AVERAGE(H6,H7) -> 2.4328583 | Y6: =(T6*(COS(RADIANS(X6)))) -> 1.8843001 | Z6: =DEGREES(ATAN(Y6/S6)) -> 13.466401 | AA6: =_xlfn.IFS(AND(P6>0,R6>0),180+Z6,AND(P6<0,R6>0),360-Z6,AND(P6>0,R6<0),180-Z6,AND(P6<0,R6<0),Z6) -> 193.4664 | AB6: =(S6/(COS(RADIANS(Z6)))) -> 8.0914614 | AC6: =DEGREES(ACOS(((SIN(J7)-(SIN(J6))*(COS(RADIANS(AE6/60))))/(COS(J6)*SIN(RADIANS(AE6/60)))))) -> 13.465737 | AD6: =_xlfn.IFS(AND(P6>0,R6<0),180-AC6,AND(P6>0,R6>0),180+AC6,AND(P6<0,R6>0),180+AC6,AND(P6<0,R6<0),180-AC6) -> 193.46574 | AE6: =(DEGREES(ACOS((SIN(J6)*SIN(J7)+(COS(J6)*COS(J7)*COS(RADIANS(T6/60)))))))*60 -> 8.0914613 | AF6: loxo | AG6: {=_xlfn.IFS(AH6=W6,V6,AH6=AB6,AA6,AH6=AE6,AD6)} -> 193.4664 | AH6: =_xlfn.IFS(AND(AF6="loxo",W6<600),AB6,AND(AF6="loxo",W6>600),W6,AND(B6>60,AF6="loxo"),W6,AF6="ortho",AE6) -> 8.0914614 | AI6: =_xlfn.IFS(AND(AF6="loxo",W6>600),V6+BE6,AF6="ortho",AD6+BE6,AND(AF6="loxo",W6<600),AA6+BE6) -> 443.4664 | AJ6: =_xlfn.IFS(AI6>360,AI6-360,AI6<360,AI6) -> 83.466401 | AK6: =_xlfn.IFS(AJ6>270,AJ6-270,AJ6<90,90-AJ6,AJ6<180,AJ6-90,AJ6>180,270-AJ6) -> 6.5335985 | AL6: =_xlfn.IFS(AND(AF6="loxo",W6>600),(SIN(RADIANS(U6))*BC6),AF6="ortho",(SIN(RADIANS(AC6))*BC6),AND(AF6="loxo",W6<600),(SIN(RADIANS(Z6))*BC6)) -> 3.5906127 | AM6: =_xlfn.IFS(AND(AF6="loxo",W6>600),SQRT((BC6^2)-((SIN(RADIANS(U6))*BC6)^2)),AF6="ortho",SQRT((BC6^2)-((SIN(RADIANS(AC6))*BC6)^2)),AND(AF6="loxo",W6<600),SQRT((BC6^2)-((SIN(RADIANS(Z6))*BC6)^2))) -> 14.994709 | AN6: =(SIN(RADIANS(AK6))*BF6) -> 0 | AO6: =SQRT((BF6^2)-((SIN(RADIANS(AK6))*BF6)^2)) -> 0 | AP6: =_xlfn.IFS(AND(AF6="loxo",W6<600),AA6,AND(AF6="loxo",W6>600),V6,AND(B6>60,AF6="loxo"),V6,AF6="ortho",AD6) -> 193.4664 | AQ6: =_xlfn.IFS(AP6>270,AM6,AP6<90,AM6,AP6<270,AM6*-1,AP6>90,AM6*-1) -> -14.994709 | AR6: =_xlfn.IFS(AJ6>270,AN6,AJ6<90,AN6,AJ6<270,AN6*-1,AJ6>90,AN6*-1) -> 0 | AS6: =_xlfn.IFS(AND(AP6>180,AP6<360),AL6*-1,AND(AP6<180,AP6>0),AL6) -> -3.5906127 | AT6: =_xlfn.IFS(AJ6>180,AO6*-1,AJ6<180,AO6,AJ6=0,AO6,AJ6=360,AO6) -> 0 | AU6: =(AQ6+AR6) -> -14.994709 | AV6: =(AS6+AT6) -> -3.5906127 | AW6: =DEGREES(ATAN(AV6/AU6)) -> 13.466401 | AX6: =_xlfn.IFS((DEGREES(ATAN(AV6/AU6)))<0,(DEGREES(ATAN(AV6/AU6)))*-1,DEGREES(ATAN(AV6/AU6))>0,(DEGREES(ATAN(AV6/AU6)))) -> 13.466401 | AY6: =_xlfn.IFS(AND(AF6="loxo",W6<600),BH6-AA6,AND(AF6="loxo",W6>600),BH6-V6,AND(B6>60,AF6="loxo"),BH6-V6,AF6="ortho",BH6-AD6) -> 0 | AZ6: 1 | BA6: =_xlfn.IFS(AZ6=1,Références!$B$80,AZ6=2,Références!$B$81,AZ6=3,Références!$B$82,AZ6=4,Références!$B$83,AZ6=5,Références!$B$84,AZ6=6,Références!$B$85,AZ6=7,Références!$B$86,AZ6=8,Références!$B$87,AZ6=9,Références!$B$88,AZ6=10,Références!$B$89,AZ6=11,Références!$B$90,AZ6=12,Références!$B$91) -> 1 | BB6: Beam | BC6: {=_xlfn.IFS(BB6="Beam", -0.0000000868778*BA6^5-0.0000459619*BA6^4+0.00347366*BA6^3-0.0884721*BA6^2+0.510463*BA6+14.9932,BB6="Following",0.000652681*BA6^3-0.0356523*BA6^2+0.29714*BA6+15.2038,BB6="Head",-0.00000154449*BA6^5+0.0000797696*BA6^4+0.000148965*BA6^3-0.0570448*BA6^2+0.244115*BA6+15.0029)} -> 15.418619 | BE6: 250 | BF6: 0 | BG6: =IF(BD6=0,SQRT((AU6^2)+(AV6^2)),SQRT((AU6^2)+(AV6^2))) -> 15.418619 | BH6: =_xlfn.IFS(AND(AV6>0,AU6>0),AX6,AND(AV6<0,AU6>0),360-AX6,AND(AV6>0,AU6<0),180-AX6,AND(AV6<0,AU6<0),180+AX6) -> 193.4664 | BI6: =(AP6-AY6) -> 193.4664 | BK6: =IF(BJ6=0,(AH6/BG6)*60,((AH6/BG6)*60)+BJ6) -> 31.487107 | BL6: =IF(G6="W",(ROUND((E6/15),0))*-1,(ROUND((E6/15),0))) -> -5 | BM6: =IF(BL6<0,((BL6*-1)/24),BL6/24) -> 0.20833333 | BN6: =IF(BJ6=0,BK6/(60*24),(BK6/(60*24))+(BJ6/(60*24))) -> 0.021866046 | BO6: =BO5+BN5 -> 44927.455 | BP6: =BP5+BN5 -> 44927.663
A7: 4 | B7: 2 | C7: 29.906 | D7: S | E7: 79 | F7: 51.919 | G7: W | H7: =(C7/60)+B7 -> 2.4984333 | I7: =RADIANS(H7) -> 0.043605888 | J7: =IF(D7="S",I7,I7*-1) -> 0.043605888 | K7: =(F7/60)+E7 -> 79.865317 | L7: =RADIANS(K7) -> 1.3939127 | M7: =7915.704468*LOG((TAN((RADIANS(45)+(I7/2)))))-23.268932*SIN(I7)-0.0525*(SIN(I7)^3)*(SIN(I7)^5) -> 148.93919 | N7: {=_xlfn.IFS(D7<>OFFSET(D7,1,),M7+OFFSET(M7,1,),OFFSET(M7,1,)-M7<0,(OFFSET(M7,1,)-M7)*-1,OFFSET(M7,1,)-M7>0,OFFSET(M7,1,)-M7)} -> 4.3417477 | O7: =(DEGREES(IF(D7=D8,I8-I7,I7+I8)))*60 -> 4.367 | P7: =_xlfn.IFS(AND(D8="N",D7<>D8,O7>0),O7*-1,AND(D8="N",D7=D8,O7<0),O7*-1,AND(D8="S",D7=D8,O7>0),O7,AND(D8="S",D7<>D8,O7<0),O7,AND(D8="N",D8<>D7,O7<0),O7*-1,AND(D8="N",D8=D7,O7<0),O7*-1,AND(D8="S",D7=D8,O7<0),O7,AND(D8="N",D8=D7,O7>0),O7*-1) -> 4.367 | Q7: =(DEGREES(_xlfn.IFS(G7=G8,L8-L7,(L7+L8)>(RADIANS(180)),RADIANS(360)-(L7+L8),G7<>G8,L7+L8)))*60 -> 1.281 | R7: {=_xlfn.IFS(AND(G8="E",G8<>G7,L7+L8>(RADIANS(180)),Q7<0),Q7*-1,AND(G8="W",G8<>G7,L8+L7>(RADIANS(180)),Q7<0),Q7,AND(G8="E",G8<>G7,L8+L7>(RADIANS(180)),Q7>0),Q7,AND(G8="W",G8<>G7,L8+L7>(RADIANS(180)),Q7>0),Q7*-1,AND(G8="W",G8=G7,Q7<0),Q7,AND(G8="W",G8=G7,Q7>0),Q7,AND(G8="E",G8=G7,Q7<0),Q7*-1,AND(G8="E",G8=G7,Q7>0),Q7*-1,AND(G8="E",G8<>G7,Q7>0),Q7*-1,AND(G8="E",G8<>G7,Q7<0),Q7,AND(G8="W",G8<>G7,Q7>0),Q7,AND(G8="W",G8<>G7,Q7<0),Q7*-1)} -> 1.281 | S7: =IF(O7<0,-1*O7,O7) -> 4.367 | T7: =IF(Q7<0,-1*Q7,Q7) -> 1.281 | U7: =DEGREES(ATAN(T7/N7)) -> 16.438298 | V7: =_xlfn.IFS(AND(P7>0,R7>0),180+U7,AND(P7<0,R7>0),360-U7,AND(P7>0,R7<0),180-U7,AND(P7<0,R7<0),U7) -> 196.4383 | W7: =(S7/(COS(RADIANS(U7)))) -> 4.5531081 | X7: =AVERAGE(H7,H8) -> 2.534825 | Y7: =(T7*(COS(RADIANS(X7)))) -> 1.2797466 | Z7: =DEGREES(ATAN(Y7/S7)) -> 16.333189 | AA7: =_xlfn.IFS(AND(P7>0,R7>0),180+Z7,AND(P7<0,R7>0),360-Z7,AND(P7>0,R7<0),180-Z7,AND(P7<0,R7<0),Z7) -> 196.33319 | AB7: =(S7/(COS(RADIANS(Z7)))) -> 4.5506527 | AC7: =DEGREES(ACOS(((SIN(J8)-(SIN(J7))*(COS(RADIANS(AE7/60))))/(COS(J7)*SIN(RADIANS(AE7/60)))))) -> 16.332718 | AD7: =_xlfn.IFS(AND(P7>0,R7<0),180-AC7,AND(P7>0,R7>0),180+AC7,AND(P7<0,R7>0),180+AC7,AND(P7<0,R7<0),180-AC7) -> 196.33272 | AE7: =(DEGREES(ACOS((SIN(J7)*SIN(J8)+(COS(J7)*COS(J8)*COS(RADIANS(T7/60)))))))*60 -> 4.5506527 | AF7: loxo | AG7: {=_xlfn.IFS(AH7=W7,V7,AH7=AB7,AA7,AH7=AE7,AD7)} -> 196.33319 | AH7: =_xlfn.IFS(AND(AF7="loxo",W7<600),AB7,AND(AF7="loxo",W7>600),W7,AND(B7>60,AF7="loxo"),W7,AF7="ortho",AE7) -> 4.5506527 | AI7: =_xlfn.IFS(AND(AF7="loxo",W7>600),V7+BE7,AF7="ortho",AD7+BE7,AND(AF7="loxo",W7<600),AA7+BE7) -> 446.33319 | AJ7: =_xlfn.IFS(AI7>360,AI7-360,AI7<360,AI7) -> 86.333189 | AK7: =_xlfn.IFS(AJ7>270,AJ7-270,AJ7<90,90-AJ7,AJ7<180,AJ7-90,AJ7>180,270-AJ7) -> 3.6668108 | AL7: =_xlfn.IFS(AND(AF7="loxo",W7>600),(SIN(RADIANS(U7))*BC7),AF7="ortho",(SIN(RADIANS(AC7))*BC7),AND(AF7="loxo",W7<600),(SIN(RADIANS(Z7))*BC7)) -> 4.3360646 | AM7: =_xlfn.IFS(AND(AF7="loxo",W7>600),SQRT((BC7^2)-((SIN(RADIANS(U7))*BC7)^2)),AF7="ortho",SQRT((BC7^2)-((SIN(RADIANS(AC7))*BC7)^2)),AND(AF7="loxo",W7<600),SQRT((BC7^2)-((SIN(RADIANS(Z7))*BC7)^2))) -> 14.796362 | AN7: =(SIN(RADIANS(AK7))*BF7) -> 0 | AO7: =SQRT((BF7^2)-((SIN(RADIANS(AK7))*BF7)^2)) -> 0 | AP7: =_xlfn.IFS(AND(AF7="loxo",W7<600),AA7,AND(AF7="loxo",W7>600),V7,AND(B7>60,AF7="loxo"),V7,AF7="ortho",AD7) -> 196.33319 | AQ7: =_xlfn.IFS(AP7>270,AM7,AP7<90,AM7,AP7<270,AM7*-1,AP7>90,AM7*-1) -> -14.796362 | AR7: =_xlfn.IFS(AJ7>270,AN7,AJ7<90,AN7,AJ7<270,AN7*-1,AJ7>90,AN7*-1) -> 0 | AS7: =_xlfn.IFS(AND(AP7>180,AP7<360),AL7*-1,AND(AP7<180,AP7>0),AL7) -> -4.3360646 | AT7: =_xlfn.IFS(AJ7>180,AO7*-1,AJ7<180,AO7,AJ7=0,AO7,AJ7=360,AO7) -> 0 | AU7: =(AQ7+AR7) -> -14.796362 | AV7: =(AS7+AT7) -> -4.3360646 | AW7: =DEGREES(ATAN(AV7/AU7)) -> 16.333189 | AX7: =_xlfn.IFS((DEGREES(ATAN(AV7/AU7)))<0,(DEGREES(ATAN(AV7/AU7)))*-1,DEGREES(ATAN(AV7/AU7))>0,(DEGREES(ATAN(AV7/AU7)))) -> 16.333189 | AY7: =_xlfn.IFS(AND(AF7="loxo",W7<600),BH7-AA7,AND(AF7="loxo",W7>600),BH7-V7,AND(B7>60,AF7="loxo"),BH7-V7,AF7="ortho",BH7-AD7) -> 0 | AZ7: 1 | BA7: =_xlfn.IFS(AZ7=1,Références!$B$80,AZ7=2,Références!$B$81,AZ7=3,Références!$B$82,AZ7=4,Références!$B$83,AZ7=5,Références!$B$84,AZ7=6,Références!$B$85,AZ7=7,Références!$B$86,AZ7=8,Références!$B$87,AZ7=9,Références!$B$88,AZ7=10,Références!$B$89,AZ7=11,Références!$B$90,AZ7=12,Références!$B$91) -> 1 | BB7: Beam | BC7: {=_xlfn.IFS(BB7="Beam", -0.0000000868778*BA7^5-0.0000459619*BA7^4+0.00347366*BA7^3-0.0884721*BA7^2+0.510463*BA7+14.9932,BB7="Following",0.000652681*BA7^3-0.0356523*BA7^2+0.29714*BA7+15.2038,BB7="Head",-0.00000154449*BA7^5+0.0000797696*BA7^4+0.000148965*BA7^3-0.0570448*BA7^2+0.244115*BA7+15.0029)} -> 15.418619 | BE7: 250 | BF7: 0 | BG7: =IF(BD7=0,SQRT((AU7^2)+(AV7^2)),SQRT((AU7^2)+(AV7^2))) -> 15.418619 | BH7: =_xlfn.IFS(AND(AV7>0,AU7>0),AX7,AND(AV7<0,AU7>0),360-AX7,AND(AV7>0,AU7<0),180-AX7,AND(AV7<0,AU7<0),180+AX7) -> 196.33319 | BI7: =(AP7-AY7) -> 196.33319 | BK7: =IF(BJ7=0,(AH7/BG7)*60,((AH7/BG7)*60)+BJ7) -> 17.708406 | BL7: =IF(G7="W",(ROUND((E7/15),0))*-1,(ROUND((E7/15),0))) -> -5 | BM7: =IF(BL7<0,((BL7*-1)/24),BL7/24) -> 0.20833333 | BN7: =IF(BJ7=0,BK7/(60*24),(BK7/(60*24))+(BJ7/(60*24))) -> 0.012297504 | BO7: =BO6+BN6 -> 44927.477 | BP7: =BP6+BN6 -> 44927.685
A8: 5 | B8: 2 | C8: 34.273 | D8: S | E8: 79 | F8: 53.2 | G8: W | H8: =(C8/60)+B8 -> 2.5712167 | I8: =RADIANS(H8) -> 0.044876197 | J8: =IF(D8="S",I8,I8*-1) -> 0.044876197 | K8: =(F8/60)+E8 -> 79.886667 | L8: =RADIANS(K8) -> 1.3942854 | M8: =7915.704468*LOG((TAN((RADIANS(45)+(I8/2)))))-23.268932*SIN(I8)-0.0525*(SIN(I8)^3)*(SIN(I8)^5) -> 153.28094 | N8: {=_xlfn.IFS(D8<>OFFSET(D8,1,),M8+OFFSET(M8,1,),OFFSET(M8,1,)-M8<0,(OFFSET(M8,1,)-M8)*-1,OFFSET(M8,1,)-M8>0,OFFSET(M8,1,)-M8)} -> 1.2368522 | O8: =(DEGREES(IF(D8=D9,I9-I8,I8+I9)))*60 -> 1.244 | P8: =_xlfn.IFS(AND(D9="N",D8<>D9,O8>0),O8*-1,AND(D9="N",D8=D9,O8<0),O8*-1,AND(D9="S",D8=D9,O8>0),O8,AND(D9="S",D8<>D9,O8<0),O8,AND(D9="N",D9<>D8,O8<0),O8*-1,AND(D9="N",D9=D8,O8<0),O8*-1,AND(D9="S",D8=D9,O8<0),O8,AND(D9="N",D9=D8,O8>0),O8*-1) -> 1.244 | Q8: =(DEGREES(_xlfn.IFS(G8=G9,L9-L8,(L8+L9)>(RADIANS(180)),RADIANS(360)-(L8+L9),G8<>G9,L8+L9)))*60 -> 0.698 | R8: {=_xlfn.IFS(AND(G9="E",G9<>G8,L8+L9>(RADIANS(180)),Q8<0),Q8*-1,AND(G9="W",G9<>G8,L9+L8>(RADIANS(180)),Q8<0),Q8,AND(G9="E",G9<>G8,L9+L8>(RADIANS(180)),Q8>0),Q8,AND(G9="W",G9<>G8,L9+L8>(RADIANS(180)),Q8>0),Q8*-1,AND(G9="W",G9=G8,Q8<0),Q8,AND(G9="W",G9=G8,Q8>0),Q8,AND(G9="E",G9=G8,Q8<0),Q8*-1,AND(G9="E",G9=G8,Q8>0),Q8*-1,AND(G9="E",G9<>G8,Q8>0),Q8*-1,AND(G9="E",G9<>G8,Q8<0),Q8,AND(G9="W",G9<>G8,Q8>0),Q8,AND(G9="W",G9<>G8,Q8<0),Q8*-1)} -> 0.698 | S8: =IF(O8<0,-1*O8,O8) -> 1.244 | T8: =IF(Q8<0,-1*Q8,Q8) -> 0.698 | U8: =DEGREES(ATAN(T8/N8)) -> 29.437595 | V8: =_xlfn.IFS(AND(P8>0,R8>0),180+U8,AND(P8<0,R8>0),360-U8,AND(P8>0,R8<0),180-U8,AND(P8<0,R8<0),U8) -> 209.43759 | W8: =(S8/(COS(RADIANS(U8)))) -> 1.4284213 | X8: =AVERAGE(H8,H9) -> 2.5815833 | Y8: =(T8*(COS(RADIANS(X8)))) -> 0.6972916 | Z8: =DEGREES(ATAN(Y8/S8)) -> 29.271668 | AA8: =_xlfn.IFS(AND(P8>0,R8>0),180+Z8,AND(P8<0,R8>0),360-Z8,AND(P8>0,R8<0),180-Z8,AND(P8<0,R8<0),Z8) -> 209.27167 | AB8: =(S8/(COS(RADIANS(Z8)))) -> 1.4260966 | AC8: =DEGREES(ACOS(((SIN(J9)-(SIN(J8))*(COS(RADIANS(AE8/60))))/(COS(J8)*SIN(RADIANS(AE8/60)))))) -> 29.271406 | AD8: =_xlfn.IFS(AND(P8>0,R8<0),180-AC8,AND(P8>0,R8>0),180+AC8,AND(P8<0,R8>0),180+AC8,AND(P8<0,R8<0),180-AC8) -> 209.27141 | AE8: =(DEGREES(ACOS((SIN(J8)*SIN(J9)+(COS(J8)*COS(J9)*COS(RADIANS(T8/60)))))))*60 -> 1.4260966 | AF8: loxo | AG8: {=_xlfn.IFS(AH8=W8,V8,AH8=AB8,AA8,AH8=AE8,AD8)} -> 209.27167 | AH8: =_xlfn.IFS(AND(AF8="loxo",W8<600),AB8,AND(AF8="loxo",W8>600),W8,AND(B8>60,AF8="loxo"),W8,AF8="ortho",AE8) -> 1.4260966 | AI8: =_xlfn.IFS(AND(AF8="loxo",W8>600),V8+BE8,AF8="ortho",AD8+BE8,AND(AF8="loxo",W8<600),AA8+BE8) -> 459.27167 | AJ8: =_xlfn.IFS(AI8>360,AI8-360,AI8<360,AI8) -> 99.271668 | AK8: =_xlfn.IFS(AJ8>270,AJ8-270,AJ8<90,90-AJ8,AJ8<180,AJ8-90,AJ8>180,270-AJ8) -> 9.2716677 | AL8: =_xlfn.IFS(AND(AF8="loxo",W8>600),(SIN(RADIANS(U8))*BC8),AF8="ortho",(SIN(RADIANS(AC8))*BC8),AND(AF8="loxo",W8<600),(SIN(RADIANS(Z8))*BC8)) -> 7.5389514 | AM8: =_xlfn.IFS(AND(AF8="loxo",W8>600),SQRT((BC8^2)-((SIN(RADIANS(U8))*BC8)^2)),AF8="ortho",SQRT((BC8^2)-((SIN(RADIANS(AC8))*BC8)^2)),AND(AF8="loxo",W8<600),SQRT((BC8^2)-((SIN(RADIANS(Z8))*BC8)^2))) -> 13.449833 | AN8: =(SIN(RADIANS(AK8))*BF8) -> 0 | AO8: =SQRT((BF8^2)-((SIN(RADIANS(AK8))*BF8)^2)) -> 0 | AP8: =_xlfn.IFS(AND(AF8="loxo",W8<600),AA8,AND(AF8="loxo",W8>600),V8,AND(B8>60,AF8="loxo"),V8,AF8="ortho",AD8) -> 209.27167 | AQ8: =_xlfn.IFS(AP8>270,AM8,AP8<90,AM8,AP8<270,AM8*-1,AP8>90,AM8*-1) -> -13.449833 | AR8: =_xlfn.IFS(AJ8>270,AN8,AJ8<90,AN8,AJ8<270,AN8*-1,AJ8>90,AN8*-1) -> 0 | AS8: =_xlfn.IFS(AND(AP8>180,AP8<360),AL8*-1,AND(AP8<180,AP8>0),AL8) -> -7.5389514 | AT8: =_xlfn.IFS(AJ8>180,AO8*-1,AJ8<180,AO8,AJ8=0,AO8,AJ8=360,AO8) -> 0 | AU8: =(AQ8+AR8) -> -13.449833 | AV8: =(AS8+AT8) -> -7.5389514 | AW8: =DEGREES(ATAN(AV8/AU8)) -> 29.271668 | AX8: =_xlfn.IFS((DEGREES(ATAN(AV8/AU8)))<0,(DEGREES(ATAN(AV8/AU8)))*-1,DEGREES(ATAN(AV8/AU8))>0,(DEGREES(ATAN(AV8/AU8)))) -> 29.271668 | AY8: =_xlfn.IFS(AND(AF8="loxo",W8<600),BH8-AA8,AND(AF8="loxo",W8>600),BH8-V8,AND(B8>60,AF8="loxo"),BH8-V8,AF8="ortho",BH8-AD8) -> 0 | AZ8: 1 | BA8: =_xlfn.IFS(AZ8=1,Références!$B$80,AZ8=2,Références!$B$81,AZ8=3,Références!$B$82,AZ8=4,Références!$B$83,AZ8=5,Références!$B$84,AZ8=6,Références!$B$85,AZ8=7,Références!$B$86,AZ8=8,Références!$B$87,AZ8=9,Références!$B$88,AZ8=10,Références!$B$89,AZ8=11,Références!$B$90,AZ8=12,Références!$B$91) -> 1 | BB8: Beam | BC8: {=_xlfn.IFS(BB8="Beam", -0.0000000868778*BA8^5-0.0000459619*BA8^4+0.00347366*BA8^3-0.0884721*BA8^2+0.510463*BA8+14.9932,BB8="Following",0.000652681*BA8^3-0.0356523*BA8^2+0.29714*BA8+15.2038,BB8="Head",-0.00000154449*BA8^5+0.0000797696*BA8^4+0.000148965*BA8^3-0.0570448*BA8^2+0.244115*BA8+15.0029)} -> 15.418619 | BE8: 250 | BF8: 0 | BG8: =IF(BD8=0,SQRT((AU8^2)+(AV8^2)),SQRT((AU8^2)+(AV8^2))) -> 15.418619 | BH8: =_xlfn.IFS(AND(AV8>0,AU8>0),AX8,AND(AV8<0,AU8>0),360-AX8,AND(AV8>0,AU8<0),180-AX8,AND(AV8<0,AU8<0),180+AX8) -> 209.27167 | BI8: =(AP8-AY8) -> 209.27167 | BK8: =IF(BJ8=0,(AH8/BG8)*60,((AH8/BG8)*60)+BJ8) -> 5.5495113 | BL8: =IF(G8="W",(ROUND((E8/15),0))*-1,(ROUND((E8/15),0))) -> -5 | BM8: =IF(BL8<0,((BL8*-1)/24),BL8/24) -> 0.20833333 | BN8: =IF(BJ8=0,BK8/(60*24),(BK8/(60*24))+(BJ8/(60*24))) -> 0.0038538273 | BO8: =BO7+BN7 -> 44927.489 | BP8: =BP7+BN7 -> 44927.697
A9: 6 | B9: 2 | C9: 35.517 | D9: S | E9: 79 | F9: 53.898 | G9: W | H9: =(C9/60)+B9 -> 2.59195 | I9: =RADIANS(H9) -> 0.045238062 | J9: =IF(D9="S",I9,I9*-1) -> 0.045238062 | K9: =(F9/60)+E9 -> 79.8983 | L9: =RADIANS(K9) -> 1.3944884 | M9: =7915.704468*LOG((TAN((RADIANS(45)+(I9/2)))))-23.268932*SIN(I9)-0.0525*(SIN(I9)^3)*(SIN(I9)^5) -> 154.51779 | N9: {=_xlfn.IFS(D9<>OFFSET(D9,1,),M9+OFFSET(M9,1,),OFFSET(M9,1,)-M9<0,(OFFSET(M9,1,)-M9)*-1,OFFSET(M9,1,)-M9>0,OFFSET(M9,1,)-M9)} -> 1.0757997 | O9: =(DEGREES(IF(D9=D10,I10-I9,I9+I10)))*60 -> 1.082 | P9: =_xlfn.IFS(AND(D10="N",D9<>D10,O9>0),O9*-1,AND(D10="N",D9=D10,O9<0),O9*-1,AND(D10="S",D9=D10,O9>0),O9,AND(D10="S",D9<>D10,O9<0),O9,AND(D10="N",D10<>D9,O9<0),O9*-1,AND(D10="N",D10=D9,O9<0),O9*-1,AND(D10="S",D9=D10,O9<0),O9,AND(D10="N",D10=D9,O9>0),O9*-1) -> 1.082 | Q9: =(DEGREES(_xlfn.IFS(G9=G10,L10-L9,(L9+L10)>(RADIANS(180)),RADIANS(360)-(L9+L10),G9<>G10,L9+L10)))*60 -> 0.787 | R9: {=_xlfn.IFS(AND(G10="E",G10<>G9,L9+L10>(RADIANS(180)),Q9<0),Q9*-1,AND(G10="W",G10<>G9,L10+L9>(RADIANS(180)),Q9<0),Q9,AND(G10="E",G10<>G9,L10+L9>(RADIANS(180)),Q9>0),Q9,AND(G10="W",G10<>G9,L10+L9>(RADIANS(180)),Q9>0),Q9*-1,AND(G10="W",G10=G9,Q9<0),Q9,AND(G10="W",G10=G9,Q9>0),Q9,AND(G10="E",G10=G9,Q9<0),Q9*-1,AND(G10="E",G10=G9,Q9>0),Q9*-1,AND(G10="E",G10<>G9,Q9>0),Q9*-1,AND(G10="E",G10<>G9,Q9<0),Q9,AND(G10="W",G10<>G9,Q9>0),Q9,AND(G10="W",G10<>G9,Q9<0),Q9*-1)} -> 0.787 | S9: =IF(O9<0,-1*O9,O9) -> 1.082 | T9: =IF(Q9<0,-1*Q9,Q9) -> 0.787 | U9: =DEGREES(ATAN(T9/N9)) -> 36.187293 | V9: =_xlfn.IFS(AND(P9>0,R9>0),180+U9,AND(P9<0,R9>0),360-U9,AND(P9>0,R9<0),180-U9,AND(P9<0,R9<0),U9) -> 216.18729 | W9: =(S9/(COS(RADIANS(U9)))) -> 1.3406166 | X9: =AVERAGE(H9,H10) -> 2.6009667 | Y9: =(T9*(COS(RADIANS(X9)))) -> 0.78618924 | Z9: =DEGREES(ATAN(Y9/S9)) -> 36.002434 | AA9: =_xlfn.IFS(AND(P9>0,R9>0),180+Z9,AND(P9<0,R9>0),360-Z9,AND(P9>0,R9<0),180-Z9,AND(P9<0,R9<0),Z9) -> 216.00243 | AB9: =(S9/(COS(RADIANS(Z9)))) -> 1.3374668 | AC9: =DEGREES(ACOS(((SIN(J10)-(SIN(J9))*(COS(RADIANS(AE9/60))))/(COS(J9)*SIN(RADIANS(AE9/60)))))) -> 36.002136 | AD9: =_xlfn.IFS(AND(P9>0,R9<0),180-AC9,AND(P9>0,R9>0),180+AC9,AND(P9<0,R9>0),180+AC9,AND(P9<0,R9<0),180-AC9) -> 216.00214 | AE9: =(DEGREES(ACOS((SIN(J9)*SIN(J10)+(COS(J9)*COS(J10)*COS(RADIANS(T9/60)))))))*60 -> 1.3374668 | AF9: loxo | AG9: {=_xlfn.IFS(AH9=W9,V9,AH9=AB9,AA9,AH9=AE9,AD9)} -> 216.00243 | AH9: =_xlfn.IFS(AND(AF9="loxo",W9<600),AB9,AND(AF9="loxo",W9>600),W9,AND(B9>60,AF9="loxo"),W9,AF9="ortho",AE9) -> 1.3374668 | AI9: =_xlfn.IFS(AND(AF9="loxo",W9>600),V9+BE9,AF9="ortho",AD9+BE9,AND(AF9="loxo",W9<600),AA9+BE9) -> 466.00243 | AJ9: =_xlfn.IFS(AI9>360,AI9-360,AI9<360,AI9) -> 106.00243 | AK9: =_xlfn.IFS(AJ9>270,AJ9-270,AJ9<90,90-AJ9,AJ9<180,AJ9-90,AJ9>180,270-AJ9) -> 16.002434 | AL9: =_xlfn.IFS(AND(AF9="loxo",W9>600),(SIN(RADIANS(U9))*BC9),AF9="ortho",(SIN(RADIANS(AC9))*BC9),AND(AF9="loxo",W9<600),(SIN(RADIANS(Z9))*BC9)) -> 9.0633664 | AM9: =_xlfn.IFS(AND(AF9="loxo",W9>600),SQRT((BC9^2)-((SIN(RADIANS(U9))*BC9)^2)),AF9="ortho",SQRT((BC9^2)-((SIN(RADIANS(AC9))*BC9)^2)),AND(AF9="loxo",W9<600),SQRT((BC9^2)-((SIN(RADIANS(Z9))*BC9)^2))) -> 12.473539 | AN9: =(SIN(RADIANS(AK9))*BF9) -> 0 | AO9: =SQRT((BF9^2)-((SIN(RADIANS(AK9))*BF9)^2)) -> 0 | AP9: =_xlfn.IFS(AND(AF9="loxo",W9<600),AA9,AND(AF9="loxo",W9>600),V9,AND(B9>60,AF9="loxo"),V9,AF9="ortho",AD9) -> 216.00243 | AQ9: =_xlfn.IFS(AP9>270,AM9,AP9<90,AM9,AP9<270,AM9*-1,AP9>90,AM9*-1) -> -12.473539 | AR9: =_xlfn.IFS(AJ9>270,AN9,AJ9<90,AN9,AJ9<270,AN9*-1,AJ9>90,AN9*-1) -> 0 | AS9: =_xlfn.IFS(AND(AP9>180,AP9<360),AL9*-1,AND(AP9<180,AP9>0),AL9) -> -9.0633664 | AT9: =_xlfn.IFS(AJ9>180,AO9*-1,AJ9<180,AO9,AJ9=0,AO9,AJ9=360,AO9) -> 0 | AU9: =(AQ9+AR9) -> -12.473539 | AV9: =(AS9+AT9) -> -9.0633664 | AW9: =DEGREES(ATAN(AV9/AU9)) -> 36.002434 | AX9: =_xlfn.IFS((DEGREES(ATAN(AV9/AU9)))<0,(DEGREES(ATAN(AV9/AU9)))*-1,DEGREES(ATAN(AV9/AU9))>0,(DEGREES(ATAN(AV9/AU9)))) -> 36.002434 | AY9: =_xlfn.IFS(AND(AF9="loxo",W9<600),BH9-AA9,AND(AF9="loxo",W9>600),BH9-V9,AND(B9>60,AF9="loxo"),BH9-V9,AF9="ortho",BH9-AD9) -> 0 | AZ9: 1 | BA9: =_xlfn.IFS(AZ9=1,Références!$B$80,AZ9=2,Références!$B$81,AZ9=3,Références!$B$82,AZ9=4,Références!$B$83,AZ9=5,Références!$B$84,AZ9=6,Références!$B$85,AZ9=7,Références!$B$86,AZ9=8,Références!$B$87,AZ9=9,Références!$B$88,AZ9=10,Références!$B$89,AZ9=11,Références!$B$90,AZ9=12,Références!$B$91) -> 1 | BB9: Beam | BC9: {=_xlfn.IFS(BB9="Beam", -0.0000000868778*BA9^5-0.0000459619*BA9^4+0.00347366*BA9^3-0.0884721*BA9^2+0.510463*BA9+14.9932,BB9="Following",0.000652681*BA9^3-0.0356523*BA9^2+0.29714*BA9+15.2038,BB9="Head",-0.00000154449*BA9^5+0.0000797696*BA9^4+0.000148965*BA9^3-0.0570448*BA9^2+0.244115*BA9+15.0029)} -> 15.418619 | BE9: 250 | BF9: 0 | BG9: =IF(BD9=0,SQRT((AU9^2)+(AV9^2)),SQRT((AU9^2)+(AV9^2))) -> 15.418619 | BH9: =_xlfn.IFS(AND(AV9>0,AU9>0),AX9,AND(AV9<0,AU9>0),360-AX9,AND(AV9>0,AU9<0),180-AX9,AND(AV9<0,AU9<0),180+AX9) -> 216.00243 | BI9: =(AP9-AY9) -> 216.00243 | BK9: =IF(BJ9=0,(AH9/BG9)*60,((AH9/BG9)*60)+BJ9) -> 5.2046174 | BL9: =IF(G9="W",(ROUND((E9/15),0))*-1,(ROUND((E9/15),0))) -> -5 | BM9: =IF(BL9<0,((BL9*-1)/24),BL9/24) -> 0.20833333 | BN9: =IF(BJ9=0,BK9/(60*24),(BK9/(60*24))+(BJ9/(60*24))) -> 0.0036143176 | BO9: =BO8+BN8 -> 44927.493 | BP9: =BP8+BN8 -> 44927.701
A10: 7 | B10: 2 | C10: 36.599 | D10: S | E10: 79 | F10: 54.685 | G10: W | H10: =(C10/60)+B10 -> 2.6099833 | I10: =RADIANS(H10) -> 0.045552803 | J10: =IF(D10="S",I10,I10*-1) -> 0.045552803 | K10: =(F10/60)+E10 -> 79.911417 | L10: =RADIANS(K10) -> 1.3947173 | M10: =7915.704468*LOG((TAN((RADIANS(45)+(I10/2)))))-23.268932*SIN(I10)-0.0525*(SIN(I10)^3)*(SIN(I10)^5) -> 155.59359 | N10: {=_xlfn.IFS(D10<>OFFSET(D10,1,),M10+OFFSET(M10,1,),OFFSET(M10,1,)-M10<0,(OFFSET(M10,1,)-M10)*-1,OFFSET(M10,1,)-M10>0,OFFSET(M10,1,)-M10)} -> 2.1854528 | O10: =(DEGREES(IF(D10=D11,I11-I10,I10+I11)))*60 -> 2.198 | P10: =_xlfn.IFS(AND(D11="N",D10<>D11,O10>0),O10*-1,AND(D11="N",D10=D11,O10<0),O10*-1,AND(D11="S",D10=D11,O10>0),O10,AND(D11="S",D10<>D11,O10<0),O10,AND(D11="N",D11<>D10,O10<0),O10*-1,AND(D11="N",D11=D10,O10<0),O10*-1,AND(D11="S",D10=D11,O10<0),O10,AND(D11="N",D11=D10,O10>0),O10*-1) -> 2.198 | Q10: =(DEGREES(_xlfn.IFS(G10=G11,L11-L10,(L10+L11)>(RADIANS(180)),RADIANS(360)-(L10+L11),G10<>G11,L10+L11)))*60 -> 1.044 | R10: {=_xlfn.IFS(AND(G11="E",G11<>G10,L10+L11>(RADIANS(180)),Q10<0),Q10*-1,AND(G11="W",G11<>G10,L11+L10>(RADIANS(180)),Q10<0),Q10,AND(G11="E",G11<>G10,L11+L10>(RADIANS(180)),Q10>0),Q10,AND(G11="W",G11<>G10,L11+L10>(RADIANS(180)),Q10>0),Q10*-1,AND(G11="W",G11=G10,Q10<0),Q10,AND(G11="W",G11=G10,Q10>0),Q10,AND(G11="E",G11=G10,Q10<0),Q10*-1,AND(G11="E",G11=G10,Q10>0),Q10*-1,AND(G11="E",G11<>G10,Q10>0),Q10*-1,AND(G11="E",G11<>G10,Q10<0),Q10,AND(G11="W",G11<>G10,Q10>0),Q10,AND(G11="W",G11<>G10,Q10<0),Q10*-1)} -> 1.044 | S10: =IF(O10<0,-1*O10,O10) -> 2.198 | T10: =IF(Q10<0,-1*Q10,Q10) -> 1.044 | U10: =DEGREES(ATAN(T10/N10)) -> 25.534002 | V10: =_xlfn.IFS(AND(P10>0,R10>0),180+U10,AND(P10<0,R10>0),360-U10,AND(P10>0,R10<0),180-U10,AND(P10<0,R10<0),U10) -> 205.534 | W10: =(S10/(COS(RADIANS(U10)))) -> 2.4359169 | X10: =AVERAGE(H10,H11) -> 2.6283 | Y10: =(T10*(COS(RADIANS(X10)))) -> 1.0429018 | Z10: =DEGREES(ATAN(Y10/S10)) -> 25.383292 | AA10: =_xlfn.IFS(AND(P10>0,R10>0),180+Z10,AND(P10<0,R10>0),360-Z10,AND(P10>0,R10<0),180-Z10,AND(P10<0,R10<0),Z10) -> 205.38329 | AB10: =(S10/(COS(RADIANS(Z10)))) -> 2.4328683 | AC10: =DEGREES(ACOS(((SIN(J11)-(SIN(J10))*(COS(RADIANS(AE10/60))))/(COS(J10)*SIN(RADIANS(AE10/60)))))) -> 25.382893 | AD10: =_xlfn.IFS(AND(P10>0,R10<0),180-AC10,AND(P10>0,R10>0),180+AC10,AND(P10<0,R10>0),180+AC10,AND(P10<0,R10<0),180-AC10) -> 205.38289 | AE10: =(DEGREES(ACOS((SIN(J10)*SIN(J11)+(COS(J10)*COS(J11)*COS(RADIANS(T10/60)))))))*60 -> 2.4328683 | AF10: loxo | AG10: {=_xlfn.IFS(AH10=W10,V10,AH10=AB10,AA10,AH10=AE10,AD10)} -> 205.38329 | AH10: =_xlfn.IFS(AND(AF10="loxo",W10<600),AB10,AND(AF10="loxo",W10>600),W10,AND(B10>60,AF10="loxo"),W10,AF10="ortho",AE10) -> 2.4328683 | AI10: =_xlfn.IFS(AND(AF10="loxo",W10>600),V10+BE10,AF10="ortho",AD10+BE10,AND(AF10="loxo",W10<600),AA10+BE10) -> 455.38329 | AJ10: =_xlfn.IFS(AI10>360,AI10-360,AI10<360,AI10) -> 95.383292 | AK10: =_xlfn.IFS(AJ10>270,AJ10-270,AJ10<90,90-AJ10,AJ10<180,AJ10-90,AJ10>180,270-AJ10) -> 5.3832917 | AL10: =_xlfn.IFS(AND(AF10="loxo",W10>600),(SIN(RADIANS(U10))*BC10),AF10="ortho",(SIN(RADIANS(AC10))*BC10),AND(AF10="loxo",W10<600),(SIN(RADIANS(Z10))*BC10)) -> 6.6095252 | AM10: =_xlfn.IFS(AND(AF10="loxo",W10>600),SQRT((BC10^2)-((SIN(RADIANS(U10))*BC10)^2)),AF10="ortho",SQRT((BC10^2)-((SIN(RADIANS(AC10))*BC10)^2)),AND(AF10="loxo",W10<600),SQRT((BC10^2)-((SIN(RADIANS(Z10))*BC10)^2))) -> 13.93011 | AN10: =(SIN(RADIANS(AK10))*BF10) -> 0 | AO10: =SQRT((BF10^2)-((SIN(RADIANS(AK10))*BF10)^2)) -> 0 | AP10: =_xlfn.IFS(AND(AF10="loxo",W10<600),AA10,AND(AF10="loxo",W10>600),V10,AND(B10>60,AF10="loxo"),V10,AF10="ortho",AD10) -> 205.38329 | AQ10: =_xlfn.IFS(AP10>270,AM10,AP10<90,AM10,AP10<270,AM10*-1,AP10>90,AM10*-1) -> -13.93011 | AR10: =_xlfn.IFS(AJ10>270,AN10,AJ10<90,AN10,AJ10<270,AN10*-1,AJ10>90,AN10*-1) -> 0 | AS10: =_xlfn.IFS(AND(AP10>180,AP10<360),AL10*-1,AND(AP10<180,AP10>0),AL10) -> -6.6095252 | AT10: =_xlfn.IFS(AJ10>180,AO10*-1,AJ10<180,AO10,AJ10=0,AO10,AJ10=360,AO10) -> 0 | AU10: =(AQ10+AR10) -> -13.93011 | AV10: =(AS10+AT10) -> -6.6095252 | AW10: =DEGREES(ATAN(AV10/AU10)) -> 25.383292 | AX10: =_xlfn.IFS((DEGREES(ATAN(AV10/AU10)))<0,(DEGREES(ATAN(AV10/AU10)))*-1,DEGREES(ATAN(AV10/AU10))>0,(DEGREES(ATAN(AV10/AU10)))) -> 25.383292 | AY10: =_xlfn.IFS(AND(AF10="loxo",W10<600),BH10-AA10,AND(AF10="loxo",W10>600),BH10-V10,AND(B10>60,AF10="loxo"),BH10-V10,AF10="ortho",BH10-AD10) -> 0 | AZ10: 1 | BA10: =_xlfn.IFS(AZ10=1,Références!$B$80,AZ10=2,Références!$B$81,AZ10=3,Références!$B$82,AZ10=4,Références!$B$83,AZ10=5,Références!$B$84,AZ10=6,Références!$B$85,AZ10=7,Références!$B$86,AZ10=8,Références!$B$87,AZ10=9,Références!$B$88,AZ10=10,Références!$B$89,AZ10=11,Références!$B$90,AZ10=12,Références!$B$91) -> 1 | BB10: Beam | BC10: {=_xlfn.IFS(BB10="Beam", -0.0000000868778*BA10^5-0.0000459619*BA10^4+0.00347366*BA10^3-0.0884721*BA10^2+0.510463*BA10+14.9932,BB10="Following",0.000652681*BA10^3-0.0356523*BA10^2+0.29714*BA10+15.2038,BB10="Head",-0.00000154449*BA10^5+0.0000797696*BA10^4+0.000148965*BA10^3-0.0570448*BA10^2+0.244115*BA10+15.0029)} -> 15.418619 | BE10: 250 | BF10: 0 | BG10: =IF(BD10=0,SQRT((AU10^2)+(AV10^2)),SQRT((AU10^2)+(AV10^2))) -> 15.418619 | BH10: =_xlfn.IFS(AND(AV10>0,AU10>0),AX10,AND(AV10<0,AU10>0),360-AX10,AND(AV10>0,AU10<0),180-AX10,AND(AV10<0,AU10<0),180+AX10) -> 205.38329 | BI10: =(AP10-AY10) -> 205.38329 | BK10: =IF(BJ10=0,(AH10/BG10)*60,((AH10/BG10)*60)+BJ10) -> 9.4672617 | BL10: =IF(G10="W",(ROUND((E10/15),0))*-1,(ROUND((E10/15),0))) -> -5 | BM10: =IF(BL10<0,((BL10*-1)/24),BL10/24) -> 0.20833333 | BN10: =IF(BJ10=0,BK10/(60*24),(BK10/(60*24))+(BJ10/(60*24))) -> 0.0065744873 | BO10: =BO9+BN9 -> 44927.496 | BP10: =BP9+BN9 -> 44927.705
A11: 8 | B11: 2 | C11: 38.797 | D11: S | E11: 79 | F11: 55.729 | G11: W | H11: =(C11/60)+B11 -> 2.6466167 | I11: =RADIANS(H11) -> 0.046192175 | J11: =IF(D11="S",I11,I11*-1) -> 0.046192175 | K11: =(F11/60)+E11 -> 79.928817 | L11: =RADIANS(K11) -> 1.395021 | M11: =7915.704468*LOG((TAN((RADIANS(45)+(I11/2)))))-23.268932*SIN(I11)-0.0525*(SIN(I11)^3)*(SIN(I11)^5) -> 157.77904 | N11: {=_xlfn.IFS(D11<>OFFSET(D11,1,),M11+OFFSET(M11,1,),OFFSET(M11,1,)-M11<0,(OFFSET(M11,1,)-M11)*-1,OFFSET(M11,1,)-M11>0,OFFSET(M11,1,)-M11)} -> 3.4702124 | O11: =(DEGREES(IF(D11=D12,I12-I11,I11+I12)))*60 -> 3.49 | P11: =_xlfn.IFS(AND(D12="N",D11<>D12,O11>0),O11*-1,AND(D12="N",D11=D12,O11<0),O11*-1,AND(D12="S",D11=D12,O11>0),O11,AND(D12="S",D11<>D12,O11<0),O11,AND(D12="N",D12<>D11,O11<0),O11*-1,AND(D12="N",D12=D11,O11<0),O11*-1,AND(D12="S",D11=D12,O11<0),O11,AND(D12="N",D12=D11,O11>0),O11*-1) -> 3.49 | Q11: =(DEGREES(_xlfn.IFS(G11=G12,L12-L11,(L11+L12)>(RADIANS(180)),RADIANS(360)-(L11+L12),G11<>G12,L11+L12)))*60 -> 1.213 | R11: {=_xlfn.IFS(AND(G12="E",G12<>G11,L11+L12>(RADIANS(180)),Q11<0),Q11*-1,AND(G12="W",G12<>G11,L12+L11>(RADIANS(180)),Q11<0),Q11,AND(G12="E",G12<>G11,L12+L11>(RADIANS(180)),Q11>0),Q11,AND(G12="W",G12<>G11,L12+L11>(RADIANS(180)),Q11>0),Q11*-1,AND(G12="W",G12=G11,Q11<0),Q11,AND(G12="W",G12=G11,Q11>0),Q11,AND(G12="E",G12=G11,Q11<0),Q11*-1,AND(G12="E",G12=G11,Q11>0),Q11*-1,AND(G12="E",G12<>G11,Q11>0),Q11*-1,AND(G12="E",G12<>G11,Q11<0),Q11,AND(G12="W",G12<>G11,Q11>0),Q11,AND(G12="W",G12<>G11,Q11<0),Q11*-1)} -> 1.213 | S11: =IF(O11<0,-1*O11,O11) -> 3.49 | T11: =IF(Q11<0,-1*Q11,Q11) -> 1.213 | U11: =DEGREES(ATAN(T11/N11)) -> 19.266886 | V11: =_xlfn.IFS(AND(P11>0,R11>0),180+U11,AND(P11<0,R11>0),360-U11,AND(P11>0,R11<0),180-U11,AND(P11<0,R11<0),U11) -> 199.26689 | W11: =(S11/(COS(RADIANS(U11)))) -> 3.697066 | X11: =AVERAGE(H11,H12) -> 2.6757 | Y11: =(T11*(COS(RADIANS(X11)))) -> 1.2116775 | Z11: =DEGREES(ATAN(Y11/S11)) -> 19.146262 | AA11: =_xlfn.IFS(AND(P11>0,R11>0),180+Z11,AND(P11<0,R11>0),360-Z11,AND(P11>0,R11<0),180-Z11,AND(P11<0,R11<0),Z11) -> 199.14626 | AB11: =(S11/(COS(RADIANS(Z11)))) -> 3.6943555 | AC11: =DEGREES(ACOS(((SIN(J12)-(SIN(J11))*(COS(RADIANS(AE11/60))))/(COS(J11)*SIN(RADIANS(AE11/60)))))) -> 19.145791 | AD11: =_xlfn.IFS(AND(P11>0,R11<0),180-AC11,AND(P11>0,R11>0),180+AC11,AND(P11<0,R11>0),180+AC11,AND(P11<0,R11<0),180-AC11) -> 199.14579 | AE11: =(DEGREES(ACOS((SIN(J11)*SIN(J12)+(COS(J11)*COS(J12)*COS(RADIANS(T11/60)))))))*60 -> 3.6943555 | AF11: loxo | AG11: {=_xlfn.IFS(AH11=W11,V11,AH11=AB11,AA11,AH11=AE11,AD11)} -> 199.14626 | AH11: =_xlfn.IFS(AND(AF11="loxo",W11<600),AB11,AND(AF11="loxo",W11>600),W11,AND(B11>60,AF11="loxo"),W11,AF11="ortho",AE11) -> 3.6943555 | AI11: =_xlfn.IFS(AND(AF11="loxo",W11>600),V11+BE11,AF11="ortho",AD11+BE11,AND(AF11="loxo",W11<600),AA11+BE11) -> 449.14626 | AJ11: =_xlfn.IFS(AI11>360,AI11-360,AI11<360,AI11) -> 89.146262 | AK11: =_xlfn.IFS(AJ11>270,AJ11-270,AJ11<90,90-AJ11,AJ11<180,AJ11-90,AJ11>180,270-AJ11) -> 0.85373804 | AL11: =_xlfn.IFS(AND(AF11="loxo",W11>600),(SIN(RADIANS(U11))*BC11),AF11="ortho",(SIN(RADIANS(AC11))*BC11),AND(AF11="loxo",W11<600),(SIN(RADIANS(Z11))*BC11)) -> 5.0570103 | AM11: =_xlfn.IFS(AND(AF11="loxo",W11>600),SQRT((BC11^2)-((SIN(RADIANS(U11))*BC11)^2)),AF11="ortho",SQRT((BC11^2)-((SIN(RADIANS(AC11))*BC11)^2)),AND(AF11="loxo",W11<600),SQRT((BC11^2)-((SIN(RADIANS(Z11))*BC11)^2))) -> 14.565728 | AN11: =(SIN(RADIANS(AK11))*BF11) -> 0 | AO11: =SQRT((BF11^2)-((SIN(RADIANS(AK11))*BF11)^2)) -> 0 | AP11: =_xlfn.IFS(AND(AF11="loxo",W11<600),AA11,AND(AF11="loxo",W11>600),V11,AND(B11>60,AF11="loxo"),V11,AF11="ortho",AD11) -> 199.14626 | AQ11: =_xlfn.IFS(AP11>270,AM11,AP11<90,AM11,AP11<270,AM11*-1,AP11>90,AM11*-1) -> -14.565728 | AR11: =_xlfn.IFS(AJ11>270,AN11,AJ11<90,AN11,AJ11<270,AN11*-1,AJ11>90,AN11*-1) -> 0 | AS11: =_xlfn.IFS(AND(AP11>180,AP11<360),AL11*-1,AND(AP11<180,AP11>0),AL11) -> -5.0570103 | AT11: =_xlfn.IFS(AJ11>180,AO11*-1,AJ11<180,AO11,AJ11=0,AO11,AJ11=360,AO11) -> 0 | AU11: =(AQ11+AR11) -> -14.565728 | AV11: =(AS11+AT11) -> -5.0570103 | AW11: =DEGREES(ATAN(AV11/AU11)) -> 19.146262 | AX11: =_xlfn.IFS((DEGREES(ATAN(AV11/AU11)))<0,(DEGREES(ATAN(AV11/AU11)))*-1,DEGREES(ATAN(AV11/AU11))>0,(DEGREES(ATAN(AV11/AU11)))) -> 19.146262 | AY11: =_xlfn.IFS(AND(AF11="loxo",W11<600),BH11-AA11,AND(AF11="loxo",W11>600),BH11-V11,AND(B11>60,AF11="loxo"),BH11-V11,AF11="ortho",BH11-AD11) -> 0 | AZ11: 1 | BA11: =_xlfn.IFS(AZ11=1,Références!$B$80,AZ11=2,Références!$B$81,AZ11=3,Références!$B$82,AZ11=4,Références!$B$83,AZ11=5,Références!$B$84,AZ11=6,Références!$B$85,AZ11=7,Références!$B$86,AZ11=8,Références!$B$87,AZ11=9,Références!$B$88,AZ11=10,Références!$B$89,AZ11=11,Références!$B$90,AZ11=12,Références!$B$91) -> 1 | BB11: Beam | BC11: {=_xlfn.IFS(BB11="Beam", -0.0000000868778*BA11^5-0.0000459619*BA11^4+0.00347366*BA11^3-0.0884721*BA11^2+0.510463*BA11+14.9932,BB11="Following",0.000652681*BA11^3-0.0356523*BA11^2+0.29714*BA11+15.2038,BB11="Head",-0.00000154449*BA11^5+0.0000797696*BA11^4+0.000148965*BA11^3-0.0570448*BA11^2+0.244115*BA11+15.0029)} -> 15.418619 | BE11: 250 | BF11: 0 | BG11: =IF(BD11=0,SQRT((AU11^2)+(AV11^2)),SQRT((AU11^2)+(AV11^2))) -> 15.418619 | BH11: =_xlfn.IFS(AND(AV11>0,AU11>0),AX11,AND(AV11<0,AU11>0),360-AX11,AND(AV11>0,AU11<0),180-AX11,AND(AV11<0,AU11<0),180+AX11) -> 199.14626 | BI11: =(AP11-AY11) -> 199.14626 | BK11: =IF(BJ11=0,(AH11/BG11)*60,((AH11/BG11)*60)+BJ11) -> 14.376212 | BL11: =IF(G11="W",(ROUND((E11/15),0))*-1,(ROUND((E11/15),0))) -> -5 | BM11: =IF(BL11<0,((BL11*-1)/24),BL11/24) -> 0.20833333 | BN11: =IF(BJ11=0,BK11/(60*24),(BK11/(60*24))+(BJ11/(60*24))) -> 0.0099834806 | BO11: =BO10+BN10 -> 44927.503 | BP11: =BP10+BN10 -> 44927.711
A12: 9 | B12: 2 | C12: 42.287 | D12: S | E12: 79 | F12: 56.942 | G12: W | H12: =(C12/60)+B12 -> 2.7047833 | I12: =RADIANS(H12) -> 0.047207375 | J12: =IF(D12="S",I12,I12*-1) -> 0.047207375 | K12: =(F12/60)+E12 -> 79.949033 | L12: =RADIANS(K12) -> 1.3953739 | M12: =7915.704468*LOG((TAN((RADIANS(45)+(I12/2)))))-23.268932*SIN(I12)-0.0525*(SIN(I12)^3)*(SIN(I12)^5) -> 161.24925 | N12: {=_xlfn.IFS(D12<>OFFSET(D12,1,),M12+OFFSET(M12,1,),OFFSET(M12,1,)-M12<0,(OFFSET(M12,1,)-M12)*-1,OFFSET(M12,1,)-M12>0,OFFSET(M12,1,)-M12)} -> 2.6797345 | O12: =(DEGREES(IF(D12=D13,I13-I12,I12+I13)))*60 -> -2.695 | P12: =_xlfn.IFS(AND(D13="N",D12<>D13,O12>0),O12*-1,AND(D13="N",D12=D13,O12<0),O12*-1,AND(D13="S",D12=D13,O12>0),O12,AND(D13="S",D12<>D13,O12<0),O12,AND(D13="N",D13<>D12,O12<0),O12*-1,AND(D13="N",D13=D12,O12<0),O12*-1,AND(D13="S",D12=D13,O12<0),O12,AND(D13="N",D13=D12,O12>0),O12*-1) -> -2.695 | Q12: =(DEGREES(_xlfn.IFS(G12=G13,L13-L12,(L12+L13)>(RADIANS(180)),RADIANS(360)-(L12+L13),G12<>G13,L12+L13)))*60 -> 4.609 | R12: {=_xlfn.IFS(AND(G13="E",G13<>G12,L12+L13>(RADIANS(180)),Q12<0),Q12*-1,AND(G13="W",G13<>G12,L13+L12>(RADIANS(180)),Q12<0),Q12,AND(G13="E",G13<>G12,L13+L12>(RADIANS(180)),Q12>0),Q12,AND(G13="W",G13<>G12,L13+L12>(RADIANS(180)),Q12>0),Q12*-1,AND(G13="W",G13=G12,Q12<0),Q12,AND(G13="W",G13=G12,Q12>0),Q12,AND(G13="E",G13=G12,Q12<0),Q12*-1,AND(G13="E",G13=G12,Q12>0),Q12*-1,AND(G13="E",G13<>G12,Q12>0),Q12*-1,AND(G13="E",G13<>G12,Q12<0),Q12,AND(G13="W",G13<>G12,Q12>0),Q12,AND(G13="W",G13<>G12,Q12<0),Q12*-1)} -> 4.609 | S12: =IF(O12<0,-1*O12,O12) -> 2.695 | T12: =IF(Q12<0,-1*Q12,Q12) -> 4.609 | U12: =DEGREES(ATAN(T12/N12)) -> 59.825706 | V12: =_xlfn.IFS(AND(P12>0,R12>0),180+U12,AND(P12<0,R12>0),360-U12,AND(P12>0,R12<0),180-U12,AND(P12<0,R12<0),U12) -> 300.17429 | W12: =(S12/(COS(RADIANS(U12)))) -> 5.3617741 | X12: =AVERAGE(H12,H13) -> 2.682325 | Y12: =(T12*(COS(RADIANS(X12)))) -> 4.6039502 | Z12: =DEGREES(ATAN(Y12/S12)) -> 59.656707 | AA12: =_xlfn.IFS(AND(P12>0,R12>0),180+Z12,AND(P12<0,R12>0),360-Z12,AND(P12>0,R12<0),180-Z12,AND(P12<0,R12<0),Z12) -> 300.34329 | AB12: =(S12/(COS(RADIANS(Z12)))) -> 5.3347336 | AC12: =DEGREES(ACOS(((SIN(J13)-(SIN(J12))*(COS(RADIANS(AE12/60))))/(COS(J12)*SIN(RADIANS(AE12/60)))))) -> 120.34149 | AD12: =_xlfn.IFS(AND(P12>0,R12<0),180-AC12,AND(P12>0,R12>0),180+AC12,AND(P12<0,R12>0),180+AC12,AND(P12<0,R12<0),180-AC12) -> 300.34149 | AE12: =(DEGREES(ACOS((SIN(J12)*SIN(J13)+(COS(J12)*COS(J13)*COS(RADIANS(T12/60)))))))*60 -> 5.3347335 | AF12: loxo | AG12: {=_xlfn.IFS(AH12=W12,V12,AH12=AB12,AA12,AH12=AE12,AD12)} -> 300.34329 | AH12: =_xlfn.IFS(AND(AF12="loxo",W12<600),AB12,AND(AF12="loxo",W12>600),W12,AND(B12>60,AF12="loxo"),W12,AF12="ortho",AE12) -> 5.3347336 | AI12: =_xlfn.IFS(AND(AF12="loxo",W12>600),V12+BE12,AF12="ortho",AD12+BE12,AND(AF12="loxo",W12<600),AA12+BE12) -> 550.34329 | AJ12: =_xlfn.IFS(AI12>360,AI12-360,AI12<360,AI12) -> 190.34329 | AK12: =_xlfn.IFS(AJ12>270,AJ12-270,AJ12<90,90-AJ12,AJ12<180,AJ12-90,AJ12>180,270-AJ12) -> 79.656707 | AL12: =_xlfn.IFS(AND(AF12="loxo",W12>600),(SIN(RADIANS(U12))*BC12),AF12="ortho",(SIN(RADIANS(AC12))*BC12),AND(AF12="loxo",W12<600),(SIN(RADIANS(Z12))*BC12)) -> 13.306485 | AM12: =_xlfn.IFS(AND(AF12="loxo",W12>600),SQRT((BC12^2)-((SIN(RADIANS(U12))*BC12)^2)),AF12="ortho",SQRT((BC12^2)-((SIN(RADIANS(AC12))*BC12)^2)),AND(AF12="loxo",W12<600),SQRT((BC12^2)-((SIN(RADIANS(Z12))*BC12)^2))) -> 7.7891756 | AN12: =(SIN(RADIANS(AK12))*BF12) -> 0 | AO12: =SQRT((BF12^2)-((SIN(RADIANS(AK12))*BF12)^2)) -> 0 | AP12: =_xlfn.IFS(AND(AF12="loxo",W12<600),AA12,AND(AF12="loxo",W12>600),V12,AND(B12>60,AF12="loxo"),V12,AF12="ortho",AD12) -> 300.34329 | AQ12: =_xlfn.IFS(AP12>270,AM12,AP12<90,AM12,AP12<270,AM12*-1,AP12>90,AM12*-1) -> 7.7891756 | AR12: =_xlfn.IFS(AJ12>270,AN12,AJ12<90,AN12,AJ12<270,AN12*-1,AJ12>90,AN12*-1) -> 0 | AS12: =_xlfn.IFS(AND(AP12>180,AP12<360),AL12*-1,AND(AP12<180,AP12>0),AL12) -> -13.306485 | AT12: =_xlfn.IFS(AJ12>180,AO12*-1,AJ12<180,AO12,AJ12=0,AO12,AJ12=360,AO12) -> 0 | AU12: =(AQ12+AR12) -> 7.7891756 | AV12: =(AS12+AT12) -> -13.306485 | AW12: =DEGREES(ATAN(AV12/AU12)) -> -59.656707 | AX12: =_xlfn.IFS((DEGREES(ATAN(AV12/AU12)))<0,(DEGREES(ATAN(AV12/AU12)))*-1,DEGREES(ATAN(AV12/AU12))>0,(DEGREES(ATAN(AV12/AU12)))) -> 59.656707 | AY12: =_xlfn.IFS(AND(AF12="loxo",W12<600),BH12-AA12,AND(AF12="loxo",W12>600),BH12-V12,AND(B12>60,AF12="loxo"),BH12-V12,AF12="ortho",BH12-AD12) -> 0 | AZ12: 1 | BA12: =_xlfn.IFS(AZ12=1,Références!$B$80,AZ12=2,Références!$B$81,AZ12=3,Références!$B$82,AZ12=4,Références!$B$83,AZ12=5,Références!$B$84,AZ12=6,Références!$B$85,AZ12=7,Références!$B$86,AZ12=8,Références!$B$87,AZ12=9,Références!$B$88,AZ12=10,Références!$B$89,AZ12=11,Références!$B$90,AZ12=12,Références!$B$91) -> 1 | BB12: Beam | BC12: {=_xlfn.IFS(BB12="Beam", -0.0000000868778*BA12^5-0.0000459619*BA12^4+0.00347366*BA12^3-0.0884721*BA12^2+0.510463*BA12+14.9932,BB12="Following",0.000652681*BA12^3-0.0356523*BA12^2+0.29714*BA12+15.2038,BB12="Head",-0.00000154449*BA12^5+0.0000797696*BA12^4+0.000148965*BA12^3-0.0570448*BA12^2+0.244115*BA12+15.0029)} -> 15.418619 | BE12: 250 | BF12: 0 | BG12: =IF(BD12=0,SQRT((AU12^2)+(AV12^2)),SQRT((AU12^2)+(AV12^2))) -> 15.418619 | BH12: =_xlfn.IFS(AND(AV12>0,AU12>0),AX12,AND(AV12<0,AU12>0),360-AX12,AND(AV12>0,AU12<0),180-AX12,AND(AV12<0,AU12<0),180+AX12) -> 300.34329 | BI12: =(AP12-AY12) -> 300.34329 | BK12: =IF(BJ12=0,(AH12/BG12)*60,((AH12/BG12)*60)+BJ12) -> 20.759578 | BL12: =IF(G12="W",(ROUND((E12/15),0))*-1,(ROUND((E12/15),0))) -> -5 | BM12: =IF(BL12<0,((BL12*-1)/24),BL12/24) -> 0.20833333 | BN12: =IF(BJ12=0,BK12/(60*24),(BK12/(60*24))+(BJ12/(60*24))) -> 0.014416374 | BO12: =BO11+BN11 -> 44927.513 | BP12: =BP11+BN11 -> 44927.721
A13: 10 | B13: 2 | C13: 39.592 | D13: S | E13: 80 | F13: 1.551 | G13: W | H13: =(C13/60)+B13 -> 2.6598667 | I13: =RADIANS(H13) -> 0.046423431 | J13: =IF(D13="S",I13,I13*-1) -> 0.046423431 | K13: =(F13/60)+E13 -> 80.02585 | L13: =RADIANS(K13) -> 1.3967146 | M13: =7915.704468*LOG((TAN((RADIANS(45)+(I13/2)))))-23.268932*SIN(I13)-0.0525*(SIN(I13)^3)*(SIN(I13)^5) -> 158.56952 | N13: {=_xlfn.IFS(D13<>OFFSET(D13,1,),M13+OFFSET(M13,1,),OFFSET(M13,1,)-M13<0,(OFFSET(M13,1,)-M13)*-1,OFFSET(M13,1,)-M13>0,OFFSET(M13,1,)-M13)} -> 0.14417585 | O13: =(DEGREES(IF(D13=D14,I14-I13,I13+I14)))*60 -> -0.145 | P13: =_xlfn.IFS(AND(D14="N",D13<>D14,O13>0),O13*-1,AND(D14="N",D13=D14,O13<0),O13*-1,AND(D14="S",D13=D14,O13>0),O13,AND(D14="S",D13<>D14,O13<0),O13,AND(D14="N",D14<>D13,O13<0),O13*-1,AND(D14="N",D14=D13,O13<0),O13*-1,AND(D14="S",D13=D14,O13<0),O13,AND(D14="N",D14=D13,O13>0),O13*-1) -> -0.145 | Q13: =(DEGREES(_xlfn.IFS(G13=G14,L14-L13,(L13+L14)>(RADIANS(180)),RADIANS(360)-(L13+L14),G13<>G14,L13+L14)))*60 -> 4.673 | R13: {=_xlfn.IFS(AND(G14="E",G14<>G13,L13+L14>(RADIANS(180)),Q13<0),Q13*-1,AND(G14="W",G14<>G13,L14+L13>(RADIANS(180)),Q13<0),Q13,AND(G14="E",G14<>G13,L14+L13>(RADIANS(180)),Q13>0),Q13,AND(G14="W",G14<>G13,L14+L13>(RADIANS(180)),Q13>0),Q13*-1,AND(G14="W",G14=G13,Q13<0),Q13,AND(G14="W",G14=G13,Q13>0),Q13,AND(G14="E",G14=G13,Q13<0),Q13*-1,AND(G14="E",G14=G13,Q13>0),Q13*-1,AND(G14="E",G14<>G13,Q13>0),Q13*-1,AND(G14="E",G14<>G13,Q13<0),Q13,AND(G14="W",G14<>G13,Q13>0),Q13,AND(G14="W",G14<>G13,Q13<0),Q13*-1)} -> 4.673 | S13: =IF(O13<0,-1*O13,O13) -> 0.145 | T13: =IF(Q13<0,-1*Q13,Q13) -> 4.673 | U13: =DEGREES(ATAN(T13/N13)) -> 88.232817 | V13: =_xlfn.IFS(AND(P13>0,R13>0),180+U13,AND(P13<0,R13>0),360-U13,AND(P13>0,R13<0),180-U13,AND(P13<0,R13<0),U13) -> 271.76718 | W13: =(S13/(COS(RADIANS(U13)))) -> 4.7019486 | X13: =AVERAGE(H13,H14) -> 2.6586583 | Y13: =(T13*(COS(RADIANS(X13)))) -> 4.66797 | Z13: =DEGREES(ATAN(Y13/S13)) -> 88.220807 | AA13: =_xlfn.IFS(AND(P13>0,R13>0),180+Z13,AND(P13<0,R13>0),360-Z13,AND(P13>0,R13<0),180-Z13,AND(P13<0,R13<0),Z13) -> 271.77919 | AB13: =(S13/(COS(RADIANS(Z13)))) -> 4.6702215 | AC13: =DEGREES(ACOS(((SIN(J14)-(SIN(J13))*(COS(RADIANS(AE13/60))))/(COS(J13)*SIN(RADIANS(AE13/60)))))) -> 91.777386 | AD13: =_xlfn.IFS(AND(P13>0,R13<0),180-AC13,AND(P13>0,R13>0),180+AC13,AND(P13<0,R13>0),180+AC13,AND(P13<0,R13<0),180-AC13) -> 271.77739 | AE13: =(DEGREES(ACOS((SIN(J13)*SIN(J14)+(COS(J13)*COS(J14)*COS(RADIANS(T13/60)))))))*60 -> 4.6702215 | AF13: loxo | AG13: {=_xlfn.IFS(AH13=W13,V13,AH13=AB13,AA13,AH13=AE13,AD13)} -> 271.77919 | AH13: =_xlfn.IFS(AND(AF13="loxo",W13<600),AB13,AND(AF13="loxo",W13>600),W13,AND(B13>60,AF13="loxo"),W13,AF13="ortho",AE13) -> 4.6702215 | AI13: =_xlfn.IFS(AND(AF13="loxo",W13>600),V13+BE13,AF13="ortho",AD13+BE13,AND(AF13="loxo",W13<600),AA13+BE13) -> 521.77919 | AJ13: =_xlfn.IFS(AI13>360,AI13-360,AI13<360,AI13) -> 161.77919 | AK13: =_xlfn.IFS(AJ13>270,AJ13-270,AJ13<90,90-AJ13,AJ13<180,AJ13-90,AJ13>180,270-AJ13) -> 71.779193 | AL13: =_xlfn.IFS(AND(AF13="loxo",W13>600),(SIN(RADIANS(U13))*BC13),AF13="ortho",(SIN(RADIANS(AC13))*BC13),AND(AF13="loxo",W13<600),(SIN(RADIANS(Z13))*BC13)) -> 15.411185 | AM13: =_xlfn.IFS(AND(AF13="loxo",W13>600),SQRT((BC13^2)-((SIN(RADIANS(U13))*BC13)^2)),AF13="ortho",SQRT((BC13^2)-((SIN(RADIANS(AC13))*BC13)^2)),AND(AF13="loxo",W13<600),SQRT((BC13^2)-((SIN(RADIANS(Z13))*BC13)^2))) -> 0.47871384 | AN13: =(SIN(RADIANS(AK13))*BF13) -> 0 | AO13: =SQRT((BF13^2)-((SIN(RADIANS(AK13))*BF13)^2)) -> 0 | AP13: =_xlfn.IFS(AND(AF13="loxo",W13<600),AA13,AND(AF13="loxo",W13>600),V13,AND(B13>60,AF13="loxo"),V13,AF13="ortho",AD13) -> 271.77919 | AQ13: =_xlfn.IFS(AP13>270,AM13,AP13<90,AM13,AP13<270,AM13*-1,AP13>90,AM13*-1) -> 0.47871384 | AR13: =_xlfn.IFS(AJ13>270,AN13,AJ13<90,AN13,AJ13<270,AN13*-1,AJ13>90,AN13*-1) -> 0 | AS13: =_xlfn.IFS(AND(AP13>180,AP13<360),AL13*-1,AND(AP13<180,AP13>0),AL13) -> -15.411185 | AT13: =_xlfn.IFS(AJ13>180,AO13*-1,AJ13<180,AO13,AJ13=0,AO13,AJ13=360,AO13) -> 0 | AU13: =(AQ13+AR13) -> 0.47871384 | AV13: =(AS13+AT13) -> -15.411185 | AW13: =DEGREES(ATAN(AV13/AU13)) -> -88.220807 | AX13: =_xlfn.IFS((DEGREES(ATAN(AV13/AU13)))<0,(DEGREES(ATAN(AV13/AU13)))*-1,DEGREES(ATAN(AV13/AU13))>0,(DEGREES(ATAN(AV13/AU13)))) -> 88.220807 | AY13: =_xlfn.IFS(AND(AF13="loxo",W13<600),BH13-AA13,AND(AF13="loxo",W13>600),BH13-V13,AND(B13>60,AF13="loxo"),BH13-V13,AF13="ortho",BH13-AD13) -> 2.2737368e-13 | AZ13: 1 | BA13: =_xlfn.IFS(AZ13=1,Références!$B$80,AZ13=2,Références!$B$81,AZ13=3,Références!$B$82,AZ13=4,Références!$B$83,AZ13=5,Références!$B$84,AZ13=6,Références!$B$85,AZ13=7,Références!$B$86,AZ13=8,Références!$B$87,AZ13=9,Références!$B$88,AZ13=10,Références!$B$89,AZ13=11,Références!$B$90,AZ13=12,Références!$B$91) -> 1 | BB13: Beam | BC13: {=_xlfn.IFS(BB13="Beam", -0.0000000868778*BA13^5-0.0000459619*BA13^4+0.00347366*BA13^3-0.0884721*BA13^2+0.510463*BA13+14.9932,BB13="Following",0.000652681*BA13^3-0.0356523*BA13^2+0.29714*BA13+15.2038,BB13="Head",-0.00000154449*BA13^5+0.0000797696*BA13^4+0.000148965*BA13^3-0.0570448*BA13^2+0.244115*BA13+15.0029)} -> 15.418619 | BE13: 250 | BF13: 0 | BG13: =IF(BD13=0,SQRT((AU13^2)+(AV13^2)),SQRT((AU13^2)+(AV13^2))) -> 15.418619 | BH13: =_xlfn.IFS(AND(AV13>0,AU13>0),AX13,AND(AV13<0,AU13>0),360-AX13,AND(AV13>0,AU13<0),180-AX13,AND(AV13<0,AU13<0),180+AX13) -> 271.77919 | BI13: =(AP13-AY13) -> 271.77919 | BK13: =IF(BJ13=0,(AH13/BG13)*60,((AH13/BG13)*60)+BJ13) -> 18.173696 | BL13: =IF(G13="W",(ROUND((E13/15),0))*-1,(ROUND((E13/15),0))) -> -5 | BM13: =IF(BL13<0,((BL13*-1)/24),BL13/24) -> 0.20833333 | BN13: =IF(BJ13=0,BK13/(60*24),(BK13/(60*24))+(BJ13/(60*24))) -> 0.012620622 | BO13: =BO12+BN12 -> 44927.527 | BP13: =BP12+BN12 -> 44927.736
