Workbook
Name forme: '[1]sous forme'!$B$2:$B$19
Name L_Herb: TRANSPOSE(_xlfn._xlws.FILTER(HERBICIDES!Liste_herbicides,NOT(ISERROR(SEARCH(Calendrier[[#This Row],[Saisie du produit utilisé sur la parcelle]],Herbicides[Identifiant_Ligne])))))
Name Liste_herbicides: HERBICIDES!$A$21:$A$55

Sheet Calendrier de traitement 2020 
A1: Calendrier de traitement
A3: Date | B3: Saisie du produit utilisé sur la parcelle | C3: Nom commercial | D3: Substance active | E3: Cible Mildiou / Oidium /Autres /Herbicide | F3: Dose utilisée① l ou kg /ha | G3: Dose Homologuée② l ou kg /ha | H3: Calcul IFT③ | I3: Bio-contrôle④ OUI/NON | J3: CMR⑤ OUI/NON | K3: Fin d'utilisation | L3: ZNT | M3: DSR | N3: Nb d'application
B4: Spotlight | C4: 2010415_Postlevée_Gibson, Envision 450 | D4: {=IF(Calendrier[[#This Row],[Nom commercial]]="","",(_xlfn.XLOOKUP(C4,HERBICIDES!Liste_herbicides,Herbicides[Substance active],0,0,1)))} -> Glyphosate acide | E4: {=IF(Calendrier[[#This Row],[Nom commercial]]="","",(_xlfn.XLOOKUP(Calendrier[[#This Row],[Nom commercial]],HERBICIDES!Liste_herbicides,Herbicides[Famille / Cible],0,0,1)))} -> Postlevée | F4: 0.5 | G4: {=IF(Calendrier[[#This Row],[Nom commercial]]="","",(_xlfn.XLOOKUP(Calendrier[[#This Row],[Nom commercial]],HERBICIDES!Liste_herbicides,Herbicides[Dose/ha kg ou L],0,0,1)))} -> 3,2 à 6,4 | H4: =Calendrier[[#This Row],[Dose utilisée① l ou kg /ha]]/Calendrier[[#This Row],[Dose Homologuée② l ou kg /ha]] -> #VALUE! | I4: {=IF(Calendrier[[#This Row],[Nom commercial]]="","",(_xlfn.XLOOKUP(Calendrier[[#This Row],[Nom commercial]],HERBICIDES!Liste_herbicides,Herbicides[Liste biocontrôle],0,0,1)))} -> 0 | J4: {=IF(Calendrier[[#This Row],[Nom commercial]]="","",(_xlfn.XLOOKUP(Calendrier[[#This Row],[Nom commercial]],HERBICIDES!Liste_herbicides,Herbicides[Produit CMR2],0,0,1)))} | K4: {=IF(Calendrier[[#This Row],[Nom commercial]]="","",(_xlfn.XLOOKUP(Calendrier[[#This Row],[Nom commercial]],HERBICIDES!Liste_herbicides,Herbicides[Date de fin d''utilisation],0,0,1)))} -> 0 | L4: {=IF(Calendrier[[#This Row],[Nom commercial]]="","",(_xlfn.XLOOKUP(Calendrier[[#This Row],[Nom commercial]],HERBICIDES!Liste_herbicides,Herbicides[ZNT eau],0,0,1)))} -> 5 | M4: {=IF(Calendrier[[#This Row],[Nom commercial]]="","",(_xlfn.XLOOKUP(Calendrier[[#This Row],[Nom commercial]],HERBICIDES!Liste_herbicides,Herbicides[DS Riverains],0,0,1)))} -> 10 | N4: {=IF(Calendrier[[#This Row],[Nom commercial]]="","",(_xlfn.XLOOKUP(Calendrier[[#This Row],[Nom commercial]],HERBICIDES!Liste_herbicides,Herbicides[Nb d''appli maxi],0,0,1)))} -> 0 | R4: {=IFERROR(TRANSPOSE(_xlfn._xlws.FILTER(HERBICIDES!Liste_herbicides,NOT(ISERROR(SEARCH(Calendrier[[#This Row],[Saisie du produit utilisé sur la parcelle]],Herbicides[Identifiant_Ligne]))))),"")} -> 2000327_Action Contact_Spotlight Plus**, Shark** | S4: 2000327_Epamprage_Spotlight Plus, Shark
B5: spo | C5: 2000327_Epamprage_Spotlight Plus, Shark | D5: {=IF(Calendrier[[#This Row],[Nom commercial]]="","",(_xlfn.XLOOKUP(C5,HERBICIDES!Liste_herbicides,Herbicides[Substance active],0,0,1)))} -> Carfentrazone ethyle | E5: {=IF(Calendrier[[#This Row],[Nom commercial]]="","",(_xlfn.XLOOKUP(Calendrier[[#This Row],[Nom commercial]],HERBICIDES!Liste_herbicides,Herbicides[Famille / Cible],0,0,1)))} -> Epamprage | F5: 0.1 | G5: {=IF(Calendrier[[#This Row],[Nom commercial]]="","",(_xlfn.XLOOKUP(Calendrier[[#This Row],[Nom commercial]],HERBICIDES!Liste_herbicides,Herbicides[Dose/ha kg ou L],0,0,1)))} -> 0.3 | H5: =Calendrier[[#This Row],[Dose utilisée① l ou kg /ha]]/Calendrier[[#This Row],[Dose Homologuée② l ou kg /ha]] -> 0.33333333 | I5: {=IF(Calendrier[[#This Row],[Nom commercial]]="","",(_xlfn.XLOOKUP(Calendrier[[#This Row],[Nom commercial]],HERBICIDES!Liste_herbicides,Herbicides[Liste biocontrôle],0,0,1)))} -> 0 | J5: {=IF(Calendrier[[#This Row],[Nom commercial]]="","",(_xlfn.XLOOKUP(Calendrier[[#This Row],[Nom commercial]],HERBICIDES!Liste_herbicides,Herbicides[Produit CMR2],0,0,1)))} | K5: {=IF(Calendrier[[#This Row],[Saisie du produit utilisé sur la parcelle]]="","",(_xlfn.XLOOKUP(Calendrier[[#This Row],[Saisie du produit utilisé sur la parcelle]],HERBICIDES!Liste_herbicides,Herbicides[Date de fin d''utilisation],0,0,1)))} -> 0 | L5: {=IF(Calendrier[[#This Row],[Nom commercial]]="","",(_xlfn.XLOOKUP(Calendrier[[#This Row],[Nom commercial]],HERBICIDES!Liste_herbicides,Herbicides[ZNT eau],0,0,1)))} -> 5 | M5: {=IF(Calendrier[[#This Row],[Nom commercial]]="","",(_xlfn.XLOOKUP(Calendrier[[#This Row],[Nom commercial]],HERBICIDES!Liste_herbicides,Herbicides[DS Riverains],0,0,1)))} -> 10 | N5: {=IF(Calendrier[[#This Row],[Nom commercial]]="","",(_xlfn.XLOOKUP(Calendrier[[#This Row],[Nom commercial]],HERBICIDES!Liste_herbicides,Herbicides[Nb d''appli maxi],0,0,1)))} -> 2 | R5: {=IFERROR(TRANSPOSE(_xlfn._xlws.FILTER(HERBICIDES!Liste_herbicides,NOT(ISERROR(SEARCH(Calendrier[[#This Row],[Saisie du produit utilisé sur la parcelle]],Herbicides[Identifiant_Ligne]))))),"")} -> 2000327_Action Contact_Spotlight Plus**, Shark** | S5: 2000327_Epamprage_Spotlight Plus, Shark
B6: gibson | C6: 2010415_Postlevée_Gibson, Envision 450 | D6: =IF(C6="","",(_xlfn.XLOOKUP(C6,HERBICIDES!$A$21:$A$55,HERBICIDES!$D$21:$D$55,0,0,1))) -> Glyphosate acide | E6: =IF(C6="","",(_xlfn.XLOOKUP(C6,HERBICIDES!$A$21:$A$55,HERBICIDES!$E$21:$E$55,0,0,1))) -> Postlevée | G6: =IF(C6="","",(_xlfn.XLOOKUP(C6,HERBICIDES!$A$21:$A$55,HERBICIDES!$N$21:$N$55,0,0,1))) -> 3,2 à 6,4 | H6: =Calendrier[[#This Row],[Dose utilisée① l ou kg /ha]]/Calendrier[[#This Row],[Dose Homologuée② l ou kg /ha]] -> #VALUE! | I6: =IF(C6="","",(_xlfn.XLOOKUP(C6,HERBICIDES!$A$21:$A$55,HERBICIDES!$S$21:$S$55,0,0,1))) -> 0 | J6: =IF(C6="","",(_xlfn.XLOOKUP(C6,HERBICIDES!$A$21:$A$55,HERBICIDES!$CD$21:$CD$55,0,0,1))) | K6: =IF(C6="","",(_xlfn.XLOOKUP(C6,HERBICIDES!$A$21:$A$55,HERBICIDES!$I$21:$I$55,0,0,1))) -> 0 | L6: =IF(C6="","",(_xlfn.XLOOKUP(C6,HERBICIDES!$A$21:$A$55,HERBICIDES!$BS$21:$BS$55,0,0,1))) -> 5 | M6: =IF(C6="","",(_xlfn.XLOOKUP(C6,HERBICIDES!$A$21:$A$55,HERBICIDES!$BU$21:$BU$55,0,0,1))) -> 10 | N6: =IF(C6="","",(_xlfn.XLOOKUP(C6,HERBICIDES!$A$21:$A$55,HERBICIDES!$BZ$21:$BZ$55,0,0,1))) -> 0 | R6: {=IFERROR(TRANSPOSE(_xlfn._xlws.FILTER(HERBICIDES!Liste_herbicides,NOT(ISERROR(SEARCH(Calendrier[[#This Row],[Saisie du produit utilisé sur la parcelle]],Herbicides[Identifiant_Ligne]))))),"")} -> 2010415_Postlevée_Gibson, Envision 450
B7: gly | C7: 2080113_Postlevée_Glyfos Dakar | D7: =IF(C7="","",(_xlfn.XLOOKUP(C7,HERBICIDES!$A$21:$A$55,HERBICIDES!$D$21:$D$55,0,0,1))) -> Glyphosate acide | E7: =IF(C7="","",(_xlfn.XLOOKUP(C7,HERBICIDES!$A$21:$A$55,HERBICIDES!$E$21:$E$55,0,0,1))) -> Postlevée | G7: =IF(C7="","",(_xlfn.XLOOKUP(C7,HERBICIDES!$A$21:$A$55,HERBICIDES!$N$21:$N$55,0,0,1))) -> 2 à 4 | H7: =Calendrier[[#This Row],[Dose utilisée① l ou kg /ha]]/Calendrier[[#This Row],[Dose Homologuée② l ou kg /ha]] -> #VALUE! | I7: =IF(C7="","",(_xlfn.XLOOKUP(C7,HERBICIDES!$A$21:$A$55,HERBICIDES!$S$21:$S$55,0,0,1))) -> 0 | J7: =IF(C7="","",(_xlfn.XLOOKUP(C7,HERBICIDES!$A$21:$A$55,HERBICIDES!$CD$21:$CD$55,0,0,1))) | K7: =IF(C7="","",(_xlfn.XLOOKUP(C7,HERBICIDES!$A$21:$A$55,HERBICIDES!$I$21:$I$55,0,0,1))) -> 0 | L7: =IF(C7="","",(_xlfn.XLOOKUP(C7,HERBICIDES!$A$21:$A$55,HERBICIDES!$BS$21:$BS$55,0,0,1))) -> 5 | M7: =IF(C7="","",(_xlfn.XLOOKUP(C7,HERBICIDES!$A$21:$A$55,HERBICIDES!$BU$21:$BU$55,0,0,1))) -> 10 | N7: =IF(C7="","",(_xlfn.XLOOKUP(C7,HERBICIDES!$A$21:$A$55,HERBICIDES!$BZ$21:$BZ$55,0,0,1))) -> 1 | R7: {=IFERROR(TRANSPOSE(_xlfn._xlws.FILTER(HERBICIDES!Liste_herbicides,NOT(ISERROR(SEARCH(Calendrier[[#This Row],[Saisie du produit utilisé sur la parcelle]],Herbicides[Identifiant_Ligne]))))),"")} -> 2080113_Postlevée_Glyfos Dakar
D8: =IF(C8="","",(_xlfn.XLOOKUP(C8,HERBICIDES!$A$21:$A$55,HERBICIDES!$D$21:$D$55,0,0,1))) | E8: =IF(C8="","",(_xlfn.XLOOKUP(C8,HERBICIDES!$A$21:$A$55,HERBICIDES!$E$21:$E$55,0,0,1))) | G8: =IF(C8="","",(_xlfn.XLOOKUP(C8,HERBICIDES!$A$21:$A$55,HERBICIDES!$N$21:$N$55,0,0,1))) | I8: =IF(C8="","",(_xlfn.XLOOKUP(C8,HERBICIDES!$A$21:$A$55,HERBICIDES!$S$21:$S$55,0,0,1))) | J8: =IF(C8="","",(_xlfn.XLOOKUP(C8,HERBICIDES!$A$21:$A$55,HERBICIDES!$CD$21:$CD$55,0,0,1))) | K8: =IF(C8="","",(_xlfn.XLOOKUP(C8,HERBICIDES!$A$21:$A$55,HERBICIDES!$I$21:$I$55,0,0,1))) | L8: =IF(C8="","",(_xlfn.XLOOKUP(C8,HERBICIDES!$A$21:$A$55,HERBICIDES!$BS$21:$BS$55,0,0,1))) | M8: =IF(C8="","",(_xlfn.XLOOKUP(C8,HERBICIDES!$A$21:$A$55,HERBICIDES!$BU$21:$BU$55,0,0,1))) | N8: =IF(C8="","",(_xlfn.XLOOKUP(C8,HERBICIDES!$A$21:$A$55,HERBICIDES!$BZ$21:$BZ$55,0,0,1))) | R8: {=IFERROR(TRANSPOSE(_xlfn._xlws.FILTER(HERBICIDES!Liste_herbicides,NOT(ISERROR(SEARCH(Calendrier[[#This Row],[Saisie du produit utilisé sur la parcelle]],Herbicides[Identifiant_Ligne]))))),"")}
D9: =IF(C9="","",(_xlfn.XLOOKUP(C9,HERBICIDES!$A$21:$A$55,HERBICIDES!$D$21:$D$55,0,0,1))) | E9: =IF(C9="","",(_xlfn.XLOOKUP(C9,HERBICIDES!$A$21:$A$55,HERBICIDES!$E$21:$E$55,0,0,1))) | G9: =IF(C9="","",(_xlfn.XLOOKUP(C9,HERBICIDES!$A$21:$A$55,HERBICIDES!$N$21:$N$55,0,0,1))) | I9: =IF(C9="","",(_xlfn.XLOOKUP(C9,HERBICIDES!$A$21:$A$55,HERBICIDES!$S$21:$S$55,0,0,1))) | J9: =IF(C9="","",(_xlfn.XLOOKUP(C9,HERBICIDES!$A$21:$A$55,HERBICIDES!$CD$21:$CD$55,0,0,1))) | K9: =IF(C9="","",(_xlfn.XLOOKUP(C9,HERBICIDES!$A$21:$A$55,HERBICIDES!$I$21:$I$55,0,0,1))) | L9: =IF(C9="","",(_xlfn.XLOOKUP(C9,HERBICIDES!$A$21:$A$55,HERBICIDES!$BS$21:$BS$55,0,0,1))) | M9: =IF(C9="","",(_xlfn.XLOOKUP(C9,HERBICIDES!$A$21:$A$55,HERBICIDES!$BU$21:$BU$55,0,0,1))) | N9: =IF(C9="","",(_xlfn.XLOOKUP(C9,HERBICIDES!$A$21:$A$55,HERBICIDES!$BZ$21:$BZ$55,0,0,1))) | R9: {=IFERROR(TRANSPOSE(_xlfn._xlws.FILTER(HERBICIDES!Liste_herbicides,NOT(ISERROR(SEARCH(Calendrier[[#This Row],[Saisie du produit utilisé sur la parcelle]],Herbicides[Identifiant_Ligne]))))),"")}
D10: =IF(C10="","",(_xlfn.XLOOKUP(C10,HERBICIDES!$A$21:$A$55,HERBICIDES!$D$21:$D$55,0,0,1))) | E10: =IF(C10="","",(_xlfn.XLOOKUP(C10,HERBICIDES!$A$21:$A$55,HERBICIDES!$E$21:$E$55,0,0,1))) | G10: =IF(C10="","",(_xlfn.XLOOKUP(C10,HERBICIDES!$A$21:$A$55,HERBICIDES!$N$21:$N$55,0,0,1))) | I10: =IF(C10="","",(_xlfn.XLOOKUP(C10,HERBICIDES!$A$21:$A$55,HERBICIDES!$S$21:$S$55,0,0,1))) | J10: =IF(C10="","",(_xlfn.XLOOKUP(C10,HERBICIDES!$A$21:$A$55,HERBICIDES!$CD$21:$CD$55,0,0,1))) | K10: =IF(C10="","",(_xlfn.XLOOKUP(C10,HERBICIDES!$A$21:$A$55,HERBICIDES!$I$21:$I$55,0,0,1))) | L10: =IF(C10="","",(_xlfn.XLOOKUP(C10,HERBICIDES!$A$21:$A$55,HERBICIDES!$BS$21:$BS$55,0,0,1))) | M10: =IF(C10="","",(_xlfn.XLOOKUP(C10,HERBICIDES!$A$21:$A$55,HERBICIDES!$BU$21:$BU$55,0,0,1))) | N10: =IF(C10="","",(_xlfn.XLOOKUP(C10,HERBICIDES!$A$21:$A$55,HERBICIDES!$BZ$21:$BZ$55,0,0,1))) | R10: {=IFERROR(TRANSPOSE(_xlfn._xlws.FILTER(HERBICIDES!Liste_herbicides,NOT(ISERROR(SEARCH(Calendrier[[#This Row],[Saisie du produit utilisé sur la parcelle]],Herbicides[Identifiant_Ligne]))))),"")}
D11: =IF(C11="","",(_xlfn.XLOOKUP(C11,HERBICIDES!$A$21:$A$55,HERBICIDES!$D$21:$D$55,0,0,1))) | E11: =IF(C11="","",(_xlfn.XLOOKUP(C11,HERBICIDES!$A$21:$A$55,HERBICIDES!$E$21:$E$55,0,0,1))) | G11: =IF(C11="","",(_xlfn.XLOOKUP(C11,HERBICIDES!$A$21:$A$55,HERBICIDES!$N$21:$N$55,0,0,1))) | I11: =IF(C11="","",(_xlfn.XLOOKUP(C11,HERBICIDES!$A$21:$A$55,HERBICIDES!$S$21:$S$55,0,0,1))) | J11: =IF(C11="","",(_xlfn.XLOOKUP(C11,HERBICIDES!$A$21:$A$55,HERBICIDES!$CD$21:$CD$55,0,0,1))) | K11: =IF(C11="","",(_xlfn.XLOOKUP(C11,HERBICIDES!$A$21:$A$55,HERBICIDES!$I$21:$I$55,0,0,1))) | L11: =IF(C11="","",(_xlfn.XLOOKUP(C11,HERBICIDES!$A$21:$A$55,HERBICIDES!$BS$21:$BS$55,0,0,1))) | M11: =IF(C11="","",(_xlfn.XLOOKUP(C11,HERBICIDES!$A$21:$A$55,HERBICIDES!$BU$21:$BU$55,0,0,1))) | N11: =IF(C11="","",(_xlfn.XLOOKUP(C11,HERBICIDES!$A$21:$A$55,HERBICIDES!$BZ$21:$BZ$55,0,0,1))) | R11: {=IFERROR(TRANSPOSE(_xlfn._xlws.FILTER(HERBICIDES!Liste_herbicides,NOT(ISERROR(SEARCH(Calendrier[[#This Row],[Saisie du produit utilisé sur la parcelle]],Herbicides[Identifiant_Ligne]))))),"")}
D12: =IF(C12="","",(_xlfn.XLOOKUP(C12,HERBICIDES!$A$21:$A$55,HERBICIDES!$D$21:$D$55,0,0,1))) | E12: =IF(C12="","",(_xlfn.XLOOKUP(C12,HERBICIDES!$A$21:$A$55,HERBICIDES!$E$21:$E$55,0,0,1))) | G12: =IF(C12="","",(_xlfn.XLOOKUP(C12,HERBICIDES!$A$21:$A$55,HERBICIDES!$N$21:$N$55,0,0,1))) | I12: =IF(C12="","",(_xlfn.XLOOKUP(C12,HERBICIDES!$A$21:$A$55,HERBICIDES!$S$21:$S$55,0,0,1))) | J12: =IF(C12="","",(_xlfn.XLOOKUP(C12,HERBICIDES!$A$21:$A$55,HERBICIDES!$CD$21:$CD$55,0,0,1))) | K12: =IF(C12="","",(_xlfn.XLOOKUP(C12,HERBICIDES!$A$21:$A$55,HERBICIDES!$I$21:$I$55,0,0,1))) | L12: =IF(C12="","",(_xlfn.XLOOKUP(C12,HERBICIDES!$A$21:$A$55,HERBICIDES!$BS$21:$BS$55,0,0,1))) | M12: =IF(C12="","",(_xlfn.XLOOKUP(C12,HERBICIDES!$A$21:$A$55,HERBICIDES!$BU$21:$BU$55,0,0,1))) | N12: =IF(C12="","",(_xlfn.XLOOKUP(C12,HERBICIDES!$A$21:$A$55,HERBICIDES!$BZ$21:$BZ$55,0,0,1))) | R12: {=IFERROR(TRANSPOSE(_xlfn._xlws.FILTER(HERBICIDES!Liste_herbicides,NOT(ISERROR(SEARCH(Calendrier[[#This Row],[Saisie du produit utilisé sur la parcelle]],Herbicides[Identifiant_Ligne]))))),"")}
D13: =IF(C13="","",(_xlfn.XLOOKUP(C13,HERBICIDES!$A$21:$A$55,HERBICIDES!$D$21:$D$55,0,0,1))) | E13: =IF(C13="","",(_xlfn.XLOOKUP(C13,HERBICIDES!$A$21:$A$55,HERBICIDES!$E$21:$E$55,0,0,1))) | G13: =IF(C13="","",(_xlfn.XLOOKUP(C13,HERBICIDES!$A$21:$A$55,HERBICIDES!$N$21:$N$55,0,0,1))) | I13: =IF(C13="","",(_xlfn.XLOOKUP(C13,HERBICIDES!$A$21:$A$55,HERBICIDES!$S$21:$S$55,0,0,1))) | J13: =IF(C13="","",(_xlfn.XLOOKUP(C13,HERBICIDES!$A$21:$A$55,HERBICIDES!$CD$21:$CD$55,0,0,1))) | K13: =IF(C13="","",(_xlfn.XLOOKUP(C13,HERBICIDES!$A$21:$A$55,HERBICIDES!$I$21:$I$55,0,0,1))) | L13: =IF(C13="","",(_xlfn.XLOOKUP(C13,HERBICIDES!$A$21:$A$55,HERBICIDES!$BS$21:$BS$55,0,0,1))) | M13: =IF(C13="","",(_xlfn.XLOOKUP(C13,HERBICIDES!$A$21:$A$55,HERBICIDES!$BU$21:$BU$55,0,0,1))) | N13: =IF(C13="","",(_xlfn.XLOOKUP(C13,HERBICIDES!$A$21:$A$55,HERBICIDES!$BZ$21:$BZ$55,0,0,1))) | R13: {=IFERROR(TRANSPOSE(_xlfn._xlws.FILTER(HERBICIDES!Liste_herbicides,NOT(ISERROR(SEARCH(Calendrier[[#This Row],[Saisie du produit utilisé sur la parcelle]],Herbicides[Identifiant_Ligne]))))),"")}
D14: =IF(C14="","",(_xlfn.XLOOKUP(C14,HERBICIDES!$A$21:$A$55,HERBICIDES!$D$21:$D$55,0,0,1))) | E14: =IF(C14="","",(_xlfn.XLOOKUP(C14,HERBICIDES!$A$21:$A$55,HERBICIDES!$E$21:$E$55,0,0,1))) | G14: =IF(C14="","",(_xlfn.XLOOKUP(C14,HERBICIDES!$A$21:$A$55,HERBICIDES!$N$21:$N$55,0,0,1))) | I14: =IF(C14="","",(_xlfn.XLOOKUP(C14,HERBICIDES!$A$21:$A$55,HERBICIDES!$S$21:$S$55,0,0,1))) | J14: =IF(C14="","",(_xlfn.XLOOKUP(C14,HERBICIDES!$A$21:$A$55,HERBICIDES!$CD$21:$CD$55,0,0,1))) | K14: =IF(C14="","",(_xlfn.XLOOKUP(C14,HERBICIDES!$A$21:$A$55,HERBICIDES!$I$21:$I$55,0,0,1))) | L14: =IF(C14="","",(_xlfn.XLOOKUP(C14,HERBICIDES!$A$21:$A$55,HERBICIDES!$BS$21:$BS$55,0,0,1))) | M14: =IF(C14="","",(_xlfn.XLOOKUP(C14,HERBICIDES!$A$21:$A$55,HERBICIDES!$BU$21:$BU$55,0,0,1))) | N14: =IF(C14="","",(_xlfn.XLOOKUP(C14,HERBICIDES!$A$21:$A$55,HERBICIDES!$BZ$21:$BZ$55,0,0,1))) | R14: {=IFERROR(TRANSPOSE(_xlfn._xlws.FILTER(HERBICIDES!Liste_herbicides,NOT(ISERROR(SEARCH(Calendrier[[#This Row],[Saisie du produit utilisé sur la parcelle]],Herbicides[Identifiant_Ligne]))))),"")}
D15: =IF(C15="","",(_xlfn.XLOOKUP(C15,HERBICIDES!$A$21:$A$55,HERBICIDES!$D$21:$D$55,0,0,1))) | E15: =IF(C15="","",(_xlfn.XLOOKUP(C15,HERBICIDES!$A$21:$A$55,HERBICIDES!$E$21:$E$55,0,0,1))) | G15: =IF(C15="","",(_xlfn.XLOOKUP(C15,HERBICIDES!$A$21:$A$55,HERBICIDES!$N$21:$N$55,0,0,1))) | I15: =IF(C15="","",(_xlfn.XLOOKUP(C15,HERBICIDES!$A$21:$A$55,HERBICIDES!$S$21:$S$55,0,0,1))) | J15: =IF(C15="","",(_xlfn.XLOOKUP(C15,HERBICIDES!$A$21:$A$55,HERBICIDES!$CD$21:$CD$55,0,0,1))) | K15: =IF(C15="","",(_xlfn.XLOOKUP(C15,HERBICIDES!$A$21:$A$55,HERBICIDES!$I$21:$I$55,0,0,1))) | L15: =IF(C15="","",(_xlfn.XLOOKUP(C15,HERBICIDES!$A$21:$A$55,HERBICIDES!$BS$21:$BS$55,0,0,1))) | M15: =IF(C15="","",(_xlfn.XLOOKUP(C15,HERBICIDES!$A$21:$A$55,HERBICIDES!$BU$21:$BU$55,0,0,1))) | N15: =IF(C15="","",(_xlfn.XLOOKUP(C15,HERBICIDES!$A$21:$A$55,HERBICIDES!$BZ$21:$BZ$55,0,0,1))) | R15: {=IFERROR(TRANSPOSE(_xlfn._xlws.FILTER(HERBICIDES!Liste_herbicides,NOT(ISERROR(SEARCH(Calendrier[[#This Row],[Saisie du produit utilisé sur la parcelle]],Herbicides[Identifiant_Ligne]))))),"")}
D16: =IF(C16="","",(_xlfn.XLOOKUP(C16,HERBICIDES!$A$21:$A$55,HERBICIDES!$D$21:$D$55,0,0,1))) | E16: =IF(C16="","",(_xlfn.XLOOKUP(C16,HERBICIDES!$A$21:$A$55,HERBICIDES!$E$21:$E$55,0,0,1))) | G16: =IF(C16="","",(_xlfn.XLOOKUP(C16,HERBICIDES!$A$21:$A$55,HERBICIDES!$N$21:$N$55,0,0,1))) | I16: =IF(C16="","",(_xlfn.XLOOKUP(C16,HERBICIDES!$A$21:$A$55,HERBICIDES!$S$21:$S$55,0,0,1))) | J16: =IF(C16="","",(_xlfn.XLOOKUP(C16,HERBICIDES!$A$21:$A$55,HERBICIDES!$CD$21:$CD$55,0,0,1))) | K16: =IF(C16="","",(_xlfn.XLOOKUP(C16,HERBICIDES!$A$21:$A$55,HERBICIDES!$I$21:$I$55,0,0,1))) | L16: =IF(C16="","",(_xlfn.XLOOKUP(C16,HERBICIDES!$A$21:$A$55,HERBICIDES!$BS$21:$BS$55,0,0,1))) | M16: =IF(C16="","",(_xlfn.XLOOKUP(C16,HERBICIDES!$A$21:$A$55,HERBICIDES!$BU$21:$BU$55,0,0,1))) | N16: =IF(C16="","",(_xlfn.XLOOKUP(C16,HERBICIDES!$A$21:$A$55,HERBICIDES!$BZ$21:$BZ$55,0,0,1))) | R16: {=IFERROR(TRANSPOSE(_xlfn._xlws.FILTER(HERBICIDES!Liste_herbicides,NOT(ISERROR(SEARCH(Calendrier[[#This Row],[Saisie du produit utilisé sur la parcelle]],Herbicides[Identifiant_Ligne]))))),"")}
D17: =IF(C17="","",(_xlfn.XLOOKUP(C17,HERBICIDES!$A$21:$A$55,HERBICIDES!$D$21:$D$55,0,0,1))) | E17: =IF(C17="","",(_xlfn.XLOOKUP(C17,HERBICIDES!$A$21:$A$55,HERBICIDES!$E$21:$E$55,0,0,1))) | G17: =IF(C17="","",(_xlfn.XLOOKUP(C17,HERBICIDES!$A$21:$A$55,HERBICIDES!$N$21:$N$55,0,0,1))) | I17: =IF(C17="","",(_xlfn.XLOOKUP(C17,HERBICIDES!$A$21:$A$55,HERBICIDES!$S$21:$S$55,0,0,1))) | J17: =IF(C17="","",(_xlfn.XLOOKUP(C17,HERBICIDES!$A$21:$A$55,HERBICIDES!$CD$21:$CD$55,0,0,1))) | K17: =IF(C17="","",(_xlfn.XLOOKUP(C17,HERBICIDES!$A$21:$A$55,HERBICIDES!$I$21:$I$55,0,0,1))) | L17: =IF(C17="","",(_xlfn.XLOOKUP(C17,HERBICIDES!$A$21:$A$55,HERBICIDES!$BS$21:$BS$55,0,0,1))) | M17: =IF(C17="","",(_xlfn.XLOOKUP(C17,HERBICIDES!$A$21:$A$55,HERBICIDES!$BU$21:$BU$55,0,0,1))) | N17: =IF(C17="","",(_xlfn.XLOOKUP(C17,HERBICIDES!$A$21:$A$55,HERBICIDES!$BZ$21:$BZ$55,0,0,1))) | R17: {=IFERROR(TRANSPOSE(_xlfn._xlws.FILTER(HERBICIDES!Liste_herbicides,NOT(ISERROR(SEARCH(Calendrier[[#This Row],[Saisie du produit utilisé sur la parcelle]],Herbicides[Identifiant_Ligne]))))),"")}
D18: =IF(C18="","",(_xlfn.XLOOKUP(C18,HERBICIDES!$A$21:$A$55,HERBICIDES!$D$21:$D$55,0,0,1))) | E18: =IF(C18="","",(_xlfn.XLOOKUP(C18,HERBICIDES!$A$21:$A$55,HERBICIDES!$E$21:$E$55,0,0,1))) | G18: =IF(C18="","",(_xlfn.XLOOKUP(C18,HERBICIDES!$A$21:$A$55,HERBICIDES!$N$21:$N$55,0,0,1))) | I18: =IF(C18="","",(_xlfn.XLOOKUP(C18,HERBICIDES!$A$21:$A$55,HERBICIDES!$S$21:$S$55,0,0,1))) | J18: =IF(C18="","",(_xlfn.XLOOKUP(C18,HERBICIDES!$A$21:$A$55,HERBICIDES!$CD$21:$CD$55,0,0,1))) | K18: =IF(C18="","",(_xlfn.XLOOKUP(C18,HERBICIDES!$A$21:$A$55,HERBICIDES!$I$21:$I$55,0,0,1))) | L18: =IF(C18="","",(_xlfn.XLOOKUP(C18,HERBICIDES!$A$21:$A$55,HERBICIDES!$BS$21:$BS$55,0,0,1))) | M18: =IF(C18="","",(_xlfn.XLOOKUP(C18,HERBICIDES!$A$21:$A$55,HERBICIDES!$BU$21:$BU$55,0,0,1))) | N18: =IF(C18="","",(_xlfn.XLOOKUP(C18,HERBICIDES!$A$21:$A$55,HERBICIDES!$BZ$21:$BZ$55,0,0,1))) | R18: {=IFERROR(TRANSPOSE(_xlfn._xlws.FILTER(HERBICIDES!Liste_herbicides,NOT(ISERROR(SEARCH(Calendrier[[#This Row],[Saisie du produit utilisé sur la parcelle]],Herbicides[Identifiant_Ligne]))))),"")}
D19: =IF(C19="","",(_xlfn.XLOOKUP(C19,HERBICIDES!$A$21:$A$55,HERBICIDES!$D$21:$D$55,0,0,1))) | E19: =IF(C19="","",(_xlfn.XLOOKUP(C19,HERBICIDES!$A$21:$A$55,HERBICIDES!$E$21:$E$55,0,0,1))) | G19: =IF(C19="","",(_xlfn.XLOOKUP(C19,HERBICIDES!$A$21:$A$55,HERBICIDES!$N$21:$N$55,0,0,1))) | I19: =IF(C19="","",(_xlfn.XLOOKUP(C19,HERBICIDES!$A$21:$A$55,HERBICIDES!$S$21:$S$55,0,0,1))) | J19: =IF(C19="","",(_xlfn.XLOOKUP(C19,HERBICIDES!$A$21:$A$55,HERBICIDES!$CD$21:$CD$55,0,0,1))) | K19: =IF(C19="","",(_xlfn.XLOOKUP(C19,HERBICIDES!$A$21:$A$55,HERBICIDES!$I$21:$I$55,0,0,1))) | L19: =IF(C19="","",(_xlfn.XLOOKUP(C19,HERBICIDES!$A$21:$A$55,HERBICIDES!$BS$21:$BS$55,0,0,1))) | M19: =IF(C19="","",(_xlfn.XLOOKUP(C19,HERBICIDES!$A$21:$A$55,HERBICIDES!$BU$21:$BU$55,0,0,1))) | N19: =IF(C19="","",(_xlfn.XLOOKUP(C19,HERBICIDES!$A$21:$A$55,HERBICIDES!$BZ$21:$BZ$55,0,0,1))) | R19: {=IFERROR(TRANSPOSE(_xlfn._xlws.FILTER(HERBICIDES!Liste_herbicides,NOT(ISERROR(SEARCH(Calendrier[[#This Row],[Saisie du produit utilisé sur la parcelle]],Herbicides[Identifiant_Ligne]))))),"")}
R20: {=IFERROR(TRANSPOSE(_xlfn._xlws.FILTER(HERBICIDES!Liste_herbicides,NOT(ISERROR(SEARCH(Calendrier[[#This Row],[Saisie du produit utilisé sur la parcelle]],Herbicides[Identifiant_Ligne]))))),"")}
A21: ①Dose utilisée : Dose utilisée sur votre exploitation lors du traitement | R21: {=IFERROR(TRANSPOSE(_xlfn._xlws.FILTER(HERBICIDES!Liste_herbicides,NOT(ISERROR(SEARCH(Calendrier[[#This Row],[Saisie du produit utilisé sur la parcelle]],Herbicides[Identifiant_Ligne]))))),"")}
A22: ②Dose homologuée : Dose maximale autorisée par traitement définie pour chaque usage du produit phytopharmaceutique | R22: {=IFERROR(TRANSPOSE(_xlfn._xlws.FILTER(HERBICIDES!Liste_herbicides,NOT(ISERROR(SEARCH(Calendrier[[#This Row],[Saisie du produit utilisé sur la parcelle]],Herbicides[Identifiant_Ligne]))))),"")}
A23: ③Indicateur de Fréquence de Traitements phytosanitaires (IFT): indicateur de suivi de l'utilisation des produits phytopharmaceutiques à l’échelle de l’exploitation. Le calcul se fait par cible.
A24: ④Les produits de biocontrôle sont définis à l'article L. 253-6 du code rural et de la pêche maritime.
A25: ⑤Cancérigène Mutagène Reprotoxique (CMR) : Phrase de risque a trouver sur l'étiquette du produit
A26: CMR 1: H340 ou H350 ou H360 CMR 2: H341 ou H351 ou H361

Sheet HERBICIDES
C2: Utilisation des tableaux de produits phytosanitaires utilisables en vigne
C6: Ces tableaux sont des outils internes Chambres d’agriculture : en aucun cas ils ne doivent être transmis à d’autres organismes ou à des vignerons. Ces tableaux sont téléchargeables, modifiables et utilisables aux conditions suivantes : 1. En aucun cas modifier les tableaux initiaux sur Opéra. 2. Lors de toute utilisation des tableaux, citer comme source : le coût des fournitures en viticulture et œnologie et le groupe de travail Chambre d'agriculture "base de données nationale des spécialités phytosanitaires vigne" 3. Faire remonter les erreurs, les oublis ou les questions à la Chambre d'agriculture de la Gironde à Madame Séverine Dupin : s.dupin@gironde.chambagri.fr et à la Chambre d'agriculture de la Charente-Maritime à Madame Magdalena Girard : magdalena.girard@charente-maritime.chambagri.fr et à la Chambre d'agriculture du Vaucluse à Monsieur Rémi Vandamme : remi.vandamme@vaucluse.chambagri.fr 4. En aucun cas le groupe de travail ne pourra être tenu pour responsable de toute omission ou de toute erreur dans ces tableaux. Par exemple, il ne pourra pas être responsable de l'accident ou de la mauvaise mise en œuvre des produits phytosanitaires, résultant d’erreurs typographiques ou autres qui auraient pu figurer dans ces documents. Les légendes explicatives sont dans l'onglet légende. Tableau arrêté au 31/12/2021
C14: Spécificité Girondine : En Gironde, la convention collective fixe la DRE à minimum 12h. Les DRE de 6h sont donc automatiquement augmentées à 12h
U17: Pictogramme de danger | Y17: Avertissements mentions danger H3/H4 | CD17: Produits de type CMR | CK17: =IF(AND(Y17="",Z17="",AA17="",AB17="",AC17="",AD17="",AF17="",AG17="",AH17="",AI17="",AJ17="",AK17="",AL17="",AM17="",AN17="",AO17="",AP17="",AQ17="",AR17="",AS17="",AT17="",AU17="",AV17="",AW17="",AX17="",AY17="",AZ17="",BA17="",BB17="",BC17="",BD17="",BE17="",BF17="",BG17="",BH17="",BI17="",BJ17="",AE17="",BK17="",BL17="",BM17="",BN17="",BY17=6),"X","")
Y18: CMR2 | AE18: Mention complémentaire | AF18: Environnement | AJ18: Autres | CK18: =IF(AND(Y18="",Z18="",AA18="",AB18="",AC18="",AD18="",AF18="",AG18="",AH18="",AI18="",AJ18="",AK18="",AL18="",AM18="",AN18="",AO18="",AP18="",AQ18="",AR18="",AS18="",AT18="",AU18="",AV18="",AW18="",AX18="",AY18="",AZ18="",BA18="",BB18="",BC18="",BD18="",BE18="",BF18="",BG18="",BH18="",BI18="",BJ18="",AE18="",BK18="",BL18="",BM18="",BN18="",BY18=6),"X","")
H19: 44621 | I19: 44652 | S19: =INDEX([1]coloration!$D$1:$D$77,MATCH(S20,[1]coloration!$A$1:$A$77,0)) -> vert | T19: =INDEX([1]coloration!$D$1:$D$77,MATCH(T20,[1]coloration!$A$1:$A$77,0)) -> vert | U19: =INDEX([1]coloration!$D$1:$D$77,MATCH(U20,[1]coloration!$A$1:$A$77,0)) -> rouge | V19: =INDEX([1]coloration!$D$1:$D$77,MATCH(V20,[1]coloration!$A$1:$A$77,0)) -> rouge | W19: =INDEX([1]coloration!$D$1:$D$77,MATCH(W20,[1]coloration!$A$1:$A$77,0)) -> rouge | X19: =INDEX([1]coloration!$D$1:$D$77,MATCH(X20,[1]coloration!$A$1:$A$77,0)) -> rouge | Y19: =INDEX([1]coloration!$D$1:$D$77,MATCH(Y20,[1]coloration!$A$1:$A$77,0)) -> rouge | Z19: =INDEX([1]coloration!$D$1:$D$77,MATCH(Z20,[1]coloration!$A$1:$A$77,0)) -> rouge | ... CF19: =INDEX([1]coloration!$D$1:$D$77,MATCH(CF20,[1]coloration!$A$1:$A$77,0)) -> NC
A20: Identifiant_Ligne | B20: Doublon | C20: N°AMM | D20: Substance active | E20: Famille / Cible | F20: Code résistance HRAC | G20: Nom Commercial | H20: Date de fin de commercialisation | I20: Date de fin d'utilisation | J20: Société | K20: Sous forme | L20: Concentration en s.a | M20: Emballage | N20: Dose/ha kg ou L | O20: Dose préconisée par la firme (< dose homologuée) | P20: Dose sous le rang 30% | Q20: Dose sous le rang 50% | R20: g/ha s.a. | S20: Liste biocontrôle | T20: AB | U20: picto cœur | V20: picto point exclamation | W20: picto environnement | X20: picto tête de mort | Y20: H341 | Z20: H351 | AA20: H361 | AB20: H361d | AC20: H361f | AD20: H361fd | AE20: H362 | AF20: H400 | AG20: H410 | AH20: H411 | AI20: H412 | AJ20: H300 | AK20: H301 | AL20: H302 | AM20: H304 | AN20: H310 | AO20: H311 | AP20: H312 | AQ20: H314 | AR20: H315 | AS20: H317 | AT20: H318 | AU20: H319 | AV20: H330 | AW20: H331 | AX20: H332 | AY20: H334 | AZ20: H335 | BA20: H336 | BB20: H340 | BC20: H350 | BD20: H350i | BE20: H360 | BF20: H360D | BG20: H360Df | BH20: H360F | BI20: H360fd | BJ20: H360FD2 | BK20: H370 | BL20: H371 | BM20: H372 | BN20: H373 | BO20: DAR | BP20: DAR raisin de table | BQ20: Spe 1 | BR20: Spe 8 | BS20: ZNT eau | BT20: DVP | BU20: DS Riverains | BV20: DSR par AMM Oui/Non | BW20: ZNT Arthropodes | BX20: ZNT Plantes non cibles | BY20: DRE en h | BZ20: Nb d'appli maxi | CA20: Mention abeille | CB20: Intervalle mini entre 2 applis | CC20: Stades d'application (BBCH) | CD20: Produit CMR2 | CE20: Mention complémentaire | CF20: Nombre de phrases de risque limitant les possibilités de mélange | CG20: Informations complémentaires | CH20: [colonne CC] | CI20: [colonne CD] | CJ20: [colonne CE] | CK20: [colonne CG] | CL20: nb_total_phrases_risques_LL | CM20: Phrase CMR2 | CN20: Phrases H300,301 | CO20: Phrases H310,311 | CP20: Phrases H330,331 | CQ20: Phrases H340 à H373 | CR20: H3003 | CS20: H3014 | CT20: H3025 | CU20: H3046 | CV20: H3107 | CW20: H3118 | CX20: H3129 | CY20: H31410 | CZ20: H31511 | DA20: H31712 | DB20: H31813 | DC20: H31914 | DD20: H33015 | DE20: H33116 | DF20: H33217 | DG20: H33418 | DH20: H33519 | DI20: H33620 | DJ20: H34021 | DK20: H34122 | DL20: H35023 | DM20: H350i24 | DN20: H35125 | DO20: H36026 | DP20: H360D27 | DQ20: H360Df28 | DR20: H360F29 | DS20: H360fd30 | DT20: H360FD31 | DU20: H36132 | DV20: H361d33 | DW20: H361f34 | DX20: H361fd35 | DY20: H36236 | DZ20: H37037 | EA20: H37138 | EB20: H37239 | EC20: H37340 | ED20: H40041 | EE20: H41042 | EF20: H41143 | EG20: H41244 | EH20: H3_concat | EI20: H4_concat | EJ20: H3_ajout_espaces | EK20: H4_ajout_espaces | EL20: Liste des phrases de risque santé humaine (H3--) | EM20: Liste des phrases de risque environnement (H4--)
A21: =CONCATENATE(C21,"_",E21,"_",G21) -> 2010415_Postlevée_Gibson, Envision 450 | B21: =IF(COUNTIF($A$21:A21,A21)>1,"Doublon","") | C21: 2010415 | D21: Glyphosate acide | E21: Postlevée | F21: 9 | G21: Gibson, Envision 450 | H21: 44455 | J21: FMC | K21: SL | L21: 450 g/l | M21: 5-20 | N21: 3,2 à 6,4 | P21: 1,13 à 2,15 | Q21: 1,6 à 3,2 | R21: 2880 | BO21: 7 | BP21: 7 | BS21: 5 | BU21: 10 | BV21: Non | BW21: 5 | BX21: 5 | BY21: 6 | CC21: - | CD21: =IF(COUNTBLANK($Y21:$AD21)<>6,"X","") | CE21: =IF(COUNTBLANK($AE21)<>1,"X","") | CF21: =IF(SUM(CM21:CQ21)=0,"",SUM(CM21:CQ21)) | CG21: Ne sera pas redéposé (perte AMM fin approbation) | CK21: =IF(AND(Y21="",Z21="",AA21="",AB21="",AC21="",AD21="",AF21="",AG21="",AH21="",AI21="",AJ21="",AK21="",AL21="",AM21="",AN21="",AO21="",AP21="",AQ21="",AR21="",AS21="",AT21="",AU21="",AV21="",AW21="",AX21="",AY21="",AZ21="",BA21="",BB21="",BC21="",BD21="",BE21="",BF21="",BG21="",BH21="",BI21="",BJ21="",#REF!="",BK21="",BL21="",BM21="",BN21="",BY21=6),"X","") -> #REF! | CL21: =COUNTIF(Y21:BN21,"X") -> 0 | CM21: =7-COUNTBLANK(Y21:AE21) -> 0 | CN21: =2-COUNTBLANK(AJ21:AK21) -> 0 | CO21: =2-COUNTBLANK(AN21:AO21) -> 0 | CP21: =2-COUNTBLANK(AV21:AW21) -> 0 | CQ21: =13-COUNTBLANK(BB21:BN21) -> 0 | CR21: =IF(INDEX($Y21:$BN21,MATCH(CR$20,$Y$20:$BN$20,0))="X",CR$20,"") -> #N/A | CS21: =IF(INDEX($Y21:$BN21,MATCH(CS$20,$Y$20:$BN$20,0))="X",CS$20,"") -> #N/A | CT21: =IF(INDEX($Y21:$BN21,MATCH(CT$20,$Y$20:$BN$20,0))="X",CT$20,"") -> #N/A | CU21: =IF(INDEX($Y21:$BN21,MATCH(CU$20,$Y$20:$BN$20,0))="X",CU$20,"") -> #N/A | CV21: =IF(INDEX($Y21:$BN21,MATCH(CV$20,$Y$20:$BN$20,0))="X",CV$20,"") -> #N/A | CW21: =IF(INDEX($Y21:$BN21,MATCH(CW$20,$Y$20:$BN$20,0))="X",CW$20,"") -> #N/A | CX21: =IF(INDEX($Y21:$BN21,MATCH(CX$20,$Y$20:$BN$20,0))="X",CX$20,"") -> #N/A | CY21: =IF(INDEX($Y21:$BN21,MATCH(CY$20,$Y$20:$BN$20,0))="X",CY$20,"") -> #N/A | ... EG21: =IF(INDEX($Y21:$BN21,MATCH(EG$20,$Y$20:$BN$20,0))="X",EG$20,"") -> #N/A | EH21: =CONCATENATE(CR21,CS21,CT21,CU21,CV21,CW21,CX21,CY21,CZ21,DA21,DB21,DC21,DD21,DE21,DF21,DG21,DH21,DI21,DJ21,DK21,DL21,DM21,DN21,DO21,DP21,DQ21,DR21,DS21,DT21,DU21,DV21,DW21,DX21,DY21,DZ21,EA21,EB21,EC21) -> #N/A | EI21: =CONCATENATE(ED21,EE21,EF21,EG21) -> #N/A | EJ21: =SUBSTITUTE(EH21,"H",", H") -> #N/A | EK21: =SUBSTITUTE(EI21,"H",", H") -> #N/A | EL21: =IF(EJ21="","",RIGHT(EJ21,LEN(EJ21)-1)) -> #N/A | EM21: =IF(EK21="","",RIGHT(EK21,LEN(EK21)-1)) -> #N/A
A22: =CONCATENATE(C22,"_",E22,"_",G22) -> 2080113_Postlevée_Glyfos Dakar | B22: =IF(COUNTIF($A$21:A22,A22)>1,"Doublon","") | C22: 2080113 | D22: Glyphosate acide | E22: Postlevée | F22: 9 | G22: Glyfos Dakar | H22: 44455 | J22: FMC | K22: WG | L22: 680 g/kg | M22: 10 | N22: 2 à 4 | P22: 0,67 à 1,33 | Q22: 1 à 2 | R22: 2720 | AI22: X | BO22: 21 | BP22: 21 | BS22: 5 | BU22: 10 | BV22: Non | BY22: 6 | BZ22: 1 | CC22: - | CD22: =IF(COUNTBLANK($Y22:$AD22)<>6,"X","") | CE22: =IF(COUNTBLANK($AE22)<>1,"X","") | CF22: =IF(SUM(CM22:CQ22)=0,"",SUM(CM22:CQ22)) | CG22: Ne sera pas redéposé (perte AMM fin approbation) | CK22: =IF(AND(Y22="",Z22="",AA22="",AB22="",AC22="",AD22="",AF22="",AG22="",AH22="",AI22="",AJ22="",AK22="",AL22="",AM22="",AN22="",AO22="",AP22="",AQ22="",AR22="",AS22="",AT22="",AU22="",AV22="",AW22="",AX22="",AY22="",AZ22="",BA22="",BB22="",BC22="",BD22="",BE22="",BF22="",BG22="",BH22="",BI22="",BJ22="",#REF!="",BK22="",BL22="",BM22="",BN22="",BY22=6),"X","") -> #REF! | CL22: =COUNTIF(Y22:BN22,"X") -> 1 | CM22: =7-COUNTBLANK(Y22:AE22) -> 0 | CN22: =2-COUNTBLANK(AJ22:AK22) -> 0 | CO22: =2-COUNTBLANK(AN22:AO22) -> 0 | CP22: =2-COUNTBLANK(AV22:AW22) -> 0 | CQ22: =13-COUNTBLANK(BB22:BN22) -> 0 | CR22: =IF(INDEX($Y22:$BN22,MATCH(CR$20,$Y$20:$BN$20,0))="X",CR$20,"") -> #N/A | CS22: =IF(INDEX($Y22:$BN22,MATCH(CS$20,$Y$20:$BN$20,0))="X",CS$20,"") -> #N/A | CT22: =IF(INDEX($Y22:$BN22,MATCH(CT$20,$Y$20:$BN$20,0))="X",CT$20,"") -> #N/A | CU22: =IF(INDEX($Y22:$BN22,MATCH(CU$20,$Y$20:$BN$20,0))="X",CU$20,"") -> #N/A | CV22: =IF(INDEX($Y22:$BN22,MATCH(CV$20,$Y$20:$BN$20,0))="X",CV$20,"") -> #N/A | CW22: =IF(INDEX($Y22:$BN22,MATCH(CW$20,$Y$20:$BN$20,0))="X",CW$20,"") -> #N/A | CX22: =IF(INDEX($Y22:$BN22,MATCH(CX$20,$Y$20:$BN$20,0))="X",CX$20,"") -> #N/A | CY22: =IF(INDEX($Y22:$BN22,MATCH(CY$20,$Y$20:$BN$20,0))="X",CY$20,"") -> #N/A | ... EG22: =IF(INDEX($Y22:$BN22,MATCH(EG$20,$Y$20:$BN$20,0))="X",EG$20,"") -> #N/A | EH22: =CONCATENATE(CR22,CS22,CT22,CU22,CV22,CW22,CX22,CY22,CZ22,DA22,DB22,DC22,DD22,DE22,DF22,DG22,DH22,DI22,DJ22,DK22,DL22,DM22,DN22,DO22,DP22,DQ22,DR22,DS22,DT22,DU22,DV22,DW22,DX22,DY22,DZ22,EA22,EB22,EC22) -> #N/A | EI22: =CONCATENATE(ED22,EE22,EF22,EG22) -> #N/A | EJ22: =SUBSTITUTE(EH22,"H",", H") -> #N/A | EK22: =SUBSTITUTE(EI22,"H",", H") -> #N/A | EL22: =IF(EJ22="","",RIGHT(EJ22,LEN(EJ22)-1)) -> #N/A | EM22: =IF(EK22="","",RIGHT(EK22,LEN(EK22)-1)) -> #N/A
A23: =CONCATENATE(C23,"_",E23,"_",G23) -> 2160960_Postlevée_Buggy Greenline, Tamrok Greenline, Devit, Skate | B23: =IF(COUNTIF($A$21:A23,A23)>1,"Doublon","") | C23: 2160960 | D23: Glyphosate acide | E23: Postlevée | F23: 9 | G23: Buggy Greenline, Tamrok Greenline, Devit, Skate | H23: 43980 | I23: 44164 | J23: Phyteurop | K23: SL | L23: 240 g/l | M23: 10-20 | N23: 4,5 à 12 | P23: 1,5 à 4 | Q23: 2,25 à 6 | R23: 2880 | BO23: 21 | BP23: 21 | BS23: 5 | BU23: 10 | BY23: 6 | CC23: - | CD23: =IF(COUNTBLANK($Y23:$AD23)<>6,"X","") | CE23: =IF(COUNTBLANK($AE23)<>1,"X","") | CF23: =IF(SUM(CM23:CQ23)=0,"",SUM(CM23:CQ23)) | CG23: Retrait Anses novembre 2019 - Utilisation novembre 2020 | CK23: =IF(AND(Y23="",Z23="",AA23="",AB23="",AC23="",AD23="",AF23="",AG23="",AH23="",AI23="",AJ23="",AK23="",AL23="",AM23="",AN23="",AO23="",AP23="",AQ23="",AR23="",AS23="",AT23="",AU23="",AV23="",AW23="",AX23="",AY23="",AZ23="",BA23="",BB23="",BC23="",BD23="",BE23="",BF23="",BG23="",BH23="",BI23="",BJ23="",AE23="",BK23="",BL23="",BM23="",BN23="",BY23=6),"X","") -> X | CL23: =COUNTIF(Y23:BN23,"X") -> 0 | CM23: =7-COUNTBLANK(Y23:AE23) -> 0 | CN23: =2-COUNTBLANK(AJ23:AK23) -> 0 | CO23: =2-COUNTBLANK(AN23:AO23) -> 0 | CP23: =2-COUNTBLANK(AV23:AW23) -> 0 | CQ23: =13-COUNTBLANK(BB23:BN23) -> 0 | CR23: =IF(INDEX($Y23:$BN23,MATCH(CR$20,$Y$20:$BN$20,0))="X",CR$20,"") -> #N/A | CS23: =IF(INDEX($Y23:$BN23,MATCH(CS$20,$Y$20:$BN$20,0))="X",CS$20,"") -> #N/A | CT23: =IF(INDEX($Y23:$BN23,MATCH(CT$20,$Y$20:$BN$20,0))="X",CT$20,"") -> #N/A | CU23: =IF(INDEX($Y23:$BN23,MATCH(CU$20,$Y$20:$BN$20,0))="X",CU$20,"") -> #N/A | CV23: =IF(INDEX($Y23:$BN23,MATCH(CV$20,$Y$20:$BN$20,0))="X",CV$20,"") -> #N/A | CW23: =IF(INDEX($Y23:$BN23,MATCH(CW$20,$Y$20:$BN$20,0))="X",CW$20,"") -> #N/A | CX23: =IF(INDEX($Y23:$BN23,MATCH(CX$20,$Y$20:$BN$20,0))="X",CX$20,"") -> #N/A | CY23: =IF(INDEX($Y23:$BN23,MATCH(CY$20,$Y$20:$BN$20,0))="X",CY$20,"") -> #N/A | ... EG23: =IF(INDEX($Y23:$BN23,MATCH(EG$20,$Y$20:$BN$20,0))="X",EG$20,"") -> #N/A | EH23: =CONCATENATE(CR23,CS23,CT23,CU23,CV23,CW23,CX23,CY23,CZ23,DA23,DB23,DC23,DD23,DE23,DF23,DG23,DH23,DI23,DJ23,DK23,DL23,DM23,DN23,DO23,DP23,DQ23,DR23,DS23,DT23,DU23,DV23,DW23,DX23,DY23,DZ23,EA23,EB23,EC23) -> #N/A | EI23: =CONCATENATE(ED23,EE23,EF23,EG23) -> #N/A | EJ23: =SUBSTITUTE(EH23,"H",", H") -> #N/A | EK23: =SUBSTITUTE(EI23,"H",", H") -> #N/A | EL23: =IF(EJ23="","",RIGHT(EJ23,LEN(EJ23)-1)) -> #N/A | EM23: =IF(EK23="","",RIGHT(EK23,LEN(EK23)-1)) -> #N/A
A24: =CONCATENATE(C24,"_",E24,"_",G24) -> 9800555_Postlevée_Astéroïde, All in one | B24: =IF(COUNTIF($A$21:A24,A24)>1,"Doublon","") | C24: 9800555 | D24: Glyphosate acide | E24: Postlevée | F24: 9 | G24: Astéroïde, All in one | H24: 44197 | J24: FMC | K24: SL | L24: 360 g/l | M24: 5-20 | N24: 4 à 8 | P24: 1,33 à 2,66 | Q24: 2 à 4 | R24: 2880 | BO24: 21 | BP24: 21 | BS24: 5 | BU24: 10 | BV24: Non | BY24: 6 | BZ24: 1 | CC24: - | CD24: =IF(COUNTBLANK($Y24:$AD24)<>6,"X","") | CE24: =IF(COUNTBLANK($AE24)<>1,"X","") | CF24: =IF(SUM(CM24:CQ24)=0,"",SUM(CM24:CQ24)) | CG24: Ne sera pas redéposé (perte AMM fin approbation) | CK24: =IF(AND(Y24="",Z24="",AA24="",AB24="",AC24="",AD24="",AF24="",AG24="",AH24="",AI24="",AJ24="",AK24="",AL24="",AM24="",AN24="",AO24="",AP24="",AQ24="",AR24="",AS24="",AT24="",AU24="",AV24="",AW24="",AX24="",AY24="",AZ24="",BA24="",BB24="",BC24="",BD24="",BE24="",BF24="",BG24="",BH24="",BI24="",BJ24="",AE24="",BK24="",BL24="",BM24="",BN24="",BY24=6),"X","") -> X | CL24: =COUNTIF(Y24:BN24,"X") -> 0 | CM24: =7-COUNTBLANK(Y24:AE24) -> 0 | CN24: =2-COUNTBLANK(AJ24:AK24) -> 0 | CO24: =2-COUNTBLANK(AN24:AO24) -> 0 | CP24: =2-COUNTBLANK(AV24:AW24) -> 0 | CQ24: =13-COUNTBLANK(BB24:BN24) -> 0 | CR24: =IF(INDEX($Y24:$BN24,MATCH(CR$20,$Y$20:$BN$20,0))="X",CR$20,"") -> #N/A | CS24: =IF(INDEX($Y24:$BN24,MATCH(CS$20,$Y$20:$BN$20,0))="X",CS$20,"") -> #N/A | CT24: =IF(INDEX($Y24:$BN24,MATCH(CT$20,$Y$20:$BN$20,0))="X",CT$20,"") -> #N/A | CU24: =IF(INDEX($Y24:$BN24,MATCH(CU$20,$Y$20:$BN$20,0))="X",CU$20,"") -> #N/A | CV24: =IF(INDEX($Y24:$BN24,MATCH(CV$20,$Y$20:$BN$20,0))="X",CV$20,"") -> #N/A | CW24: =IF(INDEX($Y24:$BN24,MATCH(CW$20,$Y$20:$BN$20,0))="X",CW$20,"") -> #N/A | CX24: =IF(INDEX($Y24:$BN24,MATCH(CX$20,$Y$20:$BN$20,0))="X",CX$20,"") -> #N/A | CY24: =IF(INDEX($Y24:$BN24,MATCH(CY$20,$Y$20:$BN$20,0))="X",CY$20,"") -> #N/A | ... EG24: =IF(INDEX($Y24:$BN24,MATCH(EG$20,$Y$20:$BN$20,0))="X",EG$20,"") -> #N/A | EH24: =CONCATENATE(CR24,CS24,CT24,CU24,CV24,CW24,CX24,CY24,CZ24,DA24,DB24,DC24,DD24,DE24,DF24,DG24,DH24,DI24,DJ24,DK24,DL24,DM24,DN24,DO24,DP24,DQ24,DR24,DS24,DT24,DU24,DV24,DW24,DX24,DY24,DZ24,EA24,EB24,EC24) -> #N/A | EI24: =CONCATENATE(ED24,EE24,EF24,EG24) -> #N/A | EJ24: =SUBSTITUTE(EH24,"H",", H") -> #N/A | EK24: =SUBSTITUTE(EI24,"H",", H") -> #N/A | EL24: =IF(EJ24="","",RIGHT(EJ24,LEN(EJ24)-1)) -> #N/A | EM24: =IF(EK24="","",RIGHT(EK24,LEN(EK24)-1)) -> #N/A
A25: =CONCATENATE(C25,"_",E25,"_",G25) -> 2000044_AGS_Fusilade Max | B25: =IF(COUNTIF($A$21:A25,A25)>1,"Doublon","") | C25: 2000044 | D25: Fluazifop-p-butyl | E25: AGS | F25: 1 | G25: Fusilade Max | J25: De Sangosse | K25: EC | L25: 125 g/l | M25: 1-5-20 | N25: 2 | P25: =N25*0.32 -> 0.64 | Q25: =N25*0.5 -> 1 | R25: 250 | U25: X | W25: X | AB25: X | AF25: X | AG25: X | BO25: 28 | BP25: 28 | BS25: 5 | BU25: 10 | BV25: Non | BX25: 20 | BY25: 48 | BZ25: 1 | CC25: - | CD25: =IF(COUNTBLANK($Y25:$AD25)<>6,"X","") -> X | CE25: =IF(COUNTBLANK($AE25)<>1,"X","") | CF25: =IF(SUM(CM25:CQ25)=0,"",SUM(CM25:CQ25)) -> 1 | CG25: Ne pas appliquer sur plus de 50% de la surface | CK25: =IF(AND(Y25="",Z25="",AA25="",AB25="",AC25="",AD25="",AF25="",AG25="",AH25="",AI25="",AJ25="",AK25="",AL25="",AM25="",AN25="",AO25="",AP25="",AQ25="",AR25="",AS25="",AT25="",AU25="",AV25="",AW25="",AX25="",AY25="",AZ25="",BA25="",BB25="",BC25="",BD25="",BE25="",BF25="",BG25="",BH25="",BI25="",BJ25="",#REF!="",BK25="",BL25="",BM25="",BN25="",BY25=6),"X","") -> #REF! | CL25: =COUNTIF(Y25:BN25,"X") -> 3 | CM25: =7-COUNTBLANK(Y25:AE25) -> 1 | CN25: =2-COUNTBLANK(AJ25:AK25) -> 0 | CO25: =2-COUNTBLANK(AN25:AO25) -> 0 | CP25: =2-COUNTBLANK(AV25:AW25) -> 0 | CQ25: =13-COUNTBLANK(BB25:BN25) -> 0 | CR25: =IF(INDEX($Y25:$BN25,MATCH(CR$20,$Y$20:$BN$20,0))="X",CR$20,"") -> #N/A | CS25: =IF(INDEX($Y25:$BN25,MATCH(CS$20,$Y$20:$BN$20,0))="X",CS$20,"") -> #N/A | CT25: =IF(INDEX($Y25:$BN25,MATCH(CT$20,$Y$20:$BN$20,0))="X",CT$20,"") -> #N/A | CU25: =IF(INDEX($Y25:$BN25,MATCH(CU$20,$Y$20:$BN$20,0))="X",CU$20,"") -> #N/A | CV25: =IF(INDEX($Y25:$BN25,MATCH(CV$20,$Y$20:$BN$20,0))="X",CV$20,"") -> #N/A | CW25: =IF(INDEX($Y25:$BN25,MATCH(CW$20,$Y$20:$BN$20,0))="X",CW$20,"") -> #N/A | CX25: =IF(INDEX($Y25:$BN25,MATCH(CX$20,$Y$20:$BN$20,0))="X",CX$20,"") -> #N/A | CY25: =IF(INDEX($Y25:$BN25,MATCH(CY$20,$Y$20:$BN$20,0))="X",CY$20,"") -> #N/A | ... EG25: =IF(INDEX($Y25:$BN25,MATCH(EG$20,$Y$20:$BN$20,0))="X",EG$20,"") -> #N/A | EH25: =CONCATENATE(CR25,CS25,CT25,CU25,CV25,CW25,CX25,CY25,CZ25,DA25,DB25,DC25,DD25,DE25,DF25,DG25,DH25,DI25,DJ25,DK25,DL25,DM25,DN25,DO25,DP25,DQ25,DR25,DS25,DT25,DU25,DV25,DW25,DX25,DY25,DZ25,EA25,EB25,EC25) -> #N/A | EI25: =CONCATENATE(ED25,EE25,EF25,EG25) -> #N/A | EJ25: =SUBSTITUTE(EH25,"H",", H") -> #N/A | EK25: =SUBSTITUTE(EI25,"H",", H") -> #N/A | EL25: =IF(EJ25="","",RIGHT(EJ25,LEN(EJ25)-1)) -> #N/A | EM25: =IF(EK25="","",RIGHT(EK25,LEN(EK25)-1)) -> #N/A
A26: =CONCATENATE(C26,"_",E26,"_",G26) -> 2000202_Postlevée_Touchdown Système 4, Exprim | B26: =IF(COUNTIF($A$21:A26,A26)>1,"Doublon","") | C26: 2000202 | D26: Glyphosate acide | E26: Postlevée | F26: 9 | G26: Touchdown Système 4, Exprim | J26: Syngenta | K26: SL | L26: 360 g/l | M26: 20 | N26: 1.25 | P26: =N26*0.32 -> 0.4 | Q26: =N26*0.5 -> 0.625 | R26: 2160 | W26: X | AH26: X | BO26: 14 | BP26: 14 | BS26: 5 | BU26: 3 | BV26: Oui | BX26: 5 si ≥ 3 l/ha | BY26: 6 | BZ26: 1 | CC26: - | CD26: =IF(COUNTBLANK($Y26:$AD26)<>6,"X","") | CE26: =IF(COUNTBLANK($AE26)<>1,"X","") | CF26: =IF(SUM(CM26:CQ26)=0,"",SUM(CM26:CQ26)) | CG26: 20 % de la surface max, 450 g/ha/an, 6 l/ha en situation non mécanisable | CK26: =IF(AND(Y26="",Z26="",AA26="",AB26="",AC26="",AD26="",AF26="",AG26="",AH26="",AI26="",AJ26="",AK26="",AL26="",AM26="",AN26="",AO26="",AP26="",AQ26="",AR26="",AS26="",AT26="",AU26="",AV26="",AW26="",AX26="",AY26="",AZ26="",BA26="",BB26="",BC26="",BD26="",BE26="",BF26="",BG26="",BH26="",BI26="",BJ26="",#REF!="",BK26="",BL26="",BM26="",BN26="",BY26=6),"X","") -> #REF! | CL26: =COUNTIF(Y26:BN26,"X") -> 1 | CM26: =7-COUNTBLANK(Y26:AE26) -> 0 | CN26: =2-COUNTBLANK(AJ26:AK26) -> 0 | CO26: =2-COUNTBLANK(AN26:AO26) -> 0 | CP26: =2-COUNTBLANK(AV26:AW26) -> 0 | CQ26: =13-COUNTBLANK(BB26:BN26) -> 0 | CR26: =IF(INDEX($Y26:$BN26,MATCH(CR$20,$Y$20:$BN$20,0))="X",CR$20,"") -> #N/A | CS26: =IF(INDEX($Y26:$BN26,MATCH(CS$20,$Y$20:$BN$20,0))="X",CS$20,"") -> #N/A | CT26: =IF(INDEX($Y26:$BN26,MATCH(CT$20,$Y$20:$BN$20,0))="X",CT$20,"") -> #N/A | CU26: =IF(INDEX($Y26:$BN26,MATCH(CU$20,$Y$20:$BN$20,0))="X",CU$20,"") -> #N/A | CV26: =IF(INDEX($Y26:$BN26,MATCH(CV$20,$Y$20:$BN$20,0))="X",CV$20,"") -> #N/A | CW26: =IF(INDEX($Y26:$BN26,MATCH(CW$20,$Y$20:$BN$20,0))="X",CW$20,"") -> #N/A | CX26: =IF(INDEX($Y26:$BN26,MATCH(CX$20,$Y$20:$BN$20,0))="X",CX$20,"") -> #N/A | CY26: =IF(INDEX($Y26:$BN26,MATCH(CY$20,$Y$20:$BN$20,0))="X",CY$20,"") -> #N/A | ... EG26: =IF(INDEX($Y26:$BN26,MATCH(EG$20,$Y$20:$BN$20,0))="X",EG$20,"") -> #N/A | EH26: =CONCATENATE(CR26,CS26,CT26,CU26,CV26,CW26,CX26,CY26,CZ26,DA26,DB26,DC26,DD26,DE26,DF26,DG26,DH26,DI26,DJ26,DK26,DL26,DM26,DN26,DO26,DP26,DQ26,DR26,DS26,DT26,DU26,DV26,DW26,DX26,DY26,DZ26,EA26,EB26,EC26) -> #N/A | EI26: =CONCATENATE(ED26,EE26,EF26,EG26) -> #N/A | EJ26: =SUBSTITUTE(EH26,"H",", H") -> #N/A | EK26: =SUBSTITUTE(EI26,"H",", H") -> #N/A | EL26: =IF(EJ26="","",RIGHT(EJ26,LEN(EJ26)-1)) -> #N/A | EM26: =IF(EK26="","",RIGHT(EK26,LEN(EK26)-1)) -> #N/A
A27: =CONCATENATE(C27,"_",E27,"_",G27) -> 2000327_Action Contact_Spotlight Plus**, Shark** | B27: =IF(COUNTIF($A$21:A27,A27)>1,"Doublon","") | C27: 2000327 | D27: Carfentrazone ethyle | E27: Action Contact | F27: 14 | G27: Spotlight Plus**, Shark** | J27: FMC | K27: EO | L27: 60 g/l | M27: 1-5-15 | N27: 1 | P27: =N27*0.32 -> 0.32 | Q27: =N27*0.5 -> 0.5 | R27: 60 | V27: X | W27: X | AF27: X | AG27: X | AS27: X | BO27: 7 | BP27: 7 | BS27: 5 | BU27: 10 | BV27: Non | BX27: 20 | BY27: 48 | BZ27: 1 | CC27: - | CE27: =IF(COUNTBLANK($AE27)<>1,"X","") | CF27: =IF(SUM(CM27:CQ27)=0,"",SUM(CM27:CQ27)) | CK27: =IF(AND(Y27="",Z27="",AA27="",AB27="",AC27="",AD27="",AF27="",AG27="",AH27="",AI27="",AJ27="",AK27="",AL27="",AM27="",AN27="",AO27="",AP27="",AQ27="",AR27="",AS27="",AT27="",AU27="",AV27="",AW27="",AX27="",AY27="",AZ27="",BA27="",BB27="",BC27="",BD27="",BE27="",BF27="",BG27="",BH27="",BI27="",BJ27="",#REF!="",BK27="",BL27="",BM27="",BN27="",BY27=6),"X","") -> #REF! | CL27: =COUNTIF(Y27:BN27,"X") -> 3 | CM27: =7-COUNTBLANK(Y27:AE27) -> 0 | CN27: =2-COUNTBLANK(AJ27:AK27) -> 0 | CO27: =2-COUNTBLANK(AN27:AO27) -> 0 | CP27: =2-COUNTBLANK(AV27:AW27) -> 0 | CQ27: =13-COUNTBLANK(BB27:BN27) -> 0 | CR27: =IF(INDEX($Y27:$BN27,MATCH(CR$20,$Y$20:$BN$20,0))="X",CR$20,"") -> #N/A | CS27: =IF(INDEX($Y27:$BN27,MATCH(CS$20,$Y$20:$BN$20,0))="X",CS$20,"") -> #N/A | CT27: =IF(INDEX($Y27:$BN27,MATCH(CT$20,$Y$20:$BN$20,0))="X",CT$20,"") -> #N/A | CU27: =IF(INDEX($Y27:$BN27,MATCH(CU$20,$Y$20:$BN$20,0))="X",CU$20,"") -> #N/A | CV27: =IF(INDEX($Y27:$BN27,MATCH(CV$20,$Y$20:$BN$20,0))="X",CV$20,"") -> #N/A | CW27: =IF(INDEX($Y27:$BN27,MATCH(CW$20,$Y$20:$BN$20,0))="X",CW$20,"") -> #N/A | CX27: =IF(INDEX($Y27:$BN27,MATCH(CX$20,$Y$20:$BN$20,0))="X",CX$20,"") -> #N/A | CY27: =IF(INDEX($Y27:$BN27,MATCH(CY$20,$Y$20:$BN$20,0))="X",CY$20,"") -> #N/A | ... EG27: =IF(INDEX($Y27:$BN27,MATCH(EG$20,$Y$20:$BN$20,0))="X",EG$20,"") -> #N/A | EH27: =CONCATENATE(CR27,CS27,CT27,CU27,CV27,CW27,CX27,CY27,CZ27,DA27,DB27,DC27,DD27,DE27,DF27,DG27,DH27,DI27,DJ27,DK27,DL27,DM27,DN27,DO27,DP27,DQ27,DR27,DS27,DT27,DU27,DV27,DW27,DX27,DY27,DZ27,EA27,EB27,EC27) -> #N/A | EI27: =CONCATENATE(ED27,EE27,EF27,EG27) -> #N/A | EJ27: =SUBSTITUTE(EH27,"H",", H") -> #N/A | EK27: =SUBSTITUTE(EI27,"H",", H") -> #N/A | EL27: =IF(EJ27="","",RIGHT(EJ27,LEN(EJ27)-1)) -> #N/A | EM27: =IF(EK27="","",RIGHT(EK27,LEN(EK27)-1)) -> #N/A
A28: =CONCATENATE(C28,"_",E28,"_",G28) -> 2000327_Epamprage_Spotlight Plus, Shark | B28: =IF(COUNTIF($A$21:A28,A28)>1,"Doublon","") | C28: 2000327 | D28: Carfentrazone ethyle | E28: Epamprage | F28: 14 | G28: Spotlight Plus, Shark | J28: FMC | K28: EO | L28: 60 g/l | M28: 1-5-15 | N28: 0.3 | P28: =N28*0.32 -> 0.096 | Q28: =N28*0.5 -> 0.15 | R28: 18 | V28: X | W28: X | AF28: X | AG28: X | AS28: X | BO28: 90 | BP28: 90 | BS28: 5 | BU28: 10 | BV28: Non | BY28: 48 | BZ28: 2 | CC28: - | CD28: =IF(COUNTBLANK($Y28:$AD28)<>6,"X","") | CE28: =IF(COUNTBLANK($AE28)<>1,"X","") | CF28: =IF(SUM(CM28:CQ28)=0,"",SUM(CM28:CQ28)) | CK28: =IF(AND(Y28="",Z28="",AA28="",AB28="",AC28="",AD28="",AF28="",AG28="",AH28="",AI28="",AJ28="",AK28="",AL28="",AM28="",AN28="",AO28="",AP28="",AQ28="",AR28="",AS28="",AT28="",AU28="",AV28="",AW28="",AX28="",AY28="",AZ28="",BA28="",BB28="",BC28="",BD28="",BE28="",BF28="",BG28="",BH28="",BI28="",BJ28="",#REF!="",BK28="",BL28="",BM28="",BN28="",BY28=6),"X","") -> #REF! | CL28: =COUNTIF(Y28:BN28,"X") -> 3 | CM28: =7-COUNTBLANK(Y28:AE28) -> 0 | CN28: =2-COUNTBLANK(AJ28:AK28) -> 0 | CO28: =2-COUNTBLANK(AN28:AO28) -> 0 | CP28: =2-COUNTBLANK(AV28:AW28) -> 0 | CQ28: =13-COUNTBLANK(BB28:BN28) -> 0 | CR28: =IF(INDEX($Y28:$BN28,MATCH(CR$20,$Y$20:$BN$20,0))="X",CR$20,"") -> #N/A | CS28: =IF(INDEX($Y28:$BN28,MATCH(CS$20,$Y$20:$BN$20,0))="X",CS$20,"") -> #N/A | CT28: =IF(INDEX($Y28:$BN28,MATCH(CT$20,$Y$20:$BN$20,0))="X",CT$20,"") -> #N/A | CU28: =IF(INDEX($Y28:$BN28,MATCH(CU$20,$Y$20:$BN$20,0))="X",CU$20,"") -> #N/A | CV28: =IF(INDEX($Y28:$BN28,MATCH(CV$20,$Y$20:$BN$20,0))="X",CV$20,"") -> #N/A | CW28: =IF(INDEX($Y28:$BN28,MATCH(CW$20,$Y$20:$BN$20,0))="X",CW$20,"") -> #N/A | CX28: =IF(INDEX($Y28:$BN28,MATCH(CX$20,$Y$20:$BN$20,0))="X",CX$20,"") -> #N/A | CY28: =IF(INDEX($Y28:$BN28,MATCH(CY$20,$Y$20:$BN$20,0))="X",CY$20,"") -> #N/A | ... EG28: =IF(INDEX($Y28:$BN28,MATCH(EG$20,$Y$20:$BN$20,0))="X",EG$20,"") -> #N/A | EH28: =CONCATENATE(CR28,CS28,CT28,CU28,CV28,CW28,CX28,CY28,CZ28,DA28,DB28,DC28,DD28,DE28,DF28,DG28,DH28,DI28,DJ28,DK28,DL28,DM28,DN28,DO28,DP28,DQ28,DR28,DS28,DT28,DU28,DV28,DW28,DX28,DY28,DZ28,EA28,EB28,EC28) -> #N/A | EI28: =CONCATENATE(ED28,EE28,EF28,EG28) -> #N/A | EJ28: =SUBSTITUTE(EH28,"H",", H") -> #N/A | EK28: =SUBSTITUTE(EI28,"H",", H") -> #N/A | EL28: =IF(EJ28="","",RIGHT(EJ28,LEN(EJ28)-1)) -> #N/A | EM28: =IF(EK28="","",RIGHT(EK28,LEN(EK28)-1)) -> #N/A
A29: =CONCATENATE(C29,"_",E29,"_",G29) -> 2010427_AGS_LEOPARD 120 (1) | B29: =IF(COUNTIF($A$21:A29,A29)>1,"Doublon","") | C29: 2010427 | D29: Quizalofop ethyl | E29: AGS | F29: 1 | G29: LEOPARD 120 (1) | I29: 43921 | J29: ADAMA | K29: EC | L29: 125 g/l | M29: 5 | N29: 1.25 | P29: =N29*0.32 -> 0.4 | Q29: =N29*0.5 -> 0.625 | R29: 156.25 | U29: X | V29: X | W29: X | AM29: X | AS29: X | AT29: X | BO29: 3 | BP29: 3 | BS29: 5 | BU29: 10 | BY29: 24 | CC29: - | CD29: =IF(COUNTBLANK($Y29:$AD29)<>6,"X","") | CE29: =IF(COUNTBLANK($AE29)<>1,"X","") | CF29: =IF(SUM(CM29:CQ29)=0,"",SUM(CM29:CQ29)) | CG29: Retrait fin 2019 - Utilisation fin mars 2020 | CK29: =IF(AND(Y29="",Z29="",AA29="",AB29="",AC29="",AD29="",AF29="",AG29="",AH29="",AI29="",AJ29="",AK29="",AL29="",AM29="",AN29="",AO29="",AP29="",AQ29="",AR29="",AS29="",AT29="",AU29="",AV29="",AW29="",AX29="",AY29="",AZ29="",BA29="",BB29="",BC29="",BD29="",BE29="",BF29="",BG29="",BH29="",BI29="",BJ29="",#REF!="",BK29="",BL29="",BM29="",BN29="",BY29=6),"X","") -> #REF! | CL29: =COUNTIF(Y29:BN29,"X") -> 3 | CM29: =7-COUNTBLANK(Y29:AE29) -> 0 | CN29: =2-COUNTBLANK(AJ29:AK29) -> 0 | CO29: =2-COUNTBLANK(AN29:AO29) -> 0 | CP29: =2-COUNTBLANK(AV29:AW29) -> 0 | CQ29: =13-COUNTBLANK(BB29:BN29) -> 0 | CR29: =IF(INDEX($Y29:$BN29,MATCH(CR$20,$Y$20:$BN$20,0))="X",CR$20,"") -> #N/A | CS29: =IF(INDEX($Y29:$BN29,MATCH(CS$20,$Y$20:$BN$20,0))="X",CS$20,"") -> #N/A | CT29: =IF(INDEX($Y29:$BN29,MATCH(CT$20,$Y$20:$BN$20,0))="X",CT$20,"") -> #N/A | CU29: =IF(INDEX($Y29:$BN29,MATCH(CU$20,$Y$20:$BN$20,0))="X",CU$20,"") -> #N/A | CV29: =IF(INDEX($Y29:$BN29,MATCH(CV$20,$Y$20:$BN$20,0))="X",CV$20,"") -> #N/A | CW29: =IF(INDEX($Y29:$BN29,MATCH(CW$20,$Y$20:$BN$20,0))="X",CW$20,"") -> #N/A | CX29: =IF(INDEX($Y29:$BN29,MATCH(CX$20,$Y$20:$BN$20,0))="X",CX$20,"") -> #N/A | CY29: =IF(INDEX($Y29:$BN29,MATCH(CY$20,$Y$20:$BN$20,0))="X",CY$20,"") -> #N/A | ... EG29: =IF(INDEX($Y29:$BN29,MATCH(EG$20,$Y$20:$BN$20,0))="X",EG$20,"") -> #N/A | EH29: =CONCATENATE(CR29,CS29,CT29,CU29,CV29,CW29,CX29,CY29,CZ29,DA29,DB29,DC29,DD29,DE29,DF29,DG29,DH29,DI29,DJ29,DK29,DL29,DM29,DN29,DO29,DP29,DQ29,DR29,DS29,DT29,DU29,DV29,DW29,DX29,DY29,DZ29,EA29,EB29,EC29) -> #N/A | EI29: =CONCATENATE(ED29,EE29,EF29,EG29) -> #N/A | EJ29: =SUBSTITUTE(EH29,"H",", H") -> #N/A | EK29: =SUBSTITUTE(EI29,"H",", H") -> #N/A | EL29: =IF(EJ29="","",RIGHT(EJ29,LEN(EJ29)-1)) -> #N/A | EM29: =IF(EK29="","",RIGHT(EK29,LEN(EK29)-1)) -> #N/A
A30: =CONCATENATE(C30,"_",E30,"_",G30) -> 2030404_Prélevée_Baroud SC** | B30: =IF(COUNTIF($A$21:A30,A30)>1,"Doublon","") | C30: 2030404 | D30: Pendimethaline | E30: Prélevée | F30: 3 | G30: Baroud SC** | I30: 43889 | J30: Phyteurop | K30: SC | L30: 400 g/l | M30: 10 | N30: 6 | P30: =N30*0.3 -> 1.8 | Q30: =N30*0.5 -> 3 | R30: 2400 | W30: X | AG30: X | BO30: - | BP30: - | BS30: 50 | BU30: 10 | BY30: 6 | CD30: =IF(COUNTBLANK($Y30:$AD30)<>6,"X","") | CE30: =IF(COUNTBLANK($AE30)<>1,"X","") | CF30: =IF(SUM(CM30:CQ30)=0,"",SUM(CM30:CQ30)) | CG30: ré-homologation non demandée | CK30: =IF(AND(Y30="",Z30="",AA30="",AB30="",AC30="",AD30="",AF30="",AG30="",AH30="",AI30="",AJ30="",AK30="",AL30="",AM30="",AN30="",AO30="",AP30="",AQ30="",AR30="",AS30="",AT30="",AU30="",AV30="",AW30="",AX30="",AY30="",AZ30="",BA30="",BB30="",BC30="",BD30="",BE30="",BF30="",BG30="",BH30="",BI30="",BJ30="",AE30="",BK30="",BL30="",BM30="",BN30="",BY30=6),"X","") | CL30: =COUNTIF(Y30:BN30,"X") -> 1 | CM30: =7-COUNTBLANK(Y30:AE30) -> 0 | CN30: =2-COUNTBLANK(AJ30:AK30) -> 0 | CO30: =2-COUNTBLANK(AN30:AO30) -> 0 | CP30: =2-COUNTBLANK(AV30:AW30) -> 0 | CQ30: =13-COUNTBLANK(BB30:BN30) -> 0 | CR30: =IF(INDEX($Y30:$BN30,MATCH(CR$20,$Y$20:$BN$20,0))="X",CR$20,"") -> #N/A | CS30: =IF(INDEX($Y30:$BN30,MATCH(CS$20,$Y$20:$BN$20,0))="X",CS$20,"") -> #N/A | CT30: =IF(INDEX($Y30:$BN30,MATCH(CT$20,$Y$20:$BN$20,0))="X",CT$20,"") -> #N/A | CU30: =IF(INDEX($Y30:$BN30,MATCH(CU$20,$Y$20:$BN$20,0))="X",CU$20,"") -> #N/A | CV30: =IF(INDEX($Y30:$BN30,MATCH(CV$20,$Y$20:$BN$20,0))="X",CV$20,"") -> #N/A | CW30: =IF(INDEX($Y30:$BN30,MATCH(CW$20,$Y$20:$BN$20,0))="X",CW$20,"") -> #N/A | CX30: =IF(INDEX($Y30:$BN30,MATCH(CX$20,$Y$20:$BN$20,0))="X",CX$20,"") -> #N/A | CY30: =IF(INDEX($Y30:$BN30,MATCH(CY$20,$Y$20:$BN$20,0))="X",CY$20,"") -> #N/A | ... EG30: =IF(INDEX($Y30:$BN30,MATCH(EG$20,$Y$20:$BN$20,0))="X",EG$20,"") -> #N/A | EH30: =CONCATENATE(CR30,CS30,CT30,CU30,CV30,CW30,CX30,CY30,CZ30,DA30,DB30,DC30,DD30,DE30,DF30,DG30,DH30,DI30,DJ30,DK30,DL30,DM30,DN30,DO30,DP30,DQ30,DR30,DS30,DT30,DU30,DV30,DW30,DX30,DY30,DZ30,EA30,EB30,EC30) -> #N/A | EI30: =CONCATENATE(ED30,EE30,EF30,EG30) -> #N/A | EJ30: =SUBSTITUTE(EH30,"H",", H") -> #N/A | EK30: =SUBSTITUTE(EI30,"H",", H") -> #N/A | EL30: =IF(EJ30="","",RIGHT(EJ30,LEN(EJ30)-1)) -> #N/A | EM30: =IF(EK30="","",RIGHT(EK30,LEN(EK30)-1)) -> #N/A
A31: =CONCATENATE(C31,"_",E31,"_",G31) -> 2070133_Prélevée_Devrinol F (1) | B31: =IF(COUNTIF($A$21:A31,A31)>1,"Doublon","") | C31: 2070133 | D31: Napropamide | E31: Prélevée | F31: 0 | G31: Devrinol F (1) | J31: UPL France | K31: SC | L31: 450 g/l | M31: 5-15 | N31: 9 | O31: 6 en association | P31: =N31*0.3 -> 2.7 | Q31: =N31*0.5 -> 4.5 | R31: 4050 | W31: X | AH31: X | BO31: vignes-mères et jeunes plantation : non applicable / raisin de table : BBCH 09 | BP31: vignes-mères et jeunes plantation : non applicable / raisin de table : BBCH 09 | BS31: 20 : vignes-mères en plein et jeunes plantations en plein / 5 : raisin de table sur le rang et jeunes plantations sur le rang | BT31: 20 : vignes-mères en plein et jeunes plantations en plein / 5 : raisin de table sur le rang et jeunes plantations sur le rang | BU31: 10 | BV31: Non | BX31: 5 | BY31: 6 | BZ31: 1 | CC31: vignes-mères : 00 à 09 entre fév et mai / rain de table : 00 à 09 entre fév et mai sur le rang uniquement / jeunes plantations en plein ou sur le rang : jusqu'à 59 entre fév et mai | CD31: =IF(COUNTBLANK($Y31:$AD31)<>6,"X","") | CE31: =IF(COUNTBLANK($AE31)<>1,"X","") | CF31: =IF(SUM(CM31:CQ31)=0,"",SUM(CM31:CQ31)) | CG31: Utilisable uniquement sur raisin de table et vigne NON en production. Ne pas appliquer ce produit entre juin et janvier. Ne pas appliquer sur sols artificiellement drainés (application en plein). Ne pas appliquer sur plus de 50% de la surface (application sur le rang) | CK31: =IF(AND(Y31="",Z31="",AA31="",AB31="",AC31="",AD31="",AF31="",AG31="",AH31="",AI31="",AJ31="",AK31="",AL31="",AM31="",AN31="",AO31="",AP31="",AQ31="",AR31="",AS31="",AT31="",AU31="",AV31="",AW31="",AX31="",AY31="",AZ31="",BA31="",BB31="",BC31="",BD31="",BE31="",BF31="",BG31="",BH31="",BI31="",BJ31="",#REF!="",BK31="",BL31="",BM31="",BN31="",BY31=6),"X","") -> #REF! | CL31: =COUNTIF(Y31:BN31,"X") -> 1 | CM31: =7-COUNTBLANK(Y31:AE31) -> 0 | CN31: =2-COUNTBLANK(AJ31:AK31) -> 0 | CO31: =2-COUNTBLANK(AN31:AO31) -> 0 | CP31: =2-COUNTBLANK(AV31:AW31) -> 0 | CQ31: =13-COUNTBLANK(BB31:BN31) -> 0 | CR31: =IF(INDEX($Y31:$BN31,MATCH(CR$20,$Y$20:$BN$20,0))="X",CR$20,"") -> #N/A | CS31: =IF(INDEX($Y31:$BN31,MATCH(CS$20,$Y$20:$BN$20,0))="X",CS$20,"") -> #N/A | CT31: =IF(INDEX($Y31:$BN31,MATCH(CT$20,$Y$20:$BN$20,0))="X",CT$20,"") -> #N/A | CU31: =IF(INDEX($Y31:$BN31,MATCH(CU$20,$Y$20:$BN$20,0))="X",CU$20,"") -> #N/A | CV31: =IF(INDEX($Y31:$BN31,MATCH(CV$20,$Y$20:$BN$20,0))="X",CV$20,"") -> #N/A | CW31: =IF(INDEX($Y31:$BN31,MATCH(CW$20,$Y$20:$BN$20,0))="X",CW$20,"") -> #N/A | CX31: =IF(INDEX($Y31:$BN31,MATCH(CX$20,$Y$20:$BN$20,0))="X",CX$20,"") -> #N/A | CY31: =IF(INDEX($Y31:$BN31,MATCH(CY$20,$Y$20:$BN$20,0))="X",CY$20,"") -> #N/A | ... EG31: =IF(INDEX($Y31:$BN31,MATCH(EG$20,$Y$20:$BN$20,0))="X",EG$20,"") -> #N/A | EH31: =CONCATENATE(CR31,CS31,CT31,CU31,CV31,CW31,CX31,CY31,CZ31,DA31,DB31,DC31,DD31,DE31,DF31,DG31,DH31,DI31,DJ31,DK31,DL31,DM31,DN31,DO31,DP31,DQ31,DR31,DS31,DT31,DU31,DV31,DW31,DX31,DY31,DZ31,EA31,EB31,EC31) -> #N/A | EI31: =CONCATENATE(ED31,EE31,EF31,EG31) -> #N/A | EJ31: =SUBSTITUTE(EH31,"H",", H") -> #N/A | EK31: =SUBSTITUTE(EI31,"H",", H") -> #N/A | EL31: =IF(EJ31="","",RIGHT(EJ31,LEN(EJ31)-1)) -> #N/A | EM31: =IF(EK31="","",RIGHT(EK31,LEN(EK31)-1)) -> #N/A
A32: =CONCATENATE(C32,"_",E32,"_",G32) -> 2080029_Prélevée_Boa | B32: =IF(COUNTIF($A$21:A32,A32)>1,"Doublon","") | C32: 2080029 | D32: Penoxsulame | E32: Prélevée | F32: 2 | G32: Boa | J32: CORTEVA agriscience TM | K32: OD | L32: 20 g/l | M32: 1 | N32: 0.75 | P32: =N32*0.3 -> 0.225 | Q32: =N32*0.5 -> 0.375 | R32: 15 | V32: X | W32: X | AF32: X | AG32: X | AR32: X | AS32: X | AU32: X | BO32: 56 | BP32: 56 | BS32: 5 | BU32: 10 | BV32: Non | BY32: 48 | BZ32: 1 | CC32: Min 00 - Max 75 | CD32: =IF(COUNTBLANK($Y32:$AD32)<>6,"X","") | CE32: =IF(COUNTBLANK($AE32)<>1,"X","") | CF32: =IF(SUM(CM32:CQ32)=0,"",SUM(CM32:CQ32)) | CG32: 50 % de la surface max. Application en l'absence de rejets (pampres ou gourmands) au niveau du sol. | CK32: =IF(AND(Y32="",Z32="",AA32="",AB32="",AC32="",AD32="",AF32="",AG32="",AH32="",AI32="",AJ32="",AK32="",AL32="",AM32="",AN32="",AO32="",AP32="",AQ32="",AR32="",AS32="",AT32="",AU32="",AV32="",AW32="",AX32="",AY32="",AZ32="",BA32="",BB32="",BC32="",BD32="",BE32="",BF32="",BG32="",BH32="",BI32="",BJ32="",AE32="",BK32="",BL32="",BM32="",BN32="",BY32=6),"X","") | CL32: =COUNTIF(Y32:BN32,"X") -> 5 | CM32: =7-COUNTBLANK(Y32:AE32) -> 0 | CN32: =2-COUNTBLANK(AJ32:AK32) -> 0 | CO32: =2-COUNTBLANK(AN32:AO32) -> 0 | CP32: =2-COUNTBLANK(AV32:AW32) -> 0 | CQ32: =13-COUNTBLANK(BB32:BN32) -> 0 | CR32: =IF(INDEX($Y32:$BN32,MATCH(CR$20,$Y$20:$BN$20,0))="X",CR$20,"") -> #N/A | CS32: =IF(INDEX($Y32:$BN32,MATCH(CS$20,$Y$20:$BN$20,0))="X",CS$20,"") -> #N/A | CT32: =IF(INDEX($Y32:$BN32,MATCH(CT$20,$Y$20:$BN$20,0))="X",CT$20,"") -> #N/A | CU32: =IF(INDEX($Y32:$BN32,MATCH(CU$20,$Y$20:$BN$20,0))="X",CU$20,"") -> #N/A | CV32: =IF(INDEX($Y32:$BN32,MATCH(CV$20,$Y$20:$BN$20,0))="X",CV$20,"") -> #N/A | CW32: =IF(INDEX($Y32:$BN32,MATCH(CW$20,$Y$20:$BN$20,0))="X",CW$20,"") -> #N/A | CX32: =IF(INDEX($Y32:$BN32,MATCH(CX$20,$Y$20:$BN$20,0))="X",CX$20,"") -> #N/A | CY32: =IF(INDEX($Y32:$BN32,MATCH(CY$20,$Y$20:$BN$20,0))="X",CY$20,"") -> #N/A | ... EG32: =IF(INDEX($Y32:$BN32,MATCH(EG$20,$Y$20:$BN$20,0))="X",EG$20,"") -> #N/A | EH32: =CONCATENATE(CR32,CS32,CT32,CU32,CV32,CW32,CX32,CY32,CZ32,DA32,DB32,DC32,DD32,DE32,DF32,DG32,DH32,DI32,DJ32,DK32,DL32,DM32,DN32,DO32,DP32,DQ32,DR32,DS32,DT32,DU32,DV32,DW32,DX32,DY32,DZ32,EA32,EB32,EC32) -> #N/A | EI32: =CONCATENATE(ED32,EE32,EF32,EG32) -> #N/A | EJ32: =SUBSTITUTE(EH32,"H",", H") -> #N/A | EK32: =SUBSTITUTE(EI32,"H",", H") -> #N/A | EL32: =IF(EJ32="","",RIGHT(EJ32,LEN(EJ32)-1)) -> #N/A | EM32: =IF(EK32="","",RIGHT(EK32,LEN(EK32)-1)) -> #N/A
A33: =CONCATENATE(C33,"_",E33,"_",G33) -> 2090093_Postlevée_Roundup Evolution, Roundup Flash plus, Buggy 450 Power | B33: =IF(COUNTIF($A$21:A33,A33)>1,"Doublon","") | C33: 2090093 | D33: Glyphosate acide | E33: Postlevée | F33: 9 | G33: Roundup Evolution, Roundup Flash plus, Buggy 450 Power | J33: Monsanto | K33: SL | L33: 450 g/l | M33: 20 | N33: 3,2 à 6,4 | R33: 1440 à 2880 | V33: X | AU33: X | BO33: 21 | BP33: 21 | BS33: 5 | BU33: 10 | BV33: Non | BY33: 24 | CC33: - | CE33: =IF(COUNTBLANK($AE33)<>1,"X","") | CF33: =IF(SUM(CM33:CQ33)=0,"",SUM(CM33:CQ33)) | CL33: =COUNTIF(Y33:BN33,"X") -> 1 | CM33: =7-COUNTBLANK(Y33:AE33) -> 0 | CN33: =2-COUNTBLANK(AJ33:AK33) -> 0 | CO33: =2-COUNTBLANK(AN33:AO33) -> 0 | CP33: =2-COUNTBLANK(AV33:AW33) -> 0 | CQ33: =13-COUNTBLANK(BB33:BN33) -> 0 | CR33: =IF(INDEX($Y33:$BN33,MATCH(CR$20,$Y$20:$BN$20,0))="X",CR$20,"") -> #N/A | CS33: =IF(INDEX($Y33:$BN33,MATCH(CS$20,$Y$20:$BN$20,0))="X",CS$20,"") -> #N/A | CT33: =IF(INDEX($Y33:$BN33,MATCH(CT$20,$Y$20:$BN$20,0))="X",CT$20,"") -> #N/A | CU33: =IF(INDEX($Y33:$BN33,MATCH(CU$20,$Y$20:$BN$20,0))="X",CU$20,"") -> #N/A | CV33: =IF(INDEX($Y33:$BN33,MATCH(CV$20,$Y$20:$BN$20,0))="X",CV$20,"") -> #N/A | CW33: =IF(INDEX($Y33:$BN33,MATCH(CW$20,$Y$20:$BN$20,0))="X",CW$20,"") -> #N/A | CX33: =IF(INDEX($Y33:$BN33,MATCH(CX$20,$Y$20:$BN$20,0))="X",CX$20,"") -> #N/A | CY33: =IF(INDEX($Y33:$BN33,MATCH(CY$20,$Y$20:$BN$20,0))="X",CY$20,"") -> #N/A | ... EG33: =IF(INDEX($Y33:$BN33,MATCH(EG$20,$Y$20:$BN$20,0))="X",EG$20,"") -> #N/A | EH33: =CONCATENATE(CR33,CS33,CT33,CU33,CV33,CW33,CX33,CY33,CZ33,DA33,DB33,DC33,DD33,DE33,DF33,DG33,DH33,DI33,DJ33,DK33,DL33,DM33,DN33,DO33,DP33,DQ33,DR33,DS33,DT33,DU33,DV33,DW33,DX33,DY33,DZ33,EA33,EB33,EC33) -> #N/A | EI33: =CONCATENATE(ED33,EE33,EF33,EG33) -> #N/A | EJ33: =SUBSTITUTE(EH33,"H",", H") -> #N/A | EK33: =SUBSTITUTE(EI33,"H",", H") -> #N/A | EL33: =IF(EJ33="","",RIGHT(EJ33,LEN(EJ33)-1)) -> #N/A | EM33: =IF(EK33="","",RIGHT(EK33,LEN(EK33)-1)) -> #N/A
