Workbook
Name forme: '[1]sous forme'!$B$2:$B$19
Name L_Herb: TRANSPOSE(_xlfn._xlws.FILTER(HERBICIDES!Liste_herbicides,NOT(ISERROR(SEARCH(Calendrier[[#This Row],[Saisie du produit utilisé sur la parcelle]],Herbicides[Identifiant_Ligne])))))
Name Liste_herbicides: HERBICIDES!$A$21:$A$55

Sheet Calendrier de traitement 2020 
A1: Calendrier de traitement
A3: Date | B3: Saisie du produit utilisé sur la parcelle | C3: Nom commercial | D3: Substance active | E3: Cible Mildiou / Oidium /Autres /Herbicide | F3: Dose utilisée① l ou kg /ha | G3: Dose Homologuée② l ou kg /ha | H3: Calcul IFT③ | I3: Bio-contrôle④ OUI/NON | J3: CMR⑤ OUI/NON | K3: Fin d'utilisation | L3: ZNT | M3: DSR | N3: Nb d'application
B4: Spotlight | C4: 2010415_Postlevée_Gibson, Envision 450 | D4: {=IF(Calendrier[[#This Row],[Nom commercial]]="","",(_xlfn.XLOOKUP(C4,HERBICIDES!Liste_herbicides,Herbicides[Substance active],0,0,1)))} -> Glyphosate acide | E4: {=IF(Calendrier[[#This Row],[Nom commercial]]="","",(_xlfn.XLOOKUP(Calendrier[[#This Row],[Nom commercial]],HERBICIDES!Liste_herbicides,Herbicides[Famille / Cible],0,0,1)))} -> Postlevée | F4: 0.5 | G4: {=IF(Calendrier[[#This Row],[Nom commercial]]="","",(_xlfn.XLOOKUP(Calendrier[[#This Row],[Nom commercial]],HERBICIDES!Liste_herbicides,Herbicides[Dose/ha kg ou L],0,0,1)))} -> 3,2 à 6,4 | H4: =Calendrier[[#This Row],[Dose utilisée① l ou kg /ha]]/Calendrier[[#This Row],[Dose Homologuée② l ou kg /ha]] -> #VALUE! | I4: {=IF(Calendrier[[#This Row],[Nom commercial]]="","",(_xlfn.XLOOKUP(Calendrier[[#This Row],[Nom commercial]],HERBICIDES!Liste_herbicides,Herbicides[Liste biocontrôle],0,0,1)))} -> 0 | J4: {=IF(Calendrier[[#This Row],[Nom commercial]]="","",(_xlfn.XLOOKUP(Calendrier[[#This Row],[Nom commercial]],HERBICIDES!Liste_herbicides,Herbicides[Produit CMR2],0,0,1)))} | K4: {=IF(Calendrier[[#This Row],[Nom commercial]]="","",(_xlfn.XLOOKUP(Calendrier[[#This Row],[Nom commercial]],HERBICIDES!Liste_herbicides,Herbicides[Date de fin d''utilisation],0,0,1)))} -> 0 | L4: {=IF(Calendrier[[#This Row],[Nom commercial]]="","",(_xlfn.XLOOKUP(Calendrier[[#This Row],[Nom commercial]],HERBICIDES!Liste_herbicides,Herbicides[ZNT eau],0,0,1)))} -> 5 | M4: {=IF(Calendrier[[#This Row],[Nom commercial]]="","",(_xlfn.XLOOKUP(Calendrier[[#This Row],[Nom commercial]],HERBICIDES!Liste_herbicides,Herbicides[DS Riverains],0,0,1)))} -> 10 | N4: {=IF(Calendrier[[#This Row],[Nom commercial]]="","",(_xlfn.XLOOKUP(Calendrier[[#This Row],[Nom commercial]],HERBICIDES!Liste_herbicides,Herbicides[Nb d''appli maxi],0,0,1)))} -> 0 | R4: {=IFERROR(TRANSPOSE(_xlfn._xlws.FILTER(HERBICIDES!Liste_herbicides,NOT(ISERROR(SEARCH(Calendrier[[#This Row],[Saisie du produit utilisé sur la parcelle]],Herbicides[Identifiant_Ligne]))))),"")} -> 2000327_Action Contact_Spotlight Plus**, Shark** | S4: 2000327_Epamprage_Spotlight Plus, Shark
B5: spo | C5: 2000327_Epamprage_Spotlight Plus, Shark | D5: {=IF(Calendrier[[#This Row],[Nom commercial]]="","",(_xlfn.XLOOKUP(C5,HERBICIDES!Liste_herbicides,Herbicides[Substance active],0,0,1)))} -> Carfentrazone ethyle | E5: {=IF(Calendrier[[#This Row],[Nom commercial]]="","",(_xlfn.XLOOKUP(Calendrier[[#This Row],[Nom commercial]],HERBICIDES!Liste_herbicides,Herbicides[Famille / Cible],0,0,1)))} -> Epamprage | F5: 0.1 | G5: {=IF(Calendrier[[#This Row],[Nom commercial]]="","",(_xlfn.XLOOKUP(Calendrier[[#This Row],[Nom commercial]],HERBICIDES!Liste_herbicides,Herbicides[Dose/ha kg ou L],0,0,1)))} -> 0.3 | H5: =Calendrier[[#This Row],[Dose utilisée① l ou kg /ha]]/Calendrier[[#This Row],[Dose Homologuée② l ou kg /ha]] -> 0.33333333 | I5: {=IF(Calendrier[[#This Row],[Nom commercial]]="","",(_xlfn.XLOOKUP(Calendrier[[#This Row],[Nom commercial]],HERBICIDES!Liste_herbicides,Herbicides[Liste biocontrôle],0,0,1)))} -> 0 | J5: {=IF(Calendrier[[#This Row],[Nom commercial]]="","",(_xlfn.XLOOKUP(Calendrier[[#This Row],[Nom commercial]],HERBICIDES!Liste_herbicides,Herbicides[Produit CMR2],0,0,1)))} | K5: {=IF(Calendrier[[#This Row],[Saisie du produit utilisé sur la parcelle]]="","",(_xlfn.XLOOKUP(Calendrier[[#This Row],[Saisie du produit utilisé sur la parcelle]],HERBICIDES!Liste_herbicides,Herbicides[Date de fin d''utilisation],0,0,1)))} -> 0 | L5: {=IF(Calendrier[[#This Row],[Nom commercial]]="","",(_xlfn.XLOOKUP(Calendrier[[#This Row],[Nom commercial]],HERBICIDES!Liste_herbicides,Herbicides[ZNT eau],0,0,1)))} -> 5 | M5: {=IF(Calendrier[[#This Row],[Nom commercial]]="","",(_xlfn.XLOOKUP(Calendrier[[#This Row],[Nom commercial]],HERBICIDES!Liste_herbicides,Herbicides[DS Riverains],0,0,1)))} -> 10 | N5: {=IF(Calendrier[[#This Row],[Nom commercial]]="","",(_xlfn.XLOOKUP(Calendrier[[#This Row],[Nom commercial]],HERBICIDES!Liste_herbicides,Herbicides[Nb d''appli maxi],0,0,1)))} -> 2 | R5: {=IFERROR(TRANSPOSE(_xlfn._xlws.FILTER(HERBICIDES!Liste_herbicides,NOT(ISERROR(SEARCH(Calendrier[[#This Row],[Saisie du produit utilisé sur la parcelle]],Herbicides[Identifiant_Ligne]))))),"")} -> 2000327_Action Contact_Spotlight Plus**, Shark** | S5: 2000327_Epamprage_Spotlight Plus, Shark
B6: gibson | C6: 2010415_Postlevée_Gibson, Envision 450 | D6: =IF(C6="","",(_xlfn.XLOOKUP(C6,HERBICIDES!$A$21:$A$55,HERBICIDES!$D$21:$D$55,0,0,1))) -> Glyphosate acide | E6: =IF(C6="","",(_xlfn.XLOOKUP(C6,HERBICIDES!$A$21:$A$55,HERBICIDES!$E$21:$E$55,0,0,1))) -> Postlevée | G6: =IF(C6="","",(_xlfn.XLOOKUP(C6,HERBICIDES!$A$21:$A$55,HERBICIDES!$N$21:$N$55,0,0,1))) -> 3,2 à 6,4 | H6: =Calendrier[[#This Row],[Dose utilisée① l ou kg /ha]]/Calendrier[[#This Row],[Dose Homologuée② l ou kg /ha]] -> #VALUE! | I6: =IF(C6="","",(_xlfn.XLOOKUP(C6,HERBICIDES!$A$21:$A$55,HERBICIDES!$S$21:$S$55,0,0,1))) -> 0 | J6: =IF(C6="","",(_xlfn.XLOOKUP(C6,HERBICIDES!$A$21:$A$55,HERBICIDES!$CD$21:$CD$55,0,0,1))) | K6: =IF(C6="","",(_xlfn.XLOOKUP(C6,HERBICIDES!$A$21:$A$55,HERBICIDES!$I$21:$I$55,0,0,1))) -> 0 | L6: =IF(C6="","",(_xlfn.XLOOKUP(C6,HERBICIDES!$A$21:$A$55,HERBICIDES!$BS$21:$BS$55,0,0,1))) -> 5 | M6: =IF(C6="","",(_xlfn.XLOOKUP(C6,HERBICIDES!$A$21:$A$55,HERBICIDES!$BU$21:$BU$55,0,0,1))) -> 10 | N6: =IF(C6="","",(_xlfn.XLOOKUP(C6,HERBICIDES!$A$21:$A$55,HERBICIDES!$BZ$21:$BZ$55,0,0,1))) -> 0 | R6: {=IFERROR(TRANSPOSE(_xlfn._xlws.FILTER(HERBICIDES!Liste_herbicides,NOT(ISERROR(SEARCH(Calendrier[[#This Row],[Saisie du produit utilisé sur la parcelle]],Herbicides[Identifiant_Ligne]))))),"")} -> 2010415_Postlevée_Gibson, Envision 450
B7: gly | C7: 2080113_Postlevée_Glyfos Dakar | D7: =IF(C7="","",(_xlfn.XLOOKUP(C7,HERBICIDES!$A$21:$A$55,HERBICIDES!$D$21:$D$55,0,0,1))) -> Glyphosate acide | E7: =IF(C7="","",(_xlfn.XLOOKUP(C7,HERBICIDES!$A$21:$A$55,HERBICIDES!$E$21:$E$55,0,0,1))) -> Postlevée | G7: =IF(C7="","",(_xlfn.XLOOKUP(C7,HERBICIDES!$A$21:$A$55,HERBICIDES!$N$21:$N$55,0,0,1))) -> 2 à 4 | H7: =Calendrier[[#This Row],[Dose utilisée① l ou kg /ha]]/Calendrier[[#This Row],[Dose Homologuée② l ou kg /ha]] -> #VALUE! | I7: =IF(C7="","",(_xlfn.XLOOKUP(C7,HERBICIDES!$A$21:$A$55,HERBICIDES!$S$21:$S$55,0,0,1))) -> 0 | J7: =IF(C7="","",(_xlfn.XLOOKUP(C7,HERBICIDES!$A$21:$A$55,HERBICIDES!$CD$21:$CD$55,0,0,1))) | K7: =IF(C7="","",(_xlfn.XLOOKUP(C7,HERBICIDES!$A$21:$A$55,HERBICIDES!$I$21:$I$55,0,0,1))) -> 0 | L7: =IF(C7="","",(_xlfn.XLOOKUP(C7,HERBICIDES!$A$21:$A$55,HERBICIDES!$BS$21:$BS$55,0,0,1))) -> 5 | M7: =IF(C7="","",(_xlfn.XLOOKUP(C7,HERBICIDES!$A$21:$A$55,HERBICIDES!$BU$21:$BU$55,0,0,1))) -> 10 | N7: =IF(C7="","",(_xlfn.XLOOKUP(C7,HERBICIDES!$A$21:$A$55,HERBICIDES!$BZ$21:$BZ$55,0,0,1))) -> 1 | R7: {=IFERROR(TRANSPOSE(_xlfn._xlws.FILTER(HERBICIDES!Liste_herbicides,NOT(ISERROR(SEARCH(Calendrier[[#This Row],[Saisie du produit utilisé sur la parcelle]],Herbicides[Identifiant_Ligne]))))),"")} -> 2080113_Postlevée_Glyfos Dakar
D8: =IF(C8="","",(_xlfn.XLOOKUP(C8,HERBICIDES!$A$21:$A$55,HERBICIDES!$D$21:$D$55,0,0,1))) | E8: =IF(C8="","",(_xlfn.XLOOKUP(C8,HERBICIDES!$A$21:$A$55,HERBICIDES!$E$21:$E$55,0,0,1))) | G8: =IF(C8="","",(_xlfn.XLOOKUP(C8,HERBICIDES!$A$21:$A$55,HERBICIDES!$N$21:$N$55,0,0,1))) | I8: =IF(C8="","",(_xlfn.XLOOKUP(C8,HERBICIDES!$A$21:$A$55,HERBICIDES!$S$21:$S$55,0,0,1))) | J8: =IF(C8="","",(_xlfn.XLOOKUP(C8,HERBICIDES!$A$21:$A$55,HERBICIDES!$CD$21:$CD$55,0,0,1))) | K8: =IF(C8="","",(_xlfn.XLOOKUP(C8,HERBICIDES!$A$21:$A$55,HERBICIDES!$I$21:$I$55,0,0,1))) | L8: =IF(C8="","",(_xlfn.XLOOKUP(C8,HERBICIDES!$A$21:$A$55,HERBICIDES!$BS$21:$BS$55,0,0,1))) | M8: =IF(C8="","",(_xlfn.XLOOKUP(C8,HERBICIDES!$A$21:$A$55,HERBICIDES!$BU$21:$BU$55,0,0,1))) | N8: =IF(C8="","",(_xlfn.XLOOKUP(C8,HERBICIDES!$A$21:$A$55,HERBICIDES!$BZ$21:$BZ$55,0,0,1))) | R8: {=IFERROR(TRANSPOSE(_xlfn._xlws.FILTER(HERBICIDES!Liste_herbicides,NOT(ISERROR(SEARCH(Calendrier[[#This Row],[Saisie du produit utilisé sur la parcelle]],Herbicides[Identifiant_Ligne]))))),"")}
D9: =IF(C9="","",(_xlfn.XLOOKUP(C9,HERBICIDES!$A$21:$A$55,HERBICIDES!$D$21:$D$55,0,0,1))) | E9: =IF(C9="","",(_xlfn.XLOOKUP(C9,HERBICIDES!$A$21:$A$55,HERBICIDES!$E$21:$E$55,0,0,1))) | G9: =IF(C9="","",(_xlfn.XLOOKUP(C9,HERBICIDES!$A$21:$A$55,HERBICIDES!$N$21:$N$55,0,0,1))) | I9: =IF(C9="","",(_xlfn.XLOOKUP(C9,HERBICIDES!$A$21:$A$55,HERBICIDES!$S$21:$S$55,0,0,1))) | J9: =IF(C9="","",(_xlfn.XLOOKUP(C9,HERBICIDES!$A$21:$A$55,HERBICIDES!$CD$21:$CD$55,0,0,1))) | K9: =IF(C9="","",(_xlfn.XLOOKUP(C9,HERBICIDES!$A$21:$A$55,HERBICIDES!$I$21:$I$55,0,0,1))) | L9: =IF(C9="","",(_xlfn.XLOOKUP(C9,HERBICIDES!$A$21:$A$55,HERBICIDES!$BS$21:$BS$55,0,0,1))) | M9: =IF(C9="","",(_xlfn.XLOOKUP(C9,HERBICIDES!$A$21:$A$55,HERBICIDES!$BU$21:$BU$55,0,0,1))) | N9: =IF(C9="","",(_xlfn.XLOOKUP(C9,HERBICIDES!$A$21:$A$55,HERBICIDES!$BZ$21:$BZ$55,0,0,1))) | R9: {=IFERROR(TRANSPOSE(_xlfn._xlws.FILTER(HERBICIDES!Liste_herbicides,NOT(ISERROR(SEARCH(Calendrier[[#This Row],[Saisie du produit utilisé sur la parcelle]],Herbicides[Identifiant_Ligne]))))),"")}
D10: =IF(C10="","",(_xlfn.XLOOKUP(C10,HERBICIDES!$A$21:$A$55,HERBICIDES!$D$21:$D$55,0,0,1))) | E10: =IF(C10="","",(_xlfn.XLOOKUP(C10,HERBICIDES!$A$21:$A$55,HERBICIDES!$E$21:$E$55,0,0,1))) | G10: =IF(C10="","",(_xlfn.XLOOKUP(C10,HERBICIDES!$A$21:$A$55,HERBICIDES!$N$21:$N$55,0,0,1))) | I10: =IF(C10="","",(_xlfn.XLOOKUP(C10,HERBICIDES!$A$21:$A$55,HERBICIDES!$S$21:$S$55,0,0,1))) | J10: =IF(C10="","",(_xlfn.XLOOKUP(C10,HERBICIDES!$A$21:$A$55,HERBICIDES!$CD$21:$CD$55,0,0,1))) | K10: =IF(C10="","",(_xlfn.XLOOKUP(C10,HERBICIDES!$A$21:$A$55,HERBICIDES!$I$21:$I$55,0,0,1))) | L10: =IF(C10="","",(_xlfn.XLOOKUP(C10,HERBICIDES!$A$21:$A$55,HERBICIDES!$BS$21:$BS$55,0,0,1))) | M10: =IF(C10="","",(_xlfn.XLOOKUP(C10,HERBICIDES!$A$21:$A$55,HERBICIDES!$BU$21:$BU$55,0,0,1))) | N10: =IF(C10="","",(_xlfn.XLOOKUP(C10,HERBICIDES!$A$21:$A$55,HERBICIDES!$BZ$21:$BZ$55,0,0,1))) | R10: {=IFERROR(TRANSPOSE(_xlfn._xlws.FILTER(HERBICIDES!Liste_herbicides,NOT(ISERROR(SEARCH(Calendrier[[#This Row],[Saisie du produit utilisé sur la parcelle]],Herbicides[Identifiant_Ligne]))))),"")}
D11: =IF(C11="","",(_xlfn.XLOOKUP(C11,HERBICIDES!$A$21:$A$55,HERBICIDES!$D$21:$D$55,0,0,1))) | E11: =IF(C11="","",(_xlfn.XLOOKUP(C11,HERBICIDES!$A$21:$A$55,HERBICIDES!$E$21:$E$55,0,0,1))) | G11: =IF(C11="","",(_xlfn.XLOOKUP(C11,HERBICIDES!$A$21:$A$55,HERBICIDES!$N$21:$N$55,0,0,1))) | I11: =IF(C11="","",(_xlfn.XLOOKUP(C11,HERBICIDES!$A$21:$A$55,HERBICIDES!$S$21:$S$55,0,0,1))) | J11: =IF(C11="","",(_xlfn.XLOOKUP(C11,HERBICIDES!$A$21:$A$55,HERBICIDES!$CD$21:$CD$55,0,0,1))) | K11: =IF(C11="","",(_xlfn.XLOOKUP(C11,HERBICIDES!$A$21:$A$55,HERBICIDES!$I$21:$I$55,0,0,1))) | L11: =IF(C11="","",(_xlfn.XLOOKUP(C11,HERBICIDES!$A$21:$A$55,HERBICIDES!$BS$21:$BS$55,0,0,1))) | M11: =IF(C11="","",(_xlfn.XLOOKUP(C11,HERBICIDES!$A$21:$A$55,HERBICIDES!$BU$21:$BU$55,0,0,1))) | N11: =IF(C11="","",(_xlfn.XLOOKUP(C11,HERBICIDES!$A$21:$A$55,HERBICIDES!$BZ$21:$BZ$55,0,0,1))) | R11: {=IFERROR(TRANSPOSE(_xlfn._xlws.FILTER(HERBICIDES!Liste_herbicides,NOT(ISERROR(SEARCH(Calendrier[[#This Row],[Saisie du produit utilisé sur la parcelle]],Herbicides[Identifiant_Ligne]))))),"")}
D12: =IF(C12="","",(_xlfn.XLOOKUP(C12,HERBICIDES!$A$21:$A$55,HERBICIDES!$D$21:$D$55,0,0,1))) | E12: =IF(C12="","",(_xlfn.XLOOKUP(C12,HERBICIDES!$A$21:$A$55,HERBICIDES!$E$21:$E$55,0,0,1))) | G12: =IF(C12="","",(_xlfn.XLOOKUP(C12,HERBICIDES!$A$21:$A$55,HERBICIDES!$N$21:$N$55,0,0,1))) | I12: =IF(C12="","",(_xlfn.XLOOKUP(C12,HERBICIDES!$A$21:$A$55,HERBICIDES!$S$21:$S$55,0,0,1))) | J12: =IF(C12="","",(_xlfn.XLOOKUP(C12,HERBICIDES!$A$21:$A$55,HERBICIDES!$CD$21:$CD$55,0,0,1))) | K12: =IF(C12="","",(_xlfn.XLOOKUP(C12,HERBICIDES!$A$21:$A$55,HERBICIDES!$I$21:$I$55,0,0,1))) | L12: =IF(C12="","",(_xlfn.XLOOKUP(C12,HERBICIDES!$A$21:$A$55,HERBICIDES!$BS$21:$BS$55,0,0,1))) | M12: =IF(C12="","",(_xlfn.XLOOKUP(C12,HERBICIDES!$A$21:$A$55,HERBICIDES!$BU$21:$BU$55,0,0,1))) | N12: =IF(C12="","",(_xlfn.XLOOKUP(C12,HERBICIDES!$A$21:$A$55,HERBICIDES!$BZ$21:$BZ$55,0,0,1))) | R12: {=IFERROR(TRANSPOSE(_xlfn._xlws.FILTER(HERBICIDES!Liste_herbicides,NOT(ISERROR(SEARCH(Calendrier[[#This Row],[Saisie du produit utilisé sur la parcelle]],Herbicides[Identifiant_Ligne]))))),"")}
D13: =IF(C13="","",(_xlfn.XLOOKUP(C13,HERBICIDES!$A$21:$A$55,HERBICIDES!$D$21:$D$55,0,0,1))) | E13: =IF(C13="","",(_xlfn.XLOOKUP(C13,HERBICIDES!$A$21:$A$55,HERBICIDES!$E$21:$E$55,0,0,1))) | G13: =IF(C13="","",(_xlfn.XLOOKUP(C13,HERBICIDES!$A$21:$A$55,HERBICIDES!$N$21:$N$55,0,0,1))) | I13: =IF(C13="","",(_xlfn.XLOOKUP(C13,HERBICIDES!$A$21:$A$55,HERBICIDES!$S$21:$S$55,0,0,1))) | J13: =IF(C13="","",(_xlfn.XLOOKUP(C13,HERBICIDES!$A$21:$A$55,HERBICIDES!$CD$21:$CD$55,0,0,1))) | K13: =IF(C13="","",(_xlfn.XLOOKUP(C13,HERBICIDES!$A$21:$A$55,HERBICIDES!$I$21:$I$55,0,0,1))) | L13: =IF(C13="","",(_xlfn.XLOOKUP(C13,HERBICIDES!$A$21:$A$55,HERBICIDES!$BS$21:$BS$55,0,0,1))) | M13: =IF(C13="","",(_xlfn.XLOOKUP(C13,HERBICIDES!$A$21:$A$55,HERBICIDES!$BU$21:$BU$55,0,0,1))) | N13: =IF(C13="","",(_xlfn.XLOOKUP(C13,HERBICIDES!$A$21:$A$55,HERBICIDES!$BZ$21:$BZ$55,0,0,1))) | R13: {=IFERROR(TRANSPOSE(_xlfn._xlws.FILTER(HERBICIDES!Liste_herbicides,NOT(ISERROR(SEARCH(Calendrier[[#This Row],[Saisie du produit utilisé sur la parcelle]],Herbicides[Identifiant_Ligne]))))),"")}
D14: =IF(C14="","",(_xlfn.XLOOKUP(C14,HERBICIDES!$A$21:$A$55,HERBICIDES!$D$21:$D$55,0,0,1))) | E14: =IF(C14="","",(_xlfn.XLOOKUP(C14,HERBICIDES!$A$21:$A$55,HERBICIDES!$E$21:$E$55,0,0,1))) | G14: =IF(C14="","",(_xlfn.XLOOKUP(C14,HERBICIDES!$A$21:$A$55,HERBICIDES!$N$21:$N$55,0,0,1))) | I14: =IF(C14="","",(_xlfn.XLOOKUP(C14,HERBICIDES!$A$21:$A$55,HERBICIDES!$S$21:$S$55,0,0,1))) | J14: =IF(C14="","",(_xlfn.XLOOKUP(C14,HERBICIDES!$A$21:$A$55,HERBICIDES!$CD$21:$CD$55,0,0,1))) | K14: =IF(C14="","",(_xlfn.XLOOKUP(C14,HERBICIDES!$A$21:$A$55,HERBICIDES!$I$21:$I$55,0,0,1))) | L14: =IF(C14="","",(_xlfn.XLOOKUP(C14,HERBICIDES!$A$21:$A$55,HERBICIDES!$BS$21:$BS$55,0,0,1))) | M14: =IF(C14="","",(_xlfn.XLOOKUP(C14,HERBICIDES!$A$21:$A$55,HERBICIDES!$BU$21:$BU$55,0,0,1))) | N14: =IF(C14="","",(_xlfn.XLOOKUP(C14,HERBICIDES!$A$21:$A$55,HERBICIDES!$BZ$21:$BZ$55,0,0,1))) | R14: {=IFERROR(TRANSPOSE(_xlfn._xlws.FILTER(HERBICIDES!Liste_herbicides,NOT(ISERROR(SEARCH(Calendrier[[#This Row],[Saisie du produit utilisé sur la parcelle]],Herbicides[Identifiant_Ligne]))))),"")}
D15: =IF(C15="","",(_xlfn.XLOOKUP(C15,HERBICIDES!$A$21:$A$55,HERBICIDES!$D$21:$D$55,0,0,1))) | E15: =IF(C15="","",(_xlfn.XLOOKUP(C15,HERBICIDES!$A$21:$A$55,HERBICIDES!$E$21:$E$55,0,0,1))) | G15: =IF(C15="","",(_xlfn.XLOOKUP(C15,HERBICIDES!$A$21:$A$55,HERBICIDES!$N$21:$N$55,0,0,1))) | I15: =IF(C15="","",(_xlfn.XLOOKUP(C15,HERBICIDES!$A$21:$A$55,HERBICIDES!$S$21:$S$55,0,0,1))) | J15: =IF(C15="","",(_xlfn.XLOOKUP(C15,HERBICIDES!$A$21:$A$55,HERBICIDES!$CD$21:$CD$55,0,0,1))) | K15: =IF(C15="","",(_xlfn.XLOOKUP(C15,HERBICIDES!$A$21:$A$55,HERBICIDES!$I$21:$I$55,0,0,1))) | L15: =IF(C15="","",(_xlfn.XLOOKUP(C15,HERBICIDES!$A$21:$A$55,HERBICIDES!$BS$21:$BS$55,0,0,1))) | M15: =IF(C15="","",(_xlfn.XLOOKUP(C15,HERBICIDES!$A$21:$A$55,HERBICIDES!$BU$21:$BU$55,0,0,1))) | N15: =IF(C15="","",(_xlfn.XLOOKUP(C15,HERBICIDES!$A$21:$A$55,HERBICIDES!$BZ$21:$BZ$55,0,0,1))) | R15: {=IFERROR(TRANSPOSE(_xlfn._xlws.FILTER(HERBICIDES!Liste_herbicides,NOT(ISERROR(SEARCH(Calendrier[[#This Row],[Saisie du produit utilisé sur la parcelle]],Herbicides[Identifiant_Ligne]))))),"")}
D16: =IF(C16="","",(_xlfn.XLOOKUP(C16,HERBICIDES!$A$21:$A$55,HERBICIDES!$D$21:$D$55,0,0,1))) | E16: =IF(C16="","",(_xlfn.XLOOKUP(C16,HERBICIDES!$A$21:$A$55,HERBICIDES!$E$21:$E$55,0,0,1))) | G16: =IF(C16="","",(_xlfn.XLOOKUP(C16,HERBICIDES!$A$21:$A$55,HERBICIDES!$N$21:$N$55,0,0,1))) | I16: =IF(C16="","",(_xlfn.XLOOKUP(C16,HERBICIDES!$A$21:$A$55,HERBICIDES!$S$21:$S$55,0,0,1))) | J16: =IF(C16="","",(_xlfn.XLOOKUP(C16,HERBICIDES!$A$21:$A$55,HERBICIDES!$CD$21:$CD$55,0,0,1))) | K16: =IF(C16="","",(_xlfn.XLOOKUP(C16,HERBICIDES!$A$21:$A$55,HERBICIDES!$I$21:$I$55,0,0,1))) | L16: =IF(C16="","",(_xlfn.XLOOKUP(C16,HERBICIDES!$A$21:$A$55,HERBICIDES!$BS$21:$BS$55,0,0,1))) | M16: =IF(C16="","",(_xlfn.XLOOKUP(C16,HERBICIDES!$A$21:$A$55,HERBICIDES!$BU$21:$BU$55,0,0,1))) | N16: =IF(C16="","",(_xlfn.XLOOKUP(C16,HERBICIDES!$A$21:$A$55,HERBICIDES!$BZ$21:$BZ$55,0,0,1))) | R16: {=IFERROR(TRANSPOSE(_xlfn._xlws.FILTER(HERBICIDES!Liste_herbicides,NOT(ISERROR(SEARCH(Calendrier[[#This Row],[Saisie du produit utilisé sur la parcelle]],Herbicides[Identifiant_Ligne]))))),"")}
D17: =IF(C17="","",(_xlfn.XLOOKUP(C17,HERBICIDES!$A$21:$A$55,HERBICIDES!$D$21:$D$55,0,0,1))) | E17: =IF(C17="","",(_xlfn.XLOOKUP(C17,HERBICIDES!$A$21:$A$55,HERBICIDES!$E$21:$E$55,0,0,1))) | G17: =IF(C17="","",(_xlfn.XLOOKUP(C17,HERBICIDES!$A$21:$A$55,HERBICIDES!$N$21:$N$55,0,0,1))) | I17: =IF(C17="","",(_xlfn.XLOOKUP(C17,HERBICIDES!$A$21:$A$55,HERBICIDES!$S$21:$S$55,0,0,1))) | J17: =IF(C17="","",(_xlfn.XLOOKUP(C17,HERBICIDES!$A$21:$A$55,HERBICIDES!$CD$21:$CD$55,0,0,1))) | K17: =IF(C17="","",(_xlfn.XLOOKUP(C17,HERBICIDES!$A$21:$A$55,HERBICIDES!$I$21:$I$55,0,0,1))) | L17: =IF(C17="","",(_xlfn.XLOOKUP(C17,HERBICIDES!$A$21:$A$55,HERBICIDES!$BS$21:$BS$55,0,0,1))) | M17: =IF(C17="","",(_xlfn.XLOOKUP(C17,HERBICIDES!$A$21:$A$55,HERBICIDES!$BU$21:$BU$55,0,0,1))) | N17: =IF(C17="","",(_xlfn.XLOOKUP(C17,HERBICIDES!$A$21:$A$55,HERBICIDES!$BZ$21:$BZ$55,0,0,1))) | R17: {=IFERROR(TRANSPOSE(_xlfn._xlws.FILTER(HERBICIDES!Liste_herbicides,NOT(ISERROR(SEARCH(Calendrier[[#This Row],[Saisie du produit utilisé sur la parcelle]],Herbicides[Identifiant_Ligne]))))),"")}
D18: =IF(C18="","",(_xlfn.XLOOKUP(C18,HERBICIDES!$A$21:$A$55,HERBICIDES!$D$21:$D$55,0,0,1))) | E18: =IF(C18="","",(_xlfn.XLOOKUP(C18,HERBICIDES!$A$21:$A$55,HERBICIDES!$E$21:$E$55,0,0,1))) | G18: =IF(C18="","",(_xlfn.XLOOKUP(C18,HERBICIDES!$A$21:$A$55,HERBICIDES!$N$21:$N$55,0,0,1))) | I18: =IF(C18="","",(_xlfn.XLOOKUP(C18,HERBICIDES!$A$21:$A$55,HERBICIDES!$S$21:$S$55,0,0,1))) | J18: =IF(C18="","",(_xlfn.XLOOKUP(C18,HERBICIDES!$A$21:$A$55,HERBICIDES!$CD$21:$CD$55,0,0,1))) | K18: =IF(C18="","",(_xlfn.XLOOKUP(C18,HERBICIDES!$A$21:$A$55,HERBICIDES!$I$21:$I$55,0,0,1))) | L18: =IF(C18="","",(_xlfn.XLOOKUP(C18,HERBICIDES!$A$21:$A$55,HERBICIDES!$BS$21:$BS$55,0,0,1))) | M18: =IF(C18="","",(_xlfn.XLOOKUP(C18,HERBICIDES!$A$21:$A$55,HERBICIDES!$BU$21:$BU$55,0,0,1))) | N18: =IF(C18="","",(_xlfn.XLOOKUP(C18,HERBICIDES!$A$21:$A$55,HERBICIDES!$BZ$21:$BZ$55,0,0,1))) | R18: {=IFERROR(TRANSPOSE(_xlfn._xlws.FILTER(HERBICIDES!Liste_herbicides,NOT(ISERROR(SEARCH(Calendrier[[#This Row],[Saisie du produit utilisé sur la parcelle]],Herbicides[Identifiant_Ligne]))))),"")}
D19: =IF(C19="","",(_xlfn.XLOOKUP(C19,HERBICIDES!$A$21:$A$55,HERBICIDES!$D$21:$D$55,0,0,1))) | E19: =IF(C19="","",(_xlfn.XLOOKUP(C19,HERBICIDES!$A$21:$A$55,HERBICIDES!$E$21:$E$55,0,0,1))) | G19: =IF(C19="","",(_xlfn.XLOOKUP(C19,HERBICIDES!$A$21:$A$55,HERBICIDES!$N$21:$N$55,0,0,1))) | I19: =IF(C19="","",(_xlfn.XLOOKUP(C19,HERBICIDES!$A$21:$A$55,HERBICIDES!$S$21:$S$55,0,0,1))) | J19: =IF(C19="","",(_xlfn.XLOOKUP(C19,HERBICIDES!$A$21:$A$55,HERBICIDES!$CD$21:$CD$55,0,0,1))) | K19: =IF(C19="","",(_xlfn.XLOOKUP(C19,HERBICIDES!$A$21:$A$55,HERBICIDES!$I$21:$I$55,0,0,1))) | L19: =IF(C19="","",(_xlfn.XLOOKUP(C19,HERBICIDES!$A$21:$A$55,HERBICIDES!$BS$21:$BS$55,0,0,1))) | M19: =IF(C19="","",(_xlfn.XLOOKUP(C19,HERBICIDES!$A$21:$A$55,HERBICIDES!$BU$21:$BU$55,0,0,1))) | N19: =IF(C19="","",(_xlfn.XLOOKUP(C19,HERBICIDES!$A$21:$A$55,HERBICIDES!$BZ$21:$BZ$55,0,0,1))) | R19: {=IFERROR(TRANSPOSE(_xlfn._xlws.FILTER(HERBICIDES!Liste_herbicides,NOT(ISERROR(SEARCH(Calendrier[[#This Row],[Saisie du produit utilisé sur la parcelle]],Herbicides[Identifiant_Ligne]))))),"")}
R20: {=IFERROR(TRANSPOSE(_xlfn._xlws.FILTER(HERBICIDES!Liste_herbicides,NOT(ISERROR(SEARCH(Calendrier[[#This Row],[Saisie du produit utilisé sur la parcelle]],Herbicides[Identifiant_Ligne]))))),"")}
A21: ①Dose utilisée : Dose utilisée sur votre exploitation lors du traitement | R21: {=IFERROR(TRANSPOSE(_xlfn._xlws.FILTER(HERBICIDES!Liste_herbicides,NOT(ISERROR(SEARCH(Calendrier[[#This Row],[Saisie du produit utilisé sur la parcelle]],Herbicides[Identifiant_Ligne]))))),"")}
A22: ②Dose homologuée : Dose maximale autorisée par traitement définie pour chaque usage du produit phytopharmaceutique | R22: {=IFERROR(TRANSPOSE(_xlfn._xlws.FILTER(HERBICIDES!Liste_herbicides,NOT(ISERROR(SEARCH(Calendrier[[#This Row],[Saisie du produit utilisé sur la parcelle]],Herbicides[Identifiant_Ligne]))))),"")}
A23: ③Indicateur de Fréquence de Traitements phytosanitaires (IFT): indicateur de suivi de l'utilisation des produits phytopharmaceutiques à l’échelle de l’exploitation. Le calcul se fait par cible.
A24: ④Les produits de biocontrôle sont définis à l'article L. 253-6 du code rural et de la pêche maritime.
A25: ⑤Cancérigène Mutagène Reprotoxique (CMR) : Phrase de risque a trouver sur l'étiquette du produit
A26: CMR 1: H340 ou H350 ou H360 CMR 2: H341 ou H351 ou H361

Sheet HERBICIDES
C2: Utilisation des tableaux de produits phytosanitaires utilisables en vigne
C6: Ces tableaux sont des outils internes Chambres d’agriculture : en aucun cas ils ne doivent être transmis à d’autres organismes ou à des vignerons. Ces tableaux sont téléchargeables, modifiables et utilisables aux conditions suivantes : 1. En aucun cas modifier les tableaux initiaux sur Opéra. 2. Lors de toute utilisation des tableaux, citer comme source : le coût des fournitures en viticulture et œnologie et le groupe de travail Chambre d'agriculture "base de données nationale des spécialités phytosanitaires vigne" 3. Faire remonter les erreurs, les oublis ou les questions à la Chambre d'agriculture de la Gironde à Madame Séverine Dupin : s.dupin@gironde.chambagri.fr et à la Chambre d'agriculture de la Charente-Maritime à Madame Magdalena Girard : magdalena.girard@charente-maritime.chambagri.fr et à la Chambre d'agriculture du Vaucluse à Monsieur Rémi Vandamme : remi.vandamme@vaucluse.chambagri.fr 4. En aucun cas le groupe de travail ne pourra être tenu pour responsable de toute omission ou de toute erreur dans ces tableaux. Par exemple, il ne pourra pas être responsable de l'accident ou de la mauvaise mise en œuvre des produits phytosanitaires, résultant d’erreurs typographiques ou autres qui auraient pu figurer dans ces documents. Les légendes explicatives sont dans l'onglet légende. Tableau arrêté au 31/12/2021
C14: Spécificité Girondine : En Gironde, la convention collective fixe la DRE à minimum 12h. Les DRE de 6h sont donc automatiquement augmentées à 12h
U17: Pictogramme de danger | Y17: Avertissements mentions danger H3/H4 | CD17: Produits de type CMR | CK17: =IF(AND(Y17="",Z17="",AA17="",AB17="",AC17="",AD17="",AF17="",AG17="",AH17="",AI17="",AJ17="",AK17="",AL17="",AM17="",AN17="",AO17="",AP17="",AQ17="",AR17="",AS17="",AT17="",AU17="",AV17="",AW17="",AX17="",AY17="",AZ17="",BA17="",BB17="",BC17="",BD17="",BE17="",BF17="",BG17="",BH17="",BI17="",BJ17="",AE17="",BK17="",BL17="",BM17="",BN17="",BY17=6),"X","")
Y18: CMR2 | AE18: Mention complémentaire | AF18: Environnement | AJ18: Autres | CK18: =IF(AND(Y18="",Z18="",AA18="",AB18="",AC18="",AD18="",AF18="",AG18="",AH18="",AI18="",AJ18="",AK18="",AL18="",AM18="",AN18="",AO18="",AP18="",AQ18="",AR18="",AS18="",AT18="",AU18="",AV18="",AW18="",AX18="",AY18="",AZ18="",BA18="",BB18="",BC18="",BD18="",BE18="",BF18="",BG18="",BH18="",BI18="",BJ18="",AE18="",BK18="",BL18="",BM18="",BN18="",BY18=6),"X","")
H19: 44621 | I19: 44652 | S19: =INDEX([1]coloration!$D$1:$D$77,MATCH(S20,[1]coloration!$A$1:$A$77,0)) -> vert | T19: =INDEX([1]coloration!$D$1:$D$77,MATCH(T20,[1]coloration!$A$1:$A$77,0)) -> vert | U19: =INDEX([1]coloration!$D$1:$D$77,MATCH(U20,[1]coloration!$A$1:$A$77,0)) -> rouge | V19: =INDEX([1]coloration!$D$1:$D$77,MATCH(V20,[1]coloration!$A$1:$A$77,0)) -> rouge | W19: =INDEX([1]coloration!$D$1:$D$77,MATCH(W20,[1]coloration!$A$1:$A$77,0)) -> rouge | X19: =INDEX([1]coloration!$D$1:$D$77,MATCH(X20,[1]coloration!$A$1:$A$77,0)) -> rouge | Y19: =INDEX([1]coloration!$D$1:$D$77,MATCH(Y20,[1]coloration!$A$1:$A$77,0)) -> rouge | Z19: =INDEX([1]coloration!$D$1:$D$77,MATCH(Z20,[1]coloration!$A$1:$A$77,0)) -> rouge | ... CF19: =INDEX([1]coloration!$D$1:$D$77,MATCH(CF20,[1]coloration!$A$1:$A$77,0)) -> NC
A20: Identifiant_Ligne | B20: Doublon | C20: N°AMM | D20: Substance active | E20: Famille / Cible | F20: Code résistance HRAC | G20: Nom Commercial | H20: Date de fin de commercialisation | I20: Date de fin d'utilisation | J20: Société | K20: Sous forme | L20: Concentration en s.a | M20: Emballage | N20: Dose/ha kg ou L | O20: Dose préconisée par la firme (< dose homologuée) | P20: Dose sous le rang 30% | Q20: Dose sous le rang 50% | R20: g/ha s.a. | S20: Liste biocontrôle | T20: AB | U20: picto cœur | V20: picto point exclamation | W20: picto environnement | X20: picto tête de mort | Y20: H341 | Z20: H351 | AA20: H361 | AB20: H361d | AC20: H361f | AD20: H361fd | AE20: H362 | AF20: H400 | AG20: H410 | AH20: H411 | AI20: H412 | AJ20: H300 | AK20: H301 | AL20: H302 | AM20: H304 | AN20: H310 | AO20: H311 | AP20: H312 | AQ20: H314 | AR20: H315 | AS20: H317 | AT20: H318 | AU20: H319 | AV20: H330 | AW20: H331 | AX20: H332 | AY20: H334 | AZ20: H335 | BA20: H336 | BB20: H340 | BC20: H350 | BD20: H350i | BE20: H360 | BF20: H360D | BG20: H360Df | BH20: H360F | BI20: H360fd | BJ20: H360FD2 | BK20: H370 | BL20: H371 | BM20: H372 | BN20: H373 | BO20: DAR | BP20: DAR raisin de table | BQ20: Spe 1 | BR20: Spe 8 | BS20: ZNT eau | BT20: DVP | BU20: DS Riverains | BV20: DSR par AMM Oui/Non | BW20: ZNT Arthropodes | BX20: ZNT Plantes non cibles | BY20: DRE en h | BZ20: Nb d'appli maxi | CA20: Mention abeille | CB20: Intervalle mini entre 2 applis | CC20: Stades d'application (BBCH) | CD20: Produit CMR2 | CE20: Mention complémentaire | CF20: Nombre de phrases de risque limitant les possibilités de mélange | CG20: Informations complémentaires | CH20: [colonne CC] | CI20: [colonne CD] | CJ20: [colonne CE] | CK20: [colonne CG] | CL20: nb_total_phrases_risques_LL | CM20: Phrase CMR2 | CN20: Phrases H300,301 | CO20: Phrases H310,311 | CP20: Phrases H330,331 | CQ20: Phrases H340 à H373 | CR20: H3003 | CS20: H3014 | CT20: H3025 | CU20: H3046 | CV20: H3107 | CW20: H3118 | CX20: H3129 | CY20: H31410 | CZ20: H31511 | DA20: H31712 | DB20: H31813 | DC20: H31914 | DD20: H33015 | DE20: H33116 | DF20: H33217 | DG20: H33418 | DH20: H33519 | DI20: H33620 | DJ20: H34021 | DK20: H34122 | DL20: H35023 | DM20: H350i24 | DN20: H35125 | DO20: H36026 | DP20: H360D27 | DQ20: H360Df28 | DR20: H360F29 | DS20: H360fd30 | DT20: H360FD31 | DU20: H36132 | DV20: H361d33 | DW20: H361f34 | DX20: H361fd35 | DY20: H36236 | DZ20: H37037 | EA20: H37138 | EB20: H37239 | EC20: H37340 | ED20: H40041 | EE20: H41042 | EF20: H41143 | EG20: H41244 | EH20: H3_concat | EI20: H4_concat | EJ20: H3_ajout_espaces | EK20: H4_ajout_espaces | EL20: Liste des phrases de risque santé humaine (H3--) | EM20: Liste des phrases de risque environnement (H4--)
A21: =CONCATENATE(C21,"_",E21,"_",G21) -> 2010415_Postlevée_Gibson, Envision 450 | B21: =IF(COUNTIF($A$21:A21,A21)>1,"Doublon","") | C21: 2010415 | D21: Glyphosate acide | E21: Postlevée | F21: 9 | G21: Gibson, Envision 450 | H21: 44455 | J21: FMC | K21: SL | L21: 450 g/l | M21: 5-20 | N21: 3,2 à 6,4 | P21: 1,13 à 2,15 | Q21: 1,6 à 3,2 | R21: 2880 | BO21: 7 | BP21: 7 | BS21: 5 | BU21: 10 | BV21: Non | BW21: 5 | BX21: 5 | BY21: 6 | CC21: - | CD21: =IF(COUNTBLANK($Y21:$AD21)<>6,"X","") | CE21: =IF(COUNTBLANK($AE21)<>1,"X","") | CF21: =IF(SUM(CM21:CQ21)=0,"",SUM(CM21:CQ21)) | CG21: Ne sera pas redéposé (perte AMM fin approbation) | CK21: =IF(AND(Y21="",Z21="",AA21="",AB21="",AC21="",AD21="",AF21="",AG21="",AH21="",AI21="",AJ21="",AK21="",AL21="",AM21="",AN21="",AO21="",AP21="",AQ21="",AR21="",AS21="",AT21="",AU21="",AV21="",AW21="",AX21="",AY21="",AZ21="",BA21="",BB21="",BC21="",BD21="",BE21="",BF21="",BG21="",BH21="",BI21="",BJ21="",#REF!="",BK21="",BL21="",BM21="",BN21="",BY21=6),"X","") -> #REF! | CL21: =COUNTIF(Y21:BN21,"X") -> 0 | CM21: =7-COUNTBLANK(Y21:AE21) -> 0 | CN21: =2-COUNTBLANK(AJ21:AK21) -> 0 | CO21: =2-COUNTBLANK(AN21:AO21) -> 0 | CP21: =2-COUNTBLANK(AV21:AW21) -> 0 | CQ21: =13-COUNTBLANK(BB21:BN21) -> 0 | CR21: =IF(INDEX($Y21:$BN21,MATCH(CR$20,$Y$20:$BN$20,0))="X",CR$20,"") -> #N/A | CS21: =IF(INDEX($Y21:$BN21,MATCH(CS$20,$Y$20:$BN$20,0))="X",CS$20,"") -> #N/A | CT21: =IF(INDEX($Y21:$BN21,MATCH(CT$20,$Y$20:$BN$20,0))="X",CT$20,"") -> #N/A | CU21: =IF(INDEX($Y21:$BN21,MATCH(CU$20,$Y$20:$BN$20,0))="X",CU$20,"") -> #N/A | CV21: =IF(INDEX($Y21:$BN21,MATCH(CV$20,$Y$20:$BN$20,0))="X",CV$20,"") -> #N/A | CW21: =IF(INDEX($Y21:$BN21,MATCH(CW$20,$Y$20:$BN$20,0))="X",CW$20,"") -> #N/A | CX21: =IF(INDEX($Y21:$BN21,MATCH(CX$20,$Y$20:$BN$20,0))="X",CX$20,"") -> #N/A | CY21: =IF(INDEX($Y21:$BN21,MATCH(CY$20,$Y$20:$BN$20,0))="X",CY$20,"") -> #N/A | ... EG21: =IF(INDEX($Y21:$BN21,MATCH(EG$20,$Y$20:$BN$20,0))="X",EG$20,"") -> #N/A | EH21: =CONCATENATE(CR21,CS21,CT21,CU21,CV21,CW21,CX21,CY21,CZ21,DA21,DB21,DC21,DD21,DE21,DF21,DG21,DH21,DI21,DJ21,DK21,DL21,DM21,DN21,DO21,DP21,DQ21,DR21,DS21,DT21,DU21,DV21,DW21,DX21,DY21,DZ21,EA21,EB21,EC21) -> #N/A | EI21: =CONCATENATE(ED21,EE21,EF21,EG21) -> #N/A | EJ21: =SUBSTITUTE(EH21,"H",", H") -> #N/A | EK21: =SUBSTITUTE(EI21,"H",", H") -> #N/A | EL21: =IF(EJ21="","",RIGHT(EJ21,LEN(EJ21)-1)) -> #N/A | EM21: =IF(EK21="","",RIGHT(EK21,LEN(EK21)-1)) -> #N/A
A22: =CONCATENATE(C22,"_",E22,"_",G22) -> 2080113_Postlevée_Glyfos Dakar | B22: =IF(COUNTIF($A$21:A22,A22)>1,"Doublon","") | C22: 2080113 | D22: Glyphosate acide | E22: Postlevée | F22: 9 | G22: Glyfos Dakar | H22: 44455 | J22: FMC | K22: WG | L22: 680 g/kg | M22: 10 | N22: 2 à 4 | P22: 0,67 à 1,33 | Q22: 1 à 2 | R22: 2720 | AI22: X | BO22: 21 | BP22: 21 | BS22: 5 | BU22: 10 | BV22: Non | BY22: 6 | BZ22: 1 | CC22: - | CD22: =IF(COUNTBLANK($Y22:$AD22)<>6,"X","") | CE22: =IF(COUNTBLANK($AE22)<>1,"X","") | CF22: =IF(SUM(CM22:CQ22)=0,"",SUM(CM22:CQ22)) | CG22: Ne sera pas redéposé (perte AMM fin approbation) | CK22: =IF(AND(Y22="",Z22="",AA22="",AB22="",AC22="",AD22="",AF22="",AG22="",AH22="",AI22="",AJ22="",AK22="",AL22="",AM22="",AN22="",AO22="",AP22="",AQ22="",AR22="",AS22="",AT22="",AU22="",AV22="",AW22="",AX22="",AY22="",AZ22="",BA22="",BB22="",BC22="",BD22="",BE22="",BF22="",BG22="",BH22="",BI22="",BJ22="",#REF!="",BK22="",BL22="",BM22="",BN22="",BY22=6),"X","") -> #REF! | CL22: =COUNTIF(Y22:BN22,"X") -> 1 | CM22: =7-COUNTBLANK(Y22:AE22) -> 0 | CN22: =2-COUNTBLANK(AJ22:AK22) -> 0 | CO22: =2-COUNTBLANK(AN22:AO22) -> 0 | CP22: =2-COUNTBLANK(AV22:AW22) -> 0 | CQ22: =13-COUNTBLANK(BB22:BN22) -> 0 | CR22: =IF(INDEX($Y22:$BN22,MATCH(CR$20,$Y$20:$BN$20,0))="X",CR$20,"") -> #N/A | CS22: =IF(INDEX($Y22:$BN22,MATCH(CS$20,$Y$20:$BN$20,0))="X",CS$20,"") -> #N/A | CT22: =IF(INDEX($Y22:$BN22,MATCH(CT$20,$Y$20:$BN$20,0))="X",CT$20,"") -> #N/A | CU22: =IF(INDEX($Y22:$BN22,MATCH(CU$20,$Y$20:$BN$20,0))="X",CU$20,"") -> #N/A | CV22: =IF(INDEX($Y22:$BN22,MATCH(CV$20,$Y$20:$BN$20,0))="X",CV$20,"") -> #N/A | CW22: =IF(INDEX($Y22:$BN22,MATCH(CW$20,$Y$20:$BN$20,0))="X",CW$20,"") -> #N/A | CX22: =IF(INDEX($Y22:$BN22,MATCH(CX$20,$Y$20:$BN$20,0))="X",CX$20,"") -> #N/A | CY22: =IF(INDEX($Y22:$BN22,MATCH(CY$20,$Y$20:$BN$20,0))="X",CY$20,"") -> #N/A | ... EG22: =IF(INDEX($Y22:$BN22,MATCH(EG$20,$Y$20:$BN$20,0))="X",EG$20,"") -> #N/A | EH22: =CONCATENATE(CR22,CS22,CT22,CU22,CV22,CW22,CX22,CY22,CZ22,DA22,DB22,DC22,DD22,DE22,DF22,DG22,DH22,DI22,DJ22,DK22,DL22,DM22,DN22,DO22,DP22,DQ22,DR22,DS22,DT22,DU22,DV22,DW22,DX22,DY22,DZ22,EA22,EB22,EC22) -> #N/A | EI22: =CONCATENATE(ED22,EE22,EF22,EG22) -> #N/A | EJ22: =SUBSTITUTE(EH22,"H",", H") -> #N/A | EK22: =SUBSTITUTE(EI22,"H",", H") -> #N/A | EL22: =IF(EJ22="","",RIGHT(EJ22,LEN(EJ22)-1)) -> #N/A | EM22: =IF(EK22="","",RIGHT(EK22,LEN(EK22)-1)) -> #N/A
A23: =CONCATENATE(C23,"_",E23,"_",G23) -> 2160960_Postlevée_Buggy Greenline, Tamrok Greenline, Devit, Skate | B23: =IF(COUNTIF($A$21:A23,A23)>1,"Doublon","") | C23: 2160960 | D23: Glyphosate acide | E23: Postlevée | F23: 9 | G23: Buggy Greenline, Tamrok Greenline, Devit, Skate | H23: 43980 | I23: 44164 | J23: Phyteurop | K23: SL | L23: 240 g/l | M23: 10-20 | N23: 4,5 à 12 | P23: 1,5 à 4 | Q23: 2,25 à 6 | R23: 2880 | BO23: 21 | BP23: 21 | BS23: 5 | BU23: 10 | BY23: 6 | CC23: - | CD23: =IF(COUNTBLANK($Y23:$AD23)<>6,"X","") | CE23: =IF(COUNTBLANK($AE23)<>1,"X","") | CF23: =IF(SUM(CM23:CQ23)=0,"",SUM(CM23:CQ23)) | CG23: Retrait Anses novembre 2019 - Utilisation novembre 2020 | CK23: =IF(AND(Y23="",Z23="",AA23="",AB23="",AC23="",AD23="",AF23="",AG23="",AH23="",AI23="",AJ23="",AK23="",AL23="",AM23="",AN23="",AO23="",AP23="",AQ23="",AR23="",AS23="",AT23="",AU23="",AV23="",AW23="",AX23="",AY23="",AZ23="",BA23="",BB23="",BC23="",BD23="",BE23="",BF23="",BG23="",BH23="",BI23="",BJ23="",AE23="",BK23="",BL23="",BM23="",BN23="",BY23=6),"X","") -> X | CL23: =COUNTIF(Y23:BN23,"X") -> 0 | CM23: =7-COUNTBLANK(Y23:AE23) -> 0 | CN23: =2-COUNTBLANK(AJ23:AK23) -> 0 | CO23: =2-COUNTBLANK(AN23:AO23) -> 0 | CP23: =2-COUNTBLANK(AV23:AW23) -> 0 | CQ23: =13-COUNTBLANK(BB23:BN23) -> 0 | CR23: =IF(INDEX($Y23:$BN23,MATCH(CR$20,$Y$20:$BN$20,0))="X",CR$20,"") -> #N/A | CS23: =IF(INDEX($Y23:$BN23,MATCH(CS$20,$Y$20:$BN$20,0))="X",CS$20,"") -> #N/A | CT23: =IF(INDEX($Y23:$BN23,MATCH(CT$20,$Y$20:$BN$20,0))="X",CT$20,"") -> #N/A | CU23: =IF(INDEX($Y23:$BN23,MATCH(CU$20,$Y$20:$BN$20,0))="X",CU$20,"") -> #N/A | CV23: =IF(INDEX($Y23:$BN23,MATCH(CV$20,$Y$20:$BN$20,0))="X",CV$20,"") -> #N/A | CW23: =IF(INDEX($Y23:$BN23,MATCH(CW$20,$Y$20:$BN$20,0))="X",CW$20,"") -> #N/A | CX23: =IF(INDEX($Y23:$BN23,MATCH(CX$20,$Y$20:$BN$20,0))="X",CX$20,"") -> #N/A | CY23: =IF(INDEX($Y23:$BN23,MATCH(CY$20,$Y$20:$BN$20,0))="X",CY$20,"") -> #N/A | ... EG23: =IF(INDEX($Y23:$BN23,MATCH(EG$20,$Y$20:$BN$20,0))="X",EG$20,"") -> #N/A | EH23: =CONCATENATE(CR23,CS23,CT23,CU23,CV23,CW23,CX23,CY23,CZ23,DA23,DB23,DC23,DD23,DE23,DF23,DG23,DH23,DI23,DJ23,DK23,DL23,DM23,DN23,DO23,DP23,DQ23,DR23,DS23,DT23,DU23,DV23,DW23,DX23,DY23,DZ23,EA23,EB23,EC23) -> #N/A | EI23: =CONCATENATE(ED23,EE23,EF23,EG23) -> #N/A | EJ23: =SUBSTITUTE(EH23,"H",", H") -> #N/A | EK23: =SUBSTITUTE(EI23,"H",", H") -> #N/A | EL23: =IF(EJ23="","",RIGHT(EJ23,LEN(EJ23)-1)) -> #N/A | EM23: =IF(EK23="","",RIGHT(EK23,LEN(EK23)-1)) -> #N/A
A24: =CONCATENATE(C24,"_",E24,"_",G24) -> 9800555_Postlevée_Astéroïde, All in one | B24: =IF(COUNTIF($A$21:A24,A24)>1,"Doublon","") | C24: 9800555 | D24: Glyphosate acide | E24: Postlevée | F24: 9 | G24: Astéroïde, All in one | H24: 44197 | J24: FMC | K24: SL | L24: 360 g/l | M24: 5-20 | N24: 4 à 8 | P24: 1,33 à 2,66 | Q24: 2 à 4 | R24: 2880 | BO24: 21 | BP24: 21 | BS24: 5 | BU24: 10 | BV24: Non | BY24: 6 | BZ24: 1 | CC24: - | CD24: =IF(COUNTBLANK($Y24:$AD24)<>6,"X","") | CE24: =IF(COUNTBLANK($AE24)<>1,"X","") | CF24: =IF(SUM(CM24:CQ24)=0,"",SUM(CM24:CQ24)) | CG24: Ne sera pas redéposé (perte AMM fin approbation) | CK24: =IF(AND(Y24="",Z24="",AA24="",AB24="",AC24="",AD24="",AF24="",AG24="",AH24="",AI24="",AJ24="",AK24="",AL24="",AM24="",AN24="",AO24="",AP24="",AQ24="",AR24="",AS24="",AT24="",AU24="",AV24="",AW24="",AX24="",AY24="",AZ24="",BA24="",BB24="",BC24="",BD24="",BE24="",BF24="",BG24="",BH24="",BI24="",BJ24="",AE24="",BK24="",BL24="",BM24="",BN24="",BY24=6),"X","") -> X | CL24: =COUNTIF(Y24:BN24,"X") -> 0 | CM24: =7-COUNTBLANK(Y24:AE24) -> 0 | CN24: =2-COUNTBLANK(AJ24:AK24) -> 0 | CO24: =2-COUNTBLANK(AN24:AO24) -> 0 | CP24: =2-COUNTBLANK(AV24:AW24) -> 0 | CQ24: =13-COUNTBLANK(BB24:BN24) -> 0 | CR24: =IF(INDEX($Y24:$BN24,MATCH(CR$20,$Y$20:$BN$20,0))="X",CR$20,"") -> #N/A | CS24: =IF(INDEX($Y24:$BN24,MATCH(CS$20,$Y$20:$BN$20,0))="X",CS$20,"") -> #N/A | CT24: =IF(INDEX($Y24:$BN24,MATCH(CT$20,$Y$20:$BN$20,0))="X",CT$20,"") -> #N/A | CU24: =IF(INDEX($Y24:$BN24,MATCH(CU$20,$Y$20:$BN$20,0))="X",CU$20,"") -> #N/A | CV24: =IF(INDEX($Y24:$BN24,MATCH(CV$20,$Y$20:$BN$20,0))="X",CV$20,"") -> #N/A | CW24: =IF(INDEX($Y24:$BN24,MATCH(CW$20,$Y$20:$BN$20,0))="X",CW$20,"") -> #N/A | CX24: =IF(INDEX($Y24:$BN24,MATCH(CX$20,$Y$20:$BN$20,0))="X",CX$20,"") -> #N/A | CY24: =IF(INDEX($Y24:$BN24,MATCH(CY$20,$Y$20:$BN$20,0))="X",CY$20,"") -> #N/A | ... EG24: =IF(INDEX($Y24:$BN24,MATCH(EG$20,$Y$20:$BN$20,0))="X",EG$20,"") -> #N/A | EH24: =CONCATENATE(CR24,CS24,CT24,CU24,CV24,CW24,CX24,CY24,CZ24,DA24,DB24,DC24,DD24,DE24,DF24,DG24,DH24,DI24,DJ24,DK24,DL24,DM24,DN24,DO24,DP24,DQ24,DR24,DS24,DT24,DU24,DV24,DW24,DX24,DY24,DZ24,EA24,EB24,EC24) -> #N/A | EI24: =CONCATENATE(ED24,EE24,EF24,EG24) -> #N/A | EJ24: =SUBSTITUTE(EH24,"H",", H") -> #N/A | EK24: =SUBSTITUTE(EI24,"H",", H") -> #N/A | EL24: =IF(EJ24="","",RIGHT(EJ24,LEN(EJ24)-1)) -> #N/A | EM24: =IF(EK24="","",RIGHT(EK24,LEN(EK24)-1)) -> #N/A
A25: =CONCATENATE(C25,"_",E25,"_",G25) -> 2000044_AGS_Fusilade Max | B25: =IF(COUNTIF($A$21:A25,A25)>1,"Doublon","") | C25: 2000044 | D25: Fluazifop-p-butyl | E25: AGS | F25: 1 | G25: Fusilade Max | J25: De Sangosse | K25: EC | L25: 125 g/l | M25: 1-5-20 | N25: 2 | P25: =N25*0.32 -> 0.64 | Q25: =N25*0.5 -> 1 | R25: 250 | U25: X | W25: X | AB25: X | AF25: X | AG25: X | BO25: 28 | BP25: 28 | BS25: 5 | BU25: 10 | BV25: Non | BX25: 20 | BY25: 48 | BZ25: 1 | CC25: - | CD25: =IF(COUNTBLANK($Y25:$AD25)<>6,"X","") -> X | CE25: =IF(COUNTBLANK($AE25)<>1,"X","") | CF25: =IF(SUM(CM25:CQ25)=0,"",SUM(CM25:CQ25)) -> 1 | CG25: Ne pas appliquer sur plus de 50% de la surface | CK25: =IF(AND(Y25="",Z25="",AA25="",AB25="",AC25="",AD25="",AF25="",AG25="",AH25="",AI25="",AJ25="",AK25="",AL25="",AM25="",AN25="",AO25="",AP25="",AQ25="",AR25="",AS25="",AT25="",AU25="",AV25="",AW25="",AX25="",AY25="",AZ25="",BA25="",BB25="",BC25="",BD25="",BE25="",BF25="",BG25="",BH25="",BI25="",BJ25="",#REF!="",BK25="",BL25="",BM25="",BN25="",BY25=6),"X","") -> #REF! | CL25: =COUNTIF(Y25:BN25,"X") -> 3 | CM25: =7-COUNTBLANK(Y25:AE25) -> 1 | CN25: =2-COUNTBLANK(AJ25:AK25) -> 0 | CO25: =2-COUNTBLANK(AN25:AO25) -> 0 | CP25: =2-COUNTBLANK(AV25:AW25) -> 0 | CQ25: =13-COUNTBLANK(BB25:BN25) -> 0 | CR25: =IF(INDEX($Y25:$BN25,MATCH(CR$20,$Y$20:$BN$20,0))="X",CR$20,"") -> #N/A | CS25: =IF(INDEX($Y25:$BN25,MATCH(CS$20,$Y$20:$BN$20,0))="X",CS$20,"") -> #N/A | CT25: =IF(INDEX($Y25:$BN25,MATCH(CT$20,$Y$20:$BN$20,0))="X",CT$20,"") -> #N/A | CU25: =IF(INDEX($Y25:$BN25,MATCH(CU$20,$Y$20:$BN$20,0))="X",CU$20,"") -> #N/A | CV25: =IF(INDEX($Y25:$BN25,MATCH(CV$20,$Y$20:$BN$20,0))="X",CV$20,"") -> #N/A | CW25: =IF(INDEX($Y25:$BN25,MATCH(CW$20,$Y$20:$BN$20,0))="X",CW$20,"") -> #N/A | CX25: =IF(INDEX($Y25:$BN25,MATCH(CX$20,$Y$20:$BN$20,0))="X",CX$20,"") -> #N/A | CY25: =IF(INDEX($Y25:$BN25,MATCH(CY$20,$Y$20:$BN$20,0))="X",CY$20,"") -> #N/A | ... EG25: =IF(INDEX($Y25:$BN25,MATCH(EG$20,$Y$20:$BN$20,0))="X",EG$20,"") -> #N/A | EH25: =CONCATENATE(CR25,CS25,CT25,CU25,CV25,CW25,CX25,CY25,CZ25,DA25,DB25,DC25,DD25,DE25,DF25,DG25,DH25,DI25,DJ25,DK25,DL25,DM25,DN25,DO25,DP25,DQ25,DR25,DS25,DT25,DU25,DV25,DW25,DX25,DY25,DZ25,EA25,EB25,EC25) -> #N/A | EI25: =CONCATENATE(ED25,EE25,EF25,EG25) -> #N/A | EJ25: =SUBSTITUTE(EH25,"H",", H") -> #N/A | EK25: =SUBSTITUTE(EI25,"H",", H") -> #N/A | EL25: =IF(EJ25="","",RIGHT(EJ25,LEN(EJ25)-1)) -> #N/A | EM25: =IF(EK25="","",RIGHT(EK25,LEN(EK25)-1)) -> #N/A
A26: =CONCATENATE(C26,"_",E26,"_",G26) -> 2000202_Postlevée_Touchdown Système 4, Exprim | B26: =IF(COUNTIF($A$21:A26,A26)>1,"Doublon","") | C26: 2000202 | D26: Glyphosate acide | E26: Postlevée | F26: 9 | G26: Touchdown Système 4, Exprim | J26: Syngenta | K26: SL | L26: 360 g/l | M26: 20 | N26: 1.25 | P26: =N26*0.32 -> 0.4 | Q26: =N26*0.5 -> 0.625 | R26: 2160 | W26: X | AH26: X | BO26: 14 | BP26: 14 | BS26: 5 | BU26: 3 | BV26: Oui | BX26: 5 si ≥ 3 l/ha | BY26: 6 | BZ26: 1 | CC26: - | CD26: =IF(COUNTBLANK($Y26:$AD26)<>6,"X","") | CE26: =IF(COUNTBLANK($AE26)<>1,"X","") | CF26: =IF(SUM(CM26:CQ26)=0,"",SUM(CM26:CQ26)) | CG26: 20 % de la surface max, 450 g/ha/an, 6 l/ha en situation non mécanisable | CK26: =IF(AND(Y26="",Z26="",AA26="",AB26="",AC26="",AD26="",AF26="",AG26="",AH26="",AI26="",AJ26="",AK26="",AL26="",AM26="",AN26="",AO26="",AP26="",AQ26="",AR26="",AS26="",AT26="",AU26="",AV26="",AW26="",AX26="",AY26="",AZ26="",BA26="",BB26="",BC26="",BD26="",BE26="",BF26="",BG26="",BH26="",BI26="",BJ26="",#REF!="",BK26="",BL26="",BM26="",BN26="",BY26=6),"X","") -> #REF! | CL26: =COUNTIF(Y26:BN26,"X") -> 1 | CM26: =7-COUNTBLANK(Y26:AE26) -> 0 | CN26: =2-COUNTBLANK(AJ26:AK26) -> 0 | CO26: =2-COUNTBLANK(AN26:AO26) -> 0 | CP26: =2-COUNTBLANK(AV26:AW26) -> 0 | CQ26: =13-COUNTBLANK(BB26:BN26) -> 0 | CR26: =IF(INDEX($Y26:$BN26,MATCH(CR$20,$Y$20:$BN$20,0))="X",CR$20,"") -> #N/A | CS26: =IF(INDEX($Y26:$BN26,MATCH(CS$20,$Y$20:$BN$20,0))="X",CS$20,"") -> #N/A | CT26: =IF(INDEX($Y26:$BN26,MATCH(CT$20,$Y$20:$BN$20,0))="X",CT$20,"") -> #N/A | CU26: =IF(INDEX($Y26:$BN26,MATCH(CU$20,$Y$20:$BN$20,0))="X",CU$20,"") -> #N/A | CV26: =IF(INDEX($Y26:$BN26,MATCH(CV$20,$Y$20:$BN$20,0))="X",CV$20,"") -> #N/A | CW26: =IF(INDEX($Y26:$BN26,MATCH(CW$20,$Y$20:$BN$20,0))="X",CW$20,"") -> #N/A | CX26: =IF(INDEX($Y26:$BN26,MATCH(CX$20,$Y$20:$BN$20,0))="X",CX$20,"") -> #N/A | CY26: =IF(INDEX($Y26:$BN26,MATCH(CY$20,$Y$20:$BN$20,0))="X",CY$20,"") -> #N/A | ... EG26: =IF(INDEX($Y26:$BN26,MATCH(EG$20,$Y$20:$BN$20,0))="X",EG$20,"") -> #N/A | EH26: =CONCATENATE(CR26,CS26,CT26,CU26,CV26,CW26,CX26,CY26,CZ26,DA26,DB26,DC26,DD26,DE26,DF26,DG26,DH26,DI26,DJ26,DK26,DL26,DM26,DN26,DO26,DP26,DQ26,DR26,DS26,DT26,DU26,DV26,DW26,DX26,DY26,DZ26,EA26,EB26,EC26) -> #N/A | EI26: =CONCATENATE(ED26,EE26,EF26,EG26) -> #N/A | EJ26: =SUBSTITUTE(EH26,"H",", H") -> #N/A | EK26: =SUBSTITUTE(EI26,"H",", H") -> #N/A | EL26: =IF(EJ26="","",RIGHT(EJ26,LEN(EJ26)-1)) -> #N/A | EM26: =IF(EK26="","",RIGHT(EK26,LEN(EK26)-1)) -> #N/A
A27: =CONCATENATE(C27,"_",E27,"_",G27) -> 2000327_Action Contact_Spotlight Plus**, Shark** | B27: =IF(COUNTIF($A$21:A27,A27)>1,"Doublon","") | C27: 2000327 | D27: Carfentrazone ethyle | E27: Action Contact | F27: 14 | G27: Spotlight Plus**, Shark** | J27: FMC | K27: EO | L27: 60 g/l | M27: 1-5-15 | N27: 1 | P27: =N27*0.32 -> 0.32 | Q27: =N27*0.5 -> 0.5 | R27: 60 | V27: X | W27: X | AF27: X | AG27: X | AS27: X | BO27: 7 | BP27: 7 | BS27: 5 | BU27: 10 | BV27: Non | BX27: 20 | BY27: 48 | BZ27: 1 | CC27: - | CE27: =IF(COUNTBLANK($AE27)<>1,"X","") | CF27: =IF(SUM(CM27:CQ27)=0,"",SUM(CM27:CQ27)) | CK27: =IF(AND(Y27="",Z27="",AA27="",AB27="",AC27="",AD27="",AF27="",AG27="",AH27="",AI27="",AJ27="",AK27="",AL27="",AM27="",AN27="",AO27="",AP27="",AQ27="",AR27="",AS27="",AT27="",AU27="",AV27="",AW27="",AX27="",AY27="",AZ27="",BA27="",BB27="",BC27="",BD27="",BE27="",BF27="",BG27="",BH27="",BI27="",BJ27="",#REF!="",BK27="",BL27="",BM27="",BN27="",BY27=6),"X","") -> #REF! | CL27: =COUNTIF(Y27:BN27,"X") -> 3 | CM27: =7-COUNTBLANK(Y27:AE27) -> 0 | CN27: =2-COUNTBLANK(AJ27:AK27) -> 0 | CO27: =2-COUNTBLANK(AN27:AO27) -> 0 | CP27: =2-COUNTBLANK(AV27:AW27) -> 0 | CQ27: =13-COUNTBLANK(BB27:BN27) -> 0 | CR27: =IF(INDEX($Y27:$BN27,MATCH(CR$20,$Y$20:$BN$20,0))="X",CR$20,"") -> #N/A | CS27: =IF(INDEX($Y27:$BN27,MATCH(CS$20,$Y$20:$BN$20,0))="X",CS$20,"") -> #N/A | CT27: =IF(INDEX($Y27:$BN27,MATCH(CT$20,$Y$20:$BN$20,0))="X",CT$20,"") -> #N/A | CU27: =IF(INDEX($Y27:$BN27,MATCH(CU$20,$Y$20:$BN$20,0))="X",CU$20,"") -> #N/A | CV27: =IF(INDEX($Y27:$BN27,MATCH(CV$20,$Y$20:$BN$20,0))="X",CV$20,"") -> #N/A | CW27: =IF(INDEX($Y27:$BN27,MATCH(CW$20,$Y$20:$BN$20,0))="X",CW$20,"") -> #N/A | CX27: =IF(INDEX($Y27:$BN27,MATCH(CX$20,$Y$20:$BN$20,0))="X",CX$20,"") -> #N/A | CY27: =IF(INDEX($Y27:$BN27,MATCH(CY$20,$Y$20:$BN$20,0))="X",CY$20,"") -> #N/A | ... EG27: =IF(INDEX($Y27:$BN27,MATCH(EG$20,$Y$20:$BN$20,0))="X",EG$20,"") -> #N/A | EH27: =CONCATENATE(CR27,CS27,CT27,CU27,CV27,CW27,CX27,CY27,CZ27,DA27,DB27,DC27,DD27,DE27,DF27,DG27,DH27,DI27,DJ27,DK27,DL27,DM27,DN27,DO27,DP27,DQ27,DR27,DS27,DT27,DU27,DV27,DW27,DX27,DY27,DZ27,EA27,EB27,EC27) -> #N/A | EI27: =CONCATENATE(ED27,EE27,EF27,EG27) -> #N/A | EJ27: =SUBSTITUTE(EH27,"H",", H") -> #N/A | EK27: =SUBSTITUTE(EI27,"H",", H") -> #N/A | EL27: =IF(EJ27="","",RIGHT(EJ27,LEN(EJ27)-1)) -> #N/A | EM27: =IF(EK27="","",RIGHT(EK27,LEN(EK27)-1)) -> #N/A
A28: =CONCATENATE(C28,"_",E28,"_",G28) -> 2000327_Epamprage_Spotlight Plus, Shark | B28: =IF(COUNTIF($A$21:A28,A28)>1,"Doublon","") | C28: 2000327 | D28: Carfentrazone ethyle | E28: Epamprage | F28: 14 | G28: Spotlight Plus, Shark | J28: FMC | K28: EO | L28: 60 g/l | M28: 1-5-15 | N28: 0.3 | P28: =N28*0.32 -> 0.096 | Q28: =N28*0.5 -> 0.15 | R28: 18 | V28: X | W28: X | AF28: X | AG28: X | AS28: X | BO28: 90 | BP28: 90 | BS28: 5 | BU28: 10 | BV28: Non | BY28: 48 | BZ28: 2 | CC28: - | CD28: =IF(COUNTBLANK($Y28:$AD28)<>6,"X","") | CE28: =IF(COUNTBLANK($AE28)<>1,"X","") | CF28: =IF(SUM(CM28:CQ28)=0,"",SUM(CM28:CQ28)) | CK28: =IF(AND(Y28="",Z28="",AA28="",AB28="",AC28="",AD28="",AF28="",AG28="",AH28="",AI28="",AJ28="",AK28="",AL28="",AM28="",AN28="",AO28="",AP28="",AQ28="",AR28="",AS28="",AT28="",AU28="",AV28="",AW28="",AX28="",AY28="",AZ28="",BA28="",BB28="",BC28="",BD28="",BE28="",BF28="",BG28="",BH28="",BI28="",BJ28="",#REF!="",BK28="",BL28="",BM28="",BN28="",BY28=6),"X","") -> #REF! | CL28: =COUNTIF(Y28:BN28,"X") -> 3 | CM28: =7-COUNTBLANK(Y28:AE28) -> 0 | CN28: =2-COUNTBLANK(AJ28:AK28) -> 0 | CO28: =2-COUNTBLANK(AN28:AO28) -> 0 | CP28: =2-COUNTBLANK(AV28:AW28) -> 0 | CQ28: =13-COUNTBLANK(BB28:BN28) -> 0 | CR28: =IF(INDEX($Y28:$BN28,MATCH(CR$20,$Y$20:$BN$20,0))="X",CR$20,"") -> #N/A | CS28: =IF(INDEX($Y28:$BN28,MATCH(CS$20,$Y$20:$BN$20,0))="X",CS$20,"") -> #N/A | CT28: =IF(INDEX($Y28:$BN28,MATCH(CT$20,$Y$20:$BN$20,0))="X",CT$20,"") -> #N/A | CU28: =IF(INDEX($Y28:$BN28,MATCH(CU$20,$Y$20:$BN$20,0))="X",CU$20,"") -> #N/A | CV28: =IF(INDEX($Y28:$BN28,MATCH(CV$20,$Y$20:$BN$20,0))="X",CV$20,"") -> #N/A | CW28: =IF(INDEX($Y28:$BN28,MATCH(CW$20,$Y$20:$BN$20,0))="X",CW$20,"") -> #N/A | CX28: =IF(INDEX($Y28:$BN28,MATCH(CX$20,$Y$20:$BN$20,0))="X",CX$20,"") -> #N/A | CY28: =IF(INDEX($Y28:$BN28,MATCH(CY$20,$Y$20:$BN$20,0))="X",CY$20,"") -> #N/A | ... EG28: =IF(INDEX($Y28:$BN28,MATCH(EG$20,$Y$20:$BN$20,0))="X",EG$20,"") -> #N/A | EH28: =CONCATENATE(CR28,CS28,CT28,CU28,CV28,CW28,CX28,CY28,CZ28,DA28,DB28,DC28,DD28,DE28,DF28,DG28,DH28,DI28,DJ28,DK28,DL28,DM28,DN28,DO28,DP28,DQ28,DR28,DS28,DT28,DU28,DV28,DW28,DX28,DY28,DZ28,EA28,EB28,EC28) -> #N/A | EI28: =CONCATENATE(ED28,EE28,EF28,EG28) -> #N/A | EJ28: =SUBSTITUTE(EH28,"H",", H") -> #N/A | EK28: =SUBSTITUTE(EI28,"H",", H") -> #N/A | EL28: =IF(EJ28="","",RIGHT(EJ28,LEN(EJ28)-1)) -> #N/A | EM28: =IF(EK28="","",RIGHT(EK28,LEN(EK28)-1)) -> #N/A
A29: =CONCATENATE(C29,"_",E29,"_",G29) -> 2010427_AGS_LEOPARD 120 (1) | B29: =IF(COUNTIF($A$21:A29,A29)>1,"Doublon","") | C29: 2010427 | D29: Quizalofop ethyl | E29: AGS | F29: 1 | G29: LEOPARD 120 (1) | I29: 43921 | J29: ADAMA | K29: EC | L29: 125 g/l | M29: 5 | N29: 1.25 | P29: =N29*0.32 -> 0.4 | Q29: =N29*0.5 -> 0.625 | R29: 156.25 | U29: X | V29: X | W29: X | AM29: X | AS29: X | AT29: X | BO29: 3 | BP29: 3 | BS29: 5 | BU29: 10 | BY29: 24 | CC29: - | CD29: =IF(COUNTBLANK($Y29:$AD29)<>6,"X","") | CE29: =IF(COUNTBLANK($AE29)<>1,"X","") | CF29: =IF(SUM(CM29:CQ29)=0,"",SUM(CM29:CQ29)) | CG29: Retrait fin 2019 - Utilisation fin mars 2020 | CK29: =IF(AND(Y29="",Z29="",AA29="",AB29="",AC29="",AD29="",AF29="",AG29="",AH29="",AI29="",AJ29="",AK29="",AL29="",AM29="",AN29="",AO29="",AP29="",AQ29="",AR29="",AS29="",AT29="",AU29="",AV29="",AW29="",AX29="",AY29="",AZ29="",BA29="",BB29="",BC29="",BD29="",BE29="",BF29="",BG29="",BH29="",BI29="",BJ29="",#REF!="",BK29="",BL29="",BM29="",BN29="",BY29=6),"X","") -> #REF! | CL29: =COUNTIF(Y29:BN29,"X") -> 3 | CM29: =7-COUNTBLANK(Y29:AE29) -> 0 | CN29: =2-COUNTBLANK(AJ29:AK29) -> 0 | CO29: =2-COUNTBLANK(AN29:AO29) -> 0 | CP29: =2-COUNTBLANK(AV29:AW29) -> 0 | CQ29: =13-COUNTBLANK(BB29:BN29) -> 0 | CR29: =IF(INDEX($Y29:$BN29,MATCH(CR$20,$Y$20:$BN$20,0))="X",CR$20,"") -> #N/A | CS29: =IF(INDEX($Y29:$BN29,MATCH(CS$20,$Y$20:$BN$20,0))="X",CS$20,"") -> #N/A | CT29: =IF(INDEX($Y29:$BN29,MATCH(CT$20,$Y$20:$BN$20,0))="X",CT$20,"") -> #N/A | CU29: =IF(INDEX($Y29:$BN29,MATCH(CU$20,$Y$20:$BN$20,0))="X",CU$20,"") -> #N/A | CV29: =IF(INDEX($Y29:$BN29,MATCH(CV$20,$Y$20:$BN$20,0))="X",CV$20,"") -> #N/A | CW29: =IF(INDEX($Y29:$BN29,MATCH(CW$20,$Y$20:$BN$20,0))="X",CW$20,"") -> #N/A | CX29: =IF(INDEX($Y29:$BN29,MATCH(CX$20,$Y$20:$BN$20,0))="X",CX$20,"") -> #N/A | CY29: =IF(INDEX($Y29:$BN29,MATCH(CY$20,$Y$20:$BN$20,0))="X",CY$20,"") -> #N/A | ... EG29: =IF(INDEX($Y29:$BN29,MATCH(EG$20,$Y$20:$BN$20,0))="X",EG$20,"") -> #N/A | EH29: =CONCATENATE(CR29,CS29,CT29,CU29,CV29,CW29,CX29,CY29,CZ29,DA29,DB29,DC29,DD29,DE29,DF29,DG29,DH29,DI29,DJ29,DK29,DL29,DM29,DN29,DO29,DP29,DQ29,DR29,DS29,DT29,DU29,DV29,DW29,DX29,DY29,DZ29,EA29,EB29,EC29) -> #N/A | EI29: =CONCATENATE(ED29,EE29,EF29,EG29) -> #N/A | EJ29: =SUBSTITUTE(EH29,"H",", H") -> #N/A | EK29: =SUBSTITUTE(EI29,"H",", H") -> #N/A | EL29: =IF(EJ29="","",RIGHT(EJ29,LEN(EJ29)-1)) -> #N/A | EM29: =IF(EK29="","",RIGHT(EK29,LEN(EK29)-1)) -> #N/A
A30: =CONCATENATE(C30,"_",E30,"_",G30) -> 2030404_Prélevée_Baroud SC** | B30: =IF(COUNTIF($A$21:A30,A30)>1,"Doublon","") | C30: 2030404 | D30: Pendimethaline | E30: Prélevée | F30: 3 | G30: Baroud SC** | I30: 43889 | J30: Phyteurop | K30: SC | L30: 400 g/l | M30: 10 | N30: 6 | P30: =N30*0.3 -> 1.8 | Q30: =N30*0.5 -> 3 | R30: 2400 | W30: X | AG30: X | BO30: - | BP30: - | BS30: 50 | BU30: 10 | BY30: 6 | CD30: =IF(COUNTBLANK($Y30:$AD30)<>6,"X","") | CE30: =IF(COUNTBLANK($AE30)<>1,"X","") | CF30: =IF(SUM(CM30:CQ30)=0,"",SUM(CM30:CQ30)) | CG30: ré-homologation non demandée | CK30: =IF(AND(Y30="",Z30="",AA30="",AB30="",AC30="",AD30="",AF30="",AG30="",AH30="",AI30="",AJ30="",AK30="",AL30="",AM30="",AN30="",AO30="",AP30="",AQ30="",AR30="",AS30="",AT30="",AU30="",AV30="",AW30="",AX30="",AY30="",AZ30="",BA30="",BB30="",BC30="",BD30="",BE30="",BF30="",BG30="",BH30="",BI30="",BJ30="",AE30="",BK30="",BL30="",BM30="",BN30="",BY30=6),"X","") | CL30: =COUNTIF(Y30:BN30,"X") -> 1 | CM30: =7-COUNTBLANK(Y30:AE30) -> 0 | CN30: =2-COUNTBLANK(AJ30:AK30) -> 0 | CO30: =2-COUNTBLANK(AN30:AO30) -> 0 | CP30: =2-COUNTBLANK(AV30:AW30) -> 0 | CQ30: =13-COUNTBLANK(BB30:BN30) -> 0 | CR30: =IF(INDEX($Y30:$BN30,MATCH(CR$20,$Y$20:$BN$20,0))="X",CR$20,"") -> #N/A | CS30: =IF(INDEX($Y30:$BN30,MATCH(CS$20,$Y$20:$BN$20,0))="X",CS$20,"") -> #N/A | CT30: =IF(INDEX($Y30:$BN30,MATCH(CT$20,$Y$20:$BN$20,0))="X",CT$20,"") -> #N/A | CU30: =IF(INDEX($Y30:$BN30,MATCH(CU$20,$Y$20:$BN$20,0))="X",CU$20,"") -> #N/A | CV30: =IF(INDEX($Y30:$BN30,MATCH(CV$20,$Y$20:$BN$20,0))="X",CV$20,"") -> #N/A | CW30: =IF(INDEX($Y30:$BN30,MATCH(CW$20,$Y$20:$BN$20,0))="X",CW$20,"") -> #N/A | CX30: =IF(INDEX($Y30:$BN30,MATCH(CX$20,$Y$20:$BN$20,0))="X",CX$20,"") -> #N/A | CY30: =IF(INDEX($Y30:$BN30,MATCH(CY$20,$Y$20:$BN$20,0))="X",CY$20,"") -> #N/A | ... EG30: =IF(INDEX($Y30:$BN30,MATCH(EG$20,$Y$20:$BN$20,0))="X",EG$20,"") -> #N/A | EH30: =CONCATENATE(CR30,CS30,CT30,CU30,CV30,CW30,CX30,CY30,CZ30,DA30,DB30,DC30,DD30,DE30,DF30,DG30,DH30,DI30,DJ30,DK30,DL30,DM30,DN30,DO30,DP30,DQ30,DR30,DS30,DT30,DU30,DV30,DW30,DX30,DY30,DZ30,EA30,EB30,EC30) -> #N/A | EI30: =CONCATENATE(ED30,EE30,EF30,EG30) -> #N/A | EJ30: =SUBSTITUTE(EH30,"H",", H") -> #N/A | EK30: =SUBSTITUTE(EI30,"H",", H") -> #N/A | EL30: =IF(EJ30="","",RIGHT(EJ30,LEN(EJ30)-1)) -> #N/A | EM30: =IF(EK30="","",RIGHT(EK30,LEN(EK30)-1)) -> #N/A
A31: =CONCATENATE(C31,"_",E31,"_",G31) -> 2070133_Prélevée_Devrinol F (1) | B31: =IF(COUNTIF($A$21:A31,A31)>1,"Doublon","") | C31: 2070133 | D31: Napropamide | E31: Prélevée | F31: 0 | G31: Devrinol F (1) | J31: UPL France | K31: SC | L31: 450 g/l | M31: 5-15 | N31: 9 | O31: 6 en association | P31: =N31*0.3 -> 2.7 | Q31: =N31*0.5 -> 4.5 | R31: 4050 | W31: X | AH31: X | BO31: vignes-mères et jeunes plantation : non applicable / raisin de table : BBCH 09 | BP31: vignes-mères et jeunes plantation : non applicable / raisin de table : BBCH 09 | BS31: 20 : vignes-mères en plein et jeunes plantations en plein / 5 : raisin de table sur le rang et jeunes plantations sur le rang | BT31: 20 : vignes-mères en plein et jeunes plantations en plein / 5 : raisin de table sur le rang et jeunes plantations sur le rang | BU31: 10 | BV31: Non | BX31: 5 | BY31: 6 | BZ31: 1 | CC31: vignes-mères : 00 à 09 entre fév et mai / rain de table : 00 à 09 entre fév et mai sur le rang uniquement / jeunes plantations en plein ou sur le rang : jusqu'à 59 entre fév et mai | CD31: =IF(COUNTBLANK($Y31:$AD31)<>6,"X","") | CE31: =IF(COUNTBLANK($AE31)<>1,"X","") | CF31: =IF(SUM(CM31:CQ31)=0,"",SUM(CM31:CQ31)) | CG31: Utilisable uniquement sur raisin de table et vigne NON en production. Ne pas appliquer ce produit entre juin et janvier. Ne pas appliquer sur sols artificiellement drainés (application en plein). Ne pas appliquer sur plus de 50% de la surface (application sur le rang) | CK31: =IF(AND(Y31="",Z31="",AA31="",AB31="",AC31="",AD31="",AF31="",AG31="",AH31="",AI31="",AJ31="",AK31="",AL31="",AM31="",AN31="",AO31="",AP31="",AQ31="",AR31="",AS31="",AT31="",AU31="",AV31="",AW31="",AX31="",AY31="",AZ31="",BA31="",BB31="",BC31="",BD31="",BE31="",BF31="",BG31="",BH31="",BI31="",BJ31="",#REF!="",BK31="",BL31="",BM31="",BN31="",BY31=6),"X","") -> #REF! | CL31: =COUNTIF(Y31:BN31,"X") -> 1 | CM31: =7-COUNTBLANK(Y31:AE31) -> 0 | CN31: =2-COUNTBLANK(AJ31:AK31) -> 0 | CO31: =2-COUNTBLANK(AN31:AO31) -> 0 | CP31: =2-COUNTBLANK(AV31:AW31) -> 0 | CQ31: =13-COUNTBLANK(BB31:BN31) -> 0 | CR31: =IF(INDEX($Y31:$BN31,MATCH(CR$20,$Y$20:$BN$20,0))="X",CR$20,"") -> #N/A | CS31: =IF(INDEX($Y31:$BN31,MATCH(CS$20,$Y$20:$BN$20,0))="X",CS$20,"") -> #N/A | CT31: =IF(INDEX($Y31:$BN31,MATCH(CT$20,$Y$20:$BN$20,0))="X",CT$20,"") -> #N/A | CU31: =IF(INDEX($Y31:$BN31,MATCH(CU$20,$Y$20:$BN$20,0))="X",CU$20,"") -> #N/A | CV31: =IF(INDEX($Y31:$BN31,MATCH(CV$20,$Y$20:$BN$20,0))="X",CV$20,"") -> #N/A | CW31: =IF(INDEX($Y31:$BN31,MATCH(CW$20,$Y$20:$BN$20,0))="X",CW$20,"") -> #N/A | CX31: =IF(INDEX($Y31:$BN31,MATCH(CX$20,$Y$20:$BN$20,0))="X",CX$20,"") -> #N/A | CY31: =IF(INDEX($Y31:$BN31,MATCH(CY$20,$Y$20:$BN$20,0))="X",CY$20,"") -> #N/A | ... EG31: =IF(INDEX($Y31:$BN31,MATCH(EG$20,$Y$20:$BN$20,0))="X",EG$20,"") -> #N/A | EH31: =CONCATENATE(CR31,CS31,CT31,CU31,CV31,CW31,CX31,CY31,CZ31,DA31,DB31,DC31,DD31,DE31,DF31,DG31,DH31,DI31,DJ31,DK31,DL31,DM31,DN31,DO31,DP31,DQ31,DR31,DS31,DT31,DU31,DV31,DW31,DX31,DY31,DZ31,EA31,EB31,EC31) -> #N/A | EI31: =CONCATENATE(ED31,EE31,EF31,EG31) -> #N/A | EJ31: =SUBSTITUTE(EH31,"H",", H") -> #N/A | EK31: =SUBSTITUTE(EI31,"H",", H") -> #N/A | EL31: =IF(EJ31="","",RIGHT(EJ31,LEN(EJ31)-1)) -> #N/A | EM31: =IF(EK31="","",RIGHT(EK31,LEN(EK31)-1)) -> #N/A
A32: =CONCATENATE(C32,"_",E32,"_",G32) -> 2080029_Prélevée_Boa | B32: =IF(COUNTIF($A$21:A32,A32)>1,"Doublon","") | C32: 2080029 | D32: Penoxsulame | E32: Prélevée | F32: 2 | G32: Boa | J32: CORTEVA agriscience TM | K32: OD | L32: 20 g/l | M32: 1 | N32: 0.75 | P32: =N32*0.3 -> 0.225 | Q32: =N32*0.5 -> 0.375 | R32: 15 | V32: X | W32: X | AF32: X | AG32: X | AR32: X | AS32: X | AU32: X | BO32: 56 | BP32: 56 | BS32: 5 | BU32: 10 | BV32: Non | BY32: 48 | BZ32: 1 | CC32: Min 00 - Max 75 | CD32: =IF(COUNTBLANK($Y32:$AD32)<>6,"X","") | CE32: =IF(COUNTBLANK($AE32)<>1,"X","") | CF32: =IF(SUM(CM32:CQ32)=0,"",SUM(CM32:CQ32)) | CG32: 50 % de la surface max. Application en l'absence de rejets (pampres ou gourmands) au niveau du sol. | CK32: =IF(AND(Y32="",Z32="",AA32="",AB32="",AC32="",AD32="",AF32="",AG32="",AH32="",AI32="",AJ32="",AK32="",AL32="",AM32="",AN32="",AO32="",AP32="",AQ32="",AR32="",AS32="",AT32="",AU32="",AV32="",AW32="",AX32="",AY32="",AZ32="",BA32="",BB32="",BC32="",BD32="",BE32="",BF32="",BG32="",BH32="",BI32="",BJ32="",AE32="",BK32="",BL32="",BM32="",BN32="",BY32=6),"X","") | CL32: =COUNTIF(Y32:BN32,"X") -> 5 | CM32: =7-COUNTBLANK(Y32:AE32) -> 0 | CN32: =2-COUNTBLANK(AJ32:AK32) -> 0 | CO32: =2-COUNTBLANK(AN32:AO32) -> 0 | CP32: =2-COUNTBLANK(AV32:AW32) -> 0 | CQ32: =13-COUNTBLANK(BB32:BN32) -> 0 | CR32: =IF(INDEX($Y32:$BN32,MATCH(CR$20,$Y$20:$BN$20,0))="X",CR$20,"") -> #N/A | CS32: =IF(INDEX($Y32:$BN32,MATCH(CS$20,$Y$20:$BN$20,0))="X",CS$20,"") -> #N/A | CT32: =IF(INDEX($Y32:$BN32,MATCH(CT$20,$Y$20:$BN$20,0))="X",CT$20,"") -> #N/A | CU32: =IF(INDEX($Y32:$BN32,MATCH(CU$20,$Y$20:$BN$20,0))="X",CU$20,"") -> #N/A | CV32: =IF(INDEX($Y32:$BN32,MATCH(CV$20,$Y$20:$BN$20,0))="X",CV$20,"") -> #N/A | CW32: =IF(INDEX($Y32:$BN32,MATCH(CW$20,$Y$20:$BN$20,0))="X",CW$20,"") -> #N/A | CX32: =IF(INDEX($Y32:$BN32,MATCH(CX$20,$Y$20:$BN$20,0))="X",CX$20,"") -> #N/A | CY32: =IF(INDEX($Y32:$BN32,MATCH(CY$20,$Y$20:$BN$20,0))="X",CY$20,"") -> #N/A | ... EG32: =IF(INDEX($Y32:$BN32,MATCH(EG$20,$Y$20:$BN$20,0))="X",EG$20,"") -> #N/A | EH32: =CONCATENATE(CR32,CS32,CT32,CU32,CV32,CW32,CX32,CY32,CZ32,DA32,DB32,DC32,DD32,DE32,DF32,DG32,DH32,DI32,DJ32,DK32,DL32,DM32,DN32,DO32,DP32,DQ32,DR32,DS32,DT32,DU32,DV32,DW32,DX32,DY32,DZ32,EA32,EB32,EC32) -> #N/A | EI32: =CONCATENATE(ED32,EE32,EF32,EG32) -> #N/A | EJ32: =SUBSTITUTE(EH32,"H",", H") -> #N/A | EK32: =SUBSTITUTE(EI32,"H",", H") -> #N/A | EL32: =IF(EJ32="","",RIGHT(EJ32,LEN(EJ32)-1)) -> #N/A | EM32: =IF(EK32="","",RIGHT(EK32,LEN(EK32)-1)) -> #N/A
A33: =CONCATENATE(C33,"_",E33,"_",G33) -> 2090093_Postlevée_Roundup Evolution, Roundup Flash plus, Buggy 450 Power | B33: =IF(COUNTIF($A$21:A33,A33)>1,"Doublon","") | C33: 2090093 | D33: Glyphosate acide | E33: Postlevée | F33: 9 | G33: Roundup Evolution, Roundup Flash plus, Buggy 450 Power | J33: Monsanto | K33: SL | L33: 450 g/l | M33: 20 | N33: 3,2 à 6,4 | R33: 1440 à 2880 | V33: X | AU33: X | BO33: 21 | BP33: 21 | BS33: 5 | BU33: 10 | BV33: Non | BY33: 24 | CC33: - | CE33: =IF(COUNTBLANK($AE33)<>1,"X","") | CF33: =IF(SUM(CM33:CQ33)=0,"",SUM(CM33:CQ33)) | CL33: =COUNTIF(Y33:BN33,"X") -> 1 | CM33: =7-COUNTBLANK(Y33:AE33) -> 0 | CN33: =2-COUNTBLANK(AJ33:AK33) -> 0 | CO33: =2-COUNTBLANK(AN33:AO33) -> 0 | CP33: =2-COUNTBLANK(AV33:AW33) -> 0 | CQ33: =13-COUNTBLANK(BB33:BN33) -> 0 | CR33: =IF(INDEX($Y33:$BN33,MATCH(CR$20,$Y$20:$BN$20,0))="X",CR$20,"") -> #N/A | CS33: =IF(INDEX($Y33:$BN33,MATCH(CS$20,$Y$20:$BN$20,0))="X",CS$20,"") -> #N/A | CT33: =IF(INDEX($Y33:$BN33,MATCH(CT$20,$Y$20:$BN$20,0))="X",CT$20,"") -> #N/A | CU33: =IF(INDEX($Y33:$BN33,MATCH(CU$20,$Y$20:$BN$20,0))="X",CU$20,"") -> #N/A | CV33: =IF(INDEX($Y33:$BN33,MATCH(CV$20,$Y$20:$BN$20,0))="X",CV$20,"") -> #N/A | CW33: =IF(INDEX($Y33:$BN33,MATCH(CW$20,$Y$20:$BN$20,0))="X",CW$20,"") -> #N/A | CX33: =IF(INDEX($Y33:$BN33,MATCH(CX$20,$Y$20:$BN$20,0))="X",CX$20,"") -> #N/A | CY33: =IF(INDEX($Y33:$BN33,MATCH(CY$20,$Y$20:$BN$20,0))="X",CY$20,"") -> #N/A | ... EG33: =IF(INDEX($Y33:$BN33,MATCH(EG$20,$Y$20:$BN$20,0))="X",EG$20,"") -> #N/A | EH33: =CONCATENATE(CR33,CS33,CT33,CU33,CV33,CW33,CX33,CY33,CZ33,DA33,DB33,DC33,DD33,DE33,DF33,DG33,DH33,DI33,DJ33,DK33,DL33,DM33,DN33,DO33,DP33,DQ33,DR33,DS33,DT33,DU33,DV33,DW33,DX33,DY33,DZ33,EA33,EB33,EC33) -> #N/A | EI33: =CONCATENATE(ED33,EE33,EF33,EG33) -> #N/A | EJ33: =SUBSTITUTE(EH33,"H",", H") -> #N/A | EK33: =SUBSTITUTE(EI33,"H",", H") -> #N/A | EL33: =IF(EJ33="","",RIGHT(EJ33,LEN(EJ33)-1)) -> #N/A | EM33: =IF(EK33="","",RIGHT(EK33,LEN(EK33)-1)) -> #N/A
A34: =CONCATENATE(C34,"_",E34,"_",G34) -> 2090188_Devitalisation - Court noué_Buggy 360 Power | B34: =IF(COUNTIF($A$21:A34,A34)>1,"Doublon","") | C34: 2090188 | D34: Glyphosate acide | E34: Devitalisation - Court noué | F34: 9 | G34: Buggy 360 Power | J34: Phyteurop | K34: SL | L34: 360 g/l | M34: 10 | N34: 8 | R34: 2880 | V34: X | AU34: X | BO34: - | BP34: - | BS34: 20 | BU34: 10 | BV34: Non | BW34: 5 | BX34: 5 | BY34: 24 | CC34: - | CD34: =IF(COUNTBLANK($Y34:$AD34)<>6,"X","") | CE34: =IF(COUNTBLANK($AE34)<>1,"X","") | CF34: =IF(SUM(CM34:CQ34)=0,"",SUM(CM34:CQ34)) | CG34: Pour la dévitalisation des souches de vignes, l'emploi de panneaux récupérateurs est obligatoire et permet de déroger à l'application d'une zone non traitée par rapport à la zone non cultivée adjacente. | CK34: =IF(AND(Y34="",Z34="",AA34="",AB34="",AC34="",AD34="",AF34="",AG34="",AH34="",AI34="",AJ34="",AK34="",AL34="",AM34="",AN34="",AO34="",AP34="",AQ34="",AR34="",AS34="",AT34="",AU34="",AV34="",AW34="",AX34="",AY34="",AZ34="",BA34="",BB34="",BC34="",BD34="",BE34="",BF34="",BG34="",BH34="",BI34="",BJ34="",AE34="",BK34="",BL34="",BM34="",BN34="",BY34=6),"X","") | CL34: =COUNTIF(Y34:BN34,"X") -> 1 | CM34: =7-COUNTBLANK(Y34:AE34) -> 0 | CN34: =2-COUNTBLANK(AJ34:AK34) -> 0 | CO34: =2-COUNTBLANK(AN34:AO34) -> 0 | CP34: =2-COUNTBLANK(AV34:AW34) -> 0 | CQ34: =13-COUNTBLANK(BB34:BN34) -> 0 | CR34: =IF(INDEX($Y34:$BN34,MATCH(CR$20,$Y$20:$BN$20,0))="X",CR$20,"") -> #N/A | CS34: =IF(INDEX($Y34:$BN34,MATCH(CS$20,$Y$20:$BN$20,0))="X",CS$20,"") -> #N/A | CT34: =IF(INDEX($Y34:$BN34,MATCH(CT$20,$Y$20:$BN$20,0))="X",CT$20,"") -> #N/A | CU34: =IF(INDEX($Y34:$BN34,MATCH(CU$20,$Y$20:$BN$20,0))="X",CU$20,"") -> #N/A | CV34: =IF(INDEX($Y34:$BN34,MATCH(CV$20,$Y$20:$BN$20,0))="X",CV$20,"") -> #N/A | CW34: =IF(INDEX($Y34:$BN34,MATCH(CW$20,$Y$20:$BN$20,0))="X",CW$20,"") -> #N/A | CX34: =IF(INDEX($Y34:$BN34,MATCH(CX$20,$Y$20:$BN$20,0))="X",CX$20,"") -> #N/A | CY34: =IF(INDEX($Y34:$BN34,MATCH(CY$20,$Y$20:$BN$20,0))="X",CY$20,"") -> #N/A | ... EG34: =IF(INDEX($Y34:$BN34,MATCH(EG$20,$Y$20:$BN$20,0))="X",EG$20,"") -> #N/A | EH34: =CONCATENATE(CR34,CS34,CT34,CU34,CV34,CW34,CX34,CY34,CZ34,DA34,DB34,DC34,DD34,DE34,DF34,DG34,DH34,DI34,DJ34,DK34,DL34,DM34,DN34,DO34,DP34,DQ34,DR34,DS34,DT34,DU34,DV34,DW34,DX34,DY34,DZ34,EA34,EB34,EC34) -> #N/A | EI34: =CONCATENATE(ED34,EE34,EF34,EG34) -> #N/A | EJ34: =SUBSTITUTE(EH34,"H",", H") -> #N/A | EK34: =SUBSTITUTE(EI34,"H",", H") -> #N/A | EL34: =IF(EJ34="","",RIGHT(EJ34,LEN(EJ34)-1)) -> #N/A | EM34: =IF(EK34="","",RIGHT(EK34,LEN(EK34)-1)) -> #N/A
A35: =CONCATENATE(C35,"_",E35,"_",G35) -> 2090188_Postlevée_Buggy 360 Power | B35: =IF(COUNTIF($A$21:A35,A35)>1,"Doublon","") | C35: 2090188 | D35: Glyphosate acide | E35: Postlevée | F35: 9 | G35: Buggy 360 Power | J35: Phyteurop | K35: SL | L35: 360 g/l | M35: 5-10 | N35: 1,5 à 6 | P35: 0,45 à 1,8 | Q35: 0,75 à 3 | R35: 2160 | V35: X | AU35: X | BO35: 21 | BP35: 21 | BS35: 5 | BU35: 10 | BV35: Non | BW35: 5 | BX35: 5 | BY35: 24 | CC35: - | CD35: =IF(COUNTBLANK($Y35:$AD35)<>6,"X","") | CE35: =IF(COUNTBLANK($AE35)<>1,"X","") | CF35: =IF(SUM(CM35:CQ35)=0,"",SUM(CM35:CQ35)) | CK35: =IF(AND(Y35="",Z35="",AA35="",AB35="",AC35="",AD35="",AF35="",AG35="",AH35="",AI35="",AJ35="",AK35="",AL35="",AM35="",AN35="",AO35="",AP35="",AQ35="",AR35="",AS35="",AT35="",AU35="",AV35="",AW35="",AX35="",AY35="",AZ35="",BA35="",BB35="",BC35="",BD35="",BE35="",BF35="",BG35="",BH35="",BI35="",BJ35="",AE35="",BK35="",BL35="",BM35="",BN35="",BY35=6),"X","") | CL35: =COUNTIF(Y35:BN35,"X") -> 1 | CM35: =7-COUNTBLANK(Y35:AE35) -> 0 | CN35: =2-COUNTBLANK(AJ35:AK35) -> 0 | CO35: =2-COUNTBLANK(AN35:AO35) -> 0 | CP35: =2-COUNTBLANK(AV35:AW35) -> 0 | CQ35: =13-COUNTBLANK(BB35:BN35) -> 0 | CR35: =IF(INDEX($Y35:$BN35,MATCH(CR$20,$Y$20:$BN$20,0))="X",CR$20,"") -> #N/A | CS35: =IF(INDEX($Y35:$BN35,MATCH(CS$20,$Y$20:$BN$20,0))="X",CS$20,"") -> #N/A | CT35: =IF(INDEX($Y35:$BN35,MATCH(CT$20,$Y$20:$BN$20,0))="X",CT$20,"") -> #N/A | CU35: =IF(INDEX($Y35:$BN35,MATCH(CU$20,$Y$20:$BN$20,0))="X",CU$20,"") -> #N/A | CV35: =IF(INDEX($Y35:$BN35,MATCH(CV$20,$Y$20:$BN$20,0))="X",CV$20,"") -> #N/A | CW35: =IF(INDEX($Y35:$BN35,MATCH(CW$20,$Y$20:$BN$20,0))="X",CW$20,"") -> #N/A | CX35: =IF(INDEX($Y35:$BN35,MATCH(CX$20,$Y$20:$BN$20,0))="X",CX$20,"") -> #N/A | CY35: =IF(INDEX($Y35:$BN35,MATCH(CY$20,$Y$20:$BN$20,0))="X",CY$20,"") -> #N/A | ... EG35: =IF(INDEX($Y35:$BN35,MATCH(EG$20,$Y$20:$BN$20,0))="X",EG$20,"") -> #N/A | EH35: =CONCATENATE(CR35,CS35,CT35,CU35,CV35,CW35,CX35,CY35,CZ35,DA35,DB35,DC35,DD35,DE35,DF35,DG35,DH35,DI35,DJ35,DK35,DL35,DM35,DN35,DO35,DP35,DQ35,DR35,DS35,DT35,DU35,DV35,DW35,DX35,DY35,DZ35,EA35,EB35,EC35) -> #N/A | EI35: =CONCATENATE(ED35,EE35,EF35,EG35) -> #N/A | EJ35: =SUBSTITUTE(EH35,"H",", H") -> #N/A | EK35: =SUBSTITUTE(EI35,"H",", H") -> #N/A | EL35: =IF(EJ35="","",RIGHT(EJ35,LEN(EJ35)-1)) -> #N/A | EM35: =IF(EK35="","",RIGHT(EK35,LEN(EK35)-1)) -> #N/A
A36: =CONCATENATE(C36,"_",E36,"_",G36) -> 2100001_Postlevée_Guild, Vertical | B36: =IF(COUNTIF($A$21:A36,A36)>1,"Doublon","") | C36: 2100001 | D36: Pyraflufen + Glyphosate | E36: Postlevée | F36: 14 + 9 | G36: Guild, Vertical | I36: 44164 | J36: Arysta LifeScience | K36: SC | L36: 1,71 g/l P 261 g/L G | M36: 5 | N36: 4 à 8 | P36: 1,33 à 2,67 | Q36: 2 à 4 | R36: 9,71 P 2088 G | V36: X | W36: X | AF36: X | AG36: X | AS36: X | BO36: 60 | BP36: 60 | BS36: 20 | BU36: 10 | BY36: 48 | CC36: - | CD36: =IF(COUNTBLANK($Y36:$AD36)<>6,"X","") | CE36: =IF(COUNTBLANK($AE36)<>1,"X","") | CF36: =IF(SUM(CM36:CQ36)=0,"",SUM(CM36:CQ36)) | CG36: Retrait Anses novembre 2019 - Utilisation novembre 2020 | CK36: =IF(AND(Y36="",Z36="",AA36="",AB36="",AC36="",AD36="",AF36="",AG36="",AH36="",AI36="",AJ36="",AK36="",AL36="",AM36="",AN36="",AO36="",AP36="",AQ36="",AR36="",AS36="",AT36="",AU36="",AV36="",AW36="",AX36="",AY36="",AZ36="",BA36="",BB36="",BC36="",BD36="",BE36="",BF36="",BG36="",BH36="",BI36="",BJ36="",#REF!="",BK36="",BL36="",BM36="",BN36="",BY36=6),"X","") -> #REF! | CL36: =COUNTIF(Y36:BN36,"X") -> 3 | CM36: =7-COUNTBLANK(Y36:AE36) -> 0 | CN36: =2-COUNTBLANK(AJ36:AK36) -> 0 | CO36: =2-COUNTBLANK(AN36:AO36) -> 0 | CP36: =2-COUNTBLANK(AV36:AW36) -> 0 | CQ36: =13-COUNTBLANK(BB36:BN36) -> 0 | CR36: =IF(INDEX($Y36:$BN36,MATCH(CR$20,$Y$20:$BN$20,0))="X",CR$20,"") -> #N/A | CS36: =IF(INDEX($Y36:$BN36,MATCH(CS$20,$Y$20:$BN$20,0))="X",CS$20,"") -> #N/A | CT36: =IF(INDEX($Y36:$BN36,MATCH(CT$20,$Y$20:$BN$20,0))="X",CT$20,"") -> #N/A | CU36: =IF(INDEX($Y36:$BN36,MATCH(CU$20,$Y$20:$BN$20,0))="X",CU$20,"") -> #N/A | CV36: =IF(INDEX($Y36:$BN36,MATCH(CV$20,$Y$20:$BN$20,0))="X",CV$20,"") -> #N/A | CW36: =IF(INDEX($Y36:$BN36,MATCH(CW$20,$Y$20:$BN$20,0))="X",CW$20,"") -> #N/A | CX36: =IF(INDEX($Y36:$BN36,MATCH(CX$20,$Y$20:$BN$20,0))="X",CX$20,"") -> #N/A | CY36: =IF(INDEX($Y36:$BN36,MATCH(CY$20,$Y$20:$BN$20,0))="X",CY$20,"") -> #N/A | ... EG36: =IF(INDEX($Y36:$BN36,MATCH(EG$20,$Y$20:$BN$20,0))="X",EG$20,"") -> #N/A | EH36: =CONCATENATE(CR36,CS36,CT36,CU36,CV36,CW36,CX36,CY36,CZ36,DA36,DB36,DC36,DD36,DE36,DF36,DG36,DH36,DI36,DJ36,DK36,DL36,DM36,DN36,DO36,DP36,DQ36,DR36,DS36,DT36,DU36,DV36,DW36,DX36,DY36,DZ36,EA36,EB36,EC36) -> #N/A | EI36: =CONCATENATE(ED36,EE36,EF36,EG36) -> #N/A | EJ36: =SUBSTITUTE(EH36,"H",", H") -> #N/A | EK36: =SUBSTITUTE(EI36,"H",", H") -> #N/A | EL36: =IF(EJ36="","",RIGHT(EJ36,LEN(EJ36)-1)) -> #N/A | EM36: =IF(EK36="","",RIGHT(EK36,LEN(EK36)-1)) -> #N/A
A37: =CONCATENATE(C37,"_",E37,"_",G37) -> 2100156_Epamprage_QUAD GLOB 200SL - ROQUAT | B37: =IF(COUNTIF($A$21:A37,A37)>1,"Doublon","") | C37: 2100156 | D37: Diquat | E37: Epamprage | F37: 22 | G37: QUAD GLOB 200SL - ROQUAT | I37: 43773 | J37: PROTEX | K37: SL | L37: 200 g/l | M37: 20 | N37: 1 | P37: =N37*0.32 -> 0.32 | Q37: =N37*0.5 -> 0.5 | R37: 200 | U37: X | W37: X | X37: X | AF37: X | AG37: X | AL37: X | AR37: X | AS37: X | AU37: X | AW37: X | AZ37: X | BM37: X | BO37: 90 | BP37: 90 | BS37: 5 | BU37: 10 | BY37: 48 | CC37: - | CD37: =IF(COUNTBLANK($Y37:$AD37)<>6,"X","") | CE37: =IF(COUNTBLANK($AE37)<>1,"X","") | CF37: =IF(SUM(CM37:CQ37)=0,"",SUM(CM37:CQ37)) -> 2 | CG37: non réapprobation européenne | CK37: =IF(AND(Y37="",Z37="",AA37="",AB37="",AC37="",AD37="",AF37="",AG37="",AH37="",AI37="",AJ37="",AK37="",AL37="",AM37="",AN37="",AO37="",AP37="",AQ37="",AR37="",AS37="",AT37="",AU37="",AV37="",AW37="",AX37="",AY37="",AZ37="",BA37="",BB37="",BC37="",BD37="",BE37="",BF37="",BG37="",BH37="",BI37="",BJ37="",#REF!="",BK37="",BL37="",BM37="",BN37="",BY37=6),"X","") -> #REF! | CL37: =COUNTIF(Y37:BN37,"X") -> 9 | CM37: =7-COUNTBLANK(Y37:AE37) -> 0 | CN37: =2-COUNTBLANK(AJ37:AK37) -> 0 | CO37: =2-COUNTBLANK(AN37:AO37) -> 0 | CP37: =2-COUNTBLANK(AV37:AW37) -> 1 | CQ37: =13-COUNTBLANK(BB37:BN37) -> 1 | CR37: =IF(INDEX($Y37:$BN37,MATCH(CR$20,$Y$20:$BN$20,0))="X",CR$20,"") -> #N/A | CS37: =IF(INDEX($Y37:$BN37,MATCH(CS$20,$Y$20:$BN$20,0))="X",CS$20,"") -> #N/A | CT37: =IF(INDEX($Y37:$BN37,MATCH(CT$20,$Y$20:$BN$20,0))="X",CT$20,"") -> #N/A | CU37: =IF(INDEX($Y37:$BN37,MATCH(CU$20,$Y$20:$BN$20,0))="X",CU$20,"") -> #N/A | CV37: =IF(INDEX($Y37:$BN37,MATCH(CV$20,$Y$20:$BN$20,0))="X",CV$20,"") -> #N/A | CW37: =IF(INDEX($Y37:$BN37,MATCH(CW$20,$Y$20:$BN$20,0))="X",CW$20,"") -> #N/A | CX37: =IF(INDEX($Y37:$BN37,MATCH(CX$20,$Y$20:$BN$20,0))="X",CX$20,"") -> #N/A | CY37: =IF(INDEX($Y37:$BN37,MATCH(CY$20,$Y$20:$BN$20,0))="X",CY$20,"") -> #N/A | ... EG37: =IF(INDEX($Y37:$BN37,MATCH(EG$20,$Y$20:$BN$20,0))="X",EG$20,"") -> #N/A | EH37: =CONCATENATE(CR37,CS37,CT37,CU37,CV37,CW37,CX37,CY37,CZ37,DA37,DB37,DC37,DD37,DE37,DF37,DG37,DH37,DI37,DJ37,DK37,DL37,DM37,DN37,DO37,DP37,DQ37,DR37,DS37,DT37,DU37,DV37,DW37,DX37,DY37,DZ37,EA37,EB37,EC37) -> #N/A | EI37: =CONCATENATE(ED37,EE37,EF37,EG37) -> #N/A | EJ37: =SUBSTITUTE(EH37,"H",", H") -> #N/A | EK37: =SUBSTITUTE(EI37,"H",", H") -> #N/A | EL37: =IF(EJ37="","",RIGHT(EJ37,LEN(EJ37)-1)) -> #N/A | EM37: =IF(EK37="","",RIGHT(EK37,LEN(EK37)-1)) -> #N/A
A38: =CONCATENATE(C38,"_",E38,"_",G38) -> 2100206_Postlevée_Credit | B38: =IF(COUNTIF($A$21:A38,A38)>1,"Doublon","") | C38: 2100206 | D38: Glyphosate acide | E38: Postlevée | F38: 9 | G38: Credit | I38: 44924 | J38: Nufarm SAS | K38: SL | L38: 540 g/l | M38: 20 | N38: 2,6 à 5,3 | P38: 0,85 à 1,75 | Q38: 1,3 à 2,65 | R38: 2862 | BO38: 21 | BP38: 21 | BS38: 5 | BU38: 10 | BV38: Non | BX38: 5 | BY38: 6 | BZ38: 1 à 2 selon cible | CC38: - | CD38: =IF(COUNTBLANK($Y38:$AD38)<>6,"X","") | CE38: =IF(COUNTBLANK($AE38)<>1,"X","") | CF38: =IF(SUM(CM38:CQ38)=0,"",SUM(CM38:CQ38)) | CG38: En cas d'application localisée sur le rang (équivalent à un tiers de la surface totale) possibilité de répéter l'application 3 fois par an. | CK38: =IF(AND(Y38="",Z38="",AA38="",AB38="",AC38="",AD38="",AF38="",AG38="",AH38="",AI38="",AJ38="",AK38="",AL38="",AM38="",AN38="",AO38="",AP38="",AQ38="",AR38="",AS38="",AT38="",AU38="",AV38="",AW38="",AX38="",AY38="",AZ38="",BA38="",BB38="",BC38="",BD38="",BE38="",BF38="",BG38="",BH38="",BI38="",BJ38="",AE38="",BK38="",BL38="",BM38="",BN38="",BY38=6),"X","") -> X | CL38: =COUNTIF(Y38:BN38,"X") -> 0 | CM38: =7-COUNTBLANK(Y38:AE38) -> 0 | CN38: =2-COUNTBLANK(AJ38:AK38) -> 0 | CO38: =2-COUNTBLANK(AN38:AO38) -> 0 | CP38: =2-COUNTBLANK(AV38:AW38) -> 0 | CQ38: =13-COUNTBLANK(BB38:BN38) -> 0 | CR38: =IF(INDEX($Y38:$BN38,MATCH(CR$20,$Y$20:$BN$20,0))="X",CR$20,"") -> #N/A | CS38: =IF(INDEX($Y38:$BN38,MATCH(CS$20,$Y$20:$BN$20,0))="X",CS$20,"") -> #N/A | CT38: =IF(INDEX($Y38:$BN38,MATCH(CT$20,$Y$20:$BN$20,0))="X",CT$20,"") -> #N/A | CU38: =IF(INDEX($Y38:$BN38,MATCH(CU$20,$Y$20:$BN$20,0))="X",CU$20,"") -> #N/A | CV38: =IF(INDEX($Y38:$BN38,MATCH(CV$20,$Y$20:$BN$20,0))="X",CV$20,"") -> #N/A | CW38: =IF(INDEX($Y38:$BN38,MATCH(CW$20,$Y$20:$BN$20,0))="X",CW$20,"") -> #N/A | CX38: =IF(INDEX($Y38:$BN38,MATCH(CX$20,$Y$20:$BN$20,0))="X",CX$20,"") -> #N/A | CY38: =IF(INDEX($Y38:$BN38,MATCH(CY$20,$Y$20:$BN$20,0))="X",CY$20,"") -> #N/A | ... EG38: =IF(INDEX($Y38:$BN38,MATCH(EG$20,$Y$20:$BN$20,0))="X",EG$20,"") -> #N/A | EH38: =CONCATENATE(CR38,CS38,CT38,CU38,CV38,CW38,CX38,CY38,CZ38,DA38,DB38,DC38,DD38,DE38,DF38,DG38,DH38,DI38,DJ38,DK38,DL38,DM38,DN38,DO38,DP38,DQ38,DR38,DS38,DT38,DU38,DV38,DW38,DX38,DY38,DZ38,EA38,EB38,EC38) -> #N/A | EI38: =CONCATENATE(ED38,EE38,EF38,EG38) -> #N/A | EJ38: =SUBSTITUTE(EH38,"H",", H") -> #N/A | EK38: =SUBSTITUTE(EI38,"H",", H") -> #N/A | EL38: =IF(EJ38="","",RIGHT(EJ38,LEN(EJ38)-1)) -> #N/A | EM38: =IF(EK38="","",RIGHT(EK38,LEN(EK38)-1)) -> #N/A
A39: =CONCATENATE(C39,"_",E39,"_",G39) -> 2100215_Prélevée_Pentium Flo** | B39: =IF(COUNTIF($A$21:A39,A39)>1,"Doublon","") | C39: 2100215 | D39: Pendimethaline | E39: Prélevée | F39: 3 | G39: Pentium Flo** | J39: ADAMA | K39: SC | L39: 400 g/l | M39: 5 | N39: 6 | P39: =N39*0.3 -> 1.8 | Q39: =N39*0.5 -> 3 | R39: 2400 | W39: X | AF39: X | AG39: X | BO39: - | BP39: - | BS39: 50 | BU39: 10 | BV39: Non | BX39: 5 | BY39: 6 | BZ39: 1 | CC39: - | CD39: =IF(COUNTBLANK($Y39:$AD39)<>6,"X","") | CE39: =IF(COUNTBLANK($AE39)<>1,"X","") | CF39: =IF(SUM(CM39:CQ39)=0,"",SUM(CM39:CQ39)) | CG39: Uniquement sous le rang | CK39: =IF(AND(Y39="",Z39="",AA39="",AB39="",AC39="",AD39="",AF39="",AG39="",AH39="",AI39="",AJ39="",AK39="",AL39="",AM39="",AN39="",AO39="",AP39="",AQ39="",AR39="",AS39="",AT39="",AU39="",AV39="",AW39="",AX39="",AY39="",AZ39="",BA39="",BB39="",BC39="",BD39="",BE39="",BF39="",BG39="",BH39="",BI39="",BJ39="",#REF!="",BK39="",BL39="",BM39="",BN39="",BY39=6),"X","") -> #REF! | CL39: =COUNTIF(Y39:BN39,"X") -> 2 | CM39: =7-COUNTBLANK(Y39:AE39) -> 0 | CN39: =2-COUNTBLANK(AJ39:AK39) -> 0 | CO39: =2-COUNTBLANK(AN39:AO39) -> 0 | CP39: =2-COUNTBLANK(AV39:AW39) -> 0 | CQ39: =13-COUNTBLANK(BB39:BN39) -> 0 | CR39: =IF(INDEX($Y39:$BN39,MATCH(CR$20,$Y$20:$BN$20,0))="X",CR$20,"") -> #N/A | CS39: =IF(INDEX($Y39:$BN39,MATCH(CS$20,$Y$20:$BN$20,0))="X",CS$20,"") -> #N/A | CT39: =IF(INDEX($Y39:$BN39,MATCH(CT$20,$Y$20:$BN$20,0))="X",CT$20,"") -> #N/A | CU39: =IF(INDEX($Y39:$BN39,MATCH(CU$20,$Y$20:$BN$20,0))="X",CU$20,"") -> #N/A | CV39: =IF(INDEX($Y39:$BN39,MATCH(CV$20,$Y$20:$BN$20,0))="X",CV$20,"") -> #N/A | CW39: =IF(INDEX($Y39:$BN39,MATCH(CW$20,$Y$20:$BN$20,0))="X",CW$20,"") -> #N/A | CX39: =IF(INDEX($Y39:$BN39,MATCH(CX$20,$Y$20:$BN$20,0))="X",CX$20,"") -> #N/A | CY39: =IF(INDEX($Y39:$BN39,MATCH(CY$20,$Y$20:$BN$20,0))="X",CY$20,"") -> #N/A | ... EG39: =IF(INDEX($Y39:$BN39,MATCH(EG$20,$Y$20:$BN$20,0))="X",EG$20,"") -> #N/A | EH39: =CONCATENATE(CR39,CS39,CT39,CU39,CV39,CW39,CX39,CY39,CZ39,DA39,DB39,DC39,DD39,DE39,DF39,DG39,DH39,DI39,DJ39,DK39,DL39,DM39,DN39,DO39,DP39,DQ39,DR39,DS39,DT39,DU39,DV39,DW39,DX39,DY39,DZ39,EA39,EB39,EC39) -> #N/A | EI39: =CONCATENATE(ED39,EE39,EF39,EG39) -> #N/A | EJ39: =SUBSTITUTE(EH39,"H",", H") -> #N/A | EK39: =SUBSTITUTE(EI39,"H",", H") -> #N/A | EL39: =IF(EJ39="","",RIGHT(EJ39,LEN(EJ39)-1)) -> #N/A | EM39: =IF(EK39="","",RIGHT(EK39,LEN(EK39)-1)) -> #N/A
A40: =CONCATENATE(C40,"_",E40,"_",G40) -> 2110004_Prélevée_Setanta Flo, Atonal | B40: =IF(COUNTIF($A$21:A40,A40)>1,"Doublon","") | C40: 2110004 | D40: Propyzamide | E40: Prélevée | F40: 3 | G40: Setanta Flo, Atonal | J40: Certis | K40: SC | L40: 400 g/l | M40: 5 | N40: 1.875 | P40: =N40*0.3 -> 0.5625 | Q40: =N40*0.5 -> 0.9375 | R40: 750 | U40: X | W40: X | Z40: X | AF40: X | AG40: X | BO40: 180 | BP40: 180 | BS40: 5 | BU40: 10 | BV40: Non | BX40: 5 | BY40: 48 | BZ40: 1 | CC40: - | CD40: =IF(COUNTBLANK($Y40:$AD40)<>6,"X","") -> X | CE40: =IF(COUNTBLANK($AE40)<>1,"X","") | CF40: =IF(SUM(CM40:CQ40)=0,"",SUM(CM40:CQ40)) -> 1 | CK40: =IF(AND(Y40="",Z40="",AA40="",AB40="",AC40="",AD40="",AF40="",AG40="",AH40="",AI40="",AJ40="",AK40="",AL40="",AM40="",AN40="",AO40="",AP40="",AQ40="",AR40="",AS40="",AT40="",AU40="",AV40="",AW40="",AX40="",AY40="",AZ40="",BA40="",BB40="",BC40="",BD40="",BE40="",BF40="",BG40="",BH40="",BI40="",BJ40="",#REF!="",BK40="",BL40="",BM40="",BN40="",BY40=6),"X","") -> #REF! | CL40: =COUNTIF(Y40:BN40,"X") -> 3 | CM40: =7-COUNTBLANK(Y40:AE40) -> 1 | CN40: =2-COUNTBLANK(AJ40:AK40) -> 0 | CO40: =2-COUNTBLANK(AN40:AO40) -> 0 | CP40: =2-COUNTBLANK(AV40:AW40) -> 0 | CQ40: =13-COUNTBLANK(BB40:BN40) -> 0 | CR40: =IF(INDEX($Y40:$BN40,MATCH(CR$20,$Y$20:$BN$20,0))="X",CR$20,"") -> #N/A | CS40: =IF(INDEX($Y40:$BN40,MATCH(CS$20,$Y$20:$BN$20,0))="X",CS$20,"") -> #N/A | CT40: =IF(INDEX($Y40:$BN40,MATCH(CT$20,$Y$20:$BN$20,0))="X",CT$20,"") -> #N/A | CU40: =IF(INDEX($Y40:$BN40,MATCH(CU$20,$Y$20:$BN$20,0))="X",CU$20,"") -> #N/A | CV40: =IF(INDEX($Y40:$BN40,MATCH(CV$20,$Y$20:$BN$20,0))="X",CV$20,"") -> #N/A | CW40: =IF(INDEX($Y40:$BN40,MATCH(CW$20,$Y$20:$BN$20,0))="X",CW$20,"") -> #N/A | CX40: =IF(INDEX($Y40:$BN40,MATCH(CX$20,$Y$20:$BN$20,0))="X",CX$20,"") -> #N/A | CY40: =IF(INDEX($Y40:$BN40,MATCH(CY$20,$Y$20:$BN$20,0))="X",CY$20,"") -> #N/A | ... EG40: =IF(INDEX($Y40:$BN40,MATCH(EG$20,$Y$20:$BN$20,0))="X",EG$20,"") -> #N/A | EH40: =CONCATENATE(CR40,CS40,CT40,CU40,CV40,CW40,CX40,CY40,CZ40,DA40,DB40,DC40,DD40,DE40,DF40,DG40,DH40,DI40,DJ40,DK40,DL40,DM40,DN40,DO40,DP40,DQ40,DR40,DS40,DT40,DU40,DV40,DW40,DX40,DY40,DZ40,EA40,EB40,EC40) -> #N/A | EI40: =CONCATENATE(ED40,EE40,EF40,EG40) -> #N/A | EJ40: =SUBSTITUTE(EH40,"H",", H") -> #N/A | EK40: =SUBSTITUTE(EI40,"H",", H") -> #N/A | EL40: =IF(EJ40="","",RIGHT(EJ40,LEN(EJ40)-1)) -> #N/A | EM40: =IF(EK40="","",RIGHT(EK40,LEN(EK40)-1)) -> #N/A
A41: =CONCATENATE(C41,"_",E41,"_",G41) -> 2110101_Action Contact_Sorcier, Guerrier | B41: =IF(COUNTIF($A$21:A41,A41)>1,"Doublon","") | C41: 2110101 | D41: Pyraflufen ethyle | E41: Action Contact | F41: 14 | G41: Sorcier, Guerrier | J41: Philagro France | K41: EC | L41: 26,5 g/l | M41: 5 | N41: 0.8 | P41: =N41*0.32 -> 0.256 | Q41: =N41*0.5 -> 0.4 | R41: 21.2 | U41: X | V41: X | W41: X | AF41: X | AG41: X | AM41: X | AR41: X | AS41: X | AT41: X | AX41: X | BO41: 90 | BP41: 90 | BS41: 20 | BT41: 5 avant floraison / 20 après floraison | BU41: 10 | BV41: Non | BX41: 5 | BY41: 48 | BZ41: 2 | CC41: Min 19 - Max 75 | CD41: =IF(COUNTBLANK($Y41:$AD41)<>6,"X","") | CE41: =IF(COUNTBLANK($AE41)<>1,"X","") | CF41: =IF(SUM(CM41:CQ41)=0,"",SUM(CM41:CQ41)) | CK41: =IF(AND(Y41="",Z41="",AA41="",AB41="",AC41="",AD41="",AF41="",AG41="",AH41="",AI41="",AJ41="",AK41="",AL41="",AM41="",AN41="",AO41="",AP41="",AQ41="",AR41="",AS41="",AT41="",AU41="",AV41="",AW41="",AX41="",AY41="",AZ41="",BA41="",BB41="",BC41="",BD41="",BE41="",BF41="",BG41="",BH41="",BI41="",BJ41="",#REF!="",BK41="",BL41="",BM41="",BN41="",BY41=6),"X","") -> #REF! | CL41: =COUNTIF(Y41:BN41,"X") -> 7 | CM41: =7-COUNTBLANK(Y41:AE41) -> 0 | CN41: =2-COUNTBLANK(AJ41:AK41) -> 0 | CO41: =2-COUNTBLANK(AN41:AO41) -> 0 | CP41: =2-COUNTBLANK(AV41:AW41) -> 0 | CQ41: =13-COUNTBLANK(BB41:BN41) -> 0 | CR41: =IF(INDEX($Y41:$BN41,MATCH(CR$20,$Y$20:$BN$20,0))="X",CR$20,"") -> #N/A | CS41: =IF(INDEX($Y41:$BN41,MATCH(CS$20,$Y$20:$BN$20,0))="X",CS$20,"") -> #N/A | CT41: =IF(INDEX($Y41:$BN41,MATCH(CT$20,$Y$20:$BN$20,0))="X",CT$20,"") -> #N/A | CU41: =IF(INDEX($Y41:$BN41,MATCH(CU$20,$Y$20:$BN$20,0))="X",CU$20,"") -> #N/A | CV41: =IF(INDEX($Y41:$BN41,MATCH(CV$20,$Y$20:$BN$20,0))="X",CV$20,"") -> #N/A | CW41: =IF(INDEX($Y41:$BN41,MATCH(CW$20,$Y$20:$BN$20,0))="X",CW$20,"") -> #N/A | CX41: =IF(INDEX($Y41:$BN41,MATCH(CX$20,$Y$20:$BN$20,0))="X",CX$20,"") -> #N/A | CY41: =IF(INDEX($Y41:$BN41,MATCH(CY$20,$Y$20:$BN$20,0))="X",CY$20,"") -> #N/A | ... EG41: =IF(INDEX($Y41:$BN41,MATCH(EG$20,$Y$20:$BN$20,0))="X",EG$20,"") -> #N/A | EH41: =CONCATENATE(CR41,CS41,CT41,CU41,CV41,CW41,CX41,CY41,CZ41,DA41,DB41,DC41,DD41,DE41,DF41,DG41,DH41,DI41,DJ41,DK41,DL41,DM41,DN41,DO41,DP41,DQ41,DR41,DS41,DT41,DU41,DV41,DW41,DX41,DY41,DZ41,EA41,EB41,EC41) -> #N/A | EI41: =CONCATENATE(ED41,EE41,EF41,EG41) -> #N/A | EJ41: =SUBSTITUTE(EH41,"H",", H") -> #N/A | EK41: =SUBSTITUTE(EI41,"H",", H") -> #N/A | EL41: =IF(EJ41="","",RIGHT(EJ41,LEN(EJ41)-1)) -> #N/A | EM41: =IF(EK41="","",RIGHT(EK41,LEN(EK41)-1)) -> #N/A
A42: =CONCATENATE(C42,"_",E42,"_",G42) -> 2110101_Epamprage_Sorcier, Guerrier | B42: =IF(COUNTIF($A$21:A42,A42)>1,"Doublon","") | C42: 2110101 | D42: Pyraflufen ethyle | E42: Epamprage | F42: 14 | G42: Sorcier, Guerrier | J42: Philagro France | K42: EC | L42: 26,5 g/l | M42: 5 | N42: 0.8 | P42: =N42*0.32 -> 0.256 | Q42: =N42*0.5 -> 0.4 | R42: 5.12 | U42: X | V42: X | W42: X | AF42: X | AG42: X | AM42: X | AR42: X | AS42: X | AT42: X | AX42: X | BO42: 90 | BP42: 90 | BS42: 5 | BU42: 10 | BV42: Non | BX42: 20 | BY42: 48 | BZ42: 2 | CC42: - | CD42: =IF(COUNTBLANK($Y42:$AD42)<>6,"X","") | CE42: =IF(COUNTBLANK($AE42)<>1,"X","") | CF42: =IF(SUM(CM42:CQ42)=0,"",SUM(CM42:CQ42)) | CK42: =IF(AND(Y42="",Z42="",AA42="",AB42="",AC42="",AD42="",AF42="",AG42="",AH42="",AI42="",AJ42="",AK42="",AL42="",AM42="",AN42="",AO42="",AP42="",AQ42="",AR42="",AS42="",AT42="",AU42="",AV42="",AW42="",AX42="",AY42="",AZ42="",BA42="",BB42="",BC42="",BD42="",BE42="",BF42="",BG42="",BH42="",BI42="",BJ42="",#REF!="",BK42="",BL42="",BM42="",BN42="",BY42=6),"X","") -> #REF! | CL42: =COUNTIF(Y42:BN42,"X") -> 7 | CM42: =7-COUNTBLANK(Y42:AE42) -> 0 | CN42: =2-COUNTBLANK(AJ42:AK42) -> 0 | CO42: =2-COUNTBLANK(AN42:AO42) -> 0 | CP42: =2-COUNTBLANK(AV42:AW42) -> 0 | CQ42: =13-COUNTBLANK(BB42:BN42) -> 0 | CR42: =IF(INDEX($Y42:$BN42,MATCH(CR$20,$Y$20:$BN$20,0))="X",CR$20,"") -> #N/A | CS42: =IF(INDEX($Y42:$BN42,MATCH(CS$20,$Y$20:$BN$20,0))="X",CS$20,"") -> #N/A | CT42: =IF(INDEX($Y42:$BN42,MATCH(CT$20,$Y$20:$BN$20,0))="X",CT$20,"") -> #N/A | CU42: =IF(INDEX($Y42:$BN42,MATCH(CU$20,$Y$20:$BN$20,0))="X",CU$20,"") -> #N/A | CV42: =IF(INDEX($Y42:$BN42,MATCH(CV$20,$Y$20:$BN$20,0))="X",CV$20,"") -> #N/A | CW42: =IF(INDEX($Y42:$BN42,MATCH(CW$20,$Y$20:$BN$20,0))="X",CW$20,"") -> #N/A | CX42: =IF(INDEX($Y42:$BN42,MATCH(CX$20,$Y$20:$BN$20,0))="X",CX$20,"") -> #N/A | CY42: =IF(INDEX($Y42:$BN42,MATCH(CY$20,$Y$20:$BN$20,0))="X",CY$20,"") -> #N/A | ... EG42: =IF(INDEX($Y42:$BN42,MATCH(EG$20,$Y$20:$BN$20,0))="X",EG$20,"") -> #N/A | EH42: =CONCATENATE(CR42,CS42,CT42,CU42,CV42,CW42,CX42,CY42,CZ42,DA42,DB42,DC42,DD42,DE42,DF42,DG42,DH42,DI42,DJ42,DK42,DL42,DM42,DN42,DO42,DP42,DQ42,DR42,DS42,DT42,DU42,DV42,DW42,DX42,DY42,DZ42,EA42,EB42,EC42) -> #N/A | EI42: =CONCATENATE(ED42,EE42,EF42,EG42) -> #N/A | EJ42: =SUBSTITUTE(EH42,"H",", H") -> #N/A | EK42: =SUBSTITUTE(EI42,"H",", H") -> #N/A | EL42: =IF(EJ42="","",RIGHT(EJ42,LEN(EJ42)-1)) -> #N/A | EM42: =IF(EK42="","",RIGHT(EK42,LEN(EK42)-1)) -> #N/A
A43: =CONCATENATE(C43,"_",E43,"_",G43) -> 2110198_Postlevée_Viaglif 360 | B43: =IF(COUNTIF($A$21:A43,A43)>1,"Doublon","") | C43: 2110198 | D43: Glyphosate acide | E43: Postlevée | F43: 9 | G43: Viaglif 360 | I43: 43631 | J43: Tradiagri | K43: SL | L43: 360 g/l | M43: 20 | N43: 4 à 8 | P43: 1,33 à 2,66 | Q43: 2 à 4 | R43: 2160 | AI43: X | BO43: 21 | BP43: 21 | BS43: 5 | BU43: 10 | BY43: 6 | CC43: - | CD43: =IF(COUNTBLANK($Y43:$AD43)<>6,"X","") | CE43: =IF(COUNTBLANK($AE43)<>1,"X","") | CF43: =IF(SUM(CM43:CQ43)=0,"",SUM(CM43:CQ43)) | CK43: =IF(AND(Y43="",Z43="",AA43="",AB43="",AC43="",AD43="",AF43="",AG43="",AH43="",AI43="",AJ43="",AK43="",AL43="",AM43="",AN43="",AO43="",AP43="",AQ43="",AR43="",AS43="",AT43="",AU43="",AV43="",AW43="",AX43="",AY43="",AZ43="",BA43="",BB43="",BC43="",BD43="",BE43="",BF43="",BG43="",BH43="",BI43="",BJ43="",#REF!="",BK43="",BL43="",BM43="",BN43="",BY43=6),"X","") -> #REF! | CL43: =COUNTIF(Y43:BN43,"X") -> 1 | CM43: =7-COUNTBLANK(Y43:AE43) -> 0 | CN43: =2-COUNTBLANK(AJ43:AK43) -> 0 | CO43: =2-COUNTBLANK(AN43:AO43) -> 0 | CP43: =2-COUNTBLANK(AV43:AW43) -> 0 | CQ43: =13-COUNTBLANK(BB43:BN43) -> 0 | CR43: =IF(INDEX($Y43:$BN43,MATCH(CR$20,$Y$20:$BN$20,0))="X",CR$20,"") -> #N/A | CS43: =IF(INDEX($Y43:$BN43,MATCH(CS$20,$Y$20:$BN$20,0))="X",CS$20,"") -> #N/A | CT43: =IF(INDEX($Y43:$BN43,MATCH(CT$20,$Y$20:$BN$20,0))="X",CT$20,"") -> #N/A | CU43: =IF(INDEX($Y43:$BN43,MATCH(CU$20,$Y$20:$BN$20,0))="X",CU$20,"") -> #N/A | CV43: =IF(INDEX($Y43:$BN43,MATCH(CV$20,$Y$20:$BN$20,0))="X",CV$20,"") -> #N/A | CW43: =IF(INDEX($Y43:$BN43,MATCH(CW$20,$Y$20:$BN$20,0))="X",CW$20,"") -> #N/A | CX43: =IF(INDEX($Y43:$BN43,MATCH(CX$20,$Y$20:$BN$20,0))="X",CX$20,"") -> #N/A | CY43: =IF(INDEX($Y43:$BN43,MATCH(CY$20,$Y$20:$BN$20,0))="X",CY$20,"") -> #N/A | ... EG43: =IF(INDEX($Y43:$BN43,MATCH(EG$20,$Y$20:$BN$20,0))="X",EG$20,"") -> #N/A | EH43: =CONCATENATE(CR43,CS43,CT43,CU43,CV43,CW43,CX43,CY43,CZ43,DA43,DB43,DC43,DD43,DE43,DF43,DG43,DH43,DI43,DJ43,DK43,DL43,DM43,DN43,DO43,DP43,DQ43,DR43,DS43,DT43,DU43,DV43,DW43,DX43,DY43,DZ43,EA43,EB43,EC43) -> #N/A | EI43: =CONCATENATE(ED43,EE43,EF43,EG43) -> #N/A | EJ43: =SUBSTITUTE(EH43,"H",", H") -> #N/A | EK43: =SUBSTITUTE(EI43,"H",", H") -> #N/A | EL43: =IF(EJ43="","",RIGHT(EJ43,LEN(EJ43)-1)) -> #N/A | EM43: =IF(EK43="","",RIGHT(EK43,LEN(EK43)-1)) -> #N/A
A44: =CONCATENATE(C44,"_",E44,"_",G44) -> 2120034_Devitalisation - Court noué_Roundup Innov, Extra, Gold | B44: =IF(COUNTIF($A$21:A44,A44)>1,"Doublon","") | C44: 2120034 | D44: Glyphosate | E44: Devitalisation - Court noué | F44: 9 | G44: Roundup Innov, Extra, Gold | I44: 44164 | J44: Monsanto | K44: SL | L44: 480 g/l | M44: 20 | N44: 6 | P44: 0,67 à 2 | Q44: 1 à 3 | R44: 2880 | BO44: 21 | BP44: 21 | BS44: 5 | BU44: 10 | BY44: 6 | CC44: - | CD44: =IF(COUNTBLANK($Y44:$AD44)<>6,"X","") | CE44: =IF(COUNTBLANK($AE44)<>1,"X","") | CF44: =IF(SUM(CM44:CQ44)=0,"",SUM(CM44:CQ44)) | CG44: Retrait Anses novembre 2019 - Utilisation novembre 2020 | CK44: =IF(AND(Y44="",Z44="",AA44="",AB44="",AC44="",AD44="",AF44="",AG44="",AH44="",AI44="",AJ44="",AK44="",AL44="",AM44="",AN44="",AO44="",AP44="",AQ44="",AR44="",AS44="",AT44="",AU44="",AV44="",AW44="",AX44="",AY44="",AZ44="",BA44="",BB44="",BC44="",BD44="",BE44="",BF44="",BG44="",BH44="",BI44="",BJ44="",#REF!="",BK44="",BL44="",BM44="",BN44="",BY44=6),"X","") -> #REF! | CL44: =COUNTIF(Y44:BN44,"X") -> 0 | CM44: =7-COUNTBLANK(Y44:AE44) -> 0 | CN44: =2-COUNTBLANK(AJ44:AK44) -> 0 | CO44: =2-COUNTBLANK(AN44:AO44) -> 0 | CP44: =2-COUNTBLANK(AV44:AW44) -> 0 | CQ44: =13-COUNTBLANK(BB44:BN44) -> 0 | CR44: =IF(INDEX($Y44:$BN44,MATCH(CR$20,$Y$20:$BN$20,0))="X",CR$20,"") -> #N/A | CS44: =IF(INDEX($Y44:$BN44,MATCH(CS$20,$Y$20:$BN$20,0))="X",CS$20,"") -> #N/A | CT44: =IF(INDEX($Y44:$BN44,MATCH(CT$20,$Y$20:$BN$20,0))="X",CT$20,"") -> #N/A | CU44: =IF(INDEX($Y44:$BN44,MATCH(CU$20,$Y$20:$BN$20,0))="X",CU$20,"") -> #N/A | CV44: =IF(INDEX($Y44:$BN44,MATCH(CV$20,$Y$20:$BN$20,0))="X",CV$20,"") -> #N/A | CW44: =IF(INDEX($Y44:$BN44,MATCH(CW$20,$Y$20:$BN$20,0))="X",CW$20,"") -> #N/A | CX44: =IF(INDEX($Y44:$BN44,MATCH(CX$20,$Y$20:$BN$20,0))="X",CX$20,"") -> #N/A | CY44: =IF(INDEX($Y44:$BN44,MATCH(CY$20,$Y$20:$BN$20,0))="X",CY$20,"") -> #N/A | ... EG44: =IF(INDEX($Y44:$BN44,MATCH(EG$20,$Y$20:$BN$20,0))="X",EG$20,"") -> #N/A | EH44: =CONCATENATE(CR44,CS44,CT44,CU44,CV44,CW44,CX44,CY44,CZ44,DA44,DB44,DC44,DD44,DE44,DF44,DG44,DH44,DI44,DJ44,DK44,DL44,DM44,DN44,DO44,DP44,DQ44,DR44,DS44,DT44,DU44,DV44,DW44,DX44,DY44,DZ44,EA44,EB44,EC44) -> #N/A | EI44: =CONCATENATE(ED44,EE44,EF44,EG44) -> #N/A | EJ44: =SUBSTITUTE(EH44,"H",", H") -> #N/A | EK44: =SUBSTITUTE(EI44,"H",", H") -> #N/A | EL44: =IF(EJ44="","",RIGHT(EJ44,LEN(EJ44)-1)) -> #N/A | EM44: =IF(EK44="","",RIGHT(EK44,LEN(EK44)-1)) -> #N/A
A45: =CONCATENATE(C45,"_",E45,"_",G45) -> 2120034_Postlevée_Roundup Innov, Extra, Gold | B45: =IF(COUNTIF($A$21:A45,A45)>1,"Doublon","") | C45: 2120034 | D45: Glyphosate acide | E45: Postlevée | F45: 9 | G45: Roundup Innov, Extra, Gold | I45: 44164 | J45: Monsanto | K45: SL | L45: 480 g/l | M45: 20 | N45: 2 à 6 L/ha | P45: 0,67 à 2 | Q45: 1 à 3 | R45: 2880 | BO45: 21 | BP45: 21 | BS45: 5 | BU45: 10 | BY45: 6 | CC45: - | CD45: =IF(COUNTBLANK($Y45:$AD45)<>6,"X","") | CE45: =IF(COUNTBLANK($AE45)<>1,"X","") | CF45: =IF(SUM(CM45:CQ45)=0,"",SUM(CM45:CQ45)) | CG45: Retrait Anses novembre 2019 - Utilisation novembre 2020 | CK45: =IF(AND(Y45="",Z45="",AA45="",AB45="",AC45="",AD45="",AF45="",AG45="",AH45="",AI45="",AJ45="",AK45="",AL45="",AM45="",AN45="",AO45="",AP45="",AQ45="",AR45="",AS45="",AT45="",AU45="",AV45="",AW45="",AX45="",AY45="",AZ45="",BA45="",BB45="",BC45="",BD45="",BE45="",BF45="",BG45="",BH45="",BI45="",BJ45="",#REF!="",BK45="",BL45="",BM45="",BN45="",BY45=6),"X","") -> #REF! | CL45: =COUNTIF(Y45:BN45,"X") -> 0 | CM45: =7-COUNTBLANK(Y45:AE45) -> 0 | CN45: =2-COUNTBLANK(AJ45:AK45) -> 0 | CO45: =2-COUNTBLANK(AN45:AO45) -> 0 | CP45: =2-COUNTBLANK(AV45:AW45) -> 0 | CQ45: =13-COUNTBLANK(BB45:BN45) -> 0 | CR45: =IF(INDEX($Y45:$BN45,MATCH(CR$20,$Y$20:$BN$20,0))="X",CR$20,"") -> #N/A | CS45: =IF(INDEX($Y45:$BN45,MATCH(CS$20,$Y$20:$BN$20,0))="X",CS$20,"") -> #N/A | CT45: =IF(INDEX($Y45:$BN45,MATCH(CT$20,$Y$20:$BN$20,0))="X",CT$20,"") -> #N/A | CU45: =IF(INDEX($Y45:$BN45,MATCH(CU$20,$Y$20:$BN$20,0))="X",CU$20,"") -> #N/A | CV45: =IF(INDEX($Y45:$BN45,MATCH(CV$20,$Y$20:$BN$20,0))="X",CV$20,"") -> #N/A | CW45: =IF(INDEX($Y45:$BN45,MATCH(CW$20,$Y$20:$BN$20,0))="X",CW$20,"") -> #N/A | CX45: =IF(INDEX($Y45:$BN45,MATCH(CX$20,$Y$20:$BN$20,0))="X",CX$20,"") -> #N/A | CY45: =IF(INDEX($Y45:$BN45,MATCH(CY$20,$Y$20:$BN$20,0))="X",CY$20,"") -> #N/A | ... EG45: =IF(INDEX($Y45:$BN45,MATCH(EG$20,$Y$20:$BN$20,0))="X",EG$20,"") -> #N/A | EH45: =CONCATENATE(CR45,CS45,CT45,CU45,CV45,CW45,CX45,CY45,CZ45,DA45,DB45,DC45,DD45,DE45,DF45,DG45,DH45,DI45,DJ45,DK45,DL45,DM45,DN45,DO45,DP45,DQ45,DR45,DS45,DT45,DU45,DV45,DW45,DX45,DY45,DZ45,EA45,EB45,EC45) -> #N/A | EI45: =CONCATENATE(ED45,EE45,EF45,EG45) -> #N/A | EJ45: =SUBSTITUTE(EH45,"H",", H") -> #N/A | EK45: =SUBSTITUTE(EI45,"H",", H") -> #N/A | EL45: =IF(EJ45="","",RIGHT(EJ45,LEN(EJ45)-1)) -> #N/A | EM45: =IF(EK45="","",RIGHT(EK45,LEN(EK45)-1)) -> #N/A
A46: =CONCATENATE(C46,"_",E46,"_",G46) -> 2120060_Prélevée_Redoutable | B46: =IF(COUNTIF($A$21:A46,A46)>1,"Doublon","") | C46: 2120060 | D46: Propyzamide | E46: Prélevée | F46: 3 | G46: Redoutable | I46: 44012 | J46: Phyteurop | K46: SC | L46: 400 g/l | M46: 10 | N46: 1.875 | P46: =N46*0.3 -> 0.5625 | Q46: =N46*0.5 -> 0.9375 | R46: 750 | U46: X | W46: X | Z46: X | AG46: X | BO46: 180 | BP46: 180 | BS46: 5 | BU46: 10 | BY46: 48 | CD46: =IF(COUNTBLANK($Y46:$AD46)<>6,"X","") -> X | CE46: =IF(COUNTBLANK($AE46)<>1,"X","") | CF46: =IF(SUM(CM46:CQ46)=0,"",SUM(CM46:CQ46)) -> 1 | CK46: =IF(AND(Y46="",Z46="",AA46="",AB46="",AC46="",AD46="",AF46="",AG46="",AH46="",AI46="",AJ46="",AK46="",AL46="",AM46="",AN46="",AO46="",AP46="",AQ46="",AR46="",AS46="",AT46="",AU46="",AV46="",AW46="",AX46="",AY46="",AZ46="",BA46="",BB46="",BC46="",BD46="",BE46="",BF46="",BG46="",BH46="",BI46="",BJ46="",#REF!="",BK46="",BL46="",BM46="",BN46="",BY46=6),"X","") -> #REF! | CL46: =COUNTIF(Y46:BN46,"X") -> 2 | CM46: =7-COUNTBLANK(Y46:AE46) -> 1 | CN46: =2-COUNTBLANK(AJ46:AK46) -> 0 | CO46: =2-COUNTBLANK(AN46:AO46) -> 0 | CP46: =2-COUNTBLANK(AV46:AW46) -> 0 | CQ46: =13-COUNTBLANK(BB46:BN46) -> 0 | CR46: =IF(INDEX($Y46:$BN46,MATCH(CR$20,$Y$20:$BN$20,0))="X",CR$20,"") -> #N/A | CS46: =IF(INDEX($Y46:$BN46,MATCH(CS$20,$Y$20:$BN$20,0))="X",CS$20,"") -> #N/A | CT46: =IF(INDEX($Y46:$BN46,MATCH(CT$20,$Y$20:$BN$20,0))="X",CT$20,"") -> #N/A | CU46: =IF(INDEX($Y46:$BN46,MATCH(CU$20,$Y$20:$BN$20,0))="X",CU$20,"") -> #N/A | CV46: =IF(INDEX($Y46:$BN46,MATCH(CV$20,$Y$20:$BN$20,0))="X",CV$20,"") -> #N/A | CW46: =IF(INDEX($Y46:$BN46,MATCH(CW$20,$Y$20:$BN$20,0))="X",CW$20,"") -> #N/A | CX46: =IF(INDEX($Y46:$BN46,MATCH(CX$20,$Y$20:$BN$20,0))="X",CX$20,"") -> #N/A | CY46: =IF(INDEX($Y46:$BN46,MATCH(CY$20,$Y$20:$BN$20,0))="X",CY$20,"") -> #N/A | ... EG46: =IF(INDEX($Y46:$BN46,MATCH(EG$20,$Y$20:$BN$20,0))="X",EG$20,"") -> #N/A | EH46: =CONCATENATE(CR46,CS46,CT46,CU46,CV46,CW46,CX46,CY46,CZ46,DA46,DB46,DC46,DD46,DE46,DF46,DG46,DH46,DI46,DJ46,DK46,DL46,DM46,DN46,DO46,DP46,DQ46,DR46,DS46,DT46,DU46,DV46,DW46,DX46,DY46,DZ46,EA46,EB46,EC46) -> #N/A | EI46: =CONCATENATE(ED46,EE46,EF46,EG46) -> #N/A | EJ46: =SUBSTITUTE(EH46,"H",", H") -> #N/A | EK46: =SUBSTITUTE(EI46,"H",", H") -> #N/A | EL46: =IF(EJ46="","",RIGHT(EJ46,LEN(EJ46)-1)) -> #N/A | EM46: =IF(EK46="","",RIGHT(EK46,LEN(EK46)-1)) -> #N/A
A47: =CONCATENATE(C47,"_",E47,"_",G47) -> 2120143_Postlevée_Crossover, Highland, Cayenne | B47: =IF(COUNTIF($A$21:A47,A47)>1,"Doublon","") | C47: 2120143 | D47: Glyphosate acide | E47: Postlevée | F47: 9 | G47: Crossover, Highland, Cayenne | J47: Dow AgroSciences | K47: SL | L47: 480 g/l | M47: 5-20 | N47: 3 à 6 | R47: 2880 | AI47: X | BO47: 21 | BP47: 21 | BS47: 5 | BU47: 10 | BV47: Non | BW47: 5 | BX47: 5 | BY47: 6 | BZ47: 3 | CC47: - | CE47: =IF(COUNTBLANK($AE47)<>1,"X","") | CF47: =IF(SUM(CM47:CQ47)=0,"",SUM(CM47:CQ47)) | CL47: =COUNTIF(Y47:BN47,"X") -> 1 | CM47: =7-COUNTBLANK(Y47:AE47) -> 0 | CN47: =2-COUNTBLANK(AJ47:AK47) -> 0 | CO47: =2-COUNTBLANK(AN47:AO47) -> 0 | CP47: =2-COUNTBLANK(AV47:AW47) -> 0 | CQ47: =13-COUNTBLANK(BB47:BN47) -> 0 | CR47: =IF(INDEX($Y47:$BN47,MATCH(CR$20,$Y$20:$BN$20,0))="X",CR$20,"") -> #N/A | CS47: =IF(INDEX($Y47:$BN47,MATCH(CS$20,$Y$20:$BN$20,0))="X",CS$20,"") -> #N/A | CT47: =IF(INDEX($Y47:$BN47,MATCH(CT$20,$Y$20:$BN$20,0))="X",CT$20,"") -> #N/A | CU47: =IF(INDEX($Y47:$BN47,MATCH(CU$20,$Y$20:$BN$20,0))="X",CU$20,"") -> #N/A | CV47: =IF(INDEX($Y47:$BN47,MATCH(CV$20,$Y$20:$BN$20,0))="X",CV$20,"") -> #N/A | CW47: =IF(INDEX($Y47:$BN47,MATCH(CW$20,$Y$20:$BN$20,0))="X",CW$20,"") -> #N/A | CX47: =IF(INDEX($Y47:$BN47,MATCH(CX$20,$Y$20:$BN$20,0))="X",CX$20,"") -> #N/A | CY47: =IF(INDEX($Y47:$BN47,MATCH(CY$20,$Y$20:$BN$20,0))="X",CY$20,"") -> #N/A | ... EG47: =IF(INDEX($Y47:$BN47,MATCH(EG$20,$Y$20:$BN$20,0))="X",EG$20,"") -> #N/A | EH47: =CONCATENATE(CR47,CS47,CT47,CU47,CV47,CW47,CX47,CY47,CZ47,DA47,DB47,DC47,DD47,DE47,DF47,DG47,DH47,DI47,DJ47,DK47,DL47,DM47,DN47,DO47,DP47,DQ47,DR47,DS47,DT47,DU47,DV47,DW47,DX47,DY47,DZ47,EA47,EB47,EC47) -> #N/A | EI47: =CONCATENATE(ED47,EE47,EF47,EG47) -> #N/A | EJ47: =SUBSTITUTE(EH47,"H",", H") -> #N/A | EK47: =SUBSTITUTE(EI47,"H",", H") -> #N/A | EL47: =IF(EJ47="","",RIGHT(EJ47,LEN(EJ47)-1)) -> #N/A | EM47: =IF(EK47="","",RIGHT(EK47,LEN(EK47)-1)) -> #N/A
A48: =CONCATENATE(C48,"_",E48,"_",G48) -> 2130249_Prélevée_Fibule | B48: =IF(COUNTIF($A$21:A48,A48)>1,"Doublon","") | C48: 2130249 | D48: Pendimethaline | E48: Prélevée | F48: 3 | G48: Fibule | J48: Certis | K48: SC | L48: 400 g/l | M48: 5 | N48: 6 | P48: =N48*0.3 -> 1.8 | Q48: =N48*0.5 -> 3 | R48: 2400 | V48: X | W48: X | AF48: X | AG48: X | AU48: X | BO48: - | BP48: - | BS48: 50 | BU48: 10 | BV48: Non | BX48: 5 | BY48: 24 | BZ48: 1 | CC48: - | CE48: =IF(COUNTBLANK($AE48)<>1,"X","") | CF48: =IF(SUM(CM48:CQ48)=0,"",SUM(CM48:CQ48)) | CG48: Uniquement sous le rang | CK48: =IF(AND(Y48="",Z48="",AA48="",AB48="",AC48="",AD48="",AF48="",AG48="",AH48="",AI48="",AJ48="",AK48="",AL48="",AM48="",AN48="",AO48="",AP48="",AQ48="",AR48="",AS48="",AT48="",AU48="",AV48="",AW48="",AX48="",AY48="",AZ48="",BA48="",BB48="",BC48="",BD48="",BE48="",BF48="",BG48="",BH48="",BI48="",BJ48="",#REF!="",BK48="",BL48="",BM48="",BN48="",BY48=6),"X","") -> #REF! | CL48: =COUNTIF(Y48:BN48,"X") -> 3 | CM48: =7-COUNTBLANK(Y48:AE48) -> 0 | CN48: =2-COUNTBLANK(AJ48:AK48) -> 0 | CO48: =2-COUNTBLANK(AN48:AO48) -> 0 | CP48: =2-COUNTBLANK(AV48:AW48) -> 0 | CQ48: =13-COUNTBLANK(BB48:BN48) -> 0 | CR48: =IF(INDEX($Y48:$BN48,MATCH(CR$20,$Y$20:$BN$20,0))="X",CR$20,"") -> #N/A | CS48: =IF(INDEX($Y48:$BN48,MATCH(CS$20,$Y$20:$BN$20,0))="X",CS$20,"") -> #N/A | CT48: =IF(INDEX($Y48:$BN48,MATCH(CT$20,$Y$20:$BN$20,0))="X",CT$20,"") -> #N/A | CU48: =IF(INDEX($Y48:$BN48,MATCH(CU$20,$Y$20:$BN$20,0))="X",CU$20,"") -> #N/A | CV48: =IF(INDEX($Y48:$BN48,MATCH(CV$20,$Y$20:$BN$20,0))="X",CV$20,"") -> #N/A | CW48: =IF(INDEX($Y48:$BN48,MATCH(CW$20,$Y$20:$BN$20,0))="X",CW$20,"") -> #N/A | CX48: =IF(INDEX($Y48:$BN48,MATCH(CX$20,$Y$20:$BN$20,0))="X",CX$20,"") -> #N/A | CY48: =IF(INDEX($Y48:$BN48,MATCH(CY$20,$Y$20:$BN$20,0))="X",CY$20,"") -> #N/A | ... EG48: =IF(INDEX($Y48:$BN48,MATCH(EG$20,$Y$20:$BN$20,0))="X",EG$20,"") -> #N/A | EH48: =CONCATENATE(CR48,CS48,CT48,CU48,CV48,CW48,CX48,CY48,CZ48,DA48,DB48,DC48,DD48,DE48,DF48,DG48,DH48,DI48,DJ48,DK48,DL48,DM48,DN48,DO48,DP48,DQ48,DR48,DS48,DT48,DU48,DV48,DW48,DX48,DY48,DZ48,EA48,EB48,EC48) -> #N/A | EI48: =CONCATENATE(ED48,EE48,EF48,EG48) -> #N/A | EJ48: =SUBSTITUTE(EH48,"H",", H") -> #N/A | EK48: =SUBSTITUTE(EI48,"H",", H") -> #N/A | EL48: =IF(EJ48="","",RIGHT(EJ48,LEN(EJ48)-1)) -> #N/A | EM48: =IF(EK48="","",RIGHT(EK48,LEN(EK48)-1)) -> #N/A
A49: =CONCATENATE(C49,"_",E49,"_",G49) -> 2130249_Prélevée_Penditec 400, Penbowl, Xanadon** | B49: =IF(COUNTIF($A$21:A49,A49)>1,"Doublon","") | C49: 2130249 | D49: Pendimethaline | E49: Prélevée | F49: 3 | G49: Penditec 400, Penbowl, Xanadon** | J49: Sapec agro | K49: SC | L49: 400 g/l | M49: 5-20 | N49: 6 | P49: =N49*0.3 -> 1.8 | Q49: =N49*0.5 -> 3 | R49: 2400 | V49: X | W49: X | AF49: X | AG49: X | AU49: X | BO49: - | BP49: - | BS49: 50 | BU49: 10 | BV49: Non | BX49: 5 | BY49: 24 | BZ49: 1 | CC49: - | CD49: =IF(COUNTBLANK($Y49:$AD49)<>6,"X","") | CE49: =IF(COUNTBLANK($AE49)<>1,"X","") | CF49: =IF(SUM(CM49:CQ49)=0,"",SUM(CM49:CQ49)) | CG49: Uniquement sous le rang | CK49: =IF(AND(Y49="",Z49="",AA49="",AB49="",AC49="",AD49="",AF49="",AG49="",AH49="",AI49="",AJ49="",AK49="",AL49="",AM49="",AN49="",AO49="",AP49="",AQ49="",AR49="",AS49="",AT49="",AU49="",AV49="",AW49="",AX49="",AY49="",AZ49="",BA49="",BB49="",BC49="",BD49="",BE49="",BF49="",BG49="",BH49="",BI49="",BJ49="",#REF!="",BK49="",BL49="",BM49="",BN49="",BY49=6),"X","") -> #REF! | CL49: =COUNTIF(Y49:BN49,"X") -> 3 | CM49: =7-COUNTBLANK(Y49:AE49) -> 0 | CN49: =2-COUNTBLANK(AJ49:AK49) -> 0 | CO49: =2-COUNTBLANK(AN49:AO49) -> 0 | CP49: =2-COUNTBLANK(AV49:AW49) -> 0 | CQ49: =13-COUNTBLANK(BB49:BN49) -> 0 | CR49: =IF(INDEX($Y49:$BN49,MATCH(CR$20,$Y$20:$BN$20,0))="X",CR$20,"") -> #N/A | CS49: =IF(INDEX($Y49:$BN49,MATCH(CS$20,$Y$20:$BN$20,0))="X",CS$20,"") -> #N/A | CT49: =IF(INDEX($Y49:$BN49,MATCH(CT$20,$Y$20:$BN$20,0))="X",CT$20,"") -> #N/A | CU49: =IF(INDEX($Y49:$BN49,MATCH(CU$20,$Y$20:$BN$20,0))="X",CU$20,"") -> #N/A | CV49: =IF(INDEX($Y49:$BN49,MATCH(CV$20,$Y$20:$BN$20,0))="X",CV$20,"") -> #N/A | CW49: =IF(INDEX($Y49:$BN49,MATCH(CW$20,$Y$20:$BN$20,0))="X",CW$20,"") -> #N/A | CX49: =IF(INDEX($Y49:$BN49,MATCH(CX$20,$Y$20:$BN$20,0))="X",CX$20,"") -> #N/A | CY49: =IF(INDEX($Y49:$BN49,MATCH(CY$20,$Y$20:$BN$20,0))="X",CY$20,"") -> #N/A | ... EG49: =IF(INDEX($Y49:$BN49,MATCH(EG$20,$Y$20:$BN$20,0))="X",EG$20,"") -> #N/A | EH49: =CONCATENATE(CR49,CS49,CT49,CU49,CV49,CW49,CX49,CY49,CZ49,DA49,DB49,DC49,DD49,DE49,DF49,DG49,DH49,DI49,DJ49,DK49,DL49,DM49,DN49,DO49,DP49,DQ49,DR49,DS49,DT49,DU49,DV49,DW49,DX49,DY49,DZ49,EA49,EB49,EC49) -> #N/A | EI49: =CONCATENATE(ED49,EE49,EF49,EG49) -> #N/A | EJ49: =SUBSTITUTE(EH49,"H",", H") -> #N/A | EK49: =SUBSTITUTE(EI49,"H",", H") -> #N/A | EL49: =IF(EJ49="","",RIGHT(EJ49,LEN(EJ49)-1)) -> #N/A | EM49: =IF(EK49="","",RIGHT(EK49,LEN(EK49)-1)) -> #N/A
A50: =CONCATENATE(C50,"_",E50,"_",G50) -> 2140086_Pre et Postlevee_CHIKARA DUO** - LONGRUN** | B50: =IF(COUNTIF($A$21:A50,A50)>1,"Doublon","") | C50: 2140086 | D50: flazasulfuron + Glyphosate | E50: Pre et Postlevee | F50: 2 +9 | G50: CHIKARA DUO** - LONGRUN** | I50: 44164 | J50: BELCHIM CROP PROTECTION | K50: WG | L50: 6,7 g/kg 288 g/kg G | M50: 3 | N50: 3 | P50: =N50*0.3 -> 0.9 | Q50: =N50*0.5 -> 1.5 | R50: 20,1 F 864 G | V50: X | W50: X | AF50: X | AG50: X | AU50: X | BO50: - | BP50: - | BS50: 20 | BU50: 10 | BY50: 24 | CC50: - | CD50: =IF(COUNTBLANK($Y50:$AD50)<>6,"X","") | CE50: =IF(COUNTBLANK($AE50)<>1,"X","") | CF50: =IF(SUM(CM50:CQ50)=0,"",SUM(CM50:CQ50)) | CG50: Retrait Anses novembre 2019 - Utilisation novembre 2020 | CK50: =IF(AND(Y50="",Z50="",AA50="",AB50="",AC50="",AD50="",AF50="",AG50="",AH50="",AI50="",AJ50="",AK50="",AL50="",AM50="",AN50="",AO50="",AP50="",AQ50="",AR50="",AS50="",AT50="",AU50="",AV50="",AW50="",AX50="",AY50="",AZ50="",BA50="",BB50="",BC50="",BD50="",BE50="",BF50="",BG50="",BH50="",BI50="",BJ50="",AE50="",BK50="",BL50="",BM50="",BN50="",BY50=6),"X","") | CL50: =COUNTIF(Y50:BN50,"X") -> 3 | CM50: =7-COUNTBLANK(Y50:AE50) -> 0 | CN50: =2-COUNTBLANK(AJ50:AK50) -> 0 | CO50: =2-COUNTBLANK(AN50:AO50) -> 0 | CP50: =2-COUNTBLANK(AV50:AW50) -> 0 | CQ50: =13-COUNTBLANK(BB50:BN50) -> 0 | CR50: =IF(INDEX($Y50:$BN50,MATCH(CR$20,$Y$20:$BN$20,0))="X",CR$20,"") -> #N/A | CS50: =IF(INDEX($Y50:$BN50,MATCH(CS$20,$Y$20:$BN$20,0))="X",CS$20,"") -> #N/A | CT50: =IF(INDEX($Y50:$BN50,MATCH(CT$20,$Y$20:$BN$20,0))="X",CT$20,"") -> #N/A | CU50: =IF(INDEX($Y50:$BN50,MATCH(CU$20,$Y$20:$BN$20,0))="X",CU$20,"") -> #N/A | CV50: =IF(INDEX($Y50:$BN50,MATCH(CV$20,$Y$20:$BN$20,0))="X",CV$20,"") -> #N/A | CW50: =IF(INDEX($Y50:$BN50,MATCH(CW$20,$Y$20:$BN$20,0))="X",CW$20,"") -> #N/A | CX50: =IF(INDEX($Y50:$BN50,MATCH(CX$20,$Y$20:$BN$20,0))="X",CX$20,"") -> #N/A | CY50: =IF(INDEX($Y50:$BN50,MATCH(CY$20,$Y$20:$BN$20,0))="X",CY$20,"") -> #N/A | ... EG50: =IF(INDEX($Y50:$BN50,MATCH(EG$20,$Y$20:$BN$20,0))="X",EG$20,"") -> #N/A | EH50: =CONCATENATE(CR50,CS50,CT50,CU50,CV50,CW50,CX50,CY50,CZ50,DA50,DB50,DC50,DD50,DE50,DF50,DG50,DH50,DI50,DJ50,DK50,DL50,DM50,DN50,DO50,DP50,DQ50,DR50,DS50,DT50,DU50,DV50,DW50,DX50,DY50,DZ50,EA50,EB50,EC50) -> #N/A | EI50: =CONCATENATE(ED50,EE50,EF50,EG50) -> #N/A | EJ50: =SUBSTITUTE(EH50,"H",", H") -> #N/A | EK50: =SUBSTITUTE(EI50,"H",", H") -> #N/A | EL50: =IF(EJ50="","",RIGHT(EJ50,LEN(EJ50)-1)) -> #N/A | EM50: =IF(EK50="","",RIGHT(EK50,LEN(EK50)-1)) -> #N/A
A51: =CONCATENATE(C51,"_",E51,"_",G51) -> 2140164_Pre et Postlevee_Koudai | B51: =IF(COUNTIF($A$21:A51,A51)>1,"Doublon","") | C51: 2140164 | D51: Flazasulfuron + Glyphosate | E51: Pre et Postlevee | F51: 2 + 9 | G51: Koudai | I51: 44164 | J51: Philagro France | K51: WG | L51: 13,3 g/kg F 288 g/kg G | M51: 3 | N51: 3 | P51: =N51*0.3 -> 0.9 | Q51: =N51*0.5 -> 1.5 | R51: 39,9 F 864 G | V51: X | W51: X | AF51: X | AG51: X | AU51: X | BO51: BBCH 69 | BP51: BBCH 69 | BS51: 20 | BU51: 10 | BY51: 6 | CC51: - | CD51: =IF(COUNTBLANK($Y51:$AD51)<>6,"X","") | CE51: =IF(COUNTBLANK($AE51)<>1,"X","") | CF51: =IF(SUM(CM51:CQ51)=0,"",SUM(CM51:CQ51)) | CG51: Retrait Anses novembre 2019 - Utilisation novembre 2020 | CK51: =IF(AND(Y51="",Z51="",AA51="",AB51="",AC51="",AD51="",AF51="",AG51="",AH51="",AI51="",AJ51="",AK51="",AL51="",AM51="",AN51="",AO51="",AP51="",AQ51="",AR51="",AS51="",AT51="",AU51="",AV51="",AW51="",AX51="",AY51="",AZ51="",BA51="",BB51="",BC51="",BD51="",BE51="",BF51="",BG51="",BH51="",BI51="",BJ51="",#REF!="",BK51="",BL51="",BM51="",BN51="",BY51=6),"X","") -> #REF! | CL51: =COUNTIF(Y51:BN51,"X") -> 3 | CM51: =7-COUNTBLANK(Y51:AE51) -> 0 | CN51: =2-COUNTBLANK(AJ51:AK51) -> 0 | CO51: =2-COUNTBLANK(AN51:AO51) -> 0 | CP51: =2-COUNTBLANK(AV51:AW51) -> 0 | CQ51: =13-COUNTBLANK(BB51:BN51) -> 0 | CR51: =IF(INDEX($Y51:$BN51,MATCH(CR$20,$Y$20:$BN$20,0))="X",CR$20,"") -> #N/A | CS51: =IF(INDEX($Y51:$BN51,MATCH(CS$20,$Y$20:$BN$20,0))="X",CS$20,"") -> #N/A | CT51: =IF(INDEX($Y51:$BN51,MATCH(CT$20,$Y$20:$BN$20,0))="X",CT$20,"") -> #N/A | CU51: =IF(INDEX($Y51:$BN51,MATCH(CU$20,$Y$20:$BN$20,0))="X",CU$20,"") -> #N/A | CV51: =IF(INDEX($Y51:$BN51,MATCH(CV$20,$Y$20:$BN$20,0))="X",CV$20,"") -> #N/A | CW51: =IF(INDEX($Y51:$BN51,MATCH(CW$20,$Y$20:$BN$20,0))="X",CW$20,"") -> #N/A | CX51: =IF(INDEX($Y51:$BN51,MATCH(CX$20,$Y$20:$BN$20,0))="X",CX$20,"") -> #N/A | CY51: =IF(INDEX($Y51:$BN51,MATCH(CY$20,$Y$20:$BN$20,0))="X",CY$20,"") -> #N/A | ... EG51: =IF(INDEX($Y51:$BN51,MATCH(EG$20,$Y$20:$BN$20,0))="X",EG$20,"") -> #N/A | EH51: =CONCATENATE(CR51,CS51,CT51,CU51,CV51,CW51,CX51,CY51,CZ51,DA51,DB51,DC51,DD51,DE51,DF51,DG51,DH51,DI51,DJ51,DK51,DL51,DM51,DN51,DO51,DP51,DQ51,DR51,DS51,DT51,DU51,DV51,DW51,DX51,DY51,DZ51,EA51,EB51,EC51) -> #N/A | EI51: =CONCATENATE(ED51,EE51,EF51,EG51) -> #N/A | EJ51: =SUBSTITUTE(EH51,"H",", H") -> #N/A | EK51: =SUBSTITUTE(EI51,"H",", H") -> #N/A | EL51: =IF(EJ51="","",RIGHT(EJ51,LEN(EJ51)-1)) -> #N/A | EM51: =IF(EK51="","",RIGHT(EK51,LEN(EK51)-1)) -> #N/A
A52: =CONCATENATE(C52,"_",E52,"_",G52) -> 2140255_Epamprage_Beloukha | B52: =IF(COUNTIF($A$21:A52,A52)>1,"Doublon","") | C52: 2140255 | D52: Acide pelargonique | E52: Epamprage | F52: 0 | G52: Beloukha | J52: Belchim Crop Protection | K52: EC | L52: 680 g/l | M52: 10 | N52: 16 | P52: =N52*0.32 -> 5.12 | Q52: =N52*0.5 -> 8 | R52: 10880 | S52: X | V52: X | AR52: X | AT52: X | BO52: 1 | BP52: 1 | BR52: X | BS52: 5 | BU52: 3 | BV52: Oui | BY52: 24 | BZ52: 3 | CC52: Max 77 | CD52: =IF(COUNTBLANK($Y52:$AD52)<>6,"X","") | CE52: =IF(COUNTBLANK($AE52)<>1,"X","") | CF52: =IF(SUM(CM52:CQ52)=0,"",SUM(CM52:CQ52)) | CG52: ok vignes moins de 4 ans. Ne pas appliquer sur adventices en fleur | CK52: =IF(AND(Y52="",Z52="",AA52="",AB52="",AC52="",AD52="",AF52="",AG52="",AH52="",AI52="",AJ52="",AK52="",AL52="",AM52="",AN52="",AO52="",AP52="",AQ52="",AR52="",AS52="",AT52="",AU52="",AV52="",AW52="",AX52="",AY52="",AZ52="",BA52="",BB52="",BC52="",BD52="",BE52="",BF52="",BG52="",BH52="",BI52="",BJ52="",AE52="",BK52="",BL52="",BM52="",BN52="",BY52=6),"X","") | CL52: =COUNTIF(Y52:BN52,"X") -> 2 | CM52: =7-COUNTBLANK(Y52:AE52) -> 0 | CN52: =2-COUNTBLANK(AJ52:AK52) -> 0 | CO52: =2-COUNTBLANK(AN52:AO52) -> 0 | CP52: =2-COUNTBLANK(AV52:AW52) -> 0 | CQ52: =13-COUNTBLANK(BB52:BN52) -> 0 | CR52: =IF(INDEX($Y52:$BN52,MATCH(CR$20,$Y$20:$BN$20,0))="X",CR$20,"") -> #N/A | CS52: =IF(INDEX($Y52:$BN52,MATCH(CS$20,$Y$20:$BN$20,0))="X",CS$20,"") -> #N/A | CT52: =IF(INDEX($Y52:$BN52,MATCH(CT$20,$Y$20:$BN$20,0))="X",CT$20,"") -> #N/A | CU52: =IF(INDEX($Y52:$BN52,MATCH(CU$20,$Y$20:$BN$20,0))="X",CU$20,"") -> #N/A | CV52: =IF(INDEX($Y52:$BN52,MATCH(CV$20,$Y$20:$BN$20,0))="X",CV$20,"") -> #N/A | CW52: =IF(INDEX($Y52:$BN52,MATCH(CW$20,$Y$20:$BN$20,0))="X",CW$20,"") -> #N/A | CX52: =IF(INDEX($Y52:$BN52,MATCH(CX$20,$Y$20:$BN$20,0))="X",CX$20,"") -> #N/A | CY52: =IF(INDEX($Y52:$BN52,MATCH(CY$20,$Y$20:$BN$20,0))="X",CY$20,"") -> #N/A | ... EG52: =IF(INDEX($Y52:$BN52,MATCH(EG$20,$Y$20:$BN$20,0))="X",EG$20,"") -> #N/A | EH52: =CONCATENATE(CR52,CS52,CT52,CU52,CV52,CW52,CX52,CY52,CZ52,DA52,DB52,DC52,DD52,DE52,DF52,DG52,DH52,DI52,DJ52,DK52,DL52,DM52,DN52,DO52,DP52,DQ52,DR52,DS52,DT52,DU52,DV52,DW52,DX52,DY52,DZ52,EA52,EB52,EC52) -> #N/A | EI52: =CONCATENATE(ED52,EE52,EF52,EG52) -> #N/A | EJ52: =SUBSTITUTE(EH52,"H",", H") -> #N/A | EK52: =SUBSTITUTE(EI52,"H",", H") -> #N/A | EL52: =IF(EJ52="","",RIGHT(EJ52,LEN(EJ52)-1)) -> #N/A | EM52: =IF(EK52="","",RIGHT(EK52,LEN(EK52)-1)) -> #N/A
A53: =CONCATENATE(C53,"_",E53,"_",G53) -> 2140255_Action Contact_Beloukha (1) | B53: =IF(COUNTIF($A$21:A53,A53)>1,"Doublon","") | C53: 2140255 | D53: Acide pelargonique | E53: Action Contact | F53: 0 | G53: Beloukha (1) | J53: Belchim Crop Protection | K53: EC | L53: 680 g/l | M53: 10 | N53: 16 | P53: =N53*0.32 -> 5.12 | Q53: =N53*0.5 -> 8 | R53: 10880 | S53: X | V53: X | AR53: X | AT53: X | BO53: 1 | BP53: 1 | BR53: X | BS53: 5 | BU53: 3 | BV53: Oui | BY53: 24 | BZ53: 2 | CC53: Max 77 | CD53: =IF(COUNTBLANK($Y53:$AD53)<>6,"X","") | CE53: =IF(COUNTBLANK($AE53)<>1,"X","") | CF53: =IF(SUM(CM53:CQ53)=0,"",SUM(CM53:CQ53)) | CG53: ok vignes moins de 4 ans. Ne pas appliquer sur adventices en fleur | CK53: =IF(AND(Y53="",Z53="",AA53="",AB53="",AC53="",AD53="",AF53="",AG53="",AH53="",AI53="",AJ53="",AK53="",AL53="",AM53="",AN53="",AO53="",AP53="",AQ53="",AR53="",AS53="",AT53="",AU53="",AV53="",AW53="",AX53="",AY53="",AZ53="",BA53="",BB53="",BC53="",BD53="",BE53="",BF53="",BG53="",BH53="",BI53="",BJ53="",AE53="",BK53="",BL53="",BM53="",BN53="",BY53=6),"X","") | CL53: =COUNTIF(Y53:BN53,"X") -> 2 | CM53: =7-COUNTBLANK(Y53:AE53) -> 0 | CN53: =2-COUNTBLANK(AJ53:AK53) -> 0 | CO53: =2-COUNTBLANK(AN53:AO53) -> 0 | CP53: =2-COUNTBLANK(AV53:AW53) -> 0 | CQ53: =13-COUNTBLANK(BB53:BN53) -> 0 | CR53: =IF(INDEX($Y53:$BN53,MATCH(CR$20,$Y$20:$BN$20,0))="X",CR$20,"") -> #N/A | CS53: =IF(INDEX($Y53:$BN53,MATCH(CS$20,$Y$20:$BN$20,0))="X",CS$20,"") -> #N/A | CT53: =IF(INDEX($Y53:$BN53,MATCH(CT$20,$Y$20:$BN$20,0))="X",CT$20,"") -> #N/A | CU53: =IF(INDEX($Y53:$BN53,MATCH(CU$20,$Y$20:$BN$20,0))="X",CU$20,"") -> #N/A | CV53: =IF(INDEX($Y53:$BN53,MATCH(CV$20,$Y$20:$BN$20,0))="X",CV$20,"") -> #N/A | CW53: =IF(INDEX($Y53:$BN53,MATCH(CW$20,$Y$20:$BN$20,0))="X",CW$20,"") -> #N/A | CX53: =IF(INDEX($Y53:$BN53,MATCH(CX$20,$Y$20:$BN$20,0))="X",CX$20,"") -> #N/A | CY53: =IF(INDEX($Y53:$BN53,MATCH(CY$20,$Y$20:$BN$20,0))="X",CY$20,"") -> #N/A | ... EG53: =IF(INDEX($Y53:$BN53,MATCH(EG$20,$Y$20:$BN$20,0))="X",EG$20,"") -> #N/A | EH53: =CONCATENATE(CR53,CS53,CT53,CU53,CV53,CW53,CX53,CY53,CZ53,DA53,DB53,DC53,DD53,DE53,DF53,DG53,DH53,DI53,DJ53,DK53,DL53,DM53,DN53,DO53,DP53,DQ53,DR53,DS53,DT53,DU53,DV53,DW53,DX53,DY53,DZ53,EA53,EB53,EC53) -> #N/A | EI53: =CONCATENATE(ED53,EE53,EF53,EG53) -> #N/A | EJ53: =SUBSTITUTE(EH53,"H",", H") -> #N/A | EK53: =SUBSTITUTE(EI53,"H",", H") -> #N/A | EL53: =IF(EJ53="","",RIGHT(EJ53,LEN(EJ53)-1)) -> #N/A | EM53: =IF(EK53="","",RIGHT(EK53,LEN(EK53)-1)) -> #N/A
A54: =CONCATENATE(C54,"_",E54,"_",G54) -> 2160374_Prélevée_Elan, Foen | B54: =IF(COUNTIF($A$21:A54,A54)>1,"Doublon","") | C54: 2160374 | D54: Penoxulame + Oryzalin | E54: Prélevée | F54: 2 + 3 | G54: Elan, Foen | H54: 44500 | I54: 44712 | J54: CORTEVA agriscience TM | K54: SC | L54: 1,4 g/l P 479 g/l O | M54: 5 | N54: 5 | P54: =N54*0.3 -> 1.5 | Q54: 2 | R54: 2,1 P 718,5 O | U54: X | V54: X | W54: X | Z54: X | AG54: X | AS54: X | BO54: 56 | BP54: 56 | BS54: 20 | BT54: 20 | BU54: 10 | BY54: 48 | BZ54: 1 | CC54: Min 00 - Max 75 | CD54: =IF(COUNTBLANK($Y54:$AD54)<>6,"X","") -> X | CE54: =IF(COUNTBLANK($AE54)<>1,"X","") | CF54: =IF(SUM(CM54:CQ54)=0,"",SUM(CM54:CQ54)) -> 1 | CG54: Oryzalin ne sera pas redéposé (Perte AMM 2021 - 2022) 40% de la surface max | CK54: =IF(AND(Y54="",Z54="",AA54="",AB54="",AC54="",AD54="",AF54="",AG54="",AH54="",AI54="",AJ54="",AK54="",AL54="",AM54="",AN54="",AO54="",AP54="",AQ54="",AR54="",AS54="",AT54="",AU54="",AV54="",AW54="",AX54="",AY54="",AZ54="",BA54="",BB54="",BC54="",BD54="",BE54="",BF54="",BG54="",BH54="",BI54="",BJ54="",#REF!="",BK54="",BL54="",BM54="",BN54="",BY54=6),"X","") -> #REF! | CL54: =COUNTIF(Y54:BN54,"X") -> 3 | CM54: =7-COUNTBLANK(Y54:AE54) -> 1 | CN54: =2-COUNTBLANK(AJ54:AK54) -> 0 | CO54: =2-COUNTBLANK(AN54:AO54) -> 0 | CP54: =2-COUNTBLANK(AV54:AW54) -> 0 | CQ54: =13-COUNTBLANK(BB54:BN54) -> 0 | CR54: =IF(INDEX($Y54:$BN54,MATCH(CR$20,$Y$20:$BN$20,0))="X",CR$20,"") -> #N/A | CS54: =IF(INDEX($Y54:$BN54,MATCH(CS$20,$Y$20:$BN$20,0))="X",CS$20,"") -> #N/A | CT54: =IF(INDEX($Y54:$BN54,MATCH(CT$20,$Y$20:$BN$20,0))="X",CT$20,"") -> #N/A | CU54: =IF(INDEX($Y54:$BN54,MATCH(CU$20,$Y$20:$BN$20,0))="X",CU$20,"") -> #N/A | CV54: =IF(INDEX($Y54:$BN54,MATCH(CV$20,$Y$20:$BN$20,0))="X",CV$20,"") -> #N/A | CW54: =IF(INDEX($Y54:$BN54,MATCH(CW$20,$Y$20:$BN$20,0))="X",CW$20,"") -> #N/A | CX54: =IF(INDEX($Y54:$BN54,MATCH(CX$20,$Y$20:$BN$20,0))="X",CX$20,"") -> #N/A | CY54: =IF(INDEX($Y54:$BN54,MATCH(CY$20,$Y$20:$BN$20,0))="X",CY$20,"") -> #N/A | ... EG54: =IF(INDEX($Y54:$BN54,MATCH(EG$20,$Y$20:$BN$20,0))="X",EG$20,"") -> #N/A | EH54: =CONCATENATE(CR54,CS54,CT54,CU54,CV54,CW54,CX54,CY54,CZ54,DA54,DB54,DC54,DD54,DE54,DF54,DG54,DH54,DI54,DJ54,DK54,DL54,DM54,DN54,DO54,DP54,DQ54,DR54,DS54,DT54,DU54,DV54,DW54,DX54,DY54,DZ54,EA54,EB54,EC54) -> #N/A | EI54: =CONCATENATE(ED54,EE54,EF54,EG54) -> #N/A | EJ54: =SUBSTITUTE(EH54,"H",", H") -> #N/A | EK54: =SUBSTITUTE(EI54,"H",", H") -> #N/A | EL54: =IF(EJ54="","",RIGHT(EJ54,LEN(EJ54)-1)) -> #N/A | EM54: =IF(EK54="","",RIGHT(EK54,LEN(EK54)-1)) -> #N/A
A55: =CONCATENATE(C55,"_",E55,"_",G55) -> 2160392_Prélevée_Orignal | B55: =IF(COUNTIF($A$21:A55,A55)>1,"Doublon","") | C55: 2160392 | D55: Propyzamide | E55: Prélevée | F55: 3 | G55: Orignal | I55: 44012 | J55: Sapec agro | K55: SC | L55: 400 g/l | M55: 5 | N55: 1.875 | P55: =N55*0.3 -> 0.5625 | Q55: =N55*0.5 -> 0.9375 | R55: 750 | U55: X | W55: X | Z55: X | AG55: X | BO55: 180 | BP55: 180 | BS55: 5 | BU55: 10 | BY55: 48 | CC55: - | CD55: =IF(COUNTBLANK($Y55:$AD55)<>6,"X","") -> X | CE55: =IF(COUNTBLANK($AE55)<>1,"X","") | CF55: =IF(SUM(CM55:CQ55)=0,"",SUM(CM55:CQ55)) -> 1 | CK55: =IF(AND(Y55="",Z55="",AA55="",AB55="",AC55="",AD55="",AF55="",AG55="",AH55="",AI55="",AJ55="",AK55="",AL55="",AM55="",AN55="",AO55="",AP55="",AQ55="",AR55="",AS55="",AT55="",AU55="",AV55="",AW55="",AX55="",AY55="",AZ55="",BA55="",BB55="",BC55="",BD55="",BE55="",BF55="",BG55="",BH55="",BI55="",BJ55="",#REF!="",BK55="",BL55="",BM55="",BN55="",BY55=6),"X","") -> #REF! | CL55: =COUNTIF(Y55:BN55,"X") -> 2 | CM55: =7-COUNTBLANK(Y55:AE55) -> 1 | CN55: =2-COUNTBLANK(AJ55:AK55) -> 0 | CO55: =2-COUNTBLANK(AN55:AO55) -> 0 | CP55: =2-COUNTBLANK(AV55:AW55) -> 0 | CQ55: =13-COUNTBLANK(BB55:BN55) -> 0 | CR55: =IF(INDEX($Y55:$BN55,MATCH(CR$20,$Y$20:$BN$20,0))="X",CR$20,"") -> #N/A | CS55: =IF(INDEX($Y55:$BN55,MATCH(CS$20,$Y$20:$BN$20,0))="X",CS$20,"") -> #N/A | CT55: =IF(INDEX($Y55:$BN55,MATCH(CT$20,$Y$20:$BN$20,0))="X",CT$20,"") -> #N/A | CU55: =IF(INDEX($Y55:$BN55,MATCH(CU$20,$Y$20:$BN$20,0))="X",CU$20,"") -> #N/A | CV55: =IF(INDEX($Y55:$BN55,MATCH(CV$20,$Y$20:$BN$20,0))="X",CV$20,"") -> #N/A | CW55: =IF(INDEX($Y55:$BN55,MATCH(CW$20,$Y$20:$BN$20,0))="X",CW$20,"") -> #N/A | CX55: =IF(INDEX($Y55:$BN55,MATCH(CX$20,$Y$20:$BN$20,0))="X",CX$20,"") -> #N/A | CY55: =IF(INDEX($Y55:$BN55,MATCH(CY$20,$Y$20:$BN$20,0))="X",CY$20,"") -> #N/A | ... EG55: =IF(INDEX($Y55:$BN55,MATCH(EG$20,$Y$20:$BN$20,0))="X",EG$20,"") -> #N/A | EH55: =CONCATENATE(CR55,CS55,CT55,CU55,CV55,CW55,CX55,CY55,CZ55,DA55,DB55,DC55,DD55,DE55,DF55,DG55,DH55,DI55,DJ55,DK55,DL55,DM55,DN55,DO55,DP55,DQ55,DR55,DS55,DT55,DU55,DV55,DW55,DX55,DY55,DZ55,EA55,EB55,EC55) -> #N/A | EI55: =CONCATENATE(ED55,EE55,EF55,EG55) -> #N/A | EJ55: =SUBSTITUTE(EH55,"H",", H") -> #N/A | EK55: =SUBSTITUTE(EI55,"H",", H") -> #N/A | EL55: =IF(EJ55="","",RIGHT(EJ55,LEN(EJ55)-1)) -> #N/A | EM55: =IF(EK55="","",RIGHT(EK55,LEN(EK55)-1)) -> #N/A
G57: (1) autorisé en pépinière
G58: ** uniquement sous le rang

Sheet coloration
A1: en-tête | B1: type | C1: colonne | D1: couleur si X | E1: commentaire
A2: Liste Biocontrôle | D2: vert
A3: AB | D3: vert
A4: Positionnement / utilisation | D4: NC
A5: Liste verte eaux de vie | D5: NC
A6: picto cœur | B6: pictogramme danger | D6: rouge
A7: picto point exclamation | B7: pictogramme danger | D7: rouge
A8: picto environnement | B8: pictogramme danger | D8: rouge
A9: picto tête de mort | B9: pictogramme danger | D9: rouge
A10: picto flamme | D10: aucune
A11: H341 | B11: phrase CMR 2 | D11: rouge
A12: H351 | B12: phrase CMR 2 | D12: rouge
A13: H361 | B13: phrase CMR 2 | D13: rouge
A14: H361d | B14: phrase CMR 2 | D14: rouge
A15: H361f | B15: phrase CMR 2 | D15: rouge
A16: H361fd | B16: phrase CMR 2 | D16: rouge
A17: H362 | B17: phrase de risque | D17: rouge
A18: H400 | B18: phrase environnement | D18: jaune
A19: H410 | B19: phrase environnement | D19: jaune
A20: H411 | D20: aucune
A21: H412 | D21: aucune
A22: H300 | B22: phrase de risque | D22: rouge
A23: H301 | B23: phrase de risque | D23: rouge
A24: H302 | B24: phrase de risque | D24: jaune
A25: H304 | B25: phrase de risque | D25: jaune
A26: H310 | B26: phrase de risque | D26: rouge
A27: H311 | B27: phrase de risque | D27: rouge
A28: H312 | B28: phrase de risque | D28: jaune
A29: H314 | B29: phrase de risque | D29: rouge
A30: H315 | B30: phrase de risque | D30: jaune
A31: H317 | B31: phrase de risque | D31: jaune
A32: H318 | B32: phrase de risque | D32: rouge
A33: H319 | B33: phrase de risque | D33: rouge
... A52: H373 | B52: phrase de risque | D52: jaune
A53: DAR | D53: NC
A54: DAR raisin de table | D54: aucune | E54: aucune couleur pour 2022
A55: Spe 1 | D55: jaune
A56: Spe 1 (4kg Cu non lissable) | D56: jaune | E56: en-tête dans fichier fongicides 2022
A57: Spe 8 | D57: jaune
A58: ZNT eau | D58: NC
A59: DVP | D59: NC
A60: DS Riverains | D60: NC
A61: DSR par AMM Oui/Non | D61: NC
A62: DSR AMM oui/non | D62: NC | E62: en-tête dans fichier fongicides 2022
A63: ZNT Arthropodes | D63: NC
A64: ZNT plantes non cibles | D64: NC
A65: DRE | D65: NC | E65: en-tête dans fichier herbicides
A66: DRE en h | D66: NC | E66: en-tête dans fichier insecticides
A67: Nb d'appli maxi / cible | D67: aucune
A68: Nb d'appli maxi | D68: aucune | E68: en-tête dans fichier herbicides
A69: Nb d'appli maxi ttes cibles | D69: aucune | E69: en-tête dans fichier insecticides
A70: Intervalle mini entre applis | D70: aucune
A71: Stades BBCH application | D71: aucune
A72: Mention abeille | D72: aucune | E72: en-tête dans fichier herbicides
A73: Mention abeilles | D73: aucune | E73: en-tête dans fichier insecticides
A74: Intervalle mini entre 2 applis | D74: aucune
A75: Stades d'application (BBCH) | D75: aucune
A76: Produit CMR2 | D76: rouge | E76: colonne renommée pour 2022 (était "Produit CMR" pour 2021)
A77: Mention complémentaire | D77: rouge | E77: nouvelle colonne pour 2022
A78: Mention complé-mentaire | D78: rouge | E78: en-tête dans fichier fongicides 2022
A79: Nombre de phrases de risque limitant les possibilités de mélange | D79: NC
