Workbook
Name TS.SDD_Statistiques_Candidatures: 'SDD Statistiques Candidatures'!$A$1:$AJ$151
Name TS.SDD_Statistiques_offres: 'SDD Statistiques offres'!$A$1:$T$199

Sheet SDD Statistiques offres
A1: OfferID | B1: Offer_OfferCategory_ | C1: Offer_CreationUser_ | D1: Offer_CreationDate_ | E1: Offer_ModificationDate_ | F1: Offer_OfferID_ | G1: Offer_Reference_ | H1: Offer_OfferStatus_ | I1: Offer_CustomFieldsTranslation_ShortText1_ | J1: JobDescription_PrimaryProfile_ | K1: JobDescriptionTranslation_JobTitle_ | L1: JobDescription_Country_ | M1: JobDescription_ProfessionalCategory_ | N1: Origin_Entity_With1 | O1: Origin_Entity_ | P1: Origin_OperationalManagerName_ | Q1: Offer_BackOfficeUser_User_ | R1: SchedulingData_DefaultPublicationBeginDate_ | S1: SchedulingData_DefaultPublicationEndDate_ | T1: FirstPublicationDate
A2: 4232 | B2: Standard | C2: AAA | D2: 44687.674 | E2: 44742.755 | F2: 4232 | G2: 2022-4232 | H2: Finalisée | J2: AUDITEUR(TRICE) | K2: AGENT TECHNIQUE H/F | L2: France | M2: Cadre | N2: AAA | O2: 1055 | P2: AAA | Q2: AAA | R2: 44687.672 | S2: 44925.672 | T2: 44690.43
A3: 4186 | B3: Standard | C3: III | D3: 44678.723 | E3: 44722.705 | F3: 4186 | G3: 2022-4186 | H3: Finalisée | J3: DIRECTEUR TECHNIQUE | K3: INGENIEUR D'ETUDES VENTILATION H/F | L3: France | M3: Cadre | N3: AAA | O3: 1069 | P3: III | Q3: III | R3: 44678.804 | S3: 44899.762 | T3: 44678.725
A4: 4203 | B4: Standard | C4: III | D4: 44680.42 | E4: 44712.005 | F4: 4203 | G4: 2022-4203 | H4: Diffusée | J4: INGENIEUR BUREAU D'ETUDES | K4: OPERATEUR AMIANTE ACQPA H/F | L4: France | M4: Cadre | N4: AAA | O4: 1025 | P4: III | Q4: III | R4: 44680.403 | S4: 44725.403 | T4: 44680.427
A5: 4363 | B5: Standard | C5: AAA | D5: 44712.502 | E5: 44747.005 | F5: 4363 | G5: 2022-4363 | H5: Diffusée | J5: INGENIEUR BUREAU D'ETUDES | K5: AGENT TECHNIQUE H/F | L5: France | M5: Cadre | N5: AAA | O5: 1021 | P5: AAA | Q5: AAA | R5: 44712.495 | S5: 44757.495 | T5: 44712.502
A6: 4253 | B6: Standard | C6: BBB | D6: 44692.513 | E6: 44761.005 | F6: 4253 | G6: 2022-4253 | H6: Diffusée | J6: INGENIEUR BUREAU D'ETUDES | K6: INGENIEUR D'ETUDES H/F | L6: France | M6: Cadre | N6: AAA | O6: 1059 | P6: BBB | Q6: BBB | R6: 44692.505 | S6: 45047.505 | T6: 44692.513
A7: 3904 | B7: Standard | C7: CCC | D7: 44620.669 | E7: 44694.439 | F7: 3904 | G7: 2022-3904 | H7: Diffusée | I7: CDI | J7: RESPONSABLE LOGISTIQUE | K7: INGENIEUR D'ETUDES VENTILATION H/F | L7: France | M7: Cadre | N7: AAA | O7: 1051 | P7: CCC | Q7: CCC | R7: 44620.664 | S7: 44742.664 | T7: 44620.67
A8: 3732 | B8: Standard | C8: DDD | D8: 44578.45 | E8: 44694.439 | F8: 3732 | G8: 2022-3732 | H8: Validée | I8: CDI | J8: RESPONSABLE LOGISTIQUE | K8: ACHETEUR H/F | L8: France | M8: Cadre | N8: AAA | O8: 1087 | P8: DDD | Q8: DDD | R8: 44578.429 | S8: 44623.429 | T8: 44578.451
A9: 3857 | B9: Standard | C9: FFF | D9: 44613.692 | E9: 44644.416 | F9: 3857 | G9: 2022-3857 | H9: Finalisée | I9: CDI | J9: RESPONSABLE METHODES | K9: OPERATEUR AMIANTE ACQPA H/F | L9: France | M9: Cadre | N9: AAA | O9: 1068 | P9: FFF | Q9: FFF | R9: 44613.688 | S9: 44658.688 | T9: 44613.692
A10: 4693 | B10: Standard | C10: EEE | D10: 44755.619 | E10: 44755.628 | F10: 4693 | G10: 2022-4693 | H10: Diffusée | J10: RESPONSABLE BUREAU D'ETUDES | K10: INGENIEUR D'ETUDES H/F | L10: France | M10: Cadre | N10: AAA | O10: 1019 | P10: EEE | Q10: EEE | R10: 44755.609 | S10: 44865.609 | T10: 44755.622
A11: 4305 | B11: Standard | C11: GGG | D11: 44698.421 | E11: 44742.004 | F11: 4305 | G11: 2022-4305 | H11: Diffusée | J11: RESPONSABLE PRODUCTION | K11: ACHETEUR H/F | L11: France | M11: Cadre | N11: AAA | O11: 1072 | P11: GGG | Q11: GGG | R11: 44698.417 | S11: 44926.417 | T11: 44698.424
A12: 4306 | B12: Standard | C12: HHH | D12: 44698.441 | E12: 44742.004 | F12: 4306 | G12: 2022-4306 | H12: Diffusée | J12: RESPONSABLE PRODUCTION | K12: ADJOINT AU DIRECTEUR DES PROJETS H/F | L12: France | M12: Cadre | N12: AAA | O12: 1056 | P12: HHH | Q12: HHH | R12: 44698.437 | S12: 44906.437 | T12: 44698.442
A13: 4613 | B13: Standard | C13: III | D13: 44742.659 | E13: 44744.006 | F13: 4613 | G13: 2022-4613 | H13: Diffusée | J13: INGENIEUR BUREAU D'ETUDES | K13: OPERATEUR AMIANTE ACQPA H/F | L13: France | M13: Cadre | N13: AAA | O13: 1025 | P13: III | Q13: III | R13: 44742.636 | S13: 44787.636 | T13: 44743.462
A14: 4697 | B14: Standard | C14: AAA | D14: 44757.721 | E14: 44757.721 | F14: 4697 | G14: 2022-4697 | H14: Brouillon | J14: INGENIEUR BUREAU D'ETUDES | K14: AGENT TECHNIQUE H/F | L14: France | M14: Cadre | N14: AAA | O14: 1017 | P14: AAA | Q14: AAA | R14: 44757.718 | S14: 44802.718
A15: 4088 | B15: Standard | C15: BBB | D15: 44657.63 | E15: 44733.591 | F15: 4088 | G15: 2022-4088 | H15: Archivée | I15: CDI | J15: INGENIEUR BUREAU D'ETUDES | K15: INGENIEUR D'ETUDES H/F | L15: France | M15: Cadre | N15: AAA | O15: 1056 | P15: BBB | Q15: BBB | R15: 44657.63 | S15: 44702.63 | T15: 44657.631
A16: 3943 | B16: Standard | C16: CCC | D16: 44629.621 | E16: 44758.004 | F16: 3943 | G16: 2022-3943 | H16: Diffusée | I16: CDI | J16: INGENIEUR BUREAU D'ETUDES | K16: INGENIEUR D'ETUDES VENTILATION H/F | L16: France | M16: Cadre | N16: AAA | O16: 1063 | P16: CCC | Q16: CCC | R16: 44629.61 | S16: 44674.61 | T16: 44629.622
A17: 3701 | B17: Standard | C17: BBB | D17: 44573.416 | E17: 44720.51 | F17: 3701 | G17: 2022-3701 | H17: Finalisée | I17: CDI | J17: URBANISTE ARCHITECTE | K17: ADJOINT AU DIRECTEUR DES PROJETS H/F | L17: France | M17: Cadre | N17: AAA | O17: 1056 | P17: BBB | Q17: BBB | R17: 44573.414 | S17: 44737.414 | T17: 44573.416
A18: 3861 | B18: Standard | C18: CCC | D18: 44613.806 | E18: 44743.004 | F18: 3861 | G18: 2022-3861 | H18: Diffusée | I18: CDI | J18: INGENIEUR ETUDES TECHNIQUES | K18: OPERATEUR AMIANTE ACQPA H/F | L18: France | M18: Cadre | N18: AAA | O18: 1085 | P18: CCC | Q18: CCC | R18: 44613.798 | S18: 44658.798 | T18: 44622.45
A19: 3882 | B19: Standard | C19: DDD | D19: 44615.688 | E19: 44741.004 | F19: 3882 | G19: 2022-3882 | H19: Diffusée | I19: CDI | J19: INGENIEUR ETUDES TECHNIQUES | K19: AGENT TECHNIQUE H/F | L19: France | M19: Cadre | N19: AAA | O19: 1053 | P19: DDD | Q19: DDD | R19: 44615.68 | S19: 44660.68 | T19: 44615.689
A20: 3878 | B20: Standard | C20: EEE | D20: 44615.495 | E20: 44694.439 | F20: 3878 | G20: 2022-3878 | H20: Finalisée | I20: CDI | J20: INGENIEUR ETUDES TECHNIQUES | K20: INGENIEUR D'ETUDES H/F | L20: France | M20: Cadre | N20: AAA | O20: 1093 | P20: EEE | Q20: EEE | R20: 44615.493 | S20: 44660.493
A21: 3810 | B21: Standard | C21: FFF | D21: 44601.63 | E21: 44624.448 | F21: 3810 | G21: 2022-3810 | H21: Finalisée | I21: CDI | J21: INGENIEUR ETUDES TECHNIQUES | K21: INGENIEUR D'ETUDES VENTILATION H/F | L21: France | M21: Cadre | N21: AAA | O21: 1099 | P21: FFF | Q21: FFF | R21: 44601.626 | S21: 44646.626 | T21: 44601.631
A22: 4004 | B22: Standard | C22: HHH | D22: 44644.645 | E22: 44739.732 | F22: 4004 | G22: 2022-4004 | H22: Finalisée | I22: CDI | J22: INGENIEUR ETUDES TECHNIQUES | K22: ADJOINT AU DIRECTEUR DES PROJETS H/F | L22: France | M22: Cadre | N22: AAA | O22: 1044 | P22: HHH | Q22: HHH | R22: 44644.644 | S22: 44689.644 | T22: 44658.398
A23: 3966 | B23: Standard | C23: III | D23: 44636.737 | E23: 44694.439 | F23: 3966 | G23: 2022-3966 | H23: Validée | I23: CDI | J23: INGENIEUR ETUDES TECHNIQUES | K23: OPERATEUR AMIANTE ACQPA H/F | L23: France | M23: Cadre | N23: AAA | O23: 1064 | P23: III | Q23: III | R23: 44636.726 | S23: 44681.726 | T23: 44636.738
A24: 4085 | B24: Standard | C24: AAA | D24: 44657.616 | E24: 44696.005 | F24: 4085 | G24: 2022-4085 | H24: Diffusée | I24: CDI | J24: INGENIEUR ETUDES TECHNIQUES | K24: AGENT TECHNIQUE H/F | L24: France | M24: Cadre | N24: AAA | O24: 1004 | P24: AAA | Q24: AAA | R24: 44657.615 | S24: 44702.615 | T24: 44657.617
A25: 4086 | B25: Standard | C25: BBB | D25: 44657.624 | E25: 44694.439 | F25: 4086 | G25: 2022-4086 | H25: Diffusée | I25: CDI | J25: INGENIEUR ETUDES TECHNIQUES | K25: INGENIEUR D'ETUDES H/F | L25: France | M25: Cadre | N25: AAA | O25: 1048 | P25: BBB | Q25: BBB | R25: 44657.623 | S25: 44702.623 | T25: 44657.625
A26: 4067 | B26: Standard | C26: CCC | D26: 44656.619 | E26: 44694.439 | F26: 4067 | G26: 2022-4067 | H26: Diffusée | I26: CDI | J26: INGENIEUR ETUDES TECHNIQUES | K26: INGENIEUR D'ETUDES VENTILATION H/F | L26: France | M26: Cadre | N26: AAA | O26: 1098 | P26: CCC | Q26: CCC | R26: 44656.616 | S26: 44701.616 | T26: 44656.619
A27: 4077 | B27: Standard | C27: DDD | D27: 44656.705 | E27: 44760.453 | F27: 4077 | G27: 2022-4077 | H27: Finalisée | I27: CDI | J27: INGENIEUR ETUDES TECHNIQUES | K27: ACHETEUR H/F | L27: France | M27: Cadre | N27: AAA | O27: 1031 | P27: DDD | Q27: DDD | R27: 44656.697 | S27: 44866.697 | T27: 44656.706
A28: 3892 | B28: Standard | C28: EEE | D28: 44616.657 | E28: 44748.418 | F28: 3892 | G28: 2022-3892 | H28: Finalisée | I28: CDI | J28: INGENIEUR ETUDES TECHNIQUES | K28: ADJOINT AU DIRECTEUR DES PROJETS H/F | L28: France | M28: Cadre | N28: AAA | O28: 1016 | P28: EEE | Q28: EEE | R28: 44616.649 | S28: 44712.649 | T28: 44616.665
A29: 3900 | B29: Standard | C29: FFF | D29: 44620.463 | E29: 44629.732 | F29: 3900 | G29: 2022-3900 | H29: Finalisée | I29: CDI | J29: INGENIEUR ETUDES TECHNIQUES | K29: OPERATEUR AMIANTE ACQPA H/F | L29: France | M29: Cadre | N29: AAA | O29: 1074 | P29: FFF | Q29: FFF | R29: 44620.46 | S29: 44665.46
A30: 4634 | B30: Standard | C30: FFF | D30: 44747.684 | E30: 44747.686 | F30: 4634 | G30: 2022-4634 | H30: Finalisée | J30: INGENIEUR ETUDES TECHNIQUES | K30: INGENIEUR D'ETUDES VENTILATION H/F | L30: France | M30: Cadre | N30: AAA | O30: 1013 | P30: FFF | Q30: FFF | R30: 44747.683 | S30: 44792.683
A31: 4651 | B31: Standard | C31: GGG | D31: 44748.717 | E31: 44749.007 | F31: 4651 | G31: 2022-4651 | H31: Diffusée | J31: INGENIEUR ETUDES TECHNIQUES | K31: ACHETEUR H/F | L31: France | M31: Cadre | N31: AAA | O31: 1068 | P31: GGG | Q31: GGG | R31: 44748.715 | S31: 44926.715 | T31: 44748.718
A32: 4658 | B32: Standard | C32: HHH | D32: 44749.647 | E32: 44749.65 | F32: 4658 | G32: 2022-4658 | H32: Finalisée | J32: INGENIEUR ETUDES TECHNIQUES | K32: ADJOINT AU DIRECTEUR DES PROJETS H/F | L32: France | M32: Cadre | N32: AAA | O32: 1099 | P32: HHH | Q32: HHH | R32: 44749.646 | S32: 44794.646
A33: 4636 | B33: Standard | C33: III | D33: 44747.692 | E33: 44747.694 | F33: 4636 | G33: 2022-4636 | H33: Finalisée | J33: INGENIEUR ETUDES TECHNIQUES | K33: OPERATEUR AMIANTE ACQPA H/F | L33: France | M33: Cadre | N33: AAA | O33: 1069 | P33: III | Q33: III | R33: 44747.691 | S33: 44792.691
A34: 4637 | B34: Standard | C34: AAA | D34: 44748.419 | E34: 44748.429 | F34: 4637 | G34: 2022-4637 | H34: Validée | J34: INGENIEUR ETUDES TECHNIQUES | K34: AGENT TECHNIQUE H/F | L34: France | M34: Cadre | N34: AAA | O34: 1025 | P34: AAA | Q34: AAA | R34: 44748.419 | S34: 44793.419
A35: 4627 | B35: Standard | C35: BBB | D35: 44746.616 | E35: 44746.616 | F35: 4627 | G35: 2022-4627 | H35: Validée | J35: INGENIEUR ETUDES TECHNIQUES | K35: INGENIEUR D'ETUDES H/F | L35: France | M35: Cadre | N35: AAA | O35: 1092 | P35: BBB | Q35: BBB | R35: 44746.601 | S35: 44791.601
A36: 4673 | B36: Standard | C36: CCC | D36: 44753.69 | E36: 44753.69 | F36: 4673 | G36: 2022-4673 | H36: Validée | J36: INGENIEUR ETUDES TECHNIQUES | K36: INGENIEUR D'ETUDES VENTILATION H/F | L36: France | M36: Cadre | N36: AAA | O36: 1044 | P36: CCC | Q36: CCC | R36: 44753.687 | S36: 44798.687
A37: 4675 | B37: Standard | C37: DDD | D37: 44753.693 | E37: 44753.699 | F37: 4675 | G37: 2022-4675 | H37: Finalisée | J37: INGENIEUR ETUDES TECHNIQUES | K37: ACHETEUR H/F | L37: France | M37: Cadre | N37: AAA | O37: 1010 | P37: DDD | Q37: DDD | R37: 44753.692 | S37: 44798.692
A38: 4618 | B38: Standard | C38: EEE | D38: 44743.452 | E38: 44743.486 | F38: 4618 | G38: 2022-4618 | H38: Brouillon | J38: INGENIEUR ETUDES TECHNIQUES | K38: ADJOINT AU DIRECTEUR DES PROJETS H/F | L38: France | M38: Cadre | N38: AAA | O38: 1052 | P38: EEE | Q38: EEE | R38: 44743.438 | S38: 44788.438
A39: 4616 | B39: Standard | C39: FFF | D39: 44743.423 | E39: 44744.006 | F39: 4616 | G39: 2022-4616 | H39: Diffusée | J39: INGENIEUR ETUDES TECHNIQUES | K39: OPERATEUR AMIANTE ACQPA H/F | L39: France | M39: Cadre | N39: AAA | O39: 1087 | P39: FFF | Q39: FFF | R39: 44743 | S39: 44925 | T39: 44743.424
A40: 4409 | B40: Standard | C40: GGG | D40: 44720.454 | E40: 44753.005 | F40: 4409 | G40: 2022-4409 | H40: Diffusée | J40: INGENIEUR ETUDES TECHNIQUES | K40: AGENT TECHNIQUE H/F | L40: France | M40: Cadre | N40: AAA | O40: 1027 | P40: GGG | Q40: GGG | R40: 44720.45 | S40: 44765.45 | T40: 44720.476
A41: 4404 | B41: Standard | C41: HHH | D41: 44719.726 | E41: 44748.005 | F41: 4404 | G41: 2022-4404 | H41: Diffusée | J41: INGENIEUR ETUDES TECHNIQUES | K41: INGENIEUR D'ETUDES H/F | L41: France | M41: Cadre | N41: AAA | O41: 1053 | P41: HHH | Q41: HHH | R41: 44719.719 | S41: 44764.719 | T41: 44720.463
A42: 4411 | B42: Standard | C42: III | D42: 44720.594 | E42: 44743.006 | F42: 4411 | G42: 2022-4411 | H42: Diffusée | J42: INGENIEUR ETUDES TECHNIQUES | K42: INGENIEUR D'ETUDES VENTILATION H/F | L42: France | M42: Cadre | N42: AAA | O42: 1098 | P42: III | Q42: III | R42: 44720.591 | S42: 44765.591 | T42: 44742.469
A43: 4412 | B43: Standard | C43: AAA | D43: 44720.69 | E43: 44720.69 | F43: 4412 | G43: 2022-4412 | H43: Validée | J43: INGENIEUR ETUDES TECHNIQUES | K43: ACHETEUR H/F | L43: France | M43: Cadre | N43: AAA | O43: 1088 | P43: AAA | Q43: AAA | R43: 44720.688 | S43: 44765.688
A44: 4407 | B44: Standard | C44: BBB | D44: 44720.422 | E44: 44758.005 | F44: 4407 | G44: 2022-4407 | H44: Diffusée | J44: INGENIEUR ETUDES TECHNIQUES | K44: ADJOINT AU DIRECTEUR DES PROJETS H/F | L44: France | M44: Cadre | N44: AAA | O44: 1017 | P44: BBB | Q44: BBB | R44: 44720.414 | S44: 44925.414 | T44: 44720.423
A45: 4438 | B45: Standard | C45: CCC | D45: 44725.646 | E45: 44754.668 | F45: 4438 | G45: 2022-4438 | H45: Validée | J45: INGENIEUR ETUDES TECHNIQUES | K45: OPERATEUR AMIANTE ACQPA H/F | L45: France | M45: Cadre | N45: AAA | O45: 1011 | P45: CCC | Q45: CCC | R45: 44725.644 | S45: 44830.644 | T45: 44725.688
A46: 4435 | B46: Standard | C46: DDD | D46: 44725.466 | E46: 44739.006 | F46: 4435 | G46: 2022-4435 | H46: Diffusée | J46: INGENIEUR ETUDES TECHNIQUES | K46: AGENT TECHNIQUE H/F | L46: France | M46: Cadre | N46: AAA | O46: 1011 | P46: DDD | Q46: DDD | R46: 44725.458 | S46: 44864.458 | T46: 44725.466
A47: 4480 | B47: Standard | C47: EEE | D47: 44732.633 | E47: 44758.058 | F47: 4480 | G47: 2022-4480 | H47: Diffusée | J47: INGENIEUR ETUDES TECHNIQUES | K47: INGENIEUR D'ETUDES H/F | L47: France | M47: Cadre | N47: AAA | O47: 1009 | P47: EEE | Q47: EEE | R47: 44732.631 | S47: 44893.631 | T47: 44742.369
A48: 4158 | B48: Standard | C48: FFF | D48: 44673.478 | E48: 44697.761 | F48: 4158 | G48: 2022-4158 | H48: Finalisée | I48: CDI | J48: INGENIEUR ETUDES TECHNIQUES | K48: INGENIEUR D'ETUDES VENTILATION H/F | L48: France | M48: Cadre | N48: AAA | O48: 1053 | P48: FFF | Q48: FFF | R48: 44673.468 | S48: 44837.468 | T48: 44673.648
A49: 4151 | B49: Standard | C49: GGG | D49: 44671.432 | E49: 44757.053 | F49: 4151 | G49: 2022-4151 | H49: Diffusée | I49: CDI | J49: INGENIEUR ETUDES TECHNIQUES | K49: ACHETEUR H/F | L49: France | M49: Cadre | N49: AAA | O49: 1027 | P49: GGG | Q49: GGG | R49: 44671.425 | S49: 45046.425 | T49: 44671.432
A50: 4152 | B50: Standard | C50: HHH | D50: 44671.476 | E50: 44757.053 | F50: 4152 | G50: 2022-4152 | H50: Diffusée | I50: CDI | J50: INGENIEUR ETUDES TECHNIQUES | K50: ADJOINT AU DIRECTEUR DES PROJETS H/F | L50: France | M50: Cadre | N50: AAA | O50: 1056 | P50: HHH | Q50: HHH | R50: 44671.473 | S50: 44837.473 | T50: 44671.478
A51: 4230 | B51: Standard | C51: III | D51: 44686.596 | E51: 44733.443 | F51: 4230 | G51: 2022-4230 | H51: Suspendue | J51: INGENIEUR ETUDES TECHNIQUES | K51: OPERATEUR AMIANTE ACQPA H/F | L51: France | M51: Cadre | N51: AAA | O51: 1081 | P51: III | Q51: III | R51: 44686.585 | S51: 44731.585 | T51: 44686.628
A52: 4310 | B52: Standard | C52: AAA | D52: 44698.603 | E52: 44729.005 | F52: 4310 | G52: 2022-4310 | H52: Diffusée | J52: INGENIEUR ETUDES TECHNIQUES | K52: AGENT TECHNIQUE H/F | L52: France | M52: Cadre | N52: AAA | O52: 1088 | P52: AAA | Q52: AAA | R52: 44699.59 | S52: 44743.59 | T52: 44700.403
A53: 4311 | B53: Standard | C53: BBB | D53: 44698.61 | E53: 44729.005 | F53: 4311 | G53: 2022-4311 | H53: Diffusée | J53: INGENIEUR ETUDES TECHNIQUES | K53: INGENIEUR D'ETUDES H/F | L53: France | M53: Cadre | N53: AAA | O53: 1035 | P53: BBB | Q53: BBB | R53: 44698.608 | S53: 44743.608 | T53: 44700.41
A54: 4247 | B54: Standard | C54: CCC | D54: 44691.661 | E54: 44693.652 | F54: 4247 | G54: 2022-4247 | H54: Finalisée | J54: INGENIEUR ETUDES TECHNIQUES | K54: INGENIEUR D'ETUDES VENTILATION H/F | L54: France | M54: Cadre | N54: AAA | O54: 1083 | P54: CCC | Q54: CCC | R54: 44691.658 | S54: 44692.658
A55: 4364 | B55: Standard | C55: DDD | D55: 44712.703 | E55: 44712.709 | F55: 4364 | G55: 2022-4364 | H55: Finalisée | J55: INGENIEUR ETUDES TECHNIQUES | K55: ACHETEUR H/F | L55: France | M55: Cadre | N55: AAA | O55: 1048 | P55: DDD | Q55: DDD | R55: 44712.702 | S55: 44757.702 | T55: 44712.709
A56: 3671 | B56: Standard | C56: BBB | D56: 44566.475 | E56: 44761.425 | F56: 3671 | G56: 2022-3671 | H56: Diffusée | I56: CDI | J56: INGENIEUR ETUDES TECHNIQUES | K56: INGENIEUR D'ETUDES H/F | L56: France | M56: Cadre | N56: AAA | O56: 1018 | P56: BBB | Q56: BBB | R56: 44566.514 | S56: 44611.514 | T56: 44566.628
A57: 3672 | B57: Standard | C57: CCC | D57: 44566.477 | E57: 44694.439 | F57: 3672 | G57: 2022-3672 | H57: Validée | I57: CDI | J57: INGENIEUR ETUDES TECHNIQUES | K57: INGENIEUR D'ETUDES VENTILATION H/F | L57: France | M57: Cadre | N57: AAA | O57: 1060 | P57: CCC | Q57: CCC | R57: 44566.475 | S57: 44611.475 | T57: 44566.608
A58: 3673 | B58: Standard | C58: DDD | D58: 44566.482 | E58: 44754.691 | F58: 3673 | G58: 2022-3673 | H58: Diffusée | I58: CDI | J58: INGENIEUR ETUDES TECHNIQUES | K58: ACHETEUR H/F | L58: France | M58: Cadre | N58: AAA | O58: 1050 | P58: DDD | Q58: DDD | R58: 44566.477 | S58: 44611.477 | T58: 44566.483
A59: 3674 | B59: Standard | C59: EEE | D59: 44566.616 | E59: 44651.678 | F59: 3674 | G59: 2022-3674 | H59: Finalisée | I59: CDI | J59: INGENIEUR ETUDES TECHNIQUES | K59: ADJOINT AU DIRECTEUR DES PROJETS H/F | L59: France | M59: Cadre | N59: AAA | O59: 1088 | P59: EEE | Q59: EEE | R59: 44566.614 | S59: 44611.614 | T59: 44566.617
A60: 3690 | B60: Standard | C60: GGG | D60: 44571.514 | E60: 44571.514 | F60: 3690 | G60: 2022-3690 | H60: Validée | I60: CDI | J60: INGENIEUR ETUDES TECHNIQUES | K60: AGENT TECHNIQUE H/F | L60: France | M60: Cadre | N60: AAA | O60: 1059 | P60: GGG | Q60: GGG | R60: 44571.51 | S60: 44616.51
A61: 3692 | B61: Standard | C61: HHH | D61: 44571.752 | E61: 44585.47 | F61: 3692 | G61: 2022-3692 | H61: Finalisée | I61: CDI | J61: INGENIEUR ETUDES TECHNIQUES | K61: INGENIEUR D'ETUDES H/F | L61: France | M61: Cadre | N61: AAA | O61: 1052 | P61: HHH | Q61: HHH | R61: 44571.747 | S61: 44616.747 | T61: 44571.752
A62: 3669 | B62: Standard | C62: III | D62: 44566.463 | E62: 44629.45 | F62: 3669 | G62: 2022-3669 | H62: Finalisée | I62: CDI | J62: INGENIEUR ETUDES TECHNIQUES | K62: INGENIEUR D'ETUDES VENTILATION H/F | L62: France | M62: Cadre | N62: AAA | O62: 1016 | P62: III | Q62: III | R62: 44566.458 | S62: 44611.458 | T62: 44566.463
A63: 3756 | B63: Standard | C63: AAA | D63: 44582.733 | E63: 44694.439 | F63: 3756 | G63: 2022-3756 | H63: Finalisée | I63: CDI | J63: INGENIEUR ETUDES TECHNIQUES | K63: ACHETEUR H/F | L63: France | M63: Cadre | N63: AAA | O63: 1047 | P63: AAA | Q63: AAA | R63: 44582.732 | S63: 44627.732
A64: 3765 | B64: Standard | C64: BBB | D64: 44586.704 | E64: 44694.439 | F64: 3765 | G64: 2022-3765 | H64: Validée | I64: CDI | J64: INGENIEUR ETUDES TECHNIQUES | K64: ADJOINT AU DIRECTEUR DES PROJETS H/F | L64: France | M64: Cadre | N64: AAA | O64: 1056 | P64: BBB | Q64: BBB | R64: 44586.697 | S64: 44631.697
A65: 3775 | B65: Standard | C65: CCC | D65: 44588.57 | E65: 44613.4 | F65: 3775 | G65: 2022-3775 | H65: Archivée | I65: CDI | J65: INGENIEUR ETUDES TECHNIQUES | K65: OPERATEUR AMIANTE ACQPA H/F | L65: France | M65: Cadre | N65: AAA | O65: 1058 | P65: CCC | Q65: CCC | R65: 44588.569 | S65: 44687.569
A66: 4016 | B66: Standard | C66: DDD | D66: 44648.629 | E66: 44694.439 | F66: 4016 | G66: 2022-4016 | H66: Finalisée | I66: CDI | J66: INGENIEUR ETUDES TECHNIQUES | K66: AGENT TECHNIQUE H/F | L66: France | M66: Cadre | N66: AAA | O66: 1019 | P66: DDD | Q66: DDD | R66: 44648.628 | S66: 44693.628
A67: 4014 | B67: Standard | C67: EEE | D67: 44648.613 | E67: 44694.439 | F67: 4014 | G67: 2022-4014 | H67: Diffusée | I67: CDI | J67: EXPERT TECHNIQUE | K67: INGENIEUR D'ETUDES H/F | L67: France | M67: Cadre | N67: AAA | O67: 1053 | P67: EEE | Q67: EEE | R67: 44648.61 | S67: 44854.61 | T67: 44648.614
A68: 4641 | B68: Standard | C68: GGG | D68: 44748.58 | E68: 44750.755 | F68: 4641 | G68: 2022-4641 | H68: Diffusée | J68: EXPERT TECHNIQUE | K68: ACHETEUR H/F | L68: France | M68: Cadre | N68: AAA | O68: 1039 | P68: GGG | Q68: GGG | R68: 44748.578 | S68: 44793.578 | T68: 44748.648
A69: 4015 | B69: Standard | C69: GGG | D69: 44648.615 | E69: 44733.593 | F69: 4015 | G69: 2022-4015 | H69: Validée | I69: CDI | J69: COORDINATEUR ETUDES | K69: AGENT TECHNIQUE H/F | L69: France | M69: Cadre | N69: AAA | O69: 1039 | P69: GGG | Q69: GGG | R69: 44648.611 | S69: 44693.611 | T69: 44648.615
A70: 4408 | B70: Standard | C70: HHH | D70: 44720.442 | E70: 44758.005 | F70: 4408 | G70: 2022-4408 | H70: Diffusée | J70: COORDINATEUR ETUDES | K70: INGENIEUR D'ETUDES H/F | L70: France | M70: Cadre | N70: AAA | O70: 1053 | P70: HHH | Q70: HHH | R70: 44720.434 | S70: 44834.434 | T70: 44720.442
A71: 4654 | B71: Standard | C71: III | D71: 44749.464 | E71: 44749.466 | F71: 4654 | G71: 2022-4654 | H71: Finalisée | J71: COORDINATEUR ETUDES | K71: INGENIEUR D'ETUDES VENTILATION H/F | L71: France | M71: Cadre | N71: AAA | O71: 1039 | P71: III | Q71: III | R71: 44749.461 | S71: 44794.461
A72: 4093 | B72: Standard | C72: EEE | D72: 44658.414 | E72: 44722.005 | F72: 4093 | G72: 2022-4093 | H72: Diffusée | I72: CDI | J72: RESPONSABLE TECHNIQUE | K72: ADJOINT AU DIRECTEUR DES PROJETS H/F | L72: France | M72: Cadre | N72: AAA | O72: 1045 | P72: EEE | Q72: EEE | R72: 44658.405 | S72: 44895.405 | T72: 44658.414
A73: 4111 | B73: Standard | C73: FFF | D73: 44662.434 | E73: 44665.364 | F73: 4111 | G73: 2022-4111 | H73: Validée | I73: CDI | J73: CHEF DE SITE | K73: INGENIEUR D'ETUDES VENTILATION H/F | L73: France | M73: Cadre | N73: AAA | O73: 1082 | P73: FFF | Q73: FFF | R73: 44662.424 | S73: 44774.424
A74: 4441 | B74: Standard | C74: GGG | D74: 44726.419 | E74: 44760.052 | F74: 4441 | G74: 2022-4441 | H74: Diffusée | J74: CHEF DE SITE | K74: ACHETEUR H/F | L74: France | M74: Cadre | N74: AAA | O74: 1018 | P74: GGG | Q74: GGG | R74: 44726.414 | S74: 44865.414 | T74: 44728.654
A75: 4615 | B75: Standard | C75: HHH | D75: 44742.683 | E75: 44747.006 | F75: 4615 | G75: 2022-4615 | H75: Diffusée | J75: CHEF DE SITE | K75: ADJOINT AU DIRECTEUR DES PROJETS H/F | L75: France | M75: Cadre | N75: AAA | O75: 1089 | P75: HHH | Q75: HHH | R75: 44742.68 | S75: 44926.68 | T75: 44746.49
A76: 4718 | B76: Standard | C76: GGG | D76: 44761.664 | E76: 44762.475 | F76: 4718 | G76: 2022-4718 | H76: Diffusée | J76: CHEF DE SITE | K76: AGENT TECHNIQUE H/F | L76: France | M76: Cadre | N76: AAA | O76: 1095 | P76: GGG | Q76: GGG | R76: 44761.653 | S76: 44806.653 | T76: 44761.704
A77: 3824 | B77: Standard | C77: FFF | D77: 44602.75 | E77: 44641.62 | F77: 3824 | G77: 2022-3824 | H77: Finalisée | I77: CDI | J77: RESPONSABLE D'AFFAIRES EXPLOITATION | K77: OPERATEUR AMIANTE ACQPA H/F | L77: France | M77: Cadre | N77: AAA | O77: 1021 | P77: FFF | Q77: FFF | R77: 44602.747 | S77: 44712.747 | T77: 44602.751
A78: 3884 | B78: Standard | C78: GGG | D78: 44615.769 | E78: 44670.569 | F78: 3884 | G78: 2022-3884 | H78: Validée | I78: CDI | J78: RESPONSABLE D'AFFAIRES EXPLOITATION | K78: AGENT TECHNIQUE H/F | L78: France | M78: Cadre | N78: AAA | O78: 1075 | P78: GGG | Q78: GGG | R78: 44615.748 | S78: 44712.748 | T78: 44616.413
A79: 3813 | B79: Standard | C79: FFF | D79: 44601.702 | E79: 44641.458 | F79: 3813 | G79: 2022-3813 | H79: Finalisée | I79: CDI | J79: RESPONSABLE INTERVENTION | K79: OPERATEUR AMIANTE ACQPA H/F | L79: France | M79: Cadre | N79: AAA | O79: 1001 | P79: FFF | Q79: FFF | R79: 44601.699 | S79: 44712.699 | T79: 44608.613
A80: 3815 | B80: Standard | C80: DDD | D80: 44602.424 | E80: 44620.749 | F80: 3815 | G80: 2022-3815 | H80: Finalisée | I80: CDI | J80: DIRECTEUR AGENCE | K80: AGENT TECHNIQUE H/F | L80: France | M80: Cadre | N80: AAA | O80: 1000 | P80: DDD | Q80: DDD | R80: 44602.422 | S80: 44773.422 | T80: 44606.428
A81: 3853 | B81: Standard | C81: EEE | D81: 44610.427 | E81: 44722.44 | F81: 3853 | G81: 2022-3853 | H81: Finalisée | I81: CDI | J81: DIRECTEUR AGENCE | K81: INGENIEUR D'ETUDES H/F | L81: France | M81: Cadre | N81: AAA | O81: 1073 | P81: EEE | Q81: EEE | R81: 44610.424 | S81: 44772.424 | T81: 44613.455
A82: 3984 | B82: Standard | C82: FFF | D82: 44641.408 | E82: 44694.439 | F82: 3984 | G82: 2022-3984 | H82: Finalisée | I82: CDI | J82: DIRECTEUR AGENCE | K82: INGENIEUR D'ETUDES VENTILATION H/F | L82: France | M82: Cadre | N82: AAA | O82: 1035 | P82: FFF | Q82: FFF | R82: 44641.403 | S82: 44686.403
A83: 4012 | B83: Standard | C83: GGG | D83: 44648.593 | E83: 44748.664 | F83: 4012 | G83: 2022-4012 | H83: Finalisée | I83: CDI | J83: DIRECTEUR AGENCE | K83: ACHETEUR H/F | L83: France | M83: Cadre | N83: AAA | O83: 1089 | P83: GGG | Q83: GGG | R83: 44648.583 | S83: 44890.583 | T83: 44649.483
A84: 4013 | B84: Standard | C84: HHH | D84: 44648.6 | E84: 44748.669 | F84: 4013 | G84: 2022-4013 | H84: Finalisée | I84: CDI | J84: DIRECTEUR AGENCE | K84: ADJOINT AU DIRECTEUR DES PROJETS H/F | L84: France | M84: Cadre | N84: AAA | O84: 1050 | P84: HHH | Q84: HHH | R84: 44648.595 | S84: 44862.595 | T84: 44649.49
A85: 4522 | B85: Standard | C85: III | D85: 44733.741 | E85: 44761.413 | F85: 4522 | G85: 2022-4522 | H85: Validée | J85: DIRECTEUR AGENCE | K85: OPERATEUR AMIANTE ACQPA H/F | L85: France | M85: Cadre | N85: AAA | O85: 1081 | P85: III | Q85: III | R85: 44733.728 | S85: 44802.728 | T85: 44733.742
A86: 4120 | B86: Standard | C86: AAA | D86: 44663.474 | E86: 44692.478 | F86: 4120 | G86: 2022-4120 | H86: Archivée | I86: CDI | J86: DIRECTEUR AGENCE | K86: AGENT TECHNIQUE H/F | L86: France | M86: Cadre | N86: AAA | O86: 1006 | P86: AAA | Q86: AAA | R86: 44663.471 | S86: 44742.471 | T86: 44663.474
A87: 3742 | B87: Standard | C87: BBB | D87: 44579.812 | E87: 44747.485 | F87: 3742 | G87: 2022-3742 | H87: Finalisée | I87: CDI | J87: DIRECTEUR PROJET | K87: INGENIEUR D'ETUDES H/F | L87: France | M87: Cadre | N87: AAA | O87: 1006 | P87: BBB | Q87: BBB | R87: 44579.782 | S87: 44624.782 | T87: 44579.836
A88: 4059 | B88: Standard | C88: DDD | D88: 44655.438 | E88: 44697.762 | F88: 4059 | G88: 2022-4059 | H88: Finalisée | I88: CDI | J88: INGENIEUR PROJET | K88: ACHETEUR H/F | L88: France | M88: Cadre | N88: AAA | O88: 1077 | P88: DDD | Q88: DDD | R88: 44655.42 | S88: 44925.42 | T88: 44655.44
A89: 3733 | B89: Standard | C89: AAA | D89: 44578.466 | E89: 44726.757 | F89: 3733 | G89: 2022-3733 | H89: Finalisée | I89: CDI | J89: RESPONSABLE EXPLOITATION | K89: ACHETEUR H/F | L89: France | M89: Cadre | N89: AAA | O89: 1002 | P89: AAA | Q89: AAA | R89: 44578.464 | S89: 44763.464 | T89: 44578.467
A90: 4006 | B90: Standard | C90: BBB | D90: 44645.405 | E90: 44723.005 | F90: 4006 | G90: 2022-4006 | H90: Diffusée | I90: CDI | J90: RESPONSABLE EXPLOITATION | K90: ADJOINT AU DIRECTEUR DES PROJETS H/F | L90: France | M90: Cadre | N90: AAA | O90: 1027 | P90: BBB | Q90: BBB | R90: 44645.401 | S90: 44690.401 | T90: 44645.407
A91: 4118 | B91: Standard | C91: CCC | D91: 44663.418 | E91: 44733.005 | F91: 4118 | G91: 2022-4118 | H91: Diffusée | I91: CDI | J91: RESPONSABLE EXPLOITATION | K91: OPERATEUR AMIANTE ACQPA H/F | L91: France | M91: Cadre | N91: AAA | O91: 1100 | P91: CCC | Q91: CCC | R91: 44663.392 | S91: 44742.392 | T91: 44663.418
A92: 4104 | B92: Standard | C92: DDD | D92: 44658.731 | E92: 44689.005 | F92: 4104 | G92: 2022-4104 | H92: Diffusée | I92: CDI | J92: RESPONSABLE EXPLOITATION | K92: AGENT TECHNIQUE H/F | L92: France | M92: Cadre | N92: AAA | O92: 1050 | P92: DDD | Q92: DDD | R92: 44658.727 | S92: 44703.727 | T92: 44658.732
A93: 4342 | B93: Standard | C93: EEE | D93: 44704.668 | E93: 44741.005 | F93: 4342 | G93: 2022-4342 | H93: Diffusée | J93: RESPONSABLE EXPLOITATION | K93: INGENIEUR D'ETUDES H/F | L93: France | M93: Cadre | N93: AAA | O93: 1028 | P93: EEE | Q93: EEE | R93: 44704.665 | S93: 44926.665 | T93: 44704.669
A94: 4450 | B94: Standard | C94: BBB | D94: 44728.471 | E94: 44746.671 | F94: 4450 | G94: 2022-4450 | H94: Finalisée | J94: RESPONSABLE EXPLOITATION | K94: INGENIEUR D'ETUDES H/F | L94: France | M94: Cadre | N94: AAA | O94: 1065 | P94: BBB | Q94: BBB | R94: 44728.469 | S94: 44926.469 | T94: 44728.638
A95: 4240 | B95: Standard | C95: CCC | D95: 44690.713 | E95: 44690.719 | F95: 4240 | G95: 2022-4240 | H95: Diffusée | J95: CHEF DE PROJET | K95: INGENIEUR D'ETUDES VENTILATION H/F | L95: France | M95: Cadre | N95: AAA | O95: 1015 | P95: CCC | Q95: CCC | R95: 44690 | S95: 44735 | T95: 44690.713
A96: 4060 | B96: Standard | C96: DDD | D96: 44655.507 | E96: 44705.685 | F96: 4060 | G96: 2022-4060 | H96: Validée | I96: CDI | J96: CHEF DE PROJET | K96: ACHETEUR H/F | L96: France | M96: Cadre | N96: AAA | O96: 1029 | P96: DDD | Q96: DDD | R96: 44655.5 | S96: 45020.5 | T96: 44655.507
A97: 3947 | B97: Standard | C97: EEE | D97: 44630.664 | E97: 44760.417 | F97: 3947 | G97: 2022-3947 | H97: Finalisée | I97: CDI | J97: CHEF DE PROJET | K97: ADJOINT AU DIRECTEUR DES PROJETS H/F | L97: France | M97: Cadre | N97: AAA | O97: 1070 | P97: EEE | Q97: EEE | R97: 44630.653 | S97: 44683.653 | T97: 44630.705
A98: 4002 | B98: Standard | C98: HHH | D98: 44644.505 | E98: 44656.756 | F98: 4002 | G98: 2022-4002 | H98: Archivée | I98: CDI | J98: INGENIEUR PROJET | K98: INGENIEUR D'ETUDES H/F | L98: France | M98: Cadre | N98: AAA | O98: 1052 | P98: HHH | Q98: HHH | R98: 44644.498 | S98: 45016.498
A99: 4003 | B99: Standard | C99: III | D99: 44644.606 | E99: 44687.504 | F99: 4003 | G99: 2022-4003 | H99: Finalisée | I99: CDI | J99: INGENIEUR PROJET | K99: INGENIEUR D'ETUDES VENTILATION H/F | L99: France | M99: Cadre | N99: AAA | O99: 1016 | P99: III | Q99: III | R99: 44644.602 | S99: 44804.602
A100: 4293 | B100: Standard | C100: AAA | D100: 44694.663 | E100: 44736.722 | F100: 4293 | G100: 2022-4293 | H100: Diffusée | J100: INGENIEUR PROJET | K100: ACHETEUR H/F | L100: France | M100: Cadre | N100: AAA | O100: 1032 | P100: AAA | Q100: AAA | R100: 44694.652 | S100: 45107.652 | T100: 44694.665
...

Sheet SDD Statistiques Candidatures
A1: JobApplicationEventID | B1: JobApplicationEvent_GlobalFeedback_ | C1: JobApplicationEvent_CreationDate_ | D1: JobApplicationEvent_EventDate_ | E1: JobApplicationEvent_ModificationDate_ | F1: JobApplicationEvent_Entity_With1 | G1: JobApplicationEvent_Entity_ | H1: JobApplicationEvent_Offer_ | I1: Offer_CreationDate_ | J1: Offer_OfferStatus_ | K1: JobDescriptionTranslation_JobTitle_ | L1: Origin_Entity_ | M1: JobApplicationEvent_PublicationSupport_With1 | N1: JobApplicationEvent_PublicationSupport_ | O1: JobApplicationEvent_Supervisor_ | P1: JobApplicationEvent_JobApplicationStatus_ | Q1: JobApplicationEvent_JobApplicationEventType_ | R1: CV par offre | S1: CV transmis pour avis | T1: Propositions d'embauche envoyées par offre | U1: Nombre d'embauches pour une offre | V1: Applicant_CreationDate_ApplicantID | W1: Date de la candidature | X1: Applicant_ModificationDate_ApplicantID | Y1: Applicant_ApplicantModificationDate_ApplicantID | Z1: Applicant_ApplicantID_ApplicantID | AA1: Applicant_ApplicantCreationMode_ApplicantID | AB1: Applicant_ModificationUser_ApplicantID | AC1: Applicant_FullName_ApplicantID | AD1: Applicant_ApplicantStatus_ApplicantID | AE1: Employee_Entity_EmployeeIDWith1 | AF1: Employee_Entity_EmployeeID | AG1: JobPreferences_PrimaryProfile_ApplicantID | AH1: JobPreferences_Country_ApplicantID | AI1: JobPreferences_JobTime_ApplicantID | AJ1: ApplicantID
A2: 88 | C2: 41249.59 | D2: 41249.59 | E2: 42542.759 | F2: AAA | G2: 10 | I2: =IFERROR(_xlfn.XLOOKUP(H2,'SDD Statistiques offres'!G:G,'SDD Statistiques offres'!D:D),0) -> 0 | J2: =IFERROR(VLOOKUP(H2,'SDD Statistiques offres'!G:O,2,0),"") | K2: =IFERROR(VLOOKUP(H2,'SDD Statistiques offres'!G:O,5,0),"") | L2: =IFERROR(VLOOKUP(H2,'SDD Statistiques offres'!G:O,9,0),"") | M2: AAA | N2: AAA | O2: AAA | P2: Retour négatif CV | Q2: Candidature spontanée | R2: =COUNTIF(H:H,H2) -> 1048435 | S2: =COUNTIFS(H:H,H2,P:P,"Attente retour opérationnel suite envoi CV pour avis") -> 0 | T2: =COUNTIFS(H:H,H2,P:P,"Proposition d'embauche envoyée") -> 0 | U2: =COUNTIFS(H:H,H2,P:P,"Embauché") -> 0 | V2: 41249.59 | W2: =IFERROR(V2*1,"") -> 41249.59 | X2: 44610.431 | Y2: 44607.395 | Z2: 1300 | AA2: Front Office | AB2: AAA | AC2: AAA | AD2: Recherche active | AG2: CHARGE(E) D'AFFAIRES | AI2: Temps partiel | AJ2: 1300
A3: 317 | C3: 41302.605 | D3: 41302.605 | E3: 41864.707 | F3: AAA | G3: 10 | H3: CQSE SLB-40 | I3: =IFERROR(_xlfn.XLOOKUP(H3,'SDD Statistiques offres'!G:G,'SDD Statistiques offres'!D:D),0) -> 0 | J3: =IFERROR(VLOOKUP(H3,'SDD Statistiques offres'!G:O,2,0),"") | K3: =IFERROR(VLOOKUP(H3,'SDD Statistiques offres'!G:O,5,0),"") | L3: =IFERROR(VLOOKUP(H3,'SDD Statistiques offres'!G:O,9,0),"") | M3: BBB | N3: BBB | O3: BBB | P3: Retour négatif CV | Q3: Réponse à offre | R3: =COUNTIF(H:H,H3) -> 1 | S3: =COUNTIFS(H:H,H3,P:P,"Attente retour opérationnel suite envoi CV pour avis") -> 0 | T3: =COUNTIFS(H:H,H3,P:P,"Proposition d'embauche envoyée") -> 0 | U3: =COUNTIFS(H:H,H3,P:P,"Embauché") -> 0 | V3: 41302.605 | W3: =IFERROR(V3*1,"") -> 41302.605 | X3: 43866.3 | Y3: 42821.569 | Z3: 1558 | AA3: Front Office | AB3: BBB | AC3: BBB | AD3: Recherche active | AG3: COORDINATEUR QSE | AI3: Temps complet | AJ3: 1558
A4: 359 | C4: 41309.651 | D4: 41309.649 | F4: AAA | G4: 15 | I4: =IFERROR(_xlfn.XLOOKUP(H4,'SDD Statistiques offres'!G:G,'SDD Statistiques offres'!D:D),0) -> 0 | J4: =IFERROR(VLOOKUP(H4,'SDD Statistiques offres'!G:O,2,0),"") | K4: =IFERROR(VLOOKUP(H4,'SDD Statistiques offres'!G:O,5,0),"") | L4: =IFERROR(VLOOKUP(H4,'SDD Statistiques offres'!G:O,9,0),"") | M4: CCC | N4: CCC | O4: CCC | P4: A traiter | Q4: Candidature spontanée | R4: =COUNTIF(H:H,H4) -> 1048435 | S4: =COUNTIFS(H:H,H4,P:P,"Attente retour opérationnel suite envoi CV pour avis") -> 0 | T4: =COUNTIFS(H:H,H4,P:P,"Proposition d'embauche envoyée") -> 0 | U4: =COUNTIFS(H:H,H4,P:P,"Embauché") -> 0 | V4: 41309.651 | W4: =IFERROR(V4*1,"") -> 41309.651 | Z4: 1599 | AA4: Back Office | AB4: CCC | AC4: CCC | AD4: Recherche active | AG4: CHEF DE PROJET | AH4: France | AI4: Temps complet | AJ4: 1599
A5: 387 | C5: 41313.624 | D5: 41313.616 | F5: AAA | G5: 10 | I5: =IFERROR(_xlfn.XLOOKUP(H5,'SDD Statistiques offres'!G:G,'SDD Statistiques offres'!D:D),0) -> 0 | J5: =IFERROR(VLOOKUP(H5,'SDD Statistiques offres'!G:O,2,0),"") | K5: =IFERROR(VLOOKUP(H5,'SDD Statistiques offres'!G:O,5,0),"") | L5: =IFERROR(VLOOKUP(H5,'SDD Statistiques offres'!G:O,9,0),"") | M5: DDD | N5: DDD | O5: DDD | P5: A traiter | Q5: Candidature spontanée | R5: =COUNTIF(H:H,H5) -> 1048435 | S5: =COUNTIFS(H:H,H5,P:P,"Attente retour opérationnel suite envoi CV pour avis") -> 0 | T5: =COUNTIFS(H:H,H5,P:P,"Proposition d'embauche envoyée") -> 0 | U5: =COUNTIFS(H:H,H5,P:P,"Embauché") -> 0 | V5: 41313.624 | W5: =IFERROR(V5*1,"") -> 41313.624 | X5: 41338.682 | Z5: 1620 | AA5: Back Office | AB5: DDD | AC5: DDD | AD5: Recherche active | AG5: TECHNICIEN EXPLOITATION | AH5: France | AI5: Temps complet | AJ5: 1620
A6: 388 | C6: 41313.627 | D6: 41313.624 | F6: AAA | G6: 17 | I6: =IFERROR(_xlfn.XLOOKUP(H6,'SDD Statistiques offres'!G:G,'SDD Statistiques offres'!D:D),0) -> 0 | J6: =IFERROR(VLOOKUP(H6,'SDD Statistiques offres'!G:O,2,0),"") | K6: =IFERROR(VLOOKUP(H6,'SDD Statistiques offres'!G:O,5,0),"") | L6: =IFERROR(VLOOKUP(H6,'SDD Statistiques offres'!G:O,9,0),"") | M6: EEE | N6: EEE | O6: EEE | P6: A traiter | Q6: Candidature spontanée | R6: =COUNTIF(H:H,H6) -> 1048435 | S6: =COUNTIFS(H:H,H6,P:P,"Attente retour opérationnel suite envoi CV pour avis") -> 0 | T6: =COUNTIFS(H:H,H6,P:P,"Proposition d'embauche envoyée") -> 0 | U6: =COUNTIFS(H:H,H6,P:P,"Embauché") -> 0 | V6: 41313.627 | W6: =IFERROR(V6*1,"") -> 41313.627 | Z6: 1621 | AA6: Back Office | AB6: EEE | AC6: EEE | AD6: Recherche active | AG6: INGENIEUR EXPLOIT | AH6: France | AI6: Temps complet | AJ6: 1621
A7: 584 | C7: 41348.4 | D7: 41348.4 | E7: 41374.459 | F7: AAA | G7: 18 | H7: 2013-59 | I7: =IFERROR(_xlfn.XLOOKUP(H7,'SDD Statistiques offres'!G:G,'SDD Statistiques offres'!D:D),0) -> 0 | J7: =IFERROR(VLOOKUP(H7,'SDD Statistiques offres'!G:O,2,0),"") | K7: =IFERROR(VLOOKUP(H7,'SDD Statistiques offres'!G:O,5,0),"") | L7: =IFERROR(VLOOKUP(H7,'SDD Statistiques offres'!G:O,9,0),"") | M7: FFF | N7: FFF | O7: FFF | P7: En attente de propale | Q7: Réponse à offre | R7: =COUNTIF(H:H,H7) -> 1 | S7: =COUNTIFS(H:H,H7,P:P,"Attente retour opérationnel suite envoi CV pour avis") -> 0 | T7: =COUNTIFS(H:H,H7,P:P,"Proposition d'embauche envoyée") -> 0 | U7: =COUNTIFS(H:H,H7,P:P,"Embauché") -> 0 | V7: 41348.4 | W7: =IFERROR(V7*1,"") -> 41348.4 | X7: 41374.459 | Y7: 41348.4 | Z7: 1832 | AA7: Front Office | AB7: FFF | AC7: FFF | AD7: Recruté | AG7: PROJETEUR CHEF DE GROUPE | AI7: Temps complet | AJ7: 1832
A8: 244863 | C8: 44762.57 | D8: 44762.57 | F8: AAA | G8: 14 | H8: 2022-4604 | I8: =IFERROR(_xlfn.XLOOKUP(H8,'SDD Statistiques offres'!G:G,'SDD Statistiques offres'!D:D),0) -> 0 | J8: =IFERROR(VLOOKUP(H8,'SDD Statistiques offres'!G:O,2,0),"") | K8: =IFERROR(VLOOKUP(H8,'SDD Statistiques offres'!G:O,5,0),"") | L8: =IFERROR(VLOOKUP(H8,'SDD Statistiques offres'!G:O,9,0),"") | M8: GGG | N8: GGG | O8: GGG | P8: A traiter | Q8: Réponse à offre | R8: =COUNTIF(H:H,H8) -> 2 | S8: =COUNTIFS(H:H,H8,P:P,"Attente retour opérationnel suite envoi CV pour avis") -> 0 | T8: =COUNTIFS(H:H,H8,P:P,"Proposition d'embauche envoyée") -> 0 | U8: =COUNTIFS(H:H,H8,P:P,"Embauché") -> 0 | V8: 44762.57 | W8: =IFERROR(V8*1,"") -> 44762.57 | X8: 44762.57 | Y8: 44762.487 | Z8: 212878 | AA8: Front Office | AB8: GGG | AC8: GGG | AD8: Recherche active | AG8: ASSISTANT ETUDES | AJ8: 212878
A9: 244864 | C9: 44762.571 | D9: 44762.571 | F9: AAA | G9: 15 | H9: 2022-4494 | I9: =IFERROR(_xlfn.XLOOKUP(H9,'SDD Statistiques offres'!G:G,'SDD Statistiques offres'!D:D),0) -> 0 | J9: =IFERROR(VLOOKUP(H9,'SDD Statistiques offres'!G:O,2,0),"") | K9: =IFERROR(VLOOKUP(H9,'SDD Statistiques offres'!G:O,5,0),"") | L9: =IFERROR(VLOOKUP(H9,'SDD Statistiques offres'!G:O,9,0),"") | M9: HHH | N9: HHH | O9: HHH | P9: A traiter | Q9: Réponse à offre | R9: =COUNTIF(H:H,H9) -> 2 | S9: =COUNTIFS(H:H,H9,P:P,"Attente retour opérationnel suite envoi CV pour avis") -> 0 | T9: =COUNTIFS(H:H,H9,P:P,"Proposition d'embauche envoyée") -> 0 | U9: =COUNTIFS(H:H,H9,P:P,"Embauché") -> 0 | V9: 44762.571 | W9: =IFERROR(V9*1,"") -> 44762.571 | X9: 44762.571 | Y9: 44762.488 | Z9: 212879 | AA9: Front Office | AB9: HHH | AC9: HHH | AD9: Recherche active | AJ9: 212879
A10: 244857 | C10: 44762.536 | D10: 44762.536 | F10: AAA | G10: 14 | H10: 2022-3829 | I10: =IFERROR(_xlfn.XLOOKUP(H10,'SDD Statistiques offres'!G:G,'SDD Statistiques offres'!D:D),0) -> 0 | J10: =IFERROR(VLOOKUP(H10,'SDD Statistiques offres'!G:O,2,0),"") | K10: =IFERROR(VLOOKUP(H10,'SDD Statistiques offres'!G:O,5,0),"") | L10: =IFERROR(VLOOKUP(H10,'SDD Statistiques offres'!G:O,9,0),"") | M10: AAA | N10: AAA | O10: AAA | P10: A traiter | Q10: Réponse à offre | R10: =COUNTIF(H:H,H10) -> 1 | S10: =COUNTIFS(H:H,H10,P:P,"Attente retour opérationnel suite envoi CV pour avis") -> 0 | T10: =COUNTIFS(H:H,H10,P:P,"Proposition d'embauche envoyée") -> 0 | U10: =COUNTIFS(H:H,H10,P:P,"Embauché") -> 0 | V10: 44762.536 | W10: =IFERROR(V10*1,"") -> 44762.536 | X10: 44762.536 | Y10: 44762.452 | Z10: 212872 | AA10: Front Office | AB10: Administrateur Administrateur | AC10: Administrateur Administrateur | AD10: Recherche active | AJ10: 212872
A11: 244858 | C11: 44762.536 | D11: 44762.536 | F11: AAA | G11: 17 | H11: 2022-4655 | I11: =IFERROR(_xlfn.XLOOKUP(H11,'SDD Statistiques offres'!G:G,'SDD Statistiques offres'!D:D),0) -> 0 | J11: =IFERROR(VLOOKUP(H11,'SDD Statistiques offres'!G:O,2,0),"") | K11: =IFERROR(VLOOKUP(H11,'SDD Statistiques offres'!G:O,5,0),"") | L11: =IFERROR(VLOOKUP(H11,'SDD Statistiques offres'!G:O,9,0),"") | M11: BBB | N11: BBB | O11: BBB | P11: A traiter | Q11: Réponse à offre | R11: =COUNTIF(H:H,H11) -> 1 | S11: =COUNTIFS(H:H,H11,P:P,"Attente retour opérationnel suite envoi CV pour avis") -> 0 | T11: =COUNTIFS(H:H,H11,P:P,"Proposition d'embauche envoyée") -> 0 | U11: =COUNTIFS(H:H,H11,P:P,"Embauché") -> 0 | V11: 44762.536 | W11: =IFERROR(V11*1,"") -> 44762.536 | X11: 44762.536 | Y11: 44762.453 | Z11: 212873 | AA11: Front Office | AB11: AAA | AC11: AAA | AD11: Recherche active | AJ11: 212873
A12: 244859 | C12: 44762.539 | D12: 44762.539 | F12: AAA | G12: 12 | H12: 2022-4467 | I12: =IFERROR(_xlfn.XLOOKUP(H12,'SDD Statistiques offres'!G:G,'SDD Statistiques offres'!D:D),0) -> 0 | J12: =IFERROR(VLOOKUP(H12,'SDD Statistiques offres'!G:O,2,0),"") | K12: =IFERROR(VLOOKUP(H12,'SDD Statistiques offres'!G:O,5,0),"") | L12: =IFERROR(VLOOKUP(H12,'SDD Statistiques offres'!G:O,9,0),"") | M12: CCC | N12: CCC | O12: CCC | P12: A traiter | Q12: Réponse à offre | R12: =COUNTIF(H:H,H12) -> 6 | S12: =COUNTIFS(H:H,H12,P:P,"Attente retour opérationnel suite envoi CV pour avis") -> 0 | T12: =COUNTIFS(H:H,H12,P:P,"Proposition d'embauche envoyée") -> 0 | U12: =COUNTIFS(H:H,H12,P:P,"Embauché") -> 0 | V12: 44762.539 | W12: =IFERROR(V12*1,"") -> 44762.539 | X12: 44762.539 | Y12: 44762.456 | Z12: 212874 | AA12: Front Office | AB12: BBB | AC12: BBB | AD12: Recherche active | AJ12: 212874
A13: 244860 | C13: 44762.54 | D13: 44762.54 | E13: 44762.54 | F13: AAA | G13: 10 | I13: =IFERROR(_xlfn.XLOOKUP(H13,'SDD Statistiques offres'!G:G,'SDD Statistiques offres'!D:D),0) -> 0 | J13: =IFERROR(VLOOKUP(H13,'SDD Statistiques offres'!G:O,2,0),"") | K13: =IFERROR(VLOOKUP(H13,'SDD Statistiques offres'!G:O,5,0),"") | L13: =IFERROR(VLOOKUP(H13,'SDD Statistiques offres'!G:O,9,0),"") | M13: DDD | N13: DDD | O13: DDD | P13: A traiter | Q13: Candidature spontanée | R13: =COUNTIF(H:H,H13) -> 1048435 | S13: =COUNTIFS(H:H,H13,P:P,"Attente retour opérationnel suite envoi CV pour avis") -> 0 | T13: =COUNTIFS(H:H,H13,P:P,"Proposition d'embauche envoyée") -> 0 | U13: =COUNTIFS(H:H,H13,P:P,"Embauché") -> 0 | V13: 44762.54 | W13: =IFERROR(V13*1,"") -> 44762.54 | X13: 44762.54 | Y13: 44762.457 | Z13: 212875 | AA13: Front Office | AB13: CCC | AC13: CCC | AD13: Recherche active | AG13: AGENT LOGISTIQUE | AJ13: 212875
A14: 244861 | C14: 44762.542 | D14: 44762.542 | F14: AAA | G14: 16 | H14: 2022-4381 | I14: =IFERROR(_xlfn.XLOOKUP(H14,'SDD Statistiques offres'!G:G,'SDD Statistiques offres'!D:D),0) -> 0 | J14: =IFERROR(VLOOKUP(H14,'SDD Statistiques offres'!G:O,2,0),"") | K14: =IFERROR(VLOOKUP(H14,'SDD Statistiques offres'!G:O,5,0),"") | L14: =IFERROR(VLOOKUP(H14,'SDD Statistiques offres'!G:O,9,0),"") | M14: EEE | N14: EEE | O14: EEE | P14: A traiter | Q14: Réponse à offre | R14: =COUNTIF(H:H,H14) -> 1 | S14: =COUNTIFS(H:H,H14,P:P,"Attente retour opérationnel suite envoi CV pour avis") -> 0 | T14: =COUNTIFS(H:H,H14,P:P,"Proposition d'embauche envoyée") -> 0 | U14: =COUNTIFS(H:H,H14,P:P,"Embauché") -> 0 | V14: 44762.542 | W14: =IFERROR(V14*1,"") -> 44762.542 | X14: 44762.542 | Y14: 44762.459 | Z14: 212876 | AB14: DDD | AC14: DDD | AD14: Recherche active | AG14: ASSISTANT(E) ADMNISTRATIF(VE) | AJ14: 212876
A15: 244862 | C15: 44762.564 | D15: 44762.564 | F15: AAA | G15: 13 | H15: 2022-4716 | I15: =IFERROR(_xlfn.XLOOKUP(H15,'SDD Statistiques offres'!G:G,'SDD Statistiques offres'!D:D),0) -> 0 | J15: =IFERROR(VLOOKUP(H15,'SDD Statistiques offres'!G:O,2,0),"") | K15: =IFERROR(VLOOKUP(H15,'SDD Statistiques offres'!G:O,5,0),"") | L15: =IFERROR(VLOOKUP(H15,'SDD Statistiques offres'!G:O,9,0),"") | M15: FFF | N15: FFF | O15: FFF | P15: A traiter | Q15: Réponse à offre | R15: =COUNTIF(H:H,H15) -> 2 | S15: =COUNTIFS(H:H,H15,P:P,"Attente retour opérationnel suite envoi CV pour avis") -> 0 | T15: =COUNTIFS(H:H,H15,P:P,"Proposition d'embauche envoyée") -> 0 | U15: =COUNTIFS(H:H,H15,P:P,"Embauché") -> 0 | V15: 44762.564 | W15: =IFERROR(V15*1,"") -> 44762.564 | X15: 44762.565 | Y15: 44762.482 | Z15: 212877 | AA15: Front Office | AB15: EEE | AC15: EEE | AD15: Recherche active | AG15: AGENT D'ACCUEIL | AI15: Temps complet | AJ15: 212877
A16: 244851 | C16: 44762.526 | D16: 44762.526 | F16: AAA | G16: 10 | H16: 2022-4467 | I16: =IFERROR(_xlfn.XLOOKUP(H16,'SDD Statistiques offres'!G:G,'SDD Statistiques offres'!D:D),0) -> 0 | J16: =IFERROR(VLOOKUP(H16,'SDD Statistiques offres'!G:O,2,0),"") | K16: =IFERROR(VLOOKUP(H16,'SDD Statistiques offres'!G:O,5,0),"") | L16: =IFERROR(VLOOKUP(H16,'SDD Statistiques offres'!G:O,9,0),"") | M16: GGG | N16: GGG | O16: GGG | P16: A traiter | Q16: Réponse à offre | R16: =COUNTIF(H:H,H16) -> 6 | S16: =COUNTIFS(H:H,H16,P:P,"Attente retour opérationnel suite envoi CV pour avis") -> 0 | T16: =COUNTIFS(H:H,H16,P:P,"Proposition d'embauche envoyée") -> 0 | U16: =COUNTIFS(H:H,H16,P:P,"Embauché") -> 0 | V16: 44762.526 | W16: =IFERROR(V16*1,"") -> 44762.526 | X16: 44762.526 | Y16: 44762.443 | Z16: 212868 | AA16: Front Office | AB16: FFF | AC16: FFF | AD16: Recherche active | AJ16: 212868
A17: 244852 | C17: 44762.528 | D17: 44762.528 | F17: AAA | G17: 13 | H17: 2022-4342 | I17: =IFERROR(_xlfn.XLOOKUP(H17,'SDD Statistiques offres'!G:G,'SDD Statistiques offres'!D:D),0) -> 44704.668 | J17: =IFERROR(VLOOKUP(H17,'SDD Statistiques offres'!G:O,2,0),"") -> Diffusée | K17: =IFERROR(VLOOKUP(H17,'SDD Statistiques offres'!G:O,5,0),"") -> INGENIEUR D'ETUDES H/F | L17: =IFERROR(VLOOKUP(H17,'SDD Statistiques offres'!G:O,9,0),"") -> 1028 | M17: HHH | N17: HHH | O17: HHH | P17: A traiter | Q17: Réponse à offre | R17: =COUNTIF(H:H,H17) -> 4 | S17: =COUNTIFS(H:H,H17,P:P,"Attente retour opérationnel suite envoi CV pour avis") -> 0 | T17: =COUNTIFS(H:H,H17,P:P,"Proposition d'embauche envoyée") -> 0 | U17: =COUNTIFS(H:H,H17,P:P,"Embauché") -> 0 | V17: 44762.528 | W17: =IFERROR(V17*1,"") -> 44762.528 | X17: 44762.53 | Y17: 44762.444 | Z17: 212869 | AA17: Front Office | AB17: GGG | AC17: GGG | AD17: Recherche active | AG17: RESPONSABLE EXPLOITATION | AJ17: 212869
A18: 244853 | C18: 44762.529 | D18: 44762.529 | F18: AAA | G18: 19 | H18: 2022-4006 | I18: =IFERROR(_xlfn.XLOOKUP(H18,'SDD Statistiques offres'!G:G,'SDD Statistiques offres'!D:D),0) -> 44645.405 | J18: =IFERROR(VLOOKUP(H18,'SDD Statistiques offres'!G:O,2,0),"") -> Diffusée | K18: =IFERROR(VLOOKUP(H18,'SDD Statistiques offres'!G:O,5,0),"") -> ADJOINT AU DIRECTEUR DES PROJETS H/F | L18: =IFERROR(VLOOKUP(H18,'SDD Statistiques offres'!G:O,9,0),"") -> 1027 | M18: AAA | N18: AAA | O18: AAA | P18: A traiter | Q18: Réponse à offre | R18: =COUNTIF(H:H,H18) -> 1 | S18: =COUNTIFS(H:H,H18,P:P,"Attente retour opérationnel suite envoi CV pour avis") -> 0 | T18: =COUNTIFS(H:H,H18,P:P,"Proposition d'embauche envoyée") -> 0 | U18: =COUNTIFS(H:H,H18,P:P,"Embauché") -> 0 | V18: 44762.528 | W18: =IFERROR(V18*1,"") -> 44762.528 | X18: 44762.53 | Y18: 44762.444 | Z18: 212869 | AA18: Front Office | AB18: HHH | AC18: HHH | AD18: Recherche active | AG18: RESPONSABLE EXPLOITATION | AJ18: 212869
A19: 244854 | C19: 44762.529 | D19: 44762.529 | F19: AAA | G19: 19 | H19: 2022-4574 | I19: =IFERROR(_xlfn.XLOOKUP(H19,'SDD Statistiques offres'!G:G,'SDD Statistiques offres'!D:D),0) -> 0 | J19: =IFERROR(VLOOKUP(H19,'SDD Statistiques offres'!G:O,2,0),"") | K19: =IFERROR(VLOOKUP(H19,'SDD Statistiques offres'!G:O,5,0),"") | L19: =IFERROR(VLOOKUP(H19,'SDD Statistiques offres'!G:O,9,0),"") | M19: BBB | N19: BBB | O19: BBB | P19: A traiter | Q19: Réponse à offre | R19: =COUNTIF(H:H,H19) -> 1 | S19: =COUNTIFS(H:H,H19,P:P,"Attente retour opérationnel suite envoi CV pour avis") -> 0 | T19: =COUNTIFS(H:H,H19,P:P,"Proposition d'embauche envoyée") -> 0 | U19: =COUNTIFS(H:H,H19,P:P,"Embauché") -> 0 | V19: 44762.529 | W19: =IFERROR(V19*1,"") -> 44762.529 | X19: 44762.529 | Y19: 44762.446 | Z19: 212870 | AA19: Front Office | AB19: Administrateur Administrateur | AC19: Administrateur Administrateur | AD19: Recherche active | AJ19: 212870
A20: 244855 | C20: 44762.53 | D20: 44762.53 | F20: AAA | G20: 17 | H20: 2021-3217 | I20: =IFERROR(_xlfn.XLOOKUP(H20,'SDD Statistiques offres'!G:G,'SDD Statistiques offres'!D:D),0) -> 0 | J20: =IFERROR(VLOOKUP(H20,'SDD Statistiques offres'!G:O,2,0),"") | K20: =IFERROR(VLOOKUP(H20,'SDD Statistiques offres'!G:O,5,0),"") | L20: =IFERROR(VLOOKUP(H20,'SDD Statistiques offres'!G:O,9,0),"") | M20: CCC | N20: CCC | O20: CCC | P20: A traiter | Q20: Réponse à offre | R20: =COUNTIF(H:H,H20) -> 1 | S20: =COUNTIFS(H:H,H20,P:P,"Attente retour opérationnel suite envoi CV pour avis") -> 0 | T20: =COUNTIFS(H:H,H20,P:P,"Proposition d'embauche envoyée") -> 0 | U20: =COUNTIFS(H:H,H20,P:P,"Embauché") -> 0 | V20: 44762.528 | W20: =IFERROR(V20*1,"") -> 44762.528 | X20: 44762.53 | Y20: 44762.444 | Z20: 212869 | AA20: Front Office | AB20: AAA | AC20: AAA | AD20: Recherche active | AG20: RESPONSABLE EXPLOITATION | AJ20: 212869
A21: 244856 | C21: 44762.532 | D21: 44762.532 | F21: AAA | G21: 15 | H21: 2022-4716 | I21: =IFERROR(_xlfn.XLOOKUP(H21,'SDD Statistiques offres'!G:G,'SDD Statistiques offres'!D:D),0) -> 0 | J21: =IFERROR(VLOOKUP(H21,'SDD Statistiques offres'!G:O,2,0),"") | K21: =IFERROR(VLOOKUP(H21,'SDD Statistiques offres'!G:O,5,0),"") | L21: =IFERROR(VLOOKUP(H21,'SDD Statistiques offres'!G:O,9,0),"") | M21: DDD | N21: DDD | O21: DDD | P21: A traiter | Q21: Réponse à offre | R21: =COUNTIF(H:H,H21) -> 2 | S21: =COUNTIFS(H:H,H21,P:P,"Attente retour opérationnel suite envoi CV pour avis") -> 0 | T21: =COUNTIFS(H:H,H21,P:P,"Proposition d'embauche envoyée") -> 0 | U21: =COUNTIFS(H:H,H21,P:P,"Embauché") -> 0 | V21: 44762.532 | W21: =IFERROR(V21*1,"") -> 44762.532 | X21: 44762.532 | Y21: 44762.448 | Z21: 212871 | AA21: Front Office | AB21: BBB | AC21: BBB | AD21: Recherche active | AJ21: 212871
A22: 244845 | C22: 44762.515 | D22: 44762.513 | E22: 44762.515 | F22: AAA | G22: 17 | I22: =IFERROR(_xlfn.XLOOKUP(H22,'SDD Statistiques offres'!G:G,'SDD Statistiques offres'!D:D),0) -> 0 | J22: =IFERROR(VLOOKUP(H22,'SDD Statistiques offres'!G:O,2,0),"") | K22: =IFERROR(VLOOKUP(H22,'SDD Statistiques offres'!G:O,5,0),"") | L22: =IFERROR(VLOOKUP(H22,'SDD Statistiques offres'!G:O,9,0),"") | M22: EEE | N22: EEE | O22: EEE | P22: A traiter | Q22: Candidature spontanée | R22: =COUNTIF(H:H,H22) -> 1048435 | S22: =COUNTIFS(H:H,H22,P:P,"Attente retour opérationnel suite envoi CV pour avis") -> 0 | T22: =COUNTIFS(H:H,H22,P:P,"Proposition d'embauche envoyée") -> 0 | U22: =COUNTIFS(H:H,H22,P:P,"Embauché") -> 0 | V22: 44762.515 | W22: =IFERROR(V22*1,"") -> 44762.515 | Z22: 212863 | AA22: Back Office | AB22: CCC | AC22: CCC | AD22: Recherche active | AG22: EXPERT TECHNIQUE | AH22: France | AJ22: 212863
A23: 244846 | C23: 44762.518 | D23: 44762.518 | F23: AAA | G23: 15 | H23: 2022-4571 | I23: =IFERROR(_xlfn.XLOOKUP(H23,'SDD Statistiques offres'!G:G,'SDD Statistiques offres'!D:D),0) -> 0 | J23: =IFERROR(VLOOKUP(H23,'SDD Statistiques offres'!G:O,2,0),"") | K23: =IFERROR(VLOOKUP(H23,'SDD Statistiques offres'!G:O,5,0),"") | L23: =IFERROR(VLOOKUP(H23,'SDD Statistiques offres'!G:O,9,0),"") | M23: FFF | N23: FFF | O23: FFF | P23: A traiter | Q23: Réponse à offre | R23: =COUNTIF(H:H,H23) -> 1 | S23: =COUNTIFS(H:H,H23,P:P,"Attente retour opérationnel suite envoi CV pour avis") -> 0 | T23: =COUNTIFS(H:H,H23,P:P,"Proposition d'embauche envoyée") -> 0 | U23: =COUNTIFS(H:H,H23,P:P,"Embauché") -> 0 | V23: 44762.518 | W23: =IFERROR(V23*1,"") -> 44762.518 | X23: 44762.518 | Y23: 44762.434 | Z23: 212864 | AB23: DDD | AC23: DDD | AD23: Recherche active | AG23: AGENT D'ACCUEIL | AJ23: 212864
A24: 244847 | C24: 44762.518 | D24: 44762.515 | E24: 44762.518 | F24: AAA | G24: 17 | I24: =IFERROR(_xlfn.XLOOKUP(H24,'SDD Statistiques offres'!G:G,'SDD Statistiques offres'!D:D),0) -> 0 | J24: =IFERROR(VLOOKUP(H24,'SDD Statistiques offres'!G:O,2,0),"") | K24: =IFERROR(VLOOKUP(H24,'SDD Statistiques offres'!G:O,5,0),"") | L24: =IFERROR(VLOOKUP(H24,'SDD Statistiques offres'!G:O,9,0),"") | M24: GGG | N24: GGG | O24: GGG | P24: A traiter | Q24: Candidature spontanée | R24: =COUNTIF(H:H,H24) -> 1048435 | S24: =COUNTIFS(H:H,H24,P:P,"Attente retour opérationnel suite envoi CV pour avis") -> 0 | T24: =COUNTIFS(H:H,H24,P:P,"Proposition d'embauche envoyée") -> 0 | U24: =COUNTIFS(H:H,H24,P:P,"Embauché") -> 0 | V24: 44762.518 | W24: =IFERROR(V24*1,"") -> 44762.518 | Z24: 212865 | AA24: Back Office | AB24: EEE | AC24: EEE | AD24: Recherche active | AG24: CHEF DE PROJET | AH24: France | AJ24: 212865
A25: 244848 | C25: 44762.52 | D25: 44762.52 | F25: AAA | G25: 13 | H25: 2022-4713 | I25: =IFERROR(_xlfn.XLOOKUP(H25,'SDD Statistiques offres'!G:G,'SDD Statistiques offres'!D:D),0) -> 0 | J25: =IFERROR(VLOOKUP(H25,'SDD Statistiques offres'!G:O,2,0),"") | K25: =IFERROR(VLOOKUP(H25,'SDD Statistiques offres'!G:O,5,0),"") | L25: =IFERROR(VLOOKUP(H25,'SDD Statistiques offres'!G:O,9,0),"") | M25: HHH | N25: HHH | O25: HHH | P25: A traiter | Q25: Réponse à offre | R25: =COUNTIF(H:H,H25) -> 1 | S25: =COUNTIFS(H:H,H25,P:P,"Attente retour opérationnel suite envoi CV pour avis") -> 0 | T25: =COUNTIFS(H:H,H25,P:P,"Proposition d'embauche envoyée") -> 0 | U25: =COUNTIFS(H:H,H25,P:P,"Embauché") -> 0 | V25: 44696.61 | W25: =IFERROR(V25*1,"") -> 44696.61 | X25: 44762.52 | Y25: 44762.436 | Z25: 203670 | AA25: Front Office | AB25: FFF | AC25: FFF | AD25: Recherche active | AJ25: 203670
A26: 244849 | C26: 44762.523 | D26: 44762.523 | F26: AAA | G26: 16 | H26: 2022-4676 | I26: =IFERROR(_xlfn.XLOOKUP(H26,'SDD Statistiques offres'!G:G,'SDD Statistiques offres'!D:D),0) -> 0 | J26: =IFERROR(VLOOKUP(H26,'SDD Statistiques offres'!G:O,2,0),"") | K26: =IFERROR(VLOOKUP(H26,'SDD Statistiques offres'!G:O,5,0),"") | L26: =IFERROR(VLOOKUP(H26,'SDD Statistiques offres'!G:O,9,0),"") | M26: AAA | N26: AAA | O26: AAA | P26: A traiter | Q26: Réponse à offre | R26: =COUNTIF(H:H,H26) -> 1 | S26: =COUNTIFS(H:H,H26,P:P,"Attente retour opérationnel suite envoi CV pour avis") -> 0 | T26: =COUNTIFS(H:H,H26,P:P,"Proposition d'embauche envoyée") -> 0 | U26: =COUNTIFS(H:H,H26,P:P,"Embauché") -> 0 | V26: 44762.523 | W26: =IFERROR(V26*1,"") -> 44762.523 | X26: 44762.523 | Y26: 44762.44 | Z26: 212866 | AA26: Front Office | AB26: GGG | AC26: GGG | AD26: Recherche active | AJ26: 212866
A27: 244850 | C27: 44762.524 | D27: 44762.524 | F27: AAA | G27: 14 | H27: 2022-4707 | I27: =IFERROR(_xlfn.XLOOKUP(H27,'SDD Statistiques offres'!G:G,'SDD Statistiques offres'!D:D),0) -> 0 | J27: =IFERROR(VLOOKUP(H27,'SDD Statistiques offres'!G:O,2,0),"") | K27: =IFERROR(VLOOKUP(H27,'SDD Statistiques offres'!G:O,5,0),"") | L27: =IFERROR(VLOOKUP(H27,'SDD Statistiques offres'!G:O,9,0),"") | M27: BBB | N27: BBB | O27: BBB | P27: A traiter | Q27: Réponse à offre | R27: =COUNTIF(H:H,H27) -> 8 | S27: =COUNTIFS(H:H,H27,P:P,"Attente retour opérationnel suite envoi CV pour avis") -> 0 | T27: =COUNTIFS(H:H,H27,P:P,"Proposition d'embauche envoyée") -> 0 | U27: =COUNTIFS(H:H,H27,P:P,"Embauché") -> 0 | V27: 44762.524 | W27: =IFERROR(V27*1,"") -> 44762.524 | X27: 44762.524 | Y27: 44762.44 | Z27: 212867 | AA27: Front Office | AB27: HHH | AC27: HHH | AD27: Recherche active | AJ27: 212867
A28: 244839 | C28: 44762.507 | D28: 44762.507 | F28: AAA | G28: 11 | H28: 2022-4333 | I28: =IFERROR(_xlfn.XLOOKUP(H28,'SDD Statistiques offres'!G:G,'SDD Statistiques offres'!D:D),0) -> 0 | J28: =IFERROR(VLOOKUP(H28,'SDD Statistiques offres'!G:O,2,0),"") | K28: =IFERROR(VLOOKUP(H28,'SDD Statistiques offres'!G:O,5,0),"") | L28: =IFERROR(VLOOKUP(H28,'SDD Statistiques offres'!G:O,9,0),"") | M28: CCC | N28: CCC | O28: CCC | P28: A traiter | Q28: Positionné sur offre | R28: =COUNTIF(H:H,H28) -> 4 | S28: =COUNTIFS(H:H,H28,P:P,"Attente retour opérationnel suite envoi CV pour avis") -> 0 | T28: =COUNTIFS(H:H,H28,P:P,"Proposition d'embauche envoyée") -> 0 | U28: =COUNTIFS(H:H,H28,P:P,"Embauché") -> 0 | V28: 44742.458 | W28: =IFERROR(V28*1,"") -> 44742.458 | X28: 44762.507 | Y28: 44742.375 | Z28: 211445 | AA28: Front Office | AB28: Administrateur Administrateur | AC28: Administrateur Administrateur | AD28: Recherche active | AG28: CHARGE(E) DE MISSION RH | AJ28: 211445
A29: 244840 | C29: 44762.508 | D29: 44762.508 | F29: AAA | G29: 14 | H29: 2022-4470 | I29: =IFERROR(_xlfn.XLOOKUP(H29,'SDD Statistiques offres'!G:G,'SDD Statistiques offres'!D:D),0) -> 0 | J29: =IFERROR(VLOOKUP(H29,'SDD Statistiques offres'!G:O,2,0),"") | K29: =IFERROR(VLOOKUP(H29,'SDD Statistiques offres'!G:O,5,0),"") | L29: =IFERROR(VLOOKUP(H29,'SDD Statistiques offres'!G:O,9,0),"") | M29: DDD | N29: DDD | O29: DDD | P29: A traiter | Q29: Réponse à offre | R29: =COUNTIF(H:H,H29) -> 2 | S29: =COUNTIFS(H:H,H29,P:P,"Attente retour opérationnel suite envoi CV pour avis") -> 0 | T29: =COUNTIFS(H:H,H29,P:P,"Proposition d'embauche envoyée") -> 0 | U29: =COUNTIFS(H:H,H29,P:P,"Embauché") -> 0 | V29: 44762.508 | W29: =IFERROR(V29*1,"") -> 44762.508 | X29: 44762.508 | Y29: 44762.425 | Z29: 212861 | AA29: Front Office | AB29: AAA | AC29: AAA | AD29: Recherche active | AJ29: 212861
A30: 244841 | C30: 44762.511 | D30: 44762.511 | F30: AAA | G30: 15 | H30: 2022-4333 | I30: =IFERROR(_xlfn.XLOOKUP(H30,'SDD Statistiques offres'!G:G,'SDD Statistiques offres'!D:D),0) -> 0 | J30: =IFERROR(VLOOKUP(H30,'SDD Statistiques offres'!G:O,2,0),"") | K30: =IFERROR(VLOOKUP(H30,'SDD Statistiques offres'!G:O,5,0),"") | L30: =IFERROR(VLOOKUP(H30,'SDD Statistiques offres'!G:O,9,0),"") | M30: EEE | N30: EEE | O30: EEE | P30: A traiter | Q30: Positionné sur offre | R30: =COUNTIF(H:H,H30) -> 4 | S30: =COUNTIFS(H:H,H30,P:P,"Attente retour opérationnel suite envoi CV pour avis") -> 0 | T30: =COUNTIFS(H:H,H30,P:P,"Proposition d'embauche envoyée") -> 0 | U30: =COUNTIFS(H:H,H30,P:P,"Embauché") -> 0 | V30: 44753.664 | W30: =IFERROR(V30*1,"") -> 44753.664 | X30: 44762.511 | Y30: 44753.581 | Z30: 212034 | AA30: Front Office | AB30: BBB | AC30: BBB | AD30: Recherche active | AG30: CHARGE(E) DE MISSION RH | AJ30: 212034
A31: 244842 | C31: 44762.512 | D31: 44762.512 | F31: AAA | G31: 10 | H31: 2022-4694 | I31: =IFERROR(_xlfn.XLOOKUP(H31,'SDD Statistiques offres'!G:G,'SDD Statistiques offres'!D:D),0) -> 44755.684 | J31: =IFERROR(VLOOKUP(H31,'SDD Statistiques offres'!G:O,2,0),"") -> Diffusée | K31: =IFERROR(VLOOKUP(H31,'SDD Statistiques offres'!G:O,5,0),"") -> INGENIEUR D'ETUDES H/F | L31: =IFERROR(VLOOKUP(H31,'SDD Statistiques offres'!G:O,9,0),"") -> 1062 | M31: FFF | N31: FFF | O31: FFF | P31: A traiter | Q31: Réponse à offre | R31: =COUNTIF(H:H,H31) -> 7 | S31: =COUNTIFS(H:H,H31,P:P,"Attente retour opérationnel suite envoi CV pour avis") -> 0 | T31: =COUNTIFS(H:H,H31,P:P,"Proposition d'embauche envoyée") -> 0 | U31: =COUNTIFS(H:H,H31,P:P,"Embauché") -> 0 | V31: 44762.512 | W31: =IFERROR(V31*1,"") -> 44762.512 | X31: 44762.512 | Y31: 44762.429 | Z31: 212862 | AA31: Front Office | AB31: CCC | AC31: CCC | AD31: Recherche active | AG31: DIRECTEUR DE BU | AJ31: 212862
A32: 244843 | C32: 44762.513 | D32: 44762.513 | F32: AAA | G32: 12 | H32: 2022-4333 | I32: =IFERROR(_xlfn.XLOOKUP(H32,'SDD Statistiques offres'!G:G,'SDD Statistiques offres'!D:D),0) -> 0 | J32: =IFERROR(VLOOKUP(H32,'SDD Statistiques offres'!G:O,2,0),"") | K32: =IFERROR(VLOOKUP(H32,'SDD Statistiques offres'!G:O,5,0),"") | L32: =IFERROR(VLOOKUP(H32,'SDD Statistiques offres'!G:O,9,0),"") | M32: GGG | N32: GGG | O32: GGG | P32: A traiter | Q32: Positionné sur offre | R32: =COUNTIF(H:H,H32) -> 4 | S32: =COUNTIFS(H:H,H32,P:P,"Attente retour opérationnel suite envoi CV pour avis") -> 0 | T32: =COUNTIFS(H:H,H32,P:P,"Proposition d'embauche envoyée") -> 0 | U32: =COUNTIFS(H:H,H32,P:P,"Embauché") -> 0 | V32: 44755.73 | W32: =IFERROR(V32*1,"") -> 44755.73 | X32: 44762.513 | Y32: 44755.646 | Z32: 212242 | AA32: Front Office | AB32: DDD | AC32: DDD | AD32: Recherche active | AJ32: 212242
A33: 244844 | C33: 44762.514 | D33: 44762.514 | F33: AAA | G33: 11 | H33: 2022-4333 | I33: =IFERROR(_xlfn.XLOOKUP(H33,'SDD Statistiques offres'!G:G,'SDD Statistiques offres'!D:D),0) -> 0 | J33: =IFERROR(VLOOKUP(H33,'SDD Statistiques offres'!G:O,2,0),"") | K33: =IFERROR(VLOOKUP(H33,'SDD Statistiques offres'!G:O,5,0),"") | L33: =IFERROR(VLOOKUP(H33,'SDD Statistiques offres'!G:O,9,0),"") | M33: HHH | N33: HHH | O33: HHH | P33: A traiter | Q33: Positionné sur offre | R33: =COUNTIF(H:H,H33) -> 4 | S33: =COUNTIFS(H:H,H33,P:P,"Attente retour opérationnel suite envoi CV pour avis") -> 0 | T33: =COUNTIFS(H:H,H33,P:P,"Proposition d'embauche envoyée") -> 0 | U33: =COUNTIFS(H:H,H33,P:P,"Embauché") -> 0 | V33: 44759.034 | W33: =IFERROR(V33*1,"") -> 44759.034 | X33: 44762.514 | Y33: 44758.951 | Z33: 212535 | AA33: Front Office | AB33: EEE | AC33: EEE | AD33: Recherche active | AJ33: 212535
A34: 244833 | C34: 44762.486 | D34: 44762.486 | F34: AAA | G34: 12 | H34: 2022-4465 | I34: =IFERROR(_xlfn.XLOOKUP(H34,'SDD Statistiques offres'!G:G,'SDD Statistiques offres'!D:D),0) -> 0 | J34: =IFERROR(VLOOKUP(H34,'SDD Statistiques offres'!G:O,2,0),"") | K34: =IFERROR(VLOOKUP(H34,'SDD Statistiques offres'!G:O,5,0),"") | L34: =IFERROR(VLOOKUP(H34,'SDD Statistiques offres'!G:O,9,0),"") | M34: AAA | N34: AAA | O34: AAA | P34: A traiter | Q34: Réponse à offre | R34: =COUNTIF(H:H,H34) -> 1 | S34: =COUNTIFS(H:H,H34,P:P,"Attente retour opérationnel suite envoi CV pour avis") -> 0 | T34: =COUNTIFS(H:H,H34,P:P,"Proposition d'embauche envoyée") -> 0 | U34: =COUNTIFS(H:H,H34,P:P,"Embauché") -> 0 | V34: 44762.486 | W34: =IFERROR(V34*1,"") -> 44762.486 | X34: 44762.486 | Y34: 44762.403 | Z34: 212855 | AA34: Front Office | AB34: FFF | AC34: FFF | AD34: Recherche active | AJ34: 212855
A35: 244834 | C35: 44762.486 | D35: 44762.486 | F35: AAA | G35: 17 | H35: 2022-4694 | I35: =IFERROR(_xlfn.XLOOKUP(H35,'SDD Statistiques offres'!G:G,'SDD Statistiques offres'!D:D),0) -> 44755.684 | J35: =IFERROR(VLOOKUP(H35,'SDD Statistiques offres'!G:O,2,0),"") -> Diffusée | K35: =IFERROR(VLOOKUP(H35,'SDD Statistiques offres'!G:O,5,0),"") -> INGENIEUR D'ETUDES H/F | L35: =IFERROR(VLOOKUP(H35,'SDD Statistiques offres'!G:O,9,0),"") -> 1062 | M35: BBB | N35: BBB | O35: BBB | P35: A traiter | Q35: Réponse à offre | R35: =COUNTIF(H:H,H35) -> 7 | S35: =COUNTIFS(H:H,H35,P:P,"Attente retour opérationnel suite envoi CV pour avis") -> 0 | T35: =COUNTIFS(H:H,H35,P:P,"Proposition d'embauche envoyée") -> 0 | U35: =COUNTIFS(H:H,H35,P:P,"Embauché") -> 0 | V35: 44762.486 | W35: =IFERROR(V35*1,"") -> 44762.486 | X35: 44762.486 | Y35: 44762.403 | Z35: 212856 | AA35: Front Office | AB35: GGG | AC35: GGG | AD35: Recherche active | AG35: DIRECTEUR D'EXPLOITATION | AJ35: 212856
A36: 244835 | C36: 44762.49 | D36: 44762.49 | F36: AAA | G36: 10 | H36: 2022-4702 | I36: =IFERROR(_xlfn.XLOOKUP(H36,'SDD Statistiques offres'!G:G,'SDD Statistiques offres'!D:D),0) -> 0 | J36: =IFERROR(VLOOKUP(H36,'SDD Statistiques offres'!G:O,2,0),"") | K36: =IFERROR(VLOOKUP(H36,'SDD Statistiques offres'!G:O,5,0),"") | L36: =IFERROR(VLOOKUP(H36,'SDD Statistiques offres'!G:O,9,0),"") | M36: CCC | N36: CCC | O36: CCC | P36: A traiter | Q36: Réponse à offre | R36: =COUNTIF(H:H,H36) -> 1 | S36: =COUNTIFS(H:H,H36,P:P,"Attente retour opérationnel suite envoi CV pour avis") -> 0 | T36: =COUNTIFS(H:H,H36,P:P,"Proposition d'embauche envoyée") -> 0 | U36: =COUNTIFS(H:H,H36,P:P,"Embauché") -> 0 | V36: 44762.49 | W36: =IFERROR(V36*1,"") -> 44762.49 | X36: 44762.49 | Y36: 44762.406 | Z36: 212857 | AA36: Front Office | AB36: HHH | AC36: HHH | AD36: Recherche active | AJ36: 212857
A37: 244836 | C37: 44762.496 | D37: 44762.496 | F37: AAA | G37: 15 | H37: 2022-4719 | I37: =IFERROR(_xlfn.XLOOKUP(H37,'SDD Statistiques offres'!G:G,'SDD Statistiques offres'!D:D),0) -> 0 | J37: =IFERROR(VLOOKUP(H37,'SDD Statistiques offres'!G:O,2,0),"") | K37: =IFERROR(VLOOKUP(H37,'SDD Statistiques offres'!G:O,5,0),"") | L37: =IFERROR(VLOOKUP(H37,'SDD Statistiques offres'!G:O,9,0),"") | M37: DDD | N37: DDD | O37: DDD | P37: A traiter | Q37: Réponse à offre | R37: =COUNTIF(H:H,H37) -> 8 | S37: =COUNTIFS(H:H,H37,P:P,"Attente retour opérationnel suite envoi CV pour avis") -> 0 | T37: =COUNTIFS(H:H,H37,P:P,"Proposition d'embauche envoyée") -> 0 | U37: =COUNTIFS(H:H,H37,P:P,"Embauché") -> 0 | V37: 44762.496 | W37: =IFERROR(V37*1,"") -> 44762.496 | X37: 44762.496 | Y37: 44762.412 | Z37: 212858 | AA37: Front Office | AB37: Administrateur Administrateur | AC37: Administrateur Administrateur | AD37: Recherche active | AJ37: 212858
A38: 244837 | C38: 44762.497 | D38: 44762.497 | F38: AAA | G38: 15 | H38: 2022-4182 | I38: =IFERROR(_xlfn.XLOOKUP(H38,'SDD Statistiques offres'!G:G,'SDD Statistiques offres'!D:D),0) -> 0 | J38: =IFERROR(VLOOKUP(H38,'SDD Statistiques offres'!G:O,2,0),"") | K38: =IFERROR(VLOOKUP(H38,'SDD Statistiques offres'!G:O,5,0),"") | L38: =IFERROR(VLOOKUP(H38,'SDD Statistiques offres'!G:O,9,0),"") | M38: EEE | N38: EEE | O38: EEE | P38: A traiter | Q38: Réponse à offre | R38: =COUNTIF(H:H,H38) -> 2 | S38: =COUNTIFS(H:H,H38,P:P,"Attente retour opérationnel suite envoi CV pour avis") -> 0 | T38: =COUNTIFS(H:H,H38,P:P,"Proposition d'embauche envoyée") -> 0 | U38: =COUNTIFS(H:H,H38,P:P,"Embauché") -> 0 | V38: 44762.497 | W38: =IFERROR(V38*1,"") -> 44762.497 | X38: 44762.497 | Y38: 44762.414 | Z38: 212859 | AA38: Front Office | AB38: AAA | AC38: AAA | AD38: Recherche active | AJ38: 212859
A39: 244838 | C39: 44762.499 | D39: 44762.499 | F39: AAA | G39: 17 | H39: 2022-4694 | I39: =IFERROR(_xlfn.XLOOKUP(H39,'SDD Statistiques offres'!G:G,'SDD Statistiques offres'!D:D),0) -> 44755.684 | J39: =IFERROR(VLOOKUP(H39,'SDD Statistiques offres'!G:O,2,0),"") -> Diffusée | K39: =IFERROR(VLOOKUP(H39,'SDD Statistiques offres'!G:O,5,0),"") -> INGENIEUR D'ETUDES H/F | L39: =IFERROR(VLOOKUP(H39,'SDD Statistiques offres'!G:O,9,0),"") -> 1062 | M39: FFF | N39: FFF | O39: FFF | P39: A traiter | Q39: Réponse à offre | R39: =COUNTIF(H:H,H39) -> 7 | S39: =COUNTIFS(H:H,H39,P:P,"Attente retour opérationnel suite envoi CV pour avis") -> 0 | T39: =COUNTIFS(H:H,H39,P:P,"Proposition d'embauche envoyée") -> 0 | U39: =COUNTIFS(H:H,H39,P:P,"Embauché") -> 0 | V39: 44762.499 | W39: =IFERROR(V39*1,"") -> 44762.499 | X39: 44762.499 | Y39: 44762.415 | Z39: 212860 | AA39: Front Office | AB39: BBB | AC39: BBB | AD39: Recherche active | AJ39: 212860
A40: 244827 | C40: 44762.456 | D40: 44762.456 | F40: AAA | G40: 12 | H40: 2022-4517 | I40: =IFERROR(_xlfn.XLOOKUP(H40,'SDD Statistiques offres'!G:G,'SDD Statistiques offres'!D:D),0) -> 0 | J40: =IFERROR(VLOOKUP(H40,'SDD Statistiques offres'!G:O,2,0),"") | K40: =IFERROR(VLOOKUP(H40,'SDD Statistiques offres'!G:O,5,0),"") | L40: =IFERROR(VLOOKUP(H40,'SDD Statistiques offres'!G:O,9,0),"") | M40: GGG | N40: GGG | O40: GGG | P40: A traiter | Q40: Réponse à offre | R40: =COUNTIF(H:H,H40) -> 1 | S40: =COUNTIFS(H:H,H40,P:P,"Attente retour opérationnel suite envoi CV pour avis") -> 0 | T40: =COUNTIFS(H:H,H40,P:P,"Proposition d'embauche envoyée") -> 0 | U40: =COUNTIFS(H:H,H40,P:P,"Embauché") -> 0 | V40: 44762.456 | W40: =IFERROR(V40*1,"") -> 44762.456 | X40: 44762.456 | Y40: 44762.372 | Z40: 212849 | AA40: Front Office | AB40: CCC | AC40: CCC | AD40: Recherche active | AJ40: 212849
A41: 244828 | C41: 44762.465 | D41: 44762.465 | F41: AAA | G41: 15 | H41: 2022-4342 | I41: =IFERROR(_xlfn.XLOOKUP(H41,'SDD Statistiques offres'!G:G,'SDD Statistiques offres'!D:D),0) -> 44704.668 | J41: =IFERROR(VLOOKUP(H41,'SDD Statistiques offres'!G:O,2,0),"") -> Diffusée | K41: =IFERROR(VLOOKUP(H41,'SDD Statistiques offres'!G:O,5,0),"") -> INGENIEUR D'ETUDES H/F | L41: =IFERROR(VLOOKUP(H41,'SDD Statistiques offres'!G:O,9,0),"") -> 1028 | M41: HHH | N41: HHH | O41: HHH | P41: A traiter | Q41: Réponse à offre | R41: =COUNTIF(H:H,H41) -> 4 | S41: =COUNTIFS(H:H,H41,P:P,"Attente retour opérationnel suite envoi CV pour avis") -> 0 | T41: =COUNTIFS(H:H,H41,P:P,"Proposition d'embauche envoyée") -> 0 | U41: =COUNTIFS(H:H,H41,P:P,"Embauché") -> 0 | V41: 44762.465 | W41: =IFERROR(V41*1,"") -> 44762.465 | X41: 44762.465 | Y41: 44762.382 | Z41: 212850 | AA41: Front Office | AB41: DDD | AC41: DDD | AD41: Recherche active | AJ41: 212850
A42: 244829 | C42: 44762.466 | D42: 44762.466 | F42: AAA | G42: 10 | H42: 2022-4719 | I42: =IFERROR(_xlfn.XLOOKUP(H42,'SDD Statistiques offres'!G:G,'SDD Statistiques offres'!D:D),0) -> 0 | J42: =IFERROR(VLOOKUP(H42,'SDD Statistiques offres'!G:O,2,0),"") | K42: =IFERROR(VLOOKUP(H42,'SDD Statistiques offres'!G:O,5,0),"") | L42: =IFERROR(VLOOKUP(H42,'SDD Statistiques offres'!G:O,9,0),"") | M42: AAA | N42: AAA | O42: AAA | P42: A traiter | Q42: Réponse à offre | R42: =COUNTIF(H:H,H42) -> 8 | S42: =COUNTIFS(H:H,H42,P:P,"Attente retour opérationnel suite envoi CV pour avis") -> 0 | T42: =COUNTIFS(H:H,H42,P:P,"Proposition d'embauche envoyée") -> 0 | U42: =COUNTIFS(H:H,H42,P:P,"Embauché") -> 0 | V42: 44762.466 | W42: =IFERROR(V42*1,"") -> 44762.466 | X42: 44762.466 | Y42: 44762.383 | Z42: 212851 | AA42: Front Office | AB42: EEE | AC42: EEE | AD42: Recherche active | AJ42: 212851
A43: 244830 | C43: 44762.466 | D43: 44762.466 | F43: AAA | G43: 13 | H43: 2022-4342 | I43: =IFERROR(_xlfn.XLOOKUP(H43,'SDD Statistiques offres'!G:G,'SDD Statistiques offres'!D:D),0) -> 44704.668 | J43: =IFERROR(VLOOKUP(H43,'SDD Statistiques offres'!G:O,2,0),"") -> Diffusée | K43: =IFERROR(VLOOKUP(H43,'SDD Statistiques offres'!G:O,5,0),"") -> INGENIEUR D'ETUDES H/F | L43: =IFERROR(VLOOKUP(H43,'SDD Statistiques offres'!G:O,9,0),"") -> 1028 | M43: BBB | N43: BBB | O43: BBB | P43: A traiter | Q43: Réponse à offre | R43: =COUNTIF(H:H,H43) -> 4 | S43: =COUNTIFS(H:H,H43,P:P,"Attente retour opérationnel suite envoi CV pour avis") -> 0 | T43: =COUNTIFS(H:H,H43,P:P,"Proposition d'embauche envoyée") -> 0 | U43: =COUNTIFS(H:H,H43,P:P,"Embauché") -> 0 | V43: 44762.466 | W43: =IFERROR(V43*1,"") -> 44762.466 | X43: 44762.466 | Y43: 44762.383 | Z43: 212852 | AA43: Front Office | AB43: FFF | AC43: FFF | AD43: Recherche active | AJ43: 212852
A44: 244831 | C44: 44762.467 | D44: 44762.467 | F44: AAA | G44: 15 | H44: 2022-4472 | I44: =IFERROR(_xlfn.XLOOKUP(H44,'SDD Statistiques offres'!G:G,'SDD Statistiques offres'!D:D),0) -> 0 | J44: =IFERROR(VLOOKUP(H44,'SDD Statistiques offres'!G:O,2,0),"") | K44: =IFERROR(VLOOKUP(H44,'SDD Statistiques offres'!G:O,5,0),"") | L44: =IFERROR(VLOOKUP(H44,'SDD Statistiques offres'!G:O,9,0),"") | M44: CCC | N44: CCC | O44: CCC | P44: A traiter | Q44: Réponse à offre | R44: =COUNTIF(H:H,H44) -> 1 | S44: =COUNTIFS(H:H,H44,P:P,"Attente retour opérationnel suite envoi CV pour avis") -> 0 | T44: =COUNTIFS(H:H,H44,P:P,"Proposition d'embauche envoyée") -> 0 | U44: =COUNTIFS(H:H,H44,P:P,"Embauché") -> 0 | V44: 44762.467 | W44: =IFERROR(V44*1,"") -> 44762.467 | X44: 44762.467 | Y44: 44762.384 | Z44: 212853 | AA44: Front Office | AB44: GGG | AC44: GGG | AD44: Recherche active | AJ44: 212853
A45: 244832 | C45: 44762.473 | D45: 44762.473 | F45: AAA | G45: 19 | H45: 2022-4707 | I45: =IFERROR(_xlfn.XLOOKUP(H45,'SDD Statistiques offres'!G:G,'SDD Statistiques offres'!D:D),0) -> 0 | J45: =IFERROR(VLOOKUP(H45,'SDD Statistiques offres'!G:O,2,0),"") | K45: =IFERROR(VLOOKUP(H45,'SDD Statistiques offres'!G:O,5,0),"") | L45: =IFERROR(VLOOKUP(H45,'SDD Statistiques offres'!G:O,9,0),"") | M45: DDD | N45: DDD | O45: DDD | P45: A traiter | Q45: Réponse à offre | R45: =COUNTIF(H:H,H45) -> 8 | S45: =COUNTIFS(H:H,H45,P:P,"Attente retour opérationnel suite envoi CV pour avis") -> 0 | T45: =COUNTIFS(H:H,H45,P:P,"Proposition d'embauche envoyée") -> 0 | U45: =COUNTIFS(H:H,H45,P:P,"Embauché") -> 0 | V45: 44762.473 | W45: =IFERROR(V45*1,"") -> 44762.473 | X45: 44762.473 | Y45: 44762.389 | Z45: 212854 | AA45: Front Office | AB45: HHH | AC45: HHH | AD45: Recherche active | AJ45: 212854
A46: 244821 | C46: 44762.443 | D46: 44762.443 | F46: AAA | G46: 14 | H46: 2022-4719 | I46: =IFERROR(_xlfn.XLOOKUP(H46,'SDD Statistiques offres'!G:G,'SDD Statistiques offres'!D:D),0) -> 0 | J46: =IFERROR(VLOOKUP(H46,'SDD Statistiques offres'!G:O,2,0),"") | K46: =IFERROR(VLOOKUP(H46,'SDD Statistiques offres'!G:O,5,0),"") | L46: =IFERROR(VLOOKUP(H46,'SDD Statistiques offres'!G:O,9,0),"") | M46: EEE | N46: EEE | O46: EEE | P46: A traiter | Q46: Réponse à offre | R46: =COUNTIF(H:H,H46) -> 8 | S46: =COUNTIFS(H:H,H46,P:P,"Attente retour opérationnel suite envoi CV pour avis") -> 0 | T46: =COUNTIFS(H:H,H46,P:P,"Proposition d'embauche envoyée") -> 0 | U46: =COUNTIFS(H:H,H46,P:P,"Embauché") -> 0 | V46: 44762.443 | W46: =IFERROR(V46*1,"") -> 44762.443 | X46: 44762.444 | Y46: 44762.361 | Z46: 212843 | AA46: Front Office | AB46: Administrateur Administrateur | AC46: Administrateur Administrateur | AD46: Recherche active | AG46: ASSISTANT(E) ADMNISTRATIF(VE) | AJ46: 212843
A47: 244822 | C47: 44762.449 | D47: 44762.449 | F47: AAA | G47: 15 | H47: 2022-4719 | I47: =IFERROR(_xlfn.XLOOKUP(H47,'SDD Statistiques offres'!G:G,'SDD Statistiques offres'!D:D),0) -> 0 | J47: =IFERROR(VLOOKUP(H47,'SDD Statistiques offres'!G:O,2,0),"") | K47: =IFERROR(VLOOKUP(H47,'SDD Statistiques offres'!G:O,5,0),"") | L47: =IFERROR(VLOOKUP(H47,'SDD Statistiques offres'!G:O,9,0),"") | M47: FFF | N47: FFF | O47: FFF | P47: A traiter | Q47: Réponse à offre | R47: =COUNTIF(H:H,H47) -> 8 | S47: =COUNTIFS(H:H,H47,P:P,"Attente retour opérationnel suite envoi CV pour avis") -> 0 | T47: =COUNTIFS(H:H,H47,P:P,"Proposition d'embauche envoyée") -> 0 | U47: =COUNTIFS(H:H,H47,P:P,"Embauché") -> 0 | V47: 44762.449 | W47: =IFERROR(V47*1,"") -> 44762.449 | X47: 44762.449 | Y47: 44762.366 | Z47: 212844 | AA47: Front Office | AB47: AAA | AC47: AAA | AD47: Recherche active | AJ47: 212844
A48: 244823 | C48: 44762.449 | D48: 44762.449 | F48: AAA | G48: 10 | H48: 2022-4338 | I48: =IFERROR(_xlfn.XLOOKUP(H48,'SDD Statistiques offres'!G:G,'SDD Statistiques offres'!D:D),0) -> 0 | J48: =IFERROR(VLOOKUP(H48,'SDD Statistiques offres'!G:O,2,0),"") | K48: =IFERROR(VLOOKUP(H48,'SDD Statistiques offres'!G:O,5,0),"") | L48: =IFERROR(VLOOKUP(H48,'SDD Statistiques offres'!G:O,9,0),"") | M48: GGG | N48: GGG | O48: GGG | P48: A traiter | Q48: Réponse à offre | R48: =COUNTIF(H:H,H48) -> 3 | S48: =COUNTIFS(H:H,H48,P:P,"Attente retour opérationnel suite envoi CV pour avis") -> 0 | T48: =COUNTIFS(H:H,H48,P:P,"Proposition d'embauche envoyée") -> 0 | U48: =COUNTIFS(H:H,H48,P:P,"Embauché") -> 0 | V48: 44762.449 | W48: =IFERROR(V48*1,"") -> 44762.449 | X48: 44762.451 | Y48: 44762.368 | Z48: 212845 | AB48: BBB | AC48: BBB | AD48: Recherche active | AG48: CHARGE(E) DE MISSION RH | AI48: Temps complet | AJ48: 212845
A49: 244824 | C49: 44762.452 | D49: 44762.452 | F49: AAA | G49: 19 | H49: 2022-4640 | I49: =IFERROR(_xlfn.XLOOKUP(H49,'SDD Statistiques offres'!G:G,'SDD Statistiques offres'!D:D),0) -> 0 | J49: =IFERROR(VLOOKUP(H49,'SDD Statistiques offres'!G:O,2,0),"") | K49: =IFERROR(VLOOKUP(H49,'SDD Statistiques offres'!G:O,5,0),"") | L49: =IFERROR(VLOOKUP(H49,'SDD Statistiques offres'!G:O,9,0),"") | M49: HHH | N49: HHH | O49: HHH | P49: A traiter | Q49: Réponse à offre | R49: =COUNTIF(H:H,H49) -> 1 | S49: =COUNTIFS(H:H,H49,P:P,"Attente retour opérationnel suite envoi CV pour avis") -> 0 | T49: =COUNTIFS(H:H,H49,P:P,"Proposition d'embauche envoyée") -> 0 | U49: =COUNTIFS(H:H,H49,P:P,"Embauché") -> 0 | V49: 44762.452 | W49: =IFERROR(V49*1,"") -> 44762.452 | X49: 44762.453 | Y49: 44762.369 | Z49: 212846 | AA49: Front Office | AB49: CCC | AC49: CCC | AD49: Recherche active | AG49: ASSISTANT(E) ADMNISTRATIF(VE) | AJ49: 212846
A50: 244825 | C50: 44762.455 | D50: 44762.455 | F50: AAA | G50: 16 | H50: 2022-4490 | I50: =IFERROR(_xlfn.XLOOKUP(H50,'SDD Statistiques offres'!G:G,'SDD Statistiques offres'!D:D),0) -> 0 | J50: =IFERROR(VLOOKUP(H50,'SDD Statistiques offres'!G:O,2,0),"") | K50: =IFERROR(VLOOKUP(H50,'SDD Statistiques offres'!G:O,5,0),"") | L50: =IFERROR(VLOOKUP(H50,'SDD Statistiques offres'!G:O,9,0),"") | M50: AAA | N50: AAA | O50: AAA | P50: A traiter | Q50: Réponse à offre | R50: =COUNTIF(H:H,H50) -> 1 | S50: =COUNTIFS(H:H,H50,P:P,"Attente retour opérationnel suite envoi CV pour avis") -> 0 | T50: =COUNTIFS(H:H,H50,P:P,"Proposition d'embauche envoyée") -> 0 | U50: =COUNTIFS(H:H,H50,P:P,"Embauché") -> 0 | V50: 44762.455 | W50: =IFERROR(V50*1,"") -> 44762.455 | X50: 44762.455 | Y50: 44762.372 | Z50: 212847 | AA50: Front Office | AB50: DDD | AC50: DDD | AD50: Recherche active | AJ50: 212847
A51: 244826 | C51: 44762.455 | D51: 44762.455 | F51: AAA | G51: 12 | H51: 2022-4545 | I51: =IFERROR(_xlfn.XLOOKUP(H51,'SDD Statistiques offres'!G:G,'SDD Statistiques offres'!D:D),0) -> 44735.621 | J51: =IFERROR(VLOOKUP(H51,'SDD Statistiques offres'!G:O,2,0),"") -> Diffusée | K51: =IFERROR(VLOOKUP(H51,'SDD Statistiques offres'!G:O,5,0),"") -> ADJOINT AU DIRECTEUR DES PROJETS H/F | L51: =IFERROR(VLOOKUP(H51,'SDD Statistiques offres'!G:O,9,0),"") -> 1047 | M51: BBB | N51: BBB | O51: BBB | P51: A traiter | Q51: Réponse à offre | R51: =COUNTIF(H:H,H51) -> 2 | S51: =COUNTIFS(H:H,H51,P:P,"Attente retour opérationnel suite envoi CV pour avis") -> 0 | T51: =COUNTIFS(H:H,H51,P:P,"Proposition d'embauche envoyée") -> 0 | U51: =COUNTIFS(H:H,H51,P:P,"Embauché") -> 0 | V51: 44762.455 | W51: =IFERROR(V51*1,"") -> 44762.455 | X51: 44762.455 | Y51: 44762.372 | Z51: 212848 | AA51: Front Office | AB51: EEE | AC51: EEE | AD51: Recherche active | AJ51: 212848
A52: 244815 | C52: 44762.423 | D52: 44762.423 | F52: AAA | G52: 15 | H52: 2022-4527 | I52: =IFERROR(_xlfn.XLOOKUP(H52,'SDD Statistiques offres'!G:G,'SDD Statistiques offres'!D:D),0) -> 0 | J52: =IFERROR(VLOOKUP(H52,'SDD Statistiques offres'!G:O,2,0),"") | K52: =IFERROR(VLOOKUP(H52,'SDD Statistiques offres'!G:O,5,0),"") | L52: =IFERROR(VLOOKUP(H52,'SDD Statistiques offres'!G:O,9,0),"") | M52: CCC | N52: CCC | O52: CCC | P52: A traiter | Q52: Réponse à offre | R52: =COUNTIF(H:H,H52) -> 1 | S52: =COUNTIFS(H:H,H52,P:P,"Attente retour opérationnel suite envoi CV pour avis") -> 0 | T52: =COUNTIFS(H:H,H52,P:P,"Proposition d'embauche envoyée") -> 0 | U52: =COUNTIFS(H:H,H52,P:P,"Embauché") -> 0 | V52: 44762.423 | W52: =IFERROR(V52*1,"") -> 44762.423 | X52: 44762.423 | Y52: 44762.34 | Z52: 212838 | AA52: Front Office | AB52: FFF | AC52: FFF | AD52: Recherche active | AJ52: 212838
A53: 244816 | C53: 44762.423 | D53: 44762.423 | F53: AAA | G53: 13 | H53: 2022-4244 | I53: =IFERROR(_xlfn.XLOOKUP(H53,'SDD Statistiques offres'!G:G,'SDD Statistiques offres'!D:D),0) -> 0 | J53: =IFERROR(VLOOKUP(H53,'SDD Statistiques offres'!G:O,2,0),"") | K53: =IFERROR(VLOOKUP(H53,'SDD Statistiques offres'!G:O,5,0),"") | L53: =IFERROR(VLOOKUP(H53,'SDD Statistiques offres'!G:O,9,0),"") | M53: DDD | N53: DDD | O53: DDD | P53: A traiter | Q53: Réponse à offre | R53: =COUNTIF(H:H,H53) -> 1 | S53: =COUNTIFS(H:H,H53,P:P,"Attente retour opérationnel suite envoi CV pour avis") -> 0 | T53: =COUNTIFS(H:H,H53,P:P,"Proposition d'embauche envoyée") -> 0 | U53: =COUNTIFS(H:H,H53,P:P,"Embauché") -> 0 | V53: 44762.423 | W53: =IFERROR(V53*1,"") -> 44762.423 | X53: 44762.425 | Y53: 44762.34 | Z53: 212839 | AA53: Front Office | AB53: GGG | AC53: GGG | AD53: Recherche active | AG53: ASSISTANT(E) PAIE / ADMNISTRATION DU PERSONNE | AJ53: 212839
A54: 244817 | C54: 44762.425 | D54: 44762.425 | F54: AAA | G54: 16 | H54: 2022-4329 | I54: =IFERROR(_xlfn.XLOOKUP(H54,'SDD Statistiques offres'!G:G,'SDD Statistiques offres'!D:D),0) -> 0 | J54: =IFERROR(VLOOKUP(H54,'SDD Statistiques offres'!G:O,2,0),"") | K54: =IFERROR(VLOOKUP(H54,'SDD Statistiques offres'!G:O,5,0),"") | L54: =IFERROR(VLOOKUP(H54,'SDD Statistiques offres'!G:O,9,0),"") | M54: EEE | N54: EEE | O54: EEE | P54: A traiter | Q54: Réponse à offre | R54: =COUNTIF(H:H,H54) -> 1 | S54: =COUNTIFS(H:H,H54,P:P,"Attente retour opérationnel suite envoi CV pour avis") -> 0 | T54: =COUNTIFS(H:H,H54,P:P,"Proposition d'embauche envoyée") -> 0 | U54: =COUNTIFS(H:H,H54,P:P,"Embauché") -> 0 | V54: 44762.423 | W54: =IFERROR(V54*1,"") -> 44762.423 | X54: 44762.425 | Y54: 44762.34 | Z54: 212839 | AA54: Front Office | AB54: HHH | AC54: HHH | AD54: Recherche active | AG54: ASSISTANT(E) PAIE / ADMNISTRATION DU PERSONNE | AJ54: 212839
A55: 244818 | C55: 44762.432 | D55: 44762.432 | E55: 44762.434 | F55: AAA | G55: 12 | H55: 2022-3863 | I55: =IFERROR(_xlfn.XLOOKUP(H55,'SDD Statistiques offres'!G:G,'SDD Statistiques offres'!D:D),0) -> 0 | J55: =IFERROR(VLOOKUP(H55,'SDD Statistiques offres'!G:O,2,0),"") | K55: =IFERROR(VLOOKUP(H55,'SDD Statistiques offres'!G:O,5,0),"") | L55: =IFERROR(VLOOKUP(H55,'SDD Statistiques offres'!G:O,9,0),"") | M55: FFF | N55: FFF | O55: FFF | P55: Attente retour opérationnel suite envoi CV pour avis | Q55: Réponse à offre | R55: =COUNTIF(H:H,H55) -> 1 | S55: =COUNTIFS(H:H,H55,P:P,"Attente retour opérationnel suite envoi CV pour avis") -> 1 | T55: =COUNTIFS(H:H,H55,P:P,"Proposition d'embauche envoyée") -> 0 | U55: =COUNTIFS(H:H,H55,P:P,"Embauché") -> 0 | V55: 44762.432 | W55: =IFERROR(V55*1,"") -> 44762.432 | X55: 44762.432 | Y55: 44762.349 | Z55: 212840 | AA55: Front Office | AB55: Administrateur Administrateur | AC55: Administrateur Administrateur | AD55: Recherche active | AG55: TECHNICIEN RP | AJ55: 212840
A56: 244819 | C56: 44762.438 | D56: 44762.438 | F56: AAA | G56: 14 | H56: 2022-4719 | I56: =IFERROR(_xlfn.XLOOKUP(H56,'SDD Statistiques offres'!G:G,'SDD Statistiques offres'!D:D),0) -> 0 | J56: =IFERROR(VLOOKUP(H56,'SDD Statistiques offres'!G:O,2,0),"") | K56: =IFERROR(VLOOKUP(H56,'SDD Statistiques offres'!G:O,5,0),"") | L56: =IFERROR(VLOOKUP(H56,'SDD Statistiques offres'!G:O,9,0),"") | M56: GGG | N56: GGG | O56: GGG | P56: A traiter | Q56: Réponse à offre | R56: =COUNTIF(H:H,H56) -> 8 | S56: =COUNTIFS(H:H,H56,P:P,"Attente retour opérationnel suite envoi CV pour avis") -> 0 | T56: =COUNTIFS(H:H,H56,P:P,"Proposition d'embauche envoyée") -> 0 | U56: =COUNTIFS(H:H,H56,P:P,"Embauché") -> 0 | V56: 44762.438 | W56: =IFERROR(V56*1,"") -> 44762.438 | X56: 44762.438 | Y56: 44762.355 | Z56: 212841 | AA56: Front Office | AB56: AAA | AC56: AAA | AD56: Recherche active | AJ56: 212841
A57: 244820 | C57: 44762.441 | D57: 44762.441 | E57: 44762.454 | F57: AAA | G57: 10 | H57: 2022-4557 | I57: =IFERROR(_xlfn.XLOOKUP(H57,'SDD Statistiques offres'!G:G,'SDD Statistiques offres'!D:D),0) -> 0 | J57: =IFERROR(VLOOKUP(H57,'SDD Statistiques offres'!G:O,2,0),"") | K57: =IFERROR(VLOOKUP(H57,'SDD Statistiques offres'!G:O,5,0),"") | L57: =IFERROR(VLOOKUP(H57,'SDD Statistiques offres'!G:O,9,0),"") | M57: HHH | N57: HHH | O57: HHH | P57: Sélectionné sur CV | Q57: Réponse à offre | R57: =COUNTIF(H:H,H57) -> 1 | S57: =COUNTIFS(H:H,H57,P:P,"Attente retour opérationnel suite envoi CV pour avis") -> 0 | T57: =COUNTIFS(H:H,H57,P:P,"Proposition d'embauche envoyée") -> 0 | U57: =COUNTIFS(H:H,H57,P:P,"Embauché") -> 0 | V57: 44762.441 | W57: =IFERROR(V57*1,"") -> 44762.441 | X57: 44762.459 | Y57: 44762.357 | Z57: 212842 | AA57: Front Office | AB57: BBB | AC57: BBB | AD57: Recherche active | AG57: RESPONSABLE DEVELOPPEMENT COMMERCIAL | AJ57: 212842
A58: 244809 | C58: 44762.373 | D58: 44762.373 | F58: AAA | G58: 13 | H58: 2022-4511 | I58: =IFERROR(_xlfn.XLOOKUP(H58,'SDD Statistiques offres'!G:G,'SDD Statistiques offres'!D:D),0) -> 0 | J58: =IFERROR(VLOOKUP(H58,'SDD Statistiques offres'!G:O,2,0),"") | K58: =IFERROR(VLOOKUP(H58,'SDD Statistiques offres'!G:O,5,0),"") | L58: =IFERROR(VLOOKUP(H58,'SDD Statistiques offres'!G:O,9,0),"") | M58: AAA | N58: AAA | O58: AAA | P58: A traiter | Q58: Réponse à offre | R58: =COUNTIF(H:H,H58) -> 1 | S58: =COUNTIFS(H:H,H58,P:P,"Attente retour opérationnel suite envoi CV pour avis") -> 0 | T58: =COUNTIFS(H:H,H58,P:P,"Proposition d'embauche envoyée") -> 0 | U58: =COUNTIFS(H:H,H58,P:P,"Embauché") -> 0 | V58: 44762.373 | W58: =IFERROR(V58*1,"") -> 44762.373 | X58: 44762.373 | Y58: 44762.29 | Z58: 212835 | AA58: Front Office | AB58: CCC | AC58: CCC | AD58: Recherche active | AJ58: 212835
A59: 244810 | C59: 44762.388 | D59: 44762.388 | F59: AAA | G59: 13 | H59: 2022-4467 | I59: =IFERROR(_xlfn.XLOOKUP(H59,'SDD Statistiques offres'!G:G,'SDD Statistiques offres'!D:D),0) -> 0 | J59: =IFERROR(VLOOKUP(H59,'SDD Statistiques offres'!G:O,2,0),"") | K59: =IFERROR(VLOOKUP(H59,'SDD Statistiques offres'!G:O,5,0),"") | L59: =IFERROR(VLOOKUP(H59,'SDD Statistiques offres'!G:O,9,0),"") | M59: BBB | N59: BBB | O59: BBB | P59: A traiter | Q59: Réponse à offre | R59: =COUNTIF(H:H,H59) -> 6 | S59: =COUNTIFS(H:H,H59,P:P,"Attente retour opérationnel suite envoi CV pour avis") -> 0 | T59: =COUNTIFS(H:H,H59,P:P,"Proposition d'embauche envoyée") -> 0 | U59: =COUNTIFS(H:H,H59,P:P,"Embauché") -> 0 | V59: 44762.307 | W59: =IFERROR(V59*1,"") -> 44762.307 | X59: 44762.388 | Y59: 44762.305 | Z59: 212814 | AA59: Front Office | AB59: DDD | AC59: DDD | AD59: Recherche active | AJ59: 212814
A60: 244811 | C60: 44762.395 | D60: 44762.395 | F60: AAA | G60: 17 | H60: 2022-4499 | I60: =IFERROR(_xlfn.XLOOKUP(H60,'SDD Statistiques offres'!G:G,'SDD Statistiques offres'!D:D),0) -> 44733.426 | J60: =IFERROR(VLOOKUP(H60,'SDD Statistiques offres'!G:O,2,0),"") -> Diffusée | K60: =IFERROR(VLOOKUP(H60,'SDD Statistiques offres'!G:O,5,0),"") -> ADJOINT AU DIRECTEUR DES PROJETS H/F | L60: =IFERROR(VLOOKUP(H60,'SDD Statistiques offres'!G:O,9,0),"") -> 1077 | M60: CCC | N60: CCC | O60: CCC | P60: A traiter | Q60: Réponse à offre | R60: =COUNTIF(H:H,H60) -> 4 | S60: =COUNTIFS(H:H,H60,P:P,"Attente retour opérationnel suite envoi CV pour avis") -> 0 | T60: =COUNTIFS(H:H,H60,P:P,"Proposition d'embauche envoyée") -> 0 | U60: =COUNTIFS(H:H,H60,P:P,"Embauché") -> 0 | V60: 44655.034 | W60: =IFERROR(V60*1,"") -> 44655.034 | X60: 44762.395 | Y60: 44762.312 | Z60: 194708 | AB60: EEE | AC60: EEE | AD60: Recherche active | AG60: RESPONSABLE COMMUNICATION | AJ60: 194708
A61: 244812 | C61: 44762.396 | D61: 44762.396 | E61: 44762.411 | F61: AAA | G61: 19 | H61: 2022-4602 | I61: =IFERROR(_xlfn.XLOOKUP(H61,'SDD Statistiques offres'!G:G,'SDD Statistiques offres'!D:D),0) -> 0 | J61: =IFERROR(VLOOKUP(H61,'SDD Statistiques offres'!G:O,2,0),"") | K61: =IFERROR(VLOOKUP(H61,'SDD Statistiques offres'!G:O,5,0),"") | L61: =IFERROR(VLOOKUP(H61,'SDD Statistiques offres'!G:O,9,0),"") | M61: DDD | N61: DDD | O61: DDD | P61: Attente retour opérationnel suite envoi CV pour avis | Q61: Réponse à offre | R61: =COUNTIF(H:H,H61) -> 1 | S61: =COUNTIFS(H:H,H61,P:P,"Attente retour opérationnel suite envoi CV pour avis") -> 1 | T61: =COUNTIFS(H:H,H61,P:P,"Proposition d'embauche envoyée") -> 0 | U61: =COUNTIFS(H:H,H61,P:P,"Embauché") -> 0 | V61: 44762.396 | W61: =IFERROR(V61*1,"") -> 44762.396 | X61: 44762.396 | Y61: 44762.312 | Z61: 212836 | AA61: Front Office | AB61: FFF | AC61: FFF | AD61: Recherche active | AJ61: 212836
A62: 244813 | C62: 44762.412 | D62: 44762.412 | F62: AAA | G62: 15 | H62: 2022-4719 | I62: =IFERROR(_xlfn.XLOOKUP(H62,'SDD Statistiques offres'!G:G,'SDD Statistiques offres'!D:D),0) -> 0 | J62: =IFERROR(VLOOKUP(H62,'SDD Statistiques offres'!G:O,2,0),"") | K62: =IFERROR(VLOOKUP(H62,'SDD Statistiques offres'!G:O,5,0),"") | L62: =IFERROR(VLOOKUP(H62,'SDD Statistiques offres'!G:O,9,0),"") | M62: EEE | N62: EEE | O62: EEE | P62: A traiter | Q62: Réponse à offre | R62: =COUNTIF(H:H,H62) -> 8 | S62: =COUNTIFS(H:H,H62,P:P,"Attente retour opérationnel suite envoi CV pour avis") -> 0 | T62: =COUNTIFS(H:H,H62,P:P,"Proposition d'embauche envoyée") -> 0 | U62: =COUNTIFS(H:H,H62,P:P,"Embauché") -> 0 | V62: 44762.412 | W62: =IFERROR(V62*1,"") -> 44762.412 | X62: 44762.412 | Y62: 44762.329 | Z62: 212837 | AA62: Front Office | AB62: GGG | AC62: GGG | AD62: Recherche active | AG62: ASSISTANT(E) ADMNISTRATIF(VE) | AJ62: 212837
A63: 244814 | C63: 44762.415 | D63: 44762.415 | F63: AAA | G63: 11 | H63: 2022-4694 | I63: =IFERROR(_xlfn.XLOOKUP(H63,'SDD Statistiques offres'!G:G,'SDD Statistiques offres'!D:D),0) -> 44755.684 | J63: =IFERROR(VLOOKUP(H63,'SDD Statistiques offres'!G:O,2,0),"") -> Diffusée | K63: =IFERROR(VLOOKUP(H63,'SDD Statistiques offres'!G:O,5,0),"") -> INGENIEUR D'ETUDES H/F | L63: =IFERROR(VLOOKUP(H63,'SDD Statistiques offres'!G:O,9,0),"") -> 1062 | M63: FFF | N63: FFF | O63: FFF | P63: A traiter | Q63: Réponse à offre | R63: =COUNTIF(H:H,H63) -> 7 | S63: =COUNTIFS(H:H,H63,P:P,"Attente retour opérationnel suite envoi CV pour avis") -> 0 | T63: =COUNTIFS(H:H,H63,P:P,"Proposition d'embauche envoyée") -> 0 | U63: =COUNTIFS(H:H,H63,P:P,"Embauché") -> 0 | V63: 44518.811 | W63: =IFERROR(V63*1,"") -> 44518.811 | X63: 44762.415 | Y63: 44762.332 | Z63: 173120 | AA63: Front Office | AB63: HHH | AC63: HHH | AD63: Recherche active | AJ63: 173120
A64: 244803 | C64: 44762.349 | D64: 44762.349 | E64: 44762.362 | F64: AAA | G64: 10 | H64: 2022-4499 | I64: =IFERROR(_xlfn.XLOOKUP(H64,'SDD Statistiques offres'!G:G,'SDD Statistiques offres'!D:D),0) -> 44733.426 | J64: =IFERROR(VLOOKUP(H64,'SDD Statistiques offres'!G:O,2,0),"") -> Diffusée | K64: =IFERROR(VLOOKUP(H64,'SDD Statistiques offres'!G:O,5,0),"") -> ADJOINT AU DIRECTEUR DES PROJETS H/F | L64: =IFERROR(VLOOKUP(H64,'SDD Statistiques offres'!G:O,9,0),"") -> 1077 | M64: GGG | N64: GGG | O64: GGG | P64: Retour négatif CV | Q64: Réponse à offre | R64: =COUNTIF(H:H,H64) -> 4 | S64: =COUNTIFS(H:H,H64,P:P,"Attente retour opérationnel suite envoi CV pour avis") -> 0 | T64: =COUNTIFS(H:H,H64,P:P,"Proposition d'embauche envoyée") -> 0 | U64: =COUNTIFS(H:H,H64,P:P,"Embauché") -> 0 | V64: 44762.349 | W64: =IFERROR(V64*1,"") -> 44762.349 | X64: 44762.362 | Y64: 44762.266 | Z64: 212821 | AA64: Front Office | AB64: Administrateur Administrateur | AC64: Administrateur Administrateur | AD64: Recherche active | AJ64: 212821
A65: 244804 | C65: 44762.361 | D65: 44762.361 | F65: AAA | G65: 13 | H65: 2022-4717 | I65: =IFERROR(_xlfn.XLOOKUP(H65,'SDD Statistiques offres'!G:G,'SDD Statistiques offres'!D:D),0) -> 44761.611 | J65: =IFERROR(VLOOKUP(H65,'SDD Statistiques offres'!G:O,2,0),"") -> Diffusée | K65: =IFERROR(VLOOKUP(H65,'SDD Statistiques offres'!G:O,5,0),"") -> INGENIEUR D'ETUDES H/F | L65: =IFERROR(VLOOKUP(H65,'SDD Statistiques offres'!G:O,9,0),"") -> 1046 | M65: HHH | N65: HHH | O65: HHH | P65: A traiter | Q65: Réponse à offre | R65: =COUNTIF(H:H,H65) -> 2 | S65: =COUNTIFS(H:H,H65,P:P,"Attente retour opérationnel suite envoi CV pour avis") -> 0 | T65: =COUNTIFS(H:H,H65,P:P,"Proposition d'embauche envoyée") -> 0 | U65: =COUNTIFS(H:H,H65,P:P,"Embauché") -> 0 | V65: 44753.744 | W65: =IFERROR(V65*1,"") -> 44753.744 | X65: 44762.361 | Y65: 44762.278 | Z65: 212045 | AB65: AAA | AC65: AAA | AD65: Recherche active | AG65: CADRE DE MAINTENANCE | AJ65: 212045
A66: 244805 | C66: 44762.362 | D66: 44762.362 | F66: AAA | G66: 18 | H66: 2022-4719 | I66: =IFERROR(_xlfn.XLOOKUP(H66,'SDD Statistiques offres'!G:G,'SDD Statistiques offres'!D:D),0) -> 0 | J66: =IFERROR(VLOOKUP(H66,'SDD Statistiques offres'!G:O,2,0),"") | K66: =IFERROR(VLOOKUP(H66,'SDD Statistiques offres'!G:O,5,0),"") | L66: =IFERROR(VLOOKUP(H66,'SDD Statistiques offres'!G:O,9,0),"") | M66: AAA | N66: AAA | O66: AAA | P66: A traiter | Q66: Réponse à offre | R66: =COUNTIF(H:H,H66) -> 8 | S66: =COUNTIFS(H:H,H66,P:P,"Attente retour opérationnel suite envoi CV pour avis") -> 0 | T66: =COUNTIFS(H:H,H66,P:P,"Proposition d'embauche envoyée") -> 0 | U66: =COUNTIFS(H:H,H66,P:P,"Embauché") -> 0 | V66: 44762.362 | W66: =IFERROR(V66*1,"") -> 44762.362 | X66: 44762.362 | Y66: 44762.279 | Z66: 212831 | AA66: Front Office | AB66: BBB | AC66: BBB | AD66: Recherche active | AJ66: 212831
A67: 244806 | C67: 44762.365 | D67: 44762.365 | F67: AAA | G67: 12 | H67: 2022-4643 | I67: =IFERROR(_xlfn.XLOOKUP(H67,'SDD Statistiques offres'!G:G,'SDD Statistiques offres'!D:D),0) -> 0 | J67: =IFERROR(VLOOKUP(H67,'SDD Statistiques offres'!G:O,2,0),"") | K67: =IFERROR(VLOOKUP(H67,'SDD Statistiques offres'!G:O,5,0),"") | L67: =IFERROR(VLOOKUP(H67,'SDD Statistiques offres'!G:O,9,0),"") | M67: BBB | N67: BBB | O67: BBB | P67: A traiter | Q67: Réponse à offre | R67: =COUNTIF(H:H,H67) -> 1 | S67: =COUNTIFS(H:H,H67,P:P,"Attente retour opérationnel suite envoi CV pour avis") -> 0 | T67: =COUNTIFS(H:H,H67,P:P,"Proposition d'embauche envoyée") -> 0 | U67: =COUNTIFS(H:H,H67,P:P,"Embauché") -> 0 | V67: 44762.365 | W67: =IFERROR(V67*1,"") -> 44762.365 | X67: 44762.365 | Y67: 44762.281 | Z67: 212832 | AB67: CCC | AC67: CCC | AD67: Recherche active | AG67: AGENT D'ACCUEIL | AJ67: 212832
A68: 244807 | C68: 44762.37 | D68: 44762.37 | F68: AAA | G68: 10 | H68: 2022-4467 | I68: =IFERROR(_xlfn.XLOOKUP(H68,'SDD Statistiques offres'!G:G,'SDD Statistiques offres'!D:D),0) -> 0 | J68: =IFERROR(VLOOKUP(H68,'SDD Statistiques offres'!G:O,2,0),"") | K68: =IFERROR(VLOOKUP(H68,'SDD Statistiques offres'!G:O,5,0),"") | L68: =IFERROR(VLOOKUP(H68,'SDD Statistiques offres'!G:O,9,0),"") | M68: CCC | N68: CCC | O68: CCC | P68: A traiter | Q68: Réponse à offre | R68: =COUNTIF(H:H,H68) -> 6 | S68: =COUNTIFS(H:H,H68,P:P,"Attente retour opérationnel suite envoi CV pour avis") -> 0 | T68: =COUNTIFS(H:H,H68,P:P,"Proposition d'embauche envoyée") -> 0 | U68: =COUNTIFS(H:H,H68,P:P,"Embauché") -> 0 | V68: 44762.37 | W68: =IFERROR(V68*1,"") -> 44762.37 | X68: 44762.37 | Y68: 44762.286 | Z68: 212833 | AA68: Front Office | AB68: DDD | AC68: DDD | AD68: Recherche active | AJ68: 212833
A69: 244808 | C69: 44762.372 | D69: 44762.372 | F69: AAA | G69: 12 | H69: 2022-4467 | I69: =IFERROR(_xlfn.XLOOKUP(H69,'SDD Statistiques offres'!G:G,'SDD Statistiques offres'!D:D),0) -> 0 | J69: =IFERROR(VLOOKUP(H69,'SDD Statistiques offres'!G:O,2,0),"") | K69: =IFERROR(VLOOKUP(H69,'SDD Statistiques offres'!G:O,5,0),"") | L69: =IFERROR(VLOOKUP(H69,'SDD Statistiques offres'!G:O,9,0),"") | M69: DDD | N69: DDD | O69: DDD | P69: A traiter | Q69: Réponse à offre | R69: =COUNTIF(H:H,H69) -> 6 | S69: =COUNTIFS(H:H,H69,P:P,"Attente retour opérationnel suite envoi CV pour avis") -> 0 | T69: =COUNTIFS(H:H,H69,P:P,"Proposition d'embauche envoyée") -> 0 | U69: =COUNTIFS(H:H,H69,P:P,"Embauché") -> 0 | V69: 44762.372 | W69: =IFERROR(V69*1,"") -> 44762.372 | X69: 44762.372 | Y69: 44762.289 | Z69: 212834 | AA69: Front Office | AB69: EEE | AC69: EEE | AD69: Recherche active | AJ69: 212834
A70: 244797 | C70: 44762.337 | D70: 44762.337 | E70: 44762.469 | F70: AAA | G70: 11 | H70: 2022-4193 | I70: =IFERROR(_xlfn.XLOOKUP(H70,'SDD Statistiques offres'!G:G,'SDD Statistiques offres'!D:D),0) -> 0 | J70: =IFERROR(VLOOKUP(H70,'SDD Statistiques offres'!G:O,2,0),"") | K70: =IFERROR(VLOOKUP(H70,'SDD Statistiques offres'!G:O,5,0),"") | L70: =IFERROR(VLOOKUP(H70,'SDD Statistiques offres'!G:O,9,0),"") | M70: EEE | N70: EEE | O70: EEE | P70: Retour négatif CV | Q70: Réponse à offre | R70: =COUNTIF(H:H,H70) -> 2 | S70: =COUNTIFS(H:H,H70,P:P,"Attente retour opérationnel suite envoi CV pour avis") -> 0 | T70: =COUNTIFS(H:H,H70,P:P,"Proposition d'embauche envoyée") -> 0 | U70: =COUNTIFS(H:H,H70,P:P,"Embauché") -> 0 | V70: 44762.337 | W70: =IFERROR(V70*1,"") -> 44762.337 | X70: 44762.469 | Y70: 44762.253 | Z70: 212818 | AA70: Front Office | AB70: FFF | AC70: FFF | AD70: Recherche active | AG70: ASSISTANT(E) PAIE / ADMNISTRATION DU PERSONNE | AJ70: 212818
A71: 244798 | C71: 44762.338 | D71: 44762.338 | E71: 44762.355 | F71: AAA | G71: 12 | H71: 2022-4423 | I71: =IFERROR(_xlfn.XLOOKUP(H71,'SDD Statistiques offres'!G:G,'SDD Statistiques offres'!D:D),0) -> 44721.639 | J71: =IFERROR(VLOOKUP(H71,'SDD Statistiques offres'!G:O,2,0),"") -> Diffusée | K71: =IFERROR(VLOOKUP(H71,'SDD Statistiques offres'!G:O,5,0),"") -> INGENIEUR D'ETUDES H/F | L71: =IFERROR(VLOOKUP(H71,'SDD Statistiques offres'!G:O,9,0),"") -> 1034 | M71: FFF | N71: FFF | O71: FFF | P71: Retour négatif CV | Q71: Réponse à offre | R71: =COUNTIF(H:H,H71) -> 1 | S71: =COUNTIFS(H:H,H71,P:P,"Attente retour opérationnel suite envoi CV pour avis") -> 0 | T71: =COUNTIFS(H:H,H71,P:P,"Proposition d'embauche envoyée") -> 0 | U71: =COUNTIFS(H:H,H71,P:P,"Embauché") -> 0 | V71: 44762.338 | W71: =IFERROR(V71*1,"") -> 44762.338 | X71: 44762.355 | Y71: 44762.255 | Z71: 212819 | AA71: Front Office | AB71: GGG | AC71: GGG | AD71: Recherche active | AJ71: 212819
A72: 244799 | C72: 44762.339 | D72: 44762.339 | E72: 44762.339 | F72: AAA | G72: 13 | I72: =IFERROR(_xlfn.XLOOKUP(H72,'SDD Statistiques offres'!G:G,'SDD Statistiques offres'!D:D),0) -> 0 | J72: =IFERROR(VLOOKUP(H72,'SDD Statistiques offres'!G:O,2,0),"") | K72: =IFERROR(VLOOKUP(H72,'SDD Statistiques offres'!G:O,5,0),"") | L72: =IFERROR(VLOOKUP(H72,'SDD Statistiques offres'!G:O,9,0),"") | M72: GGG | N72: GGG | O72: GGG | P72: A traiter | Q72: Candidature spontanée | R72: =COUNTIF(H:H,H72) -> 1048435 | S72: =COUNTIFS(H:H,H72,P:P,"Attente retour opérationnel suite envoi CV pour avis") -> 0 | T72: =COUNTIFS(H:H,H72,P:P,"Proposition d'embauche envoyée") -> 0 | U72: =COUNTIFS(H:H,H72,P:P,"Embauché") -> 0 | V72: 44762.339 | W72: =IFERROR(V72*1,"") -> 44762.339 | X72: 44762.346 | Y72: 44762.256 | Z72: 212820 | AA72: Front Office | AB72: HHH | AC72: HHH | AD72: Recherche active | AG72: CHARGE(E) DE MISSION RH | AJ72: 212820
A73: 244800 | C73: 44762.345 | D73: 44762.345 | F73: AAA | G73: 13 | H73: 2022-4044 | I73: =IFERROR(_xlfn.XLOOKUP(H73,'SDD Statistiques offres'!G:G,'SDD Statistiques offres'!D:D),0) -> 44651.626 | J73: =IFERROR(VLOOKUP(H73,'SDD Statistiques offres'!G:O,2,0),"") -> Diffusée | K73: =IFERROR(VLOOKUP(H73,'SDD Statistiques offres'!G:O,5,0),"") -> INGENIEUR D'ETUDES H/F | L73: =IFERROR(VLOOKUP(H73,'SDD Statistiques offres'!G:O,9,0),"") -> 1026 | M73: HHH | N73: HHH | O73: HHH | P73: A traiter | Q73: Réponse à offre | R73: =COUNTIF(H:H,H73) -> 2 | S73: =COUNTIFS(H:H,H73,P:P,"Attente retour opérationnel suite envoi CV pour avis") -> 0 | T73: =COUNTIFS(H:H,H73,P:P,"Proposition d'embauche envoyée") -> 0 | U73: =COUNTIFS(H:H,H73,P:P,"Embauché") -> 0 | V73: 44132.494 | W73: =IFERROR(V73*1,"") -> 44132.494 | X73: 44762.345 | Y73: 44762.261 | Z73: 131462 | AA73: Front Office | AB73: Administrateur Administrateur | AC73: Administrateur Administrateur | AD73: Recherche active | AJ73: 131462
A74: 244801 | C74: 44762.345 | D74: 44762.345 | F74: AAA | G74: 16 | H74: 2022-4197 | I74: =IFERROR(_xlfn.XLOOKUP(H74,'SDD Statistiques offres'!G:G,'SDD Statistiques offres'!D:D),0) -> 0 | J74: =IFERROR(VLOOKUP(H74,'SDD Statistiques offres'!G:O,2,0),"") | K74: =IFERROR(VLOOKUP(H74,'SDD Statistiques offres'!G:O,5,0),"") | L74: =IFERROR(VLOOKUP(H74,'SDD Statistiques offres'!G:O,9,0),"") | M74: AAA | N74: AAA | O74: AAA | P74: A traiter | Q74: Réponse à offre | R74: =COUNTIF(H:H,H74) -> 1 | S74: =COUNTIFS(H:H,H74,P:P,"Attente retour opérationnel suite envoi CV pour avis") -> 0 | T74: =COUNTIFS(H:H,H74,P:P,"Proposition d'embauche envoyée") -> 0 | U74: =COUNTIFS(H:H,H74,P:P,"Embauché") -> 0 | V74: 44762.339 | W74: =IFERROR(V74*1,"") -> 44762.339 | X74: 44762.346 | Y74: 44762.256 | Z74: 212820 | AA74: Front Office | AB74: AAA | AC74: AAA | AD74: Recherche active | AG74: CHARGE(E) DE MISSION RH | AJ74: 212820
A75: 244802 | C75: 44762.346 | D75: 44762.346 | F75: AAA | G75: 10 | H75: 2022-4628 | I75: =IFERROR(_xlfn.XLOOKUP(H75,'SDD Statistiques offres'!G:G,'SDD Statistiques offres'!D:D),0) -> 0 | J75: =IFERROR(VLOOKUP(H75,'SDD Statistiques offres'!G:O,2,0),"") | K75: =IFERROR(VLOOKUP(H75,'SDD Statistiques offres'!G:O,5,0),"") | L75: =IFERROR(VLOOKUP(H75,'SDD Statistiques offres'!G:O,9,0),"") | M75: BBB | N75: BBB | O75: BBB | P75: A traiter | Q75: Réponse à offre | R75: =COUNTIF(H:H,H75) -> 6 | S75: =COUNTIFS(H:H,H75,P:P,"Attente retour opérationnel suite envoi CV pour avis") -> 0 | T75: =COUNTIFS(H:H,H75,P:P,"Proposition d'embauche envoyée") -> 0 | U75: =COUNTIFS(H:H,H75,P:P,"Embauché") -> 0 | V75: 44762.339 | W75: =IFERROR(V75*1,"") -> 44762.339 | X75: 44762.346 | Y75: 44762.256 | Z75: 212820 | AA75: Front Office | AB75: BBB | AC75: BBB | AD75: Recherche active | AG75: CHARGE(E) DE MISSION RH | AJ75: 212820
A76: 244791 | C76: 44762.304 | D76: 44762.304 | F76: AAA | G76: 15 | H76: 2022-4712 | I76: =IFERROR(_xlfn.XLOOKUP(H76,'SDD Statistiques offres'!G:G,'SDD Statistiques offres'!D:D),0) -> 0 | J76: =IFERROR(VLOOKUP(H76,'SDD Statistiques offres'!G:O,2,0),"") | K76: =IFERROR(VLOOKUP(H76,'SDD Statistiques offres'!G:O,5,0),"") | L76: =IFERROR(VLOOKUP(H76,'SDD Statistiques offres'!G:O,9,0),"") | M76: CCC | N76: CCC | O76: CCC | P76: A traiter | Q76: Réponse à offre | R76: =COUNTIF(H:H,H76) -> 1 | S76: =COUNTIFS(H:H,H76,P:P,"Attente retour opérationnel suite envoi CV pour avis") -> 0 | T76: =COUNTIFS(H:H,H76,P:P,"Proposition d'embauche envoyée") -> 0 | U76: =COUNTIFS(H:H,H76,P:P,"Embauché") -> 0 | V76: 44762.304 | W76: =IFERROR(V76*1,"") -> 44762.304 | X76: 44762.304 | Y76: 44762.221 | Z76: 212813 | AA76: Front Office | AB76: CCC | AC76: CCC | AD76: Recherche active | AJ76: 212813
A77: 244792 | C77: 44762.305 | D77: 44762.305 | F77: AAA | G77: 17 | H77: 2022-4353 | I77: =IFERROR(_xlfn.XLOOKUP(H77,'SDD Statistiques offres'!G:G,'SDD Statistiques offres'!D:D),0) -> 44705.504 | J77: =IFERROR(VLOOKUP(H77,'SDD Statistiques offres'!G:O,2,0),"") -> Diffusée | K77: =IFERROR(VLOOKUP(H77,'SDD Statistiques offres'!G:O,5,0),"") -> OPERATEUR AMIANTE ACQPA H/F | L77: =IFERROR(VLOOKUP(H77,'SDD Statistiques offres'!G:O,9,0),"") -> 1071 | M77: DDD | N77: DDD | O77: DDD | P77: A traiter | Q77: Réponse à offre | R77: =COUNTIF(H:H,H77) -> 1 | S77: =COUNTIFS(H:H,H77,P:P,"Attente retour opérationnel suite envoi CV pour avis") -> 0 | T77: =COUNTIFS(H:H,H77,P:P,"Proposition d'embauche envoyée") -> 0 | U77: =COUNTIFS(H:H,H77,P:P,"Embauché") -> 0 | V77: 44012.702 | W77: =IFERROR(V77*1,"") -> 44012.702 | X77: 44762.305 | Y77: 44762.222 | Z77: 117006 | AA77: Front Office | AB77: DDD | AC77: DDD | AD77: Recherche active | AJ77: 117006
A78: 244793 | C78: 44762.307 | D78: 44762.307 | F78: AAA | G78: 10 | H78: 2022-4563 | I78: =IFERROR(_xlfn.XLOOKUP(H78,'SDD Statistiques offres'!G:G,'SDD Statistiques offres'!D:D),0) -> 0 | J78: =IFERROR(VLOOKUP(H78,'SDD Statistiques offres'!G:O,2,0),"") | K78: =IFERROR(VLOOKUP(H78,'SDD Statistiques offres'!G:O,5,0),"") | L78: =IFERROR(VLOOKUP(H78,'SDD Statistiques offres'!G:O,9,0),"") | M78: EEE | N78: EEE | O78: EEE | P78: A traiter | Q78: Réponse à offre | R78: =COUNTIF(H:H,H78) -> 1 | S78: =COUNTIFS(H:H,H78,P:P,"Attente retour opérationnel suite envoi CV pour avis") -> 0 | T78: =COUNTIFS(H:H,H78,P:P,"Proposition d'embauche envoyée") -> 0 | U78: =COUNTIFS(H:H,H78,P:P,"Embauché") -> 0 | V78: 44762.307 | W78: =IFERROR(V78*1,"") -> 44762.307 | X78: 44762.388 | Y78: 44762.305 | Z78: 212814 | AA78: Front Office | AB78: EEE | AC78: EEE | AD78: Recherche active | AJ78: 212814
A79: 244794 | C79: 44762.309 | D79: 44762.309 | F79: AAA | G79: 12 | H79: 2022-4193 | I79: =IFERROR(_xlfn.XLOOKUP(H79,'SDD Statistiques offres'!G:G,'SDD Statistiques offres'!D:D),0) -> 0 | J79: =IFERROR(VLOOKUP(H79,'SDD Statistiques offres'!G:O,2,0),"") | K79: =IFERROR(VLOOKUP(H79,'SDD Statistiques offres'!G:O,5,0),"") | L79: =IFERROR(VLOOKUP(H79,'SDD Statistiques offres'!G:O,9,0),"") | M79: FFF | N79: FFF | O79: FFF | P79: A traiter | Q79: Réponse à offre | R79: =COUNTIF(H:H,H79) -> 2 | S79: =COUNTIFS(H:H,H79,P:P,"Attente retour opérationnel suite envoi CV pour avis") -> 0 | T79: =COUNTIFS(H:H,H79,P:P,"Proposition d'embauche envoyée") -> 0 | U79: =COUNTIFS(H:H,H79,P:P,"Embauché") -> 0 | V79: 44762.309 | W79: =IFERROR(V79*1,"") -> 44762.309 | X79: 44762.309 | Y79: 44762.226 | Z79: 212815 | AA79: Front Office | AB79: FFF | AC79: FFF | AD79: Recherche active | AJ79: 212815
A80: 244795 | C80: 44762.322 | D80: 44762.322 | F80: AAA | G80: 19 | H80: 2022-3697 | I80: =IFERROR(_xlfn.XLOOKUP(H80,'SDD Statistiques offres'!G:G,'SDD Statistiques offres'!D:D),0) -> 0 | J80: =IFERROR(VLOOKUP(H80,'SDD Statistiques offres'!G:O,2,0),"") | K80: =IFERROR(VLOOKUP(H80,'SDD Statistiques offres'!G:O,5,0),"") | L80: =IFERROR(VLOOKUP(H80,'SDD Statistiques offres'!G:O,9,0),"") | M80: GGG | N80: GGG | O80: GGG | P80: A traiter | Q80: Réponse à offre | R80: =COUNTIF(H:H,H80) -> 1 | S80: =COUNTIFS(H:H,H80,P:P,"Attente retour opérationnel suite envoi CV pour avis") -> 0 | T80: =COUNTIFS(H:H,H80,P:P,"Proposition d'embauche envoyée") -> 0 | U80: =COUNTIFS(H:H,H80,P:P,"Embauché") -> 0 | V80: 44762.322 | W80: =IFERROR(V80*1,"") -> 44762.322 | X80: 44762.322 | Y80: 44762.239 | Z80: 212816 | AA80: Front Office | AB80: GGG | AC80: GGG | AD80: Recherche active | AJ80: 212816
A81: 244796 | C81: 44762.331 | D81: 44762.331 | F81: AAA | G81: 19 | H81: 2022-4467 | I81: =IFERROR(_xlfn.XLOOKUP(H81,'SDD Statistiques offres'!G:G,'SDD Statistiques offres'!D:D),0) -> 0 | J81: =IFERROR(VLOOKUP(H81,'SDD Statistiques offres'!G:O,2,0),"") | K81: =IFERROR(VLOOKUP(H81,'SDD Statistiques offres'!G:O,5,0),"") | L81: =IFERROR(VLOOKUP(H81,'SDD Statistiques offres'!G:O,9,0),"") | M81: HHH | N81: HHH | O81: HHH | P81: A traiter | Q81: Réponse à offre | R81: =COUNTIF(H:H,H81) -> 6 | S81: =COUNTIFS(H:H,H81,P:P,"Attente retour opérationnel suite envoi CV pour avis") -> 0 | T81: =COUNTIFS(H:H,H81,P:P,"Proposition d'embauche envoyée") -> 0 | U81: =COUNTIFS(H:H,H81,P:P,"Embauché") -> 0 | V81: 44762.331 | W81: =IFERROR(V81*1,"") -> 44762.331 | X81: 44762.331 | Y81: 44762.247 | Z81: 212817 | AA81: Front Office | AB81: HHH | AC81: HHH | AD81: Recherche active | AJ81: 212817
A82: 244785 | C82: 44762.265 | D82: 44762.265 | F82: AAA | G82: 10 | H82: 2022-4480 | I82: =IFERROR(_xlfn.XLOOKUP(H82,'SDD Statistiques offres'!G:G,'SDD Statistiques offres'!D:D),0) -> 44732.633 | J82: =IFERROR(VLOOKUP(H82,'SDD Statistiques offres'!G:O,2,0),"") -> Diffusée | K82: =IFERROR(VLOOKUP(H82,'SDD Statistiques offres'!G:O,5,0),"") -> INGENIEUR D'ETUDES H/F | L82: =IFERROR(VLOOKUP(H82,'SDD Statistiques offres'!G:O,9,0),"") -> 1009 | M82: AAA | N82: AAA | O82: AAA | P82: A traiter | Q82: Réponse à offre | R82: =COUNTIF(H:H,H82) -> 1 | S82: =COUNTIFS(H:H,H82,P:P,"Attente retour opérationnel suite envoi CV pour avis") -> 0 | T82: =COUNTIFS(H:H,H82,P:P,"Proposition d'embauche envoyée") -> 0 | U82: =COUNTIFS(H:H,H82,P:P,"Embauché") -> 0 | V82: 44437.823 | W82: =IFERROR(V82*1,"") -> 44437.823 | X82: 44762.265 | Y82: 44762.181 | Z82: 159926 | AB82: Administrateur Administrateur | AC82: Administrateur Administrateur | AD82: Recherche active | AG82: EXPERT TECHNIQUE | AJ82: 159926
A83: 244786 | C83: 44762.265 | D83: 44762.265 | E83: 44762.421 | F83: AAA | G83: 13 | H83: 2022-4612 | I83: =IFERROR(_xlfn.XLOOKUP(H83,'SDD Statistiques offres'!G:G,'SDD Statistiques offres'!D:D),0) -> 0 | J83: =IFERROR(VLOOKUP(H83,'SDD Statistiques offres'!G:O,2,0),"") | K83: =IFERROR(VLOOKUP(H83,'SDD Statistiques offres'!G:O,5,0),"") | L83: =IFERROR(VLOOKUP(H83,'SDD Statistiques offres'!G:O,9,0),"") | M83: BBB | N83: BBB | O83: BBB | P83: Sélectionné sur CV | Q83: Réponse à offre | R83: =COUNTIF(H:H,H83) -> 1 | S83: =COUNTIFS(H:H,H83,P:P,"Attente retour opérationnel suite envoi CV pour avis") -> 0 | T83: =COUNTIFS(H:H,H83,P:P,"Proposition d'embauche envoyée") -> 0 | U83: =COUNTIFS(H:H,H83,P:P,"Embauché") -> 0 | V83: 44762.265 | W83: =IFERROR(V83*1,"") -> 44762.265 | X83: 44762.265 | Y83: 44762.182 | Z83: 212809 | AA83: Front Office | AB83: AAA | AC83: AAA | AD83: Recherche active | AJ83: 212809
A84: 244787 | C84: 44762.277 | D84: 44762.277 | F84: AAA | G84: 13 | H84: 2022-4719 | I84: =IFERROR(_xlfn.XLOOKUP(H84,'SDD Statistiques offres'!G:G,'SDD Statistiques offres'!D:D),0) -> 0 | J84: =IFERROR(VLOOKUP(H84,'SDD Statistiques offres'!G:O,2,0),"") | K84: =IFERROR(VLOOKUP(H84,'SDD Statistiques offres'!G:O,5,0),"") | L84: =IFERROR(VLOOKUP(H84,'SDD Statistiques offres'!G:O,9,0),"") | M84: CCC | N84: CCC | O84: CCC | P84: A traiter | Q84: Réponse à offre | R84: =COUNTIF(H:H,H84) -> 8 | S84: =COUNTIFS(H:H,H84,P:P,"Attente retour opérationnel suite envoi CV pour avis") -> 0 | T84: =COUNTIFS(H:H,H84,P:P,"Proposition d'embauche envoyée") -> 0 | U84: =COUNTIFS(H:H,H84,P:P,"Embauché") -> 0 | V84: 44762.277 | W84: =IFERROR(V84*1,"") -> 44762.277 | X84: 44762.277 | Y84: 44762.193 | Z84: 212810 | AA84: Front Office | AB84: BBB | AC84: BBB | AD84: Recherche active | AJ84: 212810
A85: 244788 | C85: 44762.29 | D85: 44762.29 | F85: AAA | G85: 11 | H85: 2022-4449 | I85: =IFERROR(_xlfn.XLOOKUP(H85,'SDD Statistiques offres'!G:G,'SDD Statistiques offres'!D:D),0) -> 44728.444 | J85: =IFERROR(VLOOKUP(H85,'SDD Statistiques offres'!G:O,2,0),"") -> Diffusée | K85: =IFERROR(VLOOKUP(H85,'SDD Statistiques offres'!G:O,5,0),"") -> AGENT TECHNIQUE H/F | L85: =IFERROR(VLOOKUP(H85,'SDD Statistiques offres'!G:O,9,0),"") -> 1057 | M85: DDD | N85: DDD | O85: DDD | P85: A traiter | Q85: Réponse à offre | R85: =COUNTIF(H:H,H85) -> 3 | S85: =COUNTIFS(H:H,H85,P:P,"Attente retour opérationnel suite envoi CV pour avis") -> 0 | T85: =COUNTIFS(H:H,H85,P:P,"Proposition d'embauche envoyée") -> 0 | U85: =COUNTIFS(H:H,H85,P:P,"Embauché") -> 0 | V85: 44762.29 | W85: =IFERROR(V85*1,"") -> 44762.29 | X85: 44762.29 | Y85: 44762.207 | Z85: 212811 | AA85: Front Office | AB85: CCC | AC85: CCC | AD85: Recherche active | AJ85: 212811
A86: 244789 | C86: 44762.3 | D86: 44762.3 | F86: AAA | G86: 15 | H86: 2022-4529 | I86: =IFERROR(_xlfn.XLOOKUP(H86,'SDD Statistiques offres'!G:G,'SDD Statistiques offres'!D:D),0) -> 0 | J86: =IFERROR(VLOOKUP(H86,'SDD Statistiques offres'!G:O,2,0),"") | K86: =IFERROR(VLOOKUP(H86,'SDD Statistiques offres'!G:O,5,0),"") | L86: =IFERROR(VLOOKUP(H86,'SDD Statistiques offres'!G:O,9,0),"") | M86: EEE | N86: EEE | O86: EEE | P86: A traiter | Q86: Réponse à offre | R86: =COUNTIF(H:H,H86) -> 3 | S86: =COUNTIFS(H:H,H86,P:P,"Attente retour opérationnel suite envoi CV pour avis") -> 0 | T86: =COUNTIFS(H:H,H86,P:P,"Proposition d'embauche envoyée") -> 0 | U86: =COUNTIFS(H:H,H86,P:P,"Embauché") -> 0 | V86: 44754.911 | W86: =IFERROR(V86*1,"") -> 44754.911 | X86: 44762.3 | Y86: 44762.217 | Z86: 212140 | AA86: Front Office | AB86: DDD | AC86: DDD | AD86: Recherche active | AJ86: 212140
A87: 244790 | C87: 44762.301 | D87: 44762.301 | F87: AAA | G87: 10 | H87: 2022-4628 | I87: =IFERROR(_xlfn.XLOOKUP(H87,'SDD Statistiques offres'!G:G,'SDD Statistiques offres'!D:D),0) -> 0 | J87: =IFERROR(VLOOKUP(H87,'SDD Statistiques offres'!G:O,2,0),"") | K87: =IFERROR(VLOOKUP(H87,'SDD Statistiques offres'!G:O,5,0),"") | L87: =IFERROR(VLOOKUP(H87,'SDD Statistiques offres'!G:O,9,0),"") | M87: FFF | N87: FFF | O87: FFF | P87: A traiter | Q87: Réponse à offre | R87: =COUNTIF(H:H,H87) -> 6 | S87: =COUNTIFS(H:H,H87,P:P,"Attente retour opérationnel suite envoi CV pour avis") -> 0 | T87: =COUNTIFS(H:H,H87,P:P,"Proposition d'embauche envoyée") -> 0 | U87: =COUNTIFS(H:H,H87,P:P,"Embauché") -> 0 | V87: 44762.301 | W87: =IFERROR(V87*1,"") -> 44762.301 | X87: 44762.301 | Y87: 44762.218 | Z87: 212812 | AA87: Front Office | AB87: EEE | AC87: EEE | AD87: Recherche active | AJ87: 212812
A88: 244779 | C88: 44762.202 | D88: 44762.202 | F88: AAA | G88: 12 | H88: 2022-4704 | I88: =IFERROR(_xlfn.XLOOKUP(H88,'SDD Statistiques offres'!G:G,'SDD Statistiques offres'!D:D),0) -> 0 | J88: =IFERROR(VLOOKUP(H88,'SDD Statistiques offres'!G:O,2,0),"") | K88: =IFERROR(VLOOKUP(H88,'SDD Statistiques offres'!G:O,5,0),"") | L88: =IFERROR(VLOOKUP(H88,'SDD Statistiques offres'!G:O,9,0),"") | M88: GGG | N88: GGG | O88: GGG | P88: A traiter | Q88: Réponse à offre | R88: =COUNTIF(H:H,H88) -> 1 | S88: =COUNTIFS(H:H,H88,P:P,"Attente retour opérationnel suite envoi CV pour avis") -> 0 | T88: =COUNTIFS(H:H,H88,P:P,"Proposition d'embauche envoyée") -> 0 | U88: =COUNTIFS(H:H,H88,P:P,"Embauché") -> 0 | V88: 44762.202 | W88: =IFERROR(V88*1,"") -> 44762.202 | X88: 44762.202 | Y88: 44762.119 | Z88: 212805 | AA88: Front Office | AB88: FFF | AC88: FFF | AD88: Recherche active | AJ88: 212805
A89: 244780 | C89: 44762.213 | D89: 44762.213 | F89: AAA | G89: 11 | H89: 2022-4707 | I89: =IFERROR(_xlfn.XLOOKUP(H89,'SDD Statistiques offres'!G:G,'SDD Statistiques offres'!D:D),0) -> 0 | J89: =IFERROR(VLOOKUP(H89,'SDD Statistiques offres'!G:O,2,0),"") | K89: =IFERROR(VLOOKUP(H89,'SDD Statistiques offres'!G:O,5,0),"") | L89: =IFERROR(VLOOKUP(H89,'SDD Statistiques offres'!G:O,9,0),"") | M89: HHH | N89: HHH | O89: HHH | P89: A traiter | Q89: Réponse à offre | R89: =COUNTIF(H:H,H89) -> 8 | S89: =COUNTIFS(H:H,H89,P:P,"Attente retour opérationnel suite envoi CV pour avis") -> 0 | T89: =COUNTIFS(H:H,H89,P:P,"Proposition d'embauche envoyée") -> 0 | U89: =COUNTIFS(H:H,H89,P:P,"Embauché") -> 0 | V89: 44707.831 | W89: =IFERROR(V89*1,"") -> 44707.831 | X89: 44762.213 | Y89: 44762.13 | Z89: 206647 | AB89: GGG | AC89: GGG | AD89: Recherche active | AG89: CHEF DE SITE | AJ89: 206647
A90: 244781 | C90: 44762.214 | D90: 44762.214 | F90: AAA | G90: 12 | H90: 2022-4546 | I90: =IFERROR(_xlfn.XLOOKUP(H90,'SDD Statistiques offres'!G:G,'SDD Statistiques offres'!D:D),0) -> 0 | J90: =IFERROR(VLOOKUP(H90,'SDD Statistiques offres'!G:O,2,0),"") | K90: =IFERROR(VLOOKUP(H90,'SDD Statistiques offres'!G:O,5,0),"") | L90: =IFERROR(VLOOKUP(H90,'SDD Statistiques offres'!G:O,9,0),"") | M90: AAA | N90: AAA | O90: AAA | P90: A traiter | Q90: Réponse à offre | R90: =COUNTIF(H:H,H90) -> 4 | S90: =COUNTIFS(H:H,H90,P:P,"Attente retour opérationnel suite envoi CV pour avis") -> 0 | T90: =COUNTIFS(H:H,H90,P:P,"Proposition d'embauche envoyée") -> 0 | U90: =COUNTIFS(H:H,H90,P:P,"Embauché") -> 0 | V90: 44762.214 | W90: =IFERROR(V90*1,"") -> 44762.214 | X90: 44762.214 | Y90: 44762.13 | Z90: 212806 | AA90: Front Office | AB90: HHH | AC90: HHH | AD90: Recherche active | AJ90: 212806
A91: 244782 | C91: 44762.253 | D91: 44762.253 | E91: 44762.362 | F91: AAA | G91: 17 | H91: 2022-4499 | I91: =IFERROR(_xlfn.XLOOKUP(H91,'SDD Statistiques offres'!G:G,'SDD Statistiques offres'!D:D),0) -> 44733.426 | J91: =IFERROR(VLOOKUP(H91,'SDD Statistiques offres'!G:O,2,0),"") -> Diffusée | K91: =IFERROR(VLOOKUP(H91,'SDD Statistiques offres'!G:O,5,0),"") -> ADJOINT AU DIRECTEUR DES PROJETS H/F | L91: =IFERROR(VLOOKUP(H91,'SDD Statistiques offres'!G:O,9,0),"") -> 1077 | M91: BBB | N91: BBB | O91: BBB | P91: Retour négatif CV | Q91: Réponse à offre | R91: =COUNTIF(H:H,H91) -> 4 | S91: =COUNTIFS(H:H,H91,P:P,"Attente retour opérationnel suite envoi CV pour avis") -> 0 | T91: =COUNTIFS(H:H,H91,P:P,"Proposition d'embauche envoyée") -> 0 | U91: =COUNTIFS(H:H,H91,P:P,"Embauché") -> 0 | V91: 44762.253 | W91: =IFERROR(V91*1,"") -> 44762.253 | X91: 44762.362 | Y91: 44762.17 | Z91: 212807 | AA91: Front Office | AB91: Administrateur Administrateur | AC91: Administrateur Administrateur | AD91: Recherche active | AJ91: 212807
A92: 244783 | C92: 44762.259 | D92: 44762.259 | E92: 44762.362 | F92: AAA | G92: 10 | H92: 2022-4499 | I92: =IFERROR(_xlfn.XLOOKUP(H92,'SDD Statistiques offres'!G:G,'SDD Statistiques offres'!D:D),0) -> 44733.426 | J92: =IFERROR(VLOOKUP(H92,'SDD Statistiques offres'!G:O,2,0),"") -> Diffusée | K92: =IFERROR(VLOOKUP(H92,'SDD Statistiques offres'!G:O,5,0),"") -> ADJOINT AU DIRECTEUR DES PROJETS H/F | L92: =IFERROR(VLOOKUP(H92,'SDD Statistiques offres'!G:O,9,0),"") -> 1077 | M92: CCC | N92: CCC | O92: CCC | P92: Retour négatif CV | Q92: Réponse à offre | R92: =COUNTIF(H:H,H92) -> 4 | S92: =COUNTIFS(H:H,H92,P:P,"Attente retour opérationnel suite envoi CV pour avis") -> 0 | T92: =COUNTIFS(H:H,H92,P:P,"Proposition d'embauche envoyée") -> 0 | U92: =COUNTIFS(H:H,H92,P:P,"Embauché") -> 0 | V92: 44762.259 | W92: =IFERROR(V92*1,"") -> 44762.259 | X92: 44762.362 | Y92: 44762.176 | Z92: 212808 | AA92: Front Office | AB92: AAA | AC92: AAA | AD92: Recherche active | AJ92: 212808
A93: 244784 | C93: 44762.261 | D93: 44762.261 | F93: AAA | G93: 10 | H93: 2022-4449 | I93: =IFERROR(_xlfn.XLOOKUP(H93,'SDD Statistiques offres'!G:G,'SDD Statistiques offres'!D:D),0) -> 44728.444 | J93: =IFERROR(VLOOKUP(H93,'SDD Statistiques offres'!G:O,2,0),"") -> Diffusée | K93: =IFERROR(VLOOKUP(H93,'SDD Statistiques offres'!G:O,5,0),"") -> AGENT TECHNIQUE H/F | L93: =IFERROR(VLOOKUP(H93,'SDD Statistiques offres'!G:O,9,0),"") -> 1057 | M93: DDD | N93: DDD | O93: DDD | P93: A traiter | Q93: Réponse à offre | R93: =COUNTIF(H:H,H93) -> 3 | S93: =COUNTIFS(H:H,H93,P:P,"Attente retour opérationnel suite envoi CV pour avis") -> 0 | T93: =COUNTIFS(H:H,H93,P:P,"Proposition d'embauche envoyée") -> 0 | U93: =COUNTIFS(H:H,H93,P:P,"Embauché") -> 0 | V93: 43242.742 | W93: =IFERROR(V93*1,"") -> 43242.742 | X93: 44762.261 | Y93: 44762.178 | Z93: 51748 | AA93: Back Office | AB93: BBB | AC93: BBB | AD93: Recherche active | AG93: COORDINATEUR QSE | AH93: France | AJ93: 51748
A94: 244773 | C94: 44762.145 | D94: 44762.145 | F94: AAA | G94: 13 | H94: 2022-4628 | I94: =IFERROR(_xlfn.XLOOKUP(H94,'SDD Statistiques offres'!G:G,'SDD Statistiques offres'!D:D),0) -> 0 | J94: =IFERROR(VLOOKUP(H94,'SDD Statistiques offres'!G:O,2,0),"") | K94: =IFERROR(VLOOKUP(H94,'SDD Statistiques offres'!G:O,5,0),"") | L94: =IFERROR(VLOOKUP(H94,'SDD Statistiques offres'!G:O,9,0),"") | M94: EEE | N94: EEE | O94: EEE | P94: A traiter | Q94: Réponse à offre | R94: =COUNTIF(H:H,H94) -> 6 | S94: =COUNTIFS(H:H,H94,P:P,"Attente retour opérationnel suite envoi CV pour avis") -> 0 | T94: =COUNTIFS(H:H,H94,P:P,"Proposition d'embauche envoyée") -> 0 | U94: =COUNTIFS(H:H,H94,P:P,"Embauché") -> 0 | V94: 44762.145 | W94: =IFERROR(V94*1,"") -> 44762.145 | X94: 44762.145 | Y94: 44762.062 | Z94: 212799 | AA94: Front Office | AB94: CCC | AC94: CCC | AD94: Recherche active | AJ94: 212799
A95: 244774 | C95: 44762.156 | D95: 44762.156 | F95: AAA | G95: 12 | H95: 2022-4182 | I95: =IFERROR(_xlfn.XLOOKUP(H95,'SDD Statistiques offres'!G:G,'SDD Statistiques offres'!D:D),0) -> 0 | J95: =IFERROR(VLOOKUP(H95,'SDD Statistiques offres'!G:O,2,0),"") | K95: =IFERROR(VLOOKUP(H95,'SDD Statistiques offres'!G:O,5,0),"") | L95: =IFERROR(VLOOKUP(H95,'SDD Statistiques offres'!G:O,9,0),"") | M95: FFF | N95: FFF | O95: FFF | P95: A traiter | Q95: Réponse à offre | R95: =COUNTIF(H:H,H95) -> 2 | S95: =COUNTIFS(H:H,H95,P:P,"Attente retour opérationnel suite envoi CV pour avis") -> 0 | T95: =COUNTIFS(H:H,H95,P:P,"Proposition d'embauche envoyée") -> 0 | U95: =COUNTIFS(H:H,H95,P:P,"Embauché") -> 0 | V95: 44762.156 | W95: =IFERROR(V95*1,"") -> 44762.156 | X95: 44762.156 | Y95: 44762.072 | Z95: 212800 | AA95: Front Office | AB95: DDD | AC95: DDD | AD95: Recherche active | AJ95: 212800
A96: 244775 | C96: 44762.169 | D96: 44762.169 | F96: AAA | G96: 16 | H96: 2022-4338 | I96: =IFERROR(_xlfn.XLOOKUP(H96,'SDD Statistiques offres'!G:G,'SDD Statistiques offres'!D:D),0) -> 0 | J96: =IFERROR(VLOOKUP(H96,'SDD Statistiques offres'!G:O,2,0),"") | K96: =IFERROR(VLOOKUP(H96,'SDD Statistiques offres'!G:O,5,0),"") | L96: =IFERROR(VLOOKUP(H96,'SDD Statistiques offres'!G:O,9,0),"") | M96: GGG | N96: GGG | O96: GGG | P96: A traiter | Q96: Réponse à offre | R96: =COUNTIF(H:H,H96) -> 3 | S96: =COUNTIFS(H:H,H96,P:P,"Attente retour opérationnel suite envoi CV pour avis") -> 0 | T96: =COUNTIFS(H:H,H96,P:P,"Proposition d'embauche envoyée") -> 0 | U96: =COUNTIFS(H:H,H96,P:P,"Embauché") -> 0 | V96: 44762.169 | W96: =IFERROR(V96*1,"") -> 44762.169 | X96: 44762.169 | Y96: 44762.085 | Z96: 212801 | AA96: Front Office | AB96: EEE | AC96: EEE | AD96: Recherche active | AJ96: 212801
A97: 244776 | C97: 44762.179 | D97: 44762.179 | F97: AAA | G97: 14 | H97: 2022-4293 | I97: =IFERROR(_xlfn.XLOOKUP(H97,'SDD Statistiques offres'!G:G,'SDD Statistiques offres'!D:D),0) -> 44694.663 | J97: =IFERROR(VLOOKUP(H97,'SDD Statistiques offres'!G:O,2,0),"") -> Diffusée | K97: =IFERROR(VLOOKUP(H97,'SDD Statistiques offres'!G:O,5,0),"") -> ACHETEUR H/F | L97: =IFERROR(VLOOKUP(H97,'SDD Statistiques offres'!G:O,9,0),"") -> 1032 | M97: HHH | N97: HHH | O97: HHH | P97: A traiter | Q97: Réponse à offre | R97: =COUNTIF(H:H,H97) -> 1 | S97: =COUNTIFS(H:H,H97,P:P,"Attente retour opérationnel suite envoi CV pour avis") -> 0 | T97: =COUNTIFS(H:H,H97,P:P,"Proposition d'embauche envoyée") -> 0 | U97: =COUNTIFS(H:H,H97,P:P,"Embauché") -> 0 | V97: 44762.179 | W97: =IFERROR(V97*1,"") -> 44762.179 | X97: 44762.179 | Y97: 44762.095 | Z97: 212802 | AA97: Front Office | AB97: FFF | AC97: FFF | AD97: Recherche active | AJ97: 212802
A98: 244777 | C98: 44762.191 | D98: 44762.191 | F98: AAA | G98: 11 | H98: 2022-4694 | I98: =IFERROR(_xlfn.XLOOKUP(H98,'SDD Statistiques offres'!G:G,'SDD Statistiques offres'!D:D),0) -> 44755.684 | J98: =IFERROR(VLOOKUP(H98,'SDD Statistiques offres'!G:O,2,0),"") -> Diffusée | K98: =IFERROR(VLOOKUP(H98,'SDD Statistiques offres'!G:O,5,0),"") -> INGENIEUR D'ETUDES H/F | L98: =IFERROR(VLOOKUP(H98,'SDD Statistiques offres'!G:O,9,0),"") -> 1062 | M98: AAA | N98: AAA | O98: AAA | P98: A traiter | Q98: Réponse à offre | R98: =COUNTIF(H:H,H98) -> 7 | S98: =COUNTIFS(H:H,H98,P:P,"Attente retour opérationnel suite envoi CV pour avis") -> 0 | T98: =COUNTIFS(H:H,H98,P:P,"Proposition d'embauche envoyée") -> 0 | U98: =COUNTIFS(H:H,H98,P:P,"Embauché") -> 0 | V98: 44762.191 | W98: =IFERROR(V98*1,"") -> 44762.191 | X98: 44762.191 | Y98: 44762.107 | Z98: 212803 | AA98: Front Office | AB98: GGG | AC98: GGG | AD98: Recherche active | AG98: DIRECTEUR GENERAL | AJ98: 212803
A99: 244778 | C99: 44762.193 | D99: 44762.193 | F99: AAA | G99: 11 | H99: 2022-4707 | I99: =IFERROR(_xlfn.XLOOKUP(H99,'SDD Statistiques offres'!G:G,'SDD Statistiques offres'!D:D),0) -> 0 | J99: =IFERROR(VLOOKUP(H99,'SDD Statistiques offres'!G:O,2,0),"") | K99: =IFERROR(VLOOKUP(H99,'SDD Statistiques offres'!G:O,5,0),"") | L99: =IFERROR(VLOOKUP(H99,'SDD Statistiques offres'!G:O,9,0),"") | M99: BBB | N99: BBB | O99: BBB | P99: A traiter | Q99: Réponse à offre | R99: =COUNTIF(H:H,H99) -> 8 | S99: =COUNTIFS(H:H,H99,P:P,"Attente retour opérationnel suite envoi CV pour avis") -> 0 | T99: =COUNTIFS(H:H,H99,P:P,"Proposition d'embauche envoyée") -> 0 | U99: =COUNTIFS(H:H,H99,P:P,"Embauché") -> 0 | V99: 44762.193 | W99: =IFERROR(V99*1,"") -> 44762.193 | X99: 44762.193 | Y99: 44762.109 | Z99: 212804 | AA99: Front Office | AB99: HHH | AC99: HHH | AD99: Recherche active | AJ99: 212804
A100: 244767 | C100: 44762.125 | D100: 44762.125 | F100: AAA | G100: 10 | H100: 2022-4044 | I100: =IFERROR(_xlfn.XLOOKUP(H100,'SDD Statistiques offres'!G:G,'SDD Statistiques offres'!D:D),0) -> 44651.626 | J100: =IFERROR(VLOOKUP(H100,'SDD Statistiques offres'!G:O,2,0),"") -> Diffusée | K100: =IFERROR(VLOOKUP(H100,'SDD Statistiques offres'!G:O,5,0),"") -> INGENIEUR D'ETUDES H/F | L100: =IFERROR(VLOOKUP(H100,'SDD Statistiques offres'!G:O,9,0),"") -> 1026 | M100: CCC | N100: CCC | O100: CCC | P100: A traiter | Q100: Réponse à offre | R100: =COUNTIF(H:H,H100) -> 2 | S100: =COUNTIFS(H:H,H100,P:P,"Attente retour opérationnel suite envoi CV pour avis") -> 0 | T100: =COUNTIFS(H:H,H100,P:P,"Proposition d'embauche envoyée") -> 0 | U100: =COUNTIFS(H:H,H100,P:P,"Embauché") -> 0 | V100: 44756.725 | W100: =IFERROR(V100*1,"") -> 44756.725 | X100: 44762.125 | Y100: 44762.042 | Z100: 212348 | AA100: Front Office | AB100: Administrateur Administrateur | AC100: Administrateur Administrateur | AD100: Recherche active | AJ100: 212348
...

Sheet Candidatures par offres
A1: Entité | B1: (Tous)
A2: Statut de l'offre | B2: (Tous)
A3: Année candidature | B3: (Tous)
A4: Mois candidature | B4: (Tous)
A5: Date de la candidature | B5: (Tous)
A6: Année création offre | B6: (Tous)
A7: Mois création Offre | B7: (Tous)
A8: Date Creation offre | B8: (Tous)
A10: Référence de l'offre | B10: Nb de CV par offre | C10: Nb CV transmis pour avis | D10: Nb Propositions d'embauche envoyées par offre | E10: Nb d'embauches pour une offre
B11: 1048435 | C11: 0 | D11: 0 | E11: 0
A12: CQSE SLB-40 | B12: 1 | C12: 0 | D12: 0 | E12: 0
A13: 2013-59 | B13: 1 | C13: 0 | D13: 0 | E13: 0
A14: 2022-4604 | B14: 2 | C14: 0 | D14: 0 | E14: 0
A15: 2022-4494 | B15: 2 | C15: 0 | D15: 0 | E15: 0
A16: 2022-3829 | B16: 1 | C16: 0 | D16: 0 | E16: 0
A17: 2022-4655 | B17: 1 | C17: 0 | D17: 0 | E17: 0
A18: 2022-4467 | B18: 6 | C18: 0 | D18: 0 | E18: 0
A19: 2022-4381 | B19: 1 | C19: 0 | D19: 0 | E19: 0
A20: 2022-4716 | B20: 2 | C20: 0 | D20: 0 | E20: 0
A21: 2022-4342 | B21: 4 | C21: 0 | D21: 0 | E21: 0
A22: 2022-4006 | B22: 1 | C22: 0 | D22: 0 | E22: 0
A23: 2022-4574 | B23: 1 | C23: 0 | D23: 0 | E23: 0
... A90: 2022-4430 | B90: 1 | C90: 0 | D90: 0 | E90: 0
