Workbook
Name TS.SDD_Statistiques_Candidatures: 'SDD Statistiques Candidatures'!$A$1:$AJ$151
Name TS.SDD_Statistiques_offres: 'SDD Statistiques offres'!$A$1:$T$199

Sheet SDD Statistiques offres
A1: OfferID | B1: Offer_OfferCategory_ | C1: Offer_CreationUser_ | D1: Offer_CreationDate_ | E1: Offer_ModificationDate_ | F1: Offer_OfferID_ | G1: Offer_Reference_ | H1: Offer_OfferStatus_ | I1: Offer_CustomFieldsTranslation_ShortText1_ | J1: JobDescription_PrimaryProfile_ | K1: JobDescriptionTranslation_JobTitle_ | L1: JobDescription_Country_ | M1: JobDescription_ProfessionalCategory_ | N1: Origin_Entity_With1 | O1: Origin_Entity_ | P1: Origin_OperationalManagerName_ | Q1: Offer_BackOfficeUser_User_ | R1: SchedulingData_DefaultPublicationBeginDate_ | S1: SchedulingData_DefaultPublicationEndDate_ | T1: FirstPublicationDate
A2: 4232 | B2: Standard | C2: AAA | D2: 44687.674 | E2: 44742.755 | F2: 4232 | G2: 2022-4232 | H2: Finalisée | J2: AUDITEUR(TRICE) | K2: AGENT TECHNIQUE H/F | L2: France | M2: Cadre | N2: AAA | O2: 1055 | P2: AAA | Q2: AAA | R2: 44687.672 | S2: 44925.672 | T2: 44690.43
A3: 4186 | B3: Standard | C3: III | D3: 44678.723 | E3: 44722.705 | F3: 4186 | G3: 2022-4186 | H3: Finalisée | J3: DIRECTEUR TECHNIQUE | K3: INGENIEUR D'ETUDES VENTILATION H/F | L3: France | M3: Cadre | N3: AAA | O3: 1069 | P3: III | Q3: III | R3: 44678.804 | S3: 44899.762 | T3: 44678.725
A4: 4203 | B4: Standard | C4: III | D4: 44680.42 | E4: 44712.005 | F4: 4203 | G4: 2022-4203 | H4: Diffusée | J4: INGENIEUR BUREAU D'ETUDES | K4: OPERATEUR AMIANTE ACQPA H/F | L4: France | M4: Cadre | N4: AAA | O4: 1025 | P4: III | Q4: III | R4: 44680.403 | S4: 44725.403 | T4: 44680.427
A5: 4363 | B5: Standard | C5: AAA | D5: 44712.502 | E5: 44747.005 | F5: 4363 | G5: 2022-4363 | H5: Diffusée | J5: INGENIEUR BUREAU D'ETUDES | K5: AGENT TECHNIQUE H/F | L5: France | M5: Cadre | N5: AAA | O5: 1021 | P5: AAA | Q5: AAA | R5: 44712.495 | S5: 44757.495 | T5: 44712.502
A6: 4253 | B6: Standard | C6: BBB | D6: 44692.513 | E6: 44761.005 | F6: 4253 | G6: 2022-4253 | H6: Diffusée | J6: INGENIEUR BUREAU D'ETUDES | K6: INGENIEUR D'ETUDES H/F | L6: France | M6: Cadre | N6: AAA | O6: 1059 | P6: BBB | Q6: BBB | R6: 44692.505 | S6: 45047.505 | T6: 44692.513
A7: 3904 | B7: Standard | C7: CCC | D7: 44620.669 | E7: 44694.439 | F7: 3904 | G7: 2022-3904 | H7: Diffusée | I7: CDI | J7: RESPONSABLE LOGISTIQUE | K7: INGENIEUR D'ETUDES VENTILATION H/F | L7: France | M7: Cadre | N7: AAA | O7: 1051 | P7: CCC | Q7: CCC | R7: 44620.664 | S7: 44742.664 | T7: 44620.67
A8: 3732 | B8: Standard | C8: DDD | D8: 44578.45 | E8: 44694.439 | F8: 3732 | G8: 2022-3732 | H8: Validée | I8: CDI | J8: RESPONSABLE LOGISTIQUE | K8: ACHETEUR H/F | L8: France | M8: Cadre | N8: AAA | O8: 1087 | P8: DDD | Q8: DDD | R8: 44578.429 | S8: 44623.429 | T8: 44578.451
A9: 3857 | B9: Standard | C9: FFF | D9: 44613.692 | E9: 44644.416 | F9: 3857 | G9: 2022-3857 | H9: Finalisée | I9: CDI | J9: RESPONSABLE METHODES | K9: OPERATEUR AMIANTE ACQPA H/F | L9: France | M9: Cadre | N9: AAA | O9: 1068 | P9: FFF | Q9: FFF | R9: 44613.688 | S9: 44658.688 | T9: 44613.692
A10: 4693 | B10: Standard | C10: EEE | D10: 44755.619 | E10: 44755.628 | F10: 4693 | G10: 2022-4693 | H10: Diffusée | J10: RESPONSABLE BUREAU D'ETUDES | K10: INGENIEUR D'ETUDES H/F | L10: France | M10: Cadre | N10: AAA | O10: 1019 | P10: EEE | Q10: EEE | R10: 44755.609 | S10: 44865.609 | T10: 44755.622
A11: 4305 | B11: Standard | C11: GGG | D11: 44698.421 | E11: 44742.004 | F11: 4305 | G11: 2022-4305 | H11: Diffusée | J11: RESPONSABLE PRODUCTION | K11: ACHETEUR H/F | L11: France | M11: Cadre | N11: AAA | O11: 1072 | P11: GGG | Q11: GGG | R11: 44698.417 | S11: 44926.417 | T11: 44698.424
A12: 4306 | B12: Standard | C12: HHH | D12: 44698.441 | E12: 44742.004 | F12: 4306 | G12: 2022-4306 | H12: Diffusée | J12: RESPONSABLE PRODUCTION | K12: ADJOINT AU DIRECTEUR DES PROJETS H/F | L12: France | M12: Cadre | N12: AAA | O12: 1056 | P12: HHH | Q12: HHH | R12: 44698.437 | S12: 44906.437 | T12: 44698.442
A13: 4613 | B13: Standard | C13: III | D13: 44742.659 | E13: 44744.006 | F13: 4613 | G13: 2022-4613 | H13: Diffusée | J13: INGENIEUR BUREAU D'ETUDES | K13: OPERATEUR AMIANTE ACQPA H/F | L13: France | M13: Cadre | N13: AAA | O13: 1025 | P13: III | Q13: III | R13: 44742.636 | S13: 44787.636 | T13: 44743.462
A14: 4697 | B14: Standard | C14: AAA | D14: 44757.721 | E14: 44757.721 | F14: 4697 | G14: 2022-4697 | H14: Brouillon | J14: INGENIEUR BUREAU D'ETUDES | K14: AGENT TECHNIQUE H/F | L14: France | M14: Cadre | N14: AAA | O14: 1017 | P14: AAA | Q14: AAA | R14: 44757.718 | S14: 44802.718
A15: 4088 | B15: Standard | C15: BBB | D15: 44657.63 | E15: 44733.591 | F15: 4088 | G15: 2022-4088 | H15: Archivée | I15: CDI | J15: INGENIEUR BUREAU D'ETUDES | K15: INGENIEUR D'ETUDES H/F | L15: France | M15: Cadre | N15: AAA | O15: 1056 | P15: BBB | Q15: BBB | R15: 44657.63 | S15: 44702.63 | T15: 44657.631
A16: 3943 | B16: Standard | C16: CCC | D16: 44629.621 | E16: 44758.004 | F16: 3943 | G16: 2022-3943 | H16: Diffusée | I16: CDI | J16: INGENIEUR BUREAU D'ETUDES | K16: INGENIEUR D'ETUDES VENTILATION H/F | L16: France | M16: Cadre | N16: AAA | O16: 1063 | P16: CCC | Q16: CCC | R16: 44629.61 | S16: 44674.61 | T16: 44629.622
A17: 3701 | B17: Standard | C17: BBB | D17: 44573.416 | E17: 44720.51 | F17: 3701 | G17: 2022-3701 | H17: Finalisée | I17: CDI | J17: URBANISTE ARCHITECTE | K17: ADJOINT AU DIRECTEUR DES PROJETS H/F | L17: France | M17: Cadre | N17: AAA | O17: 1056 | P17: BBB | Q17: BBB | R17: 44573.414 | S17: 44737.414 | T17: 44573.416
A18: 3861 | B18: Standard | C18: CCC | D18: 44613.806 | E18: 44743.004 | F18: 3861 | G18: 2022-3861 | H18: Diffusée | I18: CDI | J18: INGENIEUR ETUDES TECHNIQUES | K18: OPERATEUR AMIANTE ACQPA H/F | L18: France | M18: Cadre | N18: AAA | O18: 1085 | P18: CCC | Q18: CCC | R18: 44613.798 | S18: 44658.798 | T18: 44622.45
A19: 3882 | B19: Standard | C19: DDD | D19: 44615.688 | E19: 44741.004 | F19: 3882 | G19: 2022-3882 | H19: Diffusée | I19: CDI | J19: INGENIEUR ETUDES TECHNIQUES | K19: AGENT TECHNIQUE H/F | L19: France | M19: Cadre | N19: AAA | O19: 1053 | P19: DDD | Q19: DDD | R19: 44615.68 | S19: 44660.68 | T19: 44615.689
A20: 3878 | B20: Standard | C20: EEE | D20: 44615.495 | E20: 44694.439 | F20: 3878 | G20: 2022-3878 | H20: Finalisée | I20: CDI | J20: INGENIEUR ETUDES TECHNIQUES | K20: INGENIEUR D'ETUDES H/F | L20: France | M20: Cadre | N20: AAA | O20: 1093 | P20: EEE | Q20: EEE | R20: 44615.493 | S20: 44660.493
A21: 3810 | B21: Standard | C21: FFF | D21: 44601.63 | E21: 44624.448 | F21: 3810 | G21: 2022-3810 | H21: Finalisée | I21: CDI | J21: INGENIEUR ETUDES TECHNIQUES | K21: INGENIEUR D'ETUDES VENTILATION H/F | L21: France | M21: Cadre | N21: AAA | O21: 1099 | P21: FFF | Q21: FFF | R21: 44601.626 | S21: 44646.626 | T21: 44601.631
A22: 4004 | B22: Standard | C22: HHH | D22: 44644.645 | E22: 44739.732 | F22: 4004 | G22: 2022-4004 | H22: Finalisée | I22: CDI | J22: INGENIEUR ETUDES TECHNIQUES | K22: ADJOINT AU DIRECTEUR DES PROJETS H/F | L22: France | M22: Cadre | N22: AAA | O22: 1044 | P22: HHH | Q22: HHH | R22: 44644.644 | S22: 44689.644 | T22: 44658.398
A23: 3966 | B23: Standard | C23: III | D23: 44636.737 | E23: 44694.439 | F23: 3966 | G23: 2022-3966 | H23: Validée | I23: CDI | J23: INGENIEUR ETUDES TECHNIQUES | K23: OPERATEUR AMIANTE ACQPA H/F | L23: France | M23: Cadre | N23: AAA | O23: 1064 | P23: III | Q23: III | R23: 44636.726 | S23: 44681.726 | T23: 44636.738
A24: 4085 | B24: Standard | C24: AAA | D24: 44657.616 | E24: 44696.005 | F24: 4085 | G24: 2022-4085 | H24: Diffusée | I24: CDI | J24: INGENIEUR ETUDES TECHNIQUES | K24: AGENT TECHNIQUE H/F | L24: France | M24: Cadre | N24: AAA | O24: 1004 | P24: AAA | Q24: AAA | R24: 44657.615 | S24: 44702.615 | T24: 44657.617
A25: 4086 | B25: Standard | C25: BBB | D25: 44657.624 | E25: 44694.439 | F25: 4086 | G25: 2022-4086 | H25: Diffusée | I25: CDI | J25: INGENIEUR ETUDES TECHNIQUES | K25: INGENIEUR D'ETUDES H/F | L25: France | M25: Cadre | N25: AAA | O25: 1048 | P25: BBB | Q25: BBB | R25: 44657.623 | S25: 44702.623 | T25: 44657.625
A26: 4067 | B26: Standard | C26: CCC | D26: 44656.619 | E26: 44694.439 | F26: 4067 | G26: 2022-4067 | H26: Diffusée | I26: CDI | J26: INGENIEUR ETUDES TECHNIQUES | K26: INGENIEUR D'ETUDES VENTILATION H/F | L26: France | M26: Cadre | N26: AAA | O26: 1098 | P26: CCC | Q26: CCC | R26: 44656.616 | S26: 44701.616 | T26: 44656.619
A27: 4077 | B27: Standard | C27: DDD | D27: 44656.705 | E27: 44760.453 | F27: 4077 | G27: 2022-4077 | H27: Finalisée | I27: CDI | J27: INGENIEUR ETUDES TECHNIQUES | K27: ACHETEUR H/F | L27: France | M27: Cadre | N27: AAA | O27: 1031 | P27: DDD | Q27: DDD | R27: 44656.697 | S27: 44866.697 | T27: 44656.706
A28: 3892 | B28: Standard | C28: EEE | D28: 44616.657 | E28: 44748.418 | F28: 3892 | G28: 2022-3892 | H28: Finalisée | I28: CDI | J28: INGENIEUR ETUDES TECHNIQUES | K28: ADJOINT AU DIRECTEUR DES PROJETS H/F | L28: France | M28: Cadre | N28: AAA | O28: 1016 | P28: EEE | Q28: EEE | R28: 44616.649 | S28: 44712.649 | T28: 44616.665
A29: 3900 | B29: Standard | C29: FFF | D29: 44620.463 | E29: 44629.732 | F29: 3900 | G29: 2022-3900 | H29: Finalisée | I29: CDI | J29: INGENIEUR ETUDES TECHNIQUES | K29: OPERATEUR AMIANTE ACQPA H/F | L29: France | M29: Cadre | N29: AAA | O29: 1074 | P29: FFF | Q29: FFF | R29: 44620.46 | S29: 44665.46
A30: 4634 | B30: Standard | C30: FFF | D30: 44747.684 | E30: 44747.686 | F30: 4634 | G30: 2022-4634 | H30: Finalisée | J30: INGENIEUR ETUDES TECHNIQUES | K30: INGENIEUR D'ETUDES VENTILATION H/F | L30: France | M30: Cadre | N30: AAA | O30: 1013 | P30: FFF | Q30: FFF | R30: 44747.683 | S30: 44792.683
A31: 4651 | B31: Standard | C31: GGG | D31: 44748.717 | E31: 44749.007 | F31: 4651 | G31: 2022-4651 | H31: Diffusée | J31: INGENIEUR ETUDES TECHNIQUES | K31: ACHETEUR H/F | L31: France | M31: Cadre | N31: AAA | O31: 1068 | P31: GGG | Q31: GGG | R31: 44748.715 | S31: 44926.715 | T31: 44748.718
A32: 4658 | B32: Standard | C32: HHH | D32: 44749.647 | E32: 44749.65 | F32: 4658 | G32: 2022-4658 | H32: Finalisée | J32: INGENIEUR ETUDES TECHNIQUES | K32: ADJOINT AU DIRECTEUR DES PROJETS H/F | L32: France | M32: Cadre | N32: AAA | O32: 1099 | P32: HHH | Q32: HHH | R32: 44749.646 | S32: 44794.646
A33: 4636 | B33: Standard | C33: III | D33: 44747.692 | E33: 44747.694 | F33: 4636 | G33: 2022-4636 | H33: Finalisée | J33: INGENIEUR ETUDES TECHNIQUES | K33: OPERATEUR AMIANTE ACQPA H/F | L33: France | M33: Cadre | N33: AAA | O33: 1069 | P33: III | Q33: III | R33: 44747.691 | S33: 44792.691
A34: 4637 | B34: Standard | C34: AAA | D34: 44748.419 | E34: 44748.429 | F34: 4637 | G34: 2022-4637 | H34: Validée | J34: INGENIEUR ETUDES TECHNIQUES | K34: AGENT TECHNIQUE H/F | L34: France | M34: Cadre | N34: AAA | O34: 1025 | P34: AAA | Q34: AAA | R34: 44748.419 | S34: 44793.419
A35: 4627 | B35: Standard | C35: BBB | D35: 44746.616 | E35: 44746.616 | F35: 4627 | G35: 2022-4627 | H35: Validée | J35: INGENIEUR ETUDES TECHNIQUES | K35: INGENIEUR D'ETUDES H/F | L35: France | M35: Cadre | N35: AAA | O35: 1092 | P35: BBB | Q35: BBB | R35: 44746.601 | S35: 44791.601
A36: 4673 | B36: Standard | C36: CCC | D36: 44753.69 | E36: 44753.69 | F36: 4673 | G36: 2022-4673 | H36: Validée | J36: INGENIEUR ETUDES TECHNIQUES | K36: INGENIEUR D'ETUDES VENTILATION H/F | L36: France | M36: Cadre | N36: AAA | O36: 1044 | P36: CCC | Q36: CCC | R36: 44753.687 | S36: 44798.687
A37: 4675 | B37: Standard | C37: DDD | D37: 44753.693 | E37: 44753.699 | F37: 4675 | G37: 2022-4675 | H37: Finalisée | J37: INGENIEUR ETUDES TECHNIQUES | K37: ACHETEUR H/F | L37: France | M37: Cadre | N37: AAA | O37: 1010 | P37: DDD | Q37: DDD | R37: 44753.692 | S37: 44798.692
A38: 4618 | B38: Standard | C38: EEE | D38: 44743.452 | E38: 44743.486 | F38: 4618 | G38: 2022-4618 | H38: Brouillon | J38: INGENIEUR ETUDES TECHNIQUES | K38: ADJOINT AU DIRECTEUR DES PROJETS H/F | L38: France | M38: Cadre | N38: AAA | O38: 1052 | P38: EEE | Q38: EEE | R38: 44743.438 | S38: 44788.438
A39: 4616 | B39: Standard | C39: FFF | D39: 44743.423 | E39: 44744.006 | F39: 4616 | G39: 2022-4616 | H39: Diffusée | J39: INGENIEUR ETUDES TECHNIQUES | K39: OPERATEUR AMIANTE ACQPA H/F | L39: France | M39: Cadre | N39: AAA | O39: 1087 | P39: FFF | Q39: FFF | R39: 44743 | S39: 44925 | T39: 44743.424
A40: 4409 | B40: Standard | C40: GGG | D40: 44720.454 | E40: 44753.005 | F40: 4409 | G40: 2022-4409 | H40: Diffusée | J40: INGENIEUR ETUDES TECHNIQUES | K40: AGENT TECHNIQUE H/F | L40: France | M40: Cadre | N40: AAA | O40: 1027 | P40: GGG | Q40: GGG | R40: 44720.45 | S40: 44765.45 | T40: 44720.476
...

Sheet SDD Statistiques Candidatures
A1: JobApplicationEventID | B1: JobApplicationEvent_GlobalFeedback_ | C1: JobApplicationEvent_CreationDate_ | D1: JobApplicationEvent_EventDate_ | E1: JobApplicationEvent_ModificationDate_ | F1: JobApplicationEvent_Entity_With1 | G1: JobApplicationEvent_Entity_ | H1: JobApplicationEvent_Offer_ | I1: Offer_CreationDate_ | J1: Offer_OfferStatus_ | K1: JobDescriptionTranslation_JobTitle_ | L1: Origin_Entity_ | M1: JobApplicationEvent_PublicationSupport_With1 | N1: JobApplicationEvent_PublicationSupport_ | O1: JobApplicationEvent_Supervisor_ | P1: JobApplicationEvent_JobApplicationStatus_ | Q1: JobApplicationEvent_JobApplicationEventType_ | R1: CV par offre | S1: CV transmis pour avis | T1: Propositions d'embauche envoyées par offre | U1: Nombre d'embauches pour une offre | V1: Applicant_CreationDate_ApplicantID | W1: Date de la candidature | X1: Applicant_ModificationDate_ApplicantID | Y1: Applicant_ApplicantModificationDate_ApplicantID | Z1: Applicant_ApplicantID_ApplicantID | AA1: Applicant_ApplicantCreationMode_ApplicantID | AB1: Applicant_ModificationUser_ApplicantID | AC1: Applicant_FullName_ApplicantID | AD1: Applicant_ApplicantStatus_ApplicantID | AE1: Employee_Entity_EmployeeIDWith1 | AF1: Employee_Entity_EmployeeID | AG1: JobPreferences_PrimaryProfile_ApplicantID | AH1: JobPreferences_Country_ApplicantID | AI1: JobPreferences_JobTime_ApplicantID | AJ1: ApplicantID
A2: 88 | C2: 41249.59 | D2: 41249.59 | E2: 42542.759 | F2: AAA | G2: 10 | I2: =IFERROR(_xlfn.XLOOKUP(H2,'SDD Statistiques offres'!G:G,'SDD Statistiques offres'!D:D),0) -> 0 | J2: =IFERROR(VLOOKUP(H2,'SDD Statistiques offres'!G:O,2,0),"") | K2: =IFERROR(VLOOKUP(H2,'SDD Statistiques offres'!G:O,5,0),"") | L2: =IFERROR(VLOOKUP(H2,'SDD Statistiques offres'!G:O,9,0),"") | M2: AAA | N2: AAA | O2: AAA | P2: Retour négatif CV | Q2: Candidature spontanée | R2: =COUNTIF(H:H,H2) -> 1048435 | S2: =COUNTIFS(H:H,H2,P:P,"Attente retour opérationnel suite envoi CV pour avis") -> 0 | T2: =COUNTIFS(H:H,H2,P:P,"Proposition d'embauche envoyée") -> 0 | U2: =COUNTIFS(H:H,H2,P:P,"Embauché") -> 0 | V2: 41249.59 | W2: =IFERROR(V2*1,"") -> 41249.59 | X2: 44610.431 | Y2: 44607.395 | Z2: 1300 | AA2: Front Office | AB2: AAA | AC2: AAA | AD2: Recherche active | AG2: CHARGE(E) D'AFFAIRES | AI2: Temps partiel | AJ2: 1300
A3: 317 | C3: 41302.605 | D3: 41302.605 | E3: 41864.707 | F3: AAA | G3: 10 | H3: CQSE SLB-40 | I3: =IFERROR(_xlfn.XLOOKUP(H3,'SDD Statistiques offres'!G:G,'SDD Statistiques offres'!D:D),0) -> 0 | J3: =IFERROR(VLOOKUP(H3,'SDD Statistiques offres'!G:O,2,0),"") | K3: =IFERROR(VLOOKUP(H3,'SDD Statistiques offres'!G:O,5,0),"") | L3: =IFERROR(VLOOKUP(H3,'SDD Statistiques offres'!G:O,9,0),"") | M3: BBB | N3: BBB | O3: BBB | P3: Retour négatif CV | Q3: Réponse à offre | R3: =COUNTIF(H:H,H3) -> 1 | S3: =COUNTIFS(H:H,H3,P:P,"Attente retour opérationnel suite envoi CV pour avis") -> 0 | T3: =COUNTIFS(H:H,H3,P:P,"Proposition d'embauche envoyée") -> 0 | U3: =COUNTIFS(H:H,H3,P:P,"Embauché") -> 0 | V3: 41302.605 | W3: =IFERROR(V3*1,"") -> 41302.605 | X3: 43866.3 | Y3: 42821.569 | Z3: 1558 | AA3: Front Office | AB3: BBB | AC3: BBB | AD3: Recherche active | AG3: COORDINATEUR QSE | AI3: Temps complet | AJ3: 1558
A4: 359 | C4: 41309.651 | D4: 41309.649 | F4: AAA | G4: 15 | I4: =IFERROR(_xlfn.XLOOKUP(H4,'SDD Statistiques offres'!G:G,'SDD Statistiques offres'!D:D),0) -> 0 | J4: =IFERROR(VLOOKUP(H4,'SDD Statistiques offres'!G:O,2,0),"") | K4: =IFERROR(VLOOKUP(H4,'SDD Statistiques offres'!G:O,5,0),"") | L4: =IFERROR(VLOOKUP(H4,'SDD Statistiques offres'!G:O,9,0),"") | M4: CCC | N4: CCC | O4: CCC | P4: A traiter | Q4: Candidature spontanée | R4: =COUNTIF(H:H,H4) -> 1048435 | S4: =COUNTIFS(H:H,H4,P:P,"Attente retour opérationnel suite envoi CV pour avis") -> 0 | T4: =COUNTIFS(H:H,H4,P:P,"Proposition d'embauche envoyée") -> 0 | U4: =COUNTIFS(H:H,H4,P:P,"Embauché") -> 0 | V4: 41309.651 | W4: =IFERROR(V4*1,"") -> 41309.651 | Z4: 1599 | AA4: Back Office | AB4: CCC | AC4: CCC | AD4: Recherche active | AG4: CHEF DE PROJET | AH4: France | AI4: Temps complet | AJ4: 1599
A5: 387 | C5: 41313.624 | D5: 41313.616 | F5: AAA | G5: 10 | I5: =IFERROR(_xlfn.XLOOKUP(H5,'SDD Statistiques offres'!G:G,'SDD Statistiques offres'!D:D),0) -> 0 | J5: =IFERROR(VLOOKUP(H5,'SDD Statistiques offres'!G:O,2,0),"") | K5: =IFERROR(VLOOKUP(H5,'SDD Statistiques offres'!G:O,5,0),"") | L5: =IFERROR(VLOOKUP(H5,'SDD Statistiques offres'!G:O,9,0),"") | M5: DDD | N5: DDD | O5: DDD | P5: A traiter | Q5: Candidature spontanée | R5: =COUNTIF(H:H,H5) -> 1048435 | S5: =COUNTIFS(H:H,H5,P:P,"Attente retour opérationnel suite envoi CV pour avis") -> 0 | T5: =COUNTIFS(H:H,H5,P:P,"Proposition d'embauche envoyée") -> 0 | U5: =COUNTIFS(H:H,H5,P:P,"Embauché") -> 0 | V5: 41313.624 | W5: =IFERROR(V5*1,"") -> 41313.624 | X5: 41338.682 | Z5: 1620 | AA5: Back Office | AB5: DDD | AC5: DDD | AD5: Recherche active | AG5: TECHNICIEN EXPLOITATION | AH5: France | AI5: Temps complet | AJ5: 1620
A6: 388 | C6: 41313.627 | D6: 41313.624 | F6: AAA | G6: 17 | I6: =IFERROR(_xlfn.XLOOKUP(H6,'SDD Statistiques offres'!G:G,'SDD Statistiques offres'!D:D),0) -> 0 | J6: =IFERROR(VLOOKUP(H6,'SDD Statistiques offres'!G:O,2,0),"") | K6: =IFERROR(VLOOKUP(H6,'SDD Statistiques offres'!G:O,5,0),"") | L6: =IFERROR(VLOOKUP(H6,'SDD Statistiques offres'!G:O,9,0),"") | M6: EEE | N6: EEE | O6: EEE | P6: A traiter | Q6: Candidature spontanée | R6: =COUNTIF(H:H,H6) -> 1048435 | S6: =COUNTIFS(H:H,H6,P:P,"Attente retour opérationnel suite envoi CV pour avis") -> 0 | T6: =COUNTIFS(H:H,H6,P:P,"Proposition d'embauche envoyée") -> 0 | U6: =COUNTIFS(H:H,H6,P:P,"Embauché") -> 0 | V6: 41313.627 | W6: =IFERROR(V6*1,"") -> 41313.627 | Z6: 1621 | AA6: Back Office | AB6: EEE | AC6: EEE | AD6: Recherche active | AG6: INGENIEUR EXPLOIT | AH6: France | AI6: Temps complet | AJ6: 1621
A7: 584 | C7: 41348.4 | D7: 41348.4 | E7: 41374.459 | F7: AAA | G7: 18 | H7: 2013-59 | I7: =IFERROR(_xlfn.XLOOKUP(H7,'SDD Statistiques offres'!G:G,'SDD Statistiques offres'!D:D),0) -> 0 | J7: =IFERROR(VLOOKUP(H7,'SDD Statistiques offres'!G:O,2,0),"") | K7: =IFERROR(VLOOKUP(H7,'SDD Statistiques offres'!G:O,5,0),"") | L7: =IFERROR(VLOOKUP(H7,'SDD Statistiques offres'!G:O,9,0),"") | M7: FFF | N7: FFF | O7: FFF | P7: En attente de propale | Q7: Réponse à offre | R7: =COUNTIF(H:H,H7) -> 1 | S7: =COUNTIFS(H:H,H7,P:P,"Attente retour opérationnel suite envoi CV pour avis") -> 0 | T7: =COUNTIFS(H:H,H7,P:P,"Proposition d'embauche envoyée") -> 0 | U7: =COUNTIFS(H:H,H7,P:P,"Embauché") -> 0 | V7: 41348.4 | W7: =IFERROR(V7*1,"") -> 41348.4 | X7: 41374.459 | Y7: 41348.4 | Z7: 1832 | AA7: Front Office | AB7: FFF | AC7: FFF | AD7: Recruté | AG7: PROJETEUR CHEF DE GROUPE | AI7: Temps complet | AJ7: 1832
A8: 244863 | C8: 44762.57 | D8: 44762.57 | F8: AAA | G8: 14 | H8: 2022-4604 | I8: =IFERROR(_xlfn.XLOOKUP(H8,'SDD Statistiques offres'!G:G,'SDD Statistiques offres'!D:D),0) -> 0 | J8: =IFERROR(VLOOKUP(H8,'SDD Statistiques offres'!G:O,2,0),"") | K8: =IFERROR(VLOOKUP(H8,'SDD Statistiques offres'!G:O,5,0),"") | L8: =IFERROR(VLOOKUP(H8,'SDD Statistiques offres'!G:O,9,0),"") | M8: GGG | N8: GGG | O8: GGG | P8: A traiter | Q8: Réponse à offre | R8: =COUNTIF(H:H,H8) -> 2 | S8: =COUNTIFS(H:H,H8,P:P,"Attente retour opérationnel suite envoi CV pour avis") -> 0 | T8: =COUNTIFS(H:H,H8,P:P,"Proposition d'embauche envoyée") -> 0 | U8: =COUNTIFS(H:H,H8,P:P,"Embauché") -> 0 | V8: 44762.57 | W8: =IFERROR(V8*1,"") -> 44762.57 | X8: 44762.57 | Y8: 44762.487 | Z8: 212878 | AA8: Front Office | AB8: GGG | AC8: GGG | AD8: Recherche active | AG8: ASSISTANT ETUDES | AJ8: 212878
A9: 244864 | C9: 44762.571 | D9: 44762.571 | F9: AAA | G9: 15 | H9: 2022-4494 | I9: =IFERROR(_xlfn.XLOOKUP(H9,'SDD Statistiques offres'!G:G,'SDD Statistiques offres'!D:D),0) -> 0 | J9: =IFERROR(VLOOKUP(H9,'SDD Statistiques offres'!G:O,2,0),"") | K9: =IFERROR(VLOOKUP(H9,'SDD Statistiques offres'!G:O,5,0),"") | L9: =IFERROR(VLOOKUP(H9,'SDD Statistiques offres'!G:O,9,0),"") | M9: HHH | N9: HHH | O9: HHH | P9: A traiter | Q9: Réponse à offre | R9: =COUNTIF(H:H,H9) -> 2 | S9: =COUNTIFS(H:H,H9,P:P,"Attente retour opérationnel suite envoi CV pour avis") -> 0 | T9: =COUNTIFS(H:H,H9,P:P,"Proposition d'embauche envoyée") -> 0 | U9: =COUNTIFS(H:H,H9,P:P,"Embauché") -> 0 | V9: 44762.571 | W9: =IFERROR(V9*1,"") -> 44762.571 | X9: 44762.571 | Y9: 44762.488 | Z9: 212879 | AA9: Front Office | AB9: HHH | AC9: HHH | AD9: Recherche active | AJ9: 212879
A10: 244857 | C10: 44762.536 | D10: 44762.536 | F10: AAA | G10: 14 | H10: 2022-3829 | I10: =IFERROR(_xlfn.XLOOKUP(H10,'SDD Statistiques offres'!G:G,'SDD Statistiques offres'!D:D),0) -> 0 | J10: =IFERROR(VLOOKUP(H10,'SDD Statistiques offres'!G:O,2,0),"") | K10: =IFERROR(VLOOKUP(H10,'SDD Statistiques offres'!G:O,5,0),"") | L10: =IFERROR(VLOOKUP(H10,'SDD Statistiques offres'!G:O,9,0),"") | M10: AAA | N10: AAA | O10: AAA | P10: A traiter | Q10: Réponse à offre | R10: =COUNTIF(H:H,H10) -> 1 | S10: =COUNTIFS(H:H,H10,P:P,"Attente retour opérationnel suite envoi CV pour avis") -> 0 | T10: =COUNTIFS(H:H,H10,P:P,"Proposition d'embauche envoyée") -> 0 | U10: =COUNTIFS(H:H,H10,P:P,"Embauché") -> 0 | V10: 44762.536 | W10: =IFERROR(V10*1,"") -> 44762.536 | X10: 44762.536 | Y10: 44762.452 | Z10: 212872 | AA10: Front Office | AB10: Administrateur Administrateur | AC10: Administrateur Administrateur | AD10: Recherche active | AJ10: 212872
A11: 244858 | C11: 44762.536 | D11: 44762.536 | F11: AAA | G11: 17 | H11: 2022-4655 | I11: =IFERROR(_xlfn.XLOOKUP(H11,'SDD Statistiques offres'!G:G,'SDD Statistiques offres'!D:D),0) -> 0 | J11: =IFERROR(VLOOKUP(H11,'SDD Statistiques offres'!G:O,2,0),"") | K11: =IFERROR(VLOOKUP(H11,'SDD Statistiques offres'!G:O,5,0),"") | L11: =IFERROR(VLOOKUP(H11,'SDD Statistiques offres'!G:O,9,0),"") | M11: BBB | N11: BBB | O11: BBB | P11: A traiter | Q11: Réponse à offre | R11: =COUNTIF(H:H,H11) -> 1 | S11: =COUNTIFS(H:H,H11,P:P,"Attente retour opérationnel suite envoi CV pour avis") -> 0 | T11: =COUNTIFS(H:H,H11,P:P,"Proposition d'embauche envoyée") -> 0 | U11: =COUNTIFS(H:H,H11,P:P,"Embauché") -> 0 | V11: 44762.536 | W11: =IFERROR(V11*1,"") -> 44762.536 | X11: 44762.536 | Y11: 44762.453 | Z11: 212873 | AA11: Front Office | AB11: AAA | AC11: AAA | AD11: Recherche active | AJ11: 212873
A12: 244859 | C12: 44762.539 | D12: 44762.539 | F12: AAA | G12: 12 | H12: 2022-4467 | I12: =IFERROR(_xlfn.XLOOKUP(H12,'SDD Statistiques offres'!G:G,'SDD Statistiques offres'!D:D),0) -> 0 | J12: =IFERROR(VLOOKUP(H12,'SDD Statistiques offres'!G:O,2,0),"") | K12: =IFERROR(VLOOKUP(H12,'SDD Statistiques offres'!G:O,5,0),"") | L12: =IFERROR(VLOOKUP(H12,'SDD Statistiques offres'!G:O,9,0),"") | M12: CCC | N12: CCC | O12: CCC | P12: A traiter | Q12: Réponse à offre | R12: =COUNTIF(H:H,H12) -> 6 | S12: =COUNTIFS(H:H,H12,P:P,"Attente retour opérationnel suite envoi CV pour avis") -> 0 | T12: =COUNTIFS(H:H,H12,P:P,"Proposition d'embauche envoyée") -> 0 | U12: =COUNTIFS(H:H,H12,P:P,"Embauché") -> 0 | V12: 44762.539 | W12: =IFERROR(V12*1,"") -> 44762.539 | X12: 44762.539 | Y12: 44762.456 | Z12: 212874 | AA12: Front Office | AB12: BBB | AC12: BBB | AD12: Recherche active | AJ12: 212874
A13: 244860 | C13: 44762.54 | D13: 44762.54 | E13: 44762.54 | F13: AAA | G13: 10 | I13: =IFERROR(_xlfn.XLOOKUP(H13,'SDD Statistiques offres'!G:G,'SDD Statistiques offres'!D:D),0) -> 0 | J13: =IFERROR(VLOOKUP(H13,'SDD Statistiques offres'!G:O,2,0),"") | K13: =IFERROR(VLOOKUP(H13,'SDD Statistiques offres'!G:O,5,0),"") | L13: =IFERROR(VLOOKUP(H13,'SDD Statistiques offres'!G:O,9,0),"") | M13: DDD | N13: DDD | O13: DDD | P13: A traiter | Q13: Candidature spontanée | R13: =COUNTIF(H:H,H13) -> 1048435 | S13: =COUNTIFS(H:H,H13,P:P,"Attente retour opérationnel suite envoi CV pour avis") -> 0 | T13: =COUNTIFS(H:H,H13,P:P,"Proposition d'embauche envoyée") -> 0 | U13: =COUNTIFS(H:H,H13,P:P,"Embauché") -> 0 | V13: 44762.54 | W13: =IFERROR(V13*1,"") -> 44762.54 | X13: 44762.54 | Y13: 44762.457 | Z13: 212875 | AA13: Front Office | AB13: CCC | AC13: CCC | AD13: Recherche active | AG13: AGENT LOGISTIQUE | AJ13: 212875
A14: 244861 | C14: 44762.542 | D14: 44762.542 | F14: AAA | G14: 16 | H14: 2022-4381 | I14: =IFERROR(_xlfn.XLOOKUP(H14,'SDD Statistiques offres'!G:G,'SDD Statistiques offres'!D:D),0) -> 0 | J14: =IFERROR(VLOOKUP(H14,'SDD Statistiques offres'!G:O,2,0),"") | K14: =IFERROR(VLOOKUP(H14,'SDD Statistiques offres'!G:O,5,0),"") | L14: =IFERROR(VLOOKUP(H14,'SDD Statistiques offres'!G:O,9,0),"") | M14: EEE | N14: EEE | O14: EEE | P14: A traiter | Q14: Réponse à offre | R14: =COUNTIF(H:H,H14) -> 1 | S14: =COUNTIFS(H:H,H14,P:P,"Attente retour opérationnel suite envoi CV pour avis") -> 0 | T14: =COUNTIFS(H:H,H14,P:P,"Proposition d'embauche envoyée") -> 0 | U14: =COUNTIFS(H:H,H14,P:P,"Embauché") -> 0 | V14: 44762.542 | W14: =IFERROR(V14*1,"") -> 44762.542 | X14: 44762.542 | Y14: 44762.459 | Z14: 212876 | AB14: DDD | AC14: DDD | AD14: Recherche active | AG14: ASSISTANT(E) ADMNISTRATIF(VE) | AJ14: 212876
A15: 244862 | C15: 44762.564 | D15: 44762.564 | F15: AAA | G15: 13 | H15: 2022-4716 | I15: =IFERROR(_xlfn.XLOOKUP(H15,'SDD Statistiques offres'!G:G,'SDD Statistiques offres'!D:D),0) -> 0 | J15: =IFERROR(VLOOKUP(H15,'SDD Statistiques offres'!G:O,2,0),"") | K15: =IFERROR(VLOOKUP(H15,'SDD Statistiques offres'!G:O,5,0),"") | L15: =IFERROR(VLOOKUP(H15,'SDD Statistiques offres'!G:O,9,0),"") | M15: FFF | N15: FFF | O15: FFF | P15: A traiter | Q15: Réponse à offre | R15: =COUNTIF(H:H,H15) -> 2 | S15: =COUNTIFS(H:H,H15,P:P,"Attente retour opérationnel suite envoi CV pour avis") -> 0 | T15: =COUNTIFS(H:H,H15,P:P,"Proposition d'embauche envoyée") -> 0 | U15: =COUNTIFS(H:H,H15,P:P,"Embauché") -> 0 | V15: 44762.564 | W15: =IFERROR(V15*1,"") -> 44762.564 | X15: 44762.565 | Y15: 44762.482 | Z15: 212877 | AA15: Front Office | AB15: EEE | AC15: EEE | AD15: Recherche active | AG15: AGENT D'ACCUEIL | AI15: Temps complet | AJ15: 212877
A16: 244851 | C16: 44762.526 | D16: 44762.526 | F16: AAA | G16: 10 | H16: 2022-4467 | I16: =IFERROR(_xlfn.XLOOKUP(H16,'SDD Statistiques offres'!G:G,'SDD Statistiques offres'!D:D),0) -> 0 | J16: =IFERROR(VLOOKUP(H16,'SDD Statistiques offres'!G:O,2,0),"") | K16: =IFERROR(VLOOKUP(H16,'SDD Statistiques offres'!G:O,5,0),"") | L16: =IFERROR(VLOOKUP(H16,'SDD Statistiques offres'!G:O,9,0),"") | M16: GGG | N16: GGG | O16: GGG | P16: A traiter | Q16: Réponse à offre | R16: =COUNTIF(H:H,H16) -> 6 | S16: =COUNTIFS(H:H,H16,P:P,"Attente retour opérationnel suite envoi CV pour avis") -> 0 | T16: =COUNTIFS(H:H,H16,P:P,"Proposition d'embauche envoyée") -> 0 | U16: =COUNTIFS(H:H,H16,P:P,"Embauché") -> 0 | V16: 44762.526 | W16: =IFERROR(V16*1,"") -> 44762.526 | X16: 44762.526 | Y16: 44762.443 | Z16: 212868 | AA16: Front Office | AB16: FFF | AC16: FFF | AD16: Recherche active | AJ16: 212868
A17: 244852 | C17: 44762.528 | D17: 44762.528 | F17: AAA | G17: 13 | H17: 2022-4342 | I17: =IFERROR(_xlfn.XLOOKUP(H17,'SDD Statistiques offres'!G:G,'SDD Statistiques offres'!D:D),0) -> 44704.668 | J17: =IFERROR(VLOOKUP(H17,'SDD Statistiques offres'!G:O,2,0),"") -> Diffusée | K17: =IFERROR(VLOOKUP(H17,'SDD Statistiques offres'!G:O,5,0),"") -> INGENIEUR D'ETUDES H/F | L17: =IFERROR(VLOOKUP(H17,'SDD Statistiques offres'!G:O,9,0),"") -> 1028 | M17: HHH | N17: HHH | O17: HHH | P17: A traiter | Q17: Réponse à offre | R17: =COUNTIF(H:H,H17) -> 4 | S17: =COUNTIFS(H:H,H17,P:P,"Attente retour opérationnel suite envoi CV pour avis") -> 0 | T17: =COUNTIFS(H:H,H17,P:P,"Proposition d'embauche envoyée") -> 0 | U17: =COUNTIFS(H:H,H17,P:P,"Embauché") -> 0 | V17: 44762.528 | W17: =IFERROR(V17*1,"") -> 44762.528 | X17: 44762.53 | Y17: 44762.444 | Z17: 212869 | AA17: Front Office | AB17: GGG | AC17: GGG | AD17: Recherche active | AG17: RESPONSABLE EXPLOITATION | AJ17: 212869
A18: 244853 | C18: 44762.529 | D18: 44762.529 | F18: AAA | G18: 19 | H18: 2022-4006 | I18: =IFERROR(_xlfn.XLOOKUP(H18,'SDD Statistiques offres'!G:G,'SDD Statistiques offres'!D:D),0) -> 44645.405 | J18: =IFERROR(VLOOKUP(H18,'SDD Statistiques offres'!G:O,2,0),"") -> Diffusée | K18: =IFERROR(VLOOKUP(H18,'SDD Statistiques offres'!G:O,5,0),"") -> ADJOINT AU DIRECTEUR DES PROJETS H/F | L18: =IFERROR(VLOOKUP(H18,'SDD Statistiques offres'!G:O,9,0),"") -> 1027 | M18: AAA | N18: AAA | O18: AAA | P18: A traiter | Q18: Réponse à offre | R18: =COUNTIF(H:H,H18) -> 1 | S18: =COUNTIFS(H:H,H18,P:P,"Attente retour opérationnel suite envoi CV pour avis") -> 0 | T18: =COUNTIFS(H:H,H18,P:P,"Proposition d'embauche envoyée") -> 0 | U18: =COUNTIFS(H:H,H18,P:P,"Embauché") -> 0 | V18: 44762.528 | W18: =IFERROR(V18*1,"") -> 44762.528 | X18: 44762.53 | Y18: 44762.444 | Z18: 212869 | AA18: Front Office | AB18: HHH | AC18: HHH | AD18: Recherche active | AG18: RESPONSABLE EXPLOITATION | AJ18: 212869
A19: 244854 | C19: 44762.529 | D19: 44762.529 | F19: AAA | G19: 19 | H19: 2022-4574 | I19: =IFERROR(_xlfn.XLOOKUP(H19,'SDD Statistiques offres'!G:G,'SDD Statistiques offres'!D:D),0) -> 0 | J19: =IFERROR(VLOOKUP(H19,'SDD Statistiques offres'!G:O,2,0),"") | K19: =IFERROR(VLOOKUP(H19,'SDD Statistiques offres'!G:O,5,0),"") | L19: =IFERROR(VLOOKUP(H19,'SDD Statistiques offres'!G:O,9,0),"") | M19: BBB | N19: BBB | O19: BBB | P19: A traiter | Q19: Réponse à offre | R19: =COUNTIF(H:H,H19) -> 1 | S19: =COUNTIFS(H:H,H19,P:P,"Attente retour opérationnel suite envoi CV pour avis") -> 0 | T19: =COUNTIFS(H:H,H19,P:P,"Proposition d'embauche envoyée") -> 0 | U19: =COUNTIFS(H:H,H19,P:P,"Embauché") -> 0 | V19: 44762.529 | W19: =IFERROR(V19*1,"") -> 44762.529 | X19: 44762.529 | Y19: 44762.446 | Z19: 212870 | AA19: Front Office | AB19: Administrateur Administrateur | AC19: Administrateur Administrateur | AD19: Recherche active | AJ19: 212870
A20: 244855 | C20: 44762.53 | D20: 44762.53 | F20: AAA | G20: 17 | H20: 2021-3217 | I20: =IFERROR(_xlfn.XLOOKUP(H20,'SDD Statistiques offres'!G:G,'SDD Statistiques offres'!D:D),0) -> 0 | J20: =IFERROR(VLOOKUP(H20,'SDD Statistiques offres'!G:O,2,0),"") | K20: =IFERROR(VLOOKUP(H20,'SDD Statistiques offres'!G:O,5,0),"") | L20: =IFERROR(VLOOKUP(H20,'SDD Statistiques offres'!G:O,9,0),"") | M20: CCC | N20: CCC | O20: CCC | P20: A traiter | Q20: Réponse à offre | R20: =COUNTIF(H:H,H20) -> 1 | S20: =COUNTIFS(H:H,H20,P:P,"Attente retour opérationnel suite envoi CV pour avis") -> 0 | T20: =COUNTIFS(H:H,H20,P:P,"Proposition d'embauche envoyée") -> 0 | U20: =COUNTIFS(H:H,H20,P:P,"Embauché") -> 0 | V20: 44762.528 | W20: =IFERROR(V20*1,"") -> 44762.528 | X20: 44762.53 | Y20: 44762.444 | Z20: 212869 | AA20: Front Office | AB20: AAA | AC20: AAA | AD20: Recherche active | AG20: RESPONSABLE EXPLOITATION | AJ20: 212869
A21: 244856 | C21: 44762.532 | D21: 44762.532 | F21: AAA | G21: 15 | H21: 2022-4716 | I21: =IFERROR(_xlfn.XLOOKUP(H21,'SDD Statistiques offres'!G:G,'SDD Statistiques offres'!D:D),0) -> 0 | J21: =IFERROR(VLOOKUP(H21,'SDD Statistiques offres'!G:O,2,0),"") | K21: =IFERROR(VLOOKUP(H21,'SDD Statistiques offres'!G:O,5,0),"") | L21: =IFERROR(VLOOKUP(H21,'SDD Statistiques offres'!G:O,9,0),"") | M21: DDD | N21: DDD | O21: DDD | P21: A traiter | Q21: Réponse à offre | R21: =COUNTIF(H:H,H21) -> 2 | S21: =COUNTIFS(H:H,H21,P:P,"Attente retour opérationnel suite envoi CV pour avis") -> 0 | T21: =COUNTIFS(H:H,H21,P:P,"Proposition d'embauche envoyée") -> 0 | U21: =COUNTIFS(H:H,H21,P:P,"Embauché") -> 0 | V21: 44762.532 | W21: =IFERROR(V21*1,"") -> 44762.532 | X21: 44762.532 | Y21: 44762.448 | Z21: 212871 | AA21: Front Office | AB21: BBB | AC21: BBB | AD21: Recherche active | AJ21: 212871
A22: 244845 | C22: 44762.515 | D22: 44762.513 | E22: 44762.515 | F22: AAA | G22: 17 | I22: =IFERROR(_xlfn.XLOOKUP(H22,'SDD Statistiques offres'!G:G,'SDD Statistiques offres'!D:D),0) -> 0 | J22: =IFERROR(VLOOKUP(H22,'SDD Statistiques offres'!G:O,2,0),"") | K22: =IFERROR(VLOOKUP(H22,'SDD Statistiques offres'!G:O,5,0),"") | L22: =IFERROR(VLOOKUP(H22,'SDD Statistiques offres'!G:O,9,0),"") | M22: EEE | N22: EEE | O22: EEE | P22: A traiter | Q22: Candidature spontanée | R22: =COUNTIF(H:H,H22) -> 1048435 | S22: =COUNTIFS(H:H,H22,P:P,"Attente retour opérationnel suite envoi CV pour avis") -> 0 | T22: =COUNTIFS(H:H,H22,P:P,"Proposition d'embauche envoyée") -> 0 | U22: =COUNTIFS(H:H,H22,P:P,"Embauché") -> 0 | V22: 44762.515 | W22: =IFERROR(V22*1,"") -> 44762.515 | Z22: 212863 | AA22: Back Office | AB22: CCC | AC22: CCC | AD22: Recherche active | AG22: EXPERT TECHNIQUE | AH22: France | AJ22: 212863
A23: 244846 | C23: 44762.518 | D23: 44762.518 | F23: AAA | G23: 15 | H23: 2022-4571 | I23: =IFERROR(_xlfn.XLOOKUP(H23,'SDD Statistiques offres'!G:G,'SDD Statistiques offres'!D:D),0) -> 0 | J23: =IFERROR(VLOOKUP(H23,'SDD Statistiques offres'!G:O,2,0),"") | K23: =IFERROR(VLOOKUP(H23,'SDD Statistiques offres'!G:O,5,0),"") | L23: =IFERROR(VLOOKUP(H23,'SDD Statistiques offres'!G:O,9,0),"") | M23: FFF | N23: FFF | O23: FFF | P23: A traiter | Q23: Réponse à offre | R23: =COUNTIF(H:H,H23) -> 1 | S23: =COUNTIFS(H:H,H23,P:P,"Attente retour opérationnel suite envoi CV pour avis") -> 0 | T23: =COUNTIFS(H:H,H23,P:P,"Proposition d'embauche envoyée") -> 0 | U23: =COUNTIFS(H:H,H23,P:P,"Embauché") -> 0 | V23: 44762.518 | W23: =IFERROR(V23*1,"") -> 44762.518 | X23: 44762.518 | Y23: 44762.434 | Z23: 212864 | AB23: DDD | AC23: DDD | AD23: Recherche active | AG23: AGENT D'ACCUEIL | AJ23: 212864
A24: 244847 | C24: 44762.518 | D24: 44762.515 | E24: 44762.518 | F24: AAA | G24: 17 | I24: =IFERROR(_xlfn.XLOOKUP(H24,'SDD Statistiques offres'!G:G,'SDD Statistiques offres'!D:D),0) -> 0 | J24: =IFERROR(VLOOKUP(H24,'SDD Statistiques offres'!G:O,2,0),"") | K24: =IFERROR(VLOOKUP(H24,'SDD Statistiques offres'!G:O,5,0),"") | L24: =IFERROR(VLOOKUP(H24,'SDD Statistiques offres'!G:O,9,0),"") | M24: GGG | N24: GGG | O24: GGG | P24: A traiter | Q24: Candidature spontanée | R24: =COUNTIF(H:H,H24) -> 1048435 | S24: =COUNTIFS(H:H,H24,P:P,"Attente retour opérationnel suite envoi CV pour avis") -> 0 | T24: =COUNTIFS(H:H,H24,P:P,"Proposition d'embauche envoyée") -> 0 | U24: =COUNTIFS(H:H,H24,P:P,"Embauché") -> 0 | V24: 44762.518 | W24: =IFERROR(V24*1,"") -> 44762.518 | Z24: 212865 | AA24: Back Office | AB24: EEE | AC24: EEE | AD24: Recherche active | AG24: CHEF DE PROJET | AH24: France | AJ24: 212865
A25: 244848 | C25: 44762.52 | D25: 44762.52 | F25: AAA | G25: 13 | H25: 2022-4713 | I25: =IFERROR(_xlfn.XLOOKUP(H25,'SDD Statistiques offres'!G:G,'SDD Statistiques offres'!D:D),0) -> 0 | J25: =IFERROR(VLOOKUP(H25,'SDD Statistiques offres'!G:O,2,0),"") | K25: =IFERROR(VLOOKUP(H25,'SDD Statistiques offres'!G:O,5,0),"") | L25: =IFERROR(VLOOKUP(H25,'SDD Statistiques offres'!G:O,9,0),"") | M25: HHH | N25: HHH | O25: HHH | P25: A traiter | Q25: Réponse à offre | R25: =COUNTIF(H:H,H25) -> 1 | S25: =COUNTIFS(H:H,H25,P:P,"Attente retour opérationnel suite envoi CV pour avis") -> 0 | T25: =COUNTIFS(H:H,H25,P:P,"Proposition d'embauche envoyée") -> 0 | U25: =COUNTIFS(H:H,H25,P:P,"Embauché") -> 0 | V25: 44696.61 | W25: =IFERROR(V25*1,"") -> 44696.61 | X25: 44762.52 | Y25: 44762.436 | Z25: 203670 | AA25: Front Office | AB25: FFF | AC25: FFF | AD25: Recherche active | AJ25: 203670
A26: 244849 | C26: 44762.523 | D26: 44762.523 | F26: AAA | G26: 16 | H26: 2022-4676 | I26: =IFERROR(_xlfn.XLOOKUP(H26,'SDD Statistiques offres'!G:G,'SDD Statistiques offres'!D:D),0) -> 0 | J26: =IFERROR(VLOOKUP(H26,'SDD Statistiques offres'!G:O,2,0),"") | K26: =IFERROR(VLOOKUP(H26,'SDD Statistiques offres'!G:O,5,0),"") | L26: =IFERROR(VLOOKUP(H26,'SDD Statistiques offres'!G:O,9,0),"") | M26: AAA | N26: AAA | O26: AAA | P26: A traiter | Q26: Réponse à offre | R26: =COUNTIF(H:H,H26) -> 1 | S26: =COUNTIFS(H:H,H26,P:P,"Attente retour opérationnel suite envoi CV pour avis") -> 0 | T26: =COUNTIFS(H:H,H26,P:P,"Proposition d'embauche envoyée") -> 0 | U26: =COUNTIFS(H:H,H26,P:P,"Embauché") -> 0 | V26: 44762.523 | W26: =IFERROR(V26*1,"") -> 44762.523 | X26: 44762.523 | Y26: 44762.44 | Z26: 212866 | AA26: Front Office | AB26: GGG | AC26: GGG | AD26: Recherche active | AJ26: 212866
A27: 244850 | C27: 44762.524 | D27: 44762.524 | F27: AAA | G27: 14 | H27: 2022-4707 | I27: =IFERROR(_xlfn.XLOOKUP(H27,'SDD Statistiques offres'!G:G,'SDD Statistiques offres'!D:D),0) -> 0 | J27: =IFERROR(VLOOKUP(H27,'SDD Statistiques offres'!G:O,2,0),"") | K27: =IFERROR(VLOOKUP(H27,'SDD Statistiques offres'!G:O,5,0),"") | L27: =IFERROR(VLOOKUP(H27,'SDD Statistiques offres'!G:O,9,0),"") | M27: BBB | N27: BBB | O27: BBB | P27: A traiter | Q27: Réponse à offre | R27: =COUNTIF(H:H,H27) -> 8 | S27: =COUNTIFS(H:H,H27,P:P,"Attente retour opérationnel suite envoi CV pour avis") -> 0 | T27: =COUNTIFS(H:H,H27,P:P,"Proposition d'embauche envoyée") -> 0 | U27: =COUNTIFS(H:H,H27,P:P,"Embauché") -> 0 | V27: 44762.524 | W27: =IFERROR(V27*1,"") -> 44762.524 | X27: 44762.524 | Y27: 44762.44 | Z27: 212867 | AA27: Front Office | AB27: HHH | AC27: HHH | AD27: Recherche active | AJ27: 212867
A28: 244839 | C28: 44762.507 | D28: 44762.507 | F28: AAA | G28: 11 | H28: 2022-4333 | I28: =IFERROR(_xlfn.XLOOKUP(H28,'SDD Statistiques offres'!G:G,'SDD Statistiques offres'!D:D),0) -> 0 | J28: =IFERROR(VLOOKUP(H28,'SDD Statistiques offres'!G:O,2,0),"") | K28: =IFERROR(VLOOKUP(H28,'SDD Statistiques offres'!G:O,5,0),"") | L28: =IFERROR(VLOOKUP(H28,'SDD Statistiques offres'!G:O,9,0),"") | M28: CCC | N28: CCC | O28: CCC | P28: A traiter | Q28: Positionné sur offre | R28: =COUNTIF(H:H,H28) -> 4 | S28: =COUNTIFS(H:H,H28,P:P,"Attente retour opérationnel suite envoi CV pour avis") -> 0 | T28: =COUNTIFS(H:H,H28,P:P,"Proposition d'embauche envoyée") -> 0 | U28: =COUNTIFS(H:H,H28,P:P,"Embauché") -> 0 | V28: 44742.458 | W28: =IFERROR(V28*1,"") -> 44742.458 | X28: 44762.507 | Y28: 44742.375 | Z28: 211445 | AA28: Front Office | AB28: Administrateur Administrateur | AC28: Administrateur Administrateur | AD28: Recherche active | AG28: CHARGE(E) DE MISSION RH | AJ28: 211445
A29: 244840 | C29: 44762.508 | D29: 44762.508 | F29: AAA | G29: 14 | H29: 2022-4470 | I29: =IFERROR(_xlfn.XLOOKUP(H29,'SDD Statistiques offres'!G:G,'SDD Statistiques offres'!D:D),0) -> 0 | J29: =IFERROR(VLOOKUP(H29,'SDD Statistiques offres'!G:O,2,0),"") | K29: =IFERROR(VLOOKUP(H29,'SDD Statistiques offres'!G:O,5,0),"") | L29: =IFERROR(VLOOKUP(H29,'SDD Statistiques offres'!G:O,9,0),"") | M29: DDD | N29: DDD | O29: DDD | P29: A traiter | Q29: Réponse à offre | R29: =COUNTIF(H:H,H29) -> 2 | S29: =COUNTIFS(H:H,H29,P:P,"Attente retour opérationnel suite envoi CV pour avis") -> 0 | T29: =COUNTIFS(H:H,H29,P:P,"Proposition d'embauche envoyée") -> 0 | U29: =COUNTIFS(H:H,H29,P:P,"Embauché") -> 0 | V29: 44762.508 | W29: =IFERROR(V29*1,"") -> 44762.508 | X29: 44762.508 | Y29: 44762.425 | Z29: 212861 | AA29: Front Office | AB29: AAA | AC29: AAA | AD29: Recherche active | AJ29: 212861
A30: 244841 | C30: 44762.511 | D30: 44762.511 | F30: AAA | G30: 15 | H30: 2022-4333 | I30: =IFERROR(_xlfn.XLOOKUP(H30,'SDD Statistiques offres'!G:G,'SDD Statistiques offres'!D:D),0) -> 0 | J30: =IFERROR(VLOOKUP(H30,'SDD Statistiques offres'!G:O,2,0),"") | K30: =IFERROR(VLOOKUP(H30,'SDD Statistiques offres'!G:O,5,0),"") | L30: =IFERROR(VLOOKUP(H30,'SDD Statistiques offres'!G:O,9,0),"") | M30: EEE | N30: EEE | O30: EEE | P30: A traiter | Q30: Positionné sur offre | R30: =COUNTIF(H:H,H30) -> 4 | S30: =COUNTIFS(H:H,H30,P:P,"Attente retour opérationnel suite envoi CV pour avis") -> 0 | T30: =COUNTIFS(H:H,H30,P:P,"Proposition d'embauche envoyée") -> 0 | U30: =COUNTIFS(H:H,H30,P:P,"Embauché") -> 0 | V30: 44753.664 | W30: =IFERROR(V30*1,"") -> 44753.664 | X30: 44762.511 | Y30: 44753.581 | Z30: 212034 | AA30: Front Office | AB30: BBB | AC30: BBB | AD30: Recherche active | AG30: CHARGE(E) DE MISSION RH | AJ30: 212034
A31: 244842 | C31: 44762.512 | D31: 44762.512 | F31: AAA | G31: 10 | H31: 2022-4694 | I31: =IFERROR(_xlfn.XLOOKUP(H31,'SDD Statistiques offres'!G:G,'SDD Statistiques offres'!D:D),0) -> 44755.684 | J31: =IFERROR(VLOOKUP(H31,'SDD Statistiques offres'!G:O,2,0),"") -> Diffusée | K31: =IFERROR(VLOOKUP(H31,'SDD Statistiques offres'!G:O,5,0),"") -> INGENIEUR D'ETUDES H/F | L31: =IFERROR(VLOOKUP(H31,'SDD Statistiques offres'!G:O,9,0),"") -> 1062 | M31: FFF | N31: FFF | O31: FFF | P31: A traiter | Q31: Réponse à offre | R31: =COUNTIF(H:H,H31) -> 7 | S31: =COUNTIFS(H:H,H31,P:P,"Attente retour opérationnel suite envoi CV pour avis") -> 0 | T31: =COUNTIFS(H:H,H31,P:P,"Proposition d'embauche envoyée") -> 0 | U31: =COUNTIFS(H:H,H31,P:P,"Embauché") -> 0 | V31: 44762.512 | W31: =IFERROR(V31*1,"") -> 44762.512 | X31: 44762.512 | Y31: 44762.429 | Z31: 212862 | AA31: Front Office | AB31: CCC | AC31: CCC | AD31: Recherche active | AG31: DIRECTEUR DE BU | AJ31: 212862
A32: 244843 | C32: 44762.513 | D32: 44762.513 | F32: AAA | G32: 12 | H32: 2022-4333 | I32: =IFERROR(_xlfn.XLOOKUP(H32,'SDD Statistiques offres'!G:G,'SDD Statistiques offres'!D:D),0) -> 0 | J32: =IFERROR(VLOOKUP(H32,'SDD Statistiques offres'!G:O,2,0),"") | K32: =IFERROR(VLOOKUP(H32,'SDD Statistiques offres'!G:O,5,0),"") | L32: =IFERROR(VLOOKUP(H32,'SDD Statistiques offres'!G:O,9,0),"") | M32: GGG | N32: GGG | O32: GGG | P32: A traiter | Q32: Positionné sur offre | R32: =COUNTIF(H:H,H32) -> 4 | S32: =COUNTIFS(H:H,H32,P:P,"Attente retour opérationnel suite envoi CV pour avis") -> 0 | T32: =COUNTIFS(H:H,H32,P:P,"Proposition d'embauche envoyée") -> 0 | U32: =COUNTIFS(H:H,H32,P:P,"Embauché") -> 0 | V32: 44755.73 | W32: =IFERROR(V32*1,"") -> 44755.73 | X32: 44762.513 | Y32: 44755.646 | Z32: 212242 | AA32: Front Office | AB32: DDD | AC32: DDD | AD32: Recherche active | AJ32: 212242
A33: 244844 | C33: 44762.514 | D33: 44762.514 | F33: AAA | G33: 11 | H33: 2022-4333 | I33: =IFERROR(_xlfn.XLOOKUP(H33,'SDD Statistiques offres'!G:G,'SDD Statistiques offres'!D:D),0) -> 0 | J33: =IFERROR(VLOOKUP(H33,'SDD Statistiques offres'!G:O,2,0),"") | K33: =IFERROR(VLOOKUP(H33,'SDD Statistiques offres'!G:O,5,0),"") | L33: =IFERROR(VLOOKUP(H33,'SDD Statistiques offres'!G:O,9,0),"") | M33: HHH | N33: HHH | O33: HHH | P33: A traiter | Q33: Positionné sur offre | R33: =COUNTIF(H:H,H33) -> 4 | S33: =COUNTIFS(H:H,H33,P:P,"Attente retour opérationnel suite envoi CV pour avis") -> 0 | T33: =COUNTIFS(H:H,H33,P:P,"Proposition d'embauche envoyée") -> 0 | U33: =COUNTIFS(H:H,H33,P:P,"Embauché") -> 0 | V33: 44759.034 | W33: =IFERROR(V33*1,"") -> 44759.034 | X33: 44762.514 | Y33: 44758.951 | Z33: 212535 | AA33: Front Office | AB33: EEE | AC33: EEE | AD33: Recherche active | AJ33: 212535
A34: 244833 | C34: 44762.486 | D34: 44762.486 | F34: AAA | G34: 12 | H34: 2022-4465 | I34: =IFERROR(_xlfn.XLOOKUP(H34,'SDD Statistiques offres'!G:G,'SDD Statistiques offres'!D:D),0) -> 0 | J34: =IFERROR(VLOOKUP(H34,'SDD Statistiques offres'!G:O,2,0),"") | K34: =IFERROR(VLOOKUP(H34,'SDD Statistiques offres'!G:O,5,0),"") | L34: =IFERROR(VLOOKUP(H34,'SDD Statistiques offres'!G:O,9,0),"") | M34: AAA | N34: AAA | O34: AAA | P34: A traiter | Q34: Réponse à offre | R34: =COUNTIF(H:H,H34) -> 1 | S34: =COUNTIFS(H:H,H34,P:P,"Attente retour opérationnel suite envoi CV pour avis") -> 0 | T34: =COUNTIFS(H:H,H34,P:P,"Proposition d'embauche envoyée") -> 0 | U34: =COUNTIFS(H:H,H34,P:P,"Embauché") -> 0 | V34: 44762.486 | W34: =IFERROR(V34*1,"") -> 44762.486 | X34: 44762.486 | Y34: 44762.403 | Z34: 212855 | AA34: Front Office | AB34: FFF | AC34: FFF | AD34: Recherche active | AJ34: 212855
A35: 244834 | C35: 44762.486 | D35: 44762.486 | F35: AAA | G35: 17 | H35: 2022-4694 | I35: =IFERROR(_xlfn.XLOOKUP(H35,'SDD Statistiques offres'!G:G,'SDD Statistiques offres'!D:D),0) -> 44755.684 | J35: =IFERROR(VLOOKUP(H35,'SDD Statistiques offres'!G:O,2,0),"") -> Diffusée | K35: =IFERROR(VLOOKUP(H35,'SDD Statistiques offres'!G:O,5,0),"") -> INGENIEUR D'ETUDES H/F | L35: =IFERROR(VLOOKUP(H35,'SDD Statistiques offres'!G:O,9,0),"") -> 1062 | M35: BBB | N35: BBB | O35: BBB | P35: A traiter | Q35: Réponse à offre | R35: =COUNTIF(H:H,H35) -> 7 | S35: =COUNTIFS(H:H,H35,P:P,"Attente retour opérationnel suite envoi CV pour avis") -> 0 | T35: =COUNTIFS(H:H,H35,P:P,"Proposition d'embauche envoyée") -> 0 | U35: =COUNTIFS(H:H,H35,P:P,"Embauché") -> 0 | V35: 44762.486 | W35: =IFERROR(V35*1,"") -> 44762.486 | X35: 44762.486 | Y35: 44762.403 | Z35: 212856 | AA35: Front Office | AB35: GGG | AC35: GGG | AD35: Recherche active | AG35: DIRECTEUR D'EXPLOITATION | AJ35: 212856
A36: 244835 | C36: 44762.49 | D36: 44762.49 | F36: AAA | G36: 10 | H36: 2022-4702 | I36: =IFERROR(_xlfn.XLOOKUP(H36,'SDD Statistiques offres'!G:G,'SDD Statistiques offres'!D:D),0) -> 0 | J36: =IFERROR(VLOOKUP(H36,'SDD Statistiques offres'!G:O,2,0),"") | K36: =IFERROR(VLOOKUP(H36,'SDD Statistiques offres'!G:O,5,0),"") | L36: =IFERROR(VLOOKUP(H36,'SDD Statistiques offres'!G:O,9,0),"") | M36: CCC | N36: CCC | O36: CCC | P36: A traiter | Q36: Réponse à offre | R36: =COUNTIF(H:H,H36) -> 1 | S36: =COUNTIFS(H:H,H36,P:P,"Attente retour opérationnel suite envoi CV pour avis") -> 0 | T36: =COUNTIFS(H:H,H36,P:P,"Proposition d'embauche envoyée") -> 0 | U36: =COUNTIFS(H:H,H36,P:P,"Embauché") -> 0 | V36: 44762.49 | W36: =IFERROR(V36*1,"") -> 44762.49 | X36: 44762.49 | Y36: 44762.406 | Z36: 212857 | AA36: Front Office | AB36: HHH | AC36: HHH | AD36: Recherche active | AJ36: 212857
A37: 244836 | C37: 44762.496 | D37: 44762.496 | F37: AAA | G37: 15 | H37: 2022-4719 | I37: =IFERROR(_xlfn.XLOOKUP(H37,'SDD Statistiques offres'!G:G,'SDD Statistiques offres'!D:D),0) -> 0 | J37: =IFERROR(VLOOKUP(H37,'SDD Statistiques offres'!G:O,2,0),"") | K37: =IFERROR(VLOOKUP(H37,'SDD Statistiques offres'!G:O,5,0),"") | L37: =IFERROR(VLOOKUP(H37,'SDD Statistiques offres'!G:O,9,0),"") | M37: DDD | N37: DDD | O37: DDD | P37: A traiter | Q37: Réponse à offre | R37: =COUNTIF(H:H,H37) -> 8 | S37: =COUNTIFS(H:H,H37,P:P,"Attente retour opérationnel suite envoi CV pour avis") -> 0 | T37: =COUNTIFS(H:H,H37,P:P,"Proposition d'embauche envoyée") -> 0 | U37: =COUNTIFS(H:H,H37,P:P,"Embauché") -> 0 | V37: 44762.496 | W37: =IFERROR(V37*1,"") -> 44762.496 | X37: 44762.496 | Y37: 44762.412 | Z37: 212858 | AA37: Front Office | AB37: Administrateur Administrateur | AC37: Administrateur Administrateur | AD37: Recherche active | AJ37: 212858
A38: 244837 | C38: 44762.497 | D38: 44762.497 | F38: AAA | G38: 15 | H38: 2022-4182 | I38: =IFERROR(_xlfn.XLOOKUP(H38,'SDD Statistiques offres'!G:G,'SDD Statistiques offres'!D:D),0) -> 0 | J38: =IFERROR(VLOOKUP(H38,'SDD Statistiques offres'!G:O,2,0),"") | K38: =IFERROR(VLOOKUP(H38,'SDD Statistiques offres'!G:O,5,0),"") | L38: =IFERROR(VLOOKUP(H38,'SDD Statistiques offres'!G:O,9,0),"") | M38: EEE | N38: EEE | O38: EEE | P38: A traiter | Q38: Réponse à offre | R38: =COUNTIF(H:H,H38) -> 2 | S38: =COUNTIFS(H:H,H38,P:P,"Attente retour opérationnel suite envoi CV pour avis") -> 0 | T38: =COUNTIFS(H:H,H38,P:P,"Proposition d'embauche envoyée") -> 0 | U38: =COUNTIFS(H:H,H38,P:P,"Embauché") -> 0 | V38: 44762.497 | W38: =IFERROR(V38*1,"") -> 44762.497 | X38: 44762.497 | Y38: 44762.414 | Z38: 212859 | AA38: Front Office | AB38: AAA | AC38: AAA | AD38: Recherche active | AJ38: 212859
A39: 244838 | C39: 44762.499 | D39: 44762.499 | F39: AAA | G39: 17 | H39: 2022-4694 | I39: =IFERROR(_xlfn.XLOOKUP(H39,'SDD Statistiques offres'!G:G,'SDD Statistiques offres'!D:D),0) -> 44755.684 | J39: =IFERROR(VLOOKUP(H39,'SDD Statistiques offres'!G:O,2,0),"") -> Diffusée | K39: =IFERROR(VLOOKUP(H39,'SDD Statistiques offres'!G:O,5,0),"") -> INGENIEUR D'ETUDES H/F | L39: =IFERROR(VLOOKUP(H39,'SDD Statistiques offres'!G:O,9,0),"") -> 1062 | M39: FFF | N39: FFF | O39: FFF | P39: A traiter | Q39: Réponse à offre | R39: =COUNTIF(H:H,H39) -> 7 | S39: =COUNTIFS(H:H,H39,P:P,"Attente retour opérationnel suite envoi CV pour avis") -> 0 | T39: =COUNTIFS(H:H,H39,P:P,"Proposition d'embauche envoyée") -> 0 | U39: =COUNTIFS(H:H,H39,P:P,"Embauché") -> 0 | V39: 44762.499 | W39: =IFERROR(V39*1,"") -> 44762.499 | X39: 44762.499 | Y39: 44762.415 | Z39: 212860 | AA39: Front Office | AB39: BBB | AC39: BBB | AD39: Recherche active | AJ39: 212860
A40: 244827 | C40: 44762.456 | D40: 44762.456 | F40: AAA | G40: 12 | H40: 2022-4517 | I40: =IFERROR(_xlfn.XLOOKUP(H40,'SDD Statistiques offres'!G:G,'SDD Statistiques offres'!D:D),0) -> 0 | J40: =IFERROR(VLOOKUP(H40,'SDD Statistiques offres'!G:O,2,0),"") | K40: =IFERROR(VLOOKUP(H40,'SDD Statistiques offres'!G:O,5,0),"") | L40: =IFERROR(VLOOKUP(H40,'SDD Statistiques offres'!G:O,9,0),"") | M40: GGG | N40: GGG | O40: GGG | P40: A traiter | Q40: Réponse à offre | R40: =COUNTIF(H:H,H40) -> 1 | S40: =COUNTIFS(H:H,H40,P:P,"Attente retour opérationnel suite envoi CV pour avis") -> 0 | T40: =COUNTIFS(H:H,H40,P:P,"Proposition d'embauche envoyée") -> 0 | U40: =COUNTIFS(H:H,H40,P:P,"Embauché") -> 0 | V40: 44762.456 | W40: =IFERROR(V40*1,"") -> 44762.456 | X40: 44762.456 | Y40: 44762.372 | Z40: 212849 | AA40: Front Office | AB40: CCC | AC40: CCC | AD40: Recherche active | AJ40: 212849
...

Sheet Candidatures par offres
A1: Entité | B1: (Tous)
A2: Statut de l'offre | B2: (Tous)
A3: Année candidature | B3: (Tous)
A4: Mois candidature | B4: (Tous)
A5: Date de la candidature | B5: (Tous)
A6: Année création offre | B6: (Tous)
A7: Mois création Offre | B7: (Tous)
A8: Date Creation offre | B8: (Tous)
A10: Référence de l'offre | B10: Nb de CV par offre | C10: Nb CV transmis pour avis | D10: Nb Propositions d'embauche envoyées par offre | E10: Nb d'embauches pour une offre
B11: 1048435 | C11: 0 | D11: 0 | E11: 0
A12: CQSE SLB-40 | B12: 1 | C12: 0 | D12: 0 | E12: 0
A13: 2013-59 | B13: 1 | C13: 0 | D13: 0 | E13: 0
A14: 2022-4604 | B14: 2 | C14: 0 | D14: 0 | E14: 0
A15: 2022-4494 | B15: 2 | C15: 0 | D15: 0 | E15: 0
A16: 2022-3829 | B16: 1 | C16: 0 | D16: 0 | E16: 0
A17: 2022-4655 | B17: 1 | C17: 0 | D17: 0 | E17: 0
A18: 2022-4467 | B18: 6 | C18: 0 | D18: 0 | E18: 0
A19: 2022-4381 | B19: 1 | C19: 0 | D19: 0 | E19: 0
A20: 2022-4716 | B20: 2 | C20: 0 | D20: 0 | E20: 0
A21: 2022-4342 | B21: 4 | C21: 0 | D21: 0 | E21: 0
A22: 2022-4006 | B22: 1 | C22: 0 | D22: 0 | E22: 0
A23: 2022-4574 | B23: 1 | C23: 0 | D23: 0 | E23: 0
... A90: 2022-4430 | B90: 1 | C90: 0 | D90: 0 | E90: 0
