Workbook

Sheet SPP
A1: EFFECTIFS PREVISIONNELS PROFESSIONNELS (EGJD)
A3: GPT | B3: CIS | C3: Effectif théorique | E3: 44757 | G3: =E3+1 -> 44758 | I3: =G3+1 -> 44759 | K3: =I3+1 -> 44760 | M3: =K3+1 -> 44761 | O3: =M3+1 -> 44762 | Q3: =O3+1 -> 44763 | S3: =Q3+1 -> 44764 | U3: =S3+1 -> 44765 | W3: =U3+1 -> 44766 | Y3: =W3+1 -> 44767 | AA3: =Y3+1 -> 44768 | AC3: =AA3+1 -> 44769 | AE3: =AC3+1 -> 44770 | AG3: =AE3+1 -> 44771
E4: =IF(WEEKDAY(E3,2)>5,"WE","") | F4: =COUNTIF(BDD!$B5:$Z17,E6) -> 0 | G4: =IF(WEEKDAY(G3,2)>5,"WE","") -> WE | H4: =COUNTIF(BDD!$B5:$Z17,G6) -> 0 | I4: =IF(WEEKDAY(I3,2)>5,"WE","") -> WE | J4: =COUNTIF(BDD!$B5:$Z17,I6) -> 0 | K4: =IF(WEEKDAY(K3,2)>5,"WE","") | L4: =COUNTIF(BDD!$B5:$Z17,K6) -> 0 | M4: =IF(WEEKDAY(M3,2)>5,"WE","") | N4: =COUNTIF(BDD!$B5:$Z17,M6) -> 0 | O4: =IF(WEEKDAY(O3,2)>5,"WE","") | P4: =COUNTIF(BDD!$B5:$Z17,O6) -> 0 | Q4: =IF(WEEKDAY(Q3,2)>5,"WE","") | R4: =COUNTIF(BDD!$B5:$Z17,Q6) -> 0 | S4: =IF(WEEKDAY(S3,2)>5,"WE","") | T4: =COUNTIF(BDD!$B5:$Z17,S6) -> 0 | U4: =IF(WEEKDAY(U3,2)>5,"WE","") -> WE | V4: =COUNTIF(BDD!$B5:$Z17,U6) -> 0 | W4: =IF(WEEKDAY(W3,2)>5,"WE","") -> WE | X4: =COUNTIF(BDD!$B5:$Z17,W6) -> 0 | Y4: =IF(WEEKDAY(Y3,2)>5,"WE","") | Z4: =COUNTIF(BDD!$B5:$Z17,Y6) -> 0 | AA4: =IF(WEEKDAY(AA3,2)>5,"WE","") | AB4: =COUNTIF(BDD!$B5:$Z17,AA6) -> 0 | AC4: =IF(WEEKDAY(AC3,2)>5,"WE","") | AD4: =COUNTIF(BDD!$B5:$Z17,AC6) -> 0 | AE4: =IF(WEEKDAY(AE3,2)>5,"WE","") | AF4: =COUNTIF(BDD!$B5:$Z17,AE6) -> 0 | AG4: =IF(WEEKDAY(AG3,2)>5,"WE","") | AH4: =COUNTIF(BDD!$B5:$Z17,AG6) -> 0
E5: =UPPER((TEXT(E3,"jjj"))) -> VEN | G5: =UPPER((TEXT(G3,"jjj"))) -> SAM | I5: =UPPER((TEXT(I3,"jjj"))) -> DIM | K5: =UPPER((TEXT(K3,"jjj"))) -> LUN | M5: =UPPER((TEXT(M3,"jjj"))) -> MAR | O5: =UPPER((TEXT(O3,"jjj"))) -> MER | Q5: =UPPER((TEXT(Q3,"jjj"))) -> JEU | S5: =UPPER((TEXT(S3,"jjj"))) -> VEN | U5: =UPPER((TEXT(U3,"jjj"))) -> SAM | W5: =UPPER((TEXT(W3,"jjj"))) -> DIM | Y5: =UPPER((TEXT(Y3,"jjj"))) -> LUN | AA5: =UPPER((TEXT(AA3,"jjj"))) -> MAR | AC5: =UPPER((TEXT(AC3,"jjj"))) -> MER | AE5: =UPPER((TEXT(AE3,"jjj"))) -> JEU | AG5: =UPPER((TEXT(AG3,"jjj"))) -> VEN
E6: =TEXT(E3,"JJ/MM/AAA") -> 15/07/2022 | F6: =TEXT(E3,"JJ/MM/AAA") -> 15/07/2022 | G6: =TEXT(G3,"JJ/MM/AAA") -> 16/07/2022 | H6: =TEXT(G3,"JJ/MM/AAA") -> 16/07/2022 | I6: =TEXT(I3,"JJ/MM/AAA") -> 17/07/2022 | J6: =TEXT(I3,"JJ/MM/AAA") -> 17/07/2022 | K6: =TEXT(K3,"JJ/MM/AAA") -> 18/07/2022 | L6: =TEXT(K3,"JJ/MM/AAA") -> 18/07/2022 | M6: =TEXT(M3,"JJ/MM/AAA") -> 19/07/2022 | N6: =TEXT(M3,"JJ/MM/AAA") -> 19/07/2022 | O6: =TEXT(O3,"JJ/MM/AAA") -> 20/07/2022 | P6: =TEXT(O3,"JJ/MM/AAA") -> 20/07/2022 | Q6: =TEXT(Q3,"JJ/MM/AAA") -> 21/07/2022 | R6: =TEXT(Q3,"JJ/MM/AAA") -> 21/07/2022 | S6: =TEXT(S3,"JJ/MM/AAA") -> 22/07/2022 | T6: =TEXT(S3,"JJ/MM/AAA") -> 22/07/2022 | U6: =TEXT(U3,"JJ/MM/AAA") -> 23/07/2022 | V6: =TEXT(U3,"JJ/MM/AAA") -> 23/07/2022 | W6: =TEXT(W3,"JJ/MM/AAA") -> 24/07/2022 | X6: =TEXT(W3,"JJ/MM/AAA") -> 24/07/2022 | Y6: =TEXT(Y3,"JJ/MM/AAA") -> 25/07/2022 | Z6: =TEXT(Y3,"JJ/MM/AAA") -> 25/07/2022 | AA6: =TEXT(AA3,"JJ/MM/AAA") -> 26/07/2022 | AB6: =TEXT(AA3,"JJ/MM/AAA") -> 26/07/2022 | AC6: =TEXT(AC3,"JJ/MM/AAA") -> 27/07/2022 | AD6: =TEXT(AC3,"JJ/MM/AAA") -> 27/07/2022 | AE6: =TEXT(AE3,"JJ/MM/AAA") -> 28/07/2022 | AF6: =TEXT(AE3,"JJ/MM/AAA") -> 28/07/2022 | AG6: =TEXT(AG3,"JJ/MM/AAA") -> 29/07/2022 | AH6: =TEXT(AG3,"JJ/MM/AAA") -> 29/07/2022
C7: Diurne | D7: Nocturne | E7: D | F7: N | G7: D | H7: N | I7: D | J7: N | K7: D | L7: N | M7: D | N7: N | O7: D | P7: N | Q7: D | R7: N | S7: D | T7: N | U7: D | V7: N | W7: D | X7: N | Y7: D | Z7: N | AA7: D | AB7: N | AC7: D | AD7: N | AE7: D | AF7: N | AG7: D | AH7: N
B8: AAA | C8: 12 | D8: 9 | E8: =COUNTIF('Inser données'!$J:$J,"Garde"&"£"&"24h"&"£"&"PRO"&"£"&$B8&"£"&E$6)+COUNTIF('Inser données'!$J:$J,"Garde"&"£"&"JOUR"&"£"&"PRO"&"£"&$B8&"£"&E$6) -> 0 | F8: =COUNTIF('Inser données'!$J:$J,"Garde"&"£"&"24h"&"£"&"PRO"&"£"&$B8&"£"&F$6)+COUNTIF('Inser données'!$J:$J,"Garde"&"£"&"NUIT"&"£"&"PRO"&"£"&$B8&"£"&F$6) -> 0 | G8: =COUNTIF('Inser données'!$J:$J,"Garde"&"£"&"24h"&"£"&"PRO"&"£"&$B8&"£"&G$6)+COUNTIF('Inser données'!$J:$J,"Garde"&"£"&"JOUR"&"£"&"PRO"&"£"&$B8&"£"&G$6) -> 0 | H8: =COUNTIF('Inser données'!$J:$J,"Garde"&"£"&"24h"&"£"&"PRO"&"£"&$B8&"£"&H$6)+COUNTIF('Inser données'!$J:$J,"Garde"&"£"&"NUIT"&"£"&"PRO"&"£"&$B8&"£"&H$6) -> 0 | I8: =COUNTIF('Inser données'!$J:$J,"Garde"&"£"&"24h"&"£"&"PRO"&"£"&$B8&"£"&I$6)+COUNTIF('Inser données'!$J:$J,"Garde"&"£"&"JOUR"&"£"&"PRO"&"£"&$B8&"£"&I$6) -> 0 | J8: =COUNTIF('Inser données'!$J:$J,"Garde"&"£"&"24h"&"£"&"PRO"&"£"&$B8&"£"&J$6)+COUNTIF('Inser données'!$J:$J,"Garde"&"£"&"NUIT"&"£"&"PRO"&"£"&$B8&"£"&J$6) -> 0 | K8: =COUNTIF('Inser données'!$J:$J,"Garde"&"£"&"24h"&"£"&"PRO"&"£"&$B8&"£"&K$6)+COUNTIF('Inser données'!$J:$J,"Garde"&"£"&"JOUR"&"£"&"PRO"&"£"&$B8&"£"&K$6) -> 0 | L8: =COUNTIF('Inser données'!$J:$J,"Garde"&"£"&"24h"&"£"&"PRO"&"£"&$B8&"£"&L$6)+COUNTIF('Inser données'!$J:$J,"Garde"&"£"&"NUIT"&"£"&"PRO"&"£"&$B8&"£"&L$6) -> 0 | M8: =COUNTIF('Inser données'!$J:$J,"Garde"&"£"&"24h"&"£"&"PRO"&"£"&$B8&"£"&M$6)+COUNTIF('Inser données'!$J:$J,"Garde"&"£"&"JOUR"&"£"&"PRO"&"£"&$B8&"£"&M$6) -> 0 | N8: =COUNTIF('Inser données'!$J:$J,"Garde"&"£"&"24h"&"£"&"PRO"&"£"&$B8&"£"&N$6)+COUNTIF('Inser données'!$J:$J,"Garde"&"£"&"NUIT"&"£"&"PRO"&"£"&$B8&"£"&N$6) -> 0 | O8: =COUNTIF('Inser données'!$J:$J,"Garde"&"£"&"24h"&"£"&"PRO"&"£"&$B8&"£"&O$6)+COUNTIF('Inser données'!$J:$J,"Garde"&"£"&"JOUR"&"£"&"PRO"&"£"&$B8&"£"&O$6) -> 0 | P8: =COUNTIF('Inser données'!$J:$J,"Garde"&"£"&"24h"&"£"&"PRO"&"£"&$B8&"£"&P$6)+COUNTIF('Inser données'!$J:$J,"Garde"&"£"&"NUIT"&"£"&"PRO"&"£"&$B8&"£"&P$6) -> 0 | Q8: =COUNTIF('Inser données'!$J:$J,"Garde"&"£"&"24h"&"£"&"PRO"&"£"&$B8&"£"&Q$6)+COUNTIF('Inser données'!$J:$J,"Garde"&"£"&"JOUR"&"£"&"PRO"&"£"&$B8&"£"&Q$6) -> 0 | R8: =COUNTIF('Inser données'!$J:$J,"Garde"&"£"&"24h"&"£"&"PRO"&"£"&$B8&"£"&R$6)+COUNTIF('Inser données'!$J:$J,"Garde"&"£"&"NUIT"&"£"&"PRO"&"£"&$B8&"£"&R$6) -> 0 | S8: =COUNTIF('Inser données'!$J:$J,"Garde"&"£"&"24h"&"£"&"PRO"&"£"&$B8&"£"&S$6)+COUNTIF('Inser données'!$J:$J,"Garde"&"£"&"JOUR"&"£"&"PRO"&"£"&$B8&"£"&S$6) -> 0 | T8: =COUNTIF('Inser données'!$J:$J,"Garde"&"£"&"24h"&"£"&"PRO"&"£"&$B8&"£"&T$6)+COUNTIF('Inser données'!$J:$J,"Garde"&"£"&"NUIT"&"£"&"PRO"&"£"&$B8&"£"&T$6) -> 0 | U8: =COUNTIF('Inser données'!$J:$J,"Garde"&"£"&"24h"&"£"&"PRO"&"£"&$B8&"£"&U$6)+COUNTIF('Inser données'!$J:$J,"Garde"&"£"&"JOUR"&"£"&"PRO"&"£"&$B8&"£"&U$6) -> 0 | V8: =COUNTIF('Inser données'!$J:$J,"Garde"&"£"&"24h"&"£"&"PRO"&"£"&$B8&"£"&V$6)+COUNTIF('Inser données'!$J:$J,"Garde"&"£"&"NUIT"&"£"&"PRO"&"£"&$B8&"£"&V$6) -> 0 | W8: =COUNTIF('Inser données'!$J:$J,"Garde"&"£"&"24h"&"£"&"PRO"&"£"&$B8&"£"&W$6)+COUNTIF('Inser données'!$J:$J,"Garde"&"£"&"JOUR"&"£"&"PRO"&"£"&$B8&"£"&W$6) -> 0 | X8: =COUNTIF('Inser données'!$J:$J,"Garde"&"£"&"24h"&"£"&"PRO"&"£"&$B8&"£"&X$6)+COUNTIF('Inser données'!$J:$J,"Garde"&"£"&"NUIT"&"£"&"PRO"&"£"&$B8&"£"&X$6) -> 0 | Y8: =COUNTIF('Inser données'!$J:$J,"Garde"&"£"&"24h"&"£"&"PRO"&"£"&$B8&"£"&Y$6)+COUNTIF('Inser données'!$J:$J,"Garde"&"£"&"JOUR"&"£"&"PRO"&"£"&$B8&"£"&Y$6) -> 0 | Z8: =COUNTIF('Inser données'!$J:$J,"Garde"&"£"&"24h"&"£"&"PRO"&"£"&$B8&"£"&Z$6)+COUNTIF('Inser données'!$J:$J,"Garde"&"£"&"NUIT"&"£"&"PRO"&"£"&$B8&"£"&Z$6) -> 0 | AA8: =COUNTIF('Inser données'!$J:$J,"Garde"&"£"&"24h"&"£"&"PRO"&"£"&$B8&"£"&AA$6)+COUNTIF('Inser données'!$J:$J,"Garde"&"£"&"JOUR"&"£"&"PRO"&"£"&$B8&"£"&AA$6) -> 0 | AB8: =COUNTIF('Inser données'!$J:$J,"Garde"&"£"&"24h"&"£"&"PRO"&"£"&$B8&"£"&AB$6)+COUNTIF('Inser données'!$J:$J,"Garde"&"£"&"NUIT"&"£"&"PRO"&"£"&$B8&"£"&AB$6) -> 0 | AC8: =COUNTIF('Inser données'!$J:$J,"Garde"&"£"&"24h"&"£"&"PRO"&"£"&$B8&"£"&AC$6)+COUNTIF('Inser données'!$J:$J,"Garde"&"£"&"JOUR"&"£"&"PRO"&"£"&$B8&"£"&AC$6) -> 0 | AD8: =COUNTIF('Inser données'!$J:$J,"Garde"&"£"&"24h"&"£"&"PRO"&"£"&$B8&"£"&AD$6)+COUNTIF('Inser données'!$J:$J,"Garde"&"£"&"NUIT"&"£"&"PRO"&"£"&$B8&"£"&AD$6) -> 0 | AE8: =COUNTIF('Inser données'!$J:$J,"Garde"&"£"&"24h"&"£"&"PRO"&"£"&$B8&"£"&AE$6)+COUNTIF('Inser données'!$J:$J,"Garde"&"£"&"JOUR"&"£"&"PRO"&"£"&$B8&"£"&AE$6) -> 0 | AF8: =COUNTIF('Inser données'!$J:$J,"Garde"&"£"&"24h"&"£"&"PRO"&"£"&$B8&"£"&AF$6)+COUNTIF('Inser données'!$J:$J,"Garde"&"£"&"NUIT"&"£"&"PRO"&"£"&$B8&"£"&AF$6) -> 0 | AG8: =COUNTIF('Inser données'!$J:$J,"Garde"&"£"&"24h"&"£"&"PRO"&"£"&$B8&"£"&AG$6)+COUNTIF('Inser données'!$J:$J,"Garde"&"£"&"JOUR"&"£"&"PRO"&"£"&$B8&"£"&AG$6) -> 0 | AH8: =COUNTIF('Inser données'!$J:$J,"Garde"&"£"&"24h"&"£"&"PRO"&"£"&$B8&"£"&AH$6)+COUNTIF('Inser données'!$J:$J,"Garde"&"£"&"NUIT"&"£"&"PRO"&"£"&$B8&"£"&AH$6) -> 0
B9: BBB | C9: 4 | D9: 4 | E9: =COUNTIF('Inser données'!$J:$J,"Garde"&"£"&"24h"&"£"&"PRO"&"£"&$B9&"£"&E$6)+COUNTIF('Inser données'!$J:$J,"Garde"&"£"&"JOUR"&"£"&"PRO"&"£"&$B9&"£"&E$6) -> 0 | F9: =COUNTIF('Inser données'!$J:$J,"Garde"&"£"&"24h"&"£"&"PRO"&"£"&$B9&"£"&F$6)+COUNTIF('Inser données'!$J:$J,"Garde"&"£"&"NUIT"&"£"&"PRO"&"£"&$B9&"£"&F$6) -> 0 | G9: =COUNTIF('Inser données'!$J:$J,"Garde"&"£"&"24h"&"£"&"PRO"&"£"&$B9&"£"&G$6)+COUNTIF('Inser données'!$J:$J,"Garde"&"£"&"JOUR"&"£"&"PRO"&"£"&$B9&"£"&G$6) -> 0 | H9: =COUNTIF('Inser données'!$J:$J,"Garde"&"£"&"24h"&"£"&"PRO"&"£"&$B9&"£"&H$6)+COUNTIF('Inser données'!$J:$J,"Garde"&"£"&"NUIT"&"£"&"PRO"&"£"&$B9&"£"&H$6) -> 0 | I9: =COUNTIF('Inser données'!$J:$J,"Garde"&"£"&"24h"&"£"&"PRO"&"£"&$B9&"£"&I$6)+COUNTIF('Inser données'!$J:$J,"Garde"&"£"&"JOUR"&"£"&"PRO"&"£"&$B9&"£"&I$6) -> 0 | J9: =COUNTIF('Inser données'!$J:$J,"Garde"&"£"&"24h"&"£"&"PRO"&"£"&$B9&"£"&J$6)+COUNTIF('Inser données'!$J:$J,"Garde"&"£"&"NUIT"&"£"&"PRO"&"£"&$B9&"£"&J$6) -> 0 | K9: =COUNTIF('Inser données'!$J:$J,"Garde"&"£"&"24h"&"£"&"PRO"&"£"&$B9&"£"&K$6)+COUNTIF('Inser données'!$J:$J,"Garde"&"£"&"JOUR"&"£"&"PRO"&"£"&$B9&"£"&K$6) -> 0 | L9: =COUNTIF('Inser données'!$J:$J,"Garde"&"£"&"24h"&"£"&"PRO"&"£"&$B9&"£"&L$6)+COUNTIF('Inser données'!$J:$J,"Garde"&"£"&"NUIT"&"£"&"PRO"&"£"&$B9&"£"&L$6) -> 0 | M9: =COUNTIF('Inser données'!$J:$J,"Garde"&"£"&"24h"&"£"&"PRO"&"£"&$B9&"£"&M$6)+COUNTIF('Inser données'!$J:$J,"Garde"&"£"&"JOUR"&"£"&"PRO"&"£"&$B9&"£"&M$6) -> 0 | N9: =COUNTIF('Inser données'!$J:$J,"Garde"&"£"&"24h"&"£"&"PRO"&"£"&$B9&"£"&N$6)+COUNTIF('Inser données'!$J:$J,"Garde"&"£"&"NUIT"&"£"&"PRO"&"£"&$B9&"£"&N$6) -> 0 | O9: =COUNTIF('Inser données'!$J:$J,"Garde"&"£"&"24h"&"£"&"PRO"&"£"&$B9&"£"&O$6)+COUNTIF('Inser données'!$J:$J,"Garde"&"£"&"JOUR"&"£"&"PRO"&"£"&$B9&"£"&O$6) -> 0 | P9: =COUNTIF('Inser données'!$J:$J,"Garde"&"£"&"24h"&"£"&"PRO"&"£"&$B9&"£"&P$6)+COUNTIF('Inser données'!$J:$J,"Garde"&"£"&"NUIT"&"£"&"PRO"&"£"&$B9&"£"&P$6) -> 0 | Q9: =COUNTIF('Inser données'!$J:$J,"Garde"&"£"&"24h"&"£"&"PRO"&"£"&$B9&"£"&Q$6)+COUNTIF('Inser données'!$J:$J,"Garde"&"£"&"JOUR"&"£"&"PRO"&"£"&$B9&"£"&Q$6) -> 0 | R9: =COUNTIF('Inser données'!$J:$J,"Garde"&"£"&"24h"&"£"&"PRO"&"£"&$B9&"£"&R$6)+COUNTIF('Inser données'!$J:$J,"Garde"&"£"&"NUIT"&"£"&"PRO"&"£"&$B9&"£"&R$6) -> 0 | S9: =COUNTIF('Inser données'!$J:$J,"Garde"&"£"&"24h"&"£"&"PRO"&"£"&$B9&"£"&S$6)+COUNTIF('Inser données'!$J:$J,"Garde"&"£"&"JOUR"&"£"&"PRO"&"£"&$B9&"£"&S$6) -> 0 | T9: =COUNTIF('Inser données'!$J:$J,"Garde"&"£"&"24h"&"£"&"PRO"&"£"&$B9&"£"&T$6)+COUNTIF('Inser données'!$J:$J,"Garde"&"£"&"NUIT"&"£"&"PRO"&"£"&$B9&"£"&T$6) -> 0 | U9: =COUNTIF('Inser données'!$J:$J,"Garde"&"£"&"24h"&"£"&"PRO"&"£"&$B9&"£"&U$6)+COUNTIF('Inser données'!$J:$J,"Garde"&"£"&"JOUR"&"£"&"PRO"&"£"&$B9&"£"&U$6) -> 0 | V9: =COUNTIF('Inser données'!$J:$J,"Garde"&"£"&"24h"&"£"&"PRO"&"£"&$B9&"£"&V$6)+COUNTIF('Inser données'!$J:$J,"Garde"&"£"&"NUIT"&"£"&"PRO"&"£"&$B9&"£"&V$6) -> 0 | W9: =COUNTIF('Inser données'!$J:$J,"Garde"&"£"&"24h"&"£"&"PRO"&"£"&$B9&"£"&W$6)+COUNTIF('Inser données'!$J:$J,"Garde"&"£"&"JOUR"&"£"&"PRO"&"£"&$B9&"£"&W$6) -> 0 | X9: =COUNTIF('Inser données'!$J:$J,"Garde"&"£"&"24h"&"£"&"PRO"&"£"&$B9&"£"&X$6)+COUNTIF('Inser données'!$J:$J,"Garde"&"£"&"NUIT"&"£"&"PRO"&"£"&$B9&"£"&X$6) -> 0 | Y9: =COUNTIF('Inser données'!$J:$J,"Garde"&"£"&"24h"&"£"&"PRO"&"£"&$B9&"£"&Y$6)+COUNTIF('Inser données'!$J:$J,"Garde"&"£"&"JOUR"&"£"&"PRO"&"£"&$B9&"£"&Y$6) -> 0 | Z9: =COUNTIF('Inser données'!$J:$J,"Garde"&"£"&"24h"&"£"&"PRO"&"£"&$B9&"£"&Z$6)+COUNTIF('Inser données'!$J:$J,"Garde"&"£"&"NUIT"&"£"&"PRO"&"£"&$B9&"£"&Z$6) -> 0 | AA9: =COUNTIF('Inser données'!$J:$J,"Garde"&"£"&"24h"&"£"&"PRO"&"£"&$B9&"£"&AA$6)+COUNTIF('Inser données'!$J:$J,"Garde"&"£"&"JOUR"&"£"&"PRO"&"£"&$B9&"£"&AA$6) -> 0 | AB9: =COUNTIF('Inser données'!$J:$J,"Garde"&"£"&"24h"&"£"&"PRO"&"£"&$B9&"£"&AB$6)+COUNTIF('Inser données'!$J:$J,"Garde"&"£"&"NUIT"&"£"&"PRO"&"£"&$B9&"£"&AB$6) -> 0 | AC9: =COUNTIF('Inser données'!$J:$J,"Garde"&"£"&"24h"&"£"&"PRO"&"£"&$B9&"£"&AC$6)+COUNTIF('Inser données'!$J:$J,"Garde"&"£"&"JOUR"&"£"&"PRO"&"£"&$B9&"£"&AC$6) -> 0 | AD9: =COUNTIF('Inser données'!$J:$J,"Garde"&"£"&"24h"&"£"&"PRO"&"£"&$B9&"£"&AD$6)+COUNTIF('Inser données'!$J:$J,"Garde"&"£"&"NUIT"&"£"&"PRO"&"£"&$B9&"£"&AD$6) -> 0 | AE9: =COUNTIF('Inser données'!$J:$J,"Garde"&"£"&"24h"&"£"&"PRO"&"£"&$B9&"£"&AE$6)+COUNTIF('Inser données'!$J:$J,"Garde"&"£"&"JOUR"&"£"&"PRO"&"£"&$B9&"£"&AE$6) -> 0 | AF9: =COUNTIF('Inser données'!$J:$J,"Garde"&"£"&"24h"&"£"&"PRO"&"£"&$B9&"£"&AF$6)+COUNTIF('Inser données'!$J:$J,"Garde"&"£"&"NUIT"&"£"&"PRO"&"£"&$B9&"£"&AF$6) -> 0 | AG9: =COUNTIF('Inser données'!$J:$J,"Garde"&"£"&"24h"&"£"&"PRO"&"£"&$B9&"£"&AG$6)+COUNTIF('Inser données'!$J:$J,"Garde"&"£"&"JOUR"&"£"&"PRO"&"£"&$B9&"£"&AG$6) -> 0 | AH9: =COUNTIF('Inser données'!$J:$J,"Garde"&"£"&"24h"&"£"&"PRO"&"£"&$B9&"£"&AH$6)+COUNTIF('Inser données'!$J:$J,"Garde"&"£"&"NUIT"&"£"&"PRO"&"£"&$B9&"£"&AH$6) -> 0
B10: CCC | C10: 9 | D10: 7 | E10: =COUNTIF('Inser données'!$J:$J,"Garde"&"£"&"24h"&"£"&"PRO"&"£"&$B10&"£"&E$6)+COUNTIF('Inser données'!$J:$J,"Garde"&"£"&"JOUR"&"£"&"PRO"&"£"&$B10&"£"&E$6) -> 0 | F10: =COUNTIF('Inser données'!$J:$J,"Garde"&"£"&"24h"&"£"&"PRO"&"£"&$B10&"£"&F$6)+COUNTIF('Inser données'!$J:$J,"Garde"&"£"&"NUIT"&"£"&"PRO"&"£"&$B10&"£"&F$6) -> 0 | G10: =COUNTIF('Inser données'!$J:$J,"Garde"&"£"&"24h"&"£"&"PRO"&"£"&$B10&"£"&G$6)+COUNTIF('Inser données'!$J:$J,"Garde"&"£"&"JOUR"&"£"&"PRO"&"£"&$B10&"£"&G$6) -> 0 | H10: =COUNTIF('Inser données'!$J:$J,"Garde"&"£"&"24h"&"£"&"PRO"&"£"&$B10&"£"&H$6)+COUNTIF('Inser données'!$J:$J,"Garde"&"£"&"NUIT"&"£"&"PRO"&"£"&$B10&"£"&H$6) -> 0 | I10: =COUNTIF('Inser données'!$J:$J,"Garde"&"£"&"24h"&"£"&"PRO"&"£"&$B10&"£"&I$6)+COUNTIF('Inser données'!$J:$J,"Garde"&"£"&"JOUR"&"£"&"PRO"&"£"&$B10&"£"&I$6) -> 0 | J10: =COUNTIF('Inser données'!$J:$J,"Garde"&"£"&"24h"&"£"&"PRO"&"£"&$B10&"£"&J$6)+COUNTIF('Inser données'!$J:$J,"Garde"&"£"&"NUIT"&"£"&"PRO"&"£"&$B10&"£"&J$6) -> 0 | K10: =COUNTIF('Inser données'!$J:$J,"Garde"&"£"&"24h"&"£"&"PRO"&"£"&$B10&"£"&K$6)+COUNTIF('Inser données'!$J:$J,"Garde"&"£"&"JOUR"&"£"&"PRO"&"£"&$B10&"£"&K$6) -> 0 | L10: =COUNTIF('Inser données'!$J:$J,"Garde"&"£"&"24h"&"£"&"PRO"&"£"&$B10&"£"&L$6)+COUNTIF('Inser données'!$J:$J,"Garde"&"£"&"NUIT"&"£"&"PRO"&"£"&$B10&"£"&L$6) -> 0 | M10: =COUNTIF('Inser données'!$J:$J,"Garde"&"£"&"24h"&"£"&"PRO"&"£"&$B10&"£"&M$6)+COUNTIF('Inser données'!$J:$J,"Garde"&"£"&"JOUR"&"£"&"PRO"&"£"&$B10&"£"&M$6) -> 0 | N10: =COUNTIF('Inser données'!$J:$J,"Garde"&"£"&"24h"&"£"&"PRO"&"£"&$B10&"£"&N$6)+COUNTIF('Inser données'!$J:$J,"Garde"&"£"&"NUIT"&"£"&"PRO"&"£"&$B10&"£"&N$6) -> 0 | O10: =COUNTIF('Inser données'!$J:$J,"Garde"&"£"&"24h"&"£"&"PRO"&"£"&$B10&"£"&O$6)+COUNTIF('Inser données'!$J:$J,"Garde"&"£"&"JOUR"&"£"&"PRO"&"£"&$B10&"£"&O$6) -> 0 | P10: =COUNTIF('Inser données'!$J:$J,"Garde"&"£"&"24h"&"£"&"PRO"&"£"&$B10&"£"&P$6)+COUNTIF('Inser données'!$J:$J,"Garde"&"£"&"NUIT"&"£"&"PRO"&"£"&$B10&"£"&P$6) -> 0 | Q10: =COUNTIF('Inser données'!$J:$J,"Garde"&"£"&"24h"&"£"&"PRO"&"£"&$B10&"£"&Q$6)+COUNTIF('Inser données'!$J:$J,"Garde"&"£"&"JOUR"&"£"&"PRO"&"£"&$B10&"£"&Q$6) -> 0 | R10: =COUNTIF('Inser données'!$J:$J,"Garde"&"£"&"24h"&"£"&"PRO"&"£"&$B10&"£"&R$6)+COUNTIF('Inser données'!$J:$J,"Garde"&"£"&"NUIT"&"£"&"PRO"&"£"&$B10&"£"&R$6) -> 0 | S10: =COUNTIF('Inser données'!$J:$J,"Garde"&"£"&"24h"&"£"&"PRO"&"£"&$B10&"£"&S$6)+COUNTIF('Inser données'!$J:$J,"Garde"&"£"&"JOUR"&"£"&"PRO"&"£"&$B10&"£"&S$6) -> 0 | T10: =COUNTIF('Inser données'!$J:$J,"Garde"&"£"&"24h"&"£"&"PRO"&"£"&$B10&"£"&T$6)+COUNTIF('Inser données'!$J:$J,"Garde"&"£"&"NUIT"&"£"&"PRO"&"£"&$B10&"£"&T$6) -> 0 | U10: =COUNTIF('Inser données'!$J:$J,"Garde"&"£"&"24h"&"£"&"PRO"&"£"&$B10&"£"&U$6)+COUNTIF('Inser données'!$J:$J,"Garde"&"£"&"JOUR"&"£"&"PRO"&"£"&$B10&"£"&U$6) -> 0 | V10: =COUNTIF('Inser données'!$J:$J,"Garde"&"£"&"24h"&"£"&"PRO"&"£"&$B10&"£"&V$6)+COUNTIF('Inser données'!$J:$J,"Garde"&"£"&"NUIT"&"£"&"PRO"&"£"&$B10&"£"&V$6) -> 0 | W10: =COUNTIF('Inser données'!$J:$J,"Garde"&"£"&"24h"&"£"&"PRO"&"£"&$B10&"£"&W$6)+COUNTIF('Inser données'!$J:$J,"Garde"&"£"&"JOUR"&"£"&"PRO"&"£"&$B10&"£"&W$6) -> 0 | X10: =COUNTIF('Inser données'!$J:$J,"Garde"&"£"&"24h"&"£"&"PRO"&"£"&$B10&"£"&X$6)+COUNTIF('Inser données'!$J:$J,"Garde"&"£"&"NUIT"&"£"&"PRO"&"£"&$B10&"£"&X$6) -> 0 | Y10: =COUNTIF('Inser données'!$J:$J,"Garde"&"£"&"24h"&"£"&"PRO"&"£"&$B10&"£"&Y$6)+COUNTIF('Inser données'!$J:$J,"Garde"&"£"&"JOUR"&"£"&"PRO"&"£"&$B10&"£"&Y$6) -> 0 | Z10: =COUNTIF('Inser données'!$J:$J,"Garde"&"£"&"24h"&"£"&"PRO"&"£"&$B10&"£"&Z$6)+COUNTIF('Inser données'!$J:$J,"Garde"&"£"&"NUIT"&"£"&"PRO"&"£"&$B10&"£"&Z$6) -> 0 | AA10: =COUNTIF('Inser données'!$J:$J,"Garde"&"£"&"24h"&"£"&"PRO"&"£"&$B10&"£"&AA$6)+COUNTIF('Inser données'!$J:$J,"Garde"&"£"&"JOUR"&"£"&"PRO"&"£"&$B10&"£"&AA$6) -> 0 | AB10: =COUNTIF('Inser données'!$J:$J,"Garde"&"£"&"24h"&"£"&"PRO"&"£"&$B10&"£"&AB$6)+COUNTIF('Inser données'!$J:$J,"Garde"&"£"&"NUIT"&"£"&"PRO"&"£"&$B10&"£"&AB$6) -> 0 | AC10: =COUNTIF('Inser données'!$J:$J,"Garde"&"£"&"24h"&"£"&"PRO"&"£"&$B10&"£"&AC$6)+COUNTIF('Inser données'!$J:$J,"Garde"&"£"&"JOUR"&"£"&"PRO"&"£"&$B10&"£"&AC$6) -> 0 | AD10: =COUNTIF('Inser données'!$J:$J,"Garde"&"£"&"24h"&"£"&"PRO"&"£"&$B10&"£"&AD$6)+COUNTIF('Inser données'!$J:$J,"Garde"&"£"&"NUIT"&"£"&"PRO"&"£"&$B10&"£"&AD$6) -> 0 | AE10: =COUNTIF('Inser données'!$J:$J,"Garde"&"£"&"24h"&"£"&"PRO"&"£"&$B10&"£"&AE$6)+COUNTIF('Inser données'!$J:$J,"Garde"&"£"&"JOUR"&"£"&"PRO"&"£"&$B10&"£"&AE$6) -> 0 | AF10: =COUNTIF('Inser données'!$J:$J,"Garde"&"£"&"24h"&"£"&"PRO"&"£"&$B10&"£"&AF$6)+COUNTIF('Inser données'!$J:$J,"Garde"&"£"&"NUIT"&"£"&"PRO"&"£"&$B10&"£"&AF$6) -> 0 | AG10: =COUNTIF('Inser données'!$J:$J,"Garde"&"£"&"24h"&"£"&"PRO"&"£"&$B10&"£"&AG$6)+COUNTIF('Inser données'!$J:$J,"Garde"&"£"&"JOUR"&"£"&"PRO"&"£"&$B10&"£"&AG$6) -> 0 | AH10: =COUNTIF('Inser données'!$J:$J,"Garde"&"£"&"24h"&"£"&"PRO"&"£"&$B10&"£"&AH$6)+COUNTIF('Inser données'!$J:$J,"Garde"&"£"&"NUIT"&"£"&"PRO"&"£"&$B10&"£"&AH$6) -> 0
A11: TOTAL DES EFFECTIFS DES CIS (hors CPIA) | C11: 498 | D11: 445 | E11: =SUM(E8:E10) -> 0 | F11: =SUM(F8:F10) -> 0 | G11: =SUM(G8:G10) -> 0 | H11: =SUM(H8:H10) -> 0 | I11: =SUM(I8:I10) -> 0 | J11: =SUM(J8:J10) -> 0 | K11: =SUM(K8:K10) -> 0 | L11: =SUM(L8:L10) -> 0 | ... AH11: =SUM(AH8:AH10) -> 0
C12: MIN | D12: MAX
A13: ASTREINTE RENFORT DEP | C13: 28 | D13: 44 | F13: =COUNTIF('Inser données'!$K:$K,"Ast_logé"&"£"&"NUIT"&"£"&"PRO"&"£"&F$6) -> 0 | H13: =COUNTIF('Inser données'!$K:$K,"Ast_logé"&"£"&"NUIT"&"£"&"PRO"&"£"&H$6) -> 0 | J13: =COUNTIF('Inser données'!$K:$K,"Ast_logé"&"£"&"NUIT"&"£"&"PRO"&"£"&J$6) -> 0 | L13: =COUNTIF('Inser données'!$K:$K,"Ast_logé"&"£"&"NUIT"&"£"&"PRO"&"£"&L$6) -> 0 | N13: =COUNTIF('Inser données'!$K:$K,"Ast_logé"&"£"&"NUIT"&"£"&"PRO"&"£"&N$6) -> 0 | P13: =COUNTIF('Inser données'!$K:$K,"Ast_logé"&"£"&"NUIT"&"£"&"PRO"&"£"&P$6) -> 0 | R13: =COUNTIF('Inser données'!$K:$K,"Ast_logé"&"£"&"NUIT"&"£"&"PRO"&"£"&R$6) -> 0 | T13: =COUNTIF('Inser données'!$K:$K,"Ast_logé"&"£"&"NUIT"&"£"&"PRO"&"£"&T$6) -> 0 | V13: =COUNTIF('Inser données'!$K:$K,"Ast_logé"&"£"&"NUIT"&"£"&"PRO"&"£"&V$6) -> 0 | X13: =COUNTIF('Inser données'!$K:$K,"Ast_logé"&"£"&"NUIT"&"£"&"PRO"&"£"&X$6) -> 0 | Z13: =COUNTIF('Inser données'!$K:$K,"Ast_logé"&"£"&"NUIT"&"£"&"PRO"&"£"&Z$6) -> 0 | AB13: =COUNTIF('Inser données'!$K:$K,"Ast_logé"&"£"&"NUIT"&"£"&"PRO"&"£"&AB$6) -> 0 | AD13: =COUNTIF('Inser données'!$K:$K,"Ast_logé"&"£"&"NUIT"&"£"&"PRO"&"£"&AD$6) -> 0 | AF13: =COUNTIF('Inser données'!$K:$K,"Ast_logé"&"£"&"NUIT"&"£"&"PRO"&"£"&AF$6) -> 0 | AH13: =COUNTIF('Inser données'!$K:$K,"Ast_logé"&"£"&"NUIT"&"£"&"PRO"&"£"&AH$6) -> 0

Sheet SPV
A1: EFFECTIFS PREVISIONNELS VOLONTAIRES (EGJD)
A2: Effectifs hors officiers | B2: Gardes exclusives SAL non décomptées
A4: GPT | B4: CIS | C4: Effectif théorique | E4: 44757 | G4: =E4+1 -> 44758 | I4: =G4+1 -> 44759 | K4: =I4+1 -> 44760 | M4: =K4+1 -> 44761 | O4: =M4+1 -> 44762 | Q4: =O4+1 -> 44763 | S4: =Q4+1 -> 44764 | U4: =S4+1 -> 44765 | W4: =U4+1 -> 44766 | Y4: =W4+1 -> 44767 | AA4: =Y4+1 -> 44768 | AC4: =AA4+1 -> 44769 | AE4: =AC4+1 -> 44770 | AG4: =AE4+1 -> 44771
E5: =IF(WEEKDAY(E4,2)>5,"WE","") | F5: =COUNTIF(BDD!$B5:$Z17,E7) -> 0 | G5: =IF(WEEKDAY(G4,2)>5,"WE","") -> WE | H5: =COUNTIF(BDD!$B5:$Z17,G7) -> 0 | I5: =IF(WEEKDAY(I4,2)>5,"WE","") -> WE | J5: =COUNTIF(BDD!$B5:$Z17,I7) -> 0 | K5: =IF(WEEKDAY(K4,2)>5,"WE","") | L5: =COUNTIF(BDD!$B5:$Z17,K7) -> 0 | M5: =IF(WEEKDAY(M4,2)>5,"WE","") | N5: =COUNTIF(BDD!$B5:$Z17,M7) -> 0 | O5: =IF(WEEKDAY(O4,2)>5,"WE","") | P5: =COUNTIF(BDD!$B5:$Z17,O7) -> 0 | Q5: =IF(WEEKDAY(Q4,2)>5,"WE","") | R5: =COUNTIF(BDD!$B5:$Z17,Q7) -> 0 | S5: =IF(WEEKDAY(S4,2)>5,"WE","") | T5: =COUNTIF(BDD!$B5:$Z17,S7) -> 0 | U5: =IF(WEEKDAY(U4,2)>5,"WE","") -> WE | V5: =COUNTIF(BDD!$B5:$Z17,U7) -> 0 | W5: =IF(WEEKDAY(W4,2)>5,"WE","") -> WE | X5: =COUNTIF(BDD!$B5:$Z17,W7) -> 0 | Y5: =IF(WEEKDAY(Y4,2)>5,"WE","") | Z5: =COUNTIF(BDD!$B5:$Z17,Y7) -> 0 | AA5: =IF(WEEKDAY(AA4,2)>5,"WE","") | AB5: =COUNTIF(BDD!$B5:$Z17,AA7) -> 0 | AC5: =IF(WEEKDAY(AC4,2)>5,"WE","") | AD5: =COUNTIF(BDD!$B5:$Z17,AC7) -> 0 | AE5: =IF(WEEKDAY(AE4,2)>5,"WE","") | AF5: =COUNTIF(BDD!$B5:$Z17,AE7) -> 0 | AG5: =IF(WEEKDAY(AG4,2)>5,"WE","") | AH5: =COUNTIF(BDD!$B5:$Z17,AG7) -> 0
E6: =UPPER((TEXT(E4,"jjj"))) -> VEN | G6: =UPPER((TEXT(G4,"jjj"))) -> SAM | I6: =UPPER((TEXT(I4,"jjj"))) -> DIM | K6: =UPPER((TEXT(K4,"jjj"))) -> LUN | M6: =UPPER((TEXT(M4,"jjj"))) -> MAR | O6: =UPPER((TEXT(O4,"jjj"))) -> MER | Q6: =UPPER((TEXT(Q4,"jjj"))) -> JEU | S6: =UPPER((TEXT(S4,"jjj"))) -> VEN | U6: =UPPER((TEXT(U4,"jjj"))) -> SAM | W6: =UPPER((TEXT(W4,"jjj"))) -> DIM | Y6: =UPPER((TEXT(Y4,"jjj"))) -> LUN | AA6: =UPPER((TEXT(AA4,"jjj"))) -> MAR | AC6: =UPPER((TEXT(AC4,"jjj"))) -> MER | AE6: =UPPER((TEXT(AE4,"jjj"))) -> JEU | AG6: =UPPER((TEXT(AG4,"jjj"))) -> VEN
E7: =TEXT(E4,"JJ/MM/AAA") -> 15/07/2022 | F7: =TEXT(E4,"JJ/MM/AAA") -> 15/07/2022 | G7: =TEXT(G4,"JJ/MM/AAA") -> 16/07/2022 | H7: =TEXT(G4,"JJ/MM/AAA") -> 16/07/2022 | I7: =TEXT(I4,"JJ/MM/AAA") -> 17/07/2022 | J7: =TEXT(I4,"JJ/MM/AAA") -> 17/07/2022 | K7: =TEXT(K4,"JJ/MM/AAA") -> 18/07/2022 | L7: =TEXT(K4,"JJ/MM/AAA") -> 18/07/2022 | M7: =TEXT(M4,"JJ/MM/AAA") -> 19/07/2022 | N7: =TEXT(M4,"JJ/MM/AAA") -> 19/07/2022 | O7: =TEXT(O4,"JJ/MM/AAA") -> 20/07/2022 | P7: =TEXT(O4,"JJ/MM/AAA") -> 20/07/2022 | Q7: =TEXT(Q4,"JJ/MM/AAA") -> 21/07/2022 | R7: =TEXT(Q4,"JJ/MM/AAA") -> 21/07/2022 | S7: =TEXT(S4,"JJ/MM/AAA") -> 22/07/2022 | T7: =TEXT(S4,"JJ/MM/AAA") -> 22/07/2022 | U7: =TEXT(U4,"JJ/MM/AAA") -> 23/07/2022 | V7: =TEXT(U4,"JJ/MM/AAA") -> 23/07/2022 | W7: =TEXT(W4,"JJ/MM/AAA") -> 24/07/2022 | X7: =TEXT(W4,"JJ/MM/AAA") -> 24/07/2022 | Y7: =TEXT(Y4,"JJ/MM/AAA") -> 25/07/2022 | Z7: =TEXT(Y4,"JJ/MM/AAA") -> 25/07/2022 | AA7: =TEXT(AA4,"JJ/MM/AAA") -> 26/07/2022 | AB7: =TEXT(AA4,"JJ/MM/AAA") -> 26/07/2022 | AC7: =TEXT(AC4,"JJ/MM/AAA") -> 27/07/2022 | AD7: =TEXT(AC4,"JJ/MM/AAA") -> 27/07/2022 | AE7: =TEXT(AE4,"JJ/MM/AAA") -> 28/07/2022 | AF7: =TEXT(AE4,"JJ/MM/AAA") -> 28/07/2022 | AG7: =TEXT(AG4,"JJ/MM/AAA") -> 29/07/2022 | AH7: =TEXT(AG4,"JJ/MM/AAA") -> 29/07/2022
C8: Diunre | D8: Nocturne | E8: D | F8: N | G8: D | H8: N | I8: D | J8: N | K8: D | L8: N | M8: D | N8: N | O8: D | P8: N | Q8: D | R8: N | S8: D | T8: N | U8: D | V8: N | W8: D | X8: N | Y8: D | Z8: N | AA8: D | AB8: N | AC8: D | AD8: N | AE8: D | AF8: N | AG8: D | AH8: N
A9: EST | B9: AAA | C9: 12 | D9: 9 | E9: =COUNTIF('Inser données'!$J:$J,"Garde"&"£"&"24h"&"£"&"VOL"&"£"&$B9&"£"&E$7)+COUNTIF('Inser données'!$J:$J,"Garde"&"£"&"JOUR"&"£"&"VOL"&"£"&$B9&"£"&E$7) -> 0 | F9: =COUNTIF('Inser données'!$J:$J,"Garde"&"£"&"24h"&"£"&"VOL"&"£"&$B9&"£"&F$7)+COUNTIF('Inser données'!$J:$J,"Garde"&"£"&"NUIT"&"£"&"VOL"&"£"&$B9&"£"&F$7) -> 0 | G9: =COUNTIF('Inser données'!$J:$J,"Garde"&"£"&"24h"&"£"&"VOL"&"£"&$B9&"£"&G$7)+COUNTIF('Inser données'!$J:$J,"Garde"&"£"&"JOUR"&"£"&"VOL"&"£"&$B9&"£"&G$7) -> 0 | H9: =COUNTIF('Inser données'!$J:$J,"Garde"&"£"&"24h"&"£"&"VOL"&"£"&$B9&"£"&H$7)+COUNTIF('Inser données'!$J:$J,"Garde"&"£"&"NUIT"&"£"&"VOL"&"£"&$B9&"£"&H$7) -> 0 | I9: =COUNTIF('Inser données'!$J:$J,"Garde"&"£"&"24h"&"£"&"VOL"&"£"&$B9&"£"&I$7)+COUNTIF('Inser données'!$J:$J,"Garde"&"£"&"JOUR"&"£"&"VOL"&"£"&$B9&"£"&I$7) -> 0 | J9: =COUNTIF('Inser données'!$J:$J,"Garde"&"£"&"24h"&"£"&"VOL"&"£"&$B9&"£"&J$7)+COUNTIF('Inser données'!$J:$J,"Garde"&"£"&"NUIT"&"£"&"VOL"&"£"&$B9&"£"&J$7) -> 0 | K9: =COUNTIF('Inser données'!$J:$J,"Garde"&"£"&"24h"&"£"&"VOL"&"£"&$B9&"£"&K$7)+COUNTIF('Inser données'!$J:$J,"Garde"&"£"&"JOUR"&"£"&"VOL"&"£"&$B9&"£"&K$7) -> 0 | L9: =COUNTIF('Inser données'!$J:$J,"Garde"&"£"&"24h"&"£"&"VOL"&"£"&$B9&"£"&L$7)+COUNTIF('Inser données'!$J:$J,"Garde"&"£"&"NUIT"&"£"&"VOL"&"£"&$B9&"£"&L$7) -> 0 | M9: =COUNTIF('Inser données'!$J:$J,"Garde"&"£"&"24h"&"£"&"VOL"&"£"&$B9&"£"&M$7)+COUNTIF('Inser données'!$J:$J,"Garde"&"£"&"JOUR"&"£"&"VOL"&"£"&$B9&"£"&M$7) -> 0 | N9: =COUNTIF('Inser données'!$J:$J,"Garde"&"£"&"24h"&"£"&"VOL"&"£"&$B9&"£"&N$7)+COUNTIF('Inser données'!$J:$J,"Garde"&"£"&"NUIT"&"£"&"VOL"&"£"&$B9&"£"&N$7) -> 0 | O9: =COUNTIF('Inser données'!$J:$J,"Garde"&"£"&"24h"&"£"&"VOL"&"£"&$B9&"£"&O$7)+COUNTIF('Inser données'!$J:$J,"Garde"&"£"&"JOUR"&"£"&"VOL"&"£"&$B9&"£"&O$7) -> 0 | P9: =COUNTIF('Inser données'!$J:$J,"Garde"&"£"&"24h"&"£"&"VOL"&"£"&$B9&"£"&P$7)+COUNTIF('Inser données'!$J:$J,"Garde"&"£"&"NUIT"&"£"&"VOL"&"£"&$B9&"£"&P$7) -> 0 | Q9: =COUNTIF('Inser données'!$J:$J,"Garde"&"£"&"24h"&"£"&"VOL"&"£"&$B9&"£"&Q$7)+COUNTIF('Inser données'!$J:$J,"Garde"&"£"&"JOUR"&"£"&"VOL"&"£"&$B9&"£"&Q$7) -> 0 | R9: =COUNTIF('Inser données'!$J:$J,"Garde"&"£"&"24h"&"£"&"VOL"&"£"&$B9&"£"&R$7)+COUNTIF('Inser données'!$J:$J,"Garde"&"£"&"NUIT"&"£"&"VOL"&"£"&$B9&"£"&R$7) -> 0 | S9: =COUNTIF('Inser données'!$J:$J,"Garde"&"£"&"24h"&"£"&"VOL"&"£"&$B9&"£"&S$7)+COUNTIF('Inser données'!$J:$J,"Garde"&"£"&"JOUR"&"£"&"VOL"&"£"&$B9&"£"&S$7) -> 0 | T9: =COUNTIF('Inser données'!$J:$J,"Garde"&"£"&"24h"&"£"&"VOL"&"£"&$B9&"£"&T$7)+COUNTIF('Inser données'!$J:$J,"Garde"&"£"&"NUIT"&"£"&"VOL"&"£"&$B9&"£"&T$7) -> 0 | U9: =COUNTIF('Inser données'!$J:$J,"Garde"&"£"&"24h"&"£"&"VOL"&"£"&$B9&"£"&U$7)+COUNTIF('Inser données'!$J:$J,"Garde"&"£"&"JOUR"&"£"&"VOL"&"£"&$B9&"£"&U$7) -> 0 | V9: =COUNTIF('Inser données'!$J:$J,"Garde"&"£"&"24h"&"£"&"VOL"&"£"&$B9&"£"&V$7)+COUNTIF('Inser données'!$J:$J,"Garde"&"£"&"NUIT"&"£"&"VOL"&"£"&$B9&"£"&V$7) -> 0 | W9: =COUNTIF('Inser données'!$J:$J,"Garde"&"£"&"24h"&"£"&"VOL"&"£"&$B9&"£"&W$7)+COUNTIF('Inser données'!$J:$J,"Garde"&"£"&"JOUR"&"£"&"VOL"&"£"&$B9&"£"&W$7) -> 0 | X9: =COUNTIF('Inser données'!$J:$J,"Garde"&"£"&"24h"&"£"&"VOL"&"£"&$B9&"£"&X$7)+COUNTIF('Inser données'!$J:$J,"Garde"&"£"&"NUIT"&"£"&"VOL"&"£"&$B9&"£"&X$7) -> 0 | Y9: =COUNTIF('Inser données'!$J:$J,"Garde"&"£"&"24h"&"£"&"VOL"&"£"&$B9&"£"&Y$7)+COUNTIF('Inser données'!$J:$J,"Garde"&"£"&"JOUR"&"£"&"VOL"&"£"&$B9&"£"&Y$7) -> 0 | Z9: =COUNTIF('Inser données'!$J:$J,"Garde"&"£"&"24h"&"£"&"VOL"&"£"&$B9&"£"&Z$7)+COUNTIF('Inser données'!$J:$J,"Garde"&"£"&"NUIT"&"£"&"VOL"&"£"&$B9&"£"&Z$7) -> 0 | AA9: =COUNTIF('Inser données'!$J:$J,"Garde"&"£"&"24h"&"£"&"VOL"&"£"&$B9&"£"&AA$7)+COUNTIF('Inser données'!$J:$J,"Garde"&"£"&"JOUR"&"£"&"VOL"&"£"&$B9&"£"&AA$7) -> 0 | AB9: =COUNTIF('Inser données'!$J:$J,"Garde"&"£"&"24h"&"£"&"VOL"&"£"&$B9&"£"&AB$7)+COUNTIF('Inser données'!$J:$J,"Garde"&"£"&"NUIT"&"£"&"VOL"&"£"&$B9&"£"&AB$7) -> 0 | AC9: =COUNTIF('Inser données'!$J:$J,"Garde"&"£"&"24h"&"£"&"VOL"&"£"&$B9&"£"&AC$7)+COUNTIF('Inser données'!$J:$J,"Garde"&"£"&"JOUR"&"£"&"VOL"&"£"&$B9&"£"&AC$7) -> 0 | AD9: =COUNTIF('Inser données'!$J:$J,"Garde"&"£"&"24h"&"£"&"VOL"&"£"&$B9&"£"&AD$7)+COUNTIF('Inser données'!$J:$J,"Garde"&"£"&"NUIT"&"£"&"VOL"&"£"&$B9&"£"&AD$7) -> 0 | AE9: =COUNTIF('Inser données'!$J:$J,"Garde"&"£"&"24h"&"£"&"VOL"&"£"&$B9&"£"&AE$7)+COUNTIF('Inser données'!$J:$J,"Garde"&"£"&"JOUR"&"£"&"VOL"&"£"&$B9&"£"&AE$7) -> 0 | AF9: =COUNTIF('Inser données'!$J:$J,"Garde"&"£"&"24h"&"£"&"VOL"&"£"&$B9&"£"&AF$7)+COUNTIF('Inser données'!$J:$J,"Garde"&"£"&"NUIT"&"£"&"VOL"&"£"&$B9&"£"&AF$7) -> 0 | AG9: =COUNTIF('Inser données'!$J:$J,"Garde"&"£"&"24h"&"£"&"VOL"&"£"&$B9&"£"&AG$7)+COUNTIF('Inser données'!$J:$J,"Garde"&"£"&"JOUR"&"£"&"VOL"&"£"&$B9&"£"&AG$7) -> 0 | AH9: =COUNTIF('Inser données'!$J:$J,"Garde"&"£"&"24h"&"£"&"VOL"&"£"&$B9&"£"&AH$7)+COUNTIF('Inser données'!$J:$J,"Garde"&"£"&"NUIT"&"£"&"VOL"&"£"&$B9&"£"&AH$7) -> 0
B10: BBB | C10: 4 | D10: 4 | E10: =COUNTIF('Inser données'!$J:$J,"Garde"&"£"&"24h"&"£"&"VOL"&"£"&$B10&"£"&E$7)+COUNTIF('Inser données'!$J:$J,"Garde"&"£"&"JOUR"&"£"&"VOL"&"£"&$B10&"£"&E$7) -> 0 | F10: =COUNTIF('Inser données'!$J:$J,"Garde"&"£"&"24h"&"£"&"VOL"&"£"&$B10&"£"&F$7)+COUNTIF('Inser données'!$J:$J,"Garde"&"£"&"NUIT"&"£"&"VOL"&"£"&$B10&"£"&F$7) -> 0 | G10: =COUNTIF('Inser données'!$J:$J,"Garde"&"£"&"24h"&"£"&"VOL"&"£"&$B10&"£"&G$7)+COUNTIF('Inser données'!$J:$J,"Garde"&"£"&"JOUR"&"£"&"VOL"&"£"&$B10&"£"&G$7) -> 0 | H10: =COUNTIF('Inser données'!$J:$J,"Garde"&"£"&"24h"&"£"&"VOL"&"£"&$B10&"£"&H$7)+COUNTIF('Inser données'!$J:$J,"Garde"&"£"&"NUIT"&"£"&"VOL"&"£"&$B10&"£"&H$7) -> 0 | I10: =COUNTIF('Inser données'!$J:$J,"Garde"&"£"&"24h"&"£"&"VOL"&"£"&$B10&"£"&I$7)+COUNTIF('Inser données'!$J:$J,"Garde"&"£"&"JOUR"&"£"&"VOL"&"£"&$B10&"£"&I$7) -> 0 | J10: =COUNTIF('Inser données'!$J:$J,"Garde"&"£"&"24h"&"£"&"VOL"&"£"&$B10&"£"&J$7)+COUNTIF('Inser données'!$J:$J,"Garde"&"£"&"NUIT"&"£"&"VOL"&"£"&$B10&"£"&J$7) -> 0 | K10: =COUNTIF('Inser données'!$J:$J,"Garde"&"£"&"24h"&"£"&"VOL"&"£"&$B10&"£"&K$7)+COUNTIF('Inser données'!$J:$J,"Garde"&"£"&"JOUR"&"£"&"VOL"&"£"&$B10&"£"&K$7) -> 0 | L10: =COUNTIF('Inser données'!$J:$J,"Garde"&"£"&"24h"&"£"&"VOL"&"£"&$B10&"£"&L$7)+COUNTIF('Inser données'!$J:$J,"Garde"&"£"&"NUIT"&"£"&"VOL"&"£"&$B10&"£"&L$7) -> 0 | M10: =COUNTIF('Inser données'!$J:$J,"Garde"&"£"&"24h"&"£"&"VOL"&"£"&$B10&"£"&M$7)+COUNTIF('Inser données'!$J:$J,"Garde"&"£"&"JOUR"&"£"&"VOL"&"£"&$B10&"£"&M$7) -> 0 | N10: =COUNTIF('Inser données'!$J:$J,"Garde"&"£"&"24h"&"£"&"VOL"&"£"&$B10&"£"&N$7)+COUNTIF('Inser données'!$J:$J,"Garde"&"£"&"NUIT"&"£"&"VOL"&"£"&$B10&"£"&N$7) -> 0 | O10: =COUNTIF('Inser données'!$J:$J,"Garde"&"£"&"24h"&"£"&"VOL"&"£"&$B10&"£"&O$7)+COUNTIF('Inser données'!$J:$J,"Garde"&"£"&"JOUR"&"£"&"VOL"&"£"&$B10&"£"&O$7) -> 0 | P10: =COUNTIF('Inser données'!$J:$J,"Garde"&"£"&"24h"&"£"&"VOL"&"£"&$B10&"£"&P$7)+COUNTIF('Inser données'!$J:$J,"Garde"&"£"&"NUIT"&"£"&"VOL"&"£"&$B10&"£"&P$7) -> 0 | Q10: =COUNTIF('Inser données'!$J:$J,"Garde"&"£"&"24h"&"£"&"VOL"&"£"&$B10&"£"&Q$7)+COUNTIF('Inser données'!$J:$J,"Garde"&"£"&"JOUR"&"£"&"VOL"&"£"&$B10&"£"&Q$7) -> 0 | R10: =COUNTIF('Inser données'!$J:$J,"Garde"&"£"&"24h"&"£"&"VOL"&"£"&$B10&"£"&R$7)+COUNTIF('Inser données'!$J:$J,"Garde"&"£"&"NUIT"&"£"&"VOL"&"£"&$B10&"£"&R$7) -> 0 | S10: =COUNTIF('Inser données'!$J:$J,"Garde"&"£"&"24h"&"£"&"VOL"&"£"&$B10&"£"&S$7)+COUNTIF('Inser données'!$J:$J,"Garde"&"£"&"JOUR"&"£"&"VOL"&"£"&$B10&"£"&S$7) -> 0 | T10: =COUNTIF('Inser données'!$J:$J,"Garde"&"£"&"24h"&"£"&"VOL"&"£"&$B10&"£"&T$7)+COUNTIF('Inser données'!$J:$J,"Garde"&"£"&"NUIT"&"£"&"VOL"&"£"&$B10&"£"&T$7) -> 0 | U10: =COUNTIF('Inser données'!$J:$J,"Garde"&"£"&"24h"&"£"&"VOL"&"£"&$B10&"£"&U$7)+COUNTIF('Inser données'!$J:$J,"Garde"&"£"&"JOUR"&"£"&"VOL"&"£"&$B10&"£"&U$7) -> 0 | V10: =COUNTIF('Inser données'!$J:$J,"Garde"&"£"&"24h"&"£"&"VOL"&"£"&$B10&"£"&V$7)+COUNTIF('Inser données'!$J:$J,"Garde"&"£"&"NUIT"&"£"&"VOL"&"£"&$B10&"£"&V$7) -> 0 | W10: =COUNTIF('Inser données'!$J:$J,"Garde"&"£"&"24h"&"£"&"VOL"&"£"&$B10&"£"&W$7)+COUNTIF('Inser données'!$J:$J,"Garde"&"£"&"JOUR"&"£"&"VOL"&"£"&$B10&"£"&W$7) -> 0 | X10: =COUNTIF('Inser données'!$J:$J,"Garde"&"£"&"24h"&"£"&"VOL"&"£"&$B10&"£"&X$7)+COUNTIF('Inser données'!$J:$J,"Garde"&"£"&"NUIT"&"£"&"VOL"&"£"&$B10&"£"&X$7) -> 0 | Y10: =COUNTIF('Inser données'!$J:$J,"Garde"&"£"&"24h"&"£"&"VOL"&"£"&$B10&"£"&Y$7)+COUNTIF('Inser données'!$J:$J,"Garde"&"£"&"JOUR"&"£"&"VOL"&"£"&$B10&"£"&Y$7) -> 0 | Z10: =COUNTIF('Inser données'!$J:$J,"Garde"&"£"&"24h"&"£"&"VOL"&"£"&$B10&"£"&Z$7)+COUNTIF('Inser données'!$J:$J,"Garde"&"£"&"NUIT"&"£"&"VOL"&"£"&$B10&"£"&Z$7) -> 0 | AA10: =COUNTIF('Inser données'!$J:$J,"Garde"&"£"&"24h"&"£"&"VOL"&"£"&$B10&"£"&AA$7)+COUNTIF('Inser données'!$J:$J,"Garde"&"£"&"JOUR"&"£"&"VOL"&"£"&$B10&"£"&AA$7) -> 0 | AB10: =COUNTIF('Inser données'!$J:$J,"Garde"&"£"&"24h"&"£"&"VOL"&"£"&$B10&"£"&AB$7)+COUNTIF('Inser données'!$J:$J,"Garde"&"£"&"NUIT"&"£"&"VOL"&"£"&$B10&"£"&AB$7) -> 0 | AC10: =COUNTIF('Inser données'!$J:$J,"Garde"&"£"&"24h"&"£"&"VOL"&"£"&$B10&"£"&AC$7)+COUNTIF('Inser données'!$J:$J,"Garde"&"£"&"JOUR"&"£"&"VOL"&"£"&$B10&"£"&AC$7) -> 0 | AD10: =COUNTIF('Inser données'!$J:$J,"Garde"&"£"&"24h"&"£"&"VOL"&"£"&$B10&"£"&AD$7)+COUNTIF('Inser données'!$J:$J,"Garde"&"£"&"NUIT"&"£"&"VOL"&"£"&$B10&"£"&AD$7) -> 0 | AE10: =COUNTIF('Inser données'!$J:$J,"Garde"&"£"&"24h"&"£"&"VOL"&"£"&$B10&"£"&AE$7)+COUNTIF('Inser données'!$J:$J,"Garde"&"£"&"JOUR"&"£"&"VOL"&"£"&$B10&"£"&AE$7) -> 0 | AF10: =COUNTIF('Inser données'!$J:$J,"Garde"&"£"&"24h"&"£"&"VOL"&"£"&$B10&"£"&AF$7)+COUNTIF('Inser données'!$J:$J,"Garde"&"£"&"NUIT"&"£"&"VOL"&"£"&$B10&"£"&AF$7) -> 0 | AG10: =COUNTIF('Inser données'!$J:$J,"Garde"&"£"&"24h"&"£"&"VOL"&"£"&$B10&"£"&AG$7)+COUNTIF('Inser données'!$J:$J,"Garde"&"£"&"JOUR"&"£"&"VOL"&"£"&$B10&"£"&AG$7) -> 0 | AH10: =COUNTIF('Inser données'!$J:$J,"Garde"&"£"&"24h"&"£"&"VOL"&"£"&$B10&"£"&AH$7)+COUNTIF('Inser données'!$J:$J,"Garde"&"£"&"NUIT"&"£"&"VOL"&"£"&$B10&"£"&AH$7) -> 0
B11: CCC | C11: 9 | D11: 7 | E11: =COUNTIF('Inser données'!$J:$J,"Garde"&"£"&"24h"&"£"&"VOL"&"£"&$B11&"£"&E$7)+COUNTIF('Inser données'!$J:$J,"Garde"&"£"&"JOUR"&"£"&"VOL"&"£"&$B11&"£"&E$7) -> 0 | F11: =COUNTIF('Inser données'!$J:$J,"Garde"&"£"&"24h"&"£"&"VOL"&"£"&$B11&"£"&F$7)+COUNTIF('Inser données'!$J:$J,"Garde"&"£"&"NUIT"&"£"&"VOL"&"£"&$B11&"£"&F$7) -> 0 | G11: =COUNTIF('Inser données'!$J:$J,"Garde"&"£"&"24h"&"£"&"VOL"&"£"&$B11&"£"&G$7)+COUNTIF('Inser données'!$J:$J,"Garde"&"£"&"JOUR"&"£"&"VOL"&"£"&$B11&"£"&G$7) -> 0 | H11: =COUNTIF('Inser données'!$J:$J,"Garde"&"£"&"24h"&"£"&"VOL"&"£"&$B11&"£"&H$7)+COUNTIF('Inser données'!$J:$J,"Garde"&"£"&"NUIT"&"£"&"VOL"&"£"&$B11&"£"&H$7) -> 0 | I11: =COUNTIF('Inser données'!$J:$J,"Garde"&"£"&"24h"&"£"&"VOL"&"£"&$B11&"£"&I$7)+COUNTIF('Inser données'!$J:$J,"Garde"&"£"&"JOUR"&"£"&"VOL"&"£"&$B11&"£"&I$7) -> 0 | J11: =COUNTIF('Inser données'!$J:$J,"Garde"&"£"&"24h"&"£"&"VOL"&"£"&$B11&"£"&J$7)+COUNTIF('Inser données'!$J:$J,"Garde"&"£"&"NUIT"&"£"&"VOL"&"£"&$B11&"£"&J$7) -> 0 | K11: =COUNTIF('Inser données'!$J:$J,"Garde"&"£"&"24h"&"£"&"VOL"&"£"&$B11&"£"&K$7)+COUNTIF('Inser données'!$J:$J,"Garde"&"£"&"JOUR"&"£"&"VOL"&"£"&$B11&"£"&K$7) -> 0 | L11: =COUNTIF('Inser données'!$J:$J,"Garde"&"£"&"24h"&"£"&"VOL"&"£"&$B11&"£"&L$7)+COUNTIF('Inser données'!$J:$J,"Garde"&"£"&"NUIT"&"£"&"VOL"&"£"&$B11&"£"&L$7) -> 0 | M11: =COUNTIF('Inser données'!$J:$J,"Garde"&"£"&"24h"&"£"&"VOL"&"£"&$B11&"£"&M$7)+COUNTIF('Inser données'!$J:$J,"Garde"&"£"&"JOUR"&"£"&"VOL"&"£"&$B11&"£"&M$7) -> 0 | N11: =COUNTIF('Inser données'!$J:$J,"Garde"&"£"&"24h"&"£"&"VOL"&"£"&$B11&"£"&N$7)+COUNTIF('Inser données'!$J:$J,"Garde"&"£"&"NUIT"&"£"&"VOL"&"£"&$B11&"£"&N$7) -> 0 | O11: =COUNTIF('Inser données'!$J:$J,"Garde"&"£"&"24h"&"£"&"VOL"&"£"&$B11&"£"&O$7)+COUNTIF('Inser données'!$J:$J,"Garde"&"£"&"JOUR"&"£"&"VOL"&"£"&$B11&"£"&O$7) -> 0 | P11: =COUNTIF('Inser données'!$J:$J,"Garde"&"£"&"24h"&"£"&"VOL"&"£"&$B11&"£"&P$7)+COUNTIF('Inser données'!$J:$J,"Garde"&"£"&"NUIT"&"£"&"VOL"&"£"&$B11&"£"&P$7) -> 0 | Q11: =COUNTIF('Inser données'!$J:$J,"Garde"&"£"&"24h"&"£"&"VOL"&"£"&$B11&"£"&Q$7)+COUNTIF('Inser données'!$J:$J,"Garde"&"£"&"JOUR"&"£"&"VOL"&"£"&$B11&"£"&Q$7) -> 0 | R11: =COUNTIF('Inser données'!$J:$J,"Garde"&"£"&"24h"&"£"&"VOL"&"£"&$B11&"£"&R$7)+COUNTIF('Inser données'!$J:$J,"Garde"&"£"&"NUIT"&"£"&"VOL"&"£"&$B11&"£"&R$7) -> 0 | S11: =COUNTIF('Inser données'!$J:$J,"Garde"&"£"&"24h"&"£"&"VOL"&"£"&$B11&"£"&S$7)+COUNTIF('Inser données'!$J:$J,"Garde"&"£"&"JOUR"&"£"&"VOL"&"£"&$B11&"£"&S$7) -> 0 | T11: =COUNTIF('Inser données'!$J:$J,"Garde"&"£"&"24h"&"£"&"VOL"&"£"&$B11&"£"&T$7)+COUNTIF('Inser données'!$J:$J,"Garde"&"£"&"NUIT"&"£"&"VOL"&"£"&$B11&"£"&T$7) -> 0 | U11: =COUNTIF('Inser données'!$J:$J,"Garde"&"£"&"24h"&"£"&"VOL"&"£"&$B11&"£"&U$7)+COUNTIF('Inser données'!$J:$J,"Garde"&"£"&"JOUR"&"£"&"VOL"&"£"&$B11&"£"&U$7) -> 0 | V11: =COUNTIF('Inser données'!$J:$J,"Garde"&"£"&"24h"&"£"&"VOL"&"£"&$B11&"£"&V$7)+COUNTIF('Inser données'!$J:$J,"Garde"&"£"&"NUIT"&"£"&"VOL"&"£"&$B11&"£"&V$7) -> 0 | W11: =COUNTIF('Inser données'!$J:$J,"Garde"&"£"&"24h"&"£"&"VOL"&"£"&$B11&"£"&W$7)+COUNTIF('Inser données'!$J:$J,"Garde"&"£"&"JOUR"&"£"&"VOL"&"£"&$B11&"£"&W$7) -> 0 | X11: =COUNTIF('Inser données'!$J:$J,"Garde"&"£"&"24h"&"£"&"VOL"&"£"&$B11&"£"&X$7)+COUNTIF('Inser données'!$J:$J,"Garde"&"£"&"NUIT"&"£"&"VOL"&"£"&$B11&"£"&X$7) -> 0 | Y11: =COUNTIF('Inser données'!$J:$J,"Garde"&"£"&"24h"&"£"&"VOL"&"£"&$B11&"£"&Y$7)+COUNTIF('Inser données'!$J:$J,"Garde"&"£"&"JOUR"&"£"&"VOL"&"£"&$B11&"£"&Y$7) -> 0 | Z11: =COUNTIF('Inser données'!$J:$J,"Garde"&"£"&"24h"&"£"&"VOL"&"£"&$B11&"£"&Z$7)+COUNTIF('Inser données'!$J:$J,"Garde"&"£"&"NUIT"&"£"&"VOL"&"£"&$B11&"£"&Z$7) -> 0 | AA11: =COUNTIF('Inser données'!$J:$J,"Garde"&"£"&"24h"&"£"&"VOL"&"£"&$B11&"£"&AA$7)+COUNTIF('Inser données'!$J:$J,"Garde"&"£"&"JOUR"&"£"&"VOL"&"£"&$B11&"£"&AA$7) -> 0 | AB11: =COUNTIF('Inser données'!$J:$J,"Garde"&"£"&"24h"&"£"&"VOL"&"£"&$B11&"£"&AB$7)+COUNTIF('Inser données'!$J:$J,"Garde"&"£"&"NUIT"&"£"&"VOL"&"£"&$B11&"£"&AB$7) -> 0 | AC11: =COUNTIF('Inser données'!$J:$J,"Garde"&"£"&"24h"&"£"&"VOL"&"£"&$B11&"£"&AC$7)+COUNTIF('Inser données'!$J:$J,"Garde"&"£"&"JOUR"&"£"&"VOL"&"£"&$B11&"£"&AC$7) -> 0 | AD11: =COUNTIF('Inser données'!$J:$J,"Garde"&"£"&"24h"&"£"&"VOL"&"£"&$B11&"£"&AD$7)+COUNTIF('Inser données'!$J:$J,"Garde"&"£"&"NUIT"&"£"&"VOL"&"£"&$B11&"£"&AD$7) -> 0 | AE11: =COUNTIF('Inser données'!$J:$J,"Garde"&"£"&"24h"&"£"&"VOL"&"£"&$B11&"£"&AE$7)+COUNTIF('Inser données'!$J:$J,"Garde"&"£"&"JOUR"&"£"&"VOL"&"£"&$B11&"£"&AE$7) -> 0 | AF11: =COUNTIF('Inser données'!$J:$J,"Garde"&"£"&"24h"&"£"&"VOL"&"£"&$B11&"£"&AF$7)+COUNTIF('Inser données'!$J:$J,"Garde"&"£"&"NUIT"&"£"&"VOL"&"£"&$B11&"£"&AF$7) -> 0 | AG11: =COUNTIF('Inser données'!$J:$J,"Garde"&"£"&"24h"&"£"&"VOL"&"£"&$B11&"£"&AG$7)+COUNTIF('Inser données'!$J:$J,"Garde"&"£"&"JOUR"&"£"&"VOL"&"£"&$B11&"£"&AG$7) -> 0 | AH11: =COUNTIF('Inser données'!$J:$J,"Garde"&"£"&"24h"&"£"&"VOL"&"£"&$B11&"£"&AH$7)+COUNTIF('Inser données'!$J:$J,"Garde"&"£"&"NUIT"&"£"&"VOL"&"£"&$B11&"£"&AH$7) -> 0
A12: TOTAL DES EFFECTIFS DES CIS (hors CPIA) | C12: 498 | D12: 445 | E12: =SUM(E9:E11) -> 0 | F12: =SUM(F9:F11) -> 0 | G12: =SUM(G9:G11) -> 0 | H12: =SUM(H9:H11) -> 0 | I12: =SUM(I9:I11) -> 0 | J12: =SUM(J9:J11) -> 0 | K12: =SUM(K9:K11) -> 0 | L12: =SUM(L9:L11) -> 0 | ... AH12: =SUM(AH9:AH11) -> 0

Sheet TOTAUX
A1: EFFECTIFS PREVISIONNELS TOTAUX (EGJD)
A2: Effectifs hors officiers | B2: Gardes exclusives SAL non décomptées
A4: GPT | B4: CIS | C4: Effectif théorique | E4: ='Inser données'!#REF! -> #REF! | G4: =E4+1 -> #REF! | I4: =G4+1 -> #REF! | K4: =I4+1 -> #REF! | M4: =K4+1 -> #REF! | O4: =M4+1 -> #REF! | Q4: =O4+1 -> #REF! | S4: =Q4+1 -> #REF! | U4: =S4+1 -> #REF! | W4: =U4+1 -> #REF! | Y4: =W4+1 -> #REF! | AA4: =Y4+1 -> #REF! | AC4: =AA4+1 -> #REF! | AE4: =AC4+1 -> #REF! | AG4: =AE4+1 -> #REF!
E5: =IF(WEEKDAY(E4,2)>5,"WE","") -> #REF! | F5: =COUNTIF(BDD!$B5:$Z17,E7) -> 0 | G5: =IF(WEEKDAY(G4,2)>5,"WE","") -> #REF! | H5: =COUNTIF(BDD!$B5:$Z17,G7) -> 0 | I5: =IF(WEEKDAY(I4,2)>5,"WE","") -> #REF! | J5: =COUNTIF(BDD!$B5:$Z17,I7) -> 0 | K5: =IF(WEEKDAY(K4,2)>5,"WE","") -> #REF! | L5: =COUNTIF(BDD!$B5:$Z17,K7) -> 0 | M5: =IF(WEEKDAY(M4,2)>5,"WE","") -> #REF! | N5: =COUNTIF(BDD!$B5:$Z17,M7) -> 0 | O5: =IF(WEEKDAY(O4,2)>5,"WE","") -> #REF! | P5: =COUNTIF(BDD!$B5:$Z17,O7) -> 0 | Q5: =IF(WEEKDAY(Q4,2)>5,"WE","") -> #REF! | R5: =COUNTIF(BDD!$B5:$Z17,Q7) -> 0 | S5: =IF(WEEKDAY(S4,2)>5,"WE","") -> #REF! | T5: =COUNTIF(BDD!$B5:$Z17,S7) -> 0 | U5: =IF(WEEKDAY(U4,2)>5,"WE","") -> #REF! | V5: =COUNTIF(BDD!$B5:$Z17,U7) -> 0 | W5: =IF(WEEKDAY(W4,2)>5,"WE","") -> #REF! | X5: =COUNTIF(BDD!$B5:$Z17,W7) -> 0 | Y5: =IF(WEEKDAY(Y4,2)>5,"WE","") -> #REF! | Z5: =COUNTIF(BDD!$B5:$Z17,Y7) -> 0 | AA5: =IF(WEEKDAY(AA4,2)>5,"WE","") -> #REF! | AB5: =COUNTIF(BDD!$B5:$Z17,AA7) -> 0 | AC5: =IF(WEEKDAY(AC4,2)>5,"WE","") -> #REF! | AD5: =COUNTIF(BDD!$B5:$Z17,AC7) -> 0 | AE5: =IF(WEEKDAY(AE4,2)>5,"WE","") -> #REF! | AF5: =COUNTIF(BDD!$B5:$Z17,AE7) -> 0 | AG5: =IF(WEEKDAY(AG4,2)>5,"WE","") -> #REF! | AH5: =COUNTIF(BDD!$B5:$Z17,AG7) -> 0
E6: =UPPER((TEXT(E4,"jjj"))) -> #REF! | G6: =UPPER((TEXT(G4,"jjj"))) -> #REF! | I6: =UPPER((TEXT(I4,"jjj"))) -> #REF! | K6: =UPPER((TEXT(K4,"jjj"))) -> #REF! | M6: =UPPER((TEXT(M4,"jjj"))) -> #REF! | O6: =UPPER((TEXT(O4,"jjj"))) -> #REF! | Q6: =UPPER((TEXT(Q4,"jjj"))) -> #REF! | S6: =UPPER((TEXT(S4,"jjj"))) -> #REF! | U6: =UPPER((TEXT(U4,"jjj"))) -> #REF! | W6: =UPPER((TEXT(W4,"jjj"))) -> #REF! | Y6: =UPPER((TEXT(Y4,"jjj"))) -> #REF! | AA6: =UPPER((TEXT(AA4,"jjj"))) -> #REF! | AC6: =UPPER((TEXT(AC4,"jjj"))) -> #REF! | AE6: =UPPER((TEXT(AE4,"jjj"))) -> #REF! | AG6: =UPPER((TEXT(AG4,"jjj"))) -> #REF!
E7: =TEXT(E4,"JJ/MM/AAA") -> #REF! | G7: =TEXT(G4,"JJ/MM/AAA") -> #REF! | I7: =TEXT(I4,"JJ/MM/AAA") -> #REF! | K7: =TEXT(K4,"JJ/MM/AAA") -> #REF! | M7: =TEXT(M4,"JJ/MM/AAA") -> #REF! | O7: =TEXT(O4,"JJ/MM/AAA") -> #REF! | Q7: =TEXT(Q4,"JJ/MM/AAA") -> #REF! | S7: =TEXT(S4,"JJ/MM/AAA") -> #REF! | U7: =TEXT(U4,"JJ/MM/AAA") -> #REF! | W7: =TEXT(W4,"JJ/MM/AAA") -> #REF! | Y7: =TEXT(Y4,"JJ/MM/AAA") -> #REF! | AA7: =TEXT(AA4,"JJ/MM/AAA") -> #REF! | AC7: =TEXT(AC4,"JJ/MM/AAA") -> #REF! | AE7: =TEXT(AE4,"JJ/MM/AAA") -> #REF! | AG7: =TEXT(AG4,"JJ/MM/AAA") -> #REF!
C8: Diunre | D8: Nocturne | E8: D | F8: N | G8: D | H8: N | I8: D | J8: N | K8: D | L8: N | M8: D | N8: N | O8: D | P8: N | Q8: D | R8: N | S8: D | T8: N | U8: D | V8: N | W8: D | X8: N | Y8: D | Z8: N | AA8: D | AB8: N | AC8: D | AD8: N | AE8: D | AF8: N | AG8: D | AH8: N
B9: AAA | C9: 12 | D9: 9 | E9: =SPP!E8+SPV!E9 -> 0 | F9: =SPP!F8+SPV!F9 -> 0 | G9: =SPP!G8+SPV!G9 -> 0 | H9: =SPP!H8+SPV!H9 -> 0 | I9: =SPP!I8+SPV!I9 -> 0 | J9: =SPP!J8+SPV!J9 -> 0 | K9: =SPP!K8+SPV!K9 -> 0 | L9: =SPP!L8+SPV!L9 -> 0 | ... AH9: =SPP!AH8+SPV!AH9 -> 0
B10: BBB | C10: 4 | D10: 4 | E10: =SPP!E9+SPV!E10 -> 0 | F10: =SPP!F9+SPV!F10 -> 0 | G10: =SPP!G9+SPV!G10 -> 0 | H10: =SPP!H9+SPV!H10 -> 0 | I10: =SPP!I9+SPV!I10 -> 0 | J10: =SPP!J9+SPV!J10 -> 0 | K10: =SPP!K9+SPV!K10 -> 0 | L10: =SPP!L9+SPV!L10 -> 0 | ... AH10: =SPP!AH9+SPV!AH10 -> 0
B11: CCC | C11: 9 | D11: 7 | E11: =SPP!E10+SPV!E11 -> 0 | F11: =SPP!F10+SPV!F11 -> 0 | G11: =SPP!G10+SPV!G11 -> 0 | H11: =SPP!H10+SPV!H11 -> 0 | I11: =SPP!I10+SPV!I11 -> 0 | J11: =SPP!J10+SPV!J11 -> 0 | K11: =SPP!K10+SPV!K11 -> 0 | L11: =SPP!L10+SPV!L11 -> 0 | ... AH11: =SPP!AH10+SPV!AH11 -> 0
A13: TOTAL DES EFFECTIFS DES CIS (hors CPIA) | C13: 498 | D13: 445 | E13: =SUM(E9:E11) -> 0 | F13: =SUM(F9:F11) -> 0 | G13: =SUM(G9:G11) -> 0 | H13: =SUM(H9:H11) -> 0 | I13: =SUM(I9:I11) -> 0 | J13: =SUM(J9:J11) -> 0 | K13: =SUM(K9:K11) -> 0 | L13: =SUM(L9:L11) -> 0 | ... AH13: =SUM(AH9:AH11) -> 0
A15: ASTREINTE RENFORT DEP (Min - Max) | C15: 28 | D15: 44 | F15: =SPP!F13 -> 0 | H15: =SPP!H13 -> 0 | J15: =SPP!J13 -> 0 | L15: =SPP!L13 -> 0 | N15: =SPP!N13 -> 0 | P15: =SPP!P13 -> 0 | R15: =SPP!R13 -> 0 | T15: =SPP!T13 -> 0 | V15: =SPP!V13 -> 0 | X15: =SPP!X13 -> 0 | Z15: =SPP!Z13 -> 0 | AB15: =SPP!AB13 -> 0 | AD15: =SPP!AD13 -> 0 | AF15: =SPP!AF13 -> 0 | AH15: =SPP!AH13 -> 0

Sheet Inser données
A1: GardDteDebut | B1: GardDteFin | C1: DATE | D1: DE | E1: A | F1: CIS | G1: POSITION | H1: TYPE | I1: PERIODE | J1: Concat | K1: Astreinte N | L1: Créneau TOT | M1: Créneau J | N1: Créneau N | P1: Réponses attendues | Q1: Créneau J | R1: Créneau N
A2: 44761.292 | B2: 44761.375 | C2: =INT(Tableau_Effectifs_Dept[[#This Row],[GardDteDebut]]) -> 44761 | D2: =ROUND(MOD(Tableau_Effectifs_Dept[[#This Row],[GardDteDebut]],1),5) -> 0.29167 | E2: =ROUND(MOD(Tableau_Effectifs_Dept[[#This Row],[GardDteFin]],1),5) -> 0.375 | F2: BBB | G2: Garde | H2: VOL | I2: CRENEAU | J2: =IF(Tableau_Effectifs_Dept[[#This Row],[PERIODE]]="CRENEAU","",Tableau_Effectifs_Dept[[#This Row],[POSITION]]&"£"&Tableau_Effectifs_Dept[[#This Row],[PERIODE]]&"£"&Tableau_Effectifs_Dept[[#This Row],[TYPE]]&"£"&Tableau_Effectifs_Dept[[#This Row],[CIS]]&"£"&Tableau_Effectifs_Dept[[#This Row],[DATE]]) | K2: =IF(Tableau_Effectifs_Dept[[#This Row],[POSITION]]="Ast_logé",Tableau_Effectifs_Dept[[#This Row],[POSITION]]&"£"&Tableau_Effectifs_Dept[[#This Row],[PERIODE]]&"£"&Tableau_Effectifs_Dept[[#This Row],[TYPE]]&"£"&Tableau_Effectifs_Dept[[#This Row],[DATE]],"") | L2: =IF(AND(Tableau_Effectifs_Dept[[#This Row],[PERIODE]]="creneau",Tableau_Effectifs_Dept[[#This Row],[DE]]>=7/24),Tableau_Effectifs_Dept[[#This Row],[GardDteFin]]-Tableau_Effectifs_Dept[[#This Row],[GardDteDebut]],0) -> 0.083333333 | M2: =MAX(IF(AND(Tableau_Effectifs_Dept[[#This Row],[PERIODE]]="creneau",Tableau_Effectifs_Dept[[#This Row],[DE]]>=7/24,Tableau_Effectifs_Dept[[#This Row],[A]]<=19/24),19/24-Tableau_Effectifs_Dept[[#This Row],[DE]],0),0) -> 0.49999667 | N2: =MAX(IF(Tableau_Effectifs_Dept[[#This Row],[Créneau TOT]]>0,Tableau_Effectifs_Dept[[#This Row],[Créneau TOT]]-Tableau_Effectifs_Dept[[#This Row],[Créneau J ]],0),0) -> 0 | Q2: 2 | R2: 0
A3: 44761.292 | B3: 44762.208 | C3: =INT(Tableau_Effectifs_Dept[[#This Row],[GardDteDebut]]) -> 44761 | D3: =ROUND(MOD(Tableau_Effectifs_Dept[[#This Row],[GardDteDebut]],1),5) -> 0.29167 | E3: =ROUND(MOD(Tableau_Effectifs_Dept[[#This Row],[GardDteFin]],1),5) -> 0.20833 | F3: CCC | G3: Garde | H3: VOL | I3: CRENEAU | J3: =IF(Tableau_Effectifs_Dept[[#This Row],[PERIODE]]="CRENEAU","",Tableau_Effectifs_Dept[[#This Row],[POSITION]]&"£"&Tableau_Effectifs_Dept[[#This Row],[PERIODE]]&"£"&Tableau_Effectifs_Dept[[#This Row],[TYPE]]&"£"&Tableau_Effectifs_Dept[[#This Row],[CIS]]&"£"&Tableau_Effectifs_Dept[[#This Row],[DATE]]) | K3: =IF(Tableau_Effectifs_Dept[[#This Row],[POSITION]]="Ast_logé",Tableau_Effectifs_Dept[[#This Row],[POSITION]]&"£"&Tableau_Effectifs_Dept[[#This Row],[PERIODE]]&"£"&Tableau_Effectifs_Dept[[#This Row],[TYPE]]&"£"&Tableau_Effectifs_Dept[[#This Row],[DATE]],"") | L3: =IF(AND(Tableau_Effectifs_Dept[[#This Row],[PERIODE]]="creneau",Tableau_Effectifs_Dept[[#This Row],[DE]]>=7/24),Tableau_Effectifs_Dept[[#This Row],[GardDteFin]]-Tableau_Effectifs_Dept[[#This Row],[GardDteDebut]],0) -> 0.91666667 | M3: =MAX(IF(AND(Tableau_Effectifs_Dept[[#This Row],[PERIODE]]="creneau",Tableau_Effectifs_Dept[[#This Row],[DE]]>=7/24,Tableau_Effectifs_Dept[[#This Row],[A]]<=19/24),19/24-Tableau_Effectifs_Dept[[#This Row],[DE]],0),0) -> 0.49999667 | N3: =MAX(IF(Tableau_Effectifs_Dept[[#This Row],[Créneau TOT]]>0,Tableau_Effectifs_Dept[[#This Row],[Créneau TOT]]-Tableau_Effectifs_Dept[[#This Row],[Créneau J ]],0),0) -> 0.41667 | Q3: 12 | R3: 10
A4: 44761.792 | B4: 44762.292 | C4: =INT(Tableau_Effectifs_Dept[[#This Row],[GardDteDebut]]) -> 44761 | D4: =ROUND(MOD(Tableau_Effectifs_Dept[[#This Row],[GardDteDebut]],1),5) -> 0.79167 | E4: =ROUND(MOD(Tableau_Effectifs_Dept[[#This Row],[GardDteFin]],1),5) -> 0.29167 | F4: BBB | G4: Garde | H4: VOL | I4: CRENEAU | J4: =IF(Tableau_Effectifs_Dept[[#This Row],[PERIODE]]="CRENEAU","",Tableau_Effectifs_Dept[[#This Row],[POSITION]]&"£"&Tableau_Effectifs_Dept[[#This Row],[PERIODE]]&"£"&Tableau_Effectifs_Dept[[#This Row],[TYPE]]&"£"&Tableau_Effectifs_Dept[[#This Row],[CIS]]&"£"&Tableau_Effectifs_Dept[[#This Row],[DATE]]) | K4: =IF(Tableau_Effectifs_Dept[[#This Row],[POSITION]]="Ast_logé",Tableau_Effectifs_Dept[[#This Row],[POSITION]]&"£"&Tableau_Effectifs_Dept[[#This Row],[PERIODE]]&"£"&Tableau_Effectifs_Dept[[#This Row],[TYPE]]&"£"&Tableau_Effectifs_Dept[[#This Row],[DATE]],"") | L4: =IF(AND(Tableau_Effectifs_Dept[[#This Row],[PERIODE]]="creneau",Tableau_Effectifs_Dept[[#This Row],[DE]]>=7/24),Tableau_Effectifs_Dept[[#This Row],[GardDteFin]]-Tableau_Effectifs_Dept[[#This Row],[GardDteDebut]],0) -> 0.5 | M4: =MAX(IF(AND(Tableau_Effectifs_Dept[[#This Row],[PERIODE]]="creneau",Tableau_Effectifs_Dept[[#This Row],[DE]]>=7/24,Tableau_Effectifs_Dept[[#This Row],[A]]<=19/24),19/24-Tableau_Effectifs_Dept[[#This Row],[DE]],0),0) -> 0 | N4: =MAX(IF(Tableau_Effectifs_Dept[[#This Row],[Créneau TOT]]>0,Tableau_Effectifs_Dept[[#This Row],[Créneau TOT]]-Tableau_Effectifs_Dept[[#This Row],[Créneau J ]],0),0) -> 0.5 | Q4: 0 | R4: 12
A5: 44762.292 | B5: 44762.667 | C5: =INT(Tableau_Effectifs_Dept[[#This Row],[GardDteDebut]]) -> 44762 | D5: =ROUND(MOD(Tableau_Effectifs_Dept[[#This Row],[GardDteDebut]],1),5) -> 0.29167 | E5: =ROUND(MOD(Tableau_Effectifs_Dept[[#This Row],[GardDteFin]],1),5) -> 0.66667 | F5: BBB | G5: Garde | H5: VOL | I5: CRENEAU | J5: =IF(Tableau_Effectifs_Dept[[#This Row],[PERIODE]]="CRENEAU","",Tableau_Effectifs_Dept[[#This Row],[POSITION]]&"£"&Tableau_Effectifs_Dept[[#This Row],[PERIODE]]&"£"&Tableau_Effectifs_Dept[[#This Row],[TYPE]]&"£"&Tableau_Effectifs_Dept[[#This Row],[CIS]]&"£"&Tableau_Effectifs_Dept[[#This Row],[DATE]]) | K5: =IF(Tableau_Effectifs_Dept[[#This Row],[POSITION]]="Ast_logé",Tableau_Effectifs_Dept[[#This Row],[POSITION]]&"£"&Tableau_Effectifs_Dept[[#This Row],[PERIODE]]&"£"&Tableau_Effectifs_Dept[[#This Row],[TYPE]]&"£"&Tableau_Effectifs_Dept[[#This Row],[DATE]],"") | L5: =IF(AND(Tableau_Effectifs_Dept[[#This Row],[PERIODE]]="creneau",Tableau_Effectifs_Dept[[#This Row],[DE]]>=7/24),Tableau_Effectifs_Dept[[#This Row],[GardDteFin]]-Tableau_Effectifs_Dept[[#This Row],[GardDteDebut]],0) -> 0.375 | M5: =MAX(IF(AND(Tableau_Effectifs_Dept[[#This Row],[PERIODE]]="creneau",Tableau_Effectifs_Dept[[#This Row],[DE]]>=7/24,Tableau_Effectifs_Dept[[#This Row],[A]]<=19/24),19/24-Tableau_Effectifs_Dept[[#This Row],[DE]],0),0) -> 0.49999667 | N5: =MAX(IF(Tableau_Effectifs_Dept[[#This Row],[Créneau TOT]]>0,Tableau_Effectifs_Dept[[#This Row],[Créneau TOT]]-Tableau_Effectifs_Dept[[#This Row],[Créneau J ]],0),0) -> 0 | Q5: 9 | R5: 0
A6: 44762.292 | B6: 44762.375 | C6: =INT(Tableau_Effectifs_Dept[[#This Row],[GardDteDebut]]) -> 44762 | D6: =ROUND(MOD(Tableau_Effectifs_Dept[[#This Row],[GardDteDebut]],1),5) -> 0.29167 | E6: =ROUND(MOD(Tableau_Effectifs_Dept[[#This Row],[GardDteFin]],1),5) -> 0.375 | F6: BBB | G6: Garde | H6: VOL | I6: CRENEAU | J6: =IF(Tableau_Effectifs_Dept[[#This Row],[PERIODE]]="CRENEAU","",Tableau_Effectifs_Dept[[#This Row],[POSITION]]&"£"&Tableau_Effectifs_Dept[[#This Row],[PERIODE]]&"£"&Tableau_Effectifs_Dept[[#This Row],[TYPE]]&"£"&Tableau_Effectifs_Dept[[#This Row],[CIS]]&"£"&Tableau_Effectifs_Dept[[#This Row],[DATE]]) | K6: =IF(Tableau_Effectifs_Dept[[#This Row],[POSITION]]="Ast_logé",Tableau_Effectifs_Dept[[#This Row],[POSITION]]&"£"&Tableau_Effectifs_Dept[[#This Row],[PERIODE]]&"£"&Tableau_Effectifs_Dept[[#This Row],[TYPE]]&"£"&Tableau_Effectifs_Dept[[#This Row],[DATE]],"") | L6: =IF(AND(Tableau_Effectifs_Dept[[#This Row],[PERIODE]]="creneau",Tableau_Effectifs_Dept[[#This Row],[DE]]>=7/24),Tableau_Effectifs_Dept[[#This Row],[GardDteFin]]-Tableau_Effectifs_Dept[[#This Row],[GardDteDebut]],0) -> 0.083333333 | M6: =MAX(IF(AND(Tableau_Effectifs_Dept[[#This Row],[PERIODE]]="creneau",Tableau_Effectifs_Dept[[#This Row],[DE]]>=7/24,Tableau_Effectifs_Dept[[#This Row],[A]]<=19/24),19/24-Tableau_Effectifs_Dept[[#This Row],[DE]],0),0) -> 0.49999667 | N6: =MAX(IF(Tableau_Effectifs_Dept[[#This Row],[Créneau TOT]]>0,Tableau_Effectifs_Dept[[#This Row],[Créneau TOT]]-Tableau_Effectifs_Dept[[#This Row],[Créneau J ]],0),0) -> 0 | Q6: 2 | R6: 0
A7: 44762.708 | B7: 44763.292 | C7: =INT(Tableau_Effectifs_Dept[[#This Row],[GardDteDebut]]) -> 44762 | D7: =ROUND(MOD(Tableau_Effectifs_Dept[[#This Row],[GardDteDebut]],1),5) -> 0.70833 | E7: =ROUND(MOD(Tableau_Effectifs_Dept[[#This Row],[GardDteFin]],1),5) -> 0.29167 | F7: BBB | G7: Garde | H7: VOL | I7: CRENEAU | J7: =IF(Tableau_Effectifs_Dept[[#This Row],[PERIODE]]="CRENEAU","",Tableau_Effectifs_Dept[[#This Row],[POSITION]]&"£"&Tableau_Effectifs_Dept[[#This Row],[PERIODE]]&"£"&Tableau_Effectifs_Dept[[#This Row],[TYPE]]&"£"&Tableau_Effectifs_Dept[[#This Row],[CIS]]&"£"&Tableau_Effectifs_Dept[[#This Row],[DATE]]) | K7: =IF(Tableau_Effectifs_Dept[[#This Row],[POSITION]]="Ast_logé",Tableau_Effectifs_Dept[[#This Row],[POSITION]]&"£"&Tableau_Effectifs_Dept[[#This Row],[PERIODE]]&"£"&Tableau_Effectifs_Dept[[#This Row],[TYPE]]&"£"&Tableau_Effectifs_Dept[[#This Row],[DATE]],"") | L7: =IF(AND(Tableau_Effectifs_Dept[[#This Row],[PERIODE]]="creneau",Tableau_Effectifs_Dept[[#This Row],[DE]]>=7/24),Tableau_Effectifs_Dept[[#This Row],[GardDteFin]]-Tableau_Effectifs_Dept[[#This Row],[GardDteDebut]],0) -> 0.58333333 | M7: =MAX(IF(AND(Tableau_Effectifs_Dept[[#This Row],[PERIODE]]="creneau",Tableau_Effectifs_Dept[[#This Row],[DE]]>=7/24,Tableau_Effectifs_Dept[[#This Row],[A]]<=19/24),19/24-Tableau_Effectifs_Dept[[#This Row],[DE]],0),0) -> 0.083336667 | N7: =MAX(IF(Tableau_Effectifs_Dept[[#This Row],[Créneau TOT]]>0,Tableau_Effectifs_Dept[[#This Row],[Créneau TOT]]-Tableau_Effectifs_Dept[[#This Row],[Créneau J ]],0),0) -> 0.49999667 | Q7: 2 | R7: 12
A8: 44762.792 | B8: 44763.25 | C8: =INT(Tableau_Effectifs_Dept[[#This Row],[GardDteDebut]]) -> 44762 | D8: =ROUND(MOD(Tableau_Effectifs_Dept[[#This Row],[GardDteDebut]],1),5) -> 0.79167 | E8: =ROUND(MOD(Tableau_Effectifs_Dept[[#This Row],[GardDteFin]],1),5) -> 0.25 | F8: CCC | G8: Garde | H8: VOL | I8: CRENEAU | J8: =IF(Tableau_Effectifs_Dept[[#This Row],[PERIODE]]="CRENEAU","",Tableau_Effectifs_Dept[[#This Row],[POSITION]]&"£"&Tableau_Effectifs_Dept[[#This Row],[PERIODE]]&"£"&Tableau_Effectifs_Dept[[#This Row],[TYPE]]&"£"&Tableau_Effectifs_Dept[[#This Row],[CIS]]&"£"&Tableau_Effectifs_Dept[[#This Row],[DATE]]) | K8: =IF(Tableau_Effectifs_Dept[[#This Row],[POSITION]]="Ast_logé",Tableau_Effectifs_Dept[[#This Row],[POSITION]]&"£"&Tableau_Effectifs_Dept[[#This Row],[PERIODE]]&"£"&Tableau_Effectifs_Dept[[#This Row],[TYPE]]&"£"&Tableau_Effectifs_Dept[[#This Row],[DATE]],"") | L8: =IF(AND(Tableau_Effectifs_Dept[[#This Row],[PERIODE]]="creneau",Tableau_Effectifs_Dept[[#This Row],[DE]]>=7/24),Tableau_Effectifs_Dept[[#This Row],[GardDteFin]]-Tableau_Effectifs_Dept[[#This Row],[GardDteDebut]],0) -> 0.45833333 | M8: =MAX(IF(AND(Tableau_Effectifs_Dept[[#This Row],[PERIODE]]="creneau",Tableau_Effectifs_Dept[[#This Row],[DE]]>=7/24,Tableau_Effectifs_Dept[[#This Row],[A]]<=19/24),19/24-Tableau_Effectifs_Dept[[#This Row],[DE]],0),0) -> 0 | N8: =MAX(IF(Tableau_Effectifs_Dept[[#This Row],[Créneau TOT]]>0,Tableau_Effectifs_Dept[[#This Row],[Créneau TOT]]-Tableau_Effectifs_Dept[[#This Row],[Créneau J ]],0),0) -> 0.45833333 | Q8: 0 | R8: 11
A9: 44763.292 | B9: 44763.375 | C9: =INT(Tableau_Effectifs_Dept[[#This Row],[GardDteDebut]]) -> 44763 | D9: =ROUND(MOD(Tableau_Effectifs_Dept[[#This Row],[GardDteDebut]],1),5) -> 0.29167 | E9: =ROUND(MOD(Tableau_Effectifs_Dept[[#This Row],[GardDteFin]],1),5) -> 0.375 | F9: BBB | G9: Garde | H9: VOL | I9: CRENEAU | J9: =IF(Tableau_Effectifs_Dept[[#This Row],[PERIODE]]="CRENEAU","",Tableau_Effectifs_Dept[[#This Row],[POSITION]]&"£"&Tableau_Effectifs_Dept[[#This Row],[PERIODE]]&"£"&Tableau_Effectifs_Dept[[#This Row],[TYPE]]&"£"&Tableau_Effectifs_Dept[[#This Row],[CIS]]&"£"&Tableau_Effectifs_Dept[[#This Row],[DATE]]) | K9: =IF(Tableau_Effectifs_Dept[[#This Row],[POSITION]]="Ast_logé",Tableau_Effectifs_Dept[[#This Row],[POSITION]]&"£"&Tableau_Effectifs_Dept[[#This Row],[PERIODE]]&"£"&Tableau_Effectifs_Dept[[#This Row],[TYPE]]&"£"&Tableau_Effectifs_Dept[[#This Row],[DATE]],"") | L9: =IF(AND(Tableau_Effectifs_Dept[[#This Row],[PERIODE]]="creneau",Tableau_Effectifs_Dept[[#This Row],[DE]]>=7/24),Tableau_Effectifs_Dept[[#This Row],[GardDteFin]]-Tableau_Effectifs_Dept[[#This Row],[GardDteDebut]],0) -> 0.083333333 | M9: =MAX(IF(AND(Tableau_Effectifs_Dept[[#This Row],[PERIODE]]="creneau",Tableau_Effectifs_Dept[[#This Row],[DE]]>=7/24,Tableau_Effectifs_Dept[[#This Row],[A]]<=19/24),19/24-Tableau_Effectifs_Dept[[#This Row],[DE]],0),0) -> 0.49999667 | N9: =MAX(IF(Tableau_Effectifs_Dept[[#This Row],[Créneau TOT]]>0,Tableau_Effectifs_Dept[[#This Row],[Créneau TOT]]-Tableau_Effectifs_Dept[[#This Row],[Créneau J ]],0),0) -> 0 | Q9: 2 | R9: 0
A10: 44763.792 | B10: 44764.292 | C10: =INT(Tableau_Effectifs_Dept[[#This Row],[GardDteDebut]]) -> 44763 | D10: =ROUND(MOD(Tableau_Effectifs_Dept[[#This Row],[GardDteDebut]],1),5) -> 0.79167 | E10: =ROUND(MOD(Tableau_Effectifs_Dept[[#This Row],[GardDteFin]],1),5) -> 0.29167 | F10: BBB | G10: Garde | H10: VOL | I10: CRENEAU | J10: =IF(Tableau_Effectifs_Dept[[#This Row],[PERIODE]]="CRENEAU","",Tableau_Effectifs_Dept[[#This Row],[POSITION]]&"£"&Tableau_Effectifs_Dept[[#This Row],[PERIODE]]&"£"&Tableau_Effectifs_Dept[[#This Row],[TYPE]]&"£"&Tableau_Effectifs_Dept[[#This Row],[CIS]]&"£"&Tableau_Effectifs_Dept[[#This Row],[DATE]]) | K10: =IF(Tableau_Effectifs_Dept[[#This Row],[POSITION]]="Ast_logé",Tableau_Effectifs_Dept[[#This Row],[POSITION]]&"£"&Tableau_Effectifs_Dept[[#This Row],[PERIODE]]&"£"&Tableau_Effectifs_Dept[[#This Row],[TYPE]]&"£"&Tableau_Effectifs_Dept[[#This Row],[DATE]],"") | L10: =IF(AND(Tableau_Effectifs_Dept[[#This Row],[PERIODE]]="creneau",Tableau_Effectifs_Dept[[#This Row],[DE]]>=7/24),Tableau_Effectifs_Dept[[#This Row],[GardDteFin]]-Tableau_Effectifs_Dept[[#This Row],[GardDteDebut]],0) -> 0.5 | M10: =MAX(IF(AND(Tableau_Effectifs_Dept[[#This Row],[PERIODE]]="creneau",Tableau_Effectifs_Dept[[#This Row],[DE]]>=7/24,Tableau_Effectifs_Dept[[#This Row],[A]]<=19/24),19/24-Tableau_Effectifs_Dept[[#This Row],[DE]],0),0) -> 0 | N10: =MAX(IF(Tableau_Effectifs_Dept[[#This Row],[Créneau TOT]]>0,Tableau_Effectifs_Dept[[#This Row],[Créneau TOT]]-Tableau_Effectifs_Dept[[#This Row],[Créneau J ]],0),0) -> 0.5 | Q10: 0 | R10: 12
A11: 44763.792 | B11: 44764.25 | C11: =INT(Tableau_Effectifs_Dept[[#This Row],[GardDteDebut]]) -> 44763 | D11: =ROUND(MOD(Tableau_Effectifs_Dept[[#This Row],[GardDteDebut]],1),5) -> 0.79167 | E11: =ROUND(MOD(Tableau_Effectifs_Dept[[#This Row],[GardDteFin]],1),5) -> 0.25 | F11: CCC | G11: Garde | H11: VOL | I11: CRENEAU | J11: =IF(Tableau_Effectifs_Dept[[#This Row],[PERIODE]]="CRENEAU","",Tableau_Effectifs_Dept[[#This Row],[POSITION]]&"£"&Tableau_Effectifs_Dept[[#This Row],[PERIODE]]&"£"&Tableau_Effectifs_Dept[[#This Row],[TYPE]]&"£"&Tableau_Effectifs_Dept[[#This Row],[CIS]]&"£"&Tableau_Effectifs_Dept[[#This Row],[DATE]]) | K11: =IF(Tableau_Effectifs_Dept[[#This Row],[POSITION]]="Ast_logé",Tableau_Effectifs_Dept[[#This Row],[POSITION]]&"£"&Tableau_Effectifs_Dept[[#This Row],[PERIODE]]&"£"&Tableau_Effectifs_Dept[[#This Row],[TYPE]]&"£"&Tableau_Effectifs_Dept[[#This Row],[DATE]],"") | L11: =IF(AND(Tableau_Effectifs_Dept[[#This Row],[PERIODE]]="creneau",Tableau_Effectifs_Dept[[#This Row],[DE]]>=7/24),Tableau_Effectifs_Dept[[#This Row],[GardDteFin]]-Tableau_Effectifs_Dept[[#This Row],[GardDteDebut]],0) -> 0.45833333 | M11: =MAX(IF(AND(Tableau_Effectifs_Dept[[#This Row],[PERIODE]]="creneau",Tableau_Effectifs_Dept[[#This Row],[DE]]>=7/24,Tableau_Effectifs_Dept[[#This Row],[A]]<=19/24),19/24-Tableau_Effectifs_Dept[[#This Row],[DE]],0),0) -> 0 | N11: =MAX(IF(Tableau_Effectifs_Dept[[#This Row],[Créneau TOT]]>0,Tableau_Effectifs_Dept[[#This Row],[Créneau TOT]]-Tableau_Effectifs_Dept[[#This Row],[Créneau J ]],0),0) -> 0.45833333 | Q11: 0 | R11: 11
A12: 44763.833 | B12: 44764.208 | C12: =INT(Tableau_Effectifs_Dept[[#This Row],[GardDteDebut]]) -> 44763 | D12: =ROUND(MOD(Tableau_Effectifs_Dept[[#This Row],[GardDteDebut]],1),5) -> 0.83333 | E12: =ROUND(MOD(Tableau_Effectifs_Dept[[#This Row],[GardDteFin]],1),5) -> 0.20833 | F12: BBB | G12: Garde | H12: VOL | I12: CRENEAU | J12: =IF(Tableau_Effectifs_Dept[[#This Row],[PERIODE]]="CRENEAU","",Tableau_Effectifs_Dept[[#This Row],[POSITION]]&"£"&Tableau_Effectifs_Dept[[#This Row],[PERIODE]]&"£"&Tableau_Effectifs_Dept[[#This Row],[TYPE]]&"£"&Tableau_Effectifs_Dept[[#This Row],[CIS]]&"£"&Tableau_Effectifs_Dept[[#This Row],[DATE]]) | K12: =IF(Tableau_Effectifs_Dept[[#This Row],[POSITION]]="Ast_logé",Tableau_Effectifs_Dept[[#This Row],[POSITION]]&"£"&Tableau_Effectifs_Dept[[#This Row],[PERIODE]]&"£"&Tableau_Effectifs_Dept[[#This Row],[TYPE]]&"£"&Tableau_Effectifs_Dept[[#This Row],[DATE]],"") | L12: =IF(AND(Tableau_Effectifs_Dept[[#This Row],[PERIODE]]="creneau",Tableau_Effectifs_Dept[[#This Row],[DE]]>=7/24),Tableau_Effectifs_Dept[[#This Row],[GardDteFin]]-Tableau_Effectifs_Dept[[#This Row],[GardDteDebut]],0) -> 0.375 | M12: =MAX(IF(AND(Tableau_Effectifs_Dept[[#This Row],[PERIODE]]="creneau",Tableau_Effectifs_Dept[[#This Row],[DE]]>=7/24,Tableau_Effectifs_Dept[[#This Row],[A]]<=19/24),19/24-Tableau_Effectifs_Dept[[#This Row],[DE]],0),0) -> 0 | N12: =MAX(IF(Tableau_Effectifs_Dept[[#This Row],[Créneau TOT]]>0,Tableau_Effectifs_Dept[[#This Row],[Créneau TOT]]-Tableau_Effectifs_Dept[[#This Row],[Créneau J ]],0),0) -> 0.375 | Q12: 0 | R12: 9
A13: 44764.292 | B13: 44764.375 | C13: =INT(Tableau_Effectifs_Dept[[#This Row],[GardDteDebut]]) -> 44764 | D13: =ROUND(MOD(Tableau_Effectifs_Dept[[#This Row],[GardDteDebut]],1),5) -> 0.29167 | E13: =ROUND(MOD(Tableau_Effectifs_Dept[[#This Row],[GardDteFin]],1),5) -> 0.375 | F13: BBB | G13: Garde | H13: VOL | I13: CRENEAU | J13: =IF(Tableau_Effectifs_Dept[[#This Row],[PERIODE]]="CRENEAU","",Tableau_Effectifs_Dept[[#This Row],[POSITION]]&"£"&Tableau_Effectifs_Dept[[#This Row],[PERIODE]]&"£"&Tableau_Effectifs_Dept[[#This Row],[TYPE]]&"£"&Tableau_Effectifs_Dept[[#This Row],[CIS]]&"£"&Tableau_Effectifs_Dept[[#This Row],[DATE]]) | K13: =IF(Tableau_Effectifs_Dept[[#This Row],[POSITION]]="Ast_logé",Tableau_Effectifs_Dept[[#This Row],[POSITION]]&"£"&Tableau_Effectifs_Dept[[#This Row],[PERIODE]]&"£"&Tableau_Effectifs_Dept[[#This Row],[TYPE]]&"£"&Tableau_Effectifs_Dept[[#This Row],[DATE]],"") | L13: =IF(AND(Tableau_Effectifs_Dept[[#This Row],[PERIODE]]="creneau",Tableau_Effectifs_Dept[[#This Row],[DE]]>=7/24),Tableau_Effectifs_Dept[[#This Row],[GardDteFin]]-Tableau_Effectifs_Dept[[#This Row],[GardDteDebut]],0) -> 0.083333333 | M13: =MAX(IF(AND(Tableau_Effectifs_Dept[[#This Row],[PERIODE]]="creneau",Tableau_Effectifs_Dept[[#This Row],[DE]]>=7/24,Tableau_Effectifs_Dept[[#This Row],[A]]<=19/24),19/24-Tableau_Effectifs_Dept[[#This Row],[DE]],0),0) -> 0.49999667 | N13: =MAX(IF(Tableau_Effectifs_Dept[[#This Row],[Créneau TOT]]>0,Tableau_Effectifs_Dept[[#This Row],[Créneau TOT]]-Tableau_Effectifs_Dept[[#This Row],[Créneau J ]],0),0) -> 0 | Q13: 2 | R13: 0
... A21: 44771.792 | B21: 44772.292 | C21: =INT(Tableau_Effectifs_Dept[[#This Row],[GardDteDebut]]) -> 44771 | D21: =ROUND(MOD(Tableau_Effectifs_Dept[[#This Row],[GardDteDebut]],1),5) -> 0.79167 | E21: =ROUND(MOD(Tableau_Effectifs_Dept[[#This Row],[GardDteFin]],1),5) -> 0.29167 | F21: BBB | G21: Garde | H21: VOL | I21: CRENEAU | J21: =IF(Tableau_Effectifs_Dept[[#This Row],[PERIODE]]="CRENEAU","",Tableau_Effectifs_Dept[[#This Row],[POSITION]]&"£"&Tableau_Effectifs_Dept[[#This Row],[PERIODE]]&"£"&Tableau_Effectifs_Dept[[#This Row],[TYPE]]&"£"&Tableau_Effectifs_Dept[[#This Row],[CIS]]&"£"&Tableau_Effectifs_Dept[[#This Row],[DATE]]) | K21: =IF(Tableau_Effectifs_Dept[[#This Row],[POSITION]]="Ast_logé",Tableau_Effectifs_Dept[[#This Row],[POSITION]]&"£"&Tableau_Effectifs_Dept[[#This Row],[PERIODE]]&"£"&Tableau_Effectifs_Dept[[#This Row],[TYPE]]&"£"&Tableau_Effectifs_Dept[[#This Row],[DATE]],"") | L21: =IF(AND(Tableau_Effectifs_Dept[[#This Row],[PERIODE]]="creneau",Tableau_Effectifs_Dept[[#This Row],[DE]]>=7/24),Tableau_Effectifs_Dept[[#This Row],[GardDteFin]]-Tableau_Effectifs_Dept[[#This Row],[GardDteDebut]],0) -> 0.5 | M21: =MAX(IF(AND(Tableau_Effectifs_Dept[[#This Row],[PERIODE]]="creneau",Tableau_Effectifs_Dept[[#This Row],[DE]]>=7/24,Tableau_Effectifs_Dept[[#This Row],[A]]<=19/24),19/24-Tableau_Effectifs_Dept[[#This Row],[DE]],0),0) -> 0 | N21: =MAX(IF(Tableau_Effectifs_Dept[[#This Row],[Créneau TOT]]>0,Tableau_Effectifs_Dept[[#This Row],[Créneau TOT]]-Tableau_Effectifs_Dept[[#This Row],[Créneau J ]],0),0) -> 0.5 | Q21: 0 | R21: 12
A22: 44757.292 | B22: 44758.292 | C22: =INT(Tableau_Effectifs_Dept[[#This Row],[GardDteDebut]]) -> 44757 | D22: =ROUND(MOD(Tableau_Effectifs_Dept[[#This Row],[GardDteDebut]],1),5) -> 0.29167 | E22: =ROUND(MOD(Tableau_Effectifs_Dept[[#This Row],[GardDteFin]],1),5) -> 0.29167 | F22: BBB | G22: Garde | H22: VOL | I22: 24H | J22: =IF(Tableau_Effectifs_Dept[[#This Row],[PERIODE]]="CRENEAU","",Tableau_Effectifs_Dept[[#This Row],[POSITION]]&"£"&Tableau_Effectifs_Dept[[#This Row],[PERIODE]]&"£"&Tableau_Effectifs_Dept[[#This Row],[TYPE]]&"£"&Tableau_Effectifs_Dept[[#This Row],[CIS]]&"£"&Tableau_Effectifs_Dept[[#This Row],[DATE]]) -> Garde£24H£VOL£BBB£44757 | K22: =IF(Tableau_Effectifs_Dept[[#This Row],[POSITION]]="Ast_logé",Tableau_Effectifs_Dept[[#This Row],[POSITION]]&"£"&Tableau_Effectifs_Dept[[#This Row],[PERIODE]]&"£"&Tableau_Effectifs_Dept[[#This Row],[TYPE]]&"£"&Tableau_Effectifs_Dept[[#This Row],[DATE]],"") | L22: =IF(AND(Tableau_Effectifs_Dept[[#This Row],[PERIODE]]="creneau",Tableau_Effectifs_Dept[[#This Row],[DE]]>=7/24),Tableau_Effectifs_Dept[[#This Row],[GardDteFin]]-Tableau_Effectifs_Dept[[#This Row],[GardDteDebut]],0) -> 0 | M22: =MAX(IF(AND(Tableau_Effectifs_Dept[[#This Row],[PERIODE]]="creneau",Tableau_Effectifs_Dept[[#This Row],[DE]]>=7/24,Tableau_Effectifs_Dept[[#This Row],[A]]<=19/24),19/24-Tableau_Effectifs_Dept[[#This Row],[DE]],0),0) -> 0 | N22: =MAX(IF(Tableau_Effectifs_Dept[[#This Row],[Créneau TOT]]>0,Tableau_Effectifs_Dept[[#This Row],[Créneau TOT]]-Tableau_Effectifs_Dept[[#This Row],[Créneau J ]],0),0) -> 0
A23: 44757.292 | B23: 44758.292 | C23: =INT(Tableau_Effectifs_Dept[[#This Row],[GardDteDebut]]) -> 44757 | D23: =ROUND(MOD(Tableau_Effectifs_Dept[[#This Row],[GardDteDebut]],1),5) -> 0.29167 | E23: =ROUND(MOD(Tableau_Effectifs_Dept[[#This Row],[GardDteFin]],1),5) -> 0.29167 | F23: AAA | G23: Garde | H23: PRO | I23: 24H | J23: =IF(Tableau_Effectifs_Dept[[#This Row],[PERIODE]]="CRENEAU","",Tableau_Effectifs_Dept[[#This Row],[POSITION]]&"£"&Tableau_Effectifs_Dept[[#This Row],[PERIODE]]&"£"&Tableau_Effectifs_Dept[[#This Row],[TYPE]]&"£"&Tableau_Effectifs_Dept[[#This Row],[CIS]]&"£"&Tableau_Effectifs_Dept[[#This Row],[DATE]]) -> Garde£24H£PRO£AAA£44757 | K23: =IF(Tableau_Effectifs_Dept[[#This Row],[POSITION]]="Ast_logé",Tableau_Effectifs_Dept[[#This Row],[POSITION]]&"£"&Tableau_Effectifs_Dept[[#This Row],[PERIODE]]&"£"&Tableau_Effectifs_Dept[[#This Row],[TYPE]]&"£"&Tableau_Effectifs_Dept[[#This Row],[DATE]],"") | L23: =IF(AND(Tableau_Effectifs_Dept[[#This Row],[PERIODE]]="creneau",Tableau_Effectifs_Dept[[#This Row],[DE]]>=7/24),Tableau_Effectifs_Dept[[#This Row],[GardDteFin]]-Tableau_Effectifs_Dept[[#This Row],[GardDteDebut]],0) -> 0 | M23: =MAX(IF(AND(Tableau_Effectifs_Dept[[#This Row],[PERIODE]]="creneau",Tableau_Effectifs_Dept[[#This Row],[DE]]>=7/24,Tableau_Effectifs_Dept[[#This Row],[A]]<=19/24),19/24-Tableau_Effectifs_Dept[[#This Row],[DE]],0),0) -> 0 | N23: =MAX(IF(Tableau_Effectifs_Dept[[#This Row],[Créneau TOT]]>0,Tableau_Effectifs_Dept[[#This Row],[Créneau TOT]]-Tableau_Effectifs_Dept[[#This Row],[Créneau J ]],0),0) -> 0
A24: 44757.292 | B24: 44758.292 | C24: =INT(Tableau_Effectifs_Dept[[#This Row],[GardDteDebut]]) -> 44757 | D24: =ROUND(MOD(Tableau_Effectifs_Dept[[#This Row],[GardDteDebut]],1),5) -> 0.29167 | E24: =ROUND(MOD(Tableau_Effectifs_Dept[[#This Row],[GardDteFin]],1),5) -> 0.29167 | F24: AAA | G24: Garde | H24: VOL | I24: 24H | J24: =IF(Tableau_Effectifs_Dept[[#This Row],[PERIODE]]="CRENEAU","",Tableau_Effectifs_Dept[[#This Row],[POSITION]]&"£"&Tableau_Effectifs_Dept[[#This Row],[PERIODE]]&"£"&Tableau_Effectifs_Dept[[#This Row],[TYPE]]&"£"&Tableau_Effectifs_Dept[[#This Row],[CIS]]&"£"&Tableau_Effectifs_Dept[[#This Row],[DATE]]) -> Garde£24H£VOL£AAA£44757 | K24: =IF(Tableau_Effectifs_Dept[[#This Row],[POSITION]]="Ast_logé",Tableau_Effectifs_Dept[[#This Row],[POSITION]]&"£"&Tableau_Effectifs_Dept[[#This Row],[PERIODE]]&"£"&Tableau_Effectifs_Dept[[#This Row],[TYPE]]&"£"&Tableau_Effectifs_Dept[[#This Row],[DATE]],"") | L24: =IF(AND(Tableau_Effectifs_Dept[[#This Row],[PERIODE]]="creneau",Tableau_Effectifs_Dept[[#This Row],[DE]]>=7/24),Tableau_Effectifs_Dept[[#This Row],[GardDteFin]]-Tableau_Effectifs_Dept[[#This Row],[GardDteDebut]],0) -> 0 | M24: =MAX(IF(AND(Tableau_Effectifs_Dept[[#This Row],[PERIODE]]="creneau",Tableau_Effectifs_Dept[[#This Row],[DE]]>=7/24,Tableau_Effectifs_Dept[[#This Row],[A]]<=19/24),19/24-Tableau_Effectifs_Dept[[#This Row],[DE]],0),0) -> 0 | N24: =MAX(IF(Tableau_Effectifs_Dept[[#This Row],[Créneau TOT]]>0,Tableau_Effectifs_Dept[[#This Row],[Créneau TOT]]-Tableau_Effectifs_Dept[[#This Row],[Créneau J ]],0),0) -> 0
A25: 44757.292 | B25: 44758.292 | C25: =INT(Tableau_Effectifs_Dept[[#This Row],[GardDteDebut]]) -> 44757 | D25: =ROUND(MOD(Tableau_Effectifs_Dept[[#This Row],[GardDteDebut]],1),5) -> 0.29167 | E25: =ROUND(MOD(Tableau_Effectifs_Dept[[#This Row],[GardDteFin]],1),5) -> 0.29167 | F25: AAA | G25: Garde | H25: PRO | I25: 24H | J25: =IF(Tableau_Effectifs_Dept[[#This Row],[PERIODE]]="CRENEAU","",Tableau_Effectifs_Dept[[#This Row],[POSITION]]&"£"&Tableau_Effectifs_Dept[[#This Row],[PERIODE]]&"£"&Tableau_Effectifs_Dept[[#This Row],[TYPE]]&"£"&Tableau_Effectifs_Dept[[#This Row],[CIS]]&"£"&Tableau_Effectifs_Dept[[#This Row],[DATE]]) -> Garde£24H£PRO£AAA£44757 | K25: =IF(Tableau_Effectifs_Dept[[#This Row],[POSITION]]="Ast_logé",Tableau_Effectifs_Dept[[#This Row],[POSITION]]&"£"&Tableau_Effectifs_Dept[[#This Row],[PERIODE]]&"£"&Tableau_Effectifs_Dept[[#This Row],[TYPE]]&"£"&Tableau_Effectifs_Dept[[#This Row],[DATE]],"") | L25: =IF(AND(Tableau_Effectifs_Dept[[#This Row],[PERIODE]]="creneau",Tableau_Effectifs_Dept[[#This Row],[DE]]>=7/24),Tableau_Effectifs_Dept[[#This Row],[GardDteFin]]-Tableau_Effectifs_Dept[[#This Row],[GardDteDebut]],0) -> 0 | M25: =MAX(IF(AND(Tableau_Effectifs_Dept[[#This Row],[PERIODE]]="creneau",Tableau_Effectifs_Dept[[#This Row],[DE]]>=7/24,Tableau_Effectifs_Dept[[#This Row],[A]]<=19/24),19/24-Tableau_Effectifs_Dept[[#This Row],[DE]],0),0) -> 0 | N25: =MAX(IF(Tableau_Effectifs_Dept[[#This Row],[Créneau TOT]]>0,Tableau_Effectifs_Dept[[#This Row],[Créneau TOT]]-Tableau_Effectifs_Dept[[#This Row],[Créneau J ]],0),0) -> 0
A26: 44757.292 | B26: 44758.292 | C26: =INT(Tableau_Effectifs_Dept[[#This Row],[GardDteDebut]]) -> 44757 | D26: =ROUND(MOD(Tableau_Effectifs_Dept[[#This Row],[GardDteDebut]],1),5) -> 0.29167 | E26: =ROUND(MOD(Tableau_Effectifs_Dept[[#This Row],[GardDteFin]],1),5) -> 0.29167 | F26: AAA | G26: Garde | H26: VOL | I26: 24H | J26: =IF(Tableau_Effectifs_Dept[[#This Row],[PERIODE]]="CRENEAU","",Tableau_Effectifs_Dept[[#This Row],[POSITION]]&"£"&Tableau_Effectifs_Dept[[#This Row],[PERIODE]]&"£"&Tableau_Effectifs_Dept[[#This Row],[TYPE]]&"£"&Tableau_Effectifs_Dept[[#This Row],[CIS]]&"£"&Tableau_Effectifs_Dept[[#This Row],[DATE]]) -> Garde£24H£VOL£AAA£44757 | K26: =IF(Tableau_Effectifs_Dept[[#This Row],[POSITION]]="Ast_logé",Tableau_Effectifs_Dept[[#This Row],[POSITION]]&"£"&Tableau_Effectifs_Dept[[#This Row],[PERIODE]]&"£"&Tableau_Effectifs_Dept[[#This Row],[TYPE]]&"£"&Tableau_Effectifs_Dept[[#This Row],[DATE]],"") | L26: =IF(AND(Tableau_Effectifs_Dept[[#This Row],[PERIODE]]="creneau",Tableau_Effectifs_Dept[[#This Row],[DE]]>=7/24),Tableau_Effectifs_Dept[[#This Row],[GardDteFin]]-Tableau_Effectifs_Dept[[#This Row],[GardDteDebut]],0) -> 0 | M26: =MAX(IF(AND(Tableau_Effectifs_Dept[[#This Row],[PERIODE]]="creneau",Tableau_Effectifs_Dept[[#This Row],[DE]]>=7/24,Tableau_Effectifs_Dept[[#This Row],[A]]<=19/24),19/24-Tableau_Effectifs_Dept[[#This Row],[DE]],0),0) -> 0 | N26: =MAX(IF(Tableau_Effectifs_Dept[[#This Row],[Créneau TOT]]>0,Tableau_Effectifs_Dept[[#This Row],[Créneau TOT]]-Tableau_Effectifs_Dept[[#This Row],[Créneau J ]],0),0) -> 0
A27: 44757.292 | B27: 44758.292 | C27: =INT(Tableau_Effectifs_Dept[[#This Row],[GardDteDebut]]) -> 44757 | D27: =ROUND(MOD(Tableau_Effectifs_Dept[[#This Row],[GardDteDebut]],1),5) -> 0.29167 | E27: =ROUND(MOD(Tableau_Effectifs_Dept[[#This Row],[GardDteFin]],1),5) -> 0.29167 | F27: AAA | G27: Garde | H27: PRO | I27: 24H | J27: =IF(Tableau_Effectifs_Dept[[#This Row],[PERIODE]]="CRENEAU","",Tableau_Effectifs_Dept[[#This Row],[POSITION]]&"£"&Tableau_Effectifs_Dept[[#This Row],[PERIODE]]&"£"&Tableau_Effectifs_Dept[[#This Row],[TYPE]]&"£"&Tableau_Effectifs_Dept[[#This Row],[CIS]]&"£"&Tableau_Effectifs_Dept[[#This Row],[DATE]]) -> Garde£24H£PRO£AAA£44757 | K27: =IF(Tableau_Effectifs_Dept[[#This Row],[POSITION]]="Ast_logé",Tableau_Effectifs_Dept[[#This Row],[POSITION]]&"£"&Tableau_Effectifs_Dept[[#This Row],[PERIODE]]&"£"&Tableau_Effectifs_Dept[[#This Row],[TYPE]]&"£"&Tableau_Effectifs_Dept[[#This Row],[DATE]],"") | L27: =IF(AND(Tableau_Effectifs_Dept[[#This Row],[PERIODE]]="creneau",Tableau_Effectifs_Dept[[#This Row],[DE]]>=7/24),Tableau_Effectifs_Dept[[#This Row],[GardDteFin]]-Tableau_Effectifs_Dept[[#This Row],[GardDteDebut]],0) -> 0 | M27: =MAX(IF(AND(Tableau_Effectifs_Dept[[#This Row],[PERIODE]]="creneau",Tableau_Effectifs_Dept[[#This Row],[DE]]>=7/24,Tableau_Effectifs_Dept[[#This Row],[A]]<=19/24),19/24-Tableau_Effectifs_Dept[[#This Row],[DE]],0),0) -> 0 | N27: =MAX(IF(Tableau_Effectifs_Dept[[#This Row],[Créneau TOT]]>0,Tableau_Effectifs_Dept[[#This Row],[Créneau TOT]]-Tableau_Effectifs_Dept[[#This Row],[Créneau J ]],0),0) -> 0
A28: 44757.292 | B28: 44758.292 | C28: =INT(Tableau_Effectifs_Dept[[#This Row],[GardDteDebut]]) -> 44757 | D28: =ROUND(MOD(Tableau_Effectifs_Dept[[#This Row],[GardDteDebut]],1),5) -> 0.29167 | E28: =ROUND(MOD(Tableau_Effectifs_Dept[[#This Row],[GardDteFin]],1),5) -> 0.29167 | F28: AAA | G28: Garde | H28: PRO | I28: 24H | J28: =IF(Tableau_Effectifs_Dept[[#This Row],[PERIODE]]="CRENEAU","",Tableau_Effectifs_Dept[[#This Row],[POSITION]]&"£"&Tableau_Effectifs_Dept[[#This Row],[PERIODE]]&"£"&Tableau_Effectifs_Dept[[#This Row],[TYPE]]&"£"&Tableau_Effectifs_Dept[[#This Row],[CIS]]&"£"&Tableau_Effectifs_Dept[[#This Row],[DATE]]) -> Garde£24H£PRO£AAA£44757 | K28: =IF(Tableau_Effectifs_Dept[[#This Row],[POSITION]]="Ast_logé",Tableau_Effectifs_Dept[[#This Row],[POSITION]]&"£"&Tableau_Effectifs_Dept[[#This Row],[PERIODE]]&"£"&Tableau_Effectifs_Dept[[#This Row],[TYPE]]&"£"&Tableau_Effectifs_Dept[[#This Row],[DATE]],"") | L28: =IF(AND(Tableau_Effectifs_Dept[[#This Row],[PERIODE]]="creneau",Tableau_Effectifs_Dept[[#This Row],[DE]]>=7/24),Tableau_Effectifs_Dept[[#This Row],[GardDteFin]]-Tableau_Effectifs_Dept[[#This Row],[GardDteDebut]],0) -> 0 | M28: =MAX(IF(AND(Tableau_Effectifs_Dept[[#This Row],[PERIODE]]="creneau",Tableau_Effectifs_Dept[[#This Row],[DE]]>=7/24,Tableau_Effectifs_Dept[[#This Row],[A]]<=19/24),19/24-Tableau_Effectifs_Dept[[#This Row],[DE]],0),0) -> 0 | N28: =MAX(IF(Tableau_Effectifs_Dept[[#This Row],[Créneau TOT]]>0,Tableau_Effectifs_Dept[[#This Row],[Créneau TOT]]-Tableau_Effectifs_Dept[[#This Row],[Créneau J ]],0),0) -> 0
A29: 44757.292 | B29: 44758.292 | C29: =INT(Tableau_Effectifs_Dept[[#This Row],[GardDteDebut]]) -> 44757 | D29: =ROUND(MOD(Tableau_Effectifs_Dept[[#This Row],[GardDteDebut]],1),5) -> 0.29167 | E29: =ROUND(MOD(Tableau_Effectifs_Dept[[#This Row],[GardDteFin]],1),5) -> 0.29167 | F29: AAA | G29: Garde | H29: VOL | I29: 24H | J29: =IF(Tableau_Effectifs_Dept[[#This Row],[PERIODE]]="CRENEAU","",Tableau_Effectifs_Dept[[#This Row],[POSITION]]&"£"&Tableau_Effectifs_Dept[[#This Row],[PERIODE]]&"£"&Tableau_Effectifs_Dept[[#This Row],[TYPE]]&"£"&Tableau_Effectifs_Dept[[#This Row],[CIS]]&"£"&Tableau_Effectifs_Dept[[#This Row],[DATE]]) -> Garde£24H£VOL£AAA£44757 | K29: =IF(Tableau_Effectifs_Dept[[#This Row],[POSITION]]="Ast_logé",Tableau_Effectifs_Dept[[#This Row],[POSITION]]&"£"&Tableau_Effectifs_Dept[[#This Row],[PERIODE]]&"£"&Tableau_Effectifs_Dept[[#This Row],[TYPE]]&"£"&Tableau_Effectifs_Dept[[#This Row],[DATE]],"") | L29: =IF(AND(Tableau_Effectifs_Dept[[#This Row],[PERIODE]]="creneau",Tableau_Effectifs_Dept[[#This Row],[DE]]>=7/24),Tableau_Effectifs_Dept[[#This Row],[GardDteFin]]-Tableau_Effectifs_Dept[[#This Row],[GardDteDebut]],0) -> 0 | M29: =MAX(IF(AND(Tableau_Effectifs_Dept[[#This Row],[PERIODE]]="creneau",Tableau_Effectifs_Dept[[#This Row],[DE]]>=7/24,Tableau_Effectifs_Dept[[#This Row],[A]]<=19/24),19/24-Tableau_Effectifs_Dept[[#This Row],[DE]],0),0) -> 0 | N29: =MAX(IF(Tableau_Effectifs_Dept[[#This Row],[Créneau TOT]]>0,Tableau_Effectifs_Dept[[#This Row],[Créneau TOT]]-Tableau_Effectifs_Dept[[#This Row],[Créneau J ]],0),0) -> 0
A30: 44757.292 | B30: 44758.292 | C30: =INT(Tableau_Effectifs_Dept[[#This Row],[GardDteDebut]]) -> 44757 | D30: =ROUND(MOD(Tableau_Effectifs_Dept[[#This Row],[GardDteDebut]],1),5) -> 0.29167 | E30: =ROUND(MOD(Tableau_Effectifs_Dept[[#This Row],[GardDteFin]],1),5) -> 0.29167 | F30: CCC | G30: Garde | H30: PRO | I30: 24H | J30: =IF(Tableau_Effectifs_Dept[[#This Row],[PERIODE]]="CRENEAU","",Tableau_Effectifs_Dept[[#This Row],[POSITION]]&"£"&Tableau_Effectifs_Dept[[#This Row],[PERIODE]]&"£"&Tableau_Effectifs_Dept[[#This Row],[TYPE]]&"£"&Tableau_Effectifs_Dept[[#This Row],[CIS]]&"£"&Tableau_Effectifs_Dept[[#This Row],[DATE]]) -> Garde£24H£PRO£CCC£44757 | K30: =IF(Tableau_Effectifs_Dept[[#This Row],[POSITION]]="Ast_logé",Tableau_Effectifs_Dept[[#This Row],[POSITION]]&"£"&Tableau_Effectifs_Dept[[#This Row],[PERIODE]]&"£"&Tableau_Effectifs_Dept[[#This Row],[TYPE]]&"£"&Tableau_Effectifs_Dept[[#This Row],[DATE]],"") | L30: =IF(AND(Tableau_Effectifs_Dept[[#This Row],[PERIODE]]="creneau",Tableau_Effectifs_Dept[[#This Row],[DE]]>=7/24),Tableau_Effectifs_Dept[[#This Row],[GardDteFin]]-Tableau_Effectifs_Dept[[#This Row],[GardDteDebut]],0) -> 0 | M30: =MAX(IF(AND(Tableau_Effectifs_Dept[[#This Row],[PERIODE]]="creneau",Tableau_Effectifs_Dept[[#This Row],[DE]]>=7/24,Tableau_Effectifs_Dept[[#This Row],[A]]<=19/24),19/24-Tableau_Effectifs_Dept[[#This Row],[DE]],0),0) -> 0 | N30: =MAX(IF(Tableau_Effectifs_Dept[[#This Row],[Créneau TOT]]>0,Tableau_Effectifs_Dept[[#This Row],[Créneau TOT]]-Tableau_Effectifs_Dept[[#This Row],[Créneau J ]],0),0) -> 0
A31: 44757.292 | B31: 44758.292 | C31: =INT(Tableau_Effectifs_Dept[[#This Row],[GardDteDebut]]) -> 44757 | D31: =ROUND(MOD(Tableau_Effectifs_Dept[[#This Row],[GardDteDebut]],1),5) -> 0.29167 | E31: =ROUND(MOD(Tableau_Effectifs_Dept[[#This Row],[GardDteFin]],1),5) -> 0.29167 | F31: CCC | G31: Garde | H31: VOL | I31: 24H | J31: =IF(Tableau_Effectifs_Dept[[#This Row],[PERIODE]]="CRENEAU","",Tableau_Effectifs_Dept[[#This Row],[POSITION]]&"£"&Tableau_Effectifs_Dept[[#This Row],[PERIODE]]&"£"&Tableau_Effectifs_Dept[[#This Row],[TYPE]]&"£"&Tableau_Effectifs_Dept[[#This Row],[CIS]]&"£"&Tableau_Effectifs_Dept[[#This Row],[DATE]]) -> Garde£24H£VOL£CCC£44757 | K31: =IF(Tableau_Effectifs_Dept[[#This Row],[POSITION]]="Ast_logé",Tableau_Effectifs_Dept[[#This Row],[POSITION]]&"£"&Tableau_Effectifs_Dept[[#This Row],[PERIODE]]&"£"&Tableau_Effectifs_Dept[[#This Row],[TYPE]]&"£"&Tableau_Effectifs_Dept[[#This Row],[DATE]],"") | L31: =IF(AND(Tableau_Effectifs_Dept[[#This Row],[PERIODE]]="creneau",Tableau_Effectifs_Dept[[#This Row],[DE]]>=7/24),Tableau_Effectifs_Dept[[#This Row],[GardDteFin]]-Tableau_Effectifs_Dept[[#This Row],[GardDteDebut]],0) -> 0 | M31: =MAX(IF(AND(Tableau_Effectifs_Dept[[#This Row],[PERIODE]]="creneau",Tableau_Effectifs_Dept[[#This Row],[DE]]>=7/24,Tableau_Effectifs_Dept[[#This Row],[A]]<=19/24),19/24-Tableau_Effectifs_Dept[[#This Row],[DE]],0),0) -> 0 | N31: =MAX(IF(Tableau_Effectifs_Dept[[#This Row],[Créneau TOT]]>0,Tableau_Effectifs_Dept[[#This Row],[Créneau TOT]]-Tableau_Effectifs_Dept[[#This Row],[Créneau J ]],0),0) -> 0
A32: 44757.292 | B32: 44758.292 | C32: =INT(Tableau_Effectifs_Dept[[#This Row],[GardDteDebut]]) -> 44757 | D32: =ROUND(MOD(Tableau_Effectifs_Dept[[#This Row],[GardDteDebut]],1),5) -> 0.29167 | E32: =ROUND(MOD(Tableau_Effectifs_Dept[[#This Row],[GardDteFin]],1),5) -> 0.29167 | F32: CCC | G32: Garde | H32: VOL | I32: 24H | J32: =IF(Tableau_Effectifs_Dept[[#This Row],[PERIODE]]="CRENEAU","",Tableau_Effectifs_Dept[[#This Row],[POSITION]]&"£"&Tableau_Effectifs_Dept[[#This Row],[PERIODE]]&"£"&Tableau_Effectifs_Dept[[#This Row],[TYPE]]&"£"&Tableau_Effectifs_Dept[[#This Row],[CIS]]&"£"&Tableau_Effectifs_Dept[[#This Row],[DATE]]) -> Garde£24H£VOL£CCC£44757 | K32: =IF(Tableau_Effectifs_Dept[[#This Row],[POSITION]]="Ast_logé",Tableau_Effectifs_Dept[[#This Row],[POSITION]]&"£"&Tableau_Effectifs_Dept[[#This Row],[PERIODE]]&"£"&Tableau_Effectifs_Dept[[#This Row],[TYPE]]&"£"&Tableau_Effectifs_Dept[[#This Row],[DATE]],"") | L32: =IF(AND(Tableau_Effectifs_Dept[[#This Row],[PERIODE]]="creneau",Tableau_Effectifs_Dept[[#This Row],[DE]]>=7/24),Tableau_Effectifs_Dept[[#This Row],[GardDteFin]]-Tableau_Effectifs_Dept[[#This Row],[GardDteDebut]],0) -> 0 | M32: =MAX(IF(AND(Tableau_Effectifs_Dept[[#This Row],[PERIODE]]="creneau",Tableau_Effectifs_Dept[[#This Row],[DE]]>=7/24,Tableau_Effectifs_Dept[[#This Row],[A]]<=19/24),19/24-Tableau_Effectifs_Dept[[#This Row],[DE]],0),0) -> 0 | N32: =MAX(IF(Tableau_Effectifs_Dept[[#This Row],[Créneau TOT]]>0,Tableau_Effectifs_Dept[[#This Row],[Créneau TOT]]-Tableau_Effectifs_Dept[[#This Row],[Créneau J ]],0),0) -> 0
A33: 44757.292 | B33: 44758.292 | C33: =INT(Tableau_Effectifs_Dept[[#This Row],[GardDteDebut]]) -> 44757 | D33: =ROUND(MOD(Tableau_Effectifs_Dept[[#This Row],[GardDteDebut]],1),5) -> 0.29167 | E33: =ROUND(MOD(Tableau_Effectifs_Dept[[#This Row],[GardDteFin]],1),5) -> 0.29167 | F33: CCC | G33: Garde | H33: PRO | I33: 24H | J33: =IF(Tableau_Effectifs_Dept[[#This Row],[PERIODE]]="CRENEAU","",Tableau_Effectifs_Dept[[#This Row],[POSITION]]&"£"&Tableau_Effectifs_Dept[[#This Row],[PERIODE]]&"£"&Tableau_Effectifs_Dept[[#This Row],[TYPE]]&"£"&Tableau_Effectifs_Dept[[#This Row],[CIS]]&"£"&Tableau_Effectifs_Dept[[#This Row],[DATE]]) -> Garde£24H£PRO£CCC£44757 | K33: =IF(Tableau_Effectifs_Dept[[#This Row],[POSITION]]="Ast_logé",Tableau_Effectifs_Dept[[#This Row],[POSITION]]&"£"&Tableau_Effectifs_Dept[[#This Row],[PERIODE]]&"£"&Tableau_Effectifs_Dept[[#This Row],[TYPE]]&"£"&Tableau_Effectifs_Dept[[#This Row],[DATE]],"") | L33: =IF(AND(Tableau_Effectifs_Dept[[#This Row],[PERIODE]]="creneau",Tableau_Effectifs_Dept[[#This Row],[DE]]>=7/24),Tableau_Effectifs_Dept[[#This Row],[GardDteFin]]-Tableau_Effectifs_Dept[[#This Row],[GardDteDebut]],0) -> 0 | M33: =MAX(IF(AND(Tableau_Effectifs_Dept[[#This Row],[PERIODE]]="creneau",Tableau_Effectifs_Dept[[#This Row],[DE]]>=7/24,Tableau_Effectifs_Dept[[#This Row],[A]]<=19/24),19/24-Tableau_Effectifs_Dept[[#This Row],[DE]],0),0) -> 0 | N33: =MAX(IF(Tableau_Effectifs_Dept[[#This Row],[Créneau TOT]]>0,Tableau_Effectifs_Dept[[#This Row],[Créneau TOT]]-Tableau_Effectifs_Dept[[#This Row],[Créneau J ]],0),0) -> 0
... A407: 44771.792 | B407: 44772.292 | C407: =INT(Tableau_Effectifs_Dept[[#This Row],[GardDteDebut]]) -> 44771 | D407: =ROUND(MOD(Tableau_Effectifs_Dept[[#This Row],[GardDteDebut]],1),5) -> 0.79167 | E407: =ROUND(MOD(Tableau_Effectifs_Dept[[#This Row],[GardDteFin]],1),5) -> 0.29167 | F407: CCC | G407: Garde | H407: VOL | I407: NUIT | J407: =IF(Tableau_Effectifs_Dept[[#This Row],[PERIODE]]="CRENEAU","",Tableau_Effectifs_Dept[[#This Row],[POSITION]]&"£"&Tableau_Effectifs_Dept[[#This Row],[PERIODE]]&"£"&Tableau_Effectifs_Dept[[#This Row],[TYPE]]&"£"&Tableau_Effectifs_Dept[[#This Row],[CIS]]&"£"&Tableau_Effectifs_Dept[[#This Row],[DATE]]) -> Garde£NUIT£VOL£CCC£44771 | K407: =IF(Tableau_Effectifs_Dept[[#This Row],[POSITION]]="Ast_logé",Tableau_Effectifs_Dept[[#This Row],[POSITION]]&"£"&Tableau_Effectifs_Dept[[#This Row],[PERIODE]]&"£"&Tableau_Effectifs_Dept[[#This Row],[TYPE]]&"£"&Tableau_Effectifs_Dept[[#This Row],[DATE]],"") | L407: =IF(AND(Tableau_Effectifs_Dept[[#This Row],[PERIODE]]="creneau",Tableau_Effectifs_Dept[[#This Row],[DE]]>=7/24),Tableau_Effectifs_Dept[[#This Row],[GardDteFin]]-Tableau_Effectifs_Dept[[#This Row],[GardDteDebut]],0) -> 0 | M407: =MAX(IF(AND(Tableau_Effectifs_Dept[[#This Row],[PERIODE]]="creneau",Tableau_Effectifs_Dept[[#This Row],[DE]]>=7/24,Tableau_Effectifs_Dept[[#This Row],[A]]<=19/24),19/24-Tableau_Effectifs_Dept[[#This Row],[DE]],0),0) -> 0 | N407: =MAX(IF(Tableau_Effectifs_Dept[[#This Row],[Créneau TOT]]>0,Tableau_Effectifs_Dept[[#This Row],[Créneau TOT]]-Tableau_Effectifs_Dept[[#This Row],[Créneau J ]],0),0) -> 0

Sheet BDD
A1: Jours Fériés | B1: 2007 | C1: 2008 | D1: 2009 | E1: 2010 | F1: 2011 | G1: 2012 | H1: 2013 | I1: 2014 | J1: 2015 | K1: 2016 | L1: 2017 | M1: 2018 | N1: 2019 | O1: 2020 | P1: 2021 | Q1: 2022 | R1: 2023 | S1: 2024 | T1: 2025
A2: Jour de l’An | B2: =DATE(B1,1,1) -> 39083 | C2: =DATE(C1,1,1) -> 39448 | D2: =DATE(D1,1,1) -> 39814 | E2: =DATE(E1,1,1) -> 40179 | F2: =DATE(F1,1,1) -> 40544 | G2: =DATE(G1,1,1) -> 40909 | H2: =DATE(H1,1,1) -> 41275 | I2: =DATE(I1,1,1) -> 41640 | ... T2: =DATE(T1,1,1) -> 45658
A3: Pâques | B3: =ROUND(DATE(B1,4,MOD(234-11*MOD(B1,19),30))/7,0)*7-6 -> 39180 | C3: =ROUND(DATE(C1,4,MOD(234-11*MOD(C1,19),30))/7,0)*7-6 -> 39530 | D3: =ROUND(DATE(D1,4,MOD(234-11*MOD(D1,19),30))/7,0)*7-6 -> 39915 | E3: =ROUND(DATE(E1,4,MOD(234-11*MOD(E1,19),30))/7,0)*7-6 -> 40272 | F3: =ROUND(DATE(F1,4,MOD(234-11*MOD(F1,19),30))/7,0)*7-6 -> 40657 | G3: =ROUND(DATE(G1,4,MOD(234-11*MOD(G1,19),30))/7,0)*7-6 -> 41007 | H3: =ROUND(DATE(H1,4,MOD(234-11*MOD(H1,19),30))/7,0)*7-6 -> 41364 | I3: =ROUND(DATE(I1,4,MOD(234-11*MOD(I1,19),30))/7,0)*7-6 -> 41749 | ... T3: =ROUND(DATE(T1,4,MOD(234-11*MOD(T1,19),30))/7,0)*7-6 -> 45767
A4: Lundi de Pâques | B4: =B3+1 -> 39181 | C4: =C3+1 -> 39531 | D4: =D3+1 -> 39916 | E4: =E3+1 -> 40273 | F4: =F3+1 -> 40658 | G4: =G3+1 -> 41008 | H4: =H3+1 -> 41365 | I4: =I3+1 -> 41750 | ... T4: =T3+1 -> 45768
A5: Fête du travail | B5: =DATE(B1,5,1) -> 39203 | C5: =DATE(C1,5,1) -> 39569 | D5: =DATE(D1,5,1) -> 39934 | E5: =DATE(E1,5,1) -> 40299 | F5: =IF(BDD!V3NB.SI(BDD!B2:Z14,E4)=1,1,"") -> #NAME? | G5: =DATE(G1,5,1) -> 41030 | H5: =DATE(H1,5,1) -> 41395 | I5: =DATE(I1,5,1) -> 41760 | J5: =DATE(J1,5,1) -> 42125 | K5: =DATE(K1,5,1) -> 42491 | L5: =DATE(L1,5,1) -> 42856 | M5: =DATE(M1,5,1) -> 43221 | N5: =DATE(N1,5,1) -> 43586 | ... T5: =DATE(T1,5,1) -> 45778
A6: Victoire 1945 | B6: =DATE(B1,5,8) -> 39210 | C6: =DATE(C1,5,8) -> 39576 | D6: =DATE(D1,5,8) -> 39941 | E6: =DATE(E1,5,8) -> 40306 | F6: =DATE(F1,5,8) -> 40671 | G6: =DATE(G1,5,8) -> 41037 | H6: =DATE(H1,5,8) -> 41402 | I6: =DATE(I1,5,8) -> 41767 | ... T6: =DATE(T1,5,8) -> 45785
A7: Ascension | B7: =B3+39 -> 39219 | C7: =C3+39 -> 39569 | D7: =D3+39 -> 39954 | E7: =E3+39 -> 40311 | F7: =F3+39 -> 40696 | G7: =G3+39 -> 41046 | H7: =H3+39 -> 41403 | I7: =I3+39 -> 41788 | ... T7: =T3+39 -> 45806
A8: Pentecôte | B8: =B3+49 -> 39229 | C8: =C3+49 -> 39579 | D8: =D3+49 -> 39964 | E8: =E3+49 -> 40321 | F8: =F3+49 -> 40706 | G8: =G3+49 -> 41056 | H8: =H3+49 -> 41413 | I8: =I3+49 -> 41798 | ... T8: =T3+49 -> 45816
A9: Lundi de Pentecôte | B9: =B3+50 -> 39230 | C9: =C3+50 -> 39580 | D9: =D3+50 -> 39965 | E9: =E3+50 -> 40322 | F9: =F3+50 -> 40707 | G9: =G3+50 -> 41057 | H9: =H3+50 -> 41414 | I9: =I3+50 -> 41799 | ... T9: =T3+50 -> 45817
A10: Fête Nationale | B10: =DATE(B1,7,14) -> 39277 | C10: =DATE(C1,7,14) -> 39643 | D10: =DATE(D1,7,14) -> 40008 | E10: =DATE(E1,7,14) -> 40373 | F10: =DATE(F1,7,14) -> 40738 | G10: =DATE(G1,7,14) -> 41104 | H10: =DATE(H1,7,14) -> 41469 | I10: =DATE(I1,7,14) -> 41834 | ... T10: =DATE(T1,7,14) -> 45852
A11: Assomption | B11: =DATE(B1,8,15) -> 39309 | C11: =DATE(C1,8,15) -> 39675 | D11: =DATE(D1,8,15) -> 40040 | E11: =DATE(E1,8,15) -> 40405 | F11: =DATE(F1,8,15) -> 40770 | G11: =DATE(G1,8,15) -> 41136 | H11: =DATE(H1,8,15) -> 41501 | I11: =DATE(I1,8,15) -> 41866 | ... T11: =DATE(T1,8,15) -> 45884
A12: Toussaint | B12: =DATE(B1,11,1) -> 39387 | C12: =DATE(C1,11,1) -> 39753 | D12: =DATE(D1,11,1) -> 40118 | E12: =DATE(E1,11,1) -> 40483 | F12: =DATE(F1,11,1) -> 40848 | G12: =DATE(G1,11,1) -> 41214 | H12: =DATE(H1,11,1) -> 41579 | I12: =DATE(I1,11,1) -> 41944 | ... T12: =DATE(T1,11,1) -> 45962
A13: Armistice 1918 | B13: =DATE(B1,11,11) -> 39397 | C13: =DATE(C1,11,11) -> 39763 | D13: =DATE(D1,11,11) -> 40128 | E13: =DATE(E1,11,11) -> 40493 | F13: =DATE(F1,11,11) -> 40858 | G13: =DATE(G1,11,11) -> 41224 | H13: =DATE(H1,11,11) -> 41589 | I13: =DATE(I1,11,11) -> 41954 | ... T13: =DATE(T1,11,11) -> 45972
A14: Noël | B14: =DATE(B1,12,25) -> 39441 | C14: =DATE(C1,12,25) -> 39807 | D14: =DATE(D1,12,25) -> 40172 | E14: =DATE(E1,12,25) -> 40537 | F14: =DATE(F1,12,25) -> 40902 | G14: =DATE(G1,12,25) -> 41268 | H14: =DATE(H1,12,25) -> 41633 | I14: =DATE(I1,12,25) -> 41998 | ... T14: =DATE(T1,12,25) -> 46016
N18: =COUNTIF(BDD!B2:Z14,"14/07/2022") -> 1
