Workbook

Sheet inscriptions
A1: N° | B1: Type | C1: NOM | D1: Prénom | E1: Mail | F1: Choix 1 | G1: Choix 2 | H1: Choix 3 | I1: Choix 4 | J1: Bloc I | K1: Bloc II | L1: Bloc III | M1: CA
A2: 1 | B2: Comité | C2: Dupont | D2: Benoît | E2: Dupont.Benoît@mail.com | F2: 1 | G2: 4 | H2: 6 | I2: 2 | J2: 2 | K2: 4 | L2: 5 | M2: 5
A3: 2 | C3: Rod | D3: Philippe | E3: Rod.Philippe@mail.com | F3: 9 | G3: 6 | H3: 3 | I3: 7 | J3: 1 | K3: 4 | L3: 5 | M3: 10
A4: 3 | C4: Aviolat | D4: Jean | E4: Aviolat.Jean@mail.com | F4: 1 | G4: 6 | H4: 9 | I4: 2 | J4: 1 | K4: 9 | L4: 2 | M4: 11
A5: 4 | C5: Pichard | D5: Alain | E5: Pichard.Alain@mail.com | F5: 2 | G5: 7 | H5: 8 | I5: 5 | J5: 8 | K5: 2 | L5: 7 | M5: 8
A6: 5 | C6: Jaccard | D6: Michel | E6: Jaccard.Michel@mail.com | F6: 9 | G6: 7 | H6: 8 | I6: 3 | J6: 3 | K6: 8 | L6: 7 | M6: 9
A7: 6 | C7: Burnand | D7: Frédéric | E7: Burnand.Frédéric@mail.com | F7: 3 | G7: 6 | H7: 2 | I7: 5 | J7: 6 | K7: 2 | L7: 5 | M7: 12
A8: 7 | C8: Matte | D8: Basile | E8: Matte.Basile@mail.com | F8: 2 | G8: 6 | H8: 3 | I8: 4 | J8: 2 | K8: 6 | L8: 4 | M8: 14

Sheet Tables
A1: Classe | B1: Cours | C1: Professeur | E1: 1 | F1: =VLOOKUP($E1,Classes[],COLUMN(B12),0) -> Cours n° 1 | G1: =VLOOKUP($E1,Classes[],COLUMN(C12),0) -> Prof n° 1
A2: 1 | B2: Cours n° 1 | C2: Prof n° 1 | F2: Nom et Prénom | G2: Mail | H2: Reg
A3: 2 | B3: Cours n° 2 | C3: Prof n° 2 | E3: 1 | F3: {=IF(ROW()-2>COUNTIF(Inscriptions_Rep[Bloc I],Tables!$E$1)+COUNTIF(Inscriptions_Rep[Bloc II],Tables!$E$1)+COUNTIF(Inscriptions_Rep[Bloc III],Tables!$E$1),"",INDEX(Inscriptions_Rep[NOM],SMALL(IF((Inscriptions_Rep[Bloc I]=$E$1)+(Inscriptions_Rep[Bloc II]=$E$1)+(Inscriptions_Rep[Bloc III]=$E$1),ROW(Inscriptions_Rep[NOM])-1,""),ROW()-2))&" "&INDEX(Inscriptions_Rep[Prénom],SMALL(IF((Inscriptions_Rep[Bloc I]=$E$1)+(Inscriptions_Rep[Bloc II]=$E$1)+(Inscriptions_Rep[Bloc III]=$E$1),ROW(Inscriptions_Rep[NOM])-1,""),ROW()-2)))} -> Rod Philippe | G3: {=IF(ROW()-2>COUNTIF(Inscriptions_Rep[Bloc I],Tables!$E$1)+COUNTIF(Inscriptions_Rep[Bloc II],Tables!$E$1)+COUNTIF(Inscriptions_Rep[Bloc III],Tables!$E$1),"",INDEX(Inscriptions_Rep[Mail],SMALL(IF((Inscriptions_Rep[Bloc I]=$E$1)+(Inscriptions_Rep[Bloc II]=$E$1)+(Inscriptions_Rep[Bloc III]=$E$1),ROW(Inscriptions_Rep[NOM])-1,""),ROW()-2)))} -> Rod.Philippe@mail.com
A4: 3 | B4: Cours n° 3 | C4: Prof n° 3 | E4: 2 | F4: {=IF(ROW()-2>COUNTIF(Inscriptions_Rep[Bloc I],Tables!$E$1)+COUNTIF(Inscriptions_Rep[Bloc II],Tables!$E$1)+COUNTIF(Inscriptions_Rep[Bloc III],Tables!$E$1),"",INDEX(Inscriptions_Rep[NOM],SMALL(IF((Inscriptions_Rep[Bloc I]=$E$1)+(Inscriptions_Rep[Bloc II]=$E$1)+(Inscriptions_Rep[Bloc III]=$E$1),ROW(Inscriptions_Rep[NOM])-1,""),ROW()-2))&" "&INDEX(Inscriptions_Rep[Prénom],SMALL(IF((Inscriptions_Rep[Bloc I]=$E$1)+(Inscriptions_Rep[Bloc II]=$E$1)+(Inscriptions_Rep[Bloc III]=$E$1),ROW(Inscriptions_Rep[NOM])-1,""),ROW()-2)))} -> Aviolat Jean | G4: {=IF(ROW()-2>COUNTIF(Inscriptions_Rep[Bloc I],Tables!$E$1)+COUNTIF(Inscriptions_Rep[Bloc II],Tables!$E$1)+COUNTIF(Inscriptions_Rep[Bloc III],Tables!$E$1),"",INDEX(Inscriptions_Rep[Mail],SMALL(IF((Inscriptions_Rep[Bloc I]=$E$1)+(Inscriptions_Rep[Bloc II]=$E$1)+(Inscriptions_Rep[Bloc III]=$E$1),ROW(Inscriptions_Rep[NOM])-1,""),ROW()-2)))} -> Aviolat.Jean@mail.com
A5: 4 | B5: Cours n° 4 | C5: Prof n° 4 | E5: 3 | F5: {=IF(ROW()-2>COUNTIF(Inscriptions_Rep[Bloc I],Tables!$E$1)+COUNTIF(Inscriptions_Rep[Bloc II],Tables!$E$1)+COUNTIF(Inscriptions_Rep[Bloc III],Tables!$E$1),"",INDEX(Inscriptions_Rep[NOM],SMALL(IF((Inscriptions_Rep[Bloc I]=$E$1)+(Inscriptions_Rep[Bloc II]=$E$1)+(Inscriptions_Rep[Bloc III]=$E$1),ROW(Inscriptions_Rep[NOM])-1,""),ROW()-2))&" "&INDEX(Inscriptions_Rep[Prénom],SMALL(IF((Inscriptions_Rep[Bloc I]=$E$1)+(Inscriptions_Rep[Bloc II]=$E$1)+(Inscriptions_Rep[Bloc III]=$E$1),ROW(Inscriptions_Rep[NOM])-1,""),ROW()-2)))} | G5: {=IF(ROW()-2>COUNTIF(Inscriptions_Rep[Bloc I],Tables!$E$1)+COUNTIF(Inscriptions_Rep[Bloc II],Tables!$E$1)+COUNTIF(Inscriptions_Rep[Bloc III],Tables!$E$1),"",INDEX(Inscriptions_Rep[Mail],SMALL(IF((Inscriptions_Rep[Bloc I]=$E$1)+(Inscriptions_Rep[Bloc II]=$E$1)+(Inscriptions_Rep[Bloc III]=$E$1),ROW(Inscriptions_Rep[NOM])-1,""),ROW()-2)))}
E6: 4 | F6: {=IF(ROW()-2>COUNTIF(Inscriptions_Rep[Bloc I],Tables!$E$1)+COUNTIF(Inscriptions_Rep[Bloc II],Tables!$E$1)+COUNTIF(Inscriptions_Rep[Bloc III],Tables!$E$1),"",INDEX(Inscriptions_Rep[NOM],SMALL(IF((Inscriptions_Rep[Bloc I]=$E$1)+(Inscriptions_Rep[Bloc II]=$E$1)+(Inscriptions_Rep[Bloc III]=$E$1),ROW(Inscriptions_Rep[NOM])-1,""),ROW()-2))&" "&INDEX(Inscriptions_Rep[Prénom],SMALL(IF((Inscriptions_Rep[Bloc I]=$E$1)+(Inscriptions_Rep[Bloc II]=$E$1)+(Inscriptions_Rep[Bloc III]=$E$1),ROW(Inscriptions_Rep[NOM])-1,""),ROW()-2)))} | G6: {=IF(ROW()-2>COUNTIF(Inscriptions_Rep[Bloc I],Tables!$E$1)+COUNTIF(Inscriptions_Rep[Bloc II],Tables!$E$1)+COUNTIF(Inscriptions_Rep[Bloc III],Tables!$E$1),"",INDEX(Inscriptions_Rep[Mail],SMALL(IF((Inscriptions_Rep[Bloc I]=$E$1)+(Inscriptions_Rep[Bloc II]=$E$1)+(Inscriptions_Rep[Bloc III]=$E$1),ROW(Inscriptions_Rep[NOM])-1,""),ROW()-2)))}
E7: 5 | F7: {=IF(ROW()-2>COUNTIF(Inscriptions_Rep[Bloc I],Tables!$E$1)+COUNTIF(Inscriptions_Rep[Bloc II],Tables!$E$1)+COUNTIF(Inscriptions_Rep[Bloc III],Tables!$E$1),"",INDEX(Inscriptions_Rep[NOM],SMALL(IF((Inscriptions_Rep[Bloc I]=$E$1)+(Inscriptions_Rep[Bloc II]=$E$1)+(Inscriptions_Rep[Bloc III]=$E$1),ROW(Inscriptions_Rep[NOM])-1,""),ROW()-2))&" "&INDEX(Inscriptions_Rep[Prénom],SMALL(IF((Inscriptions_Rep[Bloc I]=$E$1)+(Inscriptions_Rep[Bloc II]=$E$1)+(Inscriptions_Rep[Bloc III]=$E$1),ROW(Inscriptions_Rep[NOM])-1,""),ROW()-2)))} | G7: {=IF(ROW()-2>COUNTIF(Inscriptions_Rep[Bloc I],Tables!$E$1)+COUNTIF(Inscriptions_Rep[Bloc II],Tables!$E$1)+COUNTIF(Inscriptions_Rep[Bloc III],Tables!$E$1),"",INDEX(Inscriptions_Rep[Mail],SMALL(IF((Inscriptions_Rep[Bloc I]=$E$1)+(Inscriptions_Rep[Bloc II]=$E$1)+(Inscriptions_Rep[Bloc III]=$E$1),ROW(Inscriptions_Rep[NOM])-1,""),ROW()-2)))}
E8: 6 | F8: {=IF(ROW()-2>COUNTIF(Inscriptions_Rep[Bloc I],Tables!$E$1)+COUNTIF(Inscriptions_Rep[Bloc II],Tables!$E$1)+COUNTIF(Inscriptions_Rep[Bloc III],Tables!$E$1),"",INDEX(Inscriptions_Rep[NOM],SMALL(IF((Inscriptions_Rep[Bloc I]=$E$1)+(Inscriptions_Rep[Bloc II]=$E$1)+(Inscriptions_Rep[Bloc III]=$E$1),ROW(Inscriptions_Rep[NOM])-1,""),ROW()-2))&" "&INDEX(Inscriptions_Rep[Prénom],SMALL(IF((Inscriptions_Rep[Bloc I]=$E$1)+(Inscriptions_Rep[Bloc II]=$E$1)+(Inscriptions_Rep[Bloc III]=$E$1),ROW(Inscriptions_Rep[NOM])-1,""),ROW()-2)))} | G8: {=IF(ROW()-2>COUNTIF(Inscriptions_Rep[Bloc I],Tables!$E$1)+COUNTIF(Inscriptions_Rep[Bloc II],Tables!$E$1)+COUNTIF(Inscriptions_Rep[Bloc III],Tables!$E$1),"",INDEX(Inscriptions_Rep[Mail],SMALL(IF((Inscriptions_Rep[Bloc I]=$E$1)+(Inscriptions_Rep[Bloc II]=$E$1)+(Inscriptions_Rep[Bloc III]=$E$1),ROW(Inscriptions_Rep[NOM])-1,""),ROW()-2)))}
E9: 7 | F9: {=IF(ROW()-2>COUNTIF(Inscriptions_Rep[Bloc I],Tables!$E$1)+COUNTIF(Inscriptions_Rep[Bloc II],Tables!$E$1)+COUNTIF(Inscriptions_Rep[Bloc III],Tables!$E$1),"",INDEX(Inscriptions_Rep[NOM],SMALL(IF((Inscriptions_Rep[Bloc I]=$E$1)+(Inscriptions_Rep[Bloc II]=$E$1)+(Inscriptions_Rep[Bloc III]=$E$1),ROW(Inscriptions_Rep[NOM])-1,""),ROW()-2))&" "&INDEX(Inscriptions_Rep[Prénom],SMALL(IF((Inscriptions_Rep[Bloc I]=$E$1)+(Inscriptions_Rep[Bloc II]=$E$1)+(Inscriptions_Rep[Bloc III]=$E$1),ROW(Inscriptions_Rep[NOM])-1,""),ROW()-2)))} | G9: {=IF(ROW()-2>COUNTIF(Inscriptions_Rep[Bloc I],Tables!$E$1)+COUNTIF(Inscriptions_Rep[Bloc II],Tables!$E$1)+COUNTIF(Inscriptions_Rep[Bloc III],Tables!$E$1),"",INDEX(Inscriptions_Rep[Mail],SMALL(IF((Inscriptions_Rep[Bloc I]=$E$1)+(Inscriptions_Rep[Bloc II]=$E$1)+(Inscriptions_Rep[Bloc III]=$E$1),ROW(Inscriptions_Rep[NOM])-1,""),ROW()-2)))}
E10: 8 | F10: {=IF(ROW()-2>COUNTIF(Inscriptions_Rep[Bloc I],Tables!$E$1)+COUNTIF(Inscriptions_Rep[Bloc II],Tables!$E$1)+COUNTIF(Inscriptions_Rep[Bloc III],Tables!$E$1),"",INDEX(Inscriptions_Rep[NOM],SMALL(IF((Inscriptions_Rep[Bloc I]=$E$1)+(Inscriptions_Rep[Bloc II]=$E$1)+(Inscriptions_Rep[Bloc III]=$E$1),ROW(Inscriptions_Rep[NOM])-1,""),ROW()-2))&" "&INDEX(Inscriptions_Rep[Prénom],SMALL(IF((Inscriptions_Rep[Bloc I]=$E$1)+(Inscriptions_Rep[Bloc II]=$E$1)+(Inscriptions_Rep[Bloc III]=$E$1),ROW(Inscriptions_Rep[NOM])-1,""),ROW()-2)))} | G10: {=IF(ROW()-2>COUNTIF(Inscriptions_Rep[Bloc I],Tables!$E$1)+COUNTIF(Inscriptions_Rep[Bloc II],Tables!$E$1)+COUNTIF(Inscriptions_Rep[Bloc III],Tables!$E$1),"",INDEX(Inscriptions_Rep[Mail],SMALL(IF((Inscriptions_Rep[Bloc I]=$E$1)+(Inscriptions_Rep[Bloc II]=$E$1)+(Inscriptions_Rep[Bloc III]=$E$1),ROW(Inscriptions_Rep[NOM])-1,""),ROW()-2)))}
E11: 9 | F11: {=IF(ROW()-2>COUNTIF(Inscriptions_Rep[Bloc I],Tables!$E$1)+COUNTIF(Inscriptions_Rep[Bloc II],Tables!$E$1)+COUNTIF(Inscriptions_Rep[Bloc III],Tables!$E$1),"",INDEX(Inscriptions_Rep[NOM],SMALL(IF((Inscriptions_Rep[Bloc I]=$E$1)+(Inscriptions_Rep[Bloc II]=$E$1)+(Inscriptions_Rep[Bloc III]=$E$1),ROW(Inscriptions_Rep[NOM])-1,""),ROW()-2))&" "&INDEX(Inscriptions_Rep[Prénom],SMALL(IF((Inscriptions_Rep[Bloc I]=$E$1)+(Inscriptions_Rep[Bloc II]=$E$1)+(Inscriptions_Rep[Bloc III]=$E$1),ROW(Inscriptions_Rep[NOM])-1,""),ROW()-2)))} | G11: {=IF(ROW()-2>COUNTIF(Inscriptions_Rep[Bloc I],Tables!$E$1)+COUNTIF(Inscriptions_Rep[Bloc II],Tables!$E$1)+COUNTIF(Inscriptions_Rep[Bloc III],Tables!$E$1),"",INDEX(Inscriptions_Rep[Mail],SMALL(IF((Inscriptions_Rep[Bloc I]=$E$1)+(Inscriptions_Rep[Bloc II]=$E$1)+(Inscriptions_Rep[Bloc III]=$E$1),ROW(Inscriptions_Rep[NOM])-1,""),ROW()-2)))}
E12: 10 | F12: {=IF(ROW()-2>COUNTIF(Inscriptions_Rep[Bloc I],Tables!$E$1)+COUNTIF(Inscriptions_Rep[Bloc II],Tables!$E$1)+COUNTIF(Inscriptions_Rep[Bloc III],Tables!$E$1),"",INDEX(Inscriptions_Rep[NOM],SMALL(IF((Inscriptions_Rep[Bloc I]=$E$1)+(Inscriptions_Rep[Bloc II]=$E$1)+(Inscriptions_Rep[Bloc III]=$E$1),ROW(Inscriptions_Rep[NOM])-1,""),ROW()-2))&" "&INDEX(Inscriptions_Rep[Prénom],SMALL(IF((Inscriptions_Rep[Bloc I]=$E$1)+(Inscriptions_Rep[Bloc II]=$E$1)+(Inscriptions_Rep[Bloc III]=$E$1),ROW(Inscriptions_Rep[NOM])-1,""),ROW()-2)))} | G12: {=IF(ROW()-2>COUNTIF(Inscriptions_Rep[Bloc I],Tables!$E$1)+COUNTIF(Inscriptions_Rep[Bloc II],Tables!$E$1)+COUNTIF(Inscriptions_Rep[Bloc III],Tables!$E$1),"",INDEX(Inscriptions_Rep[Mail],SMALL(IF((Inscriptions_Rep[Bloc I]=$E$1)+(Inscriptions_Rep[Bloc II]=$E$1)+(Inscriptions_Rep[Bloc III]=$E$1),ROW(Inscriptions_Rep[NOM])-1,""),ROW()-2)))}
E13: 11 | F13: {=IF(ROW()-2>COUNTIF(Inscriptions_Rep[Bloc I],Tables!$E$1)+COUNTIF(Inscriptions_Rep[Bloc II],Tables!$E$1)+COUNTIF(Inscriptions_Rep[Bloc III],Tables!$E$1),"",INDEX(Inscriptions_Rep[NOM],SMALL(IF((Inscriptions_Rep[Bloc I]=$E$1)+(Inscriptions_Rep[Bloc II]=$E$1)+(Inscriptions_Rep[Bloc III]=$E$1),ROW(Inscriptions_Rep[NOM])-1,""),ROW()-2))&" "&INDEX(Inscriptions_Rep[Prénom],SMALL(IF((Inscriptions_Rep[Bloc I]=$E$1)+(Inscriptions_Rep[Bloc II]=$E$1)+(Inscriptions_Rep[Bloc III]=$E$1),ROW(Inscriptions_Rep[NOM])-1,""),ROW()-2)))} | G13: {=IF(ROW()-2>COUNTIF(Inscriptions_Rep[Bloc I],Tables!$E$1)+COUNTIF(Inscriptions_Rep[Bloc II],Tables!$E$1)+COUNTIF(Inscriptions_Rep[Bloc III],Tables!$E$1),"",INDEX(Inscriptions_Rep[Mail],SMALL(IF((Inscriptions_Rep[Bloc I]=$E$1)+(Inscriptions_Rep[Bloc II]=$E$1)+(Inscriptions_Rep[Bloc III]=$E$1),ROW(Inscriptions_Rep[NOM])-1,""),ROW()-2)))}
E14: 12 | F14: {=IF(ROW()-2>COUNTIF(Inscriptions_Rep[Bloc I],Tables!$E$1)+COUNTIF(Inscriptions_Rep[Bloc II],Tables!$E$1)+COUNTIF(Inscriptions_Rep[Bloc III],Tables!$E$1),"",INDEX(Inscriptions_Rep[NOM],SMALL(IF((Inscriptions_Rep[Bloc I]=$E$1)+(Inscriptions_Rep[Bloc II]=$E$1)+(Inscriptions_Rep[Bloc III]=$E$1),ROW(Inscriptions_Rep[NOM])-1,""),ROW()-2))&" "&INDEX(Inscriptions_Rep[Prénom],SMALL(IF((Inscriptions_Rep[Bloc I]=$E$1)+(Inscriptions_Rep[Bloc II]=$E$1)+(Inscriptions_Rep[Bloc III]=$E$1),ROW(Inscriptions_Rep[NOM])-1,""),ROW()-2)))} | G14: {=IF(ROW()-2>COUNTIF(Inscriptions_Rep[Bloc I],Tables!$E$1)+COUNTIF(Inscriptions_Rep[Bloc II],Tables!$E$1)+COUNTIF(Inscriptions_Rep[Bloc III],Tables!$E$1),"",INDEX(Inscriptions_Rep[Mail],SMALL(IF((Inscriptions_Rep[Bloc I]=$E$1)+(Inscriptions_Rep[Bloc II]=$E$1)+(Inscriptions_Rep[Bloc III]=$E$1),ROW(Inscriptions_Rep[NOM])-1,""),ROW()-2)))}
E15: 13 | F15: {=IF(ROW()-2>COUNTIF(Inscriptions_Rep[Bloc I],Tables!$E$1)+COUNTIF(Inscriptions_Rep[Bloc II],Tables!$E$1)+COUNTIF(Inscriptions_Rep[Bloc III],Tables!$E$1),"",INDEX(Inscriptions_Rep[NOM],SMALL(IF((Inscriptions_Rep[Bloc I]=$E$1)+(Inscriptions_Rep[Bloc II]=$E$1)+(Inscriptions_Rep[Bloc III]=$E$1),ROW(Inscriptions_Rep[NOM])-1,""),ROW()-2))&" "&INDEX(Inscriptions_Rep[Prénom],SMALL(IF((Inscriptions_Rep[Bloc I]=$E$1)+(Inscriptions_Rep[Bloc II]=$E$1)+(Inscriptions_Rep[Bloc III]=$E$1),ROW(Inscriptions_Rep[NOM])-1,""),ROW()-2)))} | G15: {=IF(ROW()-2>COUNTIF(Inscriptions_Rep[Bloc I],Tables!$E$1)+COUNTIF(Inscriptions_Rep[Bloc II],Tables!$E$1)+COUNTIF(Inscriptions_Rep[Bloc III],Tables!$E$1),"",INDEX(Inscriptions_Rep[Mail],SMALL(IF((Inscriptions_Rep[Bloc I]=$E$1)+(Inscriptions_Rep[Bloc II]=$E$1)+(Inscriptions_Rep[Bloc III]=$E$1),ROW(Inscriptions_Rep[NOM])-1,""),ROW()-2)))}
E16: 14 | F16: {=IF(ROW()-2>COUNTIF(Inscriptions_Rep[Bloc I],Tables!$E$1)+COUNTIF(Inscriptions_Rep[Bloc II],Tables!$E$1)+COUNTIF(Inscriptions_Rep[Bloc III],Tables!$E$1),"",INDEX(Inscriptions_Rep[NOM],SMALL(IF((Inscriptions_Rep[Bloc I]=$E$1)+(Inscriptions_Rep[Bloc II]=$E$1)+(Inscriptions_Rep[Bloc III]=$E$1),ROW(Inscriptions_Rep[NOM])-1,""),ROW()-2))&" "&INDEX(Inscriptions_Rep[Prénom],SMALL(IF((Inscriptions_Rep[Bloc I]=$E$1)+(Inscriptions_Rep[Bloc II]=$E$1)+(Inscriptions_Rep[Bloc III]=$E$1),ROW(Inscriptions_Rep[NOM])-1,""),ROW()-2)))} | G16: {=IF(ROW()-2>COUNTIF(Inscriptions_Rep[Bloc I],Tables!$E$1)+COUNTIF(Inscriptions_Rep[Bloc II],Tables!$E$1)+COUNTIF(Inscriptions_Rep[Bloc III],Tables!$E$1),"",INDEX(Inscriptions_Rep[Mail],SMALL(IF((Inscriptions_Rep[Bloc I]=$E$1)+(Inscriptions_Rep[Bloc II]=$E$1)+(Inscriptions_Rep[Bloc III]=$E$1),ROW(Inscriptions_Rep[NOM])-1,""),ROW()-2)))}
E17: 15 | F17: {=IF(ROW()-2>COUNTIF(Inscriptions_Rep[Bloc I],Tables!$E$1)+COUNTIF(Inscriptions_Rep[Bloc II],Tables!$E$1)+COUNTIF(Inscriptions_Rep[Bloc III],Tables!$E$1),"",INDEX(Inscriptions_Rep[NOM],SMALL(IF((Inscriptions_Rep[Bloc I]=$E$1)+(Inscriptions_Rep[Bloc II]=$E$1)+(Inscriptions_Rep[Bloc III]=$E$1),ROW(Inscriptions_Rep[NOM])-1,""),ROW()-2))&" "&INDEX(Inscriptions_Rep[Prénom],SMALL(IF((Inscriptions_Rep[Bloc I]=$E$1)+(Inscriptions_Rep[Bloc II]=$E$1)+(Inscriptions_Rep[Bloc III]=$E$1),ROW(Inscriptions_Rep[NOM])-1,""),ROW()-2)))} | G17: {=IF(ROW()-2>COUNTIF(Inscriptions_Rep[Bloc I],Tables!$E$1)+COUNTIF(Inscriptions_Rep[Bloc II],Tables!$E$1)+COUNTIF(Inscriptions_Rep[Bloc III],Tables!$E$1),"",INDEX(Inscriptions_Rep[Mail],SMALL(IF((Inscriptions_Rep[Bloc I]=$E$1)+(Inscriptions_Rep[Bloc II]=$E$1)+(Inscriptions_Rep[Bloc III]=$E$1),ROW(Inscriptions_Rep[NOM])-1,""),ROW()-2)))}
... E42: 40 | F42: {=IF(ROW()-2>COUNTIF(Inscriptions_Rep[Bloc I],Tables!$E$1)+COUNTIF(Inscriptions_Rep[Bloc II],Tables!$E$1)+COUNTIF(Inscriptions_Rep[Bloc III],Tables!$E$1),"",INDEX(Inscriptions_Rep[NOM],SMALL(IF((Inscriptions_Rep[Bloc I]=$E$1)+(Inscriptions_Rep[Bloc II]=$E$1)+(Inscriptions_Rep[Bloc III]=$E$1),ROW(Inscriptions_Rep[NOM])-1,""),ROW()-2))&" "&INDEX(Inscriptions_Rep[Prénom],SMALL(IF((Inscriptions_Rep[Bloc I]=$E$1)+(Inscriptions_Rep[Bloc II]=$E$1)+(Inscriptions_Rep[Bloc III]=$E$1),ROW(Inscriptions_Rep[NOM])-1,""),ROW()-2)))} | G42: {=IF(ROW()-2>COUNTIF(Inscriptions_Rep[Bloc I],Tables!$E$1)+COUNTIF(Inscriptions_Rep[Bloc II],Tables!$E$1)+COUNTIF(Inscriptions_Rep[Bloc III],Tables!$E$1),"",INDEX(Inscriptions_Rep[Mail],SMALL(IF((Inscriptions_Rep[Bloc I]=$E$1)+(Inscriptions_Rep[Bloc II]=$E$1)+(Inscriptions_Rep[Bloc III]=$E$1),ROW(Inscriptions_Rep[NOM])-1,""),ROW()-2)))}

Sheet Feuil2
A1: =IF(inscriptions!F2=1,inscriptions!#REF!,"") -> #REF! | B1: =IF(inscriptions!F2=1,inscriptions!#REF!,"") -> #REF!
A2: =IF(inscriptions!F3=1,inscriptions!#REF!,"") | B2: =IF(inscriptions!F3=1,inscriptions!#REF!,"")
A3: =IF(inscriptions!F4=1,inscriptions!#REF!,"") -> #REF! | B3: =IF(inscriptions!F4=1,inscriptions!#REF!,"") -> #REF!
A4: =IF(inscriptions!F5=1,inscriptions!#REF!,"") | B4: =IF(inscriptions!F5=1,inscriptions!#REF!,"")
A5: =IF(inscriptions!F6=1,inscriptions!#REF!,"") | B5: =IF(inscriptions!F6=1,inscriptions!#REF!,"")
A6: =IF(inscriptions!F7=1,inscriptions!#REF!,"") | B6: =IF(inscriptions!F7=1,inscriptions!#REF!,"")
A7: =IF(inscriptions!F8=1,inscriptions!#REF!,"") | B7: =IF(inscriptions!F8=1,inscriptions!#REF!,"")
A8: =IF(inscriptions!#REF!=1,inscriptions!#REF!,"") -> #REF! | B8: =IF(inscriptions!#REF!=1,inscriptions!#REF!,"") -> #REF!
A9: =IF(inscriptions!#REF!=1,inscriptions!#REF!,"") -> #REF! | B9: =IF(inscriptions!#REF!=1,inscriptions!#REF!,"") -> #REF!
A10: =IF(inscriptions!#REF!=1,inscriptions!#REF!,"") -> #REF! | B10: =IF(inscriptions!#REF!=1,inscriptions!#REF!,"") -> #REF!
A11: =IF(inscriptions!#REF!=1,inscriptions!#REF!,"") -> #REF! | B11: =IF(inscriptions!#REF!=1,inscriptions!#REF!,"") -> #REF!
A12: =IF(inscriptions!#REF!=1,inscriptions!#REF!,"") -> #REF! | B12: =IF(inscriptions!#REF!=1,inscriptions!#REF!,"") -> #REF!
A13: =IF(inscriptions!#REF!=1,inscriptions!#REF!,"") -> #REF! | B13: =IF(inscriptions!#REF!=1,inscriptions!#REF!,"") -> #REF!
A14: =IF(inscriptions!#REF!=1,inscriptions!#REF!,"") -> #REF! | B14: =IF(inscriptions!#REF!=1,inscriptions!#REF!,"") -> #REF!
A15: =IF(inscriptions!#REF!=1,inscriptions!#REF!,"") -> #REF! | B15: =IF(inscriptions!#REF!=1,inscriptions!#REF!,"") -> #REF!
A16: =IF(inscriptions!#REF!=1,inscriptions!#REF!,"") -> #REF! | B16: =IF(inscriptions!#REF!=1,inscriptions!#REF!,"") -> #REF!
A17: =IF(inscriptions!#REF!=1,inscriptions!#REF!,"") -> #REF! | B17: =IF(inscriptions!#REF!=1,inscriptions!#REF!,"") -> #REF!
A18: =IF(inscriptions!#REF!=1,inscriptions!#REF!,"") -> #REF! | B18: =IF(inscriptions!#REF!=1,inscriptions!#REF!,"") -> #REF!
A19: =IF(inscriptions!#REF!=1,inscriptions!#REF!,"") -> #REF! | B19: =IF(inscriptions!#REF!=1,inscriptions!#REF!,"") -> #REF!
... A100: =IF(inscriptions!#REF!=1,inscriptions!#REF!,"") -> #REF! | B100: =IF(inscriptions!#REF!=1,inscriptions!#REF!,"") -> #REF!
