Workbook

Sheet inscriptions
A1: N° | B1: Type | C1: NOM | D1: Prénom | E1: Mail | F1: Choix 1 | G1: Choix 2 | H1: Choix 3 | I1: Choix 4 | J1: Bloc I | K1: Bloc II | L1: Bloc III | M1: CA
A2: 1 | B2: Comité | C2: Dupont | D2: Benoît | E2: Dupont.Benoît@mail.com | F2: 1 | G2: 4 | H2: 6 | I2: 2 | J2: 2 | K2: 4 | L2: 5 | M2: 5
A3: 2 | C3: Rod | D3: Philippe | E3: Rod.Philippe@mail.com | F3: 9 | G3: 6 | H3: 3 | I3: 7 | J3: 1 | K3: 4 | L3: 5 | M3: 10
A4: 3 | C4: Aviolat | D4: Jean | E4: Aviolat.Jean@mail.com | F4: 1 | G4: 6 | H4: 9 | I4: 2 | J4: 1 | K4: 9 | L4: 2 | M4: 11
A5: 4 | C5: Pichard | D5: Alain | E5: Pichard.Alain@mail.com | F5: 2 | G5: 7 | H5: 8 | I5: 5 | J5: 8 | K5: 2 | L5: 7 | M5: 8
A6: 5 | C6: Jaccard | D6: Michel | E6: Jaccard.Michel@mail.com | F6: 9 | G6: 7 | H6: 8 | I6: 3 | J6: 3 | K6: 8 | L6: 7 | M6: 9
A7: 6 | C7: Burnand | D7: Frédéric | E7: Burnand.Frédéric@mail.com | F7: 3 | G7: 6 | H7: 2 | I7: 5 | J7: 6 | K7: 2 | L7: 5 | M7: 12
A8: 7 | C8: Matte | D8: Basile | E8: Matte.Basile@mail.com | F8: 2 | G8: 6 | H8: 3 | I8: 4 | J8: 2 | K8: 6 | L8: 4 | M8: 14

Sheet Tables
A1: Classe | B1: Info1 | C1: Info2
A2: 1 | B2: A | C2: B
A3: 2 | B3: C | C3: D
A4: 3 | B4: E | C4: F
A5: 4 | B5: G | C5: H

Sheet Listes_PQ
A1: 1 N° | B1: A Nom et prénom | C1: B Mail | D1: Reg | F1: 2 N° | G1: C Nom et prénom | H1: D Mail | I1: Reg | K1: 3 N° | L1: E Nom et prénom | M1: F Mail | N1: Reg | P1: 4 N° | Q1: G Nom et prénom | R1: H Mail | S1: Reg
A2: 2 | B2: Rod Philippe | C2: Rod.Philippe@mail.com | D2: 10 | F2: 1 | G2: Dupont Benoît | H2: Dupont.Benoît@mail.com | I2: 5 | K2: 5 | L2: Jaccard Michel | M2: Jaccard.Michel@mail.com | N2: 9 | P2: 1 | Q2: Dupont Benoît | R2: Dupont.Benoît@mail.com | S2: 5
A3: 3 | B3: Aviolat Jean | C3: Aviolat.Jean@mail.com | D3: 11 | F3: 3 | G3: Aviolat Jean | H3: Aviolat.Jean@mail.com | I3: 11 | P3: 2 | Q3: Rod Philippe | R3: Rod.Philippe@mail.com | S3: 10
F4: 4 | G4: Pichard Alain | H4: Pichard.Alain@mail.com | I4: 8 | P4: 7 | Q4: Matte Basile | R4: Matte.Basile@mail.com | S4: 14
F5: 6 | G5: Burnand Frédéric | H5: Burnand.Frédéric@mail.com | I5: 12
F6: 7 | G6: Matte Basile | H6: Matte.Basile@mail.com | I6: 14

Sheet Feuil2
A1: =IF(inscriptions!F2=1,inscriptions!#REF!,"") -> #REF! | B1: =IF(inscriptions!F2=1,inscriptions!#REF!,"") -> #REF!
A2: =IF(inscriptions!F3=1,inscriptions!#REF!,"") | B2: =IF(inscriptions!F3=1,inscriptions!#REF!,"")
A3: =IF(inscriptions!F4=1,inscriptions!#REF!,"") -> #REF! | B3: =IF(inscriptions!F4=1,inscriptions!#REF!,"") -> #REF!
A4: =IF(inscriptions!F5=1,inscriptions!#REF!,"") | B4: =IF(inscriptions!F5=1,inscriptions!#REF!,"")
A5: =IF(inscriptions!F6=1,inscriptions!#REF!,"") | B5: =IF(inscriptions!F6=1,inscriptions!#REF!,"")
A6: =IF(inscriptions!F7=1,inscriptions!#REF!,"") | B6: =IF(inscriptions!F7=1,inscriptions!#REF!,"")
A7: =IF(inscriptions!F8=1,inscriptions!#REF!,"") | B7: =IF(inscriptions!F8=1,inscriptions!#REF!,"")
A8: =IF(inscriptions!#REF!=1,inscriptions!#REF!,"") -> #REF! | B8: =IF(inscriptions!#REF!=1,inscriptions!#REF!,"") -> #REF!
A9: =IF(inscriptions!#REF!=1,inscriptions!#REF!,"") -> #REF! | B9: =IF(inscriptions!#REF!=1,inscriptions!#REF!,"") -> #REF!
A10: =IF(inscriptions!#REF!=1,inscriptions!#REF!,"") -> #REF! | B10: =IF(inscriptions!#REF!=1,inscriptions!#REF!,"") -> #REF!
A11: =IF(inscriptions!#REF!=1,inscriptions!#REF!,"") -> #REF! | B11: =IF(inscriptions!#REF!=1,inscriptions!#REF!,"") -> #REF!
A12: =IF(inscriptions!#REF!=1,inscriptions!#REF!,"") -> #REF! | B12: =IF(inscriptions!#REF!=1,inscriptions!#REF!,"") -> #REF!
A13: =IF(inscriptions!#REF!=1,inscriptions!#REF!,"") -> #REF! | B13: =IF(inscriptions!#REF!=1,inscriptions!#REF!,"") -> #REF!
A14: =IF(inscriptions!#REF!=1,inscriptions!#REF!,"") -> #REF! | B14: =IF(inscriptions!#REF!=1,inscriptions!#REF!,"") -> #REF!
A15: =IF(inscriptions!#REF!=1,inscriptions!#REF!,"") -> #REF! | B15: =IF(inscriptions!#REF!=1,inscriptions!#REF!,"") -> #REF!
A16: =IF(inscriptions!#REF!=1,inscriptions!#REF!,"") -> #REF! | B16: =IF(inscriptions!#REF!=1,inscriptions!#REF!,"") -> #REF!
A17: =IF(inscriptions!#REF!=1,inscriptions!#REF!,"") -> #REF! | B17: =IF(inscriptions!#REF!=1,inscriptions!#REF!,"") -> #REF!
A18: =IF(inscriptions!#REF!=1,inscriptions!#REF!,"") -> #REF! | B18: =IF(inscriptions!#REF!=1,inscriptions!#REF!,"") -> #REF!
A19: =IF(inscriptions!#REF!=1,inscriptions!#REF!,"") -> #REF! | B19: =IF(inscriptions!#REF!=1,inscriptions!#REF!,"") -> #REF!
... A100: =IF(inscriptions!#REF!=1,inscriptions!#REF!,"") -> #REF! | B100: =IF(inscriptions!#REF!=1,inscriptions!#REF!,"") -> #REF!
