Workbook
Name Segment_REGION: #N/A

Sheet Liste des départements français
A1: NOM | B1: NUMÉRO | C1: REGION | D1: CHEF LIEU | E1: SUPERFICIE (km²) | F1: POPULATION | G1: DENSITE (habitants/km2)
A2: Ain | B2: 1 | C2: Auvergne-Rhône-Alpes | D2: Bourg-en-Bresse | E2: 5762 | F2: 631877 | G2: 109.7
A3: Aisne | B3: 2 | C3: Hauts-de-France | D3: Laon | E3: 7369 | F3: 538659 | G3: 73.1
A4: Allier | B4: 3 | C4: Auvergne-Rhône-Alpes | D4: Moulins | E4: 7340 | F4: 341613 | G4: 46.5
A5: Alpes-de-Haute-Provence | B5: 4 | C5: Provence-Alpes-Côte d'Azur | D5: Digne | E5: 6925 | F5: 161799 | G5: 23.4
A6: Hautes-Alpes | B6: 5 | C6: Provence-Alpes-Côte d'Azur | D6: Gap | E6: 5549 | F6: 140916 | G6: 25.4
A7: Alpes-Maritimes | B7: 6 | C7: Provence-Alpes-Côte d'Azur | D7: Nice | E7: 4299 | F7: 1082440 | G7: 251.8
A8: Ardèche | B8: 7 | C8: Auvergne-Rhône-Alpes | D8: Privas | E8: 5529 | F8: 324209 | G8: 58.6
A9: Ardennes | B9: 8 | C9: Grand Est | D9: Charleville-Mézières | E9: 5229 | F9: 277752 | G9: 53.1
A10: Ariège | B10: 9 | C10: Occitanie | D10: Foix | E10: 4890 | F10: 152499 | G10: 31.2
A11: Aube | B11: 10 | C11: Grand Est | D11: Troyes | E11: 6004 | F11: 309056 | G11: 51.5
A12: Aude | B12: 11 | C12: Occitanie | D12: Carcassonne | E12: 6139 | F12: 366957 | G12: 59.8
A13: Aveyron | B13: 12 | C13: Occitanie | D13: Rodez | E13: 8735 | F13: 279169 | G13: 32
... A102: Mayotte | B102: 976 | C102: Mayotte | D102: Dzaoudzi | E102: 376 | F102: 256518 | G102: 682.2
B104: fichier téléchargé depuis le site regions-et-departements.fr

Sheet TCD
A1: Fulfillment Status | B1: fulfilled
A2: Shipping Country | B2: (Tous)
A4: date
A5: janv
A6: Auvergne-Rhône-Alpes
A7: Bourgogne-Franche-Comté
A8: Centre-Val de Loire
A9: Grand Est
A10: Hauts-de-France
A11: Ile-de-France
A12: La Réunion
A13: Nouvelle-Aquitaine
A14: Occitanie
A15: Provence-Alpes-Côte d'Azur
... A164: Total général

Sheet orders_export_1(1)
A1: Fulfillment Status | B1: DATE | C1: Created at | D1: Lineitem fulfillment status | E1: Shipping Zip | F1: DEPARTEMENT | G1: REGION | H1: Shipping Country
A2: fulfilled | B2: =IFERROR(DATEVALUE(LEFT(Tableau1[[#This Row],[Created at]],10)),0) -> 44669 | C2: 2022-04-18 09:08:51 +0200 | D2: fulfilled | E2: 69300 | F2: =IF(Tableau1[[#This Row],[Shipping Country]]="FR",VALUE(LEFT(E2,2)),"") -> 69 | G2: =IFERROR(VLOOKUP(F2,'Liste des départements français'!$B$2:$C$102,2,FALSE),"") -> Auvergne-Rhône-Alpes | H2: FR
A3: fulfilled | B3: =IFERROR(DATEVALUE(LEFT(Tableau1[[#This Row],[Created at]],10)),0) -> 44665 | C3: 2022-04-14 20:07:39 +0200 | D3: fulfilled | E3: 76120 | F3: =IF(Tableau1[[#This Row],[Shipping Country]]="FR",VALUE(LEFT(E3,2)),"") -> 76 | G3: =IFERROR(VLOOKUP(F3,'Liste des départements français'!$B$2:$C$102,2,FALSE),"") -> Normandie | H3: FR
B4: =IFERROR(DATEVALUE(LEFT(Tableau1[[#This Row],[Created at]],10)),0) -> 44665 | C4: 2022-04-14 20:07:39 +0200 | D4: fulfilled | F4: =IF(Tableau1[[#This Row],[Shipping Country]]="FR",VALUE(LEFT(E4,2)),"") | G4: =IFERROR(VLOOKUP(F4,'Liste des départements français'!$B$2:$C$102,2,FALSE),"")
A5: fulfilled | B5: =IFERROR(DATEVALUE(LEFT(Tableau1[[#This Row],[Created at]],10)),0) -> 44661 | C5: 2022-04-10 17:24:24 +0200 | D5: fulfilled | E5: 50140 | F5: =IF(Tableau1[[#This Row],[Shipping Country]]="FR",VALUE(LEFT(E5,2)),"") -> 50 | G5: =IFERROR(VLOOKUP(F5,'Liste des départements français'!$B$2:$C$102,2,FALSE),"") -> Normandie | H5: FR
A6: fulfilled | B6: =IFERROR(DATEVALUE(LEFT(Tableau1[[#This Row],[Created at]],10)),0) -> 44167 | C6: 2020-12-02 21:57:55 +0100 | D6: fulfilled | E6: 1004 | F6: =IF(Tableau1[[#This Row],[Shipping Country]]="FR",VALUE(LEFT(E6,2)),"") | G6: =IFERROR(VLOOKUP(F6,'Liste des départements français'!$B$2:$C$102,2,FALSE),"hors France") -> hors France | H6: CH
A7: fulfilled | B7: =IFERROR(DATEVALUE(LEFT(Tableau1[[#This Row],[Created at]],10)),0) -> 44640 | C7: 2022-03-20 15:46:10 +0100 | D7: fulfilled | E7: 49100 | F7: =IF(Tableau1[[#This Row],[Shipping Country]]="FR",VALUE(LEFT(E7,2)),"") -> 49 | G7: =IFERROR(VLOOKUP(F7,'Liste des départements français'!$B$2:$C$102,2,FALSE),"") -> Pays de la Loire | H7: FR
B8: =IFERROR(DATEVALUE(LEFT(Tableau1[[#This Row],[Created at]],10)),0) -> 44640 | C8: 2022-03-20 15:46:10 +0100 | D8: fulfilled | F8: =IF(Tableau1[[#This Row],[Shipping Country]]="FR",VALUE(LEFT(E8,2)),"") | G8: =IFERROR(VLOOKUP(F8,'Liste des départements français'!$B$2:$C$102,2,FALSE),"")
A9: fulfilled | B9: =IFERROR(DATEVALUE(LEFT(Tableau1[[#This Row],[Created at]],10)),0) -> 44638 | C9: 2022-03-18 12:43:19 +0100 | D9: fulfilled | E9: 66240 | F9: =IF(Tableau1[[#This Row],[Shipping Country]]="FR",VALUE(LEFT(E9,2)),"") -> 66 | G9: =IFERROR(VLOOKUP(F9,'Liste des départements français'!$B$2:$C$102,2,FALSE),"") -> Occitanie | H9: FR
A10: fulfilled | B10: =IFERROR(DATEVALUE(LEFT(Tableau1[[#This Row],[Created at]],10)),0) -> 44633 | C10: 2022-03-13 14:34:29 +0100 | D10: fulfilled | E10: 38300 | F10: =IF(Tableau1[[#This Row],[Shipping Country]]="FR",VALUE(LEFT(E10,2)),"") -> 38 | G10: =IFERROR(VLOOKUP(F10,'Liste des départements français'!$B$2:$C$102,2,FALSE),"") -> Auvergne-Rhône-Alpes | H10: FR
B11: =IFERROR(DATEVALUE(LEFT(Tableau1[[#This Row],[Created at]],10)),0) -> 44633 | C11: 2022-03-13 14:34:29 +0100 | D11: fulfilled | F11: =IF(Tableau1[[#This Row],[Shipping Country]]="FR",VALUE(LEFT(E11,2)),"") | G11: =IFERROR(VLOOKUP(F11,'Liste des départements français'!$B$2:$C$102,2,FALSE),"")
A12: fulfilled | B12: =IFERROR(DATEVALUE(LEFT(Tableau1[[#This Row],[Created at]],10)),0) -> 44626 | C12: 2022-03-06 17:10:24 +0100 | D12: fulfilled | E12: 6800 | F12: =IF(Tableau1[[#This Row],[Shipping Country]]="FR",VALUE(LEFT(E12,2)),"") -> 68 | G12: =IFERROR(VLOOKUP(F12,'Liste des départements français'!$B$2:$C$102,2,FALSE),"") -> Grand Est | H12: FR
A13: fulfilled | B13: =IFERROR(DATEVALUE(LEFT(Tableau1[[#This Row],[Created at]],10)),0) -> 44624 | C13: 2022-03-04 22:32:13 +0100 | D13: fulfilled | E13: 54800 | F13: =IF(Tableau1[[#This Row],[Shipping Country]]="FR",VALUE(LEFT(E13,2)),"") -> 54 | G13: =IFERROR(VLOOKUP(F13,'Liste des départements français'!$B$2:$C$102,2,FALSE),"") -> Grand Est | H13: FR
B14: =IFERROR(DATEVALUE(LEFT(Tableau1[[#This Row],[Created at]],10)),0) -> 44624 | C14: 2022-03-04 22:32:13 +0100 | D14: fulfilled | F14: =IF(Tableau1[[#This Row],[Shipping Country]]="FR",VALUE(LEFT(E14,2)),"") | G14: =IFERROR(VLOOKUP(F14,'Liste des départements français'!$B$2:$C$102,2,FALSE),"")
A15: fulfilled | B15: =IFERROR(DATEVALUE(LEFT(Tableau1[[#This Row],[Created at]],10)),0) -> 44621 | C15: 2022-03-01 11:06:57 +0100 | D15: fulfilled | E15: 31600 | F15: =IF(Tableau1[[#This Row],[Shipping Country]]="FR",VALUE(LEFT(E15,2)),"") -> 31 | G15: =IFERROR(VLOOKUP(F15,'Liste des départements français'!$B$2:$C$102,2,FALSE),"") -> Occitanie | H15: FR
A16: fulfilled | B16: =IFERROR(DATEVALUE(LEFT(Tableau1[[#This Row],[Created at]],10)),0) -> 44613 | C16: 2022-02-21 22:30:00 +0100 | D16: fulfilled | E16: 13590 | F16: =IF(Tableau1[[#This Row],[Shipping Country]]="FR",VALUE(LEFT(E16,2)),"") -> 13 | G16: =IFERROR(VLOOKUP(F16,'Liste des départements français'!$B$2:$C$102,2,FALSE),"") -> Provence-Alpes-Côte d'Azur | H16: FR
A17: fulfilled | B17: =IFERROR(DATEVALUE(LEFT(Tableau1[[#This Row],[Created at]],10)),0) -> 44600 | C17: 2022-02-08 07:40:23 +0100 | D17: fulfilled | E17: 84430 | F17: =IF(Tableau1[[#This Row],[Shipping Country]]="FR",VALUE(LEFT(E17,2)),"") -> 84 | G17: =IFERROR(VLOOKUP(F17,'Liste des départements français'!$B$2:$C$102,2,FALSE),"") -> Provence-Alpes-Côte d'Azur | H17: FR
A18: fulfilled | B18: =IFERROR(DATEVALUE(LEFT(Tableau1[[#This Row],[Created at]],10)),0) -> 44596 | C18: 2022-02-04 16:09:46 +0100 | D18: fulfilled | E18: 54380 | F18: =IF(Tableau1[[#This Row],[Shipping Country]]="FR",VALUE(LEFT(E18,2)),"") -> 54 | G18: =IFERROR(VLOOKUP(F18,'Liste des départements français'!$B$2:$C$102,2,FALSE),"") -> Grand Est | H18: FR
A19: fulfilled | B19: =IFERROR(DATEVALUE(LEFT(Tableau1[[#This Row],[Created at]],10)),0) -> 44596 | C19: 2022-02-04 08:50:23 +0100 | D19: fulfilled | E19: 86400 | F19: =IF(Tableau1[[#This Row],[Shipping Country]]="FR",VALUE(LEFT(E19,2)),"") -> 86 | G19: =IFERROR(VLOOKUP(F19,'Liste des départements français'!$B$2:$C$102,2,FALSE),"") -> Nouvelle-Aquitaine | H19: FR
A20: fulfilled | B20: =IFERROR(DATEVALUE(LEFT(Tableau1[[#This Row],[Created at]],10)),0) -> 44593 | C20: 2022-02-01 15:58:42 +0100 | D20: fulfilled | E20: 91150 | F20: =IF(Tableau1[[#This Row],[Shipping Country]]="FR",VALUE(LEFT(E20,2)),"") -> 91 | G20: =IFERROR(VLOOKUP(F20,'Liste des départements français'!$B$2:$C$102,2,FALSE),"") -> Ile-de-France | H20: FR
A21: fulfilled | B21: =IFERROR(DATEVALUE(LEFT(Tableau1[[#This Row],[Created at]],10)),0) -> 44117 | C21: 2020-10-13 08:59:56 +0200 | D21: fulfilled | E21: 1004 | F21: =IF(Tableau1[[#This Row],[Shipping Country]]="FR",VALUE(LEFT(E21,2)),"") | G21: =IFERROR(VLOOKUP(F21,'Liste des départements français'!$B$2:$C$102,2,FALSE),"hors France") -> hors France | H21: CH
A22: fulfilled | B22: =IFERROR(DATEVALUE(LEFT(Tableau1[[#This Row],[Created at]],10)),0) -> 44588 | C22: 2022-01-27 12:13:12 +0100 | D22: fulfilled | E22: 59278 | F22: =IF(Tableau1[[#This Row],[Shipping Country]]="FR",VALUE(LEFT(E22,2)),"") -> 59 | G22: =IFERROR(VLOOKUP(F22,'Liste des départements français'!$B$2:$C$102,2,FALSE),"") -> Hauts-de-France | H22: FR
A23: fulfilled | B23: =IFERROR(DATEVALUE(LEFT(Tableau1[[#This Row],[Created at]],10)),0) -> 44586 | C23: 2022-01-25 22:37:36 +0100 | D23: fulfilled | E23: 34130 | F23: =IF(Tableau1[[#This Row],[Shipping Country]]="FR",VALUE(LEFT(E23,2)),"") -> 34 | G23: =IFERROR(VLOOKUP(F23,'Liste des départements français'!$B$2:$C$102,2,FALSE),"") -> Occitanie | H23: FR
A24: fulfilled | B24: =IFERROR(DATEVALUE(LEFT(Tableau1[[#This Row],[Created at]],10)),0) -> 44586 | C24: 2022-01-25 09:34:58 +0100 | D24: fulfilled | E24: 25150 | F24: =IF(Tableau1[[#This Row],[Shipping Country]]="FR",VALUE(LEFT(E24,2)),"") -> 25 | G24: =IFERROR(VLOOKUP(F24,'Liste des départements français'!$B$2:$C$102,2,FALSE),"") -> Bourgogne-Franche-Comté | H24: FR
A25: fulfilled | B25: =IFERROR(DATEVALUE(LEFT(Tableau1[[#This Row],[Created at]],10)),0) -> 44582 | C25: 2022-01-21 08:09:23 +0100 | D25: fulfilled | E25: 88650 | F25: =IF(Tableau1[[#This Row],[Shipping Country]]="FR",VALUE(LEFT(E25,2)),"") -> 88 | G25: =IFERROR(VLOOKUP(F25,'Liste des départements français'!$B$2:$C$102,2,FALSE),"") -> Grand Est | H25: FR
A26: fulfilled | B26: =IFERROR(DATEVALUE(LEFT(Tableau1[[#This Row],[Created at]],10)),0) -> 44581 | C26: 2022-01-20 15:57:59 +0100 | D26: fulfilled | E26: 78150 | F26: =IF(Tableau1[[#This Row],[Shipping Country]]="FR",VALUE(LEFT(E26,2)),"") -> 78 | G26: =IFERROR(VLOOKUP(F26,'Liste des départements français'!$B$2:$C$102,2,FALSE),"") -> Ile-de-France | H26: FR
B27: =IFERROR(DATEVALUE(LEFT(Tableau1[[#This Row],[Created at]],10)),0) -> 44581 | C27: 2022-01-20 15:57:59 +0100 | D27: fulfilled | F27: =IF(Tableau1[[#This Row],[Shipping Country]]="FR",VALUE(LEFT(E27,2)),"") | G27: =IFERROR(VLOOKUP(F27,'Liste des départements français'!$B$2:$C$102,2,FALSE),"")
B28: =IFERROR(DATEVALUE(LEFT(Tableau1[[#This Row],[Created at]],10)),0) -> 44581 | C28: 2022-01-20 15:57:59 +0100 | D28: fulfilled | F28: =IF(Tableau1[[#This Row],[Shipping Country]]="FR",VALUE(LEFT(E28,2)),"") | G28: =IFERROR(VLOOKUP(F28,'Liste des départements français'!$B$2:$C$102,2,FALSE),"")
A29: fulfilled | B29: =IFERROR(DATEVALUE(LEFT(Tableau1[[#This Row],[Created at]],10)),0) -> 44581 | C29: 2022-01-20 09:02:02 +0100 | D29: fulfilled | E29: 37000 | F29: =IF(Tableau1[[#This Row],[Shipping Country]]="FR",VALUE(LEFT(E29,2)),"") -> 37 | G29: =IFERROR(VLOOKUP(F29,'Liste des départements français'!$B$2:$C$102,2,FALSE),"") -> Centre-Val de Loire | H29: FR
B30: =IFERROR(DATEVALUE(LEFT(Tableau1[[#This Row],[Created at]],10)),0) -> 44581 | C30: 2022-01-20 09:02:02 +0100 | D30: fulfilled | F30: =IF(Tableau1[[#This Row],[Shipping Country]]="FR",VALUE(LEFT(E30,2)),"") | G30: =IFERROR(VLOOKUP(F30,'Liste des départements français'!$B$2:$C$102,2,FALSE),"")
A31: fulfilled | B31: =IFERROR(DATEVALUE(LEFT(Tableau1[[#This Row],[Created at]],10)),0) -> 44579 | C31: 2022-01-18 12:51:49 +0100 | D31: fulfilled | E31: 75011 | F31: =IF(Tableau1[[#This Row],[Shipping Country]]="FR",VALUE(LEFT(E31,2)),"") -> 75 | G31: =IFERROR(VLOOKUP(F31,'Liste des départements français'!$B$2:$C$102,2,FALSE),"") -> Ile-de-France | H31: FR
A32: fulfilled | B32: =IFERROR(DATEVALUE(LEFT(Tableau1[[#This Row],[Created at]],10)),0) -> 44573 | C32: 2022-01-12 19:01:16 +0100 | D32: fulfilled | E32: 3420 | F32: =IF(Tableau1[[#This Row],[Shipping Country]]="FR",VALUE(LEFT(E32,2)),"") -> 34 | G32: =IFERROR(VLOOKUP(F32,'Liste des départements français'!$B$2:$C$102,2,FALSE),"") -> Occitanie | H32: FR
A33: fulfilled | B33: =IFERROR(DATEVALUE(LEFT(Tableau1[[#This Row],[Created at]],10)),0) -> 44568 | C33: 2022-01-07 13:23:50 +0100 | D33: fulfilled | E33: 33700 | F33: =IF(Tableau1[[#This Row],[Shipping Country]]="FR",VALUE(LEFT(E33,2)),"") -> 33 | G33: =IFERROR(VLOOKUP(F33,'Liste des départements français'!$B$2:$C$102,2,FALSE),"") -> Nouvelle-Aquitaine | H33: FR
A34: fulfilled | B34: =IFERROR(DATEVALUE(LEFT(Tableau1[[#This Row],[Created at]],10)),0) -> 44561 | C34: 2021-12-31 14:44:37 +0100 | D34: fulfilled | E34: 67660 | F34: =IF(Tableau1[[#This Row],[Shipping Country]]="FR",VALUE(LEFT(E34,2)),"") -> 67 | G34: =IFERROR(VLOOKUP(F34,'Liste des départements français'!$B$2:$C$102,2,FALSE),"") -> Grand Est | H34: FR
A35: fulfilled | B35: =IFERROR(DATEVALUE(LEFT(Tableau1[[#This Row],[Created at]],10)),0) -> 44555 | C35: 2021-12-25 22:00:57 +0100 | D35: fulfilled | E35: 69150 | F35: =IF(Tableau1[[#This Row],[Shipping Country]]="FR",VALUE(LEFT(E35,2)),"") -> 69 | G35: =IFERROR(VLOOKUP(F35,'Liste des départements français'!$B$2:$C$102,2,FALSE),"") -> Auvergne-Rhône-Alpes | H35: FR
B36: =IFERROR(DATEVALUE(LEFT(Tableau1[[#This Row],[Created at]],10)),0) -> 44555 | C36: 2021-12-25 22:00:57 +0100 | D36: fulfilled | F36: =IF(Tableau1[[#This Row],[Shipping Country]]="FR",VALUE(LEFT(E36,2)),"") | G36: =IFERROR(VLOOKUP(F36,'Liste des départements français'!$B$2:$C$102,2,FALSE),"")
B37: =IFERROR(DATEVALUE(LEFT(Tableau1[[#This Row],[Created at]],10)),0) -> 44555 | C37: 2021-12-25 22:00:57 +0100 | D37: fulfilled | F37: =IF(Tableau1[[#This Row],[Shipping Country]]="FR",VALUE(LEFT(E37,2)),"") | G37: =IFERROR(VLOOKUP(F37,'Liste des départements français'!$B$2:$C$102,2,FALSE),"")
A38: fulfilled | B38: =IFERROR(DATEVALUE(LEFT(Tableau1[[#This Row],[Created at]],10)),0) -> 44555 | C38: 2021-12-25 19:13:59 +0100 | D38: fulfilled | E38: 44520 | F38: =IF(Tableau1[[#This Row],[Shipping Country]]="FR",VALUE(LEFT(E38,2)),"") -> 44 | G38: =IFERROR(VLOOKUP(F38,'Liste des départements français'!$B$2:$C$102,2,FALSE),"") -> Pays de la Loire | H38: FR
A39: fulfilled | B39: =IFERROR(DATEVALUE(LEFT(Tableau1[[#This Row],[Created at]],10)),0) -> 44551 | C39: 2021-12-21 23:23:18 +0100 | D39: fulfilled | E39: 92400 | F39: =IF(Tableau1[[#This Row],[Shipping Country]]="FR",VALUE(LEFT(E39,2)),"") -> 92 | G39: =IFERROR(VLOOKUP(F39,'Liste des départements français'!$B$2:$C$102,2,FALSE),"") -> Ile-de-France | H39: FR
A40: fulfilled | B40: =IFERROR(DATEVALUE(LEFT(Tableau1[[#This Row],[Created at]],10)),0) -> 44549 | C40: 2021-12-19 15:20:14 +0100 | D40: fulfilled | E40: 44470 | F40: =IF(Tableau1[[#This Row],[Shipping Country]]="FR",VALUE(LEFT(E40,2)),"") -> 44 | G40: =IFERROR(VLOOKUP(F40,'Liste des départements français'!$B$2:$C$102,2,FALSE),"") -> Pays de la Loire | H40: FR
...

Sheet sql-pays
A1: Colonne1 | B1: Colonne2 | C1: Colonne3 | D1: Colonne4 | E1: Colonne5 | F1: Colonne6
A2: 1 | B2: 4 | C2: AF | D2: AFG | E2: Afghanistan | F2: Afghanistan
A3: 2 | B3: 8 | C3: AL | D3: ALB | E3: Albanie | F3: Albania
A4: 3 | B4: 10 | C4: AQ | D4: ATA | E4: Antarctique | F4: Antarctica
A5: 4 | B5: 12 | C5: DZ | D5: DZA | E5: AlgÃ©rie | F5: Algeria
A6: 5 | B6: 16 | C6: AS | D6: ASM | E6: Samoa AmÃ©ricaines | F6: American Samoa
A7: 6 | B7: 20 | C7: AD | D7: AND | E7: Andorre | F7: Andorra
A8: 7 | B8: 24 | C8: AO | D8: AGO | E8: Angola | F8: Angola
A9: 8 | B9: 28 | C9: AG | D9: ATG | E9: Antigua-et-Barbuda | F9: Antigua and Barbuda
A10: 9 | B10: 31 | C10: AZ | D10: AZE | E10: AzerbaÃ¯djan | F10: Azerbaijan
A11: 10 | B11: 32 | C11: AR | D11: ARG | E11: Argentine | F11: Argentina
A12: 11 | B12: 36 | C12: AU | D12: AUS | E12: Australie | F12: Australia
A13: 12 | B13: 40 | C13: AT | D13: AUT | E13: Autriche | F13: Austria
... A242: 241 | B242: 894 | C242: ZM | D242: ZMB | E242: Zambie | F242: Zambia
