Workbook
Name Segment_REGION: #N/A

Sheet Liste des départements français
A1: NOM | B1: NUMÉRO | C1: REGION | D1: CHEF LIEU | E1: SUPERFICIE (km²) | F1: POPULATION | G1: DENSITE (habitants/km2)
A2: Ain | B2: 1 | C2: Auvergne-Rhône-Alpes | D2: Bourg-en-Bresse | E2: 5762 | F2: 631877 | G2: 109.7
A3: Aisne | B3: 2 | C3: Hauts-de-France | D3: Laon | E3: 7369 | F3: 538659 | G3: 73.1
A4: Allier | B4: 3 | C4: Auvergne-Rhône-Alpes | D4: Moulins | E4: 7340 | F4: 341613 | G4: 46.5
A5: Alpes-de-Haute-Provence | B5: 4 | C5: Provence-Alpes-Côte d'Azur | D5: Digne | E5: 6925 | F5: 161799 | G5: 23.4
A6: Hautes-Alpes | B6: 5 | C6: Provence-Alpes-Côte d'Azur | D6: Gap | E6: 5549 | F6: 140916 | G6: 25.4
A7: Alpes-Maritimes | B7: 6 | C7: Provence-Alpes-Côte d'Azur | D7: Nice | E7: 4299 | F7: 1082440 | G7: 251.8
A8: Ardèche | B8: 7 | C8: Auvergne-Rhône-Alpes | D8: Privas | E8: 5529 | F8: 324209 | G8: 58.6
A9: Ardennes | B9: 8 | C9: Grand Est | D9: Charleville-Mézières | E9: 5229 | F9: 277752 | G9: 53.1
A10: Ariège | B10: 9 | C10: Occitanie | D10: Foix | E10: 4890 | F10: 152499 | G10: 31.2
A11: Aube | B11: 10 | C11: Grand Est | D11: Troyes | E11: 6004 | F11: 309056 | G11: 51.5
A12: Aude | B12: 11 | C12: Occitanie | D12: Carcassonne | E12: 6139 | F12: 366957 | G12: 59.8
A13: Aveyron | B13: 12 | C13: Occitanie | D13: Rodez | E13: 8735 | F13: 279169 | G13: 32
... A102: Mayotte | B102: 976 | C102: Mayotte | D102: Dzaoudzi | E102: 376 | F102: 256518 | G102: 682.2
B104: fichier téléchargé depuis le site regions-et-departements.fr

Sheet TCD
A1: Fulfillment Status | B1: fulfilled
A2: Shipping Country | B2: (Tous)
A4: date
A5: janv
A6: Auvergne-Rhône-Alpes
A7: Bourgogne-Franche-Comté
A8: Centre-Val de Loire
A9: Grand Est
A10: Hauts-de-France
A11: Ile-de-France
A12: La Réunion
A13: Nouvelle-Aquitaine
A14: Occitanie
A15: Provence-Alpes-Côte d'Azur
... A164: Total général

Sheet orders_export_1(1)
A1: Fulfillment Status | B1: DATE | C1: Created at | D1: Lineitem fulfillment status | E1: Shipping Zip | F1: DEPARTEMENT | G1: REGION | H1: Shipping Country
A2: fulfilled | B2: =IFERROR(DATEVALUE(LEFT(Tableau1[[#This Row],[Created at]],10)),0) -> 44669 | C2: 2022-04-18 09:08:51 +0200 | D2: fulfilled | E2: 69300 | F2: =IF(Tableau1[[#This Row],[Shipping Country]]="FR",VALUE(LEFT(E2,2)),"") -> 69 | G2: =IFERROR(VLOOKUP(F2,'Liste des départements français'!$B$2:$C$102,2,FALSE),"") -> Auvergne-Rhône-Alpes | H2: FR
A3: fulfilled | B3: =IFERROR(DATEVALUE(LEFT(Tableau1[[#This Row],[Created at]],10)),0) -> 44665 | C3: 2022-04-14 20:07:39 +0200 | D3: fulfilled | E3: 76120 | F3: =IF(Tableau1[[#This Row],[Shipping Country]]="FR",VALUE(LEFT(E3,2)),"") -> 76 | G3: =IFERROR(VLOOKUP(F3,'Liste des départements français'!$B$2:$C$102,2,FALSE),"") -> Normandie | H3: FR
B4: =IFERROR(DATEVALUE(LEFT(Tableau1[[#This Row],[Created at]],10)),0) -> 44665 | C4: 2022-04-14 20:07:39 +0200 | D4: fulfilled | F4: =IF(Tableau1[[#This Row],[Shipping Country]]="FR",VALUE(LEFT(E4,2)),"") | G4: =IFERROR(VLOOKUP(F4,'Liste des départements français'!$B$2:$C$102,2,FALSE),"")
A5: fulfilled | B5: =IFERROR(DATEVALUE(LEFT(Tableau1[[#This Row],[Created at]],10)),0) -> 44661 | C5: 2022-04-10 17:24:24 +0200 | D5: fulfilled | E5: 50140 | F5: =IF(Tableau1[[#This Row],[Shipping Country]]="FR",VALUE(LEFT(E5,2)),"") -> 50 | G5: =IFERROR(VLOOKUP(F5,'Liste des départements français'!$B$2:$C$102,2,FALSE),"") -> Normandie | H5: FR
A6: fulfilled | B6: =IFERROR(DATEVALUE(LEFT(Tableau1[[#This Row],[Created at]],10)),0) -> 44167 | C6: 2020-12-02 21:57:55 +0100 | D6: fulfilled | E6: 1004 | F6: =IF(Tableau1[[#This Row],[Shipping Country]]="FR",VALUE(LEFT(E6,2)),"") | G6: =IFERROR(VLOOKUP(F6,'Liste des départements français'!$B$2:$C$102,2,FALSE),"hors France") -> hors France | H6: CH
A7: fulfilled | B7: =IFERROR(DATEVALUE(LEFT(Tableau1[[#This Row],[Created at]],10)),0) -> 44640 | C7: 2022-03-20 15:46:10 +0100 | D7: fulfilled | E7: 49100 | F7: =IF(Tableau1[[#This Row],[Shipping Country]]="FR",VALUE(LEFT(E7,2)),"") -> 49 | G7: =IFERROR(VLOOKUP(F7,'Liste des départements français'!$B$2:$C$102,2,FALSE),"") -> Pays de la Loire | H7: FR
B8: =IFERROR(DATEVALUE(LEFT(Tableau1[[#This Row],[Created at]],10)),0) -> 44640 | C8: 2022-03-20 15:46:10 +0100 | D8: fulfilled | F8: =IF(Tableau1[[#This Row],[Shipping Country]]="FR",VALUE(LEFT(E8,2)),"") | G8: =IFERROR(VLOOKUP(F8,'Liste des départements français'!$B$2:$C$102,2,FALSE),"")
A9: fulfilled | B9: =IFERROR(DATEVALUE(LEFT(Tableau1[[#This Row],[Created at]],10)),0) -> 44638 | C9: 2022-03-18 12:43:19 +0100 | D9: fulfilled | E9: 66240 | F9: =IF(Tableau1[[#This Row],[Shipping Country]]="FR",VALUE(LEFT(E9,2)),"") -> 66 | G9: =IFERROR(VLOOKUP(F9,'Liste des départements français'!$B$2:$C$102,2,FALSE),"") -> Occitanie | H9: FR
A10: fulfilled | B10: =IFERROR(DATEVALUE(LEFT(Tableau1[[#This Row],[Created at]],10)),0) -> 44633 | C10: 2022-03-13 14:34:29 +0100 | D10: fulfilled | E10: 38300 | F10: =IF(Tableau1[[#This Row],[Shipping Country]]="FR",VALUE(LEFT(E10,2)),"") -> 38 | G10: =IFERROR(VLOOKUP(F10,'Liste des départements français'!$B$2:$C$102,2,FALSE),"") -> Auvergne-Rhône-Alpes | H10: FR
B11: =IFERROR(DATEVALUE(LEFT(Tableau1[[#This Row],[Created at]],10)),0) -> 44633 | C11: 2022-03-13 14:34:29 +0100 | D11: fulfilled | F11: =IF(Tableau1[[#This Row],[Shipping Country]]="FR",VALUE(LEFT(E11,2)),"") | G11: =IFERROR(VLOOKUP(F11,'Liste des départements français'!$B$2:$C$102,2,FALSE),"")
A12: fulfilled | B12: =IFERROR(DATEVALUE(LEFT(Tableau1[[#This Row],[Created at]],10)),0) -> 44626 | C12: 2022-03-06 17:10:24 +0100 | D12: fulfilled | E12: 6800 | F12: =IF(Tableau1[[#This Row],[Shipping Country]]="FR",VALUE(LEFT(E12,2)),"") -> 68 | G12: =IFERROR(VLOOKUP(F12,'Liste des départements français'!$B$2:$C$102,2,FALSE),"") -> Grand Est | H12: FR
A13: fulfilled | B13: =IFERROR(DATEVALUE(LEFT(Tableau1[[#This Row],[Created at]],10)),0) -> 44624 | C13: 2022-03-04 22:32:13 +0100 | D13: fulfilled | E13: 54800 | F13: =IF(Tableau1[[#This Row],[Shipping Country]]="FR",VALUE(LEFT(E13,2)),"") -> 54 | G13: =IFERROR(VLOOKUP(F13,'Liste des départements français'!$B$2:$C$102,2,FALSE),"") -> Grand Est | H13: FR
B14: =IFERROR(DATEVALUE(LEFT(Tableau1[[#This Row],[Created at]],10)),0) -> 44624 | C14: 2022-03-04 22:32:13 +0100 | D14: fulfilled | F14: =IF(Tableau1[[#This Row],[Shipping Country]]="FR",VALUE(LEFT(E14,2)),"") | G14: =IFERROR(VLOOKUP(F14,'Liste des départements français'!$B$2:$C$102,2,FALSE),"")
A15: fulfilled | B15: =IFERROR(DATEVALUE(LEFT(Tableau1[[#This Row],[Created at]],10)),0) -> 44621 | C15: 2022-03-01 11:06:57 +0100 | D15: fulfilled | E15: 31600 | F15: =IF(Tableau1[[#This Row],[Shipping Country]]="FR",VALUE(LEFT(E15,2)),"") -> 31 | G15: =IFERROR(VLOOKUP(F15,'Liste des départements français'!$B$2:$C$102,2,FALSE),"") -> Occitanie | H15: FR
A16: fulfilled | B16: =IFERROR(DATEVALUE(LEFT(Tableau1[[#This Row],[Created at]],10)),0) -> 44613 | C16: 2022-02-21 22:30:00 +0100 | D16: fulfilled | E16: 13590 | F16: =IF(Tableau1[[#This Row],[Shipping Country]]="FR",VALUE(LEFT(E16,2)),"") -> 13 | G16: =IFERROR(VLOOKUP(F16,'Liste des départements français'!$B$2:$C$102,2,FALSE),"") -> Provence-Alpes-Côte d'Azur | H16: FR
A17: fulfilled | B17: =IFERROR(DATEVALUE(LEFT(Tableau1[[#This Row],[Created at]],10)),0) -> 44600 | C17: 2022-02-08 07:40:23 +0100 | D17: fulfilled | E17: 84430 | F17: =IF(Tableau1[[#This Row],[Shipping Country]]="FR",VALUE(LEFT(E17,2)),"") -> 84 | G17: =IFERROR(VLOOKUP(F17,'Liste des départements français'!$B$2:$C$102,2,FALSE),"") -> Provence-Alpes-Côte d'Azur | H17: FR
A18: fulfilled | B18: =IFERROR(DATEVALUE(LEFT(Tableau1[[#This Row],[Created at]],10)),0) -> 44596 | C18: 2022-02-04 16:09:46 +0100 | D18: fulfilled | E18: 54380 | F18: =IF(Tableau1[[#This Row],[Shipping Country]]="FR",VALUE(LEFT(E18,2)),"") -> 54 | G18: =IFERROR(VLOOKUP(F18,'Liste des départements français'!$B$2:$C$102,2,FALSE),"") -> Grand Est | H18: FR
A19: fulfilled | B19: =IFERROR(DATEVALUE(LEFT(Tableau1[[#This Row],[Created at]],10)),0) -> 44596 | C19: 2022-02-04 08:50:23 +0100 | D19: fulfilled | E19: 86400 | F19: =IF(Tableau1[[#This Row],[Shipping Country]]="FR",VALUE(LEFT(E19,2)),"") -> 86 | G19: =IFERROR(VLOOKUP(F19,'Liste des départements français'!$B$2:$C$102,2,FALSE),"") -> Nouvelle-Aquitaine | H19: FR
A20: fulfilled | B20: =IFERROR(DATEVALUE(LEFT(Tableau1[[#This Row],[Created at]],10)),0) -> 44593 | C20: 2022-02-01 15:58:42 +0100 | D20: fulfilled | E20: 91150 | F20: =IF(Tableau1[[#This Row],[Shipping Country]]="FR",VALUE(LEFT(E20,2)),"") -> 91 | G20: =IFERROR(VLOOKUP(F20,'Liste des départements français'!$B$2:$C$102,2,FALSE),"") -> Ile-de-France | H20: FR
A21: fulfilled | B21: =IFERROR(DATEVALUE(LEFT(Tableau1[[#This Row],[Created at]],10)),0) -> 44117 | C21: 2020-10-13 08:59:56 +0200 | D21: fulfilled | E21: 1004 | F21: =IF(Tableau1[[#This Row],[Shipping Country]]="FR",VALUE(LEFT(E21,2)),"") | G21: =IFERROR(VLOOKUP(F21,'Liste des départements français'!$B$2:$C$102,2,FALSE),"hors France") -> hors France | H21: CH
A22: fulfilled | B22: =IFERROR(DATEVALUE(LEFT(Tableau1[[#This Row],[Created at]],10)),0) -> 44588 | C22: 2022-01-27 12:13:12 +0100 | D22: fulfilled | E22: 59278 | F22: =IF(Tableau1[[#This Row],[Shipping Country]]="FR",VALUE(LEFT(E22,2)),"") -> 59 | G22: =IFERROR(VLOOKUP(F22,'Liste des départements français'!$B$2:$C$102,2,FALSE),"") -> Hauts-de-France | H22: FR
A23: fulfilled | B23: =IFERROR(DATEVALUE(LEFT(Tableau1[[#This Row],[Created at]],10)),0) -> 44586 | C23: 2022-01-25 22:37:36 +0100 | D23: fulfilled | E23: 34130 | F23: =IF(Tableau1[[#This Row],[Shipping Country]]="FR",VALUE(LEFT(E23,2)),"") -> 34 | G23: =IFERROR(VLOOKUP(F23,'Liste des départements français'!$B$2:$C$102,2,FALSE),"") -> Occitanie | H23: FR
A24: fulfilled | B24: =IFERROR(DATEVALUE(LEFT(Tableau1[[#This Row],[Created at]],10)),0) -> 44586 | C24: 2022-01-25 09:34:58 +0100 | D24: fulfilled | E24: 25150 | F24: =IF(Tableau1[[#This Row],[Shipping Country]]="FR",VALUE(LEFT(E24,2)),"") -> 25 | G24: =IFERROR(VLOOKUP(F24,'Liste des départements français'!$B$2:$C$102,2,FALSE),"") -> Bourgogne-Franche-Comté | H24: FR
A25: fulfilled | B25: =IFERROR(DATEVALUE(LEFT(Tableau1[[#This Row],[Created at]],10)),0) -> 44582 | C25: 2022-01-21 08:09:23 +0100 | D25: fulfilled | E25: 88650 | F25: =IF(Tableau1[[#This Row],[Shipping Country]]="FR",VALUE(LEFT(E25,2)),"") -> 88 | G25: =IFERROR(VLOOKUP(F25,'Liste des départements français'!$B$2:$C$102,2,FALSE),"") -> Grand Est | H25: FR
A26: fulfilled | B26: =IFERROR(DATEVALUE(LEFT(Tableau1[[#This Row],[Created at]],10)),0) -> 44581 | C26: 2022-01-20 15:57:59 +0100 | D26: fulfilled | E26: 78150 | F26: =IF(Tableau1[[#This Row],[Shipping Country]]="FR",VALUE(LEFT(E26,2)),"") -> 78 | G26: =IFERROR(VLOOKUP(F26,'Liste des départements français'!$B$2:$C$102,2,FALSE),"") -> Ile-de-France | H26: FR
B27: =IFERROR(DATEVALUE(LEFT(Tableau1[[#This Row],[Created at]],10)),0) -> 44581 | C27: 2022-01-20 15:57:59 +0100 | D27: fulfilled | F27: =IF(Tableau1[[#This Row],[Shipping Country]]="FR",VALUE(LEFT(E27,2)),"") | G27: =IFERROR(VLOOKUP(F27,'Liste des départements français'!$B$2:$C$102,2,FALSE),"")
B28: =IFERROR(DATEVALUE(LEFT(Tableau1[[#This Row],[Created at]],10)),0) -> 44581 | C28: 2022-01-20 15:57:59 +0100 | D28: fulfilled | F28: =IF(Tableau1[[#This Row],[Shipping Country]]="FR",VALUE(LEFT(E28,2)),"") | G28: =IFERROR(VLOOKUP(F28,'Liste des départements français'!$B$2:$C$102,2,FALSE),"")
A29: fulfilled | B29: =IFERROR(DATEVALUE(LEFT(Tableau1[[#This Row],[Created at]],10)),0) -> 44581 | C29: 2022-01-20 09:02:02 +0100 | D29: fulfilled | E29: 37000 | F29: =IF(Tableau1[[#This Row],[Shipping Country]]="FR",VALUE(LEFT(E29,2)),"") -> 37 | G29: =IFERROR(VLOOKUP(F29,'Liste des départements français'!$B$2:$C$102,2,FALSE),"") -> Centre-Val de Loire | H29: FR
B30: =IFERROR(DATEVALUE(LEFT(Tableau1[[#This Row],[Created at]],10)),0) -> 44581 | C30: 2022-01-20 09:02:02 +0100 | D30: fulfilled | F30: =IF(Tableau1[[#This Row],[Shipping Country]]="FR",VALUE(LEFT(E30,2)),"") | G30: =IFERROR(VLOOKUP(F30,'Liste des départements français'!$B$2:$C$102,2,FALSE),"")
A31: fulfilled | B31: =IFERROR(DATEVALUE(LEFT(Tableau1[[#This Row],[Created at]],10)),0) -> 44579 | C31: 2022-01-18 12:51:49 +0100 | D31: fulfilled | E31: 75011 | F31: =IF(Tableau1[[#This Row],[Shipping Country]]="FR",VALUE(LEFT(E31,2)),"") -> 75 | G31: =IFERROR(VLOOKUP(F31,'Liste des départements français'!$B$2:$C$102,2,FALSE),"") -> Ile-de-France | H31: FR
A32: fulfilled | B32: =IFERROR(DATEVALUE(LEFT(Tableau1[[#This Row],[Created at]],10)),0) -> 44573 | C32: 2022-01-12 19:01:16 +0100 | D32: fulfilled | E32: 3420 | F32: =IF(Tableau1[[#This Row],[Shipping Country]]="FR",VALUE(LEFT(E32,2)),"") -> 34 | G32: =IFERROR(VLOOKUP(F32,'Liste des départements français'!$B$2:$C$102,2,FALSE),"") -> Occitanie | H32: FR
A33: fulfilled | B33: =IFERROR(DATEVALUE(LEFT(Tableau1[[#This Row],[Created at]],10)),0) -> 44568 | C33: 2022-01-07 13:23:50 +0100 | D33: fulfilled | E33: 33700 | F33: =IF(Tableau1[[#This Row],[Shipping Country]]="FR",VALUE(LEFT(E33,2)),"") -> 33 | G33: =IFERROR(VLOOKUP(F33,'Liste des départements français'!$B$2:$C$102,2,FALSE),"") -> Nouvelle-Aquitaine | H33: FR
A34: fulfilled | B34: =IFERROR(DATEVALUE(LEFT(Tableau1[[#This Row],[Created at]],10)),0) -> 44561 | C34: 2021-12-31 14:44:37 +0100 | D34: fulfilled | E34: 67660 | F34: =IF(Tableau1[[#This Row],[Shipping Country]]="FR",VALUE(LEFT(E34,2)),"") -> 67 | G34: =IFERROR(VLOOKUP(F34,'Liste des départements français'!$B$2:$C$102,2,FALSE),"") -> Grand Est | H34: FR
A35: fulfilled | B35: =IFERROR(DATEVALUE(LEFT(Tableau1[[#This Row],[Created at]],10)),0) -> 44555 | C35: 2021-12-25 22:00:57 +0100 | D35: fulfilled | E35: 69150 | F35: =IF(Tableau1[[#This Row],[Shipping Country]]="FR",VALUE(LEFT(E35,2)),"") -> 69 | G35: =IFERROR(VLOOKUP(F35,'Liste des départements français'!$B$2:$C$102,2,FALSE),"") -> Auvergne-Rhône-Alpes | H35: FR
B36: =IFERROR(DATEVALUE(LEFT(Tableau1[[#This Row],[Created at]],10)),0) -> 44555 | C36: 2021-12-25 22:00:57 +0100 | D36: fulfilled | F36: =IF(Tableau1[[#This Row],[Shipping Country]]="FR",VALUE(LEFT(E36,2)),"") | G36: =IFERROR(VLOOKUP(F36,'Liste des départements français'!$B$2:$C$102,2,FALSE),"")
B37: =IFERROR(DATEVALUE(LEFT(Tableau1[[#This Row],[Created at]],10)),0) -> 44555 | C37: 2021-12-25 22:00:57 +0100 | D37: fulfilled | F37: =IF(Tableau1[[#This Row],[Shipping Country]]="FR",VALUE(LEFT(E37,2)),"") | G37: =IFERROR(VLOOKUP(F37,'Liste des départements français'!$B$2:$C$102,2,FALSE),"")
A38: fulfilled | B38: =IFERROR(DATEVALUE(LEFT(Tableau1[[#This Row],[Created at]],10)),0) -> 44555 | C38: 2021-12-25 19:13:59 +0100 | D38: fulfilled | E38: 44520 | F38: =IF(Tableau1[[#This Row],[Shipping Country]]="FR",VALUE(LEFT(E38,2)),"") -> 44 | G38: =IFERROR(VLOOKUP(F38,'Liste des départements français'!$B$2:$C$102,2,FALSE),"") -> Pays de la Loire | H38: FR
A39: fulfilled | B39: =IFERROR(DATEVALUE(LEFT(Tableau1[[#This Row],[Created at]],10)),0) -> 44551 | C39: 2021-12-21 23:23:18 +0100 | D39: fulfilled | E39: 92400 | F39: =IF(Tableau1[[#This Row],[Shipping Country]]="FR",VALUE(LEFT(E39,2)),"") -> 92 | G39: =IFERROR(VLOOKUP(F39,'Liste des départements français'!$B$2:$C$102,2,FALSE),"") -> Ile-de-France | H39: FR
A40: fulfilled | B40: =IFERROR(DATEVALUE(LEFT(Tableau1[[#This Row],[Created at]],10)),0) -> 44549 | C40: 2021-12-19 15:20:14 +0100 | D40: fulfilled | E40: 44470 | F40: =IF(Tableau1[[#This Row],[Shipping Country]]="FR",VALUE(LEFT(E40,2)),"") -> 44 | G40: =IFERROR(VLOOKUP(F40,'Liste des départements français'!$B$2:$C$102,2,FALSE),"") -> Pays de la Loire | H40: FR
A41: fulfilled | B41: =IFERROR(DATEVALUE(LEFT(Tableau1[[#This Row],[Created at]],10)),0) -> 44548 | C41: 2021-12-18 22:11:54 +0100 | D41: fulfilled | E41: 56310 | F41: =IF(Tableau1[[#This Row],[Shipping Country]]="FR",VALUE(LEFT(E41,2)),"") -> 56 | G41: =IFERROR(VLOOKUP(F41,'Liste des départements français'!$B$2:$C$102,2,FALSE),"") -> Bretagne | H41: FR
A42: fulfilled | B42: =IFERROR(DATEVALUE(LEFT(Tableau1[[#This Row],[Created at]],10)),0) -> 44548 | C42: 2021-12-18 18:12:49 +0100 | D42: fulfilled | E42: 66130 | F42: =IF(Tableau1[[#This Row],[Shipping Country]]="FR",VALUE(LEFT(E42,2)),"") -> 66 | G42: =IFERROR(VLOOKUP(F42,'Liste des départements français'!$B$2:$C$102,2,FALSE),"") -> Occitanie | H42: FR
A43: fulfilled | B43: =IFERROR(DATEVALUE(LEFT(Tableau1[[#This Row],[Created at]],10)),0) -> 44547 | C43: 2021-12-17 23:11:39 +0100 | D43: fulfilled | E43: 49290 | F43: =IF(Tableau1[[#This Row],[Shipping Country]]="FR",VALUE(LEFT(E43,2)),"") -> 49 | G43: =IFERROR(VLOOKUP(F43,'Liste des départements français'!$B$2:$C$102,2,FALSE),"") -> Pays de la Loire | H43: FR
B44: =IFERROR(DATEVALUE(LEFT(Tableau1[[#This Row],[Created at]],10)),0) -> 44547 | C44: 2021-12-17 23:11:39 +0100 | D44: fulfilled | F44: =IF(Tableau1[[#This Row],[Shipping Country]]="FR",VALUE(LEFT(E44,2)),"") | G44: =IFERROR(VLOOKUP(F44,'Liste des départements français'!$B$2:$C$102,2,FALSE),"")
A45: fulfilled | B45: =IFERROR(DATEVALUE(LEFT(Tableau1[[#This Row],[Created at]],10)),0) -> 44547 | C45: 2021-12-17 22:33:07 +0100 | D45: fulfilled | E45: 79000 | F45: =IF(Tableau1[[#This Row],[Shipping Country]]="FR",VALUE(LEFT(E45,2)),"") -> 79 | G45: =IFERROR(VLOOKUP(F45,'Liste des départements français'!$B$2:$C$102,2,FALSE),"") -> Nouvelle-Aquitaine | H45: FR
B46: =IFERROR(DATEVALUE(LEFT(Tableau1[[#This Row],[Created at]],10)),0) -> 44547 | C46: 2021-12-17 22:33:07 +0100 | D46: fulfilled | F46: =IF(Tableau1[[#This Row],[Shipping Country]]="FR",VALUE(LEFT(E46,2)),"") | G46: =IFERROR(VLOOKUP(F46,'Liste des départements français'!$B$2:$C$102,2,FALSE),"")
A47: fulfilled | B47: =IFERROR(DATEVALUE(LEFT(Tableau1[[#This Row],[Created at]],10)),0) -> 44547 | C47: 2021-12-17 08:32:58 +0100 | D47: fulfilled | E47: 7700 | F47: =IF(Tableau1[[#This Row],[Shipping Country]]="FR",VALUE(LEFT(E47,2)),"") -> 77 | G47: =IFERROR(VLOOKUP(F47,'Liste des départements français'!$B$2:$C$102,2,FALSE),"") -> Ile-de-France | H47: FR
A48: fulfilled | B48: =IFERROR(DATEVALUE(LEFT(Tableau1[[#This Row],[Created at]],10)),0) -> 44546 | C48: 2021-12-16 20:36:16 +0100 | D48: fulfilled | E48: 78450 | F48: =IF(Tableau1[[#This Row],[Shipping Country]]="FR",VALUE(LEFT(E48,2)),"") -> 78 | G48: =IFERROR(VLOOKUP(F48,'Liste des départements français'!$B$2:$C$102,2,FALSE),"") -> Ile-de-France | H48: FR
A49: fulfilled | B49: =IFERROR(DATEVALUE(LEFT(Tableau1[[#This Row],[Created at]],10)),0) -> 44546 | C49: 2021-12-16 15:36:30 +0100 | D49: fulfilled | E49: 69009 | F49: =IF(Tableau1[[#This Row],[Shipping Country]]="FR",VALUE(LEFT(E49,2)),"") -> 69 | G49: =IFERROR(VLOOKUP(F49,'Liste des départements français'!$B$2:$C$102,2,FALSE),"") -> Auvergne-Rhône-Alpes | H49: FR
A50: fulfilled | B50: =IFERROR(DATEVALUE(LEFT(Tableau1[[#This Row],[Created at]],10)),0) -> 44545 | C50: 2021-12-15 21:57:01 +0100 | D50: fulfilled | E50: 92000 | F50: =IF(Tableau1[[#This Row],[Shipping Country]]="FR",VALUE(LEFT(E50,2)),"") -> 92 | G50: =IFERROR(VLOOKUP(F50,'Liste des départements français'!$B$2:$C$102,2,FALSE),"") -> Ile-de-France | H50: FR
A51: fulfilled | B51: =IFERROR(DATEVALUE(LEFT(Tableau1[[#This Row],[Created at]],10)),0) -> 44545 | C51: 2021-12-15 12:17:57 +0100 | D51: fulfilled | E51: 33530 | F51: =IF(Tableau1[[#This Row],[Shipping Country]]="FR",VALUE(LEFT(E51,2)),"") -> 33 | G51: =IFERROR(VLOOKUP(F51,'Liste des départements français'!$B$2:$C$102,2,FALSE),"") -> Nouvelle-Aquitaine | H51: FR
A52: fulfilled | B52: =IFERROR(DATEVALUE(LEFT(Tableau1[[#This Row],[Created at]],10)),0) -> 44544 | C52: 2021-12-14 13:03:54 +0100 | D52: fulfilled | E52: 49400 | F52: =IF(Tableau1[[#This Row],[Shipping Country]]="FR",VALUE(LEFT(E52,2)),"") -> 49 | G52: =IFERROR(VLOOKUP(F52,'Liste des départements français'!$B$2:$C$102,2,FALSE),"") -> Pays de la Loire | H52: FR
A53: fulfilled | B53: =IFERROR(DATEVALUE(LEFT(Tableau1[[#This Row],[Created at]],10)),0) -> 44540 | C53: 2021-12-10 17:44:55 +0100 | D53: fulfilled | E53: 16150 | F53: =IF(Tableau1[[#This Row],[Shipping Country]]="FR",VALUE(LEFT(E53,2)),"") -> 16 | G53: =IFERROR(VLOOKUP(F53,'Liste des départements français'!$B$2:$C$102,2,FALSE),"") -> Nouvelle-Aquitaine | H53: FR
A54: fulfilled | B54: =IFERROR(DATEVALUE(LEFT(Tableau1[[#This Row],[Created at]],10)),0) -> 44540 | C54: 2021-12-10 14:18:39 +0100 | D54: fulfilled | E54: 60000 | F54: =IF(Tableau1[[#This Row],[Shipping Country]]="FR",VALUE(LEFT(E54,2)),"") -> 60 | G54: =IFERROR(VLOOKUP(F54,'Liste des départements français'!$B$2:$C$102,2,FALSE),"") -> Hauts-de-France | H54: FR
A55: fulfilled | B55: =IFERROR(DATEVALUE(LEFT(Tableau1[[#This Row],[Created at]],10)),0) -> 44538 | C55: 2021-12-08 23:47:59 +0100 | D55: fulfilled | E55: 73800 | F55: =IF(Tableau1[[#This Row],[Shipping Country]]="FR",VALUE(LEFT(E55,2)),"") -> 73 | G55: =IFERROR(VLOOKUP(F55,'Liste des départements français'!$B$2:$C$102,2,FALSE),"") -> Auvergne-Rhône-Alpes | H55: FR
A56: fulfilled | B56: =IFERROR(DATEVALUE(LEFT(Tableau1[[#This Row],[Created at]],10)),0) -> 44538 | C56: 2021-12-08 06:19:41 +0100 | D56: fulfilled | E56: 60420 | F56: =IF(Tableau1[[#This Row],[Shipping Country]]="FR",VALUE(LEFT(E56,2)),"") -> 60 | G56: =IFERROR(VLOOKUP(F56,'Liste des départements français'!$B$2:$C$102,2,FALSE),"") -> Hauts-de-France | H56: FR
A57: fulfilled | B57: =IFERROR(DATEVALUE(LEFT(Tableau1[[#This Row],[Created at]],10)),0) -> 44536 | C57: 2021-12-06 20:33:20 +0100 | D57: fulfilled | E57: 77230 | F57: =IF(Tableau1[[#This Row],[Shipping Country]]="FR",VALUE(LEFT(E57,2)),"") -> 77 | G57: =IFERROR(VLOOKUP(F57,'Liste des départements français'!$B$2:$C$102,2,FALSE),"") -> Ile-de-France | H57: FR
A58: fulfilled | B58: =IFERROR(DATEVALUE(LEFT(Tableau1[[#This Row],[Created at]],10)),0) -> 44534 | C58: 2021-12-04 09:09:06 +0100 | D58: fulfilled | E58: 73520 | F58: =IF(Tableau1[[#This Row],[Shipping Country]]="FR",VALUE(LEFT(E58,2)),"") -> 73 | G58: =IFERROR(VLOOKUP(F58,'Liste des départements français'!$B$2:$C$102,2,FALSE),"") -> Auvergne-Rhône-Alpes | H58: FR
... A67: fulfilled | B67: =IFERROR(DATEVALUE(LEFT(Tableau1[[#This Row],[Created at]],10)),0) -> 44526 | C67: 2021-11-26 05:01:25 +0100 | D67: fulfilled | E67: 74200 | F67: =IF(Tableau1[[#This Row],[Shipping Country]]="FR",VALUE(LEFT(E67,2)),"") -> 74 | G67: =IFERROR(VLOOKUP(F67,'Liste des départements français'!$B$2:$C$102,2,FALSE),"") -> Auvergne-Rhône-Alpes | H67: FR
B68: =IFERROR(DATEVALUE(LEFT(Tableau1[[#This Row],[Created at]],10)),0) -> 44526 | C68: 2021-11-26 05:01:25 +0100 | D68: fulfilled | F68: =IF(Tableau1[[#This Row],[Shipping Country]]="FR",VALUE(LEFT(E68,2)),"") | G68: =IFERROR(VLOOKUP(F68,'Liste des départements français'!$B$2:$C$102,2,FALSE),"")
A69: fulfilled | B69: =IFERROR(DATEVALUE(LEFT(Tableau1[[#This Row],[Created at]],10)),0) -> 44522 | C69: 2021-11-22 19:47:51 +0100 | D69: fulfilled | E69: 1023 | F69: =IF(Tableau1[[#This Row],[Shipping Country]]="FR",VALUE(LEFT(E69,2)),"") | G69: =IFERROR(VLOOKUP(F69,'Liste des départements français'!$B$2:$C$102,2,FALSE),"hors France") -> hors France | H69: CH
A70: fulfilled | B70: =IFERROR(DATEVALUE(LEFT(Tableau1[[#This Row],[Created at]],10)),0) -> 44519 | C70: 2021-11-19 20:42:13 +0100 | D70: fulfilled | E70: 49000 | F70: =IF(Tableau1[[#This Row],[Shipping Country]]="FR",VALUE(LEFT(E70,2)),"") -> 49 | G70: =IFERROR(VLOOKUP(F70,'Liste des départements français'!$B$2:$C$102,2,FALSE),"") -> Pays de la Loire | H70: FR
A71: fulfilled | B71: =IFERROR(DATEVALUE(LEFT(Tableau1[[#This Row],[Created at]],10)),0) -> 44513 | C71: 2021-11-13 05:11:07 +0100 | D71: fulfilled | E71: 78150 | F71: =IF(Tableau1[[#This Row],[Shipping Country]]="FR",VALUE(LEFT(E71,2)),"") -> 78 | G71: =IFERROR(VLOOKUP(F71,'Liste des départements français'!$B$2:$C$102,2,FALSE),"") -> Ile-de-France | H71: FR
B72: =IFERROR(DATEVALUE(LEFT(Tableau1[[#This Row],[Created at]],10)),0) -> 44513 | C72: 2021-11-13 05:11:07 +0100 | D72: fulfilled | F72: =IF(Tableau1[[#This Row],[Shipping Country]]="FR",VALUE(LEFT(E72,2)),"") | G72: =IFERROR(VLOOKUP(F72,'Liste des départements français'!$B$2:$C$102,2,FALSE),"")
B73: =IFERROR(DATEVALUE(LEFT(Tableau1[[#This Row],[Created at]],10)),0) -> 44513 | C73: 2021-11-13 05:11:07 +0100 | D73: fulfilled | F73: =IF(Tableau1[[#This Row],[Shipping Country]]="FR",VALUE(LEFT(E73,2)),"") | G73: =IFERROR(VLOOKUP(F73,'Liste des départements français'!$B$2:$C$102,2,FALSE),"")
B74: =IFERROR(DATEVALUE(LEFT(Tableau1[[#This Row],[Created at]],10)),0) -> 44513 | C74: 2021-11-13 05:11:07 +0100 | D74: fulfilled | F74: =IF(Tableau1[[#This Row],[Shipping Country]]="FR",VALUE(LEFT(E74,2)),"") | G74: =IFERROR(VLOOKUP(F74,'Liste des départements français'!$B$2:$C$102,2,FALSE),"")
B75: =IFERROR(DATEVALUE(LEFT(Tableau1[[#This Row],[Created at]],10)),0) -> 44513 | C75: 2021-11-13 05:11:07 +0100 | D75: fulfilled | F75: =IF(Tableau1[[#This Row],[Shipping Country]]="FR",VALUE(LEFT(E75,2)),"") | G75: =IFERROR(VLOOKUP(F75,'Liste des départements français'!$B$2:$C$102,2,FALSE),"")
A76: fulfilled | B76: =IFERROR(DATEVALUE(LEFT(Tableau1[[#This Row],[Created at]],10)),0) -> 44506 | C76: 2021-11-06 07:50:18 +0100 | D76: fulfilled | E76: 59350 | F76: =IF(Tableau1[[#This Row],[Shipping Country]]="FR",VALUE(LEFT(E76,2)),"") -> 59 | G76: =IFERROR(VLOOKUP(F76,'Liste des départements français'!$B$2:$C$102,2,FALSE),"") -> Hauts-de-France | H76: FR
A77: fulfilled | B77: =IFERROR(DATEVALUE(LEFT(Tableau1[[#This Row],[Created at]],10)),0) -> 44498 | C77: 2021-10-29 12:20:25 +0200 | D77: fulfilled | E77: 25420 | F77: =IF(Tableau1[[#This Row],[Shipping Country]]="FR",VALUE(LEFT(E77,2)),"") -> 25 | G77: =IFERROR(VLOOKUP(F77,'Liste des départements français'!$B$2:$C$102,2,FALSE),"") -> Bourgogne-Franche-Comté | H77: FR
A78: fulfilled | B78: =IFERROR(DATEVALUE(LEFT(Tableau1[[#This Row],[Created at]],10)),0) -> 44494 | C78: 2021-10-25 20:55:45 +0200 | D78: fulfilled | E78: 20600 | F78: =IF(Tableau1[[#This Row],[Shipping Country]]="FR",VALUE(LEFT(E78,2)),"") -> 20 | G78: =IFERROR(VLOOKUP(F78,'Liste des départements français'!$B$2:$C$102,2,FALSE),"") -> Corse | H78: FR
A79: fulfilled | B79: =IFERROR(DATEVALUE(LEFT(Tableau1[[#This Row],[Created at]],10)),0) -> 44491 | C79: 2021-10-22 13:50:13 +0200 | D79: fulfilled | E79: 18240 | F79: =IF(Tableau1[[#This Row],[Shipping Country]]="FR",VALUE(LEFT(E79,2)),"") -> 18 | G79: =IFERROR(VLOOKUP(F79,'Liste des départements français'!$B$2:$C$102,2,FALSE),"") -> Centre-Val de Loire | H79: FR
A80: fulfilled | B80: =IFERROR(DATEVALUE(LEFT(Tableau1[[#This Row],[Created at]],10)),0) -> 44489 | C80: 2021-10-20 22:50:23 +0200 | D80: fulfilled | E80: 85180 | F80: =IF(Tableau1[[#This Row],[Shipping Country]]="FR",VALUE(LEFT(E80,2)),"") -> 85 | G80: =IFERROR(VLOOKUP(F80,'Liste des départements français'!$B$2:$C$102,2,FALSE),"") -> Pays de la Loire | H80: FR
A81: fulfilled | B81: =IFERROR(DATEVALUE(LEFT(Tableau1[[#This Row],[Created at]],10)),0) -> 44488 | C81: 2021-10-19 21:38:05 +0200 | D81: fulfilled | E81: 38300 | F81: =IF(Tableau1[[#This Row],[Shipping Country]]="FR",VALUE(LEFT(E81,2)),"") -> 38 | G81: =IFERROR(VLOOKUP(F81,'Liste des départements français'!$B$2:$C$102,2,FALSE),"") -> Auvergne-Rhône-Alpes | H81: FR
A82: fulfilled | B82: =IFERROR(DATEVALUE(LEFT(Tableau1[[#This Row],[Created at]],10)),0) -> 44484 | C82: 2021-10-15 21:16:08 +0200 | D82: fulfilled | E82: 92700 | F82: =IF(Tableau1[[#This Row],[Shipping Country]]="FR",VALUE(LEFT(E82,2)),"") -> 92 | G82: =IFERROR(VLOOKUP(F82,'Liste des départements français'!$B$2:$C$102,2,FALSE),"") -> Ile-de-France | H82: FR
A83: fulfilled | B83: =IFERROR(DATEVALUE(LEFT(Tableau1[[#This Row],[Created at]],10)),0) -> 44481 | C83: 2021-10-12 13:28:43 +0200 | D83: fulfilled | E83: 79160 | F83: =IF(Tableau1[[#This Row],[Shipping Country]]="FR",VALUE(LEFT(E83,2)),"") -> 79 | G83: =IFERROR(VLOOKUP(F83,'Liste des départements français'!$B$2:$C$102,2,FALSE),"") -> Nouvelle-Aquitaine | H83: FR
A84: fulfilled | B84: =IFERROR(DATEVALUE(LEFT(Tableau1[[#This Row],[Created at]],10)),0) -> 44476 | C84: 2021-10-07 22:34:06 +0200 | D84: fulfilled | E84: 28210 | F84: =IF(Tableau1[[#This Row],[Shipping Country]]="FR",VALUE(LEFT(E84,2)),"") -> 28 | G84: =IFERROR(VLOOKUP(F84,'Liste des départements français'!$B$2:$C$102,2,FALSE),"") -> Centre-Val de Loire | H84: FR
A85: fulfilled | B85: =IFERROR(DATEVALUE(LEFT(Tableau1[[#This Row],[Created at]],10)),0) -> 44475 | C85: 2021-10-06 18:28:51 +0200 | D85: fulfilled | E85: 51220 | F85: =IF(Tableau1[[#This Row],[Shipping Country]]="FR",VALUE(LEFT(E85,2)),"") -> 51 | G85: =IFERROR(VLOOKUP(F85,'Liste des départements français'!$B$2:$C$102,2,FALSE),"") -> Grand Est | H85: FR
A86: c22793473982653.1 | B86: =IFERROR(DATEVALUE(LEFT(Tableau1[[#This Row],[Created at]],10)),0) -> 0 | F86: =IF(Tableau1[[#This Row],[Shipping Country]]="FR",VALUE(LEFT(E86,2)),"") | G86: =IFERROR(VLOOKUP(F86,'Liste des départements français'!$B$2:$C$102,2,FALSE),"")
A87: fulfilled | B87: =IFERROR(DATEVALUE(LEFT(Tableau1[[#This Row],[Created at]],10)),0) -> 44474 | C87: 2021-10-05 22:33:52 +0200 | D87: fulfilled | E87: 38260 | F87: =IF(Tableau1[[#This Row],[Shipping Country]]="FR",VALUE(LEFT(E87,2)),"") -> 38 | G87: =IFERROR(VLOOKUP(F87,'Liste des départements français'!$B$2:$C$102,2,FALSE),"") -> Auvergne-Rhône-Alpes | H87: FR
A88: fulfilled | B88: =IFERROR(DATEVALUE(LEFT(Tableau1[[#This Row],[Created at]],10)),0) -> 44474 | C88: 2021-10-05 14:36:00 +0200 | D88: fulfilled | E88: 57500 | F88: =IF(Tableau1[[#This Row],[Shipping Country]]="FR",VALUE(LEFT(E88,2)),"") -> 57 | G88: =IFERROR(VLOOKUP(F88,'Liste des départements français'!$B$2:$C$102,2,FALSE),"") -> Grand Est | H88: FR
A89: fulfilled | B89: =IFERROR(DATEVALUE(LEFT(Tableau1[[#This Row],[Created at]],10)),0) -> 44472 | C89: 2021-10-03 18:15:03 +0200 | D89: fulfilled | E89: 13013 | F89: =IF(Tableau1[[#This Row],[Shipping Country]]="FR",VALUE(LEFT(E89,2)),"") -> 13 | G89: =IFERROR(VLOOKUP(F89,'Liste des départements français'!$B$2:$C$102,2,FALSE),"") -> Provence-Alpes-Côte d'Azur | H89: FR
A90: fulfilled | B90: =IFERROR(DATEVALUE(LEFT(Tableau1[[#This Row],[Created at]],10)),0) -> 44468 | C90: 2021-09-29 20:15:15 +0200 | D90: fulfilled | E90: 13100 | F90: =IF(Tableau1[[#This Row],[Shipping Country]]="FR",VALUE(LEFT(E90,2)),"") -> 13 | G90: =IFERROR(VLOOKUP(F90,'Liste des départements français'!$B$2:$C$102,2,FALSE),"") -> Provence-Alpes-Côte d'Azur | H90: FR
A91: fulfilled | B91: =IFERROR(DATEVALUE(LEFT(Tableau1[[#This Row],[Created at]],10)),0) -> 44468 | C91: 2021-09-29 16:33:31 +0200 | D91: fulfilled | E91: 60000 | F91: =IF(Tableau1[[#This Row],[Shipping Country]]="FR",VALUE(LEFT(E91,2)),"") -> 60 | G91: =IFERROR(VLOOKUP(F91,'Liste des départements français'!$B$2:$C$102,2,FALSE),"") -> Hauts-de-France | H91: FR
A92: fulfilled | B92: =IFERROR(DATEVALUE(LEFT(Tableau1[[#This Row],[Created at]],10)),0) -> 44466 | C92: 2021-09-27 22:43:31 +0200 | D92: fulfilled | E92: 91300 | F92: =IF(Tableau1[[#This Row],[Shipping Country]]="FR",VALUE(LEFT(E92,2)),"") -> 91 | G92: =IFERROR(VLOOKUP(F92,'Liste des départements français'!$B$2:$C$102,2,FALSE),"") -> Ile-de-France | H92: FR
A93: fulfilled | B93: =IFERROR(DATEVALUE(LEFT(Tableau1[[#This Row],[Created at]],10)),0) -> 44461 | C93: 2021-09-22 02:14:14 +0200 | D93: fulfilled | E93: 7800 | F93: =IF(Tableau1[[#This Row],[Shipping Country]]="FR",VALUE(LEFT(E93,2)),"") -> 78 | G93: =IFERROR(VLOOKUP(F93,'Liste des départements français'!$B$2:$C$102,2,FALSE),"") -> Ile-de-France | H93: FR
B94: =IFERROR(DATEVALUE(LEFT(Tableau1[[#This Row],[Created at]],10)),0) -> 44461 | C94: 2021-09-22 02:14:14 +0200 | D94: fulfilled | F94: =IF(Tableau1[[#This Row],[Shipping Country]]="FR",VALUE(LEFT(E94,2)),"") | G94: =IFERROR(VLOOKUP(F94,'Liste des départements français'!$B$2:$C$102,2,FALSE),"")
A95: fulfilled | B95: =IFERROR(DATEVALUE(LEFT(Tableau1[[#This Row],[Created at]],10)),0) -> 44457 | C95: 2021-09-18 08:46:48 +0200 | D95: pending | E95: 72650 | F95: =IF(Tableau1[[#This Row],[Shipping Country]]="FR",VALUE(LEFT(E95,2)),"") -> 72 | G95: =IFERROR(VLOOKUP(F95,'Liste des départements français'!$B$2:$C$102,2,FALSE),"") -> Pays de la Loire | H95: FR
B96: =IFERROR(DATEVALUE(LEFT(Tableau1[[#This Row],[Created at]],10)),0) -> 44457 | C96: 2021-09-18 08:46:48 +0200 | D96: fulfilled | F96: =IF(Tableau1[[#This Row],[Shipping Country]]="FR",VALUE(LEFT(E96,2)),"") | G96: =IFERROR(VLOOKUP(F96,'Liste des départements français'!$B$2:$C$102,2,FALSE),"")
A97: fulfilled | B97: =IFERROR(DATEVALUE(LEFT(Tableau1[[#This Row],[Created at]],10)),0) -> 44452 | C97: 2021-09-13 12:29:20 +0200 | D97: fulfilled | E97: 44240 | F97: =IF(Tableau1[[#This Row],[Shipping Country]]="FR",VALUE(LEFT(E97,2)),"") -> 44 | G97: =IFERROR(VLOOKUP(F97,'Liste des départements français'!$B$2:$C$102,2,FALSE),"") -> Pays de la Loire | H97: FR
A98: fulfilled | B98: =IFERROR(DATEVALUE(LEFT(Tableau1[[#This Row],[Created at]],10)),0) -> 44448 | C98: 2021-09-09 21:19:45 +0200 | D98: fulfilled | E98: 11800 | F98: =IF(Tableau1[[#This Row],[Shipping Country]]="FR",VALUE(LEFT(E98,2)),"") -> 11 | G98: =IFERROR(VLOOKUP(F98,'Liste des départements français'!$B$2:$C$102,2,FALSE),"") -> Occitanie | H98: FR
A99: fulfilled | B99: =IFERROR(DATEVALUE(LEFT(Tableau1[[#This Row],[Created at]],10)),0) -> 44446 | C99: 2021-09-07 06:21:51 +0200 | D99: fulfilled | E99: 16000 | F99: =IF(Tableau1[[#This Row],[Shipping Country]]="FR",VALUE(LEFT(E99,2)),"") -> 16 | G99: =IFERROR(VLOOKUP(F99,'Liste des départements français'!$B$2:$C$102,2,FALSE),"") -> Nouvelle-Aquitaine | H99: FR
A100: fulfilled | B100: =IFERROR(DATEVALUE(LEFT(Tableau1[[#This Row],[Created at]],10)),0) -> 44441 | C100: 2021-09-02 07:55:15 +0200 | D100: fulfilled | E100: 1460 | F100: =IF(Tableau1[[#This Row],[Shipping Country]]="FR",VALUE(LEFT(E100,2)),"") -> 14 | G100: =IFERROR(VLOOKUP(F100,'Liste des départements français'!$B$2:$C$102,2,FALSE),"") -> Normandie | H100: FR
A101: fulfilled | B101: =IFERROR(DATEVALUE(LEFT(Tableau1[[#This Row],[Created at]],10)),0) -> 44439 | C101: 2021-08-31 16:34:13 +0200 | D101: fulfilled | E101: 92100 | F101: =IF(Tableau1[[#This Row],[Shipping Country]]="FR",VALUE(LEFT(E101,2)),"") -> 92 | G101: =IFERROR(VLOOKUP(F101,'Liste des départements français'!$B$2:$C$102,2,FALSE),"") -> Ile-de-France | H101: FR
A102: fulfilled | B102: =IFERROR(DATEVALUE(LEFT(Tableau1[[#This Row],[Created at]],10)),0) -> 44434 | C102: 2021-08-26 13:53:33 +0200 | D102: fulfilled | E102: 66000 | F102: =IF(Tableau1[[#This Row],[Shipping Country]]="FR",VALUE(LEFT(E102,2)),"") -> 66 | G102: =IFERROR(VLOOKUP(F102,'Liste des départements français'!$B$2:$C$102,2,FALSE),"") -> Occitanie | H102: FR
A103: fulfilled | B103: =IFERROR(DATEVALUE(LEFT(Tableau1[[#This Row],[Created at]],10)),0) -> 44433 | C103: 2021-08-25 14:11:32 +0200 | D103: fulfilled | E103: 34340 | F103: =IF(Tableau1[[#This Row],[Shipping Country]]="FR",VALUE(LEFT(E103,2)),"") -> 34 | G103: =IFERROR(VLOOKUP(F103,'Liste des départements français'!$B$2:$C$102,2,FALSE),"") -> Occitanie | H103: FR
A104: fulfilled | B104: =IFERROR(DATEVALUE(LEFT(Tableau1[[#This Row],[Created at]],10)),0) -> 44431 | C104: 2021-08-23 07:52:42 +0200 | D104: fulfilled | E104: 68480 | F104: =IF(Tableau1[[#This Row],[Shipping Country]]="FR",VALUE(LEFT(E104,2)),"") -> 68 | G104: =IFERROR(VLOOKUP(F104,'Liste des départements français'!$B$2:$C$102,2,FALSE),"") -> Grand Est | H104: FR
A105: fulfilled | B105: =IFERROR(DATEVALUE(LEFT(Tableau1[[#This Row],[Created at]],10)),0) -> 44355 | C105: 2021-06-08 23:08:19 +0200 | D105: fulfilled | E105: 1160 | F105: =IF(Tableau1[[#This Row],[Shipping Country]]="FR",VALUE(LEFT(E105,2)),"") | G105: =IFERROR(VLOOKUP(F105,'Liste des départements français'!$B$2:$C$102,2,FALSE),"hors France") -> hors France | H105: BE
A106: unfulfilled | B106: =IFERROR(DATEVALUE(LEFT(Tableau1[[#This Row],[Created at]],10)),0) -> 44406 | C106: 2021-07-29 23:07:51 +0200 | D106: pending | E106: 73230 | F106: =IF(Tableau1[[#This Row],[Shipping Country]]="FR",VALUE(LEFT(E106,2)),"") -> 73 | G106: =IFERROR(VLOOKUP(F106,'Liste des départements français'!$B$2:$C$102,2,FALSE),"") -> Auvergne-Rhône-Alpes | H106: FR
A107: fulfilled | B107: =IFERROR(DATEVALUE(LEFT(Tableau1[[#This Row],[Created at]],10)),0) -> 44406 | C107: 2021-07-29 15:02:51 +0200 | D107: fulfilled | E107: 69310 | F107: =IF(Tableau1[[#This Row],[Shipping Country]]="FR",VALUE(LEFT(E107,2)),"") -> 69 | G107: =IFERROR(VLOOKUP(F107,'Liste des départements français'!$B$2:$C$102,2,FALSE),"") -> Auvergne-Rhône-Alpes | H107: FR
A108: fulfilled | B108: =IFERROR(DATEVALUE(LEFT(Tableau1[[#This Row],[Created at]],10)),0) -> 44390 | C108: 2021-07-13 10:51:37 +0200 | D108: fulfilled | E108: 92500 | F108: =IF(Tableau1[[#This Row],[Shipping Country]]="FR",VALUE(LEFT(E108,2)),"") -> 92 | G108: =IFERROR(VLOOKUP(F108,'Liste des départements français'!$B$2:$C$102,2,FALSE),"") -> Ile-de-France | H108: FR
...

Sheet sql-pays
A1: Colonne1 | B1: Colonne2 | C1: Colonne3 | D1: Colonne4 | E1: Colonne5 | F1: Colonne6
A2: 1 | B2: 4 | C2: AF | D2: AFG | E2: Afghanistan | F2: Afghanistan
A3: 2 | B3: 8 | C3: AL | D3: ALB | E3: Albanie | F3: Albania
A4: 3 | B4: 10 | C4: AQ | D4: ATA | E4: Antarctique | F4: Antarctica
A5: 4 | B5: 12 | C5: DZ | D5: DZA | E5: AlgÃ©rie | F5: Algeria
A6: 5 | B6: 16 | C6: AS | D6: ASM | E6: Samoa AmÃ©ricaines | F6: American Samoa
A7: 6 | B7: 20 | C7: AD | D7: AND | E7: Andorre | F7: Andorra
A8: 7 | B8: 24 | C8: AO | D8: AGO | E8: Angola | F8: Angola
A9: 8 | B9: 28 | C9: AG | D9: ATG | E9: Antigua-et-Barbuda | F9: Antigua and Barbuda
A10: 9 | B10: 31 | C10: AZ | D10: AZE | E10: AzerbaÃ¯djan | F10: Azerbaijan
A11: 10 | B11: 32 | C11: AR | D11: ARG | E11: Argentine | F11: Argentina
A12: 11 | B12: 36 | C12: AU | D12: AUS | E12: Australie | F12: Australia
A13: 12 | B13: 40 | C13: AT | D13: AUT | E13: Autriche | F13: Austria
... A242: 241 | B242: 894 | C242: ZM | D242: ZMB | E242: Zambie | F242: Zambia
