Workbook
Name Data: OFFSET(Base!$A$1,,,COUNTA(Base!$A:$A)+1,COUNTA(Base!$2:$2))

Sheet Base
B1: Territoire A | I1: Territoire B | P1: Territoire C
A2: Groupe | B2: Lundi | C2: Mardi | D2: Mercredi | E2: Jeudi | F2: Vendredi | G2: Samedi | H2: Dimanche | I2: Lundi | J2: Mardi | K2: Mercredi | L2: Jeudi | M2: Vendredi | N2: Samedi | O2: Dimanche | P2: Lundi | Q2: Mardi | R2: Mercredi | S2: Jeudi | T2: Vendredi | U2: Samedi | V2: Dimanche
A3: Groupe 1 | B3: 122264 | C3: 127510 | D3: 117646 | E3: 109481 | F3: 108694 | G3: 172790 | H3: 176307 | I3: 103913 | J3: 114568 | K3: 119234 | L3: 113772 | M3: 109442 | N3: 184362 | O3: 169227 | P3: 110086 | Q3: 126898 | R3: 140859 | S3: 109137 | T3: 130253 | U3: 179486 | V3: 171280
A4: Groupe 2 | B4: 153544 | C4: 152969 | D4: 142413 | E4: 123130 | F4: 143915 | G4: 189118 | H4: 184029 | I4: 129508 | J4: 144719 | K4: 150027 | L4: 123635 | M4: 141027 | N4: 213329 | O4: 178341 | P4: 134932 | Q4: 156196 | R4: 181142 | S4: 130301 | T4: 161599 | U4: 204685 | V4: 190228
A5: Groupe 3 | B5: 168285 | C5: 177520 | D5: 159884 | E5: 132834 | F5: 173999 | G5: 195110 | H5: 182951 | I5: 136851 | J5: 147849 | K5: 160055 | L5: 124235 | M5: 164589 | N5: 223402 | O5: 169975 | P5: 149521 | Q5: 166158 | R5: 194678 | S5: 142581 | T5: 178982 | U5: 213094 | V5: 195823
A6: Groupe 4 | B6: 170897 | C6: 183854 | D6: 168229 | E6: 133854 | F6: 182663 | G6: 205665 | H6: 182740 | I6: 139513 | J6: 148160 | K6: 161244 | L6: 122205 | M6: 170356 | N6: 226960 | O6: 162018 | P6: 153016 | Q6: 169890 | R6: 203506 | S6: 139137 | T6: 188690 | U6: 220488 | V6: 195102
A7: Groupe 5 | B7: 166344 | C7: 184446 | D7: 171859 | E7: 126250 | F7: 183097 | G7: 206734 | H7: 182591 | I7: 136859 | J7: 153071 | K7: 165940 | L7: 123094 | M7: 172996 | N7: 229842 | O7: 156788 | P7: 153135 | Q7: 171704 | R7: 204328 | S7: 134763 | T7: 193391 | U7: 222483 | V7: 197755
A8: Groupe 6 | B8: 159966 | C8: 182405 | D8: 177770 | E8: 127808 | F8: 184774 | G8: 211337 | H8: 180037 | I8: 133776 | J8: 153237 | K8: 164229 | L8: 122602 | M8: 172319 | N8: 227783 | O8: 155495 | P8: 146902 | Q8: 171543 | R8: 197858 | S8: 131251 | T8: 194994 | U8: 215470 | V8: 189611
A9: Groupe 7 | B9: 151139 | C9: 175038 | D9: 176530 | E9: 121550 | F9: 181608 | G9: 201905 | H9: 173107 | I9: 119216 | J9: 146435 | K9: 155616 | L9: 116512 | M9: 162686 | N9: 219968 | O9: 148686 | P9: 137005 | Q9: 160988 | R9: 193003 | S9: 121194 | T9: 186084 | U9: 213177 | V9: 179480
A10: Groupe 8 | B10: 138013 | C10: 166704 | D10: 158838 | E10: 113930 | F10: 167698 | G10: 185289 | H10: 155341 | I10: 114256 | J10: 139962 | K10: 150238 | L10: 106980 | M10: 143443 | N10: 211261 | O10: 131243 | P10: 143947 | Q10: 162758 | R10: 189236 | S10: 128457 | T10: 181652 | U10: 215804 | V10: 179263
A11: Groupe 9 | B11: 135930 | C11: 164106 | D11: 154447 | E11: 111017 | F11: 167500 | G11: 182259 | H11: 155034 | I11: 118853 | J11: 137775 | K11: 148533 | L11: 105469 | M11: 149176 | N11: 214365 | O11: 136442 | P11: 143139 | Q11: 167716 | R11: 197554 | S11: 129199 | T11: 187192 | U11: 219146 | V11: 180276
A12: Groupe 10 | B12: 132429 | C12: 159644 | D12: 157515 | E12: 112298 | F12: 169699 | G12: 189217 | H12: 160319 | I12: 114415 | J12: 141915 | K12: 150399 | L12: 109085 | M12: 152659 | N12: 214475 | O12: 141278 | P12: 142354 | Q12: 164673 | R12: 199347 | S12: 128481 | T12: 190891 | U12: 225985 | V12: 180084

Sheet Tableaux
B1: Lundi | C1: Mardi | D1: Mercredi | E1: Jeudi | F1: Vendredi | G1: Samedi | H1: Dimanche | J1: Groupe | K1: Regroupement | M1: Territoire | N1: Moyenne | O1: Lundi | P1: Mardi | Q1: Mercredi | R1: Jeudi | S1: Vendredi | T1: Samedi | U1: Dimanche
A2: Moyenne Groupes 1 à 3 | B2: =AVERAGE(Base!B3:B5) -> 148031 | C2: =AVERAGE(Base!C3:C5) -> 152666.33 | D2: =AVERAGE(Base!D3:D5) -> 139981 | E2: =AVERAGE(Base!E3:E5) -> 121815 | F2: =AVERAGE(Base!F3:F5) -> 142202.67 | G2: =AVERAGE(Base!G3:G5) -> 185672.67 | H2: =AVERAGE(Base!H3:H5) -> 181095.67 | J2: Groupe 1 | K2: Groupe 1 à 3 | M2: Territoire A | N2: Groupe 1 à 3 | O2: 148031 | P2: 152666.33 | Q2: 139981 | R2: 121815 | S2: 142202.67 | T2: 185672.67 | U2: 181095.67
A3: Moyenne Groupes 4 à 6 | B3: =AVERAGE(Base!B6:B8) -> 165735.67 | C3: =AVERAGE(Base!C6:C8) -> 183568.33 | D3: =AVERAGE(Base!D6:D8) -> 172619.33 | E3: =AVERAGE(Base!E6:E8) -> 129304 | F3: =AVERAGE(Base!F6:F8) -> 183511.33 | G3: =AVERAGE(Base!G6:G8) -> 207912 | H3: =AVERAGE(Base!H6:H8) -> 181789.33 | J3: Groupe 2 | K3: Groupe 1 à 3 | M3: Territoire A | N3: Groupe 4 à 6 | O3: 165735.67 | P3: 183568.33 | Q3: 172619.33 | R3: 129304 | S3: 183511.33 | T3: 207912 | U3: 181789.33
A4: Moyenne Groupes 7 à 10 | B4: =AVERAGE(Base!B9:B12) -> 139377.75 | C4: =AVERAGE(Base!C9:C12) -> 166373 | D4: =AVERAGE(Base!D9:D12) -> 161832.5 | E4: =AVERAGE(Base!E9:E12) -> 114698.75 | F4: =AVERAGE(Base!F9:F12) -> 171626.25 | G4: =AVERAGE(Base!G9:G12) -> 189667.5 | H4: =AVERAGE(Base!H9:H12) -> 160950.25 | J4: Groupe 3 | K4: Groupe 1 à 3 | M4: Territoire A | N4: Groupe 7 à 10 | O4: 139377.75 | P4: 166373 | Q4: 161832.5 | R4: 114698.75 | S4: 171626.25 | T4: 189667.5 | U4: 160950.25
E5: Je dois dupliquer ce tableau plusieurs fois (>100 territoires) | J5: Groupe 4 | K5: Groupe 4 à 6 | M5: Territoire B | N5: Groupe 1 à 3 | O5: 123424 | P5: 135712 | Q5: 143105.33 | R5: 120547.33 | S5: 138352.67 | T5: 207031 | U5: 172514.33
E6: Utilisation fonction décaler la sélection? Ou autre ? | J6: Groupe 5 | K6: Groupe 4 à 6 | M6: Territoire B | N6: Groupe 4 à 6 | O6: 136716 | P6: 151489.33 | Q6: 163804.33 | R6: 122633.67 | S6: 171890.33 | T6: 228195 | U6: 158100.33
J7: Groupe 6 | K7: Groupe 4 à 6 | M7: Territoire B | N7: Groupe 7 à 10 | O7: 116685 | P7: 141521.75 | Q7: 151196.5 | R7: 109511.5 | S7: 151991 | T7: 215017.25 | U7: 139412.25
J8: Groupe 7 | K8: Groupe 7 à 10 | M8: Territoire C | N8: Groupe 1 à 3 | O8: 131513 | P8: 149750.67 | Q8: 172226.33 | R8: 127339.67 | S8: 156944.67 | T8: 199088.33 | U8: 185777
J9: Groupe 8 | K9: Groupe 7 à 10 | M9: Territoire C | N9: Groupe 4 à 6 | O9: 151017.67 | P9: 171045.67 | Q9: 201897.33 | R9: 135050.33 | S9: 192358.33 | T9: 219480.33 | U9: 194156
J10: Groupe 9 | K10: Groupe 7 à 10 | M10: Territoire C | N10: Groupe 7 à 10 | O10: 141611.25 | P10: 164033.75 | Q10: 194785 | R10: 126832.75 | S10: 186454.75 | T10: 218528 | U10: 179775.75
J11: Groupe 10 | K11: Groupe 7 à 10
