Workbook
Name An: '2022'!$A$1
Name JF: JF!$A$1:$A$48

Sheet 2022
A1: 2022
B2: Nom : | N2: Matricule : 1 | AH2: Statut : Cadre au forfait 215 jours
B3: Prénom : | N3: Date d'embauche : 2 octobre 2006 | AH3: Congé ancienneté : 3
B4: Fonction : | N4: Ancienneté au 31-12-2021 : 15 ans et 3 mois | AH4: Congé fractionnement 20-21 : 2
A6: FEUILLE DE PRESENCE - ANNEE 2022 | AG6: Jours travaillés | AI6: Jours Cadres | AM6: Congés payés
A8: Jour Mois | B8: 1 | C8: 2 | D8: 3 | E8: 4 | F8: 5 | G8: 6 | H8: 7 | I8: 8 | J8: 9 | K8: 10 | L8: 11 | M8: 12 | N8: 13 | O8: 14 | P8: 15 | Q8: 16 | R8: 17 | S8: 18 | T8: 19 | U8: 20 | V8: 21 | W8: 22 | X8: 23 | Y8: 24 | Z8: 25 | AA8: 26 | AB8: 27 | AC8: 28 | AD8: 29 | AE8: 30 | AF8: 31 | AG8: Mois | AH8: Cum. | AI8: Mois | AJ8: Cum. | AK8: we/f | AL8: Solde | AM8: Mois | AN8: Cum. | AO8: Solde
A9: Janvier | B9: JF | C9: RH | D9: JC | E9: T | F9: T | G9: T | H9: T | I9: Twe | J9: RH | K9: T | L9: T | M9: T | N9: JC | O9: T | P9: RH | Q9: RH | R9: T | S9: T | T9: T | U9: JC | V9: T | W9: Twe | X9: RH | Y9: T | Z9: JC | AA9: T | AB9: T | AC9: T | AD9: Twe | AE9: RH | AF9: JC | AG9: =COUNTIF(B9:AF9,"T")+COUNTIF(B9:AF9,"Twe") -> 19 | AH9: =+AG9 -> 19 | AI9: =COUNTIF(B9:AF9,"JC") -> 5 | AJ9: =AI9 -> 5 | AK9: =COUNTIF(D9:AH9,"TWE") -> 3 | AL9: =T30+H26-AI9+AK9 -> 11 | AM9: =COUNTIF(B9:AF9,"CP") -> 0 | AN9: =AM9 -> 0 | AO9: =H25-AM9+2.5 -> 31.77
A10: Février | F10: RH | G10: RH | M10: RH | N10: RH | T10: RH | U10: RH | AA10: RH | AB10: RH | AG10: =COUNTIF(B10:AF10,"T")+COUNTIF(B10:AF10,"Twe") -> 0 | AH10: =AH9+AG10 -> 19 | AI10: =COUNTIF(B10:AF10,"JC") -> 0 | AJ10: =AJ9+AI10 -> 5 | AL10: =+AL9-AI10+AK10 -> 11 | AM10: =COUNTIF(B10:AF10,"CP") -> 0 | AN10: =+AN9+AM10 -> 0 | AO10: =AO9-AM10+2.5 -> 34.27
A11: Mars | F11: RH | G11: RH | M11: RH | N11: RH | T11: RH | U11: RH | AA11: RH | AB11: RH | AG11: =COUNTIF(B11:AF11,"T")+COUNTIF(B11:AF11,"Twe") -> 0 | AH11: =AH10+AG11 -> 19 | AI11: =COUNTIF(B11:AF11,"JC") -> 0 | AJ11: =AJ10+AI11 -> 5 | AL11: =+AL10-AI11+AK11 -> 11 | AM11: =COUNTIF(B11:AF11,"CP") -> 0 | AN11: =+AN10+AM11 -> 0 | AO11: =AO10-AM11+2.5 -> 36.77
A12: Avril | C12: RH | D12: RH | J12: RH | K12: RH | Q12: RH | R12: RH | S12: JF | X12: RH | Y12: RH | AE12: RH | AG12: =COUNTIF(B12:AF12,"T")+COUNTIF(B12:AF12,"Twe") -> 0 | AH12: =AH11+AG12 -> 19 | AI12: =COUNTIF(B12:AF12,"JC") -> 0 | AJ12: =AJ11+AI12 -> 5 | AL12: =+AL11-AI12+AK12 -> 11 | AM12: =COUNTIF(B12:AF12,"CP") -> 0 | AN12: =+AN11+AM12 -> 0 | AO12: =AO11-AM12+2.5 -> 39.27
A13: Mai | B13: JF | H13: RH | I13: JF | O13: RH | P13: RH | V13: RH | W13: RH | AA13: JF | AC13: RH | AD13: RH | AG13: =COUNTIF(B13:AF13,"T")+COUNTIF(B13:AF13,"Twe") -> 0 | AH13: =AH12+AG13 -> 19 | AI13: =COUNTIF(B13:AF13,"JC") -> 0 | AJ13: =AJ12+AI13 -> 5 | AL13: =+AL12-AI13+AK13 -> 11 | AM13: =COUNTIF(B13:AF13,"CP") -> 0 | AN13: =+AN12+AM13 -> 0 | AO13: =AO12-AM13+2.5 -> 41.77
A14: Juin | E14: RH | F14: RH | G14: JF | L14: RH | M14: RH | S14: RH | T14: RH | Z14: RH | AA14: RH | AG14: =COUNTIF(B14:AF14,"T")+COUNTIF(B14:AF14,"Twe") -> 0 | AH14: =AH13+AG14 -> 19 | AI14: =COUNTIF(B14:AF14,"JC") -> 0 | AJ14: =AJ13+AI14 -> 5 | AL14: =+AL13-AI14+AK14 -> 11 | AM14: =COUNTIF(B14:AF14,"CP") -> 0 | AN14: =+AN13+AM14 -> 0 | AO14: =AO13-AM14+2.5 -> 44.27
A15: Juillet | C15: RH | D15: RH | J15: RH | K15: RH | O15: JF | Q15: RH | R15: RH | X15: RH | Y15: RH | AE15: RH | AF15: RH | AG15: =COUNTIF(B15:AF15,"T")+COUNTIF(B15:AF15,"Twe") -> 0 | AH15: =AH14+AG15 -> 19 | AI15: =COUNTIF(B15:AF15,"JC") -> 0 | AJ15: =AJ14+AI15 -> 5 | AL15: =+AL14-AI15+AK15 -> 11 | AM15: =COUNTIF(B15:AF15,"CP") -> 0 | AN15: =+AN14+AM15 -> 0 | AO15: =AO14-AM15+2.5 -> 46.77
A16: Août | G16: RH | H16: RH | N16: RH | O16: RH | P16: JF | U16: RH | V16: RH | AB16: RH | AC16: RH | AG16: =COUNTIF(B16:AF16,"T")+COUNTIF(B16:AF16,"Twe") -> 0 | AH16: =AH15+AG16 -> 19 | AI16: =COUNTIF(B16:AF16,"JC") -> 0 | AJ16: =AJ15+AI16 -> 5 | AL16: =+AL15-AI16+AK16 -> 11 | AM16: =COUNTIF(B16:AF16,"CP") -> 0 | AN16: =+AN15+AM16 -> 0 | AO16: =AO15-AM16+2.5 -> 49.27
A17: Septembre | D17: RH | E17: RH | K17: RH | L17: RH | R17: RH | S17: RH | Y17: RH | Z17: RH | AG17: =COUNTIF(B17:AF17,"T")+COUNTIF(B17:AF17,"Twe") -> 0 | AH17: =AH16+AG17 -> 19 | AI17: =COUNTIF(B17:AF17,"JC") -> 0 | AJ17: =AJ16+AI17 -> 5 | AL17: =+AL16-AI17+AK17 -> 11 | AM17: =COUNTIF(B17:AF17,"CP") -> 0 | AN17: =+AN16+AM17 -> 0 | AO17: =AO16-AM17+2.5 -> 51.77
A18: Octobre | B18: RH | C18: RH | I18: RH | J18: RH | P18: RH | Q18: RH | W18: RH | X18: RH | AD18: RH | AE18: RH | AG18: =COUNTIF(B18:AF18,"T")+COUNTIF(B18:AF18,"Twe") -> 0 | AH18: =AH17+AG18 -> 19 | AI18: =COUNTIF(B18:AF18,"JC") -> 0 | AJ18: =AJ17+AI18 -> 5 | AL18: =+AL17-AI18+AK18 -> 11 | AM18: =COUNTIF(B18:AF18,"CP") -> 0 | AN18: =+AN17+AM18 -> 0 | AO18: =AO17-AM18+2.5 -> 54.27
A19: Novembre | B19: JF | F19: RH | G19: RH | L19: JF | M19: RH | N19: RH | T19: RH | U19: RH | AA19: RH | AB19: RH | AG19: =COUNTIF(B19:AF19,"T")+COUNTIF(B19:AF19,"Twe") -> 0 | AH19: =AH18+AG19 -> 19 | AI19: =COUNTIF(B19:AF19,"JC") -> 0 | AJ19: =AJ18+AI19 -> 5 | AL19: =+AL18-AI19+AK19 -> 11 | AM19: =COUNTIF(B19:AF19,"CP") -> 0 | AN19: =+AN18+AM19 -> 0 | AO19: =AO18-AM19+2.5 -> 56.77
A20: Décembre | D20: RH | E20: RH | K20: RH | L20: RH | R20: RH | S20: RH | Y20: RH | Z20: JF | AF20: RH | AG20: =COUNTIF(B20:AF20,"T")+COUNTIF(B20:AF20,"Twe") -> 0 | AH20: =AH19+AG20 -> 19 | AI20: =COUNTIF(B20:AF20,"JC") -> 0 | AJ20: =AJ19+AI20 -> 5 | AL20: =+AL19-AI20+AK20 -> 11 | AM20: =COUNTIF(B20:AF20,"CP") -> 0 | AN20: =+AN19+AM20 -> 0 | AO20: =AO19-AM20+2.5 -> 59.27
B22: Soldes CP et JC | M22: Jours repos cadres annuels 2022 | X22: Observations
AH23: T | AJ23: Jour travaillé sur site
C24: Report au 31-12-21 : | N24: Nb jours annuels | T24: 365 | AH24: TH | AJ24: Jour travaillé hors site
F25: CP | H25: 29.27 | N25: Nb jours week-end | T25: 105 | AH25: CP | AJ25: Congé Payé
F26: JC | H26: 0 | N26: Nb CP | T26: 25 | AH26: JC | AJ26: Jour Cadre
N27: Nb fériés (hors week-end) | T27: 7 | AH27: JF | AJ27: Jour Férié
C28: Solde CP au 01-06-22 : | H28: =AO14 -> 44.27 | N28: Nb jours ouvrés | T28: =T24-T25-T26-T27 -> 228 | AH28: ABS | AJ28: Convenance perso, arrêts travail …
N29: Forfait Contractuel | T29: 215 | AH29: AA | AJ29: Absences autorisées
C30: Report au 31-12-22 : | N30: Droit JC 2022 | T30: =+T28-T29 -> 13 | AH30: RH | AJ30: Repos Hebdomadaire
F31: CP | H31: =+AO20 -> 59.27 | AH31: AP | AJ31: Activité partielle
F32: JC | H32: =AL20+T33 -> 11 | I32: =AN20+H26 -> 0 | AH32: Twe | AJ32: We - fériés travaillés
A37: SIGNATURE
A38: Janvier | K38: Avril | W38: Juillet
A39: Février | K39: Mai | W39: Août
A40: Mars | K40: Juin | W40: Septembre

Sheet JF
A1: =DATE(YEAR(JF!$F$2),1,1) -> 44197 | E1: Date du jour | F1: Date début
A2: =DATE(YEAR(JF!$F$2),5,1) -> 44317 | E2: =TODAY() -> 44592 | F2: =DATE(YEAR(E2)-1,1,1) -> 44197
A3: =DATE(YEAR(JF!$F$2),5,8) -> 44324
A4: =DATE(YEAR(JF!$F$2),7,14) -> 44391
A5: =DATE(YEAR(JF!$F$2),8,15) -> 44423
A6: =DATE(YEAR(JF!$F$2),11,1) -> 44501
A7: =DATE(YEAR(JF!$F$2),11,11) -> 44511
A8: =DATE(YEAR(JF!$F$2),12,25) -> 44555
A9: =ROUND((DAY(MINUTE(YEAR(A8)/38)/2+55)&"/4/"&YEAR(A8))/7,)*7-6 -> 44290
A10: =A9+1 -> 44291
A11: =A9+39 -> 44329
A12: =A9+50 -> 44340
A13: =EDATE(A1,12) -> 44562
A14: =EDATE(A2,12) -> 44682
A15: =EDATE(A3,12) -> 44689
A16: =EDATE(A4,12) -> 44756
A17: =EDATE(A5,12) -> 44788
A18: =EDATE(A6,12) -> 44866
A19: =EDATE(A7,12) -> 44876
A20: =EDATE(A8,12) -> 44920
A21: =ROUND((DAY(MINUTE(YEAR(A20)/38)/2+55)&"/4/"&YEAR(A20))/7,)*7-6 -> 44668
A22: =A21+1 -> 44669
A23: =A21+39 -> 44707
A24: =A21+50 -> 44718
A25: =EDATE(A13,12) -> 44927
A26: =EDATE(A14,12) -> 45047
A27: =EDATE(A15,12) -> 45054
A28: =EDATE(A16,12) -> 45121
A29: =EDATE(A17,12) -> 45153
A30: =EDATE(A18,12) -> 45231
A31: =EDATE(A19,12) -> 45241
A32: =EDATE(A20,12) -> 45285
A33: =ROUND((DAY(MINUTE(YEAR(A32)/38)/2+55)&"/4/"&YEAR(A32))/7,)*7-6 -> 45025
A34: =A33+1 -> 45026
A35: =A33+39 -> 45064
A36: =A33+50 -> 45075
A37: =EDATE(A25,12) -> 45292
A38: =EDATE(A26,12) -> 45413
A39: =EDATE(A27,12) -> 45420
A40: =EDATE(A28,12) -> 45487
A41: =EDATE(A29,12) -> 45519
A42: =EDATE(A30,12) -> 45597
A43: =EDATE(A31,12) -> 45607
A44: =EDATE(A32,12) -> 45651
A45: =ROUND((DAY(MINUTE(YEAR(A44)/38)/2+55)&"/4/"&YEAR(A44))/7,)*7-6 -> 45382
A46: =A45+1 -> 45383
A47: =A45+39 -> 45421
A48: =A45+50 -> 45432
