Workbook
Name Profs_Maths: Maths[[#All],[Maths]]

Sheet Feuil1
B2: Maths | C2: 6e_1 | D2: 6e_2 | E2: 6e_3 | F2: 6e_4 | G2: 5e_1 | H2: 5e_2 | I2: 5e_3 | J2: 5e_4 | K2: 4e_1 | L2: 4e_2 | M2: 4e_3 | N2: 4e_4 | O2: 3e_1 | P2: 3e_2 | Q2: 3e_3 | R2: 3e_4
B3: M1 | E3: X | F3: X | H3: X | I3: X
B4: M2 | C4: X | D4: X | O4: X | P4: X
B5: M3 | G5: X | J5: X | M5: X | N5: X
B6: M4 | K6: X | L6: X | Q6: X | R6: X
B8: Arabe | C8: 6e_1 | D8: 6e_2 | E8: 6e_3 | F8: 6e_4 | G8: 5e_1 | H8: 5e_2 | I8: 5e_3 | J8: 5e_4 | K8: 4e_1 | L8: 4e_2 | M8: 4e_3 | N8: 4e_4 | O8: 3e_1 | P8: 3e_2 | Q8: 3e_3 | R8: 3e_4
B9: A1 | E9: X | F9: X | H9: X | I9: X
B10: A2 | C10: X | D10: X | O10: X | P10: X
B11: A3 | G11: X | J11: X | M11: X | N11: X
B12: A4 | K12: X | L12: X | Q12: X | R12: X
B14: Français | C14: 6e_1 | D14: 6e_2 | E14: 6e_3 | F14: 6e_4 | G14: 5e_1 | H14: 5e_2 | I14: 5e_3 | J14: 5e_4 | K14: 4e_1 | L14: 4e_2 | M14: 4e_3 | N14: 4e_4 | O14: 3e_1 | P14: 3e_2 | Q14: 3e_3 | R14: 3e_4
B15: F1 | C15: X | D15: X | H15: X | I15: X
B16: F2 | E16: X | F16: X | O16: X | P16: X
B17: F3 | G17: X | J17: X | M17: X | N17: X
B18: F4 | K18: X | L18: X | Q18: X | R18: X

Sheet Feuil2
E1: Arabe | F1: Maths | G1: Français
B2: 1 | C2: 6e_1 | E2: =IF($C2="","",INDEX(INDIRECT(Liste[[#Headers],[Arabe]]&"["&Liste[[#Headers],[Arabe]]&"]"),MATCH("X",OFFSET(INDIRECT(Liste[[#Headers],[Arabe]]&"["&Liste[[#Headers],[Arabe]]&"]"),,MATCH(Feuil2!$C2,Maths[#Headers],0)-1)))) -> A2 | F2: =IF($C2="","",INDEX(INDIRECT(Liste[[#Headers],[Maths]]&"["&Liste[[#Headers],[Maths]]&"]"),MATCH("X",OFFSET(INDIRECT(Liste[[#Headers],[Maths]]&"["&Liste[[#Headers],[Maths]]&"]"),,MATCH(Feuil2!$C2,Maths[#Headers],0)-1)))) -> M2 | G2: =IF($C2="","",INDEX(INDIRECT(Liste[[#Headers],[Français]]&"["&Liste[[#Headers],[Français]]&"]"),MATCH("X",OFFSET(INDIRECT(Liste[[#Headers],[Français]]&"["&Liste[[#Headers],[Français]]&"]"),,MATCH(Feuil2!$C2,Maths[#Headers],0)-1)))) -> F1 | M2: 6e_1 | N2: 5e_1 | O2: 4e_1 | P2: 3e_1
B3: 1 | C3: 6e_2 | E3: =IF($C3="","",INDEX(INDIRECT(Liste[[#Headers],[Arabe]]&"["&Liste[[#Headers],[Arabe]]&"]"),MATCH("X",OFFSET(INDIRECT(Liste[[#Headers],[Arabe]]&"["&Liste[[#Headers],[Arabe]]&"]"),,MATCH(Feuil2!$C3,Maths[#Headers],0)-1)))) -> A2 | F3: =IF($C3="","",INDEX(INDIRECT(Liste[[#Headers],[Maths]]&"["&Liste[[#Headers],[Maths]]&"]"),MATCH("X",OFFSET(INDIRECT(Liste[[#Headers],[Maths]]&"["&Liste[[#Headers],[Maths]]&"]"),,MATCH(Feuil2!$C3,Maths[#Headers],0)-1)))) -> M2 | G3: =IF($C3="","",INDEX(INDIRECT(Liste[[#Headers],[Français]]&"["&Liste[[#Headers],[Français]]&"]"),MATCH("X",OFFSET(INDIRECT(Liste[[#Headers],[Français]]&"["&Liste[[#Headers],[Français]]&"]"),,MATCH(Feuil2!$C3,Maths[#Headers],0)-1)))) -> F1 | M3: 6e_2 | N3: 5e_2 | O3: 4e_2 | P3: 3e_2
E4: =IF($C4="","",INDEX(INDIRECT(Liste[[#Headers],[Arabe]]&"["&Liste[[#Headers],[Arabe]]&"]"),MATCH("X",OFFSET(INDIRECT(Liste[[#Headers],[Arabe]]&"["&Liste[[#Headers],[Arabe]]&"]"),,MATCH(Feuil2!$C4,Maths[#Headers],0)-1)))) | F4: =IF($C4="","",INDEX(INDIRECT(Liste[[#Headers],[Maths]]&"["&Liste[[#Headers],[Maths]]&"]"),MATCH("X",OFFSET(INDIRECT(Liste[[#Headers],[Maths]]&"["&Liste[[#Headers],[Maths]]&"]"),,MATCH(Feuil2!$C4,Maths[#Headers],0)-1)))) | G4: =IF($C4="","",INDEX(INDIRECT(Liste[[#Headers],[Français]]&"["&Liste[[#Headers],[Français]]&"]"),MATCH("X",OFFSET(INDIRECT(Liste[[#Headers],[Français]]&"["&Liste[[#Headers],[Français]]&"]"),,MATCH(Feuil2!$C4,Maths[#Headers],0)-1)))) | M4: 6e_3 | N4: 5e_3 | O4: 4e_3 | P4: 3e_3
E5: =IF($C5="","",INDEX(INDIRECT(Liste[[#Headers],[Arabe]]&"["&Liste[[#Headers],[Arabe]]&"]"),MATCH("X",OFFSET(INDIRECT(Liste[[#Headers],[Arabe]]&"["&Liste[[#Headers],[Arabe]]&"]"),,MATCH(Feuil2!$C5,Maths[#Headers],0)-1)))) | F5: =IF($C5="","",INDEX(INDIRECT(Liste[[#Headers],[Maths]]&"["&Liste[[#Headers],[Maths]]&"]"),MATCH("X",OFFSET(INDIRECT(Liste[[#Headers],[Maths]]&"["&Liste[[#Headers],[Maths]]&"]"),,MATCH(Feuil2!$C5,Maths[#Headers],0)-1)))) | G5: =IF($C5="","",INDEX(INDIRECT(Liste[[#Headers],[Français]]&"["&Liste[[#Headers],[Français]]&"]"),MATCH("X",OFFSET(INDIRECT(Liste[[#Headers],[Français]]&"["&Liste[[#Headers],[Français]]&"]"),,MATCH(Feuil2!$C5,Maths[#Headers],0)-1)))) | M5: 6e_4 | N5: 5e_4 | O5: 4e_4 | P5: 3e_4
E6: =IF($C6="","",INDEX(INDIRECT(Liste[[#Headers],[Arabe]]&"["&Liste[[#Headers],[Arabe]]&"]"),MATCH("X",OFFSET(INDIRECT(Liste[[#Headers],[Arabe]]&"["&Liste[[#Headers],[Arabe]]&"]"),,MATCH(Feuil2!$C6,Maths[#Headers],0)-1)))) | F6: =IF($C6="","",INDEX(INDIRECT(Liste[[#Headers],[Maths]]&"["&Liste[[#Headers],[Maths]]&"]"),MATCH("X",OFFSET(INDIRECT(Liste[[#Headers],[Maths]]&"["&Liste[[#Headers],[Maths]]&"]"),,MATCH(Feuil2!$C6,Maths[#Headers],0)-1)))) | G6: =IF($C6="","",INDEX(INDIRECT(Liste[[#Headers],[Français]]&"["&Liste[[#Headers],[Français]]&"]"),MATCH("X",OFFSET(INDIRECT(Liste[[#Headers],[Français]]&"["&Liste[[#Headers],[Français]]&"]"),,MATCH(Feuil2!$C6,Maths[#Headers],0)-1))))
B7: 2 | C7: 5e_3 | E7: =IF($C7="","",INDEX(INDIRECT(Liste[[#Headers],[Arabe]]&"["&Liste[[#Headers],[Arabe]]&"]"),MATCH("X",OFFSET(INDIRECT(Liste[[#Headers],[Arabe]]&"["&Liste[[#Headers],[Arabe]]&"]"),,MATCH(Feuil2!$C7,Maths[#Headers],0)-1)))) -> A1 | F7: =IF($C7="","",INDEX(INDIRECT(Liste[[#Headers],[Maths]]&"["&Liste[[#Headers],[Maths]]&"]"),MATCH("X",OFFSET(INDIRECT(Liste[[#Headers],[Maths]]&"["&Liste[[#Headers],[Maths]]&"]"),,MATCH(Feuil2!$C7,Maths[#Headers],0)-1)))) -> M1 | G7: =IF($C7="","",INDEX(INDIRECT(Liste[[#Headers],[Français]]&"["&Liste[[#Headers],[Français]]&"]"),MATCH("X",OFFSET(INDIRECT(Liste[[#Headers],[Français]]&"["&Liste[[#Headers],[Français]]&"]"),,MATCH(Feuil2!$C7,Maths[#Headers],0)-1)))) -> F1
E8: =IF($C8="","",INDEX(INDIRECT(Liste[[#Headers],[Arabe]]&"["&Liste[[#Headers],[Arabe]]&"]"),MATCH("X",OFFSET(INDIRECT(Liste[[#Headers],[Arabe]]&"["&Liste[[#Headers],[Arabe]]&"]"),,MATCH(Feuil2!$C8,Maths[#Headers],0)-1)))) | F8: =IF($C8="","",INDEX(INDIRECT(Liste[[#Headers],[Maths]]&"["&Liste[[#Headers],[Maths]]&"]"),MATCH("X",OFFSET(INDIRECT(Liste[[#Headers],[Maths]]&"["&Liste[[#Headers],[Maths]]&"]"),,MATCH(Feuil2!$C8,Maths[#Headers],0)-1)))) | G8: =IF($C8="","",INDEX(INDIRECT(Liste[[#Headers],[Français]]&"["&Liste[[#Headers],[Français]]&"]"),MATCH("X",OFFSET(INDIRECT(Liste[[#Headers],[Français]]&"["&Liste[[#Headers],[Français]]&"]"),,MATCH(Feuil2!$C8,Maths[#Headers],0)-1))))
E9: =IF($C9="","",INDEX(INDIRECT(Liste[[#Headers],[Arabe]]&"["&Liste[[#Headers],[Arabe]]&"]"),MATCH("X",OFFSET(INDIRECT(Liste[[#Headers],[Arabe]]&"["&Liste[[#Headers],[Arabe]]&"]"),,MATCH(Feuil2!$C9,Maths[#Headers],0)-1)))) | F9: =IF($C9="","",INDEX(INDIRECT(Liste[[#Headers],[Maths]]&"["&Liste[[#Headers],[Maths]]&"]"),MATCH("X",OFFSET(INDIRECT(Liste[[#Headers],[Maths]]&"["&Liste[[#Headers],[Maths]]&"]"),,MATCH(Feuil2!$C9,Maths[#Headers],0)-1)))) | G9: =IF($C9="","",INDEX(INDIRECT(Liste[[#Headers],[Français]]&"["&Liste[[#Headers],[Français]]&"]"),MATCH("X",OFFSET(INDIRECT(Liste[[#Headers],[Français]]&"["&Liste[[#Headers],[Français]]&"]"),,MATCH(Feuil2!$C9,Maths[#Headers],0)-1))))
E10: =IF($C10="","",INDEX(INDIRECT(Liste[[#Headers],[Arabe]]&"["&Liste[[#Headers],[Arabe]]&"]"),MATCH("X",OFFSET(INDIRECT(Liste[[#Headers],[Arabe]]&"["&Liste[[#Headers],[Arabe]]&"]"),,MATCH(Feuil2!$C10,Maths[#Headers],0)-1)))) | F10: =IF($C10="","",INDEX(INDIRECT(Liste[[#Headers],[Maths]]&"["&Liste[[#Headers],[Maths]]&"]"),MATCH("X",OFFSET(INDIRECT(Liste[[#Headers],[Maths]]&"["&Liste[[#Headers],[Maths]]&"]"),,MATCH(Feuil2!$C10,Maths[#Headers],0)-1)))) | G10: =IF($C10="","",INDEX(INDIRECT(Liste[[#Headers],[Français]]&"["&Liste[[#Headers],[Français]]&"]"),MATCH("X",OFFSET(INDIRECT(Liste[[#Headers],[Français]]&"["&Liste[[#Headers],[Français]]&"]"),,MATCH(Feuil2!$C10,Maths[#Headers],0)-1))))
E11: =IF($C11="","",INDEX(INDIRECT(Liste[[#Headers],[Arabe]]&"["&Liste[[#Headers],[Arabe]]&"]"),MATCH("X",OFFSET(INDIRECT(Liste[[#Headers],[Arabe]]&"["&Liste[[#Headers],[Arabe]]&"]"),,MATCH(Feuil2!$C11,Maths[#Headers],0)-1)))) | F11: =IF($C11="","",INDEX(INDIRECT(Liste[[#Headers],[Maths]]&"["&Liste[[#Headers],[Maths]]&"]"),MATCH("X",OFFSET(INDIRECT(Liste[[#Headers],[Maths]]&"["&Liste[[#Headers],[Maths]]&"]"),,MATCH(Feuil2!$C11,Maths[#Headers],0)-1)))) | G11: =IF($C11="","",INDEX(INDIRECT(Liste[[#Headers],[Français]]&"["&Liste[[#Headers],[Français]]&"]"),MATCH("X",OFFSET(INDIRECT(Liste[[#Headers],[Français]]&"["&Liste[[#Headers],[Français]]&"]"),,MATCH(Feuil2!$C11,Maths[#Headers],0)-1))))
E12: =IF($C12="","",INDEX(INDIRECT(Liste[[#Headers],[Arabe]]&"["&Liste[[#Headers],[Arabe]]&"]"),MATCH("X",OFFSET(INDIRECT(Liste[[#Headers],[Arabe]]&"["&Liste[[#Headers],[Arabe]]&"]"),,MATCH(Feuil2!$C12,Maths[#Headers],0)-1)))) | F12: =IF($C12="","",INDEX(INDIRECT(Liste[[#Headers],[Maths]]&"["&Liste[[#Headers],[Maths]]&"]"),MATCH("X",OFFSET(INDIRECT(Liste[[#Headers],[Maths]]&"["&Liste[[#Headers],[Maths]]&"]"),,MATCH(Feuil2!$C12,Maths[#Headers],0)-1)))) | G12: =IF($C12="","",INDEX(INDIRECT(Liste[[#Headers],[Français]]&"["&Liste[[#Headers],[Français]]&"]"),MATCH("X",OFFSET(INDIRECT(Liste[[#Headers],[Français]]&"["&Liste[[#Headers],[Français]]&"]"),,MATCH(Feuil2!$C12,Maths[#Headers],0)-1))))
E13: =IF($C13="","",INDEX(INDIRECT(Liste[[#Headers],[Arabe]]&"["&Liste[[#Headers],[Arabe]]&"]"),MATCH("X",OFFSET(INDIRECT(Liste[[#Headers],[Arabe]]&"["&Liste[[#Headers],[Arabe]]&"]"),,MATCH(Feuil2!$C13,Maths[#Headers],0)-1)))) | F13: =IF($C13="","",INDEX(INDIRECT(Liste[[#Headers],[Maths]]&"["&Liste[[#Headers],[Maths]]&"]"),MATCH("X",OFFSET(INDIRECT(Liste[[#Headers],[Maths]]&"["&Liste[[#Headers],[Maths]]&"]"),,MATCH(Feuil2!$C13,Maths[#Headers],0)-1)))) | G13: =IF($C13="","",INDEX(INDIRECT(Liste[[#Headers],[Français]]&"["&Liste[[#Headers],[Français]]&"]"),MATCH("X",OFFSET(INDIRECT(Liste[[#Headers],[Français]]&"["&Liste[[#Headers],[Français]]&"]"),,MATCH(Feuil2!$C13,Maths[#Headers],0)-1))))
E14: =IF($C14="","",INDEX(INDIRECT(Liste[[#Headers],[Arabe]]&"["&Liste[[#Headers],[Arabe]]&"]"),MATCH("X",OFFSET(INDIRECT(Liste[[#Headers],[Arabe]]&"["&Liste[[#Headers],[Arabe]]&"]"),,MATCH(Feuil2!$C14,Maths[#Headers],0)-1)))) | F14: =IF($C14="","",INDEX(INDIRECT(Liste[[#Headers],[Maths]]&"["&Liste[[#Headers],[Maths]]&"]"),MATCH("X",OFFSET(INDIRECT(Liste[[#Headers],[Maths]]&"["&Liste[[#Headers],[Maths]]&"]"),,MATCH(Feuil2!$C14,Maths[#Headers],0)-1)))) | G14: =IF($C14="","",INDEX(INDIRECT(Liste[[#Headers],[Français]]&"["&Liste[[#Headers],[Français]]&"]"),MATCH("X",OFFSET(INDIRECT(Liste[[#Headers],[Français]]&"["&Liste[[#Headers],[Français]]&"]"),,MATCH(Feuil2!$C14,Maths[#Headers],0)-1))))
E15: =IF($C15="","",INDEX(INDIRECT(Liste[[#Headers],[Arabe]]&"["&Liste[[#Headers],[Arabe]]&"]"),MATCH("X",OFFSET(INDIRECT(Liste[[#Headers],[Arabe]]&"["&Liste[[#Headers],[Arabe]]&"]"),,MATCH(Feuil2!$C15,Maths[#Headers],0)-1)))) | F15: =IF($C15="","",INDEX(INDIRECT(Liste[[#Headers],[Maths]]&"["&Liste[[#Headers],[Maths]]&"]"),MATCH("X",OFFSET(INDIRECT(Liste[[#Headers],[Maths]]&"["&Liste[[#Headers],[Maths]]&"]"),,MATCH(Feuil2!$C15,Maths[#Headers],0)-1)))) | G15: =IF($C15="","",INDEX(INDIRECT(Liste[[#Headers],[Français]]&"["&Liste[[#Headers],[Français]]&"]"),MATCH("X",OFFSET(INDIRECT(Liste[[#Headers],[Français]]&"["&Liste[[#Headers],[Français]]&"]"),,MATCH(Feuil2!$C15,Maths[#Headers],0)-1))))
E16: =IF($C16="","",INDEX(INDIRECT(Liste[[#Headers],[Arabe]]&"["&Liste[[#Headers],[Arabe]]&"]"),MATCH("X",OFFSET(INDIRECT(Liste[[#Headers],[Arabe]]&"["&Liste[[#Headers],[Arabe]]&"]"),,MATCH(Feuil2!$C16,Maths[#Headers],0)-1)))) | F16: =IF($C16="","",INDEX(INDIRECT(Liste[[#Headers],[Maths]]&"["&Liste[[#Headers],[Maths]]&"]"),MATCH("X",OFFSET(INDIRECT(Liste[[#Headers],[Maths]]&"["&Liste[[#Headers],[Maths]]&"]"),,MATCH(Feuil2!$C16,Maths[#Headers],0)-1)))) | G16: =IF($C16="","",INDEX(INDIRECT(Liste[[#Headers],[Français]]&"["&Liste[[#Headers],[Français]]&"]"),MATCH("X",OFFSET(INDIRECT(Liste[[#Headers],[Français]]&"["&Liste[[#Headers],[Français]]&"]"),,MATCH(Feuil2!$C16,Maths[#Headers],0)-1))))
E17: =IF($C17="","",INDEX(INDIRECT(Liste[[#Headers],[Arabe]]&"["&Liste[[#Headers],[Arabe]]&"]"),MATCH("X",OFFSET(INDIRECT(Liste[[#Headers],[Arabe]]&"["&Liste[[#Headers],[Arabe]]&"]"),,MATCH(Feuil2!$C17,Maths[#Headers],0)-1)))) | F17: =IF($C17="","",INDEX(INDIRECT(Liste[[#Headers],[Maths]]&"["&Liste[[#Headers],[Maths]]&"]"),MATCH("X",OFFSET(INDIRECT(Liste[[#Headers],[Maths]]&"["&Liste[[#Headers],[Maths]]&"]"),,MATCH(Feuil2!$C17,Maths[#Headers],0)-1)))) | G17: =IF($C17="","",INDEX(INDIRECT(Liste[[#Headers],[Français]]&"["&Liste[[#Headers],[Français]]&"]"),MATCH("X",OFFSET(INDIRECT(Liste[[#Headers],[Français]]&"["&Liste[[#Headers],[Français]]&"]"),,MATCH(Feuil2!$C17,Maths[#Headers],0)-1))))
