Workbook
Name Project: OFFSET(Project!$A$1,,,COUNTA(Project!$A:$A),COUNTA(Project!$1:$1))

Sheet Project
A1: Project | B1: Resource | C1: 44199 | D1: =C1+7 -> 44206 | E1: =D1+7 -> 44213 | F1: =E1+7 -> 44220 | G1: =F1+7 -> 44227 | H1: =G1+7 -> 44234 | I1: =H1+7 -> 44241 | J1: =I1+7 -> 44248 | K1: =J1+7 -> 44255 | ... BB1: =BA1+7 -> 44556
A2: Project 1 | B2: Business Analyst | C2: 0 | D2: 0 | E2: 0 | F2: 8 | G2: 8 | H2: 8 | I2: 0 | J2: 0 | K2: 4 | L2: 12 | M2: 12 | N2: 4 | O2: 8 | P2: 8 | Q2: 12 | R2: 16 | S2: 12 | T2: 12 | U2: 16 | V2: 12 | W2: 12 | X2: 16 | Y2: 16 | Z2: 12 | AA2: 12 | AB2: 12 | AC2: 12 | AD2: 0 | AE2: 8 | AF2: 4 | AG2: 12 | AH2: 12 | AI2: 12 | AJ2: 0 | AK2: 0 | AL2: 0 | AM2: 4 | AN2: 12 | AO2: 16 | AP2: 0 | AQ2: 0 | AR2: 0 | AS2: 0 | AT2: 0 | AU2: 0 | AV2: 0 | AW2: 0 | AX2: 0 | AY2: 0 | AZ2: 0 | BA2: 0 | BB2: 0
A3: Project 1 | B3: Developer 1 | C3: 0 | D3: 0 | E3: 0 | F3: 0 | G3: 0 | H3: 0 | I3: 0 | J3: 0 | K3: 0 | L3: 0 | M3: 0 | N3: 0 | O3: 0 | P3: 0 | Q3: 0 | R3: 0 | S3: 0 | T3: 0 | U3: 0 | V3: 0 | W3: 0 | X3: 0 | Y3: 0 | Z3: 0 | AA3: 0 | AB3: 0 | AC3: 0 | AD3: 0 | AE3: 0 | AF3: 0 | AG3: 0 | AH3: 0 | AI3: 0 | AJ3: 0 | AK3: 0 | AL3: 0 | AM3: 0 | AN3: 0 | AO3: 0 | AP3: 0 | AQ3: 0 | AR3: 0 | AS3: 0 | AT3: 0 | AU3: 0 | AV3: 0 | AW3: 0 | AX3: 0 | AY3: 0 | AZ3: 0 | BA3: 0 | BB3: 0
A4: Project 1 | B4: Tester | C4: 0 | D4: 0 | E4: 0 | F4: 10 | G4: 8 | H4: 8 | I4: 8 | J4: 0 | K4: 0 | L4: 0 | M4: 8 | N4: 10 | O4: 9 | P4: 10 | Q4: 10 | R4: 10 | S4: 10 | T4: 10 | U4: 12 | V4: 12 | W4: 12 | X4: 12 | Y4: 8.5 | Z4: 12 | AA4: 12 | AB4: 12 | AC4: 12 | AD4: 12 | AE4: 12 | AF4: 12 | AG4: 12 | AH4: 12 | AI4: 12 | AJ4: 12 | AK4: 4 | AL4: 0 | AM4: 0 | AN4: 0 | AO4: 0 | AP4: 0 | AQ4: 0 | AR4: 0 | AS4: 0 | AT4: 0 | AU4: 0 | AV4: 0 | AW4: 0 | AX4: 0 | AY4: 0 | AZ4: 0 | BA4: 0 | BB4: 0
A5: Project 1 | B5: Developer 2 | C5: 0 | D5: 0 | E5: 0 | F5: 40 | G5: 40 | H5: 0 | I5: 0 | J5: 0 | K5: 0 | L5: 0 | M5: 0 | N5: 40 | O5: 0 | P5: 40 | Q5: 40 | R5: 40 | S5: 40 | T5: 40 | U5: 40 | V5: 40 | W5: 40 | X5: 40 | Y5: 40 | Z5: 40 | AA5: 40 | AB5: 40 | AC5: 40 | AD5: 40 | AE5: 0 | AF5: 16 | AG5: 40 | AH5: 40 | AI5: 0 | AJ5: 16 | AK5: 0 | AL5: 0 | AM5: 0 | AN5: 0 | AO5: 0 | AP5: 0 | AQ5: 0 | AR5: 0 | AS5: 0 | AT5: 0 | AU5: 0 | AV5: 0 | AW5: 0 | AX5: 0 | AY5: 0 | AZ5: 0 | BA5: 0 | BB5: 0
A6: Project 2 | B6: Business Analyst | C6: 0 | D6: 0 | E6: 0 | F6: 0 | G6: 0 | H6: 0 | I6: 0 | J6: 0 | K6: 0 | L6: 0 | M6: 0 | N6: 0 | O6: 0 | P6: 0 | Q6: 0 | R6: 0 | S6: 0 | T6: 0 | U6: 0 | V6: 0 | W6: 0 | X6: 0 | Y6: 0 | Z6: 8 | AA6: 8 | AB6: 8 | AC6: 8 | AD6: 0 | AE6: 8 | AF6: 16 | AG6: 8 | AH6: 8 | AI6: 8 | AJ6: 0 | AK6: 0 | AL6: 0 | AM6: 0 | AN6: 8 | AO6: 0 | AP6: 0 | AQ6: 0 | AR6: 0 | AS6: 0 | AT6: 0 | AU6: 0 | AV6: 0 | AW6: 0 | AX6: 0 | AY6: 0 | AZ6: 0 | BA6: 0 | BB6: 0
A7: Project 2 | B7: Tester | C7: 0 | D7: 0 | E7: 0 | F7: 0 | G7: 0 | H7: 0 | I7: 0 | J7: 0 | K7: 0 | L7: 0 | M7: 0 | N7: 0 | O7: 0 | P7: 0 | Q7: 0 | R7: 0 | S7: 0 | T7: 0 | U7: 0 | V7: 0 | W7: 0 | X7: 0 | Y7: 0 | Z7: 8 | AA7: 8 | AB7: 8 | AC7: 8 | AD7: 8 | AE7: 8 | AF7: 8 | AG7: 8 | AH7: 8 | AI7: 8 | AJ7: 8 | AK7: 16 | AL7: 20 | AM7: 20 | AN7: 20 | AO7: 0 | AP7: 0 | AQ7: 0 | AR7: 0 | AS7: 0 | AT7: 0 | AU7: 0 | AV7: 0 | AW7: 0 | AX7: 0 | AY7: 0 | AZ7: 0 | BA7: 0 | BB7: 0
A8: Project 2 | B8: Developer 1 | C8: 0 | D8: 0 | E8: 0 | F8: 0 | G8: 0 | H8: 0 | I8: 0 | J8: 0 | K8: 0 | L8: 0 | M8: 0 | N8: 0 | O8: 0 | P8: 0 | Q8: 0 | R8: 0 | S8: 0 | T8: 0 | U8: 0 | V8: 0 | W8: 0 | X8: 0 | Y8: 0 | Z8: 0 | AA8: 0 | AB8: 0 | AC8: 0 | AD8: 0 | AE8: 0 | AF8: 12 | AG8: 0 | AH8: 0 | AI8: 0 | AJ8: 0 | AK8: 0 | AL8: 0 | AM8: 0 | AN8: 0 | AO8: 0 | AP8: 0 | AQ8: 0 | AR8: 0 | AS8: 0 | AT8: 0 | AU8: 0 | AV8: 0 | AW8: 0 | AX8: 0 | AY8: 0 | AZ8: 0 | BA8: 0 | BB8: 0
A9: Project 2 | B9: Developer 2 | C9: 0 | D9: 0 | E9: 0 | F9: 0 | G9: 0 | H9: 0 | I9: 0 | J9: 0 | K9: 0 | L9: 0 | M9: 0 | N9: 0 | O9: 0 | P9: 0 | Q9: 0 | R9: 0 | S9: 0 | T9: 0 | U9: 0 | V9: 0 | W9: 0 | X9: 0 | Y9: 0 | Z9: 0 | AA9: 0 | AB9: 0 | AC9: 20 | AD9: 20 | AE9: 20 | AF9: 20 | AG9: 0 | AH9: 20 | AI9: 0 | AJ9: 0 | AK9: 20 | AL9: 0 | AM9: 0 | AN9: 0 | AO9: 0 | AP9: 0 | AQ9: 0 | AR9: 0 | AS9: 0 | AT9: 0 | AU9: 0 | AV9: 0 | AW9: 0 | AX9: 0 | AY9: 0 | AZ9: 0 | BA9: 0 | BB9: 0
A10: Project 3 | B10: Business Analyst | C10: 20 | D10: 12 | E10: 8 | F10: 12 | G10: 12 | H10: 12 | I10: 12 | J10: 16 | K10: 16 | L10: 8 | M10: 8 | N10: 16 | O10: 12 | P10: 12 | Q10: 8 | R10: 4 | S10: 8 | T10: 8 | U10: 8 | V10: 8 | W10: 8 | X10: 4 | Y10: 4 | Z10: 0 | AA10: 0 | AB10: 0 | AC10: 0 | AD10: 0 | AE10: 4 | AF10: 0 | AG10: 0 | AH10: 0 | AI10: 0 | AJ10: 0 | AK10: 0 | AL10: 20 | AM10: 9 | AN10: 0 | AO10: 0 | AP10: 0 | AQ10: 0 | AR10: 0 | AS10: 0 | AT10: 0 | AU10: 0 | AV10: 0 | AW10: 0 | AX10: 0 | AY10: 0 | AZ10: 0 | BA10: 0 | BB10: 0
A11: Project 3 | B11: Tester | C11: 20 | D11: 12 | E11: 8 | F11: 10 | G11: 11 | H11: 8 | I11: 10 | J11: 10 | K11: 10 | L11: 11 | M11: 12 | N11: 10 | O11: 11 | P11: 10 | Q11: 10 | R11: 10 | S11: 10 | T11: 10 | U11: 8 | V11: 8 | W11: 8 | X11: 12 | Y11: 11.5 | Z11: 0 | AA11: 0 | AB11: 0 | AC11: 0 | AD11: 0 | AE11: 0 | AF11: 0 | AG11: 0 | AH11: 0 | AI11: 0 | AJ11: 0 | AK11: 0 | AL11: 0 | AM11: 0 | AN11: 0 | AO11: 1 | AP11: 0 | AQ11: 0 | AR11: 0 | AS11: 0 | AT11: 0 | AU11: 0 | AV11: 0 | AW11: 0 | AX11: 0 | AY11: 0 | AZ11: 0 | BA11: 0 | BB11: 0
A12: Project 3 | B12: Developer 1 | C12: 0 | D12: 0 | E12: 0 | F12: 0 | G12: 0 | H12: 0 | I12: 0 | J12: 0 | K12: 0 | L12: 0 | M12: 0 | N12: 0 | O12: 0 | P12: 0 | Q12: 0 | R12: 0 | S12: 0 | T12: 0 | U12: 0 | V12: 0 | W12: 0 | X12: 0 | Y12: 0 | Z12: 0 | AA12: 0 | AB12: 0 | AC12: 0 | AD12: 0 | AE12: 0 | AF12: 0 | AG12: 0 | AH12: 0 | AI12: 0 | AJ12: 0 | AK12: 0 | AL12: 0 | AM12: 0 | AN12: 0 | AO12: 0 | AP12: 0 | AQ12: 0 | AR12: 0 | AS12: 0 | AT12: 0 | AU12: 0 | AV12: 0 | AW12: 0 | AX12: 0 | AY12: 0 | AZ12: 0 | BA12: 0 | BB12: 0
A13: Project 3 | B13: Developer 2 | C13: 20 | D13: 20 | E13: 20 | F13: 20 | G13: 20 | H13: 20 | I13: 20 | J13: 20 | K13: 20 | L13: 20 | M13: 20 | N13: 20 | O13: 20 | P13: 20 | Q13: 20 | R13: 20 | S13: 20 | T13: 20 | U13: 20 | V13: 20 | W13: 20 | X13: 20 | Y13: 16 | Z13: 20 | AA13: 20 | AB13: 20 | AC13: 0 | AD13: 0 | AE13: 0 | AF13: 0 | AG13: 0 | AH13: 0 | AI13: 0 | AJ13: 0 | AK13: 0 | AL13: 0 | AM13: 0 | AN13: 0 | AO13: 0 | AP13: 0 | AQ13: 0 | AR13: 0 | AS13: 0 | AT13: 0 | AU13: 0 | AV13: 0 | AW13: 0 | AX13: 0 | AY13: 0 | AZ13: 0 | BA13: 0 | BB13: 0

Sheet Monthly hours
A1: Project | B1: January | C1: February | D1: March | E1: April | F1: May | G1: June | H1: July | I1: August | J1: September | K1: October | L1: November | M1: December
A2: Project 1 | B2: =SUMPRODUCT((TEXT(Project!$C$1:$BB$1,"mmmm")=B$1)*(Project!$A$2:$A$13=$A2)*(Project!$C$2:$BB$13)) -> 0 | C2: =SUMPRODUCT((TEXT(Project!$C$1:$BB$1,"mmmm")=C$1)*(Project!$A$2:$A$13=$A2)*(Project!$C$2:$BB$13)) -> 0 | D2: =SUMPRODUCT((TEXT(Project!$C$1:$BB$1,"mmmm")=D$1)*(Project!$A$2:$A$13=$A2)*(Project!$C$2:$BB$13)) -> 0 | E2: =SUMPRODUCT((TEXT(Project!$C$1:$BB$1,"mmmm")=E$1)*(Project!$A$2:$A$13=$A2)*(Project!$C$2:$BB$13)) -> 0 | F2: =SUMPRODUCT((TEXT(Project!$C$1:$BB$1,"mmmm")=F$1)*(Project!$A$2:$A$13=$A2)*(Project!$C$2:$BB$13)) -> 0 | G2: =SUMPRODUCT((TEXT(Project!$C$1:$BB$1,"mmmm")=G$1)*(Project!$A$2:$A$13=$A2)*(Project!$C$2:$BB$13)) -> 0 | H2: =SUMPRODUCT((TEXT(Project!$C$1:$BB$1,"mmmm")=H$1)*(Project!$A$2:$A$13=$A2)*(Project!$C$2:$BB$13)) -> 0 | I2: =SUMPRODUCT((TEXT(Project!$C$1:$BB$1,"mmmm")=I$1)*(Project!$A$2:$A$13=$A2)*(Project!$C$2:$BB$13)) -> 0 | ... M2: =SUMPRODUCT((TEXT(Project!$C$1:$BB$1,"mmmm")=M$1)*(Project!$A$2:$A$13=$A2)*(Project!$C$2:$BB$13)) -> 0
A3: Project 2 | B3: =SUMPRODUCT((TEXT(Project!$C$1:$BB$1,"mmmm")=B$1)*(Project!$A$2:$A$13=$A3)*(Project!$C$2:$BB$13)) -> 0 | C3: =SUMPRODUCT((TEXT(Project!$C$1:$BB$1,"mmmm")=C$1)*(Project!$A$2:$A$13=$A3)*(Project!$C$2:$BB$13)) -> 0 | D3: =SUMPRODUCT((TEXT(Project!$C$1:$BB$1,"mmmm")=D$1)*(Project!$A$2:$A$13=$A3)*(Project!$C$2:$BB$13)) -> 0 | E3: =SUMPRODUCT((TEXT(Project!$C$1:$BB$1,"mmmm")=E$1)*(Project!$A$2:$A$13=$A3)*(Project!$C$2:$BB$13)) -> 0 | F3: =SUMPRODUCT((TEXT(Project!$C$1:$BB$1,"mmmm")=F$1)*(Project!$A$2:$A$13=$A3)*(Project!$C$2:$BB$13)) -> 0 | G3: =SUMPRODUCT((TEXT(Project!$C$1:$BB$1,"mmmm")=G$1)*(Project!$A$2:$A$13=$A3)*(Project!$C$2:$BB$13)) -> 0 | H3: =SUMPRODUCT((TEXT(Project!$C$1:$BB$1,"mmmm")=H$1)*(Project!$A$2:$A$13=$A3)*(Project!$C$2:$BB$13)) -> 0 | I3: =SUMPRODUCT((TEXT(Project!$C$1:$BB$1,"mmmm")=I$1)*(Project!$A$2:$A$13=$A3)*(Project!$C$2:$BB$13)) -> 0 | ... M3: =SUMPRODUCT((TEXT(Project!$C$1:$BB$1,"mmmm")=M$1)*(Project!$A$2:$A$13=$A3)*(Project!$C$2:$BB$13)) -> 0
A4: Project 3 | B4: =SUMPRODUCT((TEXT(Project!$C$1:$BB$1,"mmmm")=B$1)*(Project!$A$2:$A$13=$A4)*(Project!$C$2:$BB$13)) -> 0 | C4: =SUMPRODUCT((TEXT(Project!$C$1:$BB$1,"mmmm")=C$1)*(Project!$A$2:$A$13=$A4)*(Project!$C$2:$BB$13)) -> 0 | D4: =SUMPRODUCT((TEXT(Project!$C$1:$BB$1,"mmmm")=D$1)*(Project!$A$2:$A$13=$A4)*(Project!$C$2:$BB$13)) -> 0 | E4: =SUMPRODUCT((TEXT(Project!$C$1:$BB$1,"mmmm")=E$1)*(Project!$A$2:$A$13=$A4)*(Project!$C$2:$BB$13)) -> 0 | F4: =SUMPRODUCT((TEXT(Project!$C$1:$BB$1,"mmmm")=F$1)*(Project!$A$2:$A$13=$A4)*(Project!$C$2:$BB$13)) -> 0 | G4: =SUMPRODUCT((TEXT(Project!$C$1:$BB$1,"mmmm")=G$1)*(Project!$A$2:$A$13=$A4)*(Project!$C$2:$BB$13)) -> 0 | H4: =SUMPRODUCT((TEXT(Project!$C$1:$BB$1,"mmmm")=H$1)*(Project!$A$2:$A$13=$A4)*(Project!$C$2:$BB$13)) -> 0 | I4: =SUMPRODUCT((TEXT(Project!$C$1:$BB$1,"mmmm")=I$1)*(Project!$A$2:$A$13=$A4)*(Project!$C$2:$BB$13)) -> 0 | ... M4: =SUMPRODUCT((TEXT(Project!$C$1:$BB$1,"mmmm")=M$1)*(Project!$A$2:$A$13=$A4)*(Project!$C$2:$BB$13)) -> 0
A7: Somme de ValeurJ | B7: Date
A8: Project | B8: janv | C8: févr | D8: mars | E8: avr | F8: mai | G8: juin | H8: juil | I8: août | J8: sept | K8: oct | L8: nov | M8: déc | N8: Total général
A9: Project 1 | B9: 69.2 | C9: 69.6 | D9: 102.8 | E9: 251.4 | F9: 285.2 | G9: 284.5 | H9: 180.8 | I9: 182.4 | J9: 33.6 | K9: 0 | L9: 0 | M9: 0 | N9: 1459.5
A10: Project 2 | B10: 0 | C10: 0 | D10: 0 | E10: 0 | F10: 0 | G10: 44.8 | H10: 159.2 | I10: 97.6 | J10: 82.4 | K10: 0 | L10: 0 | M10: 0 | N10: 384
A11: Project 3 | B11: 190.6 | C11: 171.6 | D11: 196.2 | E11: 160.6 | F11: 160.4 | G11: 109.1 | H11: 8 | I11: 0 | J11: 30 | K11: 0 | L11: 0 | M11: 0 | N11: 1026.5
A12: Total général | B12: 259.8 | C12: 241.2 | D12: 299 | E12: 412 | F12: 445.6 | G12: 438.4 | H12: 348 | I12: 280 | J12: 146 | K12: 0 | L12: 0 | M12: 0 | N12: 2870

Sheet Monthly hours with correction
A1: Project | B1: January | C1: February | D1: March | E1: April | F1: May | G1: June | H1: July | I1: August | J1: September | K1: October | L1: November | M1: December
A2: Project 1 | B2: =SUMPRODUCT((TEXT(Project!$C$1:$BB$1,"mmmm")=B$1)*(Project!$A$2:$A$13=$A2)*(Project!$C$1:$BB$1+4<EOMONTH($C$1:$BB$1,0)+1)*(Project!$C$2:$BB$13)+(Project!$C$1:$BB$1+4>=EOMONTH($C$1:$BB$1,0)+1)*(Project!$C$2:$BB$13/5)*EOMONTH($C$1:$BB$1,0)+1) -> #VALUE! | C2: =SUMPRODUCT((TEXT(Project!$C$1:$BB$1,"mmmm")=C$1)*(Project!$A$2:$A$13=$A2)*(Project!$C$2:$BB$13)) -> 0 | D2: =SUMPRODUCT((TEXT(Project!$C$1:$BB$1,"mmmm")=D$1)*(Project!$A$2:$A$13=$A2)*(Project!$C$2:$BB$13)) -> 0 | E2: =SUMPRODUCT((TEXT(Project!$C$1:$BB$1,"mmmm")=E$1)*(Project!$A$2:$A$13=$A2)*(Project!$C$2:$BB$13)) -> 0 | F2: =SUMPRODUCT((TEXT(Project!$C$1:$BB$1,"mmmm")=F$1)*(Project!$A$2:$A$13=$A2)*(Project!$C$2:$BB$13)) -> 0 | G2: =SUMPRODUCT((TEXT(Project!$C$1:$BB$1,"mmmm")=G$1)*(Project!$A$2:$A$13=$A2)*(Project!$C$2:$BB$13)) -> 0 | H2: =SUMPRODUCT((TEXT(Project!$C$1:$BB$1,"mmmm")=H$1)*(Project!$A$2:$A$13=$A2)*(Project!$C$2:$BB$13)) -> 0 | I2: =SUMPRODUCT((TEXT(Project!$C$1:$BB$1,"mmmm")=I$1)*(Project!$A$2:$A$13=$A2)*(Project!$C$2:$BB$13)) -> 0 | J2: =SUMPRODUCT((TEXT(Project!$C$1:$BB$1,"mmmm")=J$1)*(Project!$A$2:$A$13=$A2)*(Project!$C$2:$BB$13)) -> 0 | ... M2: =SUMPRODUCT((TEXT(Project!$C$1:$BB$1,"mmmm")=M$1)*(Project!$A$2:$A$13=$A2)*(Project!$C$2:$BB$13)) -> 0
A3: Project 2 | B3: =SUMPRODUCT((TEXT(Project!$C$1:$BB$1,"mmmm")=B$1)*(Project!$A$2:$A$13=$A3)*(Project!$C$2:$BB$13)) -> 0 | C3: =SUMPRODUCT((TEXT(Project!$C$1:$BB$1,"mmmm")=C$1)*(Project!$A$2:$A$13=$A3)*(Project!$C$2:$BB$13)) -> 0 | D3: =SUMPRODUCT((TEXT(Project!$C$1:$BB$1,"mmmm")=D$1)*(Project!$A$2:$A$13=$A3)*(Project!$C$2:$BB$13)) -> 0 | E3: =SUMPRODUCT((TEXT(Project!$C$1:$BB$1,"mmmm")=E$1)*(Project!$A$2:$A$13=$A3)*(Project!$C$2:$BB$13)) -> 0 | F3: =SUMPRODUCT((TEXT(Project!$C$1:$BB$1,"mmmm")=F$1)*(Project!$A$2:$A$13=$A3)*(Project!$C$2:$BB$13)) -> 0 | G3: =SUMPRODUCT((TEXT(Project!$C$1:$BB$1,"mmmm")=G$1)*(Project!$A$2:$A$13=$A3)*(Project!$C$2:$BB$13)) -> 0 | H3: =SUMPRODUCT((TEXT(Project!$C$1:$BB$1,"mmmm")=H$1)*(Project!$A$2:$A$13=$A3)*(Project!$C$2:$BB$13)) -> 0 | I3: =SUMPRODUCT((TEXT(Project!$C$1:$BB$1,"mmmm")=I$1)*(Project!$A$2:$A$13=$A3)*(Project!$C$2:$BB$13)) -> 0 | ... M3: =SUMPRODUCT((TEXT(Project!$C$1:$BB$1,"mmmm")=M$1)*(Project!$A$2:$A$13=$A3)*(Project!$C$2:$BB$13)) -> 0
A4: Project 3 | B4: =SUMPRODUCT((TEXT(Project!$C$1:$BB$1,"mmmm")=B$1)*(Project!$A$2:$A$13=$A4)*(Project!$C$2:$BB$13)) -> 0 | C4: =SUMPRODUCT((TEXT(Project!$C$1:$BB$1,"mmmm")=C$1)*(Project!$A$2:$A$13=$A4)*(Project!$C$2:$BB$13)) -> 0 | D4: =SUMPRODUCT((TEXT(Project!$C$1:$BB$1,"mmmm")=D$1)*(Project!$A$2:$A$13=$A4)*(Project!$C$2:$BB$13)) -> 0 | E4: =SUMPRODUCT((TEXT(Project!$C$1:$BB$1,"mmmm")=E$1)*(Project!$A$2:$A$13=$A4)*(Project!$C$2:$BB$13)) -> 0 | F4: =SUMPRODUCT((TEXT(Project!$C$1:$BB$1,"mmmm")=F$1)*(Project!$A$2:$A$13=$A4)*(Project!$C$2:$BB$13)) -> 0 | G4: =SUMPRODUCT((TEXT(Project!$C$1:$BB$1,"mmmm")=G$1)*(Project!$A$2:$A$13=$A4)*(Project!$C$2:$BB$13)) -> 0 | H4: =SUMPRODUCT((TEXT(Project!$C$1:$BB$1,"mmmm")=H$1)*(Project!$A$2:$A$13=$A4)*(Project!$C$2:$BB$13)) -> 0 | I4: =SUMPRODUCT((TEXT(Project!$C$1:$BB$1,"mmmm")=I$1)*(Project!$A$2:$A$13=$A4)*(Project!$C$2:$BB$13)) -> 0 | ... M4: =SUMPRODUCT((TEXT(Project!$C$1:$BB$1,"mmmm")=M$1)*(Project!$A$2:$A$13=$A4)*(Project!$C$2:$BB$13)) -> 0
