Workbook
Name Lundi20décembre: Semaine!$A$1:$E$73
Name Mardi21décembre: Semaine!$A$1:$C$73,Semaine!$F$1:$G$73
Name Mercredi22décembre: Semaine!$A$1:$C$73,Semaine!$H$1:$I$73

Sheet Matin
A1: Nom - Prénom | B1: Nom de l'unité | C1: Type | D1: Niveau | E1: Nom des habitudes alimentaires | F1: 44550 | G1: 44551 | H1: 44552 | I1: 44553 | J1: 44554 | K1: 44557 | L1: 44558 | M1: 44559 | N1: 44560 | O1: 44561
A2: NOM Prénom1 | B2: Matin | C2: P | D2: CM2
A3: NOM Prénom2 | B3: Matin | C3: P | D3: CE2 | M3: 1 | N3: 1 | O3: 1
A4: NOM Prénom3 | B4: Matin | C4: P | D4: CE2 | K4: 1 | L4: 1 | M4: 1 | N4: 1 | O4: 1
A5: NOM Prénom4 | B5: Matin | C5: P | D5: CE1 | F5: 1 | G5: 1 | H5: 1 | I5: 1 | J5: 1
A6: NOM Prénom5 | B6: Matin | C6: P | D6: CE1 | E6: Végétarien | F6: 1 | G6: 1 | H6: 1 | I6: 1 | J6: 1 | K6: 1 | L6: 1 | M6: 1 | N6: 1 | O6: 1
A7: NOM Prénom6 | B7: Matin | C7: P | D7: CE2 | F7: 1 | G7: 1 | H7: 1 | I7: 1 | J7: 1
A8: NOM Prénom7 | B8: Matin | C8: P | D8: CP | F8: 1 | G8: 1 | H8: 1 | I8: 1
A9: NOM Prénom8 | B9: Matin | C9: P | D9: CP | G9: 1 | H9: 1 | I9: 1 | M9: 1 | N9: 1
A10: NOM Prénom9 | B10: Matin | C10: P | F10: 1 | G10: 1 | H10: 1 | I10: 1 | J10: 1 | K10: 1 | L10: 1 | M10: 1 | N10: 1 | O10: 1
A11: NOM Prénom10 | B11: Matin | C11: P | D11: CM1 | F11: 1 | G11: 1 | H11: 1 | I11: 1 | J11: 1 | K11: 1 | L11: 1 | M11: 1 | N11: 1 | O11: 1
A12: NOM Prénom11 | B12: Matin | C12: P | D12: CP | F12: 1 | G12: 1 | H12: 1 | I12: 1 | J12: 1 | K12: 1 | L12: 1 | M12: 1 | N12: 1 | O12: 1
A13: NOM Prénom12 | B13: Matin | C13: P | D13: CM1 | G13: 1 | H13: 1 | K13: 1 | O13: 1
A14: NOM Prénom13 | B14: Matin | C14: P | D14: CP | G14: 1 | H14: 1 | K14: 1 | O14: 1
A15: NOM Prénom14 | B15: Matin | C15: P | D15: 6ème et + | J15: 1
A16: NOM Prénom15 | B16: Matin | C16: P | D16: CM1 | J16: 1
A17: NOM Prénom16 | B17: Matin | C17: P | D17: CP | F17: 1 | G17: 1 | I17: 1
A18: NOM Prénom17 | B18: Matin | C18: P | D18: CE1 | E18: Sans viande permanent | F18: 1 | G18: 1 | H18: 1 | I18: 1 | J18: 1 | K18: 1 | L18: 1 | M18: 1 | N18: 1 | O18: 1
A19: NOM Prénom18 | B19: Matin | C19: P | D19: CE1 | F19: 1 | G19: 1 | H19: 1
A20: NOM Prénom19 | B20: Matin | C20: P | D20: CE2 | F20: 1 | G20: 1 | H20: 1 | I20: 1 | J20: 1 | K20: 1 | L20: 1 | M20: 1 | N20: 1 | O20: 1
A21: NOM Prénom20 | B21: Matin | C21: P | D21: CM1 | F21: 1 | G21: 1 | H21: 1 | I21: 1 | J21: 1 | K21: 1 | L21: 1 | M21: 1 | N21: 1 | O21: 1
A22: NOM Prénom21 | B22: Matin | C22: P | D22: CE1 | F22: 1 | G22: 1 | I22: 1 | J22: 1
A23: NOM Prénom22 | B23: Matin | C23: P | D23: CP | K23: 1 | L23: 1 | M23: 1 | N23: 1 | O23: 1
A24: NOM Prénom23 | B24: Matin | C24: P | D24: CM1 | K24: 1 | L24: 1 | M24: 1 | N24: 1 | O24: 1
A25: NOM Prénom24 | B25: Matin | C25: P | D25: CP | F25: 1 | G25: 1 | H25: 1 | I25: 1 | J25: 1
A26: NOM Prénom25 | B26: Matin | C26: P | D26: CM1 | F26: 1 | G26: 1
A27: NOM Prénom26 | B27: Matin | C27: P | D27: CE2 | E27: Sans Porc | F27: 1 | G27: 1 | I27: 1 | J27: 1
A28: NOM Prénom27 | B28: Matin | C28: P | D28: CE2 | E28: Sans Porc | F28: 1 | G28: 1 | I28: 1 | J28: 1
A29: NOM Prénom28 | B29: Matin | C29: P | D29: CE2 | E29: Sans Porc | K29: 1 | L29: 1 | M29: 1 | N29: 1 | O29: 1
A30: NOM Prénom29 | B30: Matin | C30: P | D30: CP | F30: 1 | G30: 1 | H30: 1
A31: NOM Prénom30 | B31: Matin | C31: P | D31: CM1 | F31: 1 | G31: 1 | H31: 1 | I31: 1 | J31: 1
A32: NOM Prénom31 | B32: Matin | C32: P | D32: CM1 | F32: 1 | G32: 1 | H32: 1 | I32: 1 | J32: 1 | K32: 1 | L32: 1 | M32: 1 | N32: 1 | O32: 1
A33: NOM Prénom32 | B33: Matin | C33: P | D33: CP | F33: 1 | G33: 1 | H33: 1 | L33: 1 | M33: 1 | N33: 1
A34: NOM Prénom33 | B34: Matin | C34: P | D34: CE2 | I34: 1 | J34: 1
A35: NOM Prénom34 | B35: Matin | C35: P | D35: CE1 | F35: 1 | H35: 1 | I35: 1 | J35: 1
A36: NOM Prénom35 | B36: Matin | C36: P | D36: CE2 | E36: Sans Porc | F36: 1 | G36: 1 | H36: 1 | I36: 1 | J36: 1 | K36: 1 | L36: 1 | M36: 1 | N36: 1
A37: NOM Prénom36 | B37: Matin | C37: P | D37: CE1 | F37: 1 | G37: 1 | H37: 1
A38: NOM Prénom37 | B38: Matin | C38: P | D38: CE2 | F38: 1 | G38: 1 | I38: 1 | K38: 1 | L38: 1 | N38: 1
A39: NOM Prénom38 | B39: Matin | C39: P | D39: CP | F39: 1 | G39: 1 | I39: 1 | K39: 1 | L39: 1 | N39: 1
A40: NOM Prénom39 | B40: Matin | C40: P | D40: CE2 | E40: Sans Porc | H40: 1 | I40: 1 | K40: 1 | L40: 1 | M40: 1
...

Sheet Après-midi
A1: Nom - Prénom | B1: Nom de l'unité | C1: Type | D1: Niveau | E1: Nom des habitudes alimentaires | F1: 44550 | G1: 44551 | H1: 44552 | I1: 44553 | J1: 44554 | K1: 44557 | L1: 44558 | M1: 44559 | N1: 44560 | O1: 44561
A2: NOM Prénom1 | B2: Après-Midi | C2: P | D2: CM2 | F2: 1 | G2: 1 | H2: 1 | I2: 1 | J2: 1 | K2: 1 | L2: 1 | M2: 1 | N2: 1 | O2: 1
A3: NOM Prénom2 | B3: Après-Midi | C3: P | D3: CE2 | M3: 1 | N3: 1 | O3: 1
A4: NOM Prénom3 | B4: Après-Midi | C4: P | D4: CE2 | K4: 1 | L4: 1 | M4: 1 | N4: 1
A5: NOM Prénom4 | B5: Après-Midi | C5: P | D5: CE1 | F5: 1 | G5: 1 | H5: 1 | I5: 1
A6: NOM Prénom5 | B6: Après-Midi | C6: P | D6: CE1 | E6: V | F6: 1 | G6: 1 | H6: 1 | I6: 1 | J6: 1 | K6: 1 | L6: 1 | M6: 1 | N6: 1 | O6: 1
A7: NOM Prénom6 | B7: Après-Midi | C7: P | D7: CE2 | F7: 1 | G7: 1 | H7: 1 | I7: 1 | J7: 1
A8: NOM Prénom7 | B8: Après-Midi | C8: P | D8: CP | F8: 1 | G8: 1 | H8: 1 | I8: 1
A9: NOM Prénom8 | B9: Après-Midi | C9: P | D9: CP | G9: 1 | H9: 1 | I9: 1 | M9: 1 | N9: 1
A10: NOM Prénom9 | B10: Après-Midi | C10: P | D10: CE2 | F10: 1 | G10: 1 | H10: 1 | I10: 1 | J10: 1 | K10: 1 | L10: 1 | M10: 1 | N10: 1 | O10: 1
A11: NOM Prénom10 | B11: Après-Midi | C11: P | D11: CM1 | F11: 1 | G11: 1 | H11: 1 | I11: 1 | J11: 1 | K11: 1 | L11: 1 | M11: 1 | N11: 1 | O11: 1
A12: NOM Prénom11 | B12: Après-Midi | C12: P | D12: CP | F12: 1 | G12: 1 | H12: 1 | I12: 1 | J12: 1 | K12: 1 | L12: 1 | M12: 1 | N12: 1 | O12: 1
A13: NOM Prénom12 | B13: Après-Midi | C13: P | D13: CM1 | G13: 1 | H13: 1 | K13: 1 | O13: 1
A14: NOM Prénom13 | B14: Après-Midi | C14: P | D14: CP | G14: 1 | H14: 1 | K14: 1 | O14: 1
A15: NOM Prénom14 | B15: Après-Midi | C15: P | D15: 6ème et + | J15: 1
A16: NOM Prénom15 | B16: Après-Midi | C16: P | D16: CM1 | J16: 1
A17: NOM Prénom16 | B17: Après-Midi | C17: P | D17: CP | F17: 1 | G17: 1 | I17: 1
A18: NOM Prénom17 | B18: Après-Midi | C18: P | D18: CE1 | E18: V | F18: 1 | G18: 1 | H18: 1 | I18: 1 | J18: 1 | K18: 1 | L18: 1 | M18: 1 | N18: 1 | O18: 1
A19: NOM Prénom18 | B19: Après-Midi | C19: P | D19: CE1 | F19: 1 | G19: 1 | H19: 1
A20: NOM Prénom19 | B20: Après-Midi | C20: P | D20: CE2 | F20: 1 | G20: 1 | H20: 1 | I20: 1 | J20: 1 | K20: 1 | L20: 1 | M20: 1 | N20: 1 | O20: 1
A21: NOM Prénom20 | B21: Après-Midi | C21: P | D21: CM1 | F21: 1 | G21: 1 | H21: 1 | I21: 1 | J21: 1 | K21: 1 | L21: 1 | M21: 1 | N21: 1 | O21: 1
A22: NOM Prénom21 | B22: Après-Midi | C22: P | D22: CE1 | F22: 1 | G22: 1 | I22: 1 | J22: 1
A23: NOM Prénom22 | B23: Après-Midi | C23: P | D23: CP | K23: 1 | L23: 1 | M23: 1 | N23: 1 | O23: 1
A24: NOM Prénom23 | B24: Après-Midi | C24: P | D24: CM1 | K24: 1 | L24: 1 | M24: 1 | N24: 1 | O24: 1
A25: NOM Prénom24 | B25: Après-Midi | C25: P | D25: CP | F25: 1 | G25: 1 | H25: 1 | I25: 1 | J25: 1
A26: NOM Prénom25 | B26: Après-Midi | C26: P | D26: CM1 | F26: 1
A27: NOM Prénom26 | B27: Après-Midi | C27: P | D27: CE2 | E27: SP | F27: 1 | G27: 1 | I27: 1 | J27: 1
A28: NOM Prénom27 | B28: Après-Midi | C28: P | D28: CE2 | E28: SP | F28: 1 | G28: 1 | I28: 1 | J28: 1
A29: NOM Prénom28 | B29: Après-Midi | C29: P | D29: CE2 | E29: SP | K29: 1 | L29: 1 | M29: 1 | N29: 1 | O29: 1
A30: NOM Prénom29 | B30: Après-Midi | C30: P | D30: CP | F30: 1 | G30: 1 | H30: 1
A31: NOM Prénom30 | B31: Après-Midi | C31: P | D31: CM1 | F31: 1 | G31: 1 | H31: 1 | I31: 1
A32: NOM Prénom31 | B32: Après-Midi | C32: P | D32: CM1 | F32: 1 | G32: 1 | H32: 1 | I32: 1 | J32: 1 | K32: 1 | L32: 1 | M32: 1 | N32: 1 | O32: 1
A33: NOM Prénom32 | B33: Après-Midi | C33: P | D33: CP | F33: 1 | G33: 1 | H33: 1 | L33: 1 | M33: 1 | N33: 1
A34: NOM Prénom33 | B34: Après-Midi | C34: P | D34: CE2 | I34: 1 | J34: 1
A35: NOM Prénom34 | B35: Après-Midi | C35: P | D35: CE1 | F35: 1 | H35: 1 | I35: 1 | J35: 1
A36: NOM Prénom35 | B36: Après-Midi | C36: P | D36: CE2 | E36: SP | F36: 1 | G36: 1 | H36: 1 | I36: 1 | J36: 1 | K36: 1 | L36: 1 | M36: 1 | N36: 1
A37: NOM Prénom36 | B37: Après-Midi | C37: P | D37: CE1 | F37: 1 | G37: 1 | H37: 1
A38: NOM Prénom37 | B38: Après-Midi | C38: P | D38: CE2 | F38: 1 | G38: 1 | I38: 1 | K38: 1 | L38: 1 | N38: 1
A39: NOM Prénom38 | B39: Après-Midi | C39: P | D39: CP | F39: 1 | G39: 1 | I39: 1 | K39: 1 | L39: 1 | N39: 1
A40: NOM Prénom39 | B40: Après-Midi | C40: P | D40: CE2 | E40: SP | H40: 1 | I40: 1 | K40: 1 | L40: 1 | M40: 1
...

Sheet Semaine
D1: 44550 | F1: 44551 | H1: 44552 | J1: 44553 | L1: 44554 | N1: 44557 | P1: 44558 | R1: 44559 | T1: 44560 | V1: 44561
A2: Nom Prénom | B2: Niveau | C2: Habitudes alimentaires | D2: Matin | E2: Après-midi | F2: Matin | G2: Après-midi | H2: Matin | I2: Après-midi | J2: Matin | K2: Après-midi | L2: Matin | M2: Après-midi | N2: Matin | O2: Après-midi | P2: Matin | Q2: Après-midi | R2: Matin | S2: Après-midi | T2: Matin | U2: Après-midi | V2: Matin | W2: Après-midi
A3: NOM Prénom1 | B3: =VLOOKUP($A3,'Après-midi'!$A$2:$D$72,4,0) -> CM2 | C3: =VLOOKUP($A3,'Après-midi'!$A$2:$O$72,5,) -> 0 | D3: =VLOOKUP(A3,Matin!$A$2:$O$72,6,0) -> 0 | E3: =VLOOKUP(A3,'Après-midi'!$A$2:$O$72,6,0) -> 1 | F3: =VLOOKUP(A3,Matin!$A$2:$O$72,7,0) -> 0 | G3: =VLOOKUP(A3,'Après-midi'!$A$2:$O$72,7,0) -> 1 | H3: =VLOOKUP(A3,Matin!$A$2:$O$72,8,0) -> 0 | I3: =VLOOKUP(A3,'Après-midi'!$A$2:$O$72,8,0) -> 1 | J3: =VLOOKUP(A3,Matin!$A$2:$O$72,9,0) -> 0 | K3: =VLOOKUP(A3,'Après-midi'!$A$2:$O$72,9,0) -> 1 | L3: =VLOOKUP(A3,Matin!$A$2:$O$72,10,0) -> 0 | M3: =VLOOKUP(A3,'Après-midi'!$A$2:$O$72,10,0) -> 1 | N3: =VLOOKUP($A3,Matin!$A$2:$O$72,11,0) -> 0 | O3: =VLOOKUP($A3,'Après-midi'!$A$2:$O$72,11,0) -> 1 | P3: =VLOOKUP($A3,Matin!$A$2:$O$72,12,0) -> 0 | Q3: =VLOOKUP($A3,'Après-midi'!$A$2:$O$72,12,0) -> 1 | R3: =VLOOKUP($A3,Matin!$A$2:$O$72,13,0) -> 0 | S3: =VLOOKUP($A3,'Après-midi'!$A$2:$O$72,13,0) -> 1 | T3: =VLOOKUP($A3,Matin!$A$2:$O$72,14,0) -> 0 | U3: =VLOOKUP($A3,'Après-midi'!$A$2:$O$72,14,0) -> 1 | V3: =VLOOKUP($A3,Matin!$A$2:$O$72,15,0) -> 0 | W3: =VLOOKUP($A3,'Après-midi'!$A$2:$O$72,15,0) -> 1
A4: NOM Prénom2 | B4: =VLOOKUP($A4,'Après-midi'!$A$2:$D$72,4,0) -> CE2 | C4: =VLOOKUP($A4,'Après-midi'!$A$2:$O$72,5,) -> 0 | D4: =VLOOKUP(A4,Matin!$A$2:$O$72,6,0) | E4: =VLOOKUP(A4,'Après-midi'!$A$2:$O$72,6,0) | F4: =VLOOKUP(A4,Matin!$A$2:$O$72,7,0) | G4: =VLOOKUP(A4,'Après-midi'!$A$2:$O$72,7,0) | H4: =VLOOKUP(A4,Matin!$A$2:$O$72,8,0) | I4: =VLOOKUP(A4,'Après-midi'!$A$2:$O$72,8,0) | J4: =VLOOKUP(A4,Matin!$A$3:$O$72,9,0) | K4: =VLOOKUP(A4,'Après-midi'!$A$2:$O$72,9,0) | L4: =VLOOKUP(A4,Matin!$A$3:$O$72,10,0) | M4: =VLOOKUP(A4,'Après-midi'!$A$2:$O$72,10,0) | N4: =VLOOKUP($A4,Matin!$A$3:$O$72,11,0) | O4: =VLOOKUP($A4,'Après-midi'!$A$2:$O$72,11,0) | P4: =VLOOKUP($A4,Matin!$A$3:$O$72,12,0) | Q4: =VLOOKUP($A4,'Après-midi'!$A$2:$O$72,12,0) | R4: =VLOOKUP($A4,Matin!$A$3:$O$72,13,0) -> 1 | S4: =VLOOKUP($A4,'Après-midi'!$A$2:$O$72,13,0) -> 1 | T4: =VLOOKUP($A4,Matin!$A$3:$O$72,14,0) -> 1 | U4: =VLOOKUP($A4,'Après-midi'!$A$2:$O$72,14,0) -> 1 | V4: =VLOOKUP($A4,Matin!$A$3:$O$72,15,0) -> 1 | W4: =VLOOKUP($A4,'Après-midi'!$A$2:$O$72,15,0) -> 1
A5: NOM Prénom3 | B5: =VLOOKUP($A5,'Après-midi'!$A$2:$D$72,4,0) -> CE2 | C5: =VLOOKUP($A5,'Après-midi'!$A$2:$O$72,5,) -> 0 | D5: =VLOOKUP(A5,Matin!$A$2:$O$72,6,0) | E5: =VLOOKUP(A5,'Après-midi'!$A$2:$O$72,6,0) | F5: =VLOOKUP(A5,Matin!$A$2:$O$72,7,0) | G5: =VLOOKUP(A5,'Après-midi'!$A$2:$O$72,7,0) | H5: =VLOOKUP(A5,Matin!$A$2:$O$72,8,0) | I5: =VLOOKUP(A5,'Après-midi'!$A$2:$O$72,8,0) | J5: =VLOOKUP(A5,Matin!$A$3:$O$72,9,0) | K5: =VLOOKUP(A5,'Après-midi'!$A$2:$O$72,9,0) | L5: =VLOOKUP(A5,Matin!$A$3:$O$72,10,0) | M5: =VLOOKUP(A5,'Après-midi'!$A$2:$O$72,10,0) | N5: =VLOOKUP($A5,Matin!$A$3:$O$72,11,0) -> 1 | O5: =VLOOKUP($A5,'Après-midi'!$A$2:$O$72,11,0) -> 1 | P5: =VLOOKUP($A5,Matin!$A$3:$O$72,12,0) -> 1 | Q5: =VLOOKUP($A5,'Après-midi'!$A$2:$O$72,12,0) -> 1 | R5: =VLOOKUP($A5,Matin!$A$3:$O$72,13,0) -> 1 | S5: =VLOOKUP($A5,'Après-midi'!$A$2:$O$72,13,0) -> 1 | T5: =VLOOKUP($A5,Matin!$A$3:$O$72,14,0) -> 1 | U5: =VLOOKUP($A5,'Après-midi'!$A$2:$O$72,14,0) -> 1 | V5: =VLOOKUP($A5,Matin!$A$3:$O$72,15,0) -> 1 | W5: =VLOOKUP($A5,'Après-midi'!$A$2:$O$72,15,0)
A6: NOM Prénom4 | B6: =VLOOKUP($A6,'Après-midi'!$A$2:$D$72,4,0) -> CE1 | C6: =VLOOKUP($A6,'Après-midi'!$A$2:$O$72,5,) -> 0 | D6: =VLOOKUP(A6,Matin!$A$2:$O$72,6,0) -> 1 | E6: =VLOOKUP(A6,'Après-midi'!$A$2:$O$72,6,0) -> 1 | F6: =VLOOKUP(A6,Matin!$A$2:$O$72,7,0) -> 1 | G6: =VLOOKUP(A6,'Après-midi'!$A$2:$O$72,7,0) -> 1 | H6: =VLOOKUP(A6,Matin!$A$2:$O$72,8,0) -> 1 | I6: =VLOOKUP(A6,'Après-midi'!$A$2:$O$72,8,0) -> 1 | J6: =VLOOKUP(A6,Matin!$A$3:$O$72,9,0) -> 1 | K6: =VLOOKUP(A6,'Après-midi'!$A$2:$O$72,9,0) -> 1 | L6: =VLOOKUP(A6,Matin!$A$3:$O$72,10,0) -> 1 | M6: =VLOOKUP(A6,'Après-midi'!$A$2:$O$72,10,0) | N6: =VLOOKUP(A$6,Matin!$A$3:$O$72,11,0) | O6: =VLOOKUP($A6,'Après-midi'!$A$2:$O$72,11,0) | P6: =VLOOKUP($A6,Matin!$A$3:$O$72,12,0) | Q6: =VLOOKUP($A6,'Après-midi'!$A$2:$O$72,12,0) | R6: =VLOOKUP($A6,Matin!$A$3:$O$72,13,0) | S6: =VLOOKUP($A6,'Après-midi'!$A$2:$O$72,13,0) | T6: =VLOOKUP($A6,Matin!$A$3:$O$72,14,0) | U6: =VLOOKUP($A6,'Après-midi'!$A$2:$O$72,14,0) | V6: =VLOOKUP($A6,Matin!$A$3:$O$72,15,0) | W6: =VLOOKUP($A6,'Après-midi'!$A$2:$O$72,15,0)
A7: NOM Prénom5 | B7: =VLOOKUP($A7,'Après-midi'!$A$2:$D$72,4,0) -> CE1 | C7: =VLOOKUP($A7,'Après-midi'!$A$2:$O$72,5,) -> V | D7: =VLOOKUP(A7,Matin!$A$2:$O$72,6,0) -> 1 | E7: =VLOOKUP(A7,'Après-midi'!$A$2:$O$72,6,0) -> 1 | F7: =VLOOKUP(A7,Matin!$A$2:$O$72,7,0) -> 1 | G7: =VLOOKUP(A7,'Après-midi'!$A$2:$O$72,7,0) -> 1 | H7: =VLOOKUP(A7,Matin!$A$2:$O$72,8,0) -> 1 | I7: =VLOOKUP(A7,'Après-midi'!$A$2:$O$72,8,0) -> 1 | J7: =VLOOKUP(A7,Matin!$A$3:$O$72,9,0) -> 1 | K7: =VLOOKUP(A7,'Après-midi'!$A$2:$O$72,9,0) -> 1 | L7: =VLOOKUP(A7,Matin!$A$3:$O$72,10,0) -> 1 | M7: =VLOOKUP(A7,'Après-midi'!$A$2:$O$72,10,0) -> 1 | N7: =VLOOKUP(A7,Matin!$A$3:$O$72,11,0) -> 1 | O7: =VLOOKUP($A7,'Après-midi'!$A$2:$O$72,11,0) -> 1 | P7: =VLOOKUP($A7,Matin!$A$3:$O$72,12,0) -> 1 | Q7: =VLOOKUP($A7,'Après-midi'!$A$2:$O$72,12,0) -> 1 | R7: =VLOOKUP($A7,Matin!$A$3:$O$72,13,0) -> 1 | S7: =VLOOKUP($A7,'Après-midi'!$A$2:$O$72,13,0) -> 1 | T7: =VLOOKUP($A7,Matin!$A$3:$O$72,14,0) -> 1 | U7: =VLOOKUP($A7,'Après-midi'!$A$2:$O$72,14,0) -> 1 | V7: =VLOOKUP($A7,Matin!$A$3:$O$72,15,0) -> 1 | W7: =VLOOKUP($A7,'Après-midi'!$A$2:$O$72,15,0) -> 1
A8: NOM Prénom6 | B8: =VLOOKUP($A8,'Après-midi'!$A$2:$D$72,4,0) -> CE2 | C8: =VLOOKUP($A8,'Après-midi'!$A$2:$O$72,5,) -> 0 | D8: =VLOOKUP(A8,Matin!$A$2:$O$72,6,0) -> 1 | E8: =VLOOKUP(A8,'Après-midi'!$A$2:$O$72,6,0) -> 1 | F8: =VLOOKUP(A8,Matin!$A$2:$O$72,7,0) -> 1 | G8: =VLOOKUP(A8,'Après-midi'!$A$2:$O$72,7,0) -> 1 | H8: =VLOOKUP(A8,Matin!$A$2:$O$72,8,0) -> 1 | I8: =VLOOKUP(A8,'Après-midi'!$A$2:$O$72,8,0) -> 1 | J8: =VLOOKUP(A8,Matin!$A$3:$O$72,9,0) -> 1 | K8: =VLOOKUP(A8,'Après-midi'!$A$2:$O$72,9,0) -> 1 | L8: =VLOOKUP(A8,Matin!$A$3:$O$72,10,0) -> 1 | M8: =VLOOKUP(A8,'Après-midi'!$A$2:$O$72,10,0) -> 1 | N8: =VLOOKUP(A8,Matin!$A$3:$O$72,11,0) | O8: =VLOOKUP($A8,'Après-midi'!$A$2:$O$72,11,0) | P8: =VLOOKUP($A8,Matin!$A$3:$O$72,12,0) | Q8: =VLOOKUP($A8,'Après-midi'!$A$2:$O$72,12,0) | R8: =VLOOKUP($A8,Matin!$A$3:$O$72,13,0) | S8: =VLOOKUP($A8,'Après-midi'!$A$2:$O$72,13,0) | T8: =VLOOKUP($A8,Matin!$A$3:$O$72,14,0) | U8: =VLOOKUP($A8,'Après-midi'!$A$2:$O$72,14,0) | V8: =VLOOKUP($A8,Matin!$A$3:$O$72,15,0) | W8: =VLOOKUP($A8,'Après-midi'!$A$2:$O$72,15,0)
A9: NOM Prénom7 | B9: =VLOOKUP($A9,'Après-midi'!$A$2:$D$72,4,0) -> CP | C9: =VLOOKUP($A9,'Après-midi'!$A$2:$O$72,5,) -> 0 | D9: =VLOOKUP(A9,Matin!$A$2:$O$72,6,0) -> 1 | E9: =VLOOKUP(A9,'Après-midi'!$A$2:$O$72,6,0) -> 1 | F9: =VLOOKUP(A9,Matin!$A$2:$O$72,7,0) -> 1 | G9: =VLOOKUP(A9,'Après-midi'!$A$2:$O$72,7,0) -> 1 | H9: =VLOOKUP(A9,Matin!$A$2:$O$72,8,0) -> 1 | I9: =VLOOKUP(A9,'Après-midi'!$A$2:$O$72,8,0) -> 1 | J9: =VLOOKUP(A9,Matin!$A$3:$O$72,9,0) -> 1 | K9: =VLOOKUP(A9,'Après-midi'!$A$2:$O$72,9,0) -> 1 | L9: =VLOOKUP(A9,Matin!$A$3:$O$72,10,0) | M9: =VLOOKUP(A9,'Après-midi'!$A$2:$O$72,10,0) | N9: =VLOOKUP(A9,Matin!$A$3:$O$72,11,0) | O9: =VLOOKUP($A9,'Après-midi'!$A$2:$O$72,11,0) | P9: =VLOOKUP($A9,Matin!$A$3:$O$72,12,0) | Q9: =VLOOKUP($A9,'Après-midi'!$A$2:$O$72,12,0) | R9: =VLOOKUP($A9,Matin!$A$3:$O$72,13,0) | S9: =VLOOKUP($A9,'Après-midi'!$A$2:$O$72,13,0) | T9: =VLOOKUP($A9,Matin!$A$3:$O$72,14,0) | U9: =VLOOKUP($A9,'Après-midi'!$A$2:$O$72,14,0) | V9: =VLOOKUP($A9,Matin!$A$3:$O$72,15,0) | W9: =VLOOKUP($A9,'Après-midi'!$A$2:$O$72,15,0)
A10: NOM Prénom8 | B10: =VLOOKUP($A10,'Après-midi'!$A$2:$D$72,4,0) -> CP | C10: =VLOOKUP($A10,'Après-midi'!$A$2:$O$72,5,) -> 0 | D10: =VLOOKUP(A10,Matin!$A$2:$O$72,6,0) | E10: =VLOOKUP(A10,'Après-midi'!$A$2:$O$72,6,0) | F10: =VLOOKUP(A10,Matin!$A$2:$O$72,7,0) -> 1 | G10: =VLOOKUP(A10,'Après-midi'!$A$2:$O$72,7,0) -> 1 | H10: =VLOOKUP(A10,Matin!$A$2:$O$72,8,0) -> 1 | I10: =VLOOKUP(A10,'Après-midi'!$A$2:$O$72,8,0) -> 1 | J10: =VLOOKUP(A10,Matin!$A$3:$O$72,9,0) -> 1 | K10: =VLOOKUP(A10,'Après-midi'!$A$2:$O$72,9,0) -> 1 | L10: =VLOOKUP(A10,Matin!$A$3:$O$72,10,0) | M10: =VLOOKUP(A10,'Après-midi'!$A$2:$O$72,10,0) | N10: =VLOOKUP(A10,Matin!$A$3:$O$72,11,0) | O10: =VLOOKUP($A10,'Après-midi'!$A$2:$O$72,11,0) | P10: =VLOOKUP($A10,Matin!$A$3:$O$72,12,0) | Q10: =VLOOKUP($A10,'Après-midi'!$A$2:$O$72,12,0) | R10: =VLOOKUP($A10,Matin!$A$3:$O$72,13,0) -> 1 | S10: =VLOOKUP($A10,'Après-midi'!$A$2:$O$72,13,0) -> 1 | T10: =VLOOKUP($A10,Matin!$A$3:$O$72,14,0) -> 1 | U10: =VLOOKUP($A10,'Après-midi'!$A$2:$O$72,14,0) -> 1 | V10: =VLOOKUP($A10,Matin!$A$3:$O$72,15,0) | W10: =VLOOKUP($A10,'Après-midi'!$A$2:$O$72,15,0)
A11: NOM Prénom9 | B11: =VLOOKUP($A11,'Après-midi'!$A$2:$D$72,4,0) -> CE2 | C11: =VLOOKUP($A11,'Après-midi'!$A$2:$O$72,5,) -> 0 | D11: =VLOOKUP(A11,Matin!$A$2:$O$72,6,0) -> 1 | E11: =VLOOKUP(A11,'Après-midi'!$A$2:$O$72,6,0) -> 1 | F11: =VLOOKUP(A11,Matin!$A$2:$O$72,7,0) -> 1 | G11: =VLOOKUP(A11,'Après-midi'!$A$2:$O$72,7,0) -> 1 | H11: =VLOOKUP(A11,Matin!$A$2:$O$72,8,0) -> 1 | I11: =VLOOKUP(A11,'Après-midi'!$A$2:$O$72,8,0) -> 1 | J11: =VLOOKUP(A11,Matin!$A$3:$O$72,9,0) -> 1 | K11: =VLOOKUP(A11,'Après-midi'!$A$2:$O$72,9,0) -> 1 | L11: =VLOOKUP(A11,Matin!$A$3:$O$72,10,0) -> 1 | M11: =VLOOKUP(A11,'Après-midi'!$A$2:$O$72,10,0) -> 1 | N11: =VLOOKUP(A11,Matin!$A$3:$O$72,11,0) -> 1 | O11: =VLOOKUP($A11,'Après-midi'!$A$2:$O$72,11,0) -> 1 | P11: =VLOOKUP($A11,Matin!$A$3:$O$72,12,0) -> 1 | Q11: =VLOOKUP($A11,'Après-midi'!$A$2:$O$72,12,0) -> 1 | R11: =VLOOKUP($A11,Matin!$A$3:$O$72,13,0) -> 1 | S11: =VLOOKUP($A11,'Après-midi'!$A$2:$O$72,13,0) -> 1 | T11: =VLOOKUP($A11,Matin!$A$3:$O$72,14,0) -> 1 | U11: =VLOOKUP($A11,'Après-midi'!$A$2:$O$72,14,0) -> 1 | V11: =VLOOKUP($A11,Matin!$A$3:$O$72,15,0) -> 1 | W11: =VLOOKUP($A11,'Après-midi'!$A$2:$O$72,15,0) -> 1
A12: NOM Prénom10 | B12: =VLOOKUP($A12,'Après-midi'!$A$2:$D$72,4,0) -> CM1 | C12: =VLOOKUP($A12,'Après-midi'!$A$2:$O$72,5,) -> 0 | D12: =VLOOKUP(A12,Matin!$A$2:$O$72,6,0) -> 1 | E12: =VLOOKUP(A12,'Après-midi'!$A$2:$O$72,6,0) -> 1 | F12: =VLOOKUP(A12,Matin!$A$2:$O$72,7,0) -> 1 | G12: =VLOOKUP(A12,'Après-midi'!$A$2:$O$72,7,0) -> 1 | H12: =VLOOKUP(A12,Matin!$A$2:$O$72,8,0) -> 1 | I12: =VLOOKUP(A12,'Après-midi'!$A$2:$O$72,8,0) -> 1 | J12: =VLOOKUP(A12,Matin!$A$3:$O$72,9,0) -> 1 | K12: =VLOOKUP(A12,'Après-midi'!$A$2:$O$72,9,0) -> 1 | L12: =VLOOKUP(A12,Matin!$A$3:$O$72,10,0) -> 1 | M12: =VLOOKUP(A12,'Après-midi'!$A$2:$O$72,10,0) -> 1 | N12: =VLOOKUP(A12,Matin!$A$3:$O$72,11,0) -> 1 | O12: =VLOOKUP($A12,'Après-midi'!$A$2:$O$72,11,0) -> 1 | P12: =VLOOKUP($A12,Matin!$A$3:$O$72,12,0) -> 1 | Q12: =VLOOKUP($A12,'Après-midi'!$A$2:$O$72,12,0) -> 1 | R12: =VLOOKUP($A12,Matin!$A$3:$O$72,13,0) -> 1 | S12: =VLOOKUP($A12,'Après-midi'!$A$2:$O$72,13,0) -> 1 | T12: =VLOOKUP($A12,Matin!$A$3:$O$72,14,0) -> 1 | U12: =VLOOKUP($A12,'Après-midi'!$A$2:$O$72,14,0) -> 1 | V12: =VLOOKUP($A12,Matin!$A$3:$O$72,15,0) -> 1 | W12: =VLOOKUP($A12,'Après-midi'!$A$2:$O$72,15,0) -> 1
A13: NOM Prénom11 | B13: =VLOOKUP($A13,'Après-midi'!$A$2:$D$72,4,0) -> CP | C13: =VLOOKUP($A13,'Après-midi'!$A$2:$O$72,5,) -> 0 | D13: =VLOOKUP(A13,Matin!$A$2:$O$72,6,0) -> 1 | E13: =VLOOKUP(A13,'Après-midi'!$A$2:$O$72,6,0) -> 1 | F13: =VLOOKUP(A13,Matin!$A$2:$O$72,7,0) -> 1 | G13: =VLOOKUP(A13,'Après-midi'!$A$2:$O$72,7,0) -> 1 | H13: =VLOOKUP(A13,Matin!$A$2:$O$72,8,0) -> 1 | I13: =VLOOKUP(A13,'Après-midi'!$A$2:$O$72,8,0) -> 1 | J13: =VLOOKUP(A13,Matin!$A$3:$O$72,9,0) -> 1 | K13: =VLOOKUP(A13,'Après-midi'!$A$2:$O$72,9,0) -> 1 | L13: =VLOOKUP(A13,Matin!$A$3:$O$72,10,0) -> 1 | M13: =VLOOKUP(A13,'Après-midi'!$A$2:$O$72,10,0) -> 1 | N13: =VLOOKUP(A13,Matin!$A$3:$O$72,11,0) -> 1 | O13: =VLOOKUP($A13,'Après-midi'!$A$2:$O$72,11,0) -> 1 | P13: =VLOOKUP($A13,Matin!$A$3:$O$72,12,0) -> 1 | Q13: =VLOOKUP($A13,'Après-midi'!$A$2:$O$72,12,0) -> 1 | R13: =VLOOKUP($A13,Matin!$A$3:$O$72,13,0) -> 1 | S13: =VLOOKUP($A13,'Après-midi'!$A$2:$O$72,13,0) -> 1 | T13: =VLOOKUP($A13,Matin!$A$3:$O$72,14,0) -> 1 | U13: =VLOOKUP($A13,'Après-midi'!$A$2:$O$72,14,0) -> 1 | V13: =VLOOKUP($A13,Matin!$A$3:$O$72,15,0) -> 1 | W13: =VLOOKUP($A13,'Après-midi'!$A$2:$O$72,15,0) -> 1
A14: NOM Prénom12 | B14: =VLOOKUP($A14,'Après-midi'!$A$2:$D$72,4,0) -> CM1 | C14: =VLOOKUP($A14,'Après-midi'!$A$2:$O$72,5,) -> 0 | D14: =VLOOKUP(A14,Matin!$A$2:$O$72,6,0) | E14: =VLOOKUP(A14,'Après-midi'!$A$2:$O$72,6,0) | F14: =VLOOKUP(A14,Matin!$A$2:$O$72,7,0) -> 1 | G14: =VLOOKUP(A14,'Après-midi'!$A$2:$O$72,7,0) -> 1 | H14: =VLOOKUP(A14,Matin!$A$2:$O$72,8,0) -> 1 | I14: =VLOOKUP(A14,'Après-midi'!$A$2:$O$72,8,0) -> 1 | J14: =VLOOKUP(A14,Matin!$A$3:$O$72,9,0) | K14: =VLOOKUP(A14,'Après-midi'!$A$2:$O$72,9,0) | L14: =VLOOKUP(A14,Matin!$A$3:$O$72,10,0) | M14: =VLOOKUP(A14,'Après-midi'!$A$2:$O$72,10,0) | N14: =VLOOKUP(A14,Matin!$A$3:$O$72,11,0) -> 1 | O14: =VLOOKUP($A14,'Après-midi'!$A$2:$O$72,11,0) -> 1 | P14: =VLOOKUP($A14,Matin!$A$3:$O$72,12,0) | Q14: =VLOOKUP($A14,'Après-midi'!$A$2:$O$72,12,0) | R14: =VLOOKUP($A14,Matin!$A$3:$O$72,13,0) | S14: =VLOOKUP($A14,'Après-midi'!$A$2:$O$72,13,0) | T14: =VLOOKUP($A14,Matin!$A$3:$O$72,14,0) | U14: =VLOOKUP($A14,'Après-midi'!$A$2:$O$72,14,0) | V14: =VLOOKUP($A14,Matin!$A$3:$O$72,15,0) -> 1 | W14: =VLOOKUP($A14,'Après-midi'!$A$2:$O$72,15,0) -> 1
A15: NOM Prénom13 | B15: =VLOOKUP($A15,'Après-midi'!$A$2:$D$72,4,0) -> CP | C15: =VLOOKUP($A15,'Après-midi'!$A$2:$O$72,5,) -> 0 | D15: =VLOOKUP(A15,Matin!$A$2:$O$72,6,0) | E15: =VLOOKUP(A15,'Après-midi'!$A$2:$O$72,6,0) | F15: =VLOOKUP(A15,Matin!$A$2:$O$72,7,0) -> 1 | G15: =VLOOKUP(A15,'Après-midi'!$A$2:$O$72,7,0) -> 1 | H15: =VLOOKUP(A15,Matin!$A$2:$O$72,8,0) -> 1 | I15: =VLOOKUP(A15,'Après-midi'!$A$2:$O$72,8,0) -> 1 | J15: =VLOOKUP(A15,Matin!$A$3:$O$72,9,0) | K15: =VLOOKUP(A15,'Après-midi'!$A$2:$O$72,9,0) | L15: =VLOOKUP(A15,Matin!$A$3:$O$72,10,0) | M15: =VLOOKUP(A15,'Après-midi'!$A$2:$O$72,10,0) | N15: =VLOOKUP(A15,Matin!$A$3:$O$72,11,0) -> 1 | O15: =VLOOKUP($A15,'Après-midi'!$A$2:$O$72,11,0) -> 1 | P15: =VLOOKUP($A15,Matin!$A$3:$O$72,12,0) | Q15: =VLOOKUP($A15,'Après-midi'!$A$2:$O$72,12,0) | R15: =VLOOKUP($A15,Matin!$A$3:$O$72,13,0) | S15: =VLOOKUP($A15,'Après-midi'!$A$2:$O$72,13,0) | T15: =VLOOKUP($A15,Matin!$A$3:$O$72,14,0) | U15: =VLOOKUP($A15,'Après-midi'!$A$2:$O$72,14,0) | V15: =VLOOKUP($A15,Matin!$A$3:$O$72,15,0) -> 1 | W15: =VLOOKUP($A15,'Après-midi'!$A$2:$O$72,15,0) -> 1
A16: NOM Prénom14 | B16: =VLOOKUP($A16,'Après-midi'!$A$2:$D$72,4,0) -> 6ème et + | C16: =VLOOKUP($A16,'Après-midi'!$A$2:$O$72,5,) -> 0 | D16: =VLOOKUP(A16,Matin!$A$2:$O$72,6,0) | E16: =VLOOKUP(A16,'Après-midi'!$A$2:$O$72,6,0) | F16: =VLOOKUP(A16,Matin!$A$2:$O$72,7,0) | G16: =VLOOKUP(A16,'Après-midi'!$A$2:$O$72,7,0) | H16: =VLOOKUP(A16,Matin!$A$2:$O$72,8,0) | I16: =VLOOKUP(A16,'Après-midi'!$A$2:$O$72,8,0) | J16: =VLOOKUP(A16,Matin!$A$3:$O$72,9,0) | K16: =VLOOKUP(A16,'Après-midi'!$A$2:$O$72,9,0) | L16: =VLOOKUP(A16,Matin!$A$3:$O$72,10,0) -> 1 | M16: =VLOOKUP(A16,'Après-midi'!$A$2:$O$72,10,0) -> 1 | N16: =VLOOKUP(A16,Matin!$A$3:$O$72,11,0) | O16: =VLOOKUP($A16,'Après-midi'!$A$2:$O$72,11,0) | P16: =VLOOKUP($A16,Matin!$A$3:$O$72,12,0) | Q16: =VLOOKUP($A16,'Après-midi'!$A$2:$O$72,12,0) | R16: =VLOOKUP($A16,Matin!$A$3:$O$72,13,0) | S16: =VLOOKUP($A16,'Après-midi'!$A$2:$O$72,13,0) | T16: =VLOOKUP($A16,Matin!$A$3:$O$72,14,0) | U16: =VLOOKUP($A16,'Après-midi'!$A$2:$O$72,14,0) | V16: =VLOOKUP($A16,Matin!$A$3:$O$72,15,0) | W16: =VLOOKUP($A16,'Après-midi'!$A$2:$O$72,15,0)
A17: NOM Prénom15 | B17: =VLOOKUP($A17,'Après-midi'!$A$2:$D$72,4,0) -> CM1 | C17: =VLOOKUP($A17,'Après-midi'!$A$2:$O$72,5,) -> 0 | D17: =VLOOKUP(A17,Matin!$A$2:$O$72,6,0) | E17: =VLOOKUP(A17,'Après-midi'!$A$2:$O$72,6,0) | F17: =VLOOKUP(A17,Matin!$A$2:$O$72,7,0) | G17: =VLOOKUP(A17,'Après-midi'!$A$2:$O$72,7,0) | H17: =VLOOKUP(A17,Matin!$A$2:$O$72,8,0) | I17: =VLOOKUP(A17,'Après-midi'!$A$2:$O$72,8,0) | J17: =VLOOKUP(A17,Matin!$A$3:$O$72,9,0) | K17: =VLOOKUP(A17,'Après-midi'!$A$2:$O$72,9,0) | L17: =VLOOKUP(A17,Matin!$A$3:$O$72,10,0) -> 1 | M17: =VLOOKUP(A17,'Après-midi'!$A$2:$O$72,10,0) -> 1 | N17: =VLOOKUP(A17,Matin!$A$3:$O$72,11,0) | O17: =VLOOKUP($A17,'Après-midi'!$A$2:$O$72,11,0) | P17: =VLOOKUP($A17,Matin!$A$3:$O$72,12,0) | Q17: =VLOOKUP($A17,'Après-midi'!$A$2:$O$72,12,0) | R17: =VLOOKUP($A17,Matin!$A$3:$O$72,13,0) | S17: =VLOOKUP($A17,'Après-midi'!$A$2:$O$72,13,0) | T17: =VLOOKUP($A17,Matin!$A$3:$O$72,14,0) | U17: =VLOOKUP($A17,'Après-midi'!$A$2:$O$72,14,0) | V17: =VLOOKUP($A17,Matin!$A$3:$O$72,15,0) | W17: =VLOOKUP($A17,'Après-midi'!$A$2:$O$72,15,0)
A18: NOM Prénom16 | B18: =VLOOKUP($A18,'Après-midi'!$A$2:$D$72,4,0) -> CP | C18: =VLOOKUP($A18,'Après-midi'!$A$2:$O$72,5,) -> 0 | D18: =VLOOKUP(A18,Matin!$A$2:$O$72,6,0) -> 1 | E18: =VLOOKUP(A18,'Après-midi'!$A$2:$O$72,6,0) -> 1 | F18: =VLOOKUP(A18,Matin!$A$2:$O$72,7,0) -> 1 | G18: =VLOOKUP(A18,'Après-midi'!$A$2:$O$72,7,0) -> 1 | H18: =VLOOKUP(A18,Matin!$A$2:$O$72,8,0) | I18: =VLOOKUP(A18,'Après-midi'!$A$2:$O$72,8,0) | J18: =VLOOKUP(A18,Matin!$A$3:$O$72,9,0) -> 1 | K18: =VLOOKUP(A18,'Après-midi'!$A$2:$O$72,9,0) -> 1 | L18: =VLOOKUP(A18,Matin!$A$3:$O$72,10,0) | M18: =VLOOKUP(A18,'Après-midi'!$A$2:$O$72,10,0) | N18: =VLOOKUP(A18,Matin!$A$3:$O$72,11,0) | O18: =VLOOKUP($A18,'Après-midi'!$A$2:$O$72,11,0) | P18: =VLOOKUP($A18,Matin!$A$3:$O$72,12,0) | Q18: =VLOOKUP($A18,'Après-midi'!$A$2:$O$72,12,0) | R18: =VLOOKUP($A18,Matin!$A$3:$O$72,13,0) | S18: =VLOOKUP($A18,'Après-midi'!$A$2:$O$72,13,0) | T18: =VLOOKUP($A18,Matin!$A$3:$O$72,14,0) | U18: =VLOOKUP($A18,'Après-midi'!$A$2:$O$72,14,0) | V18: =VLOOKUP($A18,Matin!$A$3:$O$72,15,0) | W18: =VLOOKUP($A18,'Après-midi'!$A$2:$O$72,15,0)
... A73: NOM Prénom71 | B73: =VLOOKUP($A73,'Après-midi'!$A$2:$D$72,4,0) -> CP | C73: =VLOOKUP($A73,'Après-midi'!$A$2:$O$72,5,) -> 0 | D73: =VLOOKUP(A73,Matin!$A$2:$O$72,6,0) -> 1 | E73: =VLOOKUP(A73,'Après-midi'!$A$2:$O$72,6,0) -> 1 | F73: =VLOOKUP(A73,Matin!$A$2:$O$72,7,0) -> 1 | G73: =VLOOKUP(A73,'Après-midi'!$A$2:$O$72,7,0) -> 1 | H73: =VLOOKUP(A73,Matin!$A$2:$O$72,8,0) -> 1 | I73: =VLOOKUP(A73,'Après-midi'!$A$2:$O$72,8,0) -> 1 | J73: =VLOOKUP(A73,Matin!$A$3:$O$72,9,0) -> 1 | K73: =VLOOKUP(A73,'Après-midi'!$A$2:$O$72,9,0) -> 1 | L73: =VLOOKUP(A73,Matin!$A$3:$O$72,10,0) -> 1 | M73: =VLOOKUP(A73,'Après-midi'!$A$2:$O$72,10,0) -> 1 | N73: =VLOOKUP(A73,Matin!$A$3:$O$72,11,0) | O73: =VLOOKUP($A73,'Après-midi'!$A$2:$O$72,11,0) | P73: =VLOOKUP($A73,Matin!$A$3:$O$72,12,0) | Q73: =VLOOKUP($A73,'Après-midi'!$A$2:$O$72,12,0) | R73: =VLOOKUP($A73,Matin!$A$3:$O$72,13,0) | S73: =VLOOKUP($A73,'Après-midi'!$A$2:$O$72,13,0) | T73: =VLOOKUP($A73,Matin!$A$3:$O$72,14,0) | U73: =VLOOKUP($A73,'Après-midi'!$A$2:$O$72,14,0) | V73: =VLOOKUP($A73,Matin!$A$3:$O$72,15,0) | W73: =VLOOKUP($A73,'Après-midi'!$A$2:$O$72,15,0)
C74: Total | D74: =SUBTOTAL(9,D3:D73) -> 52 | E74: =SUBTOTAL(9,E3:E73) -> 52 | F74: =SUBTOTAL(9,F3:F73) -> 52 | G74: =SUBTOTAL(9,G3:G73) -> 52 | H74: =SUBTOTAL(9,H3:H73) -> 48 | I74: =SUBTOTAL(9,I3:I73) -> 48 | J74: =SUBTOTAL(9,J3:J73) -> 44 | K74: =SUBTOTAL(9,K3:K73) -> 45 | ... W74: =SUBTOTAL(9,W3:W73) -> 26

Sheet Journée
D1: 44552
A2: Nom Prénom | B2: Niveau | C2: Habitudes alimentaires | D2: MATIN | E2: APRES-MIDI | F2: Ramassage | G2: Accueil Soir | H2: Infos Familles
A3: NOM Prénom1 | B3: =VLOOKUP($A3,'Après-midi'!$A$2:$D$72,4,0) -> CM2 | C3: =VLOOKUP($A3,'Après-midi'!$A$2:$O$72,5,) -> 0 | D3: =INDEX(Semaine!$A$1:$W$73,MATCH($A3,Semaine!$A:$A,0),MATCH(Journée!$D$1,Semaine!$1:$1,0)) -> 0 | E3: =INDEX(Semaine!$A$1:$W$73,MATCH($A3,Semaine!$A:$A,0),MATCH(Journée!$D$1,Semaine!$1:$1,0)+1) -> 1
A4: NOM Prénom2 | B4: =VLOOKUP($A4,'Après-midi'!$A$2:$D$72,4,0) -> CE2 | C4: =VLOOKUP($A4,'Après-midi'!$A$2:$O$72,5,) -> 0 | D4: =INDEX(Semaine!$A$1:$W$73,MATCH($A4,Semaine!A:A,0),MATCH(Journée!$D$1,Semaine!$1:$1,0)) | E4: =INDEX(Semaine!$A$1:$W$73,MATCH($A4,Semaine!$A:$A,0),MATCH(Journée!$D$1,Semaine!$1:$1,0)+1)
A5: NOM Prénom3 | B5: =VLOOKUP($A5,'Après-midi'!$A$2:$D$72,4,0) -> CE2 | C5: =VLOOKUP($A5,'Après-midi'!$A$2:$O$72,5,) -> 0 | D5: =INDEX(Semaine!$A$1:$W$73,MATCH($A5,Semaine!A:A,0),MATCH(Journée!$D$1,Semaine!$1:$1,0)) | E5: =INDEX(Semaine!$A$1:$W$73,MATCH($A5,Semaine!$A:$A,0),MATCH(Journée!$D$1,Semaine!$1:$1,0)+1)
A6: NOM Prénom4 | B6: =VLOOKUP($A6,'Après-midi'!$A$2:$D$72,4,0) -> CE1 | C6: =VLOOKUP($A6,'Après-midi'!$A$2:$O$72,5,) -> 0 | D6: =INDEX(Semaine!$A$1:$W$73,MATCH($A6,Semaine!A:A,0),MATCH(Journée!$D$1,Semaine!$1:$1,0)) -> 1 | E6: =INDEX(Semaine!$A$1:$W$73,MATCH($A6,Semaine!$A:$A,0),MATCH(Journée!$D$1,Semaine!$1:$1,0)+1) -> 1
A7: NOM Prénom5 | B7: =VLOOKUP($A7,'Après-midi'!$A$2:$D$72,4,0) -> CE1 | C7: =VLOOKUP($A7,'Après-midi'!$A$2:$O$72,5,) -> V | D7: =INDEX(Semaine!$A$1:$W$73,MATCH($A7,Semaine!A:A,0),MATCH(Journée!$D$1,Semaine!$1:$1,0)) -> 1 | E7: =INDEX(Semaine!$A$1:$W$73,MATCH($A7,Semaine!$A:$A,0),MATCH(Journée!$D$1,Semaine!$1:$1,0)+1) -> 1
A8: NOM Prénom6 | B8: =VLOOKUP($A8,'Après-midi'!$A$2:$D$72,4,0) -> CE2 | C8: =VLOOKUP($A8,'Après-midi'!$A$2:$O$72,5,) -> 0 | D8: =INDEX(Semaine!$A$1:$W$73,MATCH($A8,Semaine!A:A,0),MATCH(Journée!$D$1,Semaine!$1:$1,0)) -> 1 | E8: =INDEX(Semaine!$A$1:$W$73,MATCH($A8,Semaine!$A:$A,0),MATCH(Journée!$D$1,Semaine!$1:$1,0)+1) -> 1
A9: NOM Prénom7 | B9: =VLOOKUP($A9,'Après-midi'!$A$2:$D$72,4,0) -> CP | C9: =VLOOKUP($A9,'Après-midi'!$A$2:$O$72,5,) -> 0 | D9: =INDEX(Semaine!$A$1:$W$73,MATCH($A9,Semaine!A:A,0),MATCH(Journée!$D$1,Semaine!$1:$1,0)) -> 1 | E9: =INDEX(Semaine!$A$1:$W$73,MATCH($A9,Semaine!$A:$A,0),MATCH(Journée!$D$1,Semaine!$1:$1,0)+1) -> 1
A10: NOM Prénom8 | B10: =VLOOKUP($A10,'Après-midi'!$A$2:$D$72,4,0) -> CP | C10: =VLOOKUP($A10,'Après-midi'!$A$2:$O$72,5,) -> 0 | D10: =INDEX(Semaine!$A$1:$W$73,MATCH($A10,Semaine!A:A,0),MATCH(Journée!$D$1,Semaine!$1:$1,0)) -> 1 | E10: =INDEX(Semaine!$A$1:$W$73,MATCH($A10,Semaine!$A:$A,0),MATCH(Journée!$D$1,Semaine!$1:$1,0)+1) -> 1
A11: NOM Prénom9 | B11: =VLOOKUP($A11,'Après-midi'!$A$2:$D$72,4,0) -> CE2 | C11: =VLOOKUP($A11,'Après-midi'!$A$2:$O$72,5,) -> 0 | D11: =INDEX(Semaine!$A$1:$W$73,MATCH($A11,Semaine!A:A,0),MATCH(Journée!$D$1,Semaine!$1:$1,0)) -> 1 | E11: =INDEX(Semaine!$A$1:$W$73,MATCH($A11,Semaine!$A:$A,0),MATCH(Journée!$D$1,Semaine!$1:$1,0)+1) -> 1
A12: NOM Prénom10 | B12: =VLOOKUP($A12,'Après-midi'!$A$2:$D$72,4,0) -> CM1 | C12: =VLOOKUP($A12,'Après-midi'!$A$2:$O$72,5,) -> 0 | D12: =INDEX(Semaine!$A$1:$W$73,MATCH($A12,Semaine!A:A,0),MATCH(Journée!$D$1,Semaine!$1:$1,0)) -> 1 | E12: =INDEX(Semaine!$A$1:$W$73,MATCH($A12,Semaine!$A:$A,0),MATCH(Journée!$D$1,Semaine!$1:$1,0)+1) -> 1
A13: NOM Prénom11 | B13: =VLOOKUP($A13,'Après-midi'!$A$2:$D$72,4,0) -> CP | C13: =VLOOKUP($A13,'Après-midi'!$A$2:$O$72,5,) -> 0 | D13: =INDEX(Semaine!$A$1:$W$73,MATCH($A13,Semaine!A:A,0),MATCH(Journée!$D$1,Semaine!$1:$1,0)) -> 1 | E13: =INDEX(Semaine!$A$1:$W$73,MATCH($A13,Semaine!$A:$A,0),MATCH(Journée!$D$1,Semaine!$1:$1,0)+1) -> 1
A14: NOM Prénom12 | B14: =VLOOKUP($A14,'Après-midi'!$A$2:$D$72,4,0) -> CM1 | C14: =VLOOKUP($A14,'Après-midi'!$A$2:$O$72,5,) -> 0 | D14: =INDEX(Semaine!$A$1:$W$73,MATCH($A14,Semaine!A:A,0),MATCH(Journée!$D$1,Semaine!$1:$1,0)) -> 1 | E14: =INDEX(Semaine!$A$1:$W$73,MATCH($A14,Semaine!$A:$A,0),MATCH(Journée!$D$1,Semaine!$1:$1,0)+1) -> 1
A15: NOM Prénom13 | B15: =VLOOKUP($A15,'Après-midi'!$A$2:$D$72,4,0) -> CP | C15: =VLOOKUP($A15,'Après-midi'!$A$2:$O$72,5,) -> 0 | D15: =INDEX(Semaine!$A$1:$W$73,MATCH($A15,Semaine!A:A,0),MATCH(Journée!$D$1,Semaine!$1:$1,0)) -> 1 | E15: =INDEX(Semaine!$A$1:$W$73,MATCH($A15,Semaine!$A:$A,0),MATCH(Journée!$D$1,Semaine!$1:$1,0)+1) -> 1
... A73: NOM Prénom71 | B73: =VLOOKUP($A73,'Après-midi'!$A$2:$D$72,4,0) -> CP | C73: =VLOOKUP($A73,'Après-midi'!$A$2:$O$72,5,) -> 0 | D73: =INDEX(Semaine!$A$1:$W$73,MATCH($A73,Semaine!A:A,0),MATCH(Journée!$D$1,Semaine!$1:$1,0)) -> 1 | E73: =INDEX(Semaine!$A$1:$W$73,MATCH($A73,Semaine!$A:$A,0),MATCH(Journée!$D$1,Semaine!$1:$1,0)+1) -> 1
A90: Total réservation | D90: =SUBTOTAL(9,D3:D89) -> 48 | E90: =SUBTOTAL(9,E3:E89) -> 48
A91: Total réél

Sheet Dates
A1: 44550
A2: 44551
A3: 44552
A4: 44553
A5: 44554
A6: 44555
A7: 44556
A8: 44557
A9: 44558
A10: 44559
