Workbook

Sheet JANV
A1: Date | B1: machine | C1: NBR d'heures de panne | D1: détail
A2: 44229 | B2: Combi | C2: 10
A3: 44230 | B3: Conv BTES | C3: 15
B4: Salle des eaux | C4: 10
B5: Conv BTES | C5: 5
B6: Salle des eaux | C6: 7
B33: compteur decembre n-1 = | C33: 1200
B34: COMPTEUR SOUFFLEUSES ( PRIS LE DERNIER JOUR DU MOIS) = | C34: 1682
B35: TOTAL OUVERTURE LIGNE EN HEURES = | C35: =SUM(C34-C33) -> 482
B36: MTBF fevrier = | C36: =SUM(C35/COUNTA(Janv[NBR d''heures de panne])) -> 96.4 | D36: c'est moyenne de temps entre 2 pannes
B37: MTTR fevrier = | C37: =(SUM(Janv[NBR d''heures de panne])/(COUNTA(Janv[NBR d''heures de panne]))) -> 9.4 | D37: c'est le temps moyen de dépannage d'une machine
B38: DISPONIBILITE = | C38: =SUM((C36/(C37+C36))*100) -> 91.115312 | D38: % de chance que la ligne soit disponible a un intant T

Sheet FEV
A1: Date | B1: machine | C1: NBR d'heures de panne | D1: détail
A2: 44229 | B2: Combi | C2: 10
A3: 44230 | B3: Conv BTES | C3: 15
B34: COMPTEUR SOUFFLEUSES ( PRIS LE DERNIER JOUR DU MOIS) = | C34: 1800
B35: TOTAL OUVERTURE LIGNE EN HEURES = | C35: =SUM(C34-JANV!C34) -> 118
B36: MTBF fevrier = | C36: =SUM(C35/COUNTA(FEV[NBR d''heures de panne])) -> 59 | D36: c'est moyenne de temps entre 2 pannes
B37: MTTR fevrier = | C37: =(SUM(FEV[NBR d''heures de panne])/(COUNTA(FEV[NBR d''heures de panne]))) -> 12.5 | D37: c'est le temps moyen de dépannage d'une machine
B38: DISPONIBILITE = | C38: =SUM((C36/(C37+C36))*100) -> 82.517483 | D38: % de chance que la ligne soit disponible a un intant T

Sheet MARS
A1: Date | B1: machine | C1: NBR d'heures de panne | D1: détail
A2: 44229 | B2: Combi | C2: 10
A3: 44230 | B3: Conv BTES | C3: 15
B34: COMPTEUR SOUFFLEUSES ( PRIS LE DERNIER JOUR DU MOIS) = | C34: 1900
B35: TOTAL OUVERTURE LIGNE EN HEURES = | C35: =SUM(C34-FEV!C34) -> 100
B36: MTBF fevrier = | C36: =SUM(C35/COUNTA(Mars[NBR d''heures de panne])) -> 50 | D36: c'est moyenne de temps entre 2 pannes
B37: MTTR fevrier = | C37: =(SUM(Mars[NBR d''heures de panne])/(COUNTA(Mars[NBR d''heures de panne]))) -> 12.5 | D37: c'est le temps moyen de dépannage d'une machine
B38: DISPONIBILITE = | C38: =SUM((C36/(C37+C36))*100) -> 80 | D38: % de chance que la ligne soit disponible a un intant T

Sheet AVRIL
A1: Date | B1: machine | C1: NBR d'heures de panne | D1: détail
A2: 44229 | B2: Combi | C2: 10
A3: 44230 | B3: Conv BTES | C3: 15
B34: COMPTEUR SOUFFLEUSES ( PRIS LE DERNIER JOUR DU MOIS) = | C34: 1910
B35: TOTAL OUVERTURE LIGNE EN HEURES = | C35: =SUM(C34-MARS!C34) -> 10
B36: MTBF fevrier = | C36: =SUM(C35/COUNTA(Tableau13241718[NBR d''heures de panne])) -> 5 | D36: c'est moyenne de temps entre 2 pannes
B37: MTTR fevrier = | C37: =(SUM(Tableau13241718[NBR d''heures de panne])/(COUNTA(Tableau13241718[NBR d''heures de panne]))) -> 12.5 | D37: c'est le temps moyen de dépannage d'une machine
B38: DISPONIBILITE = | C38: =SUM((C36/(C37+C36))*100) -> 28.571429 | D38: % de chance que la ligne soit disponible a un intant T

Sheet MAI
A1: Date | B1: machine | C1: NBR d'heures de panne | D1: détail
A2: 44229 | B2: Combi | C2: 10
A3: 44230 | B3: Conv BTES | C3: 15
B34: COMPTEUR SOUFFLEUSES ( PRIS LE DERNIER JOUR DU MOIS) = | C34: 1930
B35: TOTAL OUVERTURE LIGNE EN HEURES = | C35: =SUM(C34-AVRIL!C34) -> 20
B36: MTBF fevrier = | C36: =SUM(C35/COUNTA(Tableau1324171819[NBR d''heures de panne])) -> 10 | D36: c'est moyenne de temps entre 2 pannes
B37: MTTR fevrier = | C37: =(SUM(Tableau1324171819[NBR d''heures de panne])/(COUNTA(Tableau1324171819[NBR d''heures de panne]))) -> 12.5 | D37: c'est le temps moyen de dépannage d'une machine
B38: DISPONIBILITE = | C38: =SUM((C36/(C37+C36))*100) -> 44.444444 | D38: % de chance que la ligne soit disponible a un intant T

Sheet JUIN
A1: Date | B1: machine | C1: NBR d'heures de panne | D1: détail
A2: 44229 | B2: Combi | C2: 10
A3: 44230 | B3: Conv BTES | C3: 15
B34: COMPTEUR SOUFFLEUSES ( PRIS LE DERNIER JOUR DU MOIS) = | C34: 1950
B35: TOTAL OUVERTURE LIGNE EN HEURES = | C35: =SUM(C34-MAI!C34) -> 20
B36: MTBF fevrier = | C36: =SUM(C35/COUNTA(Tableau132417181920[NBR d''heures de panne])) -> 10 | D36: c'est moyenne de temps entre 2 pannes
B37: MTTR fevrier = | C37: =(SUM(Tableau132417181920[NBR d''heures de panne])/(COUNTA(Tableau132417181920[NBR d''heures de panne]))) -> 12.5 | D37: c'est le temps moyen de dépannage d'une machine
B38: DISPONIBILITE = | C38: =SUM((C36/(C37+C36))*100) -> 44.444444 | D38: % de chance que la ligne soit disponible a un intant T

Sheet JUILLET
A1: Date | B1: machine | C1: NBR d'heures de panne | D1: détail
A2: 44229 | B2: Combi | C2: 10
A3: 44230 | B3: Conv BTES | C3: 15
B34: COMPTEUR SOUFFLEUSES ( PRIS LE DERNIER JOUR DU MOIS) = | C34: 1950
B35: TOTAL OUVERTURE LIGNE EN HEURES = | C35: =SUM(C34-JUIN!C34) -> 0
B36: MTBF fevrier = | C36: =SUM(C35/COUNTA(Tableau13241718192021[NBR d''heures de panne])) -> 0 | D36: c'est moyenne de temps entre 2 pannes
B37: MTTR fevrier = | C37: =(SUM(Tableau13241718192021[NBR d''heures de panne])/(COUNTA(Tableau13241718192021[NBR d''heures de panne]))) -> 12.5 | D37: c'est le temps moyen de dépannage d'une machine
B38: DISPONIBILITE = | C38: =SUM((C36/(C37+C36))*100) -> 0 | D38: % de chance que la ligne soit disponible a un intant T

Sheet AOUT
A1: Date | B1: machine | C1: NBR d'heures de panne | D1: détail
A2: 44229 | B2: Combi | C2: 10
A3: 44230 | B3: Conv BTES | C3: 15
B34: COMPTEUR SOUFFLEUSES ( PRIS LE DERNIER JOUR DU MOIS) = | C34: 1970
B35: TOTAL OUVERTURE LIGNE EN HEURES = | C35: =SUM(C34-JUILLET!C34) -> 20
B36: MTBF fevrier = | C36: =SUM(C35/COUNTA(Tableau1324171819202122[NBR d''heures de panne])) -> 10 | D36: c'est moyenne de temps entre 2 pannes
B37: MTTR fevrier = | C37: =(SUM(Tableau1324171819202122[NBR d''heures de panne])/(COUNTA(Tableau1324171819202122[NBR d''heures de panne]))) -> 12.5 | D37: c'est le temps moyen de dépannage d'une machine
B38: DISPONIBILITE = | C38: =SUM((C36/(C37+C36))*100) -> 44.444444 | D38: % de chance que la ligne soit disponible a un intant T

Sheet SEPTEMBRE
A1: Date | B1: machine | C1: NBR d'heures de panne | D1: détail
A2: 44229 | B2: Combi | C2: 10
A3: 44230 | B3: Conv BTES | C3: 15
B34: COMPTEUR SOUFFLEUSES ( PRIS LE DERNIER JOUR DU MOIS) = | C34: 1980
B35: TOTAL OUVERTURE LIGNE EN HEURES = | C35: =SUM(C34-AOUT!C34) -> 10
B36: MTBF fevrier = | C36: =SUM(C35/COUNTA(Tableau132417181920212223[NBR d''heures de panne])) -> 5 | D36: c'est moyenne de temps entre 2 pannes
B37: MTTR fevrier = | C37: =(SUM(Tableau132417181920212223[NBR d''heures de panne])/(COUNTA(Tableau132417181920212223[NBR d''heures de panne]))) -> 12.5 | D37: c'est le temps moyen de dépannage d'une machine
B38: DISPONIBILITE = | C38: =SUM((C36/(C37+C36))*100) -> 28.571429 | D38: % de chance que la ligne soit disponible a un intant T

Sheet OCTOBRE
A1: Date | B1: machine | C1: NBR d'heures de panne | D1: détail
A2: 44229 | B2: Combi | C2: 10
A3: 44230 | B3: Conv BTES | C3: 15
B34: COMPTEUR SOUFFLEUSES ( PRIS LE DERNIER JOUR DU MOIS) = | C34: 2000
B35: TOTAL OUVERTURE LIGNE EN HEURES = | C35: =SUM(C34-SEPTEMBRE!C34) -> 20
B36: MTBF fevrier = | C36: =SUM(C35/COUNTA(Tableau13241718192021222324[NBR d''heures de panne])) -> 10 | D36: c'est moyenne de temps entre 2 pannes
B37: MTTR fevrier = | C37: =(SUM(Tableau13241718192021222324[NBR d''heures de panne])/(COUNTA(Tableau13241718192021222324[NBR d''heures de panne]))) -> 12.5 | D37: c'est le temps moyen de dépannage d'une machine
B38: DISPONIBILITE = | C38: =SUM((C36/(C37+C36))*100) -> 44.444444 | D38: % de chance que la ligne soit disponible a un intant T

Sheet NOVEMBRE
A1: Date | B1: machine | C1: NBR d'heures de panne | D1: détail
A2: 44229 | B2: Combi | C2: 10
A3: 44230 | B3: Conv BTES | C3: 15
B34: COMPTEUR SOUFFLEUSES ( PRIS LE DERNIER JOUR DU MOIS) = | C34: 2030
B35: TOTAL OUVERTURE LIGNE EN HEURES = | C35: =SUM(C34-OCTOBRE!C34) -> 30
B36: MTBF fevrier = | C36: =SUM(C35/COUNTA(Tableau1324171819202122232425[NBR d''heures de panne])) -> 15 | D36: c'est moyenne de temps entre 2 pannes
B37: MTTR fevrier = | C37: =(SUM(Tableau1324171819202122232425[NBR d''heures de panne])/(COUNTA(Tableau1324171819202122232425[NBR d''heures de panne]))) -> 12.5 | D37: c'est le temps moyen de dépannage d'une machine
B38: DISPONIBILITE = | C38: =SUM((C36/(C37+C36))*100) -> 54.545455 | D38: % de chance que la ligne soit disponible a un intant T

Sheet DECEMBRE
A1: Date | B1: machine | C1: NBR d'heures de panne | D1: détail
A2: 44229 | B2: Combi | C2: 10
A3: 44230 | B3: Conv BTES | C3: 15
B34: COMPTEUR SOUFFLEUSES ( PRIS LE DERNIER JOUR DU MOIS) = | C34: 2050
B35: TOTAL OUVERTURE LIGNE EN HEURES = | C35: =SUM(C34-NOVEMBRE!C34) -> 20
B36: MTBF fevrier = | C36: =SUM(C35/COUNTA(Tableau132417181920212223242526[NBR d''heures de panne])) -> 10 | D36: c'est moyenne de temps entre 2 pannes
B37: MTTR fevrier = | C37: =(SUM(Tableau132417181920212223242526[NBR d''heures de panne])/(COUNTA(Tableau132417181920212223242526[NBR d''heures de panne]))) -> 12.5 | D37: c'est le temps moyen de dépannage d'une machine
B38: DISPONIBILITE = | C38: =SUM((C36/(C37+C36))*100) -> 44.444444 | D38: % de chance que la ligne soit disponible a un intant T

Sheet DATA
B1: Nombre d'heure de panne mensuel
A2: Machine | B2: janv | C2: fev | D2: mars | E2: avril | F2: mai | G2: juin | H2: juilliet | I2: aout | J2: septembre | K2: octobre | L2: novembre | M2: decembre
A3: Salle des eaux | B3: =SUMIFS(INDIRECT(B$2&"[[NBR d''heures de panne]:[NBR d''heures de panne]]"),INDIRECT(B$2&"[[machine]:[machine]]"),Data[[Machine]:[Machine]]) -> 17 | C3: =SUMIFS(INDIRECT(C$2&"[[NBR d''heures de panne]:[NBR d''heures de panne]]"),INDIRECT(C$2&"[[machine]:[machine]]"),Data[[Machine]:[Machine]]) -> 0 | D3: =SUMIFS(INDIRECT(D$2&"[[NBR d''heures de panne]:[NBR d''heures de panne]]"),INDIRECT(D$2&"[[machine]:[machine]]"),Data[[Machine]:[Machine]]) -> 0 | E3: =SUMIFS(INDIRECT(E$2&"[[NBR d''heures de panne]:[NBR d''heures de panne]]"),INDIRECT(E$2&"[[machine]:[machine]]"),Data[[Machine]:[Machine]]) -> #REF! | F3: =SUMIFS(INDIRECT(F$2&"[[NBR d''heures de panne]:[NBR d''heures de panne]]"),INDIRECT(F$2&"[[machine]:[machine]]"),Data[[Machine]:[Machine]]) -> #REF! | G3: =SUMIFS(INDIRECT(G$2&"[[NBR d''heures de panne]:[NBR d''heures de panne]]"),INDIRECT(G$2&"[[machine]:[machine]]"),Data[[Machine]:[Machine]]) -> #REF! | H3: =SUMIFS(INDIRECT(H$2&"[[NBR d''heures de panne]:[NBR d''heures de panne]]"),INDIRECT(H$2&"[[machine]:[machine]]"),Data[[Machine]:[Machine]]) -> #REF! | I3: =SUMIFS(INDIRECT(I$2&"[[NBR d''heures de panne]:[NBR d''heures de panne]]"),INDIRECT(I$2&"[[machine]:[machine]]"),Data[[Machine]:[Machine]]) -> #REF! | ... M3: =SUMIFS(INDIRECT(M$2&"[[NBR d''heures de panne]:[NBR d''heures de panne]]"),INDIRECT(M$2&"[[machine]:[machine]]"),Data[[Machine]:[Machine]]) -> #REF!
A4: Imeca | B4: =SUMIFS(INDIRECT(B$2&"[[NBR d''heures de panne]:[NBR d''heures de panne]]"),INDIRECT(B$2&"[[machine]:[machine]]"),Data[[Machine]:[Machine]]) -> 0 | C4: =SUMIFS(INDIRECT(C$2&"[[NBR d''heures de panne]:[NBR d''heures de panne]]"),INDIRECT(C$2&"[[machine]:[machine]]"),Data[[Machine]:[Machine]]) -> 0 | D4: =SUMIFS(INDIRECT(D$2&"[[NBR d''heures de panne]:[NBR d''heures de panne]]"),INDIRECT(D$2&"[[machine]:[machine]]"),Data[[Machine]:[Machine]]) -> 0 | E4: =SUMIFS(INDIRECT(E$2&"[[NBR d''heures de panne]:[NBR d''heures de panne]]"),INDIRECT(E$2&"[[machine]:[machine]]"),Data[[Machine]:[Machine]]) -> #REF! | F4: =SUMIFS(INDIRECT(F$2&"[[NBR d''heures de panne]:[NBR d''heures de panne]]"),INDIRECT(F$2&"[[machine]:[machine]]"),Data[[Machine]:[Machine]]) -> #REF! | G4: =SUMIFS(INDIRECT(G$2&"[[NBR d''heures de panne]:[NBR d''heures de panne]]"),INDIRECT(G$2&"[[machine]:[machine]]"),Data[[Machine]:[Machine]]) -> #REF! | H4: =SUMIFS(INDIRECT(H$2&"[[NBR d''heures de panne]:[NBR d''heures de panne]]"),INDIRECT(H$2&"[[machine]:[machine]]"),Data[[Machine]:[Machine]]) -> #REF! | I4: =SUMIFS(INDIRECT(I$2&"[[NBR d''heures de panne]:[NBR d''heures de panne]]"),INDIRECT(I$2&"[[machine]:[machine]]"),Data[[Machine]:[Machine]]) -> #REF! | ... M4: =SUMIFS(INDIRECT(M$2&"[[NBR d''heures de panne]:[NBR d''heures de panne]]"),INDIRECT(M$2&"[[machine]:[machine]]"),Data[[Machine]:[Machine]]) -> #REF!
A5: Combi | B5: =SUMIFS(INDIRECT(B$2&"[[NBR d''heures de panne]:[NBR d''heures de panne]]"),INDIRECT(B$2&"[[machine]:[machine]]"),Data[[Machine]:[Machine]]) -> 10 | C5: =SUMIFS(INDIRECT(C$2&"[[NBR d''heures de panne]:[NBR d''heures de panne]]"),INDIRECT(C$2&"[[machine]:[machine]]"),Data[[Machine]:[Machine]]) -> 10 | D5: =SUMIFS(INDIRECT(D$2&"[[NBR d''heures de panne]:[NBR d''heures de panne]]"),INDIRECT(D$2&"[[machine]:[machine]]"),Data[[Machine]:[Machine]]) -> 10 | E5: =SUMIFS(INDIRECT(E$2&"[[NBR d''heures de panne]:[NBR d''heures de panne]]"),INDIRECT(E$2&"[[machine]:[machine]]"),Data[[Machine]:[Machine]]) -> #REF! | F5: =SUMIFS(INDIRECT(F$2&"[[NBR d''heures de panne]:[NBR d''heures de panne]]"),INDIRECT(F$2&"[[machine]:[machine]]"),Data[[Machine]:[Machine]]) -> #REF! | G5: =SUMIFS(INDIRECT(G$2&"[[NBR d''heures de panne]:[NBR d''heures de panne]]"),INDIRECT(G$2&"[[machine]:[machine]]"),Data[[Machine]:[Machine]]) -> #REF! | H5: =SUMIFS(INDIRECT(H$2&"[[NBR d''heures de panne]:[NBR d''heures de panne]]"),INDIRECT(H$2&"[[machine]:[machine]]"),Data[[Machine]:[Machine]]) -> #REF! | I5: =SUMIFS(INDIRECT(I$2&"[[NBR d''heures de panne]:[NBR d''heures de panne]]"),INDIRECT(I$2&"[[machine]:[machine]]"),Data[[Machine]:[Machine]]) -> #REF! | ... M5: =SUMIFS(INDIRECT(M$2&"[[NBR d''heures de panne]:[NBR d''heures de panne]]"),INDIRECT(M$2&"[[machine]:[machine]]"),Data[[Machine]:[Machine]]) -> #REF!
A6: Laser | B6: =SUMIFS(INDIRECT(B$2&"[[NBR d''heures de panne]:[NBR d''heures de panne]]"),INDIRECT(B$2&"[[machine]:[machine]]"),Data[[Machine]:[Machine]]) -> 0 | C6: =SUMIFS(INDIRECT(C$2&"[[NBR d''heures de panne]:[NBR d''heures de panne]]"),INDIRECT(C$2&"[[machine]:[machine]]"),Data[[Machine]:[Machine]]) -> 0 | D6: =SUMIFS(INDIRECT(D$2&"[[NBR d''heures de panne]:[NBR d''heures de panne]]"),INDIRECT(D$2&"[[machine]:[machine]]"),Data[[Machine]:[Machine]]) -> 0 | E6: =SUMIFS(INDIRECT(E$2&"[[NBR d''heures de panne]:[NBR d''heures de panne]]"),INDIRECT(E$2&"[[machine]:[machine]]"),Data[[Machine]:[Machine]]) -> #REF! | F6: =SUMIFS(INDIRECT(F$2&"[[NBR d''heures de panne]:[NBR d''heures de panne]]"),INDIRECT(F$2&"[[machine]:[machine]]"),Data[[Machine]:[Machine]]) -> #REF! | G6: =SUMIFS(INDIRECT(G$2&"[[NBR d''heures de panne]:[NBR d''heures de panne]]"),INDIRECT(G$2&"[[machine]:[machine]]"),Data[[Machine]:[Machine]]) -> #REF! | H6: =SUMIFS(INDIRECT(H$2&"[[NBR d''heures de panne]:[NBR d''heures de panne]]"),INDIRECT(H$2&"[[machine]:[machine]]"),Data[[Machine]:[Machine]]) -> #REF! | I6: =SUMIFS(INDIRECT(I$2&"[[NBR d''heures de panne]:[NBR d''heures de panne]]"),INDIRECT(I$2&"[[machine]:[machine]]"),Data[[Machine]:[Machine]]) -> #REF! | ... M6: =SUMIFS(INDIRECT(M$2&"[[NBR d''heures de panne]:[NBR d''heures de panne]]"),INDIRECT(M$2&"[[machine]:[machine]]"),Data[[Machine]:[Machine]]) -> #REF!
A7: Checkmat | B7: =SUMIFS(INDIRECT(B$2&"[[NBR d''heures de panne]:[NBR d''heures de panne]]"),INDIRECT(B$2&"[[machine]:[machine]]"),Data[[Machine]:[Machine]]) -> 0 | C7: =SUMIFS(INDIRECT(C$2&"[[NBR d''heures de panne]:[NBR d''heures de panne]]"),INDIRECT(C$2&"[[machine]:[machine]]"),Data[[Machine]:[Machine]]) -> 0 | D7: =SUMIFS(INDIRECT(D$2&"[[NBR d''heures de panne]:[NBR d''heures de panne]]"),INDIRECT(D$2&"[[machine]:[machine]]"),Data[[Machine]:[Machine]]) -> 0 | E7: =SUMIFS(INDIRECT(E$2&"[[NBR d''heures de panne]:[NBR d''heures de panne]]"),INDIRECT(E$2&"[[machine]:[machine]]"),Data[[Machine]:[Machine]]) -> #REF! | F7: =SUMIFS(INDIRECT(F$2&"[[NBR d''heures de panne]:[NBR d''heures de panne]]"),INDIRECT(F$2&"[[machine]:[machine]]"),Data[[Machine]:[Machine]]) -> #REF! | G7: =SUMIFS(INDIRECT(G$2&"[[NBR d''heures de panne]:[NBR d''heures de panne]]"),INDIRECT(G$2&"[[machine]:[machine]]"),Data[[Machine]:[Machine]]) -> #REF! | H7: =SUMIFS(INDIRECT(H$2&"[[NBR d''heures de panne]:[NBR d''heures de panne]]"),INDIRECT(H$2&"[[machine]:[machine]]"),Data[[Machine]:[Machine]]) -> #REF! | I7: =SUMIFS(INDIRECT(I$2&"[[NBR d''heures de panne]:[NBR d''heures de panne]]"),INDIRECT(I$2&"[[machine]:[machine]]"),Data[[Machine]:[Machine]]) -> #REF! | ... M7: =SUMIFS(INDIRECT(M$2&"[[NBR d''heures de panne]:[NBR d''heures de panne]]"),INDIRECT(M$2&"[[machine]:[machine]]"),Data[[Machine]:[Machine]]) -> #REF!
A8: Etiqueteuse 34 | B8: =SUMIFS(INDIRECT(B$2&"[[NBR d''heures de panne]:[NBR d''heures de panne]]"),INDIRECT(B$2&"[[machine]:[machine]]"),Data[[Machine]:[Machine]]) -> 0 | C8: =SUMIFS(INDIRECT(C$2&"[[NBR d''heures de panne]:[NBR d''heures de panne]]"),INDIRECT(C$2&"[[machine]:[machine]]"),Data[[Machine]:[Machine]]) -> 0 | D8: =SUMIFS(INDIRECT(D$2&"[[NBR d''heures de panne]:[NBR d''heures de panne]]"),INDIRECT(D$2&"[[machine]:[machine]]"),Data[[Machine]:[Machine]]) -> 0 | E8: =SUMIFS(INDIRECT(E$2&"[[NBR d''heures de panne]:[NBR d''heures de panne]]"),INDIRECT(E$2&"[[machine]:[machine]]"),Data[[Machine]:[Machine]]) -> #REF! | F8: =SUMIFS(INDIRECT(F$2&"[[NBR d''heures de panne]:[NBR d''heures de panne]]"),INDIRECT(F$2&"[[machine]:[machine]]"),Data[[Machine]:[Machine]]) -> #REF! | G8: =SUMIFS(INDIRECT(G$2&"[[NBR d''heures de panne]:[NBR d''heures de panne]]"),INDIRECT(G$2&"[[machine]:[machine]]"),Data[[Machine]:[Machine]]) -> #REF! | H8: =SUMIFS(INDIRECT(H$2&"[[NBR d''heures de panne]:[NBR d''heures de panne]]"),INDIRECT(H$2&"[[machine]:[machine]]"),Data[[Machine]:[Machine]]) -> #REF! | I8: =SUMIFS(INDIRECT(I$2&"[[NBR d''heures de panne]:[NBR d''heures de panne]]"),INDIRECT(I$2&"[[machine]:[machine]]"),Data[[Machine]:[Machine]]) -> #REF! | ... M8: =SUMIFS(INDIRECT(M$2&"[[NBR d''heures de panne]:[NBR d''heures de panne]]"),INDIRECT(M$2&"[[machine]:[machine]]"),Data[[Machine]:[Machine]]) -> #REF!
A9: Etiqueteuse 35 | B9: =SUMIFS(INDIRECT(B$2&"[[NBR d''heures de panne]:[NBR d''heures de panne]]"),INDIRECT(B$2&"[[machine]:[machine]]"),Data[[Machine]:[Machine]]) -> 0 | C9: =SUMIFS(INDIRECT(C$2&"[[NBR d''heures de panne]:[NBR d''heures de panne]]"),INDIRECT(C$2&"[[machine]:[machine]]"),Data[[Machine]:[Machine]]) -> 0 | D9: =SUMIFS(INDIRECT(D$2&"[[NBR d''heures de panne]:[NBR d''heures de panne]]"),INDIRECT(D$2&"[[machine]:[machine]]"),Data[[Machine]:[Machine]]) -> 0 | E9: =SUMIFS(INDIRECT(E$2&"[[NBR d''heures de panne]:[NBR d''heures de panne]]"),INDIRECT(E$2&"[[machine]:[machine]]"),Data[[Machine]:[Machine]]) -> #REF! | F9: =SUMIFS(INDIRECT(F$2&"[[NBR d''heures de panne]:[NBR d''heures de panne]]"),INDIRECT(F$2&"[[machine]:[machine]]"),Data[[Machine]:[Machine]]) -> #REF! | G9: =SUMIFS(INDIRECT(G$2&"[[NBR d''heures de panne]:[NBR d''heures de panne]]"),INDIRECT(G$2&"[[machine]:[machine]]"),Data[[Machine]:[Machine]]) -> #REF! | H9: =SUMIFS(INDIRECT(H$2&"[[NBR d''heures de panne]:[NBR d''heures de panne]]"),INDIRECT(H$2&"[[machine]:[machine]]"),Data[[Machine]:[Machine]]) -> #REF! | I9: =SUMIFS(INDIRECT(I$2&"[[NBR d''heures de panne]:[NBR d''heures de panne]]"),INDIRECT(I$2&"[[machine]:[machine]]"),Data[[Machine]:[Machine]]) -> #REF! | ... M9: =SUMIFS(INDIRECT(M$2&"[[NBR d''heures de panne]:[NBR d''heures de panne]]"),INDIRECT(M$2&"[[machine]:[machine]]"),Data[[Machine]:[Machine]]) -> #REF!
A10: Fardeleuse | B10: =SUMIFS(INDIRECT(B$2&"[[NBR d''heures de panne]:[NBR d''heures de panne]]"),INDIRECT(B$2&"[[machine]:[machine]]"),Data[[Machine]:[Machine]]) -> 0 | C10: =SUMIFS(INDIRECT(C$2&"[[NBR d''heures de panne]:[NBR d''heures de panne]]"),INDIRECT(C$2&"[[machine]:[machine]]"),Data[[Machine]:[Machine]]) -> 0 | D10: =SUMIFS(INDIRECT(D$2&"[[NBR d''heures de panne]:[NBR d''heures de panne]]"),INDIRECT(D$2&"[[machine]:[machine]]"),Data[[Machine]:[Machine]]) -> 0 | E10: =SUMIFS(INDIRECT(E$2&"[[NBR d''heures de panne]:[NBR d''heures de panne]]"),INDIRECT(E$2&"[[machine]:[machine]]"),Data[[Machine]:[Machine]]) -> #REF! | F10: =SUMIFS(INDIRECT(F$2&"[[NBR d''heures de panne]:[NBR d''heures de panne]]"),INDIRECT(F$2&"[[machine]:[machine]]"),Data[[Machine]:[Machine]]) -> #REF! | G10: =SUMIFS(INDIRECT(G$2&"[[NBR d''heures de panne]:[NBR d''heures de panne]]"),INDIRECT(G$2&"[[machine]:[machine]]"),Data[[Machine]:[Machine]]) -> #REF! | H10: =SUMIFS(INDIRECT(H$2&"[[NBR d''heures de panne]:[NBR d''heures de panne]]"),INDIRECT(H$2&"[[machine]:[machine]]"),Data[[Machine]:[Machine]]) -> #REF! | I10: =SUMIFS(INDIRECT(I$2&"[[NBR d''heures de panne]:[NBR d''heures de panne]]"),INDIRECT(I$2&"[[machine]:[machine]]"),Data[[Machine]:[Machine]]) -> #REF! | ... M10: =SUMIFS(INDIRECT(M$2&"[[NBR d''heures de panne]:[NBR d''heures de panne]]"),INDIRECT(M$2&"[[machine]:[machine]]"),Data[[Machine]:[Machine]]) -> #REF!
A11: Surfilmeuse | B11: =SUMIFS(INDIRECT(B$2&"[[NBR d''heures de panne]:[NBR d''heures de panne]]"),INDIRECT(B$2&"[[machine]:[machine]]"),Data[[Machine]:[Machine]]) -> 0 | C11: =SUMIFS(INDIRECT(C$2&"[[NBR d''heures de panne]:[NBR d''heures de panne]]"),INDIRECT(C$2&"[[machine]:[machine]]"),Data[[Machine]:[Machine]]) -> 0 | D11: =SUMIFS(INDIRECT(D$2&"[[NBR d''heures de panne]:[NBR d''heures de panne]]"),INDIRECT(D$2&"[[machine]:[machine]]"),Data[[Machine]:[Machine]]) -> 0 | E11: =SUMIFS(INDIRECT(E$2&"[[NBR d''heures de panne]:[NBR d''heures de panne]]"),INDIRECT(E$2&"[[machine]:[machine]]"),Data[[Machine]:[Machine]]) -> #REF! | F11: =SUMIFS(INDIRECT(F$2&"[[NBR d''heures de panne]:[NBR d''heures de panne]]"),INDIRECT(F$2&"[[machine]:[machine]]"),Data[[Machine]:[Machine]]) -> #REF! | G11: =SUMIFS(INDIRECT(G$2&"[[NBR d''heures de panne]:[NBR d''heures de panne]]"),INDIRECT(G$2&"[[machine]:[machine]]"),Data[[Machine]:[Machine]]) -> #REF! | H11: =SUMIFS(INDIRECT(H$2&"[[NBR d''heures de panne]:[NBR d''heures de panne]]"),INDIRECT(H$2&"[[machine]:[machine]]"),Data[[Machine]:[Machine]]) -> #REF! | I11: =SUMIFS(INDIRECT(I$2&"[[NBR d''heures de panne]:[NBR d''heures de panne]]"),INDIRECT(I$2&"[[machine]:[machine]]"),Data[[Machine]:[Machine]]) -> #REF! | ... M11: =SUMIFS(INDIRECT(M$2&"[[NBR d''heures de panne]:[NBR d''heures de panne]]"),INDIRECT(M$2&"[[machine]:[machine]]"),Data[[Machine]:[Machine]]) -> #REF!
A12: Poigneteuse | B12: =SUMIFS(INDIRECT(B$2&"[[NBR d''heures de panne]:[NBR d''heures de panne]]"),INDIRECT(B$2&"[[machine]:[machine]]"),Data[[Machine]:[Machine]]) -> 0 | C12: =SUMIFS(INDIRECT(C$2&"[[NBR d''heures de panne]:[NBR d''heures de panne]]"),INDIRECT(C$2&"[[machine]:[machine]]"),Data[[Machine]:[Machine]]) -> 0 | D12: =SUMIFS(INDIRECT(D$2&"[[NBR d''heures de panne]:[NBR d''heures de panne]]"),INDIRECT(D$2&"[[machine]:[machine]]"),Data[[Machine]:[Machine]]) -> 0 | E12: =SUMIFS(INDIRECT(E$2&"[[NBR d''heures de panne]:[NBR d''heures de panne]]"),INDIRECT(E$2&"[[machine]:[machine]]"),Data[[Machine]:[Machine]]) -> #REF! | F12: =SUMIFS(INDIRECT(F$2&"[[NBR d''heures de panne]:[NBR d''heures de panne]]"),INDIRECT(F$2&"[[machine]:[machine]]"),Data[[Machine]:[Machine]]) -> #REF! | G12: =SUMIFS(INDIRECT(G$2&"[[NBR d''heures de panne]:[NBR d''heures de panne]]"),INDIRECT(G$2&"[[machine]:[machine]]"),Data[[Machine]:[Machine]]) -> #REF! | H12: =SUMIFS(INDIRECT(H$2&"[[NBR d''heures de panne]:[NBR d''heures de panne]]"),INDIRECT(H$2&"[[machine]:[machine]]"),Data[[Machine]:[Machine]]) -> #REF! | I12: =SUMIFS(INDIRECT(I$2&"[[NBR d''heures de panne]:[NBR d''heures de panne]]"),INDIRECT(I$2&"[[machine]:[machine]]"),Data[[Machine]:[Machine]]) -> #REF! | ... M12: =SUMIFS(INDIRECT(M$2&"[[NBR d''heures de panne]:[NBR d''heures de panne]]"),INDIRECT(M$2&"[[machine]:[machine]]"),Data[[Machine]:[Machine]]) -> #REF!
A13: Palettiseur | B13: =SUMIFS(INDIRECT(B$2&"[[NBR d''heures de panne]:[NBR d''heures de panne]]"),INDIRECT(B$2&"[[machine]:[machine]]"),Data[[Machine]:[Machine]]) -> 0 | C13: =SUMIFS(INDIRECT(C$2&"[[NBR d''heures de panne]:[NBR d''heures de panne]]"),INDIRECT(C$2&"[[machine]:[machine]]"),Data[[Machine]:[Machine]]) -> 0 | D13: =SUMIFS(INDIRECT(D$2&"[[NBR d''heures de panne]:[NBR d''heures de panne]]"),INDIRECT(D$2&"[[machine]:[machine]]"),Data[[Machine]:[Machine]]) -> 0 | E13: =SUMIFS(INDIRECT(E$2&"[[NBR d''heures de panne]:[NBR d''heures de panne]]"),INDIRECT(E$2&"[[machine]:[machine]]"),Data[[Machine]:[Machine]]) -> #REF! | F13: =SUMIFS(INDIRECT(F$2&"[[NBR d''heures de panne]:[NBR d''heures de panne]]"),INDIRECT(F$2&"[[machine]:[machine]]"),Data[[Machine]:[Machine]]) -> #REF! | G13: =SUMIFS(INDIRECT(G$2&"[[NBR d''heures de panne]:[NBR d''heures de panne]]"),INDIRECT(G$2&"[[machine]:[machine]]"),Data[[Machine]:[Machine]]) -> #REF! | H13: =SUMIFS(INDIRECT(H$2&"[[NBR d''heures de panne]:[NBR d''heures de panne]]"),INDIRECT(H$2&"[[machine]:[machine]]"),Data[[Machine]:[Machine]]) -> #REF! | I13: =SUMIFS(INDIRECT(I$2&"[[NBR d''heures de panne]:[NBR d''heures de panne]]"),INDIRECT(I$2&"[[machine]:[machine]]"),Data[[Machine]:[Machine]]) -> #REF! | ... M13: =SUMIFS(INDIRECT(M$2&"[[NBR d''heures de panne]:[NBR d''heures de panne]]"),INDIRECT(M$2&"[[machine]:[machine]]"),Data[[Machine]:[Machine]]) -> #REF!
A14: Bema TU | B14: =SUMIFS(INDIRECT(B$2&"[[NBR d''heures de panne]:[NBR d''heures de panne]]"),INDIRECT(B$2&"[[machine]:[machine]]"),Data[[Machine]:[Machine]]) -> 0 | C14: =SUMIFS(INDIRECT(C$2&"[[NBR d''heures de panne]:[NBR d''heures de panne]]"),INDIRECT(C$2&"[[machine]:[machine]]"),Data[[Machine]:[Machine]]) -> 0 | D14: =SUMIFS(INDIRECT(D$2&"[[NBR d''heures de panne]:[NBR d''heures de panne]]"),INDIRECT(D$2&"[[machine]:[machine]]"),Data[[Machine]:[Machine]]) -> 0 | E14: =SUMIFS(INDIRECT(E$2&"[[NBR d''heures de panne]:[NBR d''heures de panne]]"),INDIRECT(E$2&"[[machine]:[machine]]"),Data[[Machine]:[Machine]]) -> #REF! | F14: =SUMIFS(INDIRECT(F$2&"[[NBR d''heures de panne]:[NBR d''heures de panne]]"),INDIRECT(F$2&"[[machine]:[machine]]"),Data[[Machine]:[Machine]]) -> #REF! | G14: =SUMIFS(INDIRECT(G$2&"[[NBR d''heures de panne]:[NBR d''heures de panne]]"),INDIRECT(G$2&"[[machine]:[machine]]"),Data[[Machine]:[Machine]]) -> #REF! | H14: =SUMIFS(INDIRECT(H$2&"[[NBR d''heures de panne]:[NBR d''heures de panne]]"),INDIRECT(H$2&"[[machine]:[machine]]"),Data[[Machine]:[Machine]]) -> #REF! | I14: =SUMIFS(INDIRECT(I$2&"[[NBR d''heures de panne]:[NBR d''heures de panne]]"),INDIRECT(I$2&"[[machine]:[machine]]"),Data[[Machine]:[Machine]]) -> #REF! | ... M14: =SUMIFS(INDIRECT(M$2&"[[NBR d''heures de panne]:[NBR d''heures de panne]]"),INDIRECT(M$2&"[[machine]:[machine]]"),Data[[Machine]:[Machine]]) -> #REF!
... A18: Conv Pack | B18: =SUMIFS(INDIRECT(B$2&"[[NBR d''heures de panne]:[NBR d''heures de panne]]"),INDIRECT(B$2&"[[machine]:[machine]]"),Data[[Machine]:[Machine]]) -> 0 | C18: =SUMIFS(INDIRECT(C$2&"[[NBR d''heures de panne]:[NBR d''heures de panne]]"),INDIRECT(C$2&"[[machine]:[machine]]"),Data[[Machine]:[Machine]]) -> 0 | D18: =SUMIFS(INDIRECT(D$2&"[[NBR d''heures de panne]:[NBR d''heures de panne]]"),INDIRECT(D$2&"[[machine]:[machine]]"),Data[[Machine]:[Machine]]) -> 0 | E18: =SUMIFS(INDIRECT(E$2&"[[NBR d''heures de panne]:[NBR d''heures de panne]]"),INDIRECT(E$2&"[[machine]:[machine]]"),Data[[Machine]:[Machine]]) -> #REF! | F18: =SUMIFS(INDIRECT(F$2&"[[NBR d''heures de panne]:[NBR d''heures de panne]]"),INDIRECT(F$2&"[[machine]:[machine]]"),Data[[Machine]:[Machine]]) -> #REF! | G18: =SUMIFS(INDIRECT(G$2&"[[NBR d''heures de panne]:[NBR d''heures de panne]]"),INDIRECT(G$2&"[[machine]:[machine]]"),Data[[Machine]:[Machine]]) -> #REF! | H18: =SUMIFS(INDIRECT(H$2&"[[NBR d''heures de panne]:[NBR d''heures de panne]]"),INDIRECT(H$2&"[[machine]:[machine]]"),Data[[Machine]:[Machine]]) -> #REF! | I18: =SUMIFS(INDIRECT(I$2&"[[NBR d''heures de panne]:[NBR d''heures de panne]]"),INDIRECT(I$2&"[[machine]:[machine]]"),Data[[Machine]:[Machine]]) -> #REF! | ... M18: =SUMIFS(INDIRECT(M$2&"[[NBR d''heures de panne]:[NBR d''heures de panne]]"),INDIRECT(M$2&"[[machine]:[machine]]"),Data[[Machine]:[Machine]]) -> #REF!

Sheet Synthese
