Workbook

Sheet Planning
C5: N° semaine : | D5: =_xlfn.ISOWEEKNUM(D7) -> 40 | E5: =_xlfn.ISOWEEKNUM(E7) -> 40 | F5: =_xlfn.ISOWEEKNUM(F7) -> 40 | G5: =_xlfn.ISOWEEKNUM(G7) -> 40 | H5: =_xlfn.ISOWEEKNUM(H7) -> 40 | I5: =_xlfn.ISOWEEKNUM(I7) -> 41 | J5: =_xlfn.ISOWEEKNUM(J7) -> 41 | K5: =_xlfn.ISOWEEKNUM(K7) -> 41 | ... M5: =_xlfn.ISOWEEKNUM(M7) -> 41
D6: =TEXT(D7,"jjjj") -> lundi | E6: =TEXT(E7,"jjjj") -> mardi | F6: =TEXT(F7,"jjjj") -> mercredi | G6: =TEXT(G7,"jjjj") -> jeudi | H6: =TEXT(H7,"jjjj") -> vendredi | I6: =TEXT(I7,"jjjj") -> lundi | J6: =TEXT(J7,"jjjj") -> mardi | K6: =TEXT(K7,"jjjj") -> mercredi | ... M6: =TEXT(M7,"jjjj") -> vendredi
A7: Site | B7: Nom | C7: Prénom | D7: 44473 | E7: =D7+IF(WEEKDAY(D7,2)=5,3,1) -> 44474 | F7: =E7+IF(WEEKDAY(E7,2)=5,3,1) -> 44475 | G7: =F7+IF(WEEKDAY(F7,2)=5,3,1) -> 44476 | H7: =G7+IF(WEEKDAY(G7,2)=5,3,1) -> 44477 | I7: =H7+IF(WEEKDAY(H7,2)=5,3,1) -> 44480 | J7: =I7+IF(WEEKDAY(I7,2)=5,3,1) -> 44481 | K7: =J7+IF(WEEKDAY(J7,2)=5,3,1) -> 44482 | L7: =K7+IF(WEEKDAY(K7,2)=5,3,1) -> 44483 | M7: =L7+IF(WEEKDAY(L7,2)=5,3,1) -> 44484
A8: Site A | B8: AA | C8: André | D8: Absent | E8: Site | F8: Télétravail | G8: Absent | H8: Absent | I8: Absent | J8: Site | K8: Télétravail | L8: Absent | M8: Absent
A9: Site A | B9: BB | C9: Bernard | D9: Site | E9: Site | F9: Site | G9: Site | H9: Télétravail | I9: Site | J9: Site | K9: Site | L9: Site | M9: Télétravail
A10: Site A | B10: CC | C10: Carl | D10: Site | E10: Site | F10: Site | G10: Site | H10: Télétravail | I10: Site | J10: Site | K10: Site | L10: Site | M10: Télétravail
A11: Site A | B11: DD | C11: Damien | D11: Site | E11: Site | F11: Site | G11: Télétravail | H11: Absent | I11: Site | J11: Site | K11: Site | L11: Télétravail | M11: Absent
A12: Site B | B12: EE | C12: Eloïse | D12: Télétravail | E12: Site | F12: Site | G12: Site | H12: Site | I12: Télétravail | J12: Site | K12: Site | L12: Site | M12: Site
A13: Site B | B13: FF | C13: Fanny | D13: Site | E13: Télétravail | F13: Site | G13: Site | H13: Site | I13: Site | J13: Télétravail | K13: Site | L13: Site | M13: Site
A14: Site B | B14: GG | C14: Gaëlle | D14: Site | E14: Site | F14: Télétravail | G14: Site | H14: Site | I14: Site | J14: Site | K14: Télétravail | L14: Site | M14: Site
A15: Site B | B15: HH | C15: Héléna | D15: Télétravail | E15: Site | F15: Site | G15: Absent | H15: Site | I15: Télétravail | J15: Site | K15: Site | L15: Absent | M15: Site
A16: Effectif total | C16: =COUNTIF(Planning!$A$8:$A$15,"*"&"Site"&"*") -> 8
B17: Total Site A | D17: =COUNTIFS(Planning!$A$8:$A$15,"Site A",Planning!$D$8:$D$15,"*"&"Télétravail"&"*") -> 0 | E17: =COUNTIFS(Planning!$A$8:$A$15,"Site A",Planning!$E$8:$E$15,"*"&"Télétravail"&"*") -> 0 | F17: =COUNTIFS(Planning!$A$8:$A$15,"Site A",Planning!$F$8:$F$15,"*"&"Télétravail"&"*") -> 1 | G17: =COUNTIFS(Planning!$A$8:$A$15,"Site A",Planning!$G$8:$G$15,"*"&"Télétravail"&"*") -> 1 | H17: =COUNTIFS(Planning!$A$8:$A$15,"Site A",Planning!$H$8:$H$15,"*"&"Télétravail"&"*") -> 2 | I17: =COUNTIFS(Planning!$A$8:$A$15,"Site A",Planning!$I$8:$I$15,"*"&"Télétravail"&"*") -> 0 | J17: =COUNTIFS(Planning!$A$8:$A$15,"Site A",Planning!$J$8:$J$15,"*"&"Télétravail"&"*") -> 0 | K17: =COUNTIFS(Planning!$A$8:$A$15,"Site A",Planning!$K$8:$K$15,"*"&"Télétravail"&"*") -> 1 | L17: =COUNTIFS(Planning!$A$8:$A$15,"Site A",Planning!$L$8:$L$15,"*"&"Télétravail"&"*") -> 1 | M17: =COUNTIFS(Planning!$A$8:$A$15,"Site A",Planning!$M$8:$M$15,"*"&"Télétravail"&"*") -> 2
B18: Total Site B | D18: =COUNTIFS(Planning!$A$8:$A$15,"Site B",Planning!$D$8:$D$15,"*"&"Télétravail"&"*") -> 2 | E18: =COUNTIFS(Planning!$A$8:$A$15,"Site B",Planning!$E$8:$E$15,"*"&"Télétravail"&"*") -> 1 | F18: =COUNTIFS(Planning!$A$8:$A$15,"Site B",Planning!$F$8:$F$15,"*"&"Télétravail"&"*") -> 1 | G18: =COUNTIFS(Planning!$A$8:$A$15,"Site B",Planning!$G$8:$G$15,"*"&"Télétravail"&"*") -> 0 | H18: =COUNTIFS(Planning!$A$8:$A$15,"Site B",Planning!$H$8:$H$15,"*"&"Télétravail"&"*") -> 0 | I18: =COUNTIFS(Planning!$A$8:$A$15,"Site B",Planning!$I$8:$I$15,"*"&"Télétravail"&"*") -> 2 | J18: =COUNTIFS(Planning!$A$8:$A$15,"Site B",Planning!$J$8:$J$15,"*"&"Télétravail"&"*") -> 1 | K18: =COUNTIFS(Planning!$A$8:$A$15,"Site B",Planning!$K$8:$K$15,"*"&"Télétravail"&"*") -> 1 | L18: =COUNTIFS(Planning!$A$8:$A$15,"Site B",Planning!$L$8:$L$15,"*"&"Télétravail"&"*") -> 0 | M18: =COUNTIFS(Planning!$A$8:$A$15,"Site B",Planning!$M$8:$M$15,"*"&"Télétravail"&"*") -> 0
B20: Total | D20: =D18+D17 -> 2 | E20: =E18+E17 -> 1 | F20: =F18+F17 -> 2 | G20: =G18+G17 -> 1 | H20: =H18+H17 -> 2 | I20: =I18+I17 -> 2 | J20: =J18+J17 -> 1 | K20: =K18+K17 -> 2 | ... M20: =M18+M17 -> 2
B21: % télétravail | D21: =D$20/$C$16 -> 0.25 | E21: =E$20/$C$16 -> 0.125 | F21: =F$20/$C$16 -> 0.25 | G21: =G$20/$C$16 -> 0.125 | H21: =H$20/$C$16 -> 0.25 | I21: =I$20/$C$16 -> 0.25 | J21: =J$20/$C$16 -> 0.125 | K21: =K$20/$C$16 -> 0.25 | ... M21: =M$20/$C$16 -> 0.25
I23: Poste | J23: Télétravail
A25: Semaine | B25: Jour | C25: Date | D25: Site | E25: Nom | F25: Prénom | G25: Poste | I25: Nombre de Nom | K25: Jour
A26: =_xlfn.ISOWEEKNUM(C26) -> 40 | B26: =TEXT(C26,"jjjj") -> lundi | C26: 44473 | D26: Site A | E26: AA | F26: André | G26: Absent | I26: Nom | J26: Prénom | K26: lundi | L26: mardi | M26: mercredi | N26: jeudi | O26: vendredi | P26: Total général | T26: lundi | U26: mardi | V26: mercredi | W26: jeudi | X26: vendredi | Y26: Total
A27: =_xlfn.ISOWEEKNUM(C27) -> 40 | B27: =TEXT(C27,"jjjj") -> lundi | C27: 44473 | D27: Site A | E27: BB | F27: Bernard | G27: Site | I27: AA | J27: André | M27: 2 | P27: 2 | R27: AA | S27: André | T27: {=SUMPRODUCT(($B$8:$B$15=$R27)*($C$8:$C$15=$S27)*(OFFSET($D$6,,,1,COUNTA(7:7)-3)=T$26)*(OFFSET($D$8,,,8,COUNTA(7:7)-3)="Télétravail"))} -> 0 | U27: {=SUMPRODUCT(($B$8:$B$15=$R27)*($C$8:$C$15=$S27)*(OFFSET($D$6,,,1,COUNTA(7:7)-3)=U$26)*(OFFSET($D$8,,,8,COUNTA(7:7)-3)="Télétravail"))} -> 0 | V27: {=SUMPRODUCT(($B$8:$B$15=$R27)*($C$8:$C$15=$S27)*(OFFSET($D$6,,,1,COUNTA(7:7)-3)=V$26)*(OFFSET($D$8,,,8,COUNTA(7:7)-3)="Télétravail"))} -> 2 | W27: {=SUMPRODUCT(($B$8:$B$15=$R27)*($C$8:$C$15=$S27)*(OFFSET($D$6,,,1,COUNTA(7:7)-3)=W$26)*(OFFSET($D$8,,,8,COUNTA(7:7)-3)="Télétravail"))} -> 0 | X27: {=SUMPRODUCT(($B$8:$B$15=$R27)*($C$8:$C$15=$S27)*(OFFSET($D$6,,,1,COUNTA(7:7)-3)=X$26)*(OFFSET($D$8,,,8,COUNTA(7:7)-3)="Télétravail"))} -> 0 | Y27: =SUM(T27:X27) -> 2
A28: =_xlfn.ISOWEEKNUM(C28) -> 40 | B28: =TEXT(C28,"jjjj") -> lundi | C28: 44473 | D28: Site A | E28: CC | F28: Carl | G28: Site | I28: BB | J28: Bernard | O28: 2 | P28: 2 | R28: BB | S28: Bernard | T28: {=SUMPRODUCT(($B$8:$B$15=$R28)*($C$8:$C$15=$S28)*(OFFSET($D$6,,,1,COUNTA(8:8)-3)=T$26)*(OFFSET($D$8,,,8,COUNTA(8:8)-3)="Télétravail"))} -> 0 | U28: {=SUMPRODUCT(($B$8:$B$15=$R28)*($C$8:$C$15=$S28)*(OFFSET($D$6,,,1,COUNTA(8:8)-3)=U$26)*(OFFSET($D$8,,,8,COUNTA(8:8)-3)="Télétravail"))} -> 0 | V28: {=SUMPRODUCT(($B$8:$B$15=$R28)*($C$8:$C$15=$S28)*(OFFSET($D$6,,,1,COUNTA(8:8)-3)=V$26)*(OFFSET($D$8,,,8,COUNTA(8:8)-3)="Télétravail"))} -> 0 | W28: {=SUMPRODUCT(($B$8:$B$15=$R28)*($C$8:$C$15=$S28)*(OFFSET($D$6,,,1,COUNTA(8:8)-3)=W$26)*(OFFSET($D$8,,,8,COUNTA(8:8)-3)="Télétravail"))} -> 0 | X28: {=SUMPRODUCT(($B$8:$B$15=$R28)*($C$8:$C$15=$S28)*(OFFSET($D$6,,,1,COUNTA(8:8)-3)=X$26)*(OFFSET($D$8,,,8,COUNTA(8:8)-3)="Télétravail"))} -> 2 | Y28: =SUM(T28:X28) -> 2
A29: =_xlfn.ISOWEEKNUM(C29) -> 40 | B29: =TEXT(C29,"jjjj") -> lundi | C29: 44473 | D29: Site A | E29: DD | F29: Damien | G29: Site | I29: CC | J29: Carl | O29: 2 | P29: 2 | R29: CC | S29: Carl | T29: {=SUMPRODUCT(($B$8:$B$15=$R29)*($C$8:$C$15=$S29)*(OFFSET($D$6,,,1,COUNTA(9:9)-3)=T$26)*(OFFSET($D$8,,,8,COUNTA(9:9)-3)="Télétravail"))} -> 0 | U29: {=SUMPRODUCT(($B$8:$B$15=$R29)*($C$8:$C$15=$S29)*(OFFSET($D$6,,,1,COUNTA(9:9)-3)=U$26)*(OFFSET($D$8,,,8,COUNTA(9:9)-3)="Télétravail"))} -> 0 | V29: {=SUMPRODUCT(($B$8:$B$15=$R29)*($C$8:$C$15=$S29)*(OFFSET($D$6,,,1,COUNTA(9:9)-3)=V$26)*(OFFSET($D$8,,,8,COUNTA(9:9)-3)="Télétravail"))} -> 0 | W29: {=SUMPRODUCT(($B$8:$B$15=$R29)*($C$8:$C$15=$S29)*(OFFSET($D$6,,,1,COUNTA(9:9)-3)=W$26)*(OFFSET($D$8,,,8,COUNTA(9:9)-3)="Télétravail"))} -> 0 | X29: {=SUMPRODUCT(($B$8:$B$15=$R29)*($C$8:$C$15=$S29)*(OFFSET($D$6,,,1,COUNTA(9:9)-3)=X$26)*(OFFSET($D$8,,,8,COUNTA(9:9)-3)="Télétravail"))} -> 2 | Y29: =SUM(T29:X29) -> 2
A30: =_xlfn.ISOWEEKNUM(C30) -> 40 | B30: =TEXT(C30,"jjjj") -> lundi | C30: 44473 | D30: Site B | E30: EE | F30: Eloïse | G30: Télétravail | I30: DD | J30: Damien | N30: 2 | P30: 2 | R30: DD | S30: Damien | T30: {=SUMPRODUCT(($B$8:$B$15=$R30)*($C$8:$C$15=$S30)*(OFFSET($D$6,,,1,COUNTA(10:10)-3)=T$26)*(OFFSET($D$8,,,8,COUNTA(10:10)-3)="Télétravail"))} -> 0 | U30: {=SUMPRODUCT(($B$8:$B$15=$R30)*($C$8:$C$15=$S30)*(OFFSET($D$6,,,1,COUNTA(10:10)-3)=U$26)*(OFFSET($D$8,,,8,COUNTA(10:10)-3)="Télétravail"))} -> 0 | V30: {=SUMPRODUCT(($B$8:$B$15=$R30)*($C$8:$C$15=$S30)*(OFFSET($D$6,,,1,COUNTA(10:10)-3)=V$26)*(OFFSET($D$8,,,8,COUNTA(10:10)-3)="Télétravail"))} -> 0 | W30: {=SUMPRODUCT(($B$8:$B$15=$R30)*($C$8:$C$15=$S30)*(OFFSET($D$6,,,1,COUNTA(10:10)-3)=W$26)*(OFFSET($D$8,,,8,COUNTA(10:10)-3)="Télétravail"))} -> 2 | X30: {=SUMPRODUCT(($B$8:$B$15=$R30)*($C$8:$C$15=$S30)*(OFFSET($D$6,,,1,COUNTA(10:10)-3)=X$26)*(OFFSET($D$8,,,8,COUNTA(10:10)-3)="Télétravail"))} -> 0 | Y30: =SUM(T30:X30) -> 2
A31: =_xlfn.ISOWEEKNUM(C31) -> 40 | B31: =TEXT(C31,"jjjj") -> lundi | C31: 44473 | D31: Site B | E31: FF | F31: Fanny | G31: Site | I31: EE | J31: Eloïse | K31: 2 | P31: 2 | R31: EE | S31: Eloïse | T31: {=SUMPRODUCT(($B$8:$B$15=$R31)*($C$8:$C$15=$S31)*(OFFSET($D$6,,,1,COUNTA(11:11)-3)=T$26)*(OFFSET($D$8,,,8,COUNTA(11:11)-3)="Télétravail"))} -> 2 | U31: {=SUMPRODUCT(($B$8:$B$15=$R31)*($C$8:$C$15=$S31)*(OFFSET($D$6,,,1,COUNTA(11:11)-3)=U$26)*(OFFSET($D$8,,,8,COUNTA(11:11)-3)="Télétravail"))} -> 0 | V31: {=SUMPRODUCT(($B$8:$B$15=$R31)*($C$8:$C$15=$S31)*(OFFSET($D$6,,,1,COUNTA(11:11)-3)=V$26)*(OFFSET($D$8,,,8,COUNTA(11:11)-3)="Télétravail"))} -> 0 | W31: {=SUMPRODUCT(($B$8:$B$15=$R31)*($C$8:$C$15=$S31)*(OFFSET($D$6,,,1,COUNTA(11:11)-3)=W$26)*(OFFSET($D$8,,,8,COUNTA(11:11)-3)="Télétravail"))} -> 0 | X31: {=SUMPRODUCT(($B$8:$B$15=$R31)*($C$8:$C$15=$S31)*(OFFSET($D$6,,,1,COUNTA(11:11)-3)=X$26)*(OFFSET($D$8,,,8,COUNTA(11:11)-3)="Télétravail"))} -> 0 | Y31: =SUM(T31:X31) -> 2
A32: =_xlfn.ISOWEEKNUM(C32) -> 40 | B32: =TEXT(C32,"jjjj") -> lundi | C32: 44473 | D32: Site B | E32: GG | F32: Gaëlle | G32: Site | I32: FF | J32: Fanny | L32: 2 | P32: 2 | R32: FF | S32: Fanny | T32: {=SUMPRODUCT(($B$8:$B$15=$R32)*($C$8:$C$15=$S32)*(OFFSET($D$6,,,1,COUNTA(12:12)-3)=T$26)*(OFFSET($D$8,,,8,COUNTA(12:12)-3)="Télétravail"))} -> 0 | U32: {=SUMPRODUCT(($B$8:$B$15=$R32)*($C$8:$C$15=$S32)*(OFFSET($D$6,,,1,COUNTA(12:12)-3)=U$26)*(OFFSET($D$8,,,8,COUNTA(12:12)-3)="Télétravail"))} -> 2 | V32: {=SUMPRODUCT(($B$8:$B$15=$R32)*($C$8:$C$15=$S32)*(OFFSET($D$6,,,1,COUNTA(12:12)-3)=V$26)*(OFFSET($D$8,,,8,COUNTA(12:12)-3)="Télétravail"))} -> 0 | W32: {=SUMPRODUCT(($B$8:$B$15=$R32)*($C$8:$C$15=$S32)*(OFFSET($D$6,,,1,COUNTA(12:12)-3)=W$26)*(OFFSET($D$8,,,8,COUNTA(12:12)-3)="Télétravail"))} -> 0 | X32: {=SUMPRODUCT(($B$8:$B$15=$R32)*($C$8:$C$15=$S32)*(OFFSET($D$6,,,1,COUNTA(12:12)-3)=X$26)*(OFFSET($D$8,,,8,COUNTA(12:12)-3)="Télétravail"))} -> 0 | Y32: =SUM(T32:X32) -> 2
A33: =_xlfn.ISOWEEKNUM(C33) -> 40 | B33: =TEXT(C33,"jjjj") -> lundi | C33: 44473 | D33: Site B | E33: HH | F33: Héléna | G33: Télétravail | I33: GG | J33: Gaëlle | M33: 2 | P33: 2 | R33: GG | S33: Gaëlle | T33: {=SUMPRODUCT(($B$8:$B$15=$R33)*($C$8:$C$15=$S33)*(OFFSET($D$6,,,1,COUNTA(13:13)-3)=T$26)*(OFFSET($D$8,,,8,COUNTA(13:13)-3)="Télétravail"))} -> 0 | U33: {=SUMPRODUCT(($B$8:$B$15=$R33)*($C$8:$C$15=$S33)*(OFFSET($D$6,,,1,COUNTA(13:13)-3)=U$26)*(OFFSET($D$8,,,8,COUNTA(13:13)-3)="Télétravail"))} -> 0 | V33: {=SUMPRODUCT(($B$8:$B$15=$R33)*($C$8:$C$15=$S33)*(OFFSET($D$6,,,1,COUNTA(13:13)-3)=V$26)*(OFFSET($D$8,,,8,COUNTA(13:13)-3)="Télétravail"))} -> 2 | W33: {=SUMPRODUCT(($B$8:$B$15=$R33)*($C$8:$C$15=$S33)*(OFFSET($D$6,,,1,COUNTA(13:13)-3)=W$26)*(OFFSET($D$8,,,8,COUNTA(13:13)-3)="Télétravail"))} -> 0 | X33: {=SUMPRODUCT(($B$8:$B$15=$R33)*($C$8:$C$15=$S33)*(OFFSET($D$6,,,1,COUNTA(13:13)-3)=X$26)*(OFFSET($D$8,,,8,COUNTA(13:13)-3)="Télétravail"))} -> 0 | Y33: =SUM(T33:X33) -> 2
A34: =_xlfn.ISOWEEKNUM(C34) -> 40 | B34: =TEXT(C34,"jjjj") -> mardi | C34: 44474 | D34: Site A | E34: AA | F34: André | G34: Site | I34: HH | J34: Héléna | K34: 2 | P34: 2 | R34: HH | S34: Héléna | T34: {=SUMPRODUCT(($B$8:$B$15=$R34)*($C$8:$C$15=$S34)*(OFFSET($D$6,,,1,COUNTA(14:14)-3)=T$26)*(OFFSET($D$8,,,8,COUNTA(14:14)-3)="Télétravail"))} -> 2 | U34: {=SUMPRODUCT(($B$8:$B$15=$R34)*($C$8:$C$15=$S34)*(OFFSET($D$6,,,1,COUNTA(14:14)-3)=U$26)*(OFFSET($D$8,,,8,COUNTA(14:14)-3)="Télétravail"))} -> 0 | V34: {=SUMPRODUCT(($B$8:$B$15=$R34)*($C$8:$C$15=$S34)*(OFFSET($D$6,,,1,COUNTA(14:14)-3)=V$26)*(OFFSET($D$8,,,8,COUNTA(14:14)-3)="Télétravail"))} -> 0 | W34: {=SUMPRODUCT(($B$8:$B$15=$R34)*($C$8:$C$15=$S34)*(OFFSET($D$6,,,1,COUNTA(14:14)-3)=W$26)*(OFFSET($D$8,,,8,COUNTA(14:14)-3)="Télétravail"))} -> 0 | X34: {=SUMPRODUCT(($B$8:$B$15=$R34)*($C$8:$C$15=$S34)*(OFFSET($D$6,,,1,COUNTA(14:14)-3)=X$26)*(OFFSET($D$8,,,8,COUNTA(14:14)-3)="Télétravail"))} -> 0 | Y34: =SUM(T34:X34) -> 2
A35: =_xlfn.ISOWEEKNUM(C35) -> 40 | B35: =TEXT(C35,"jjjj") -> mardi | C35: 44474 | D35: Site A | E35: BB | F35: Bernard | G35: Site | I35: Total général | K35: 4 | L35: 2 | M35: 4 | N35: 2 | O35: 4 | P35: 16 | S35: Total | T35: =SUM(T27:T34) -> 4 | U35: =SUM(U27:U34) -> 2 | V35: =SUM(V27:V34) -> 4 | W35: =SUM(W27:W34) -> 2 | X35: =SUM(X27:X34) -> 4
A36: =_xlfn.ISOWEEKNUM(C36) -> 40 | B36: =TEXT(C36,"jjjj") -> mardi | C36: 44474 | D36: Site A | E36: CC | F36: Carl | G36: Site
A37: =_xlfn.ISOWEEKNUM(C37) -> 40 | B37: =TEXT(C37,"jjjj") -> mardi | C37: 44474 | D37: Site A | E37: DD | F37: Damien | G37: Site
A38: =_xlfn.ISOWEEKNUM(C38) -> 40 | B38: =TEXT(C38,"jjjj") -> mardi | C38: 44474 | D38: Site B | E38: EE | F38: Eloïse | G38: Site
A39: =_xlfn.ISOWEEKNUM(C39) -> 40 | B39: =TEXT(C39,"jjjj") -> mardi | C39: 44474 | D39: Site B | E39: FF | F39: Fanny | G39: Télétravail
A40: =_xlfn.ISOWEEKNUM(C40) -> 40 | B40: =TEXT(C40,"jjjj") -> mardi | C40: 44474 | D40: Site B | E40: GG | F40: Gaëlle | G40: Site
A41: =_xlfn.ISOWEEKNUM(C41) -> 40 | B41: =TEXT(C41,"jjjj") -> mardi | C41: 44474 | D41: Site B | E41: HH | F41: Héléna | G41: Site
A42: =_xlfn.ISOWEEKNUM(C42) -> 40 | B42: =TEXT(C42,"jjjj") -> mercredi | C42: 44475 | D42: Site A | E42: AA | F42: André | G42: Télétravail
A43: =_xlfn.ISOWEEKNUM(C43) -> 40 | B43: =TEXT(C43,"jjjj") -> mercredi | C43: 44475 | D43: Site A | E43: BB | F43: Bernard | G43: Site
A44: =_xlfn.ISOWEEKNUM(C44) -> 40 | B44: =TEXT(C44,"jjjj") -> mercredi | C44: 44475 | D44: Site A | E44: CC | F44: Carl | G44: Site
A45: =_xlfn.ISOWEEKNUM(C45) -> 40 | B45: =TEXT(C45,"jjjj") -> mercredi | C45: 44475 | D45: Site A | E45: DD | F45: Damien | G45: Site
A46: =_xlfn.ISOWEEKNUM(C46) -> 40 | B46: =TEXT(C46,"jjjj") -> mercredi | C46: 44475 | D46: Site B | E46: EE | F46: Eloïse | G46: Site
A47: =_xlfn.ISOWEEKNUM(C47) -> 40 | B47: =TEXT(C47,"jjjj") -> mercredi | C47: 44475 | D47: Site B | E47: FF | F47: Fanny | G47: Site
...
