Workbook
Name L_MP: M_P[LISTE DES MAGASINS PRIORITAIRES]
Name MAG_L: OFFSET('CA + ALERTE'!#REF!,,,COUNTA('CA + ALERTE'!#REF!)-1)
Name STATUTCDE: 'CA + ALERTE'!$J$4:$J$6

Sheet COMMANDES2021
B1: COMMERCIAL | C1: CLIENT | D1: R1 | E1: NOM DU CLIENT | F1: DATE DE CONFIRMATION | G1: MONTANT | H1: STATUT COMMANDE | I1: R2 | J1: DATE DE LIVRAISON | K1: SEMAINE | L1: TOTAL SEMAINE | M1: 100% dépot1 | N1: PARTIEL dépot1 | O1: PLAQUE (liv à Dépôt1) PA CDE | P1: N° DE PLS CDE 100% Dépot1 | Q1: DATE PREV DEPART dépot1 | R1: DATE DEPART PLAQUES dépot1 | S1: COMMENTAIRES
B2: COM1 | C2: CLIENT1 | D2: =IFERROR(INT(MEDIAN(IF($I$2:$I$17=$I2,#REF!))),"") | E2: BRICOMARCHE SAINTES | F2: 44140 | G2: 1000 | H2: TERMINE | J2: 44198 | K2: =_xlfn.ISOWEEKNUM(J2) -> 53 | L2: =IF(Commandes[[#This Row],[SEMAINE]]<>K3,SUMIFS(Commandes[MONTANT],Commandes[SEMAINE],Commandes[[#This Row],[SEMAINE]]),0) -> 0 | M2: x | U2: {=AND(MAX(COUNTIF($E2,L_MP&"*")),SUMIFS($G$2:$G$23,$E$2:$E$23,$E2,$M$2:$M$23,"x")>VLOOKUP($K2,'CA + ALERTE'!$B:$E,4,0))} -> FALSE
B3: COM2 | C3: CLIENT2 | D3: =IFERROR(INT(MEDIAN(IF($I$2:$I$17=$I3,#REF!))),"") | E3: DETAILLANT 1 | F3: 44168 | G3: 1000 | H3: EN COURS | J3: 44199 | K3: =_xlfn.ISOWEEKNUM(J3) -> 53 | L3: =IF(Commandes[[#This Row],[SEMAINE]]<>K4,SUMIFS(Commandes[MONTANT],Commandes[SEMAINE],Commandes[[#This Row],[SEMAINE]]),0) -> 0 | M3: x | U3: {=AND(MAX(COUNTIF($E3,L_MP&"*")),SUMIFS($G$2:$G$23,$E$2:$E$23,$E3,$M$2:$M$23,"x")>VLOOKUP($K3,'CA + ALERTE'!$B:$E,4,0))} -> FALSE
B4: COM3 | C4: CLIENT3 | D4: =IFERROR(INT(MEDIAN(IF($I$2:$I$17=$I4,#REF!))),"") | E4: DETAILLANT 2 | F4: 44177 | G4: 1000 | J4: 44198 | K4: =_xlfn.ISOWEEKNUM(J4) -> 53 | L4: =IF(Commandes[[#This Row],[SEMAINE]]<>K5,SUMIFS(Commandes[MONTANT],Commandes[SEMAINE],Commandes[[#This Row],[SEMAINE]]),0) -> 0 | M4: x | U4: {=AND(MAX(COUNTIF($E4,L_MP&"*")),SUMIFS($G$2:$G$23,$E$2:$E$23,$E4,$M$2:$M$23,"x")>VLOOKUP($K4,'CA + ALERTE'!$B:$E,4,0))} -> FALSE
B5: COM4 | C5: CLIENT4 | D5: =IFERROR(INT(MEDIAN(IF($I$2:$I$17=$I5,#REF!))),"") | E5: DETAILLANT 3 | F5: 44112 | G5: 1000 | J5: 44198 | K5: =_xlfn.ISOWEEKNUM(J5) -> 53 | L5: =IF(Commandes[[#This Row],[SEMAINE]]<>K6,SUMIFS(Commandes[MONTANT],Commandes[SEMAINE],Commandes[[#This Row],[SEMAINE]]),0) -> 0 | M5: x | U5: {=AND(MAX(COUNTIF($E5,L_MP&"*")),SUMIFS($G$2:$G$23,$E$2:$E$23,$E5,$M$2:$M$23,"x")>VLOOKUP($K5,'CA + ALERTE'!$B:$E,4,0))} -> FALSE
B6: COM5 | C6: CLIENT5 | D6: =IFERROR(INT(MEDIAN(IF($I$2:$I$17=$I6,#REF!))),"") | E6: BRICOMARCHE | F6: 44146 | G6: 1000 | J6: 44198 | K6: =_xlfn.ISOWEEKNUM(J6) -> 53 | L6: =IF(Commandes[[#This Row],[SEMAINE]]<>K7,SUMIFS(Commandes[MONTANT],Commandes[SEMAINE],Commandes[[#This Row],[SEMAINE]]),0) -> 0 | M6: x | U6: {=AND(MAX(COUNTIF($E6,L_MP&"*")),SUMIFS($G$2:$G$23,$E$2:$E$23,$E6,$M$2:$M$23,"x")>VLOOKUP($K6,'CA + ALERTE'!$B:$E,4,0))} -> FALSE
B7: COM6 | C7: CLIENT6 | D7: =IFERROR(INT(MEDIAN(IF($I$2:$I$17=$I7,#REF!))),"") | E7: DETAILLANT 5 | F7: 44126 | G7: 1000 | J7: 44198 | K7: =_xlfn.ISOWEEKNUM(J7) -> 53 | L7: =IF(Commandes[[#This Row],[SEMAINE]]<>K8,SUMIFS(Commandes[MONTANT],Commandes[SEMAINE],Commandes[[#This Row],[SEMAINE]]),0) -> 0 | M7: x | U7: {=AND(MAX(COUNTIF($E7,L_MP&"*")),SUMIFS($G$2:$G$23,$E$2:$E$23,$E7,$M$2:$M$23,"x")>VLOOKUP($K7,'CA + ALERTE'!$B:$E,4,0))} -> FALSE
B8: COM8 | C8: CLIENT10 | D8: =IFERROR(INT(MEDIAN(IF($I$2:$I$17=$I8,#REF!))),"") | E8: DETAILLANT SAINTES | F8: 44177 | G8: 500 | J8: 44198 | K8: =_xlfn.ISOWEEKNUM(J8) -> 53 | L8: =IF(Commandes[[#This Row],[SEMAINE]]<>K9,SUMIFS(Commandes[MONTANT],Commandes[SEMAINE],Commandes[[#This Row],[SEMAINE]]),0) -> 0 | M8: x
B9: JEROM | C9: C4252 | D9: =IFERROR(INT(MEDIAN(IF($I$2:$I$17=$I9,#REF!))),"") | E9: DETAILLANT RIBERAC | F9: 44197 | G9: 45000 | J9: 44198 | K9: =_xlfn.ISOWEEKNUM(J9) -> 53 | L9: =IF(Commandes[[#This Row],[SEMAINE]]<>K10,SUMIFS(Commandes[MONTANT],Commandes[SEMAINE],Commandes[[#This Row],[SEMAINE]]),0) -> 0 | M9: x
B10: COM7 | C10: CLIENT7 | D10: =IFERROR(INT(MEDIAN(IF($I$2:$I$17=$I10,#REF!))),"") | E10: DETAILLANT 6 | F10: 44166 | G10: 1000 | J10: 44198 | K10: =_xlfn.ISOWEEKNUM(J10) -> 53 | L10: =IF(Commandes[[#This Row],[SEMAINE]]<>K11,SUMIFS(Commandes[MONTANT],Commandes[SEMAINE],Commandes[[#This Row],[SEMAINE]]),0) -> 0 | M10: x
B11: COM2 | C11: CLIENTFF | D11: =IFERROR(INT(MEDIAN(IF($I$2:$I$17=$I11,#REF!))),"") | E11: JARDILAND SAINTES | F11: 44177 | G11: 31000 | J11: 44198 | K11: =_xlfn.ISOWEEKNUM(J11) -> 53 | L11: =IF(Commandes[[#This Row],[SEMAINE]]<>K12,SUMIFS(Commandes[MONTANT],Commandes[SEMAINE],Commandes[[#This Row],[SEMAINE]]),0) -> 0 | M11: x
B12: COM1 | C12: CLIENT15 | D12: =IFERROR(INT(MEDIAN(IF($I$2:$I$17=$I12,#REF!))),"") | E12: DETAILLANT 20 | F12: 44115 | G12: 2001 | J12: 44198 | K12: =_xlfn.ISOWEEKNUM(J12) -> 53 | L12: =IF(Commandes[[#This Row],[SEMAINE]]<>K13,SUMIFS(Commandes[MONTANT],Commandes[SEMAINE],Commandes[[#This Row],[SEMAINE]]),0) -> 0 | M12: x
B13: COM8 | C13: CLIENT8 | D13: =IFERROR(INT(MEDIAN(IF($I$2:$I$17=$I13,#REF!))),"") | E13: DETAILLANT 7 | F13: 44129 | G13: 1000 | J13: 44198 | K13: =_xlfn.ISOWEEKNUM(J13) -> 53 | L13: =IF(Commandes[[#This Row],[SEMAINE]]<>K14,SUMIFS(Commandes[MONTANT],Commandes[SEMAINE],Commandes[[#This Row],[SEMAINE]]),0) -> 0 | M13: x
B14: COM11 | C14: CLIENT11 | D14: =IFERROR(INT(MEDIAN(IF($I$2:$I$17=$I14,#REF!))),"") | E14: DETAILLANT 10 | F14: 44150 | G14: 1000 | J14: 44199 | K14: =_xlfn.ISOWEEKNUM(J14) -> 53 | L14: =IF(Commandes[[#This Row],[SEMAINE]]<>K15,SUMIFS(Commandes[MONTANT],Commandes[SEMAINE],Commandes[[#This Row],[SEMAINE]]),0) -> 0 | M14: x
B15: COM12 | C15: CLIENT12 | D15: =IFERROR(INT(MEDIAN(IF($I$2:$I$17=$I15,#REF!))),"") | E15: DETAILLANT 11 | F15: 44129 | G15: 1000 | J15: 44198 | K15: =_xlfn.ISOWEEKNUM(J15) -> 53 | L15: =IF(Commandes[[#This Row],[SEMAINE]]<>K16,SUMIFS(Commandes[MONTANT],Commandes[SEMAINE],Commandes[[#This Row],[SEMAINE]]),0) -> 0 | M15: x
B16: COM13 | C16: CLIENT13 | D16: =IFERROR(INT(MEDIAN(IF($I$2:$I$17=$I16,#REF!))),"") | E16: DETAILLANT 12 | F16: 44152 | G16: 500 | J16: 44198 | K16: =_xlfn.ISOWEEKNUM(J16) -> 53 | L16: =IF(Commandes[[#This Row],[SEMAINE]]<>K17,SUMIFS(Commandes[MONTANT],Commandes[SEMAINE],Commandes[[#This Row],[SEMAINE]]),0) -> 89001 | M16: x
B17: COM8 | C17: CLIENT | D17: =IFERROR(INT(MEDIAN(IF($I$17:$I$23=$I17,#REF!))),"") | E17: DETAILLANT | F17: 44114 | G17: 2000 | J17: 44201 | K17: =_xlfn.ISOWEEKNUM(J17) -> 1 | L17: =IF(Commandes[[#This Row],[SEMAINE]]<>K18,SUMIFS(Commandes[MONTANT],Commandes[SEMAINE],Commandes[[#This Row],[SEMAINE]]),0) -> 0 | M17: x
B18: COM9 | C18: CLIENT9 | D18: =IFERROR(INT(MEDIAN(IF($I$17:$I$23=$I18,#REF!))),"") | E18: DETAILLANT 8 | F18: 44158 | G18: 1000 | J18: 44201 | K18: =_xlfn.ISOWEEKNUM(J18) -> 1 | L18: =IF(Commandes[[#This Row],[SEMAINE]]<>K19,SUMIFS(Commandes[MONTANT],Commandes[SEMAINE],Commandes[[#This Row],[SEMAINE]]),0) -> 0 | M18: x
B19: COM9 | C19: CLIENT9 | D19: =IFERROR(INT(MEDIAN(IF($I$2:$I$17=$I19,#REF!))),"") | E19: DETAILLANT 8 | F19: 44158 | G19: 1000 | J19: 44202 | K19: =_xlfn.ISOWEEKNUM(J19) -> 1 | L19: =IF(Commandes[[#This Row],[SEMAINE]]<>K20,SUMIFS(Commandes[MONTANT],Commandes[SEMAINE],Commandes[[#This Row],[SEMAINE]]),0) -> 0 | M19: x
B20: COM1 | C20: CLIENT1 | D20: =IFERROR(INT(MEDIAN(IF($I$17:$I$23=$I20,#REF!))),"") | E20: DETAILLANT1 | F20: 44152 | G20: 2000 | J20: 44201 | K20: =_xlfn.ISOWEEKNUM(J20) -> 1 | L20: =IF(Commandes[[#This Row],[SEMAINE]]<>K21,SUMIFS(Commandes[MONTANT],Commandes[SEMAINE],Commandes[[#This Row],[SEMAINE]]),0) -> 0 | M20: x
B21: COM2 | C21: CLIENT2 | D21: =IFERROR(INT(MEDIAN(IF($I$2:$I$17=$I21,#REF!))),"") | E21: DETAILLANT 1 | F21: 44168 | G21: 1000 | J21: 44202 | K21: =_xlfn.ISOWEEKNUM(J21) -> 1 | L21: =IF(Commandes[[#This Row],[SEMAINE]]<>K22,SUMIFS(Commandes[MONTANT],Commandes[SEMAINE],Commandes[[#This Row],[SEMAINE]]),0) -> 0 | M21: x
B22: COM1 | C22: CLIENT3 | D22: =IFERROR(INT(MEDIAN(IF($I$17:$I$23=$I22,#REF!))),"") | E22: DETAILLANT1 | F22: 44154 | G22: 1000 | J22: 44202 | K22: =_xlfn.ISOWEEKNUM(J22) -> 1 | L22: =IF(Commandes[[#This Row],[SEMAINE]]<>K23,SUMIFS(Commandes[MONTANT],Commandes[SEMAINE],Commandes[[#This Row],[SEMAINE]]),0) -> 0 | M22: x
B23: COM1 | C23: CLIENT3 | D23: =IFERROR(INT(MEDIAN(IF($I$17:$I$23=$I23,#REF!))),"") | E23: BRICOMARCHE | F23: 44153 | G23: 1000 | J23: 44201 | K23: =_xlfn.ISOWEEKNUM(J23) -> 1 | L23: =IF(Commandes[[#This Row],[SEMAINE]]<>K24,SUMIFS(Commandes[MONTANT],Commandes[SEMAINE],Commandes[[#This Row],[SEMAINE]]),0) -> 9000 | M23: x

Sheet REF
A1: LISTE DES MAGASINS PRIORITAIRES
A2: BRICOMARCHE
A3: JARDILAND
A4: JARDIVAL
A5: MA CAMPAGNE
A6: GAMM VERT
A7: GAMMVERT
A8: LECLERC
A9: JARDIPLAY

Sheet CA + ALERTE
B1: 2021
C3: CA SEMAINE | D3: ESTI. Depot1 | E3: LIMITE | F3: % ALERTE
B4: =_xlfn.ISOWEEKNUM(DATE(B1,1,1)) -> 53 | C4: =_xlfn.MAXIFS(Commandes[[TOTAL SEMAINE]:[TOTAL SEMAINE]],Commandes[[SEMAINE]:[SEMAINE]],'CA + ALERTE'!$B4) -> 89001 | D4: =_xlfn.MAXIFS(Commandes[[TOTAL SEMAINE]:[TOTAL SEMAINE]],Commandes[[SEMAINE]:[SEMAINE]],'CA + ALERTE'!$B4,Commandes[[100% dépot1]:[100% dépot1]],"X") -> 89001 | E4: 90000 | F4: 0.3 | G4: =E4-E4*F4 -> 63000
B5: =IF(B4>1,_xlfn.ISOWEEKNUM(DATE(B1,1,7)),B4+1) -> 1 | C5: =_xlfn.MAXIFS(Commandes[TOTAL SEMAINE],Commandes[SEMAINE],'CA + ALERTE'!B5) -> 9000 | D5: =_xlfn.MAXIFS(Commandes[[TOTAL SEMAINE]:[TOTAL SEMAINE]],Commandes[[SEMAINE]:[SEMAINE]],'CA + ALERTE'!$B5,Commandes[[100% dépot1]:[100% dépot1]],"X") -> 9000 | E5: 12000 | F5: 0.2 | G5: =E5-E5*F5 -> 9600
B6: =IF(B5>1,_xlfn.ISOWEEKNUM(DATE(B2,1,14)),B5+1) -> 2 | C6: =_xlfn.MAXIFS(Commandes[TOTAL SEMAINE],Commandes[SEMAINE],'CA + ALERTE'!B6) -> 0 | D6: =_xlfn.MAXIFS(Commandes[[TOTAL SEMAINE]:[TOTAL SEMAINE]],Commandes[[SEMAINE]:[SEMAINE]],'CA + ALERTE'!$B6,Commandes[[100% dépot1]:[100% dépot1]],"X") -> 0 | E6: 30000 | F6: 0.4 | G6: =E6-E6*F6 -> 18000
B7: =B6+1 -> 3 | C7: =_xlfn.MAXIFS(Commandes[TOTAL SEMAINE],Commandes[SEMAINE],'CA + ALERTE'!B7) -> 0 | D7: =_xlfn.MAXIFS(Commandes[[TOTAL SEMAINE]:[TOTAL SEMAINE]],Commandes[[SEMAINE]:[SEMAINE]],'CA + ALERTE'!$B7,Commandes[[100% dépot1]:[100% dépot1]],"X") -> 0 | E7: 25000 | F7: 0.25 | G7: =E7-E7*F7 -> 18750
B8: =B7+1 -> 4 | C8: =_xlfn.MAXIFS(Commandes[TOTAL SEMAINE],Commandes[SEMAINE],'CA + ALERTE'!B8) -> 0 | D8: =_xlfn.MAXIFS(Commandes[[TOTAL SEMAINE]:[TOTAL SEMAINE]],Commandes[[SEMAINE]:[SEMAINE]],'CA + ALERTE'!$B8,Commandes[[100% dépot1]:[100% dépot1]],"X") -> 0 | E8: 25000 | F8: 0.35 | G8: =E8-E8*F8 -> 16250
B9: =B8+1 -> 5 | C9: =_xlfn.MAXIFS(Commandes[TOTAL SEMAINE],Commandes[SEMAINE],'CA + ALERTE'!B9) -> 0 | D9: =_xlfn.MAXIFS(Commandes[[TOTAL SEMAINE]:[TOTAL SEMAINE]],Commandes[[SEMAINE]:[SEMAINE]],'CA + ALERTE'!$B9,Commandes[[100% dépot1]:[100% dépot1]],"X") -> 0 | E9: 25000 | F9: 0.2 | G9: =E9-E9*F9 -> 20000
B10: =B9+1 -> 6 | C10: =_xlfn.MAXIFS(Commandes[TOTAL SEMAINE],Commandes[SEMAINE],'CA + ALERTE'!B10) -> 0 | D10: =_xlfn.MAXIFS(Commandes[[TOTAL SEMAINE]:[TOTAL SEMAINE]],Commandes[[SEMAINE]:[SEMAINE]],'CA + ALERTE'!$B10,Commandes[[100% dépot1]:[100% dépot1]],"X") -> 0 | E10: 25000 | F10: 0.2 | G10: =E10-E10*F10 -> 20000
B11: =B10+1 -> 7 | C11: =_xlfn.MAXIFS(Commandes[TOTAL SEMAINE],Commandes[SEMAINE],'CA + ALERTE'!B11) -> 0 | D11: =_xlfn.MAXIFS(Commandes[[TOTAL SEMAINE]:[TOTAL SEMAINE]],Commandes[[SEMAINE]:[SEMAINE]],'CA + ALERTE'!$B11,Commandes[[100% dépot1]:[100% dépot1]],"X") -> 0 | E11: 25000 | F11: 0.2 | G11: =E11-E11*F11 -> 20000
B12: =B11+1 -> 8 | C12: =_xlfn.MAXIFS(Commandes[TOTAL SEMAINE],Commandes[SEMAINE],'CA + ALERTE'!B12) -> 0 | D12: =_xlfn.MAXIFS(Commandes[[TOTAL SEMAINE]:[TOTAL SEMAINE]],Commandes[[SEMAINE]:[SEMAINE]],'CA + ALERTE'!$B12,Commandes[[100% dépot1]:[100% dépot1]],"X") -> 0 | E12: 25000 | F12: 0.3 | G12: =E12-E12*F12 -> 17500
B13: =B12+1 -> 9 | C13: =_xlfn.MAXIFS(Commandes[TOTAL SEMAINE],Commandes[SEMAINE],'CA + ALERTE'!B13) -> 0 | D13: =_xlfn.MAXIFS(Commandes[[TOTAL SEMAINE]:[TOTAL SEMAINE]],Commandes[[SEMAINE]:[SEMAINE]],'CA + ALERTE'!$B13,Commandes[[100% dépot1]:[100% dépot1]],"X") -> 0 | E13: 25000 | F13: 0.3 | G13: =E13-E13*F13 -> 17500
B14: =B13+1 -> 10 | C14: =_xlfn.MAXIFS(Commandes[TOTAL SEMAINE],Commandes[SEMAINE],'CA + ALERTE'!B14) -> 0 | D14: =_xlfn.MAXIFS(Commandes[[TOTAL SEMAINE]:[TOTAL SEMAINE]],Commandes[[SEMAINE]:[SEMAINE]],'CA + ALERTE'!$B14,Commandes[[100% dépot1]:[100% dépot1]],"X") -> 0 | E14: 25000 | F14: 0.3 | G14: =E14-E14*F14 -> 17500
B15: =B14+1 -> 11 | C15: =_xlfn.MAXIFS(Commandes[TOTAL SEMAINE],Commandes[SEMAINE],'CA + ALERTE'!B15) -> 0 | D15: =_xlfn.MAXIFS(Commandes[[TOTAL SEMAINE]:[TOTAL SEMAINE]],Commandes[[SEMAINE]:[SEMAINE]],'CA + ALERTE'!$B15,Commandes[[100% dépot1]:[100% dépot1]],"X") -> 0 | E15: 25000 | F15: 0.4 | G15: =E15-E15*F15 -> 15000
B16: =B15+1 -> 12 | C16: =_xlfn.MAXIFS(Commandes[TOTAL SEMAINE],Commandes[SEMAINE],'CA + ALERTE'!B16) -> 0 | D16: =_xlfn.MAXIFS(Commandes[[TOTAL SEMAINE]:[TOTAL SEMAINE]],Commandes[[SEMAINE]:[SEMAINE]],'CA + ALERTE'!$B16,Commandes[[100% dépot1]:[100% dépot1]],"X") -> 0 | E16: 25000 | F16: 0.5 | G16: =E16-E16*F16 -> 12500
B17: =B16+1 -> 13 | C17: =_xlfn.MAXIFS(Commandes[TOTAL SEMAINE],Commandes[SEMAINE],'CA + ALERTE'!B17) -> 0 | D17: =_xlfn.MAXIFS(Commandes[[TOTAL SEMAINE]:[TOTAL SEMAINE]],Commandes[[SEMAINE]:[SEMAINE]],'CA + ALERTE'!$B17,Commandes[[100% dépot1]:[100% dépot1]],"X") -> 0 | E17: 25000 | F17: 0.25 | G17: =E17-E17*F17 -> 18750
B18: =B17+1 -> 14 | C18: =_xlfn.MAXIFS(Commandes[TOTAL SEMAINE],Commandes[SEMAINE],'CA + ALERTE'!B18) -> 0 | D18: =_xlfn.MAXIFS(Commandes[[TOTAL SEMAINE]:[TOTAL SEMAINE]],Commandes[[SEMAINE]:[SEMAINE]],'CA + ALERTE'!$B18,Commandes[[100% dépot1]:[100% dépot1]],"X") -> 0 | E18: 25000 | F18: 0.25 | G18: =E18-E18*F18 -> 18750
... B55: =B54+1 -> 51 | C55: =_xlfn.MAXIFS(Commandes[TOTAL SEMAINE],Commandes[SEMAINE],'CA + ALERTE'!B55) -> 0 | D55: =_xlfn.MAXIFS(Commandes[[TOTAL SEMAINE]:[TOTAL SEMAINE]],Commandes[[SEMAINE]:[SEMAINE]],'CA + ALERTE'!$B55,Commandes[[100% dépot1]:[100% dépot1]],"X") -> 0 | E55: 25000 | F55: 0.48190476 | G55: =E55-E55*F55 -> 12952.381
B56: =B55+1 -> 52 | C56: =_xlfn.MAXIFS(Commandes[TOTAL SEMAINE],Commandes[SEMAINE],'CA + ALERTE'!B56) -> 0 | D56: =_xlfn.MAXIFS(Commandes[[TOTAL SEMAINE]:[TOTAL SEMAINE]],Commandes[[SEMAINE]:[SEMAINE]],'CA + ALERTE'!$B56,Commandes[[100% dépot1]:[100% dépot1]],"X") -> 0 | E56: =_xlfn.MAXIFS(Commandes[[ PARTIEL dépot1]],Commandes[100% dépot1],'CA + ALERTE'!D56) -> 0 | F56: =_xlfn.MAXIFS(Commandes[PLAQUE (liv à Dépôt1) PA CDE],Commandes[[ PARTIEL dépot1]],'CA + ALERTE'!E56) -> 0 | G56: =_xlfn.MAXIFS(Commandes[N° DE PLS CDE 100% Dépot1],Commandes[PLAQUE (liv à Dépôt1) PA CDE],'CA + ALERTE'!F56) -> 0
