Workbook
Name JF: Feuil1!$A$2:$A$12
Name Segment_Initiales: #N/A
Name Segment_Mois: #N/A
Name Segment_Proposition: #N/A
Name Segment_Type: #N/A

Sheet Demandes
A1: N°DI | B1: N° Demande | C1: Date début | D1: Date fin | E1: Proposition | F1: Type | G1: Remarque(s) | H1: Initiales | I1: Mois | J1: JO | K1: Dde | M1: 2020
E2: Octroi | F2: ASG | H2: BOU | I2: Janvier | J2: =NETWORKDAYS.INTL(DATEVALUE(1&TableauDemandes[[#This Row],[Mois]]&$M$1),EOMONTH(DATEVALUE(1&TableauDemandes[[#This Row],[Mois]]&$M$1),0),,JF)/COUNTIF(TableauDemandes[Mois],TableauDemandes[[#This Row],[Mois]]) -> 22 | K2: 1
E3: Prolongation | F3: BON MEDOC | H3: BS | I3: Février | J3: =NETWORKDAYS.INTL(DATEVALUE(1&TableauDemandes[[#This Row],[Mois]]&$M$1),EOMONTH(DATEVALUE(1&TableauDemandes[[#This Row],[Mois]]&$M$1),0),,JF)/COUNTIF(TableauDemandes[Mois],TableauDemandes[[#This Row],[Mois]]) -> 20 | K3: 1
E4: Refus | F4: CHEQUES S | H4: CD | I4: Mars | J4: =NETWORKDAYS.INTL(DATEVALUE(1&TableauDemandes[[#This Row],[Mois]]&$M$1),EOMONTH(DATEVALUE(1&TableauDemandes[[#This Row],[Mois]]&$M$1),0),,JF)/COUNTIF(TableauDemandes[Mois],TableauDemandes[[#This Row],[Mois]]) -> 22 | K4: 1
E5: Revision | F5: CM | H5: JD | I5: Avril | J5: =NETWORKDAYS.INTL(DATEVALUE(1&TableauDemandes[[#This Row],[Mois]]&$M$1),EOMONTH(DATEVALUE(1&TableauDemandes[[#This Row],[Mois]]&$M$1),0),,JF)/COUNTIF(TableauDemandes[Mois],TableauDemandes[[#This Row],[Mois]]) -> 10.5 | K5: 1
E6: Retrait | F6: ERIS | H6: JR | I6: Mai | J6: =NETWORKDAYS.INTL(DATEVALUE(1&TableauDemandes[[#This Row],[Mois]]&$M$1),EOMONTH(DATEVALUE(1&TableauDemandes[[#This Row],[Mois]]&$M$1),0),,JF)/COUNTIF(TableauDemandes[Mois],TableauDemandes[[#This Row],[Mois]]) -> 18 | K6: 1
E7: Prolongation | F7: GAL | H7: NC | I7: Juin | J7: =NETWORKDAYS.INTL(DATEVALUE(1&TableauDemandes[[#This Row],[Mois]]&$M$1),EOMONTH(DATEVALUE(1&TableauDemandes[[#This Row],[Mois]]&$M$1),0),,JF)/COUNTIF(TableauDemandes[Mois],TableauDemandes[[#This Row],[Mois]]) -> 21 | K7: 1
E8: Refus | F8: LANGES | H8: SEN | I8: Juillet | J8: =NETWORKDAYS.INTL(DATEVALUE(1&TableauDemandes[[#This Row],[Mois]]&$M$1),EOMONTH(DATEVALUE(1&TableauDemandes[[#This Row],[Mois]]&$M$1),0),,JF)/COUNTIF(TableauDemandes[Mois],TableauDemandes[[#This Row],[Mois]]) -> 11 | K8: 1
E9: Revision | F9: LOY | H9: TSH | I9: Août | J9: =NETWORKDAYS.INTL(DATEVALUE(1&TableauDemandes[[#This Row],[Mois]]&$M$1),EOMONTH(DATEVALUE(1&TableauDemandes[[#This Row],[Mois]]&$M$1),0),,JF)/COUNTIF(TableauDemandes[Mois],TableauDemandes[[#This Row],[Mois]]) -> 21 | K9: 1
E10: Retrait | F10: MUT | H10: XMT | I10: Septembre | J10: =NETWORKDAYS.INTL(DATEVALUE(1&TableauDemandes[[#This Row],[Mois]]&$M$1),EOMONTH(DATEVALUE(1&TableauDemandes[[#This Row],[Mois]]&$M$1),0),,JF)/COUNTIF(TableauDemandes[Mois],TableauDemandes[[#This Row],[Mois]]) -> 11 | K10: 1
E11: Prolongation | F11: NRJ | H11: XMT | I11: Septembre | J11: =NETWORKDAYS.INTL(DATEVALUE(1&TableauDemandes[[#This Row],[Mois]]&$M$1),EOMONTH(DATEVALUE(1&TableauDemandes[[#This Row],[Mois]]&$M$1),0),,JF)/COUNTIF(TableauDemandes[Mois],TableauDemandes[[#This Row],[Mois]]) -> 11 | K11: 1
E12: Refus | F12: PARAMED | H12: TSH | I12: Novembre | J12: =NETWORKDAYS.INTL(DATEVALUE(1&TableauDemandes[[#This Row],[Mois]]&$M$1),EOMONTH(DATEVALUE(1&TableauDemandes[[#This Row],[Mois]]&$M$1),0),,JF)/COUNTIF(TableauDemandes[Mois],TableauDemandes[[#This Row],[Mois]]) -> 20 | K12: 1
E13: Revision | F13: REQUI CONSULT | H13: SEN | I13: Décembre | J13: =NETWORKDAYS.INTL(DATEVALUE(1&TableauDemandes[[#This Row],[Mois]]&$M$1),EOMONTH(DATEVALUE(1&TableauDemandes[[#This Row],[Mois]]&$M$1),0),,JF)/COUNTIF(TableauDemandes[Mois],TableauDemandes[[#This Row],[Mois]]) -> 22 | K13: 1
... E16: Refus | F16: SCOL | H16: JD | I16: Octobre | J16: =NETWORKDAYS.INTL(DATEVALUE(1&TableauDemandes[[#This Row],[Mois]]&$M$1),EOMONTH(DATEVALUE(1&TableauDemandes[[#This Row],[Mois]]&$M$1),0),,JF)/COUNTIF(TableauDemandes[Mois],TableauDemandes[[#This Row],[Mois]]) -> 22 | K16: 1

Sheet Types
A1: ASG
A2: BON MEDOC
A3: CHEQUES S
A4: CM
A5: ERIS
A6: GAL
A7: LANGES
A8: LOY
A9: MUT
A10: NRJ
A11: PARAMED
A12: REQUI CONSULT
... A15: SCOL

Sheet Initiales
A1: BOU
A2: BS
A3: CD
A4: JD
A5: JR
A6: NC
A7: SEN
A8: TSH
A9: XMT

Sheet Propositions
A1: Octroi
A2: Prolongation
A3: Refus
A4: Retrait
A5: Révision

Sheet Totaux
B1: Mois
A2: Initiales | B2: Janvier | C2: Février | D2: Mars | E2: Avril | F2: Mai | G2: Juin | H2: Juillet | I2: Septembre | J2: Octobre | K2: Novembre | L2: Décembre | M2: Août | N2: Total
A3: BOU
A4: Octroi
A5: ASG
A6: Nombre de demandes encodées | B6: 1 | N6: 1
A7: % | B7: 0.045454545 | N7: 0.045454545
A8: Nombre de demandes encodées BOU | B8: 1 | N8: 1
A9: % BOU | B9: 0.045454545 | N9: 0.045454545
A10: BS
A11: Prolongation
A12: BON MEDOC
A13: Nombre de demandes encodées | C13: 1 | N13: 1
A14: % | C14: 0.05 | N14: 0.05
A15: Nombre de demandes encodées BS | C15: 1 | N15: 1
A16: % BS | C16: 0.05 | N16: 0.05
A17: CD
A18: Refus
A19: CHEQUES S
A20: Nombre de demandes encodées | D20: 1 | N20: 1
A21: % | D21: 0.045454545 | N21: 0.045454545
A22: Nombre de demandes encodées CD | D22: 1 | N22: 1
A23: % CD | D23: 0.045454545 | N23: 0.045454545
A24: JD
A25: Refus
A26: SCOL
A27: Nombre de demandes encodées | J27: 1 | N27: 1
A28: % | J28: 0.045454545 | N28: 0.045454545
A29: Revision
A30: CM
A31: Nombre de demandes encodées | E31: 1 | N31: 1
A32: % | E32: 0.095238095 | N32: 0.095238095
A33: Nombre de demandes encodées JD | E33: 1 | J33: 1 | N33: 2
A34: % JD | E34: 0.095238095 | J34: 0.045454545 | N34: 0.061538462
A35: JR
A36: Prolongation
A37: RIS
A38: Nombre de demandes encodées | E38: 1 | N38: 1
A39: % | E39: 0.095238095 | N39: 0.095238095
A40: Retrait
A41: ERIS
A42: Nombre de demandes encodées | F42: 1 | N42: 1
A43: % | F43: 0.055555556 | N43: 0.055555556
A44: Nombre de demandes encodées JR | E44: 1 | F44: 1 | N44: 2
A45: % JR | E45: 0.095238095 | F45: 0.055555556 | N45: 0.070175439
A46: NC
A47: Prolongation
A48: GAL
A49: Nombre de demandes encodées | G49: 1 | N49: 1
A50: % | G50: 0.047619048 | N50: 0.047619048
A51: Retrait
A52: REQUI HOSPI
A53: Nombre de demandes encodées | H53: 1 | N53: 1
A54: % | H54: 0.090909091 | N54: 0.090909091
A55: Nombre de demandes encodées NC | G55: 1 | H55: 1 | N55: 2
A56: % NC | G56: 0.047619048 | H56: 0.090909091 | N56: 0.0625
A57: SEN
A58: Refus
A59: LANGES
A60: Nombre de demandes encodées | H60: 1 | N60: 1
A61: % | H61: 0.090909091 | N61: 0.090909091
A62: Revision
A63: REQUI CONSULT
A64: Nombre de demandes encodées | L64: 1 | N64: 1
A65: % | L65: 0.045454545 | N65: 0.045454545
A66: Nombre de demandes encodées SEN | H66: 1 | L66: 1 | N66: 2
A67: % SEN | H67: 0.090909091 | L67: 0.045454545 | N67: 0.060606061
A68: TSH
A69: Refus
A70: PARAMED
A71: Nombre de demandes encodées | K71: 1 | N71: 1
A72: % | K72: 0.05 | N72: 0.05
A73: Revision
A74: LOY
A75: Nombre de demandes encodées | M75: 1 | N75: 1
A76: % | M76: 0.047619048 | N76: 0.047619048
A77: Nombre de demandes encodées TSH | K77: 1 | M77: 1 | N77: 2
A78: % TSH | K78: 0.05 | M78: 0.047619048 | N78: 0.048780488
A79: XMT
A80: Prolongation
A81: NRJ
A82: Nombre de demandes encodées | I82: 1 | N82: 1
A83: % | I83: 0.090909091 | N83: 0.090909091
A84: Retrait
A85: MUT
A86: Nombre de demandes encodées | I86: 1 | N86: 1
A87: % | I87: 0.090909091 | N87: 0.090909091
A88: Nombre de demandes encodées XMT | I88: 2 | N88: 2
A89: % XMT | I89: 0.090909091 | N89: 0.090909091
A90: Total Nombre de demandes encodées | B90: 1 | C90: 1 | D90: 1 | E90: 2 | F90: 1 | G90: 1 | H90: 2 | I90: 2 | J90: 1 | K90: 1 | L90: 1 | M90: 1 | N90: 15
A91: Total % | B91: 0.045454545 | C91: 0.05 | D91: 0.045454545 | E91: 0.095238095 | F91: 0.055555556 | G91: 0.047619048 | H91: 0.090909091 | I91: 0.090909091 | J91: 0.045454545 | K91: 0.05 | L91: 0.045454545 | M91: 0.047619048 | N91: 0.059288538

Sheet Feuil1
A1: Date
A2: =DATE(Demandes!$M$1,1,1) -> 43831
A3: =DATE(Demandes!$M$1,5,1) -> 43952
A4: =DATE(Demandes!$M$1,5,8) -> 43959
A5: =DATE(Demandes!$M$1,7,14) -> 44026
A6: =DATE(Demandes!$M$1,8,15) -> 44058
A7: =DATE(Demandes!$M$1,11,1) -> 44136
A8: =DATE(Demandes!$M$1,11,11) -> 44146
A9: =DATE(Demandes!$M$1,12,25) -> 44190
A10: =1+ROUND((DAY(MINUTE(Demandes!$M$1/38)/2+55)&"/4/"&Demandes!$M$1)/7,)*7-6 -> 43934
A11: =A10+38 -> 43972
A12: =A10+49 -> 43983
