Workbook
Name AnnéeCalendrier: Janvier!$X$2
Name CléCongé: Janvier!#REF!
Name CléMaladie: Janvier!#REF!
Name CléPersonnalisée1: Janvier!#REF!
Name CléPersonnalisée2: Janvier!#REF!
Name CléPersonnel: Janvier!#REF!
Name ÉtiquetteCléCongé: Janvier!#REF!
Name ÉtiquetteCléMaladie: Janvier!#REF!
Name ÉtiquetteCléPersonnalisée1: Janvier!#REF!
Name ÉtiquetteCléPersonnalisée2: Janvier!#REF!
Name ÉtiquetteCléPersonnel: Janvier!#REF!
Name Nom_clé: Janvier!#REF!
Name NomMois: Avril!$B$2
Name NomMois: Janvier!$B$2
Name Titre_Absence_Employé: Janvier!#REF!
Name Titre1: Janvier!$B$4
Name Titre10: [1]!Octobre[[#Headers],[Nom de l’employé]]
Name Titre11: [1]!Novembre[[#Headers],[Nom de l’employé]]
Name Titre12: [1]!Décembre[[#Headers],[Nom de l’employé]]
Name Titre2: [1]!Février[[#Headers],[Nom de l’employé]]
Name Titre3: [1]!Mars[[#Headers],[Nom de l’employé]]
Name Titre4: Avril[[#Headers],[Colonne1]]
Name Titre5: [1]!Mai[[#Headers],[Nom de l’employé]]
Name Titre6: [1]!Juin[[#Headers],[Nom de l’employé]]
Name Titre7: [1]!Juillet[[#Headers],[Nom de l’employé]]
Name Titre8: [1]!Août[[#Headers],[Nom de l’employé]]
Name Titre9: [1]!Septembre[[#Headers],[Nom de l’employé]]
Name TitreColonne13: [1]!NomEmployé[[#Headers],[Noms des employés]]

Sheet Janvier
X1: Entrez l’année :
B2: Janvier | X2: 2021
C3: =IF(C4<>"",C4,"") -> 44197 | D3: =IF(D4<>"",D4,"") -> 44200 | E3: =IF(E4<>"",E4,"") -> 44201 | F3: =IF(F4<>"",F4,"") -> 44203 | G3: =IF(G4<>"",G4,"") -> 44204 | H3: =IF(H4<>"",H4,"") -> 44207 | I3: =IF(I4<>"",I4,"") -> 44208 | J3: =IF(J4<>"",J4,"") -> 44210 | ... W3: =IF(W4<>"",W4,"")
C4: =WORKDAY.INTL(DATEVALUE(1&NomMois&AnnéeCalendrier)-1,1,"0010011") -> 44197 | D4: =IF(C4="","",IF(MONTH(WORKDAY.INTL(C4,1,"0010011"))>MONTH(C4),"",WORKDAY.INTL(C4,1,"0010011"))) -> 44200 | E4: =IF(D4="","",IF(MONTH(WORKDAY.INTL(D4,1,"0010011"))>MONTH(D4),"",WORKDAY.INTL(D4,1,"0010011"))) -> 44201 | F4: =IF(E4="","",IF(MONTH(WORKDAY.INTL(E4,1,"0010011"))>MONTH(E4),"",WORKDAY.INTL(E4,1,"0010011"))) -> 44203 | G4: =IF(F4="","",IF(MONTH(WORKDAY.INTL(F4,1,"0010011"))>MONTH(F4),"",WORKDAY.INTL(F4,1,"0010011"))) -> 44204 | H4: =IF(G4="","",IF(MONTH(WORKDAY.INTL(G4,1,"0010011"))>MONTH(G4),"",WORKDAY.INTL(G4,1,"0010011"))) -> 44207 | I4: =IF(H4="","",IF(MONTH(WORKDAY.INTL(H4,1,"0010011"))>MONTH(H4),"",WORKDAY.INTL(H4,1,"0010011"))) -> 44208 | J4: =IF(I4="","",IF(MONTH(WORKDAY.INTL(I4,1,"0010011"))>MONTH(I4),"",WORKDAY.INTL(I4,1,"0010011"))) -> 44210 | K4: =IF(J4="","",IF(MONTH(WORKDAY.INTL(J4,1,"0010011"))>MONTH(J4),"",WORKDAY.INTL(J4,1,"0010011"))) -> 44211 | ... W4: =IF(V4="","",IF(MONTH(WORKDAY.INTL(V4,1,"0010011"))>MONTH(V4),"",WORKDAY.INTL(V4,1,"0010011"))) | X4: Total des jours
B5: Cantine | X5: =COUNTA(Janvier!$C5:$W5) -> 0
B6: Garderie Matin | D6: x | X6: =COUNTA(Janvier!$C6:$W6) -> 1
B7: Garderie Soir | X7: =COUNTA(Janvier!$C7:$W7) -> 0
B8: =NomMois&" Total" -> Janvier Total | C8: =SUBTOTAL(103,Janvier!C$5:C$7) -> 0 | D8: =SUBTOTAL(103,Janvier!D$5:D$7) -> 1 | E8: =SUBTOTAL(103,Janvier!E$5:E$7) -> 0 | F8: =SUBTOTAL(103,Janvier!F$5:F$7) -> 0 | G8: =SUBTOTAL(103,Janvier!G$5:G$7) -> 0 | H8: =SUBTOTAL(103,Janvier!H$5:H$7) -> 0 | I8: =SUBTOTAL(103,Janvier!I$5:I$7) -> 0 | J8: =SUBTOTAL(103,Janvier!J$5:J$7) -> 0 | ... W8: =SUBTOTAL(103,Janvier!W$5:W$7) -> 0 | X8: =SUBTOTAL(109,Janvier!$X$5:$X$7) -> 1
B10: Ne pas mettre sous forme de tableau structuré
B11: Voir formules en lignes 3 et 4

Sheet Avril
B2: Avril | AH2: =AnnéeCalendrier -> 2021
C3: =TEXT(WEEKDAY(DATE(AnnéeCalendrier,4,1),1),"jjj") -> jeu | D3: =TEXT(WEEKDAY(DATE(AnnéeCalendrier,4,2),1),"jjj") -> ven | E3: =TEXT(WEEKDAY(DATE(AnnéeCalendrier,4,3),1),"jjj") -> sam | F3: =TEXT(WEEKDAY(DATE(AnnéeCalendrier,4,4),1),"jjj") -> dim | G3: =TEXT(WEEKDAY(DATE(AnnéeCalendrier,4,5),1),"jjj") -> lun | H3: =TEXT(WEEKDAY(DATE(AnnéeCalendrier,4,6),1),"jjj") -> mar | I3: =TEXT(WEEKDAY(DATE(AnnéeCalendrier,4,7),1),"jjj") -> mer | J3: =TEXT(WEEKDAY(DATE(AnnéeCalendrier,4,8),1),"jjj") -> jeu | K3: =TEXT(WEEKDAY(DATE(AnnéeCalendrier,4,9),1),"jjj") -> ven | L3: =TEXT(WEEKDAY(DATE(AnnéeCalendrier,4,10),1),"jjj") -> sam | M3: =TEXT(WEEKDAY(DATE(AnnéeCalendrier,4,11),1),"jjj") -> dim | N3: =TEXT(WEEKDAY(DATE(AnnéeCalendrier,4,12),1),"jjj") -> lun | O3: =TEXT(WEEKDAY(DATE(AnnéeCalendrier,4,13),1),"jjj") -> mar | P3: =TEXT(WEEKDAY(DATE(AnnéeCalendrier,4,14),1),"jjj") -> mer | Q3: =TEXT(WEEKDAY(DATE(AnnéeCalendrier,4,15),1),"jjj") -> jeu | R3: =TEXT(WEEKDAY(DATE(AnnéeCalendrier,4,16),1),"jjj") -> ven | S3: =TEXT(WEEKDAY(DATE(AnnéeCalendrier,4,17),1),"jjj") -> sam | T3: =TEXT(WEEKDAY(DATE(AnnéeCalendrier,4,18),1),"jjj") -> dim | U3: =TEXT(WEEKDAY(DATE(AnnéeCalendrier,4,19),1),"jjj") -> lun | V3: =TEXT(WEEKDAY(DATE(AnnéeCalendrier,4,20),1),"jjj") -> mar | W3: =TEXT(WEEKDAY(DATE(AnnéeCalendrier,4,21),1),"jjj") -> mer | X3: =TEXT(WEEKDAY(DATE(AnnéeCalendrier,4,22),1),"jjj") -> jeu | Y3: =TEXT(WEEKDAY(DATE(AnnéeCalendrier,4,23),1),"jjj") -> ven | Z3: =TEXT(WEEKDAY(DATE(AnnéeCalendrier,4,24),1),"jjj") -> sam | AA3: =TEXT(WEEKDAY(DATE(AnnéeCalendrier,4,25),1),"jjj") -> dim | AB3: =TEXT(WEEKDAY(DATE(AnnéeCalendrier,4,26),1),"jjj") -> lun | AC3: =TEXT(WEEKDAY(DATE(AnnéeCalendrier,4,27),1),"jjj") -> mar | AD3: =TEXT(WEEKDAY(DATE(AnnéeCalendrier,4,28),1),"jjj") -> mer | AE3: =TEXT(WEEKDAY(DATE(AnnéeCalendrier,4,29),1),"jjj") -> jeu | AF3: =TEXT(WEEKDAY(DATE(AnnéeCalendrier,4,30),1),"jjj") -> ven
B4: Colonne1 | C4: 1 | D4: 2 | E4: 3 | F4: 4 | G4: 5 | H4: 6 | I4: 7 | J4: 8 | K4: 9 | L4: 10 | M4: 11 | N4: 12 | O4: 13 | P4: 14 | Q4: 15 | R4: 16 | S4: 17 | T4: 18 | U4: 19 | V4: 20 | W4: 21 | X4: 22 | Y4: 23 | Z4: 24 | AA4: 25 | AB4: 26 | AC4: 27 | AD4: 28 | AE4: 29 | AF4: 30 | AH4: Total des jours
B5: Cantine | AH5: =COUNTA(Avril[[#This Row],[1]:[30]]) -> 0
B6: Garderie Matin | AH6: =COUNTA(Avril[[#This Row],[1]:[30]]) -> 0
B7: Garderie Soir | AH7: =COUNTA(Avril[[#This Row],[1]:[30]]) -> 0
B8: =NomMois&" Total" -> Avril Total | C8: =SUBTOTAL(103,Avril[1]) -> 0 | D8: =SUBTOTAL(103,Avril[2]) -> 0 | E8: =SUBTOTAL(103,Avril[3]) -> 0 | F8: =SUBTOTAL(103,Avril[4]) -> 0 | G8: =SUBTOTAL(103,Avril[5]) -> 0 | H8: =SUBTOTAL(103,Avril[6]) -> 0 | I8: =SUBTOTAL(103,Avril[7]) -> 0 | J8: =SUBTOTAL(103,Avril[8]) -> 0 | K8: =SUBTOTAL(103,Avril[9]) -> 0 | L8: =SUBTOTAL(103,Avril[10]) -> 0 | M8: =SUBTOTAL(103,Avril[11]) -> 0 | N8: =SUBTOTAL(103,Avril[12]) -> 0 | O8: =SUBTOTAL(103,Avril[13]) -> 0 | P8: =SUBTOTAL(103,Avril[14]) -> 0 | Q8: =SUBTOTAL(103,Avril[15]) -> 0 | R8: =SUBTOTAL(103,Avril[16]) -> 0 | S8: =SUBTOTAL(103,Avril[17]) -> 0 | T8: =SUBTOTAL(103,Avril[18]) -> 0 | U8: =SUBTOTAL(103,Avril[19]) -> 0 | V8: =SUBTOTAL(103,Avril[20]) -> 0 | W8: =SUBTOTAL(103,Avril[21]) -> 0 | X8: =SUBTOTAL(103,Avril[22]) -> 0 | Y8: =SUBTOTAL(103,Avril[23]) -> 0 | Z8: =SUBTOTAL(103,Avril[24]) -> 0 | AA8: =SUBTOTAL(103,Avril[25]) -> 0 | AB8: =SUBTOTAL(103,Avril[26]) -> 0 | AC8: =SUBTOTAL(103,Avril[27]) -> 0 | AD8: =SUBTOTAL(103,Avril[28]) -> 0 | AE8: =SUBTOTAL(103,Avril[29]) -> 0 | AF8: =SUBTOTAL(103,Avril[30]) -> 0 | AG8: =SUBTOTAL(103,Avril[30]) -> 0 | AH8: =SUBTOTAL(109,Avril[Total des jours]) -> 0
