Workbook
Name A_PRIX_GENERAUX: 'A PRIX GENERAUX'!$A$2:$I$3000
Name L_feuilles: T_feuilles[Liste feuilles]
Name N_MOBILIER: 'N MOBILIER'!$A$2:$I$3000
Name Print_Area: BPU!$B$3:$D$43
Name Print_Area: DPGF!$B$1:$G$4
Name Print_Area: DQE!$B$3:$G$36
Name Print_Titles: BPU!$3:$3
Name Print_Titles: DQE!$3:$3

Sheet DPGF
A4: Choix bordereau | B4: N° | C4: Désignation des ouvrages | D4: U | E4: Q | F4: PU | G4: PT
A5: N_MOBILIER | B5: N | C5: =IF(ISBLANK(B5),"",IFERROR(VLOOKUP(B5,INDIRECT(A5),7,0)," -- Code incorrect --")) -> N - MOBILIER | D5: =IF(ISBLANK(B5),"",IFERROR(VLOOKUP(B5,INDIRECT(A5),9,0)," -- Code incorrect --")) -> 0
A6: N_MOBILIER | B6: N 5 | C6: =IF(ISBLANK(B6),"",IFERROR(VLOOKUP(B6,INDIRECT(A6),7,0)," -- Code incorrect --")) -> BANCS Ce prix rémunère à l’unité, la fourniture et pose de mobilier urbain tel que décris dans le CCTP. Ce prix comprend : le terrassement complémentaire, la confection des massifs de scellement en béton dosé à 350kg/m3 de ciment CP 45, y compris façon de réservation, tiges et platine de fixation éventuelles ou carottage, ou ferraillage, le remblaiement périphérique, y compris le compactage et l'évacuation des matériaux excédentaires aux décharges, La fourniture, le chargement, le transport et le déchargement la mise en place et la fixation du mobilier. | D6: =IF(ISBLANK(B6),"",IFERROR(VLOOKUP(B6,INDIRECT(A6),9,0)," -- Code incorrect --")) -> 0
A7: N_MOBILIER | B7: N 5 a | C7: =IF(ISBLANK(B7),"",IFERROR(VLOOKUP(B7,INDIRECT(A7),7,0)," -- Code incorrect --")) -> Banc "DROIT" conforme aux pièces graphiques et CCTP | D7: =IF(ISBLANK(B7),"",IFERROR(VLOOKUP(B7,INDIRECT(A7),9,0)," -- Code incorrect --")) -> U
A8: N_MOBILIER | B8: N 8 | C8: =IF(ISBLANK(B8),"",IFERROR(VLOOKUP(B8,INDIRECT(A8),7,0)," -- Code incorrect --")) -> CLOU DE CHAUSSEE Ce prix rémunère à l’unité la fourniture et la pose de clous de chaussée en inox, acier peint ou bronze. Ce prix comprend : - la fourniture des clous - les dispositifs de fixation nécessaires, y compris percement d’éléments en pierre naturelle neuve - le remplacement éventuel des éléments en pierre naturelle abimés par le percement - toutes sujétions inhérentes à ce prix. | D8: =IF(ISBLANK(B8),"",IFERROR(VLOOKUP(B8,INDIRECT(A8),9,0)," -- Code incorrect --")) -> 0
A9: N_MOBILIER | B9: N 8 a | C9: =IF(ISBLANK(B9),"",IFERROR(VLOOKUP(B9,INDIRECT(A9),7,0)," -- Code incorrect --")) -> Clous carrés inox brossé 120*120, Fusion de chez UNIVERS & CITE | D9: =IF(ISBLANK(B9),"",IFERROR(VLOOKUP(B9,INDIRECT(A9),9,0)," -- Code incorrect --")) -> U
A10: N_MOBILIER | B10: N 9 | C10: =IF(ISBLANK(B10),"",IFERROR(VLOOKUP(B10,INDIRECT(A10),7,0)," -- Code incorrect --")) -> CORBEILLE Ce prix rémunère à l’unité, la fourniture et pose de mobilier urbain tel que décris dans le CCTP. Ce prix comprend : - la découpe du revêtement de surface et de la couche de fondation à la carotteuse, - le terrassement complémentaire, - la confection des massifs de scellement en béton dosé à 350kg/m3 de ciment CP 45, y compris façon de réservation, tiges et platine de fixation éventuelles ou carottage, ou ferraillage, - le remblaiement périphérique, y compris le compactage et l'évacuation des matériaux excédentaires aux décharges, - le cas échéant le complètement au niveau fini avec un mortier de la teinte du revêtement de surface - La fourniture, le chargement, le transport et le déchargement la mise en place et la fixation du mobilier. | D10: =IF(ISBLANK(B10),"",IFERROR(VLOOKUP(B10,INDIRECT(A10),9,0)," -- Code incorrect --")) -> U
A11: N_MOBILIER | B11: N 13 | C11: =IF(ISBLANK(B11),"",IFERROR(VLOOKUP(B11,INDIRECT(A11),7,0)," -- Code incorrect --")) -> LISSE BOIS Ce prix rémunère la fourniture et pose de lisses bois tel que décris dans le CCTP et les pièces graphiques. Ce prix comprend : - le terrassement complémentaire, - la confection des massifs de scellement en béton dosé à 350kg/m3 de ciment CP 45, y compris façon de réservation, tiges et platine de fixation éventuelles ou carottage, ou ferraillage, - le remblaiement périphérique, y compris le compactage et l'évacuation des matériaux excédentaires aux décharges, La fourniture, le chargement, le transport et le déchargement la mise en place et la fixation des lisses en bois. | D11: =IF(ISBLANK(B11),"",IFERROR(VLOOKUP(B11,INDIRECT(A11),9,0)," -- Code incorrect --")) -> M
A12: N_MOBILIER | B12: N 12 a | C12: =IF(ISBLANK(B12),"",IFERROR(VLOOKUP(B12,INDIRECT(A12),7,0)," -- Code incorrect --")) -> SERI type "Croix St André" 1630mm | D12: =IF(ISBLANK(B12),"",IFERROR(VLOOKUP(B12,INDIRECT(A12),9,0)," -- Code incorrect --")) -> U
A13: A_PRIX_GENERAUX | B13: A 2 | C13: =IF(ISBLANK(B13),"",IFERROR(VLOOKUP(B13,INDIRECT(A13),7,0)," -- Code incorrect --")) -> DOSSIER D'EXECUTION Ce prix rémunère l'établissement de l'ensemble des documents généraux provisoires et définitifs du chantier ci après énumérés, y compris les rectifications et mises à jour éventuelles, les documents provisoires, les notes de calculs et études d’exécution de toutes les parties d’ouvrage. Ce prix comprend : - la rédaction et la fourniture, du plan d'hygiène et de sécurité, les dépenses de fonctionnement du Collège Interentreprises d'Hygiène et de Sécurité, et du Comité Particulier d'Hygiène et de Sécurité, du programme d'exécution des travaux, du projet des installations de chantier, ... - la fourniture de l'ensemble des fiches d'agrément de fournitures et matériaux, - l'ensemble des notes de calculs électroniques et/ou manuelles de stabilité, de ferraillage de toutes les parties d’ouvrages provisoires et définitives ainsi que la vérification des fondations avec la portance des sols rencontrés, conformément aux règlements et dispositions de bonne construction - l'ensemble des plans d'implantation des ouvrages, - l'ensemble des plans d’exécution de coffrage, ferraillage de toutes les parties d’ouvrages provisoires et définitives, - l'ensemble des modifications ou adjonctions des notes de calculs, des plans d’exécution, dues à une situation impondérable ou impromptue, - la mise à jour des plans et des notes de calculs, conformément à l’ouvrage exécuté sous la conduite du mandataire, -les métrés d'exécution, - les vacations du bureau d’études de l’entrepreneur qui doit être représenté en tant que de besoin aux réunions de chantier. Ce prix se règle : - Trente trois pour cent (33 %) du forfait au cours du mois qui suit la date de notification de l’ordre de service de commencer les travaux, - Trente trois pour cent (33 %) du forfait à mi-délai d’exécution contractuel, - Le solde du forfait à la fourniture d’un dossier comprenant toutes les pièces du dossier d’exécution conformément à l’ouvrage exécuté. | D13: =IF(ISBLANK(B13),"",IFERROR(VLOOKUP(B13,INDIRECT(A13),9,0)," -- Code incorrect --")) -> F
C14: =IF(ISBLANK(B14),"",IFERROR(VLOOKUP(B14,INDIRECT(A14),7,0)," -- Code incorrect --")) | D14: =IF(ISBLANK(B14),"",IFERROR(VLOOKUP(B14,INDIRECT(A14),9,0)," -- Code incorrect --"))

Sheet DQE
A3: Choix bordereau | B3: N° | C3: Désignation des ouvrages | D3: U | E3: Q | F3: PU | G3: PT
A4: =IF(DPGF!A5="","",DPGF!A5) -> N_MOBILIER | B4: =IF(DPGF!#REF!="","",DPGF!#REF!) -> #REF! | C4: =IF(ISBLANK(B4)," ",IF(ISNA(VLOOKUP(B4,INDIRECT(A4),1,0))," -- Code incorrect --",VLOOKUP(B4,INDIRECT(A4),5,0))) -> #REF! | D4: =IF(ISBLANK(B4)," ",IF(ISNA(VLOOKUP(B4,INDIRECT(A4),1,0))," -- Code incorrect --",VLOOKUP(B4,INDIRECT(A4),9,0))) -> #REF! | G4: =IF(E4>0,SUM(E4*F4),"")
A5: =IF(DPGF!A6="","",DPGF!A6) -> N_MOBILIER | B5: A 1 | C5: =IF(ISBLANK(B5)," ",IF(ISNA(VLOOKUP(B5,INDIRECT(A5),1,0))," -- Code incorrect --",VLOOKUP(B5,INDIRECT(A5),5,0))) -> -- Code incorrect -- | D5: =IF(ISBLANK(B5)," ",IF(ISNA(VLOOKUP(B5,INDIRECT(A5),1,0))," -- Code incorrect --",VLOOKUP(B5,INDIRECT(A5),9,0))) -> -- Code incorrect -- | G5: =IF(E5>0,SUM(E5*F5),"")
A6: =IF(DPGF!A7="","",DPGF!A7) -> N_MOBILIER | B6: =IF(DPGF!#REF!="","",DPGF!#REF!) -> #REF! | C6: =IF(ISBLANK(B6)," ",IF(ISNA(VLOOKUP(B6,INDIRECT(A6),1,0))," -- Code incorrect --",VLOOKUP(B6,INDIRECT(A6),5,0))) -> #REF! | D6: =IF(ISBLANK(B6)," ",IF(ISNA(VLOOKUP(B6,INDIRECT(A6),1,0))," -- Code incorrect --",VLOOKUP(B6,INDIRECT(A6),9,0))) -> #REF! | G6: =IF(E6>0,SUM(E6*F6),"")
A7: =IF(DPGF!A8="","",DPGF!A8) -> N_MOBILIER | B7: B 2 | C7: =IF(ISBLANK(B7)," ",IF(ISNA(VLOOKUP(B7,INDIRECT(A7),1,0))," -- Code incorrect --",VLOOKUP(B7,INDIRECT(A7),5,0))) -> -- Code incorrect -- | D7: =IF(ISBLANK(B7)," ",IF(ISNA(VLOOKUP(B7,INDIRECT(A7),1,0))," -- Code incorrect --",VLOOKUP(B7,INDIRECT(A7),9,0))) -> -- Code incorrect -- | G7: =IF(E7>0,SUM(E7*F7),"")
A8: =IF(DPGF!A9="","",DPGF!A9) -> N_MOBILIER
A9: =IF(DPGF!A10="","",DPGF!A10) -> N_MOBILIER | B9: =IF(DPGF!#REF!="","",DPGF!#REF!) -> #REF! | C9: =IF(ISBLANK(B9)," ",IF(ISNA(VLOOKUP(B9,INDIRECT(A9),1,0))," -- Code incorrect --",VLOOKUP(B9,INDIRECT(A9),5,0))) -> #REF! | D9: =IF(ISBLANK(B9)," ",IF(ISNA(VLOOKUP(B9,INDIRECT(A9),1,0))," -- Code incorrect --",VLOOKUP(B9,INDIRECT(A9),9,0))) -> #REF! | G9: =IF(E9>0,SUM(E9*F9),"")
A10: =IF(DPGF!A11="","",DPGF!A11) -> N_MOBILIER | B10: =IF(DPGF!#REF!="","",DPGF!#REF!) -> #REF! | C10: =IF(ISBLANK(B10)," ",IF(ISNA(VLOOKUP(B10,INDIRECT(A10),1,0))," -- Code incorrect --",VLOOKUP(B10,INDIRECT(A10),5,0))) -> #REF! | D10: =IF(ISBLANK(B10)," ",IF(ISNA(VLOOKUP(B10,INDIRECT(A10),1,0))," -- Code incorrect --",VLOOKUP(B10,INDIRECT(A10),9,0))) -> #REF! | G10: =IF(E10>0,SUM(E10*F10),"")
A11: =IF(DPGF!A12="","",DPGF!A12) -> N_MOBILIER | B11: =IF(DPGF!#REF!="","",DPGF!#REF!) -> #REF! | C11: =IF(ISBLANK(B11)," ",IF(ISNA(VLOOKUP(B11,INDIRECT(A11),1,0))," -- Code incorrect --",VLOOKUP(B11,INDIRECT(A11),5,0))) -> #REF! | D11: =IF(ISBLANK(B11)," ",IF(ISNA(VLOOKUP(B11,INDIRECT(A11),1,0))," -- Code incorrect --",VLOOKUP(B11,INDIRECT(A11),9,0))) -> #REF! | G11: =IF(E11>0,SUM(E11*F11),"")
A12: =IF(DPGF!A15="","",DPGF!A15)
A13: =IF(DPGF!A16="","",DPGF!A16) | B13: =IF(DPGF!#REF!="","",DPGF!#REF!) -> #REF! | C13: =IF(ISBLANK(B13)," ",IF(ISNA(VLOOKUP(B13,INDIRECT(A13),1,0))," -- Code incorrect --",VLOOKUP(B13,INDIRECT(A13),5,0))) -> #REF! | D13: =IF(ISBLANK(B13)," ",IF(ISNA(VLOOKUP(B13,INDIRECT(A13),1,0))," -- Code incorrect --",VLOOKUP(B13,INDIRECT(A13),9,0))) -> #REF! | G13: =IF(E13>0,SUM(E13*F13),"")
A14: =IF(DPGF!A17="","",DPGF!A17)
A15: =IF(DPGF!A18="","",DPGF!A18) | B15: =IF(DPGF!#REF!="","",DPGF!#REF!) -> #REF! | C15: =IF(ISBLANK(B15)," ",IF(ISNA(VLOOKUP(B15,INDIRECT(A15),1,0))," -- Code incorrect --",VLOOKUP(B15,INDIRECT(A15),5,0))) -> #REF! | D15: =IF(ISBLANK(B15)," ",IF(ISNA(VLOOKUP(B15,INDIRECT(A15),1,0))," -- Code incorrect --",VLOOKUP(B15,INDIRECT(A15),9,0))) -> #REF! | G15: =IF(E15>0,SUM(E15*F15),"")
A16: =IF(DPGF!A19="","",DPGF!A19) | B16: =IF(DPGF!#REF!="","",DPGF!#REF!) -> #REF! | C16: =IF(ISBLANK(B16)," ",IF(ISNA(VLOOKUP(B16,INDIRECT(A16),1,0))," -- Code incorrect --",VLOOKUP(B16,INDIRECT(A16),5,0))) -> #REF! | D16: =IF(ISBLANK(B16)," ",IF(ISNA(VLOOKUP(B16,INDIRECT(A16),1,0))," -- Code incorrect --",VLOOKUP(B16,INDIRECT(A16),9,0))) -> #REF! | G16: =IF(E16>0,SUM(E16*F16),"")
A17: =IF(DPGF!A20="","",DPGF!A20) | B17: =IF(DPGF!#REF!="","",DPGF!#REF!) -> #REF! | C17: =IF(ISBLANK(B17)," ",IF(ISNA(VLOOKUP(B17,INDIRECT(A17),1,0))," -- Code incorrect --",VLOOKUP(B17,INDIRECT(A17),5,0))) -> #REF! | D17: =IF(ISBLANK(B17)," ",IF(ISNA(VLOOKUP(B17,INDIRECT(A17),1,0))," -- Code incorrect --",VLOOKUP(B17,INDIRECT(A17),9,0))) -> #REF! | G17: =IF(E17>0,SUM(E17*F17),"")
A18: =IF(DPGF!A21="","",DPGF!A21) | B18: =IF(DPGF!#REF!="","",DPGF!#REF!) -> #REF! | C18: =IF(ISBLANK(B18)," ",IF(ISNA(VLOOKUP(B18,INDIRECT(A18),1,0))," -- Code incorrect --",VLOOKUP(B18,INDIRECT(A18),5,0))) -> #REF! | D18: =IF(ISBLANK(B18)," ",IF(ISNA(VLOOKUP(B18,INDIRECT(A18),1,0))," -- Code incorrect --",VLOOKUP(B18,INDIRECT(A18),9,0))) -> #REF! | G18: =IF(E18>0,SUM(E18*F18),"")
A19: =IF(DPGF!A22="","",DPGF!A22) | B19: =IF(DPGF!#REF!="","",DPGF!#REF!) -> #REF! | C19: =IF(ISBLANK(B19)," ",IF(ISNA(VLOOKUP(B19,INDIRECT(A19),1,0))," -- Code incorrect --",VLOOKUP(B19,INDIRECT(A19),5,0))) -> #REF! | D19: =IF(ISBLANK(B19)," ",IF(ISNA(VLOOKUP(B19,INDIRECT(A19),1,0))," -- Code incorrect --",VLOOKUP(B19,INDIRECT(A19),9,0))) -> #REF! | G19: =IF(E19>0,SUM(E19*F19),"")
A20: =IF(DPGF!A23="","",DPGF!A23) | B20: =IF(DPGF!#REF!="","",DPGF!#REF!) -> #REF! | C20: =IF(ISBLANK(B20)," ",IF(ISNA(VLOOKUP(B20,INDIRECT(A20),1,0))," -- Code incorrect --",VLOOKUP(B20,INDIRECT(A20),5,0))) -> #REF! | D20: =IF(ISBLANK(B20)," ",IF(ISNA(VLOOKUP(B20,INDIRECT(A20),1,0))," -- Code incorrect --",VLOOKUP(B20,INDIRECT(A20),9,0))) -> #REF! | G20: =IF(E20>0,SUM(E20*F20),"")
A21: =IF(DPGF!A24="","",DPGF!A24) | B21: =IF(DPGF!#REF!="","",DPGF!#REF!) -> #REF! | C21: =IF(ISBLANK(B21)," ",IF(ISNA(VLOOKUP(B21,INDIRECT(A21),1,0))," -- Code incorrect --",VLOOKUP(B21,INDIRECT(A21),5,0))) -> #REF! | D21: =IF(ISBLANK(B21)," ",IF(ISNA(VLOOKUP(B21,INDIRECT(A21),1,0))," -- Code incorrect --",VLOOKUP(B21,INDIRECT(A21),9,0))) -> #REF! | G21: =IF(E21>0,SUM(E21*F21),"")
A22: =IF(DPGF!A25="","",DPGF!A25) | B22: =IF(DPGF!#REF!="","",DPGF!#REF!) -> #REF! | C22: =IF(ISBLANK(B22)," ",IF(ISNA(VLOOKUP(B22,INDIRECT(A22),1,0))," -- Code incorrect --",VLOOKUP(B22,INDIRECT(A22),5,0))) -> #REF! | D22: =IF(ISBLANK(B22)," ",IF(ISNA(VLOOKUP(B22,INDIRECT(A22),1,0))," -- Code incorrect --",VLOOKUP(B22,INDIRECT(A22),9,0))) -> #REF! | G22: =IF(E22>0,SUM(E22*F22),"")
A23: =IF(DPGF!A26="","",DPGF!A26) | B23: =IF(DPGF!#REF!="","",DPGF!#REF!) -> #REF! | C23: =IF(ISBLANK(B23)," ",IF(ISNA(VLOOKUP(B23,INDIRECT(A23),1,0))," -- Code incorrect --",VLOOKUP(B23,INDIRECT(A23),5,0))) -> #REF! | D23: =IF(ISBLANK(B23)," ",IF(ISNA(VLOOKUP(B23,INDIRECT(A23),1,0))," -- Code incorrect --",VLOOKUP(B23,INDIRECT(A23),9,0))) -> #REF! | G23: =IF(E23>0,SUM(E23*F23),"")
A24: =IF(DPGF!A27="","",DPGF!A27) | B24: =IF(DPGF!#REF!="","",DPGF!#REF!) -> #REF! | C24: =IF(ISBLANK(B24)," ",IF(ISNA(VLOOKUP(B24,INDIRECT(A24),1,0))," -- Code incorrect --",VLOOKUP(B24,INDIRECT(A24),5,0))) -> #REF! | D24: =IF(ISBLANK(B24)," ",IF(ISNA(VLOOKUP(B24,INDIRECT(A24),1,0))," -- Code incorrect --",VLOOKUP(B24,INDIRECT(A24),9,0))) -> #REF! | G24: =IF(E24>0,SUM(E24*F24),"")
A25: =IF(DPGF!A28="","",DPGF!A28) | B25: =IF(DPGF!#REF!="","",DPGF!#REF!) -> #REF! | C25: =IF(ISBLANK(B25)," ",IF(ISNA(VLOOKUP(B25,INDIRECT(A25),1,0))," -- Code incorrect --",VLOOKUP(B25,INDIRECT(A25),5,0))) -> #REF! | D25: =IF(ISBLANK(B25)," ",IF(ISNA(VLOOKUP(B25,INDIRECT(A25),1,0))," -- Code incorrect --",VLOOKUP(B25,INDIRECT(A25),9,0))) -> #REF! | G25: =IF(E25>0,SUM(E25*F25),"")
A26: =IF(DPGF!A29="","",DPGF!A29)
A27: =IF(DPGF!A30="","",DPGF!A30) | B27: =IF(DPGF!#REF!="","",DPGF!#REF!) -> #REF! | C27: =IF(ISBLANK(B27)," ",IF(ISNA(VLOOKUP(B27,INDIRECT(A27),1,0))," -- Code incorrect --",VLOOKUP(B27,INDIRECT(A27),5,0))) -> #REF! | D27: =IF(ISBLANK(B27)," ",IF(ISNA(VLOOKUP(B27,INDIRECT(A27),1,0))," -- Code incorrect --",VLOOKUP(B27,INDIRECT(A27),9,0))) -> #REF! | G27: =IF(E27>0,SUM(E27*F27),"")
A28: =IF(DPGF!A31="","",DPGF!A31)
C29: =IF(ISBLANK(B29)," ",IF(ISNA(VLOOKUP(B29,INDIRECT(#REF!),1,0))," -- Code incorrect --",VLOOKUP(B29,INDIRECT(#REF!),7,0))) | D29: =IF(ISBLANK(B29)," ",IF(ISNA(VLOOKUP(B29,INDIRECT(#REF!),1,0))," -- Code incorrect --",VLOOKUP(B29,INDIRECT(#REF!),9,0))) | G29: =IF(E29>0,SUM(E29*F29),"")
D30: TOTAL H.T | G30: =SUM(G5:G27) -> 0
D32: TVA 20,00 % | G32: =G30*0.2 -> 0
D34: TOTAL T.T.C | G34: =SUM(G30:G32) -> 0

Sheet BPU
B1: =DPGF!A1 -> 0
B2: =DPGF!A2 -> 0
B3: N° des prix | C3: Désignation des ouvrages et prix H.T. en toutes lettres | D3: prix H.T. en chiffres
A4: =DPGF!#REF! -> #REF! | B4: =DPGF!#REF! -> #REF! | C4: =IF(ISBLANK(B4)," ",IF(ISNA(VLOOKUP(B4,INDIRECT(A4),1,0))," -- Code incorrect --",VLOOKUP(B4,INDIRECT(A4),7,0)&CHAR(10)&VLOOKUP(B4,INDIRECT(A4),8,0))) -> #REF!
A5: =DPGF!#REF! -> #REF! | B5: =DPGF!#REF! -> #REF! | C5: =IF(ISBLANK(B5)," ",IF(ISNA(VLOOKUP(B5,INDIRECT(A5),1,0))," -- Code incorrect --",VLOOKUP(B5,INDIRECT(A5),7,0)&CHAR(10)&VLOOKUP(B5,INDIRECT(A5),8,0))) -> #REF!
A7: =DPGF!#REF! -> #REF! | B7: =DPGF!#REF! -> #REF! | C7: =IF(ISBLANK(B7)," ",IF(ISNA(VLOOKUP(B7,INDIRECT(A7),1,0))," -- Code incorrect --",VLOOKUP(B7,INDIRECT(A7),7,0)&CHAR(10)&VLOOKUP(B7,INDIRECT(A7),8,0))) -> #REF!
A8: =DPGF!#REF! -> #REF! | B8: =DPGF!#REF! -> #REF! | C8: =IF(ISBLANK(B8)," ",IF(ISNA(VLOOKUP(B8,INDIRECT(A8),1,0))," -- Code incorrect --",VLOOKUP(B8,INDIRECT(A8),7,0)&CHAR(10)&VLOOKUP(B8,INDIRECT(A8),8,0))) -> #REF!
A9: =DPGF!#REF! -> #REF! | B9: =DPGF!#REF! -> #REF! | C9: =IF(ISBLANK(B9)," ",IF(ISNA(VLOOKUP(B9,INDIRECT(A9),1,0))," -- Code incorrect --",VLOOKUP(B9,INDIRECT(A9),7,0)&CHAR(10)&VLOOKUP(B9,INDIRECT(A9),8,0))) -> #REF!
A10: =DPGF!#REF! -> #REF! | B10: =DPGF!#REF! -> #REF! | C10: =IF(ISBLANK(B10)," ",IF(ISNA(VLOOKUP(B10,INDIRECT(A10),1,0))," -- Code incorrect --",VLOOKUP(B10,INDIRECT(A10),7,0)&CHAR(10)&VLOOKUP(B10,INDIRECT(A10),8,0))) -> #REF!
A11: =DPGF!#REF! -> #REF! | B11: =DPGF!#REF! -> #REF! | C11: =IF(ISBLANK(B11)," ",IF(ISNA(VLOOKUP(B11,INDIRECT(A11),1,0))," -- Code incorrect --",VLOOKUP(B11,INDIRECT(A11),7,0)&CHAR(10)&VLOOKUP(B11,INDIRECT(A11),8,0))) -> #REF!
A12: =DPGF!#REF! -> #REF! | B12: =DPGF!#REF! -> #REF! | C12: =IF(ISBLANK(B12)," ",IF(ISNA(VLOOKUP(B12,INDIRECT(A12),1,0))," -- Code incorrect --",VLOOKUP(B12,INDIRECT(A12),7,0)&CHAR(10)&VLOOKUP(B12,INDIRECT(A12),8,0))) -> #REF!
A13: =DPGF!#REF! -> #REF! | B13: =DPGF!#REF! -> #REF! | C13: =IF(ISBLANK(B13)," ",IF(ISNA(VLOOKUP(B13,INDIRECT(A13),1,0))," -- Code incorrect --",VLOOKUP(B13,INDIRECT(A13),7,0)&CHAR(10)&VLOOKUP(B13,INDIRECT(A13),8,0))) -> #REF!
A14: =DPGF!#REF! -> #REF! | B14: =DPGF!#REF! -> #REF! | C14: =IF(ISBLANK(B14)," ",IF(ISNA(VLOOKUP(B14,INDIRECT(A14),1,0))," -- Code incorrect --",VLOOKUP(B14,INDIRECT(A14),7,0)&CHAR(10)&VLOOKUP(B14,INDIRECT(A14),8,0))) -> #REF!
A15: =DPGF!#REF! -> #REF! | B15: =DPGF!#REF! -> #REF! | C15: =IF(ISBLANK(B15)," ",IF(ISNA(VLOOKUP(B15,INDIRECT(A15),1,0))," -- Code incorrect --",VLOOKUP(B15,INDIRECT(A15),7,0)&CHAR(10)&VLOOKUP(B15,INDIRECT(A15),8,0))) -> #REF!
A16: =DPGF!#REF! -> #REF! | B16: =DPGF!#REF! -> #REF! | C16: =IF(ISBLANK(B16)," ",IF(ISNA(VLOOKUP(B16,INDIRECT(A16),1,0))," -- Code incorrect --",VLOOKUP(B16,INDIRECT(A16),7,0)&CHAR(10)&VLOOKUP(B16,INDIRECT(A16),8,0))) -> #REF!
... A46: =DPGF!#REF! -> #REF! | B46: =DPGF!#REF! -> #REF! | C46: =IF(ISBLANK(B46)," ",IF(ISNA(VLOOKUP(B46,INDIRECT(A46),1,0))," -- Code incorrect --",VLOOKUP(B46,INDIRECT(A46),7,0)&CHAR(10)&VLOOKUP(B46,INDIRECT(A46),8,0))) -> #REF!
A47: =DPGF!#REF! -> #REF! | B47: =DPGF!#REF! -> #REF!
A48: =DPGF!#REF! -> #REF! | B48: =DPGF!#REF! -> #REF! | C48: =IF(ISBLANK(B48)," ",IF(ISNA(VLOOKUP(B48,INDIRECT(A48),1,0))," -- Code incorrect --",VLOOKUP(B48,INDIRECT(A48),7,0)&CHAR(10)&VLOOKUP(B48,INDIRECT(A48),8,0))) -> #REF!
A49: =DPGF!#REF! -> #REF! | B49: =DPGF!#REF! -> #REF! | C49: CONTRÔLE DE PERMEABILITE DE COUCHE DRAINANTE Ce prix rémunère au forfait, les contrôles de perméabilité de la couche drainante conformément aux prescriptions énoncées dans le C.C.T.P et comprend notamment : • La réalisation des essais par un laboratoire agrée indépendant. Le laboratoire devra être agrée par le maître d'œuvre, • Les essais devront être réalisés tous les 200 m². L'entrepreneur proposera au maître d'œuvre la position des essais sur un plan pour agrément du maître d'œuvre, • Les essais seront transmis directement au maître d'œuvre en 3 exemplaires papiers • Toutes sujétions et aléas LE FORFAIT :
A50: =DPGF!#REF! -> #REF! | B50: =DPGF!#REF! -> #REF! | C50: CONTRÔLE DE PERMEABILITE DE COUCHE DRAINANTE Ce prix rémunère au forfait, les contrôles de perméabilité de la couche drainante conformément aux prescriptions énoncées dans le C.C.T.P et comprend notamment : • La réalisation des essais par un laboratoire agrée indépendant. Le laboratoire devra être agrée par le maître d'œuvre, • Les essais devront être réalisés tous les 200 m². L'entrepreneur proposera au maître d'œuvre la position des essais sur un plan pour agrément du maître d'œuvre, • Les essais seront transmis directement au maître d'œuvre en 3 exemplaires papiers • Toutes sujétions et aléas LE FORFAIT :
A51: =DPGF!#REF! -> #REF! | B51: =DPGF!#REF! -> #REF! | C51: CONTRÔLE DE PERMEABILITE DE COUCHE DRAINANTE Ce prix rémunère au forfait, les contrôles de perméabilité de la couche drainante conformément aux prescriptions énoncées dans le C.C.T.P et comprend notamment : • La réalisation des essais par un laboratoire agrée indépendant. Le laboratoire devra être agrée par le maître d'œuvre, • Les essais devront être réalisés tous les 200 m². L'entrepreneur proposera au maître d'œuvre la position des essais sur un plan pour agrément du maître d'œuvre, • Les essais seront transmis directement au maître d'œuvre en 3 exemplaires papiers • Toutes sujétions et aléas LE FORFAIT :
A52: =DPGF!#REF! -> #REF! | B52: =DPGF!#REF! -> #REF! | C52: CONTRÔLE DE PERMEABILITE DE COUCHE DRAINANTE Ce prix rémunère au forfait, les contrôles de perméabilité de la couche drainante conformément aux prescriptions énoncées dans le C.C.T.P et comprend notamment : • La réalisation des essais par un laboratoire agrée indépendant. Le laboratoire devra être agrée par le maître d'œuvre, • Les essais devront être réalisés tous les 200 m². L'entrepreneur proposera au maître d'œuvre la position des essais sur un plan pour agrément du maître d'œuvre, • Les essais seront transmis directement au maître d'œuvre en 3 exemplaires papiers • Toutes sujétions et aléas LE FORFAIT :
A53: =DPGF!#REF! -> #REF! | B53: =DPGF!#REF! -> #REF! | C53: CONTRÔLE DE PERMEABILITE DE COUCHE DRAINANTE Ce prix rémunère au forfait, les contrôles de perméabilité de la couche drainante conformément aux prescriptions énoncées dans le C.C.T.P et comprend notamment : • La réalisation des essais par un laboratoire agrée indépendant. Le laboratoire devra être agrée par le maître d'œuvre, • Les essais devront être réalisés tous les 200 m². L'entrepreneur proposera au maître d'œuvre la position des essais sur un plan pour agrément du maître d'œuvre, • Les essais seront transmis directement au maître d'œuvre en 3 exemplaires papiers • Toutes sujétions et aléas LE FORFAIT :
A54: =DPGF!#REF! -> #REF! | B54: =DPGF!#REF! -> #REF! | C54: CONTRÔLE DE PERMEABILITE DE COUCHE DRAINANTE Ce prix rémunère au forfait, les contrôles de perméabilité de la couche drainante conformément aux prescriptions énoncées dans le C.C.T.P et comprend notamment : • La réalisation des essais par un laboratoire agrée indépendant. Le laboratoire devra être agrée par le maître d'œuvre, • Les essais devront être réalisés tous les 200 m². L'entrepreneur proposera au maître d'œuvre la position des essais sur un plan pour agrément du maître d'œuvre, • Les essais seront transmis directement au maître d'œuvre en 3 exemplaires papiers • Toutes sujétions et aléas LE FORFAIT :
A55: =DPGF!#REF! -> #REF! | B55: =DPGF!#REF! -> #REF! | C55: =IF(ISBLANK(B55)," ",IF(ISNA(VLOOKUP(B55,INDIRECT(A55),1,0))," -- Code incorrect --",VLOOKUP(B55,INDIRECT(A55),7,0)&CHAR(10)&VLOOKUP(B55,INDIRECT(A55),8,0))) -> #REF!
A56: =DPGF!#REF! -> #REF! | B56: =DPGF!#REF! -> #REF! | C56: =IF(ISBLANK(B56)," ",IF(ISNA(VLOOKUP(B56,INDIRECT(A56),1,0))," -- Code incorrect --",VLOOKUP(B56,INDIRECT(A56),7,0)&CHAR(10)&VLOOKUP(B56,INDIRECT(A56),8,0))) -> #REF!
A57: =DPGF!#REF! -> #REF! | B57: =DPGF!#REF! -> #REF! | C57: =IF(ISBLANK(B57)," ",IF(ISNA(VLOOKUP(B57,INDIRECT(A57),1,0))," -- Code incorrect --",VLOOKUP(B57,INDIRECT(A57),7,0)&CHAR(10)&VLOOKUP(B57,INDIRECT(A57),8,0))) -> #REF!
A58: =DPGF!#REF! -> #REF! | B58: =DPGF!#REF! -> #REF! | C58: =IF(ISBLANK(B58)," ",IF(ISNA(VLOOKUP(B58,INDIRECT(A58),1,0))," -- Code incorrect --",VLOOKUP(B58,INDIRECT(A58),7,0)&CHAR(10)&VLOOKUP(B58,INDIRECT(A58),8,0))) -> #REF!
A60: =DPGF!#REF! -> #REF! | B60: =DPGF!#REF! -> #REF! | C60: =IF(ISBLANK(B60)," ",IF(ISNA(VLOOKUP(B60,INDIRECT(A60),1,0))," -- Code incorrect --",VLOOKUP(B60,INDIRECT(A60),7,0)&CHAR(10)&VLOOKUP(B60,INDIRECT(A60),8,0))) -> #REF!
A61: =DPGF!#REF! -> #REF! | B61: =DPGF!#REF! -> #REF! | C61: =IF(ISBLANK(B61)," ",IF(ISNA(VLOOKUP(B61,INDIRECT(A61),1,0))," -- Code incorrect --",VLOOKUP(B61,INDIRECT(A61),7,0)&CHAR(10)&VLOOKUP(B61,INDIRECT(A61),8,0))) -> #REF!
A62: =DPGF!#REF! -> #REF! | B62: =DPGF!#REF! -> #REF! | C62: =IF(ISBLANK(B62)," ",IF(ISNA(VLOOKUP(B62,INDIRECT(A62),1,0))," -- Code incorrect --",VLOOKUP(B62,INDIRECT(A62),7,0)&CHAR(10)&VLOOKUP(B62,INDIRECT(A62),8,0))) -> #REF!
A63: =DPGF!#REF! -> #REF! | B63: =DPGF!#REF! -> #REF! | C63: =IF(ISBLANK(B63)," ",IF(ISNA(VLOOKUP(B63,INDIRECT(A63),1,0))," -- Code incorrect --",VLOOKUP(B63,INDIRECT(A63),7,0)&CHAR(10)&VLOOKUP(B63,INDIRECT(A63),8,0))) -> #REF!
A64: =DPGF!#REF! -> #REF! | B64: =DPGF!#REF! -> #REF! | C64: =IF(ISBLANK(B64)," ",IF(ISNA(VLOOKUP(B64,INDIRECT(A64),1,0))," -- Code incorrect --",VLOOKUP(B64,INDIRECT(A64),7,0)&CHAR(10)&VLOOKUP(B64,INDIRECT(A64),8,0))) -> #REF!
A65: =DPGF!#REF! -> #REF! | B65: =DPGF!#REF! -> #REF! | C65: =IF(ISBLANK(B65)," ",IF(ISNA(VLOOKUP(B65,INDIRECT(A65),1,0))," -- Code incorrect --",VLOOKUP(B65,INDIRECT(A65),7,0)&CHAR(10)&VLOOKUP(B65,INDIRECT(A65),8,0))) -> #REF!
A66: =DPGF!#REF! -> #REF! | B66: =DPGF!#REF! -> #REF! | C66: =IF(ISBLANK(B66)," ",IF(ISNA(VLOOKUP(B66,INDIRECT(A66),1,0))," -- Code incorrect --",VLOOKUP(B66,INDIRECT(A66),7,0)&CHAR(10)&VLOOKUP(B66,INDIRECT(A66),8,0))) -> #REF!
A67: =DPGF!#REF! -> #REF! | B67: =DPGF!#REF! -> #REF! | C67: =IF(ISBLANK(B67)," ",IF(ISNA(VLOOKUP(B67,INDIRECT(A67),1,0))," -- Code incorrect --",VLOOKUP(B67,INDIRECT(A67),7,0)&CHAR(10)&VLOOKUP(B67,INDIRECT(A67),8,0))) -> #REF!
A68: =DPGF!#REF! -> #REF! | B68: =DPGF!#REF! -> #REF!
A69: =DPGF!#REF! -> #REF! | B69: =DPGF!#REF! -> #REF! | C69: =IF(ISBLANK(B69)," ",IF(ISNA(VLOOKUP(B69,INDIRECT(A69),1,0))," -- Code incorrect --",VLOOKUP(B69,INDIRECT(A69),7,0)&CHAR(10)&VLOOKUP(B69,INDIRECT(A69),8,0))) -> #REF!
A70: =DPGF!#REF! -> #REF! | B70: =DPGF!#REF! -> #REF! | C70: =IF(ISBLANK(B70)," ",IF(ISNA(VLOOKUP(B70,INDIRECT(A70),1,0))," -- Code incorrect --",VLOOKUP(B70,INDIRECT(A70),7,0)&CHAR(10)&VLOOKUP(B70,INDIRECT(A70),8,0))) -> #REF!
A71: =DPGF!#REF! -> #REF! | B71: =DPGF!#REF! -> #REF! | C71: =IF(ISBLANK(B71)," ",IF(ISNA(VLOOKUP(B71,INDIRECT(A71),1,0))," -- Code incorrect --",VLOOKUP(B71,INDIRECT(A71),7,0)&CHAR(10)&VLOOKUP(B71,INDIRECT(A71),8,0))) -> #REF!
...

Sheet modèle mise en page
A1: N° DES PRIX | E1: DESIGNATION DES OUVRAGES ET PRIX H.T. EN TOUTES LETTRES | F1: PRIX H.T. EN CHIFFRES | J1: Liste feuilles
J2: A_PRIX_GENERAUX
J3: B_TRAVAUX_PREPARATOIRES
E4: intitulé du PRIX | J4: C_TERRASSEMENTS
E5: Ce prix rémunère (attention supprimer l'unité du prix dans le texte ex forfaitairement ….) | J5: D_ASSAINISSEMENT
E6: Ce prix comprend | J6: E_AEP
E7: Ce prix s'applique | J7: F_GC_RESEAUX
E8: Ce prix se règle (dans le cas de fractionnement en %) | J8: G_ELECTRICITE
E9: UNITE | J9: H_ECLAIRAGE_SLT
J10: I_VIDEO
J11: J_MACONNERIE
J12: K_SOLS_ET_VOIRIE
J13: L_SIGNALISATION
J14: M_JEUX
J15: N_MOBILIER
J16: O_SERRURERIE
J17: P_ESPACES_VERTS

Sheet A PRIX GENERAUX
B1: N° DES PRIX | E1: Désignation des ouvrages | F1: Description des ouvrages | G1: Désignation et description des ouvrages | H1: Unité en texte | I1: Unité
A2: =B2 -> A | B2: A | E2: A - PRIX GENERAUX | G2: =E2 -> A - PRIX GENERAUX
A3: =IF(D3="",B3&" "&C3,B3&" "&C3&" "&D3) -> A 1 | B3: A | C3: 1 | E3: SERVICE TOPOGRAPHIQUE - GEOMETRE DPLG | F3: Ce prix rémunère au forfait les levés planimétriques et altimétriques de l'emprise totale à aménager et nécessaires à l’implantation ou la vérification de travaux. Ce prix comprend : - La reconnaissance et la délimitation de la zone à lever, en accord avec le MOE, - La fourniture du matériel topographique, - La mise à disposition du personnel nécessaire au levé, - La réalisation du levé par semis de points avec une densité de 400 points à l’hectare, le relevé des éléments sera en coordonnées LAMBERT aussi bien en plan qu’en altimétrie des fils d’eau des canalisations, des branchements ou des raccordements, les longueurs et pentes devront apparaître sur les documents, - La réalisation des reports et plans des levés sur support informatique permettant la réalisation de dessins d’exécution ou de métrés. | G3: =E3&CHAR(10)&F3 -> SERVICE TOPOGRAPHIQUE - GEOMETRE DPLG Ce prix rémunère au forfait les levés planimétriques et altimétriques de l'emprise totale à aménager et nécessaires à l’implantation ou la vérification de travaux. Ce prix comprend : - La reconnaissance et la délimitation de la zone à lever, en accord avec le MOE, - La fourniture du matériel topographique, - La mise à disposition du personnel nécessaire au levé, - La réalisation du levé par semis de points avec une densité de 400 points à l’hectare, le relevé des éléments sera en coordonnées LAMBERT aussi bien en plan qu’en altimétrie des fils d’eau des canalisations, des branchements ou des raccordements, les longueurs et pentes devront apparaître sur les documents, - La réalisation des reports et plans des levés sur support informatique permettant la réalisation de dessins d’exécution ou de métrés. | H3: LE FORFAIT : | I3: F
A4: =IF(D4="",B4&" "&C4,B4&" "&C4&" "&D4) -> A 2 | B4: A | C4: 2 | E4: DOSSIER D'EXECUTION | F4: Ce prix rémunère l'établissement de l'ensemble des documents généraux provisoires et définitifs du chantier ci après énumérés, y compris les rectifications et mises à jour éventuelles, les documents provisoires, les notes de calculs et études d’exécution de toutes les parties d’ouvrage. Ce prix comprend : - la rédaction et la fourniture, du plan d'hygiène et de sécurité, les dépenses de fonctionnement du Collège Interentreprises d'Hygiène et de Sécurité, et du Comité Particulier d'Hygiène et de Sécurité, du programme d'exécution des travaux, du projet des installations de chantier, ... - la fourniture de l'ensemble des fiches d'agrément de fournitures et matériaux, - l'ensemble des notes de calculs électroniques et/ou manuelles de stabilité, de ferraillage de toutes les parties d’ouvrages provisoires et définitives ainsi que la vérification des fondations avec la portance des sols rencontrés, conformément aux règlements et dispositions de bonne construction - l'ensemble des plans d'implantation des ouvrages, - l'ensemble des plans d’exécution de coffrage, ferraillage de toutes les parties d’ouvrages provisoires et définitives, - l'ensemble des modifications ou adjonctions des notes de calculs, des plans d’exécution, dues à une situation impondérable ou impromptue, - la mise à jour des plans et des notes de calculs, conformément à l’ouvrage exécuté sous la conduite du mandataire, -les métrés d'exécution, - les vacations du bureau d’études de l’entrepreneur qui doit être représenté en tant que de besoin aux réunions de chantier. Ce prix se règle : - Trente trois pour cent (33 %) du forfait au cours du mois qui suit la date de notification de l’ordre de service de commencer les travaux, - Trente trois pour cent (33 %) du forfait à mi-délai d’exécution contractuel, - Le solde du forfait à la fourniture d’un dossier comprenant toutes les pièces du dossier d’exécution conformément à l’ouvrage exécuté. | G4: =E4&CHAR(10)&F4 -> DOSSIER D'EXECUTION Ce prix rémunère l'établissement de l'ensemble des documents généraux provisoires et définitifs du chantier ci après énumérés, y compris les rectifications et mises à jour éventuelles, les documents provisoires, les notes de calculs et études d’exécution de toutes les parties d’ouvrage. Ce prix comprend : - la rédaction et la fourniture, du plan d'hygiène et de sécurité, les dépenses de fonctionnement du Collège Interentreprises d'Hygiène et de Sécurité, et du Comité Particulier d'Hygiène et de Sécurité, du programme d'exécution des travaux, du projet des installations de chantier, ... - la fourniture de l'ensemble des fiches d'agrément de fournitures et matériaux, - l'ensemble des notes de calculs électroniques et/ou manuelles de stabilité, de ferraillage de toutes les parties d’ouvrages provisoires et définitives ainsi que la vérification des fondations avec la portance des sols rencontrés, conformément aux règlements et dispositions de bonne construction - l'ensemble des plans d'implantation des ouvrages, - l'ensemble des plans d’exécution de coffrage, ferraillage de toutes les parties d’ouvrages provisoires et définitives, - l'ensemble des modifications ou adjonctions des notes de calculs, des plans d’exécution, dues à une situation impondérable ou impromptue, - la mise à jour des plans et des notes de calculs, conformément à l’ouvrage exécuté sous la conduite du mandataire, -les métrés d'exécution, - les vacations du bureau d’études de l’entrepreneur qui doit être représenté en tant que de besoin aux réunions de chantier. Ce prix se règle : - Trente trois pour cent (33 %) du forfait au cours du mois qui suit la date de notification de l’ordre de service de commencer les travaux, - Trente trois pour cent (33 %) du forfait à mi-délai d’exécution contractuel, - Le solde du forfait à la fourniture d’un dossier comprenant toutes les pièces du dossier d’exécution conformément à l’ouvrage exécuté. | H4: LE FORFAIT : | I4: F
A5: =IF(D5="",B5&" "&C5,B5&" "&C5&" "&D5) -> A 3 | B5: A | C5: 3 | E5: AMENEE, ENTRETIEN ET REPLIEMENT DES INSTALLATIONS DE CHANTIER | F5: Ce prix rémunère forfaitairement les frais d’installation générale de chantier et de repliement du matériel, y compris l’amenée et le repliement en fin de chantier. Ce prix comprend : - les aménagements de terrain pour les installations de chantier, - la mise en place d’un vestiaire d’un réfectoire et d’un bloc sanitaire éclairé, - les frais de raccordement aux réseaux divers (eaux, électricité,) ainsi que le coût des consommations correspondantes, - les frais de clôture, de gardiennage et de balisage des installations, - l’amenée, l’installation et le repliement du matériel de chantier, - l’entretien pendant toute la durée des travaux de l’ensemble des installations, - l’enlèvement en fin de chantier de tous les matériels et installations, des matériaux en excèdent et la remise en état des lieux, - la démolition des accès et l’évacuation des déblais en décharge, droits de décharge compris. Il comprend également tous les aménagements nécessaires pour permettre le maintien dans de bonnes conditions de sécurité, de la circulation des piétons et des véhicules dans la zone des travaux suivant les stipulations du Maître d’œuvre. Il tient compte de la situation particulière des ouvrages à réaliser et rémunère la totalité des aménagements provisoires que l’entrepreneur sera amené à exécuter pour permettre à son personnel et à ses engins de chantier d’être à pied d’œuvre, ainsi que pour approvisionner le chantier sur le site même de chacune des parties d’ouvrage à construire. Ce prix comprend également : - la mise à disposition au représentant du Maître d’Oeuvre de locaux de chantier et matériels - l’ensemble de ces dispositions et installations feront l’objet d’un plan d’installation de chantier soumis à l’agrément du Maître d’Œuvre, - L’installation de chantier achevée et le matériel amené à pied d’œuvre, une fraction égale à soixante pour cent (60%) de ce prix sera réglé à l’Entrepreneur. Le solde sera versé après le repliement de tous les matériels et installations, l’enlèvement des matériaux en excèdent et la remise en état des lieux. Ce prix ne comprend pas les frais d’installation de clôture de chantier. | G5: =E5&CHAR(10)&F5 -> AMENEE, ENTRETIEN ET REPLIEMENT DES INSTALLATIONS DE CHANTIER Ce prix rémunère forfaitairement les frais d’installation générale de chantier et de repliement du matériel, y compris l’amenée et le repliement en fin de chantier. Ce prix comprend : - les aménagements de terrain pour les installations de chantier, - la mise en place d’un vestiaire d’un réfectoire et d’un bloc sanitaire éclairé, - les frais de raccordement aux réseaux divers (eaux, électricité,) ainsi que le coût des consommations correspondantes, - les frais de clôture, de gardiennage et de balisage des installations, - l’amenée, l’installation et le repliement du matériel de chantier, - l’entretien pendant toute la durée des travaux de l’ensemble des installations, - l’enlèvement en fin de chantier de tous les matériels et installations, des matériaux en excèdent et la remise en état des lieux, - la démolition des accès et l’évacuation des déblais en décharge, droits de décharge compris. Il comprend également tous les aménagements nécessaires pour permettre le maintien dans de bonnes conditions de sécurité, de la circulation des piétons et des véhicules dans la zone des travaux suivant les stipulations du Maître d’œuvre. Il tient compte de la situation particulière des ouvrages à réaliser et rémunère la totalité des aménagements provisoires que l’entrepreneur sera amené à exécuter pour permettre à son personnel et à ses engins de chantier d’être à pied d’œuvre, ainsi que pour approvisionner le chantier sur le site même de chacune des parties d’ouvrage à construire. Ce prix comprend également : - la mise à disposition au représentant du Maître d’Oeuvre de locaux de chantier et matériels - l’ensemble de ces dispositions et installations feront l’objet d’un plan d’installation de chantier soumis à l’agrément du Maître d’Œuvre, - L’installation de chantier achevée et le matériel amené à pied d’œuvre, une fraction égale à soixante pour cent (60%) de ce prix sera réglé à l’Entrepreneur. Le solde sera versé après le repliement de tous les matériels et installations, l’enlèvement des matériaux en excèdent et la remise en état des lieux. Ce prix ne comprend pas les frais d’installation de clôture de chantier. | H5: LE FORFAIT : | I5: F
A6: =IF(D6="",B6&" "&C6,B6&" "&C6&" "&D6) -> A 4 | B6: A | C6: 4 | E6: AMENEE, ENTRETIEN ET REPLIEMENT DES INSTALLATIONS DE CHANTIER COMMUNES A TOUS LES LOTS | F6: Ce prix rémunère forfaitairement les frais d’installation générale de chantier et de repliement du matériel, y compris l’amenée et le repliement en fin de chantier. Ce prix comprend : - les aménagements de terrain pour les installations de chantier, - la mise en place d’un vestiaire d’un réfectoire et d’un bloc sanitaire éclairé, - les frais de raccordement aux réseaux divers (eaux, électricité,) ainsi que le coût des consommations correspondantes, - les frais de clôture, de gardiennage et de balisage des installations, - l’amenée, l’installation et le repliement du matériel de chantier, - l’entretien pendant toute la durée des travaux de l’ensemble des installations, - l’enlèvement en fin de chantier de tous les matériels et installations, des matériaux en excèdent et la remise en état des lieux, - la démolition des accès et l’évacuation des déblais en décharge, droits de décharge compris. Il comprend également tous les aménagements nécessaires pour permettre le maintien dans de bonnes conditions de sécurité, de la circulation des piétons et des véhicules dans la zone des travaux suivant les stipulations du Maître d’œuvre. Il tient compte de la situation particulière des ouvrages à réaliser et rémunère la totalité des aménagements provisoires que l’entrepreneur sera amené à exécuter pour permettre à son personnel et à ses engins de chantier d’être à pied d’œuvre, ainsi que pour approvisionner le chantier sur le site même de chacune des parties d’ouvrage à construire. Ce prix comprend également : - la mise à disposition au représentant du Maître d’Oeuvre de locaux de chantier et matériels - l’ensemble de ces dispositions et installations feront l’objet d’un plan d’installation de chantier soumis à l’agrément du Maître d’Œuvre, - l’installation de chantier achevée et le matériel amené à pied d’œuvre, une fraction égale à soixante pour cent (60%) de ce prix sera réglé à l’Entrepreneur. Le solde sera versé après le repliement de tous les matériels et installations, l’enlèvement des matériaux en excèdent et la remise en état des lieux. Ce prix ne comprend pas les frais d’installation de clôture de chantier. | G6: =E6&CHAR(10)&F6 -> AMENEE, ENTRETIEN ET REPLIEMENT DES INSTALLATIONS DE CHANTIER COMMUNES A TOUS LES LOTS Ce prix rémunère forfaitairement les frais d’installation générale de chantier et de repliement du matériel, y compris l’amenée et le repliement en fin de chantier. Ce prix comprend : - les aménagements de terrain pour les installations de chantier, - la mise en place d’un vestiaire d’un réfectoire et d’un bloc sanitaire éclairé, - les frais de raccordement aux réseaux divers (eaux, électricité,) ainsi que le coût des consommations correspondantes, - les frais de clôture, de gardiennage et de balisage des installations, - l’amenée, l’installation et le repliement du matériel de chantier, - l’entretien pendant toute la durée des travaux de l’ensemble des installations, - l’enlèvement en fin de chantier de tous les matériels et installations, des matériaux en excèdent et la remise en état des lieux, - la démolition des accès et l’évacuation des déblais en décharge, droits de décharge compris. Il comprend également tous les aménagements nécessaires pour permettre le maintien dans de bonnes conditions de sécurité, de la circulation des piétons et des véhicules dans la zone des travaux suivant les stipulations du Maître d’œuvre. Il tient compte de la situation particulière des ouvrages à réaliser et rémunère la totalité des aménagements provisoires que l’entrepreneur sera amené à exécuter pour permettre à son personnel et à ses engins de chantier d’être à pied d’œuvre, ainsi que pour approvisionner le chantier sur le site même de chacune des parties d’ouvrage à construire. Ce prix comprend également : - la mise à disposition au représentant du Maître d’Oeuvre de locaux de chantier et matériels - l’ensemble de ces dispositions et installations feront l’objet d’un plan d’installation de chantier soumis à l’agrément du Maître d’Œuvre, - l’installation de chantier achevée et le matériel amené à pied d’œuvre, une fraction égale à soixante pour cent (60%) de ce prix sera réglé à l’Entrepreneur. Le solde sera versé après le repliement de tous les matériels et installations, l’enlèvement des matériaux en excèdent et la remise en état des lieux. Ce prix ne comprend pas les frais d’installation de clôture de chantier. | H6: LE FORFAIT : | I6: F
A7: =IF(D7="",B7&" "&C7,B7&" "&C7&" "&D7) -> A 5 | B7: A | C7: 5 | E7: INSTALLATION MAINTENANCE ET REPLIEMENT DE LA SIGNALISATION TEMPORAIRE DE CHANTIER | F7: Ce prix rémunère l’installation et le repliement de la signalisation des travaux pour assurer la protection du chantier et mis conformément au manuel du Chef de chantier édité par le SETRA. Ce prix comprend : - l’établissement des plans définissant la signalisation temporaire de chantier à mettre en œuvre aux différents stades d’avancement des travaux, ces plans étant soumis au visa du MOE, - la fourniture, l’amenée sur le site et la mise en place de l’ensemble des dispositifs de signalisation temporaire nécessaires dans les zones d’interférence avec la voirie provisoire et définitive sous circulation, - le stockage sur le chantier du matériel consommable (rubalise, cône, fiche métallique, plaque acier, protections diverses, ...) nécessaire au remplacement du matériel défaillant, - le remplacement du matériel en cas de détérioration ou de vol, - l’exploitation, la surveillance, la maintenance et le remplacement s’il y a lieu, de jour comme de nuit, de l’ensemble des dispositifs de signalisation temporaire nécessaires dans les zones d’interférence avec la voirie provisoire et définitive sous circulation, - les déplacements et mises en place successives destinées à faire évoluer les dispositifs de signalisation temporaire pour les adapter tant au phasage général des travaux qu’au phasage ponctuel correspondant à certaines opérations spécifiques nécessitant par exemple d’une réduction momentanée de la largeur d’une chaussée, - la mise en place des itinéraires de déviation et l’exploitation la surveillance et l’entretien de la signalisation de déviation pendant toute la durée du chantier, - la fourniture et la pose de panneaux de type KD nécessaire au balisage de l’itinéraire de déviation, l’exploitation la surveillance et l’entretien de la signalisation de déviation pendant toute la durée du chantier, - l'effacement définitif d'anciennes bandes continues, quelle que soit la largeur, y compris toutes les fournitures de matériel d'effacement et les opérations nécessaires à la complète élimination des produits résiduels notamment les balayages par aspiration, - la fourniture et l'application de marquage de couleur jaune pour signalisation horizontale temporaire quelle que soit la modulation et la largeur de la bande le pré marquage, le nettoyage initial des chaussées par décrottage, balayage et arrosage de la partie de chaussée à marquer ainsi que le maintien de son état, - le repliement de l’ensemble des équipements en fin de travaux. Ce prix tient compte de la dépréciation du matériel fourni et mis à disposition sur le chantier. Le règlement sera effectué à raison de soixante pour cent (60 %), lorsqu’à la demande de l’Entrepreneur, le MOE aura constaté que la réalisation de la signalisation et les dispositions prises pour son exploitation répondent effectivement à toutes les prescriptions du marché. Le solde sera versé après le repliement de tous les matériels et installations, l’enlèvement des matériaux en excédent et la remise en état des lieux. | G7: =E7&CHAR(10)&F7 -> INSTALLATION MAINTENANCE ET REPLIEMENT DE LA SIGNALISATION TEMPORAIRE DE CHANTIER Ce prix rémunère l’installation et le repliement de la signalisation des travaux pour assurer la protection du chantier et mis conformément au manuel du Chef de chantier édité par le SETRA. Ce prix comprend : - l’établissement des plans définissant la signalisation temporaire de chantier à mettre en œuvre aux différents stades d’avancement des travaux, ces plans étant soumis au visa du MOE, - la fourniture, l’amenée sur le site et la mise en place de l’ensemble des dispositifs de signalisation temporaire nécessaires dans les zones d’interférence avec la voirie provisoire et définitive sous circulation, - le stockage sur le chantier du matériel consommable (rubalise, cône, fiche métallique, plaque acier, protections diverses, ...) nécessaire au remplacement du matériel défaillant, - le remplacement du matériel en cas de détérioration ou de vol, - l’exploitation, la surveillance, la maintenance et le remplacement s’il y a lieu, de jour comme de nuit, de l’ensemble des dispositifs de signalisation temporaire nécessaires dans les zones d’interférence avec la voirie provisoire et définitive sous circulation, - les déplacements et mises en place successives destinées à faire évoluer les dispositifs de signalisation temporaire pour les adapter tant au phasage général des travaux qu’au phasage ponctuel correspondant à certaines opérations spécifiques nécessitant par exemple d’une réduction momentanée de la largeur d’une chaussée, - la mise en place des itinéraires de déviation et l’exploitation la surveillance et l’entretien de la signalisation de déviation pendant toute la durée du chantier, - la fourniture et la pose de panneaux de type KD nécessaire au balisage de l’itinéraire de déviation, l’exploitation la surveillance et l’entretien de la signalisation de déviation pendant toute la durée du chantier, - l'effacement définitif d'anciennes bandes continues, quelle que soit la largeur, y compris toutes les fournitures de matériel d'effacement et les opérations nécessaires à la complète élimination des produits résiduels notamment les balayages par aspiration, - la fourniture et l'application de marquage de couleur jaune pour signalisation horizontale temporaire quelle que soit la modulation et la largeur de la bande le pré marquage, le nettoyage initial des chaussées par décrottage, balayage et arrosage de la partie de chaussée à marquer ainsi que le maintien de son état, - le repliement de l’ensemble des équipements en fin de travaux. Ce prix tient compte de la dépréciation du matériel fourni et mis à disposition sur le chantier. Le règlement sera effectué à raison de soixante pour cent (60 %), lorsqu’à la demande de l’Entrepreneur, le MOE aura constaté que la réalisation de la signalisation et les dispositions prises pour son exploitation répondent effectivement à toutes les prescriptions du marché. Le solde sera versé après le repliement de tous les matériels et installations, l’enlèvement des matériaux en excédent et la remise en état des lieux. | H7: =""
A8: =IF(D8="",B8&" "&C8,B8&" "&C8&" "&D8) -> A 5 a | B8: A | C8: 5 | D8: a | E8: Signalisation de travaux lumineuse avec balises | F8: Signalisation de travaux lumineuse avec balises | G8: =F8 -> Signalisation de travaux lumineuse avec balises | H8: LE FORFAIT / JOUR : | I8: Ft/J
A9: =IF(D9="",B9&" "&C9,B9&" "&C9&" "&D9) -> A 5 b | B9: A | C9: 5 | D9: b | E9: Signalisation de travaux non lumineuse | F9: Signalisation de travaux non lumineuse | G9: =F9 -> Signalisation de travaux non lumineuse | H9: LE FORFAIT / JOUR : | I9: Ft/J
A10: =IF(D10="",B10&" "&C10,B10&" "&C10&" "&D10) -> A 6 | B10: A | C10: 6 | E10: INSTALLATION MAINTENANCE ET REPLIEMENT DE PANNEAUX DE JALONNEMENT ET D'INFORMATION DE CHANTIER TYPE KC ET KD | F10: Ce prix rémunère la pose de panneaux de signalisation temporaire, type KC et KD avec film rétro réfléchissant de classe 1 ou 2, y compris texte et pictogramme nécessaire, dont les mentions seront précisées par le MOE. Ce prix comprend : - la fourniture et la fixation sur support soit sur support existant, soit avec fourniture et scellement du support, le lestage, - la surveillance et la maintenance du panneau et de son support, et reste la propriété de l'entreprise, - la dépose et le repli du panneau. Ce prix s'applique à l'unité mise en place. | G10: =E10&CHAR(10)&F10 -> INSTALLATION MAINTENANCE ET REPLIEMENT DE PANNEAUX DE JALONNEMENT ET D'INFORMATION DE CHANTIER TYPE KC ET KD Ce prix rémunère la pose de panneaux de signalisation temporaire, type KC et KD avec film rétro réfléchissant de classe 1 ou 2, y compris texte et pictogramme nécessaire, dont les mentions seront précisées par le MOE. Ce prix comprend : - la fourniture et la fixation sur support soit sur support existant, soit avec fourniture et scellement du support, le lestage, - la surveillance et la maintenance du panneau et de son support, et reste la propriété de l'entreprise, - la dépose et le repli du panneau. Ce prix s'applique à l'unité mise en place.
A11: =IF(D11="",B11&" "&C11,B11&" "&C11&" "&D11) -> A 6 a | B11: A | C11: 6 | D11: a | E11: Le panneau de surface < 1 m² | F11: Le panneau de surface < 1 m² | G11: =F11 -> Le panneau de surface < 1 m² | H11: L'UNITE : | I11: U
A12: =IF(D12="",B12&" "&C12,B12&" "&C12&" "&D12) -> A 6 b | B12: A | C12: 6 | D12: b | E12: Le panneau de surface > 1 m² | F12: Le panneau de surface > 1 m² | G12: =F12 -> Le panneau de surface > 1 m² | H12: L'UNITE : | I12: U
A13: =IF(D13="",B13&" "&C13,B13&" "&C13&" "&D13) -> A 7 | B13: A | C13: 7 | E13: INSTALLATION MAINTENANCE ET REPLIEMENT DE FEUX TRICOLORES DE CHANTIER POUR ALTERNAT | F13: Ce prix rémunère l’amenée la maintenance et le repliement d’une signalisation tricolore mobile pour la gestion de la circulation. Ces feux seront réglables de manière à pouvoir privilégier le temps de vert ou de rouge sur un des flux (flux montant ou descendant en fonction de l’heure de la journée). Ce prix comprend : - le stockage sur le chantier du matériel consommable (batterie, ampoule, ...), nécessaire à la maintenance de l'installation, - l’exploitation, la surveillance, le remplacement s’il y a lieu, de jour comme de nuit, - le remplacement du matériel en cas de détérioration ou de vol Le responsable de la signalisation devra être joignable par téléphone 24 h/24 h. Le premier jour pris en compte pour l’application de ce prix sera celui où, à la demande de l’Entrepreneur, le Maître doeuvre aura constaté que la réalisation est effective. Le dernier jour sera celui où l’entrepreneur aura été invité par le Maître d’Œuvre à évacuer hors du domaine public concerné par les travaux, tous les matériels sans que ce jour puisse être postérieur à celui de l’achèvement des travaux. | G13: =E13&CHAR(10)&F13 -> INSTALLATION MAINTENANCE ET REPLIEMENT DE FEUX TRICOLORES DE CHANTIER POUR ALTERNAT Ce prix rémunère l’amenée la maintenance et le repliement d’une signalisation tricolore mobile pour la gestion de la circulation. Ces feux seront réglables de manière à pouvoir privilégier le temps de vert ou de rouge sur un des flux (flux montant ou descendant en fonction de l’heure de la journée). Ce prix comprend : - le stockage sur le chantier du matériel consommable (batterie, ampoule, ...), nécessaire à la maintenance de l'installation, - l’exploitation, la surveillance, le remplacement s’il y a lieu, de jour comme de nuit, - le remplacement du matériel en cas de détérioration ou de vol Le responsable de la signalisation devra être joignable par téléphone 24 h/24 h. Le premier jour pris en compte pour l’application de ce prix sera celui où, à la demande de l’Entrepreneur, le Maître doeuvre aura constaté que la réalisation est effective. Le dernier jour sera celui où l’entrepreneur aura été invité par le Maître d’Œuvre à évacuer hors du domaine public concerné par les travaux, tous les matériels sans que ce jour puisse être postérieur à celui de l’achèvement des travaux.
A14: =IF(D14="",B14&" "&C14,B14&" "&C14&" "&D14) -> A 7 a | B14: A | C14: 7 | D14: a | E14: pour une durée consécutive comprise entre 1 et 5 jours y compris week-end et jours fériés | F14: pour une durée consécutive comprise entre 1 et 5 jours y compris week-end et jours fériés | G14: =F14 -> pour une durée consécutive comprise entre 1 et 5 jours y compris week-end et jours fériés | H14: LA JOURNEE CALENDAIRE : | I14: J ca
A15: =IF(D15="",B15&" "&C15,B15&" "&C15&" "&D15) -> A 7 b | B15: A | C15: 7 | D15: b | E15: pour une durée consécutive comprise entre 6 et 12 jours y compris week-end et jours fériés | F15: pour une durée consécutive comprise entre 6 et 12 jours y compris week-end et jours fériés | G15: =F15 -> pour une durée consécutive comprise entre 6 et 12 jours y compris week-end et jours fériés | H15: LA JOURNEE CALENDAIRE : | I15: J ca
A16: =IF(D16="",B16&" "&C16,B16&" "&C16&" "&D16) -> A 7 c | B16: A | C16: 7 | D16: c | E16: pour une durée consécutive supérieure à 13 jours y compris week-end et jours fériés | F16: pour une durée consécutive supérieure à 13 jours y compris week-end et jours fériés | G16: =F16 -> pour une durée consécutive supérieure à 13 jours y compris week-end et jours fériés | H16: LA JOURNEE CALENDAIRE : | I16: J ca
A17: =IF(D17="",B17&" "&C17,B17&" "&C17&" "&D17) -> A 8 | B17: A | C17: 8 | E17: AMENEE POSE MAINTENANCE ET DEPOSE DE DISPOSITIFS DE TYPE K5 | F17: Ce prix rémunère la pose et dépose de dispositifs de type K5. Ce prix comprend : - la fourniture des dispositifs, - la pose des dispositifs (posé battu ou percement et scellement à la résine) selon le tracé indiqué, - la surveillance quotidienne, - le remplacement des éléments endommagés, - la dépose et l'évacuation de la balisette en fin de chantier, - toutes sujétions de fourniture, pose et mise en œuvre. | G17: =E17&CHAR(10)&F17 -> AMENEE POSE MAINTENANCE ET DEPOSE DE DISPOSITIFS DE TYPE K5 Ce prix rémunère la pose et dépose de dispositifs de type K5. Ce prix comprend : - la fourniture des dispositifs, - la pose des dispositifs (posé battu ou percement et scellement à la résine) selon le tracé indiqué, - la surveillance quotidienne, - le remplacement des éléments endommagés, - la dépose et l'évacuation de la balisette en fin de chantier, - toutes sujétions de fourniture, pose et mise en œuvre.
A18: =IF(D18="",B18&" "&C18,B18&" "&C18&" "&D18) -> A 8 a | B18: A | C18: 8 | D18: a | E18: type K5a, la dizaine | F18: =E18 -> type K5a, la dizaine | G18: =F18 -> type K5a, la dizaine | H18: LA DIZAINE : | I18: Dz
A19: =IF(D19="",B19&" "&C19,B19&" "&C19&" "&D19) -> A 8 b | B19: A | C19: 8 | D19: b | E19: type K5b, la dizaine | F19: =E19 -> type K5b, la dizaine | G19: =F19 -> type K5b, la dizaine | H19: LA DIZAINE : | I19: Dz
A20: =IF(D20="",B20&" "&C20,B20&" "&C20&" "&D20) -> A 8 c | B20: A | C20: 8 | D20: c | E20: type K5c | F20: =E20 -> type K5c | G20: =F20 -> type K5c | H20: L'UNITE : | I20: U
A21: =IF(D21="",B21&" "&C21,B21&" "&C21&" "&D21) -> A 8 d | B21: A | C21: 8 | D21: d | E21: type K5d | F21: =E21 -> type K5d | G21: =F21 -> type K5d | H21: L'UNITE : | I21: U
A22: =IF(D22="",B22&" "&C22,B22&" "&C22&" "&D22) -> A 9 | B22: A | C22: 9 | E22: FOURNITURE ET MISE EN PLACE D'ELEMENTS SEPARATEURS OU ANTISTATIONNEMENT TYPE K16 | F22: Ce prix rémunère la mise à disposition à pied d'œuvre, la pose, le lestage, l'alignement de séparateurs de voies en plastique rouges et blancs, équipés de délinéateurs retro réfléchissants classe II de type SECUREOLE 800 ou similaire, hauteur0,80m. Ce prix comprend : - le nettoyage des parties exposées à la circulation à la demande du MOE, - le remplacement des éléments manquants ou endommagés par des éléments similaires - les déplacements nécessaires selon l’avancement des travaux - le repliement des séparateurs à la fin des travaux | G22: =E22&CHAR(10)&F22 -> FOURNITURE ET MISE EN PLACE D'ELEMENTS SEPARATEURS OU ANTISTATIONNEMENT TYPE K16 Ce prix rémunère la mise à disposition à pied d'œuvre, la pose, le lestage, l'alignement de séparateurs de voies en plastique rouges et blancs, équipés de délinéateurs retro réfléchissants classe II de type SECUREOLE 800 ou similaire, hauteur0,80m. Ce prix comprend : - le nettoyage des parties exposées à la circulation à la demande du MOE, - le remplacement des éléments manquants ou endommagés par des éléments similaires - les déplacements nécessaires selon l’avancement des travaux - le repliement des séparateurs à la fin des travaux | H22: LE METRE/JOUR CALENDAIRE : | I22: M/J
A23: =IF(D23="",B23&" "&C23,B23&" "&C23&" "&D23) -> A 10 | B23: A | C23: 10 | E23: FOURNITURE ET MISE EN PLACE D'ELEMENTS SEPARATEURS OU ANTISTATIONNEMENT TYPE GBA BETON | F23: Ce prix rémunère la mise à disposition à pied d'œuvre, la pose, l'alignement de séparateurs de voies GBA béton hauteur 0,80m. Ce prix comprend : - la mise à disposition, la surveillance, la maintenance et le remplacement des éléments manquants ou endommagés par des éléments similaires de séparateur type GBA – hauteur 0,80m et des profils d'extrémité tous types y compris tous les éléments de jonction | G23: =E23&CHAR(10)&F23 -> FOURNITURE ET MISE EN PLACE D'ELEMENTS SEPARATEURS OU ANTISTATIONNEMENT TYPE GBA BETON Ce prix rémunère la mise à disposition à pied d'œuvre, la pose, l'alignement de séparateurs de voies GBA béton hauteur 0,80m. Ce prix comprend : - la mise à disposition, la surveillance, la maintenance et le remplacement des éléments manquants ou endommagés par des éléments similaires de séparateur type GBA – hauteur 0,80m et des profils d'extrémité tous types y compris tous les éléments de jonction | H23: LE METRE / JOUR CALENDAIRE : | I23: M/J
A24: =IF(D24="",B24&" "&C24,B24&" "&C24&" "&D24) -> A 11 | B24: A | C24: 11 | E24: DEPLACEMENT D'ELEMENTS SEPARATEURS OU ANTI STATIONNEMENT TYPE GBA BETON | F24: Ce prix comprend : - la dépose, le transport dans un rayon de 1000m et la mise en place de séparateur GBA – hauteur 0,80m et des profils d'extrémité tous types y compris tous les éléments de jonction | G24: =E24&CHAR(10)&F24 -> DEPLACEMENT D'ELEMENTS SEPARATEURS OU ANTI STATIONNEMENT TYPE GBA BETON Ce prix comprend : - la dépose, le transport dans un rayon de 1000m et la mise en place de séparateur GBA – hauteur 0,80m et des profils d'extrémité tous types y compris tous les éléments de jonction | H24: LE METRE : | I24: M
