Workbook

Sheet Période N
A1: Rubrique | B1: Libellé | C1: 06/2020 | D1: 07/2020 | E1: 08/2020 | F1: 09/2020 | G1: 10/2020 | H1: 11/2020 | I1: 12/2020 | J1: 01/2021 | K1: 02/2021 | L1: 03/2021 | M1: 04/2021 | N1: 05/2021
A2: 101900 | C2: =IF($A2="","",IFERROR(INDEX(Données[],MATCH($A2,Données[N.RUB.],0),MATCH('Période N'!C$1,Données!$1:$1,0)),0)) -> 2118.15 | D2: =IF($A2="","",IFERROR(INDEX(Données[],MATCH($A2,Données[12/2017],0),MATCH('Période N'!D$1,Données!$1:$1,0)),0)) -> 0 | E2: =IF($A2="","",IFERROR(INDEX(Données[],MATCH($A2,Données[01/2018],0),MATCH('Période N'!E$1,Données!$1:$1,0)),0)) -> 0 | F2: =IF($A2="","",IFERROR(INDEX(Données[],MATCH($A2,Données[02/2018],0),MATCH('Période N'!F$1,Données!$1:$1,0)),0)) -> 0 | G2: =IF($A2="","",IFERROR(INDEX(Données[],MATCH($A2,Données[03/2018],0),MATCH('Période N'!G$1,Données!$1:$1,0)),0)) -> 0 | H2: =IF($A2="","",IFERROR(INDEX(Données[],MATCH($A2,Données[04/2018],0),MATCH('Période N'!H$1,Données!$1:$1,0)),0)) -> 0 | I2: =IF($A2="","",IFERROR(INDEX(Données[],MATCH($A2,Données[05/2018],0),MATCH('Période N'!I$1,Données!$1:$1,0)),0)) -> 0 | J2: =IF($A2="","",IFERROR(INDEX(Données[],MATCH($A2,Données[06/2018],0),MATCH('Période N'!J$1,Données!$1:$1,0)),0)) -> 0 | K2: =IF($A2="","",IFERROR(INDEX(Données[],MATCH($A2,Données[07/2018],0),MATCH('Période N'!K$1,Données!$1:$1,0)),0)) -> 0 | L2: =IF($A2="","",IFERROR(INDEX(Données[],MATCH($A2,Données[08/2018],0),MATCH('Période N'!L$1,Données!$1:$1,0)),0)) -> 0 | M2: =IF($A2="","",IFERROR(INDEX(Données[],MATCH($A2,Données[09/2018],0),MATCH('Période N'!M$1,Données!$1:$1,0)),0)) -> 0 | N2: =IF($A2="","",IFERROR(INDEX(Données[],MATCH($A2,Données[10/2018],0),MATCH('Période N'!N$1,Données!$1:$1,0)),0)) -> 0
A3: 349900 | C3: =IF($A3="","",IFERROR(INDEX(Données[],MATCH($A3,Données[N.RUB.],0),MATCH('Période N'!C$1,Données!$1:$1,0)),0)) -> 3168.54 | D3: =IF($A3="","",IFERROR(INDEX(Données[],MATCH($A3,Données[12/2017],0),MATCH('Période N'!D$1,Données!$1:$1,0)),0)) -> 0 | E3: =IF($A3="","",IFERROR(INDEX(Données[],MATCH($A3,Données[01/2018],0),MATCH('Période N'!E$1,Données!$1:$1,0)),0)) -> 0 | F3: =IF($A3="","",IFERROR(INDEX(Données[],MATCH($A3,Données[02/2018],0),MATCH('Période N'!F$1,Données!$1:$1,0)),0)) -> 0 | G3: =IF($A3="","",IFERROR(INDEX(Données[],MATCH($A3,Données[03/2018],0),MATCH('Période N'!G$1,Données!$1:$1,0)),0)) -> 0 | H3: =IF($A3="","",IFERROR(INDEX(Données[],MATCH($A3,Données[04/2018],0),MATCH('Période N'!H$1,Données!$1:$1,0)),0)) -> 0 | I3: =IF($A3="","",IFERROR(INDEX(Données[],MATCH($A3,Données[05/2018],0),MATCH('Période N'!I$1,Données!$1:$1,0)),0)) -> 0 | J3: =IF($A3="","",IFERROR(INDEX(Données[],MATCH($A3,Données[06/2018],0),MATCH('Période N'!J$1,Données!$1:$1,0)),0)) -> 0 | K3: =IF($A3="","",IFERROR(INDEX(Données[],MATCH($A3,Données[07/2018],0),MATCH('Période N'!K$1,Données!$1:$1,0)),0)) -> 0 | L3: =IF($A3="","",IFERROR(INDEX(Données[],MATCH($A3,Données[08/2018],0),MATCH('Période N'!L$1,Données!$1:$1,0)),0)) -> 0 | M3: =IF($A3="","",IFERROR(INDEX(Données[],MATCH($A3,Données[09/2018],0),MATCH('Période N'!M$1,Données!$1:$1,0)),0)) -> 0 | N3: =IF($A3="","",IFERROR(INDEX(Données[],MATCH($A3,Données[10/2018],0),MATCH('Période N'!N$1,Données!$1:$1,0)),0)) -> 0
C4: =IF($A4="","",IFERROR(INDEX(Données[],MATCH($A4,Données[N.RUB.],0),MATCH('Période N'!C$1,Données!$1:$1,0)),0)) | D4: =IF($A4="","",IFERROR(INDEX(Données[],MATCH($A4,Données[12/2017],0),MATCH('Période N'!D$1,Données!$1:$1,0)),0)) | E4: =IF($A4="","",IFERROR(INDEX(Données[],MATCH($A4,Données[01/2018],0),MATCH('Période N'!E$1,Données!$1:$1,0)),0)) | F4: =IF($A4="","",IFERROR(INDEX(Données[],MATCH($A4,Données[02/2018],0),MATCH('Période N'!F$1,Données!$1:$1,0)),0)) | G4: =IF($A4="","",IFERROR(INDEX(Données[],MATCH($A4,Données[03/2018],0),MATCH('Période N'!G$1,Données!$1:$1,0)),0)) | H4: =IF($A4="","",IFERROR(INDEX(Données[],MATCH($A4,Données[04/2018],0),MATCH('Période N'!H$1,Données!$1:$1,0)),0)) | I4: =IF($A4="","",IFERROR(INDEX(Données[],MATCH($A4,Données[05/2018],0),MATCH('Période N'!I$1,Données!$1:$1,0)),0)) | J4: =IF($A4="","",IFERROR(INDEX(Données[],MATCH($A4,Données[06/2018],0),MATCH('Période N'!J$1,Données!$1:$1,0)),0)) | K4: =IF($A4="","",IFERROR(INDEX(Données[],MATCH($A4,Données[07/2018],0),MATCH('Période N'!K$1,Données!$1:$1,0)),0)) | L4: =IF($A4="","",IFERROR(INDEX(Données[],MATCH($A4,Données[08/2018],0),MATCH('Période N'!L$1,Données!$1:$1,0)),0)) | M4: =IF($A4="","",IFERROR(INDEX(Données[],MATCH($A4,Données[09/2018],0),MATCH('Période N'!M$1,Données!$1:$1,0)),0)) | N4: =IF($A4="","",IFERROR(INDEX(Données[],MATCH($A4,Données[10/2018],0),MATCH('Période N'!N$1,Données!$1:$1,0)),0))
C5: =IF($A5="","",IFERROR(INDEX(Données[],MATCH($A5,Données[N.RUB.],0),MATCH('Période N'!C$1,Données!$1:$1,0)),0)) | D5: =IF($A5="","",IFERROR(INDEX(Données[],MATCH($A5,Données[12/2017],0),MATCH('Période N'!D$1,Données!$1:$1,0)),0)) | E5: =IF($A5="","",IFERROR(INDEX(Données[],MATCH($A5,Données[01/2018],0),MATCH('Période N'!E$1,Données!$1:$1,0)),0)) | F5: =IF($A5="","",IFERROR(INDEX(Données[],MATCH($A5,Données[02/2018],0),MATCH('Période N'!F$1,Données!$1:$1,0)),0)) | G5: =IF($A5="","",IFERROR(INDEX(Données[],MATCH($A5,Données[03/2018],0),MATCH('Période N'!G$1,Données!$1:$1,0)),0)) | H5: =IF($A5="","",IFERROR(INDEX(Données[],MATCH($A5,Données[04/2018],0),MATCH('Période N'!H$1,Données!$1:$1,0)),0)) | I5: =IF($A5="","",IFERROR(INDEX(Données[],MATCH($A5,Données[05/2018],0),MATCH('Période N'!I$1,Données!$1:$1,0)),0)) | J5: =IF($A5="","",IFERROR(INDEX(Données[],MATCH($A5,Données[06/2018],0),MATCH('Période N'!J$1,Données!$1:$1,0)),0)) | K5: =IF($A5="","",IFERROR(INDEX(Données[],MATCH($A5,Données[07/2018],0),MATCH('Période N'!K$1,Données!$1:$1,0)),0)) | L5: =IF($A5="","",IFERROR(INDEX(Données[],MATCH($A5,Données[08/2018],0),MATCH('Période N'!L$1,Données!$1:$1,0)),0)) | M5: =IF($A5="","",IFERROR(INDEX(Données[],MATCH($A5,Données[09/2018],0),MATCH('Période N'!M$1,Données!$1:$1,0)),0)) | N5: =IF($A5="","",IFERROR(INDEX(Données[],MATCH($A5,Données[10/2018],0),MATCH('Période N'!N$1,Données!$1:$1,0)),0))
C6: =IF($A6="","",IFERROR(INDEX(Données[],MATCH($A6,Données[N.RUB.],0),MATCH('Période N'!C$1,Données!$1:$1,0)),0)) | D6: =IF($A6="","",IFERROR(INDEX(Données[],MATCH($A6,Données[12/2017],0),MATCH('Période N'!D$1,Données!$1:$1,0)),0)) | E6: =IF($A6="","",IFERROR(INDEX(Données[],MATCH($A6,Données[01/2018],0),MATCH('Période N'!E$1,Données!$1:$1,0)),0)) | F6: =IF($A6="","",IFERROR(INDEX(Données[],MATCH($A6,Données[02/2018],0),MATCH('Période N'!F$1,Données!$1:$1,0)),0)) | G6: =IF($A6="","",IFERROR(INDEX(Données[],MATCH($A6,Données[03/2018],0),MATCH('Période N'!G$1,Données!$1:$1,0)),0)) | H6: =IF($A6="","",IFERROR(INDEX(Données[],MATCH($A6,Données[04/2018],0),MATCH('Période N'!H$1,Données!$1:$1,0)),0)) | I6: =IF($A6="","",IFERROR(INDEX(Données[],MATCH($A6,Données[05/2018],0),MATCH('Période N'!I$1,Données!$1:$1,0)),0)) | J6: =IF($A6="","",IFERROR(INDEX(Données[],MATCH($A6,Données[06/2018],0),MATCH('Période N'!J$1,Données!$1:$1,0)),0)) | K6: =IF($A6="","",IFERROR(INDEX(Données[],MATCH($A6,Données[07/2018],0),MATCH('Période N'!K$1,Données!$1:$1,0)),0)) | L6: =IF($A6="","",IFERROR(INDEX(Données[],MATCH($A6,Données[08/2018],0),MATCH('Période N'!L$1,Données!$1:$1,0)),0)) | M6: =IF($A6="","",IFERROR(INDEX(Données[],MATCH($A6,Données[09/2018],0),MATCH('Période N'!M$1,Données!$1:$1,0)),0)) | N6: =IF($A6="","",IFERROR(INDEX(Données[],MATCH($A6,Données[10/2018],0),MATCH('Période N'!N$1,Données!$1:$1,0)),0))
C7: =IF($A7="","",IFERROR(INDEX(Données[],MATCH($A7,Données[N.RUB.],0),MATCH('Période N'!C$1,Données!$1:$1,0)),0)) | D7: =IF($A7="","",IFERROR(INDEX(Données[],MATCH($A7,Données[12/2017],0),MATCH('Période N'!D$1,Données!$1:$1,0)),0)) | E7: =IF($A7="","",IFERROR(INDEX(Données[],MATCH($A7,Données[01/2018],0),MATCH('Période N'!E$1,Données!$1:$1,0)),0)) | F7: =IF($A7="","",IFERROR(INDEX(Données[],MATCH($A7,Données[02/2018],0),MATCH('Période N'!F$1,Données!$1:$1,0)),0)) | G7: =IF($A7="","",IFERROR(INDEX(Données[],MATCH($A7,Données[03/2018],0),MATCH('Période N'!G$1,Données!$1:$1,0)),0)) | H7: =IF($A7="","",IFERROR(INDEX(Données[],MATCH($A7,Données[04/2018],0),MATCH('Période N'!H$1,Données!$1:$1,0)),0)) | I7: =IF($A7="","",IFERROR(INDEX(Données[],MATCH($A7,Données[05/2018],0),MATCH('Période N'!I$1,Données!$1:$1,0)),0)) | J7: =IF($A7="","",IFERROR(INDEX(Données[],MATCH($A7,Données[06/2018],0),MATCH('Période N'!J$1,Données!$1:$1,0)),0)) | K7: =IF($A7="","",IFERROR(INDEX(Données[],MATCH($A7,Données[07/2018],0),MATCH('Période N'!K$1,Données!$1:$1,0)),0)) | L7: =IF($A7="","",IFERROR(INDEX(Données[],MATCH($A7,Données[08/2018],0),MATCH('Période N'!L$1,Données!$1:$1,0)),0)) | M7: =IF($A7="","",IFERROR(INDEX(Données[],MATCH($A7,Données[09/2018],0),MATCH('Période N'!M$1,Données!$1:$1,0)),0)) | N7: =IF($A7="","",IFERROR(INDEX(Données[],MATCH($A7,Données[10/2018],0),MATCH('Période N'!N$1,Données!$1:$1,0)),0))
C8: =IF($A8="","",IFERROR(INDEX(Données[],MATCH($A8,Données[N.RUB.],0),MATCH('Période N'!C$1,Données!$1:$1,0)),0)) | D8: =IF($A8="","",IFERROR(INDEX(Données[],MATCH($A8,Données[12/2017],0),MATCH('Période N'!D$1,Données!$1:$1,0)),0)) | E8: =IF($A8="","",IFERROR(INDEX(Données[],MATCH($A8,Données[01/2018],0),MATCH('Période N'!E$1,Données!$1:$1,0)),0)) | F8: =IF($A8="","",IFERROR(INDEX(Données[],MATCH($A8,Données[02/2018],0),MATCH('Période N'!F$1,Données!$1:$1,0)),0)) | G8: =IF($A8="","",IFERROR(INDEX(Données[],MATCH($A8,Données[03/2018],0),MATCH('Période N'!G$1,Données!$1:$1,0)),0)) | H8: =IF($A8="","",IFERROR(INDEX(Données[],MATCH($A8,Données[04/2018],0),MATCH('Période N'!H$1,Données!$1:$1,0)),0)) | I8: =IF($A8="","",IFERROR(INDEX(Données[],MATCH($A8,Données[05/2018],0),MATCH('Période N'!I$1,Données!$1:$1,0)),0)) | J8: =IF($A8="","",IFERROR(INDEX(Données[],MATCH($A8,Données[06/2018],0),MATCH('Période N'!J$1,Données!$1:$1,0)),0)) | K8: =IF($A8="","",IFERROR(INDEX(Données[],MATCH($A8,Données[07/2018],0),MATCH('Période N'!K$1,Données!$1:$1,0)),0)) | L8: =IF($A8="","",IFERROR(INDEX(Données[],MATCH($A8,Données[08/2018],0),MATCH('Période N'!L$1,Données!$1:$1,0)),0)) | M8: =IF($A8="","",IFERROR(INDEX(Données[],MATCH($A8,Données[09/2018],0),MATCH('Période N'!M$1,Données!$1:$1,0)),0)) | N8: =IF($A8="","",IFERROR(INDEX(Données[],MATCH($A8,Données[10/2018],0),MATCH('Période N'!N$1,Données!$1:$1,0)),0))
C9: =IF($A9="","",IFERROR(INDEX(Données[],MATCH($A9,Données[N.RUB.],0),MATCH('Période N'!C$1,Données!$1:$1,0)),0)) | D9: =IF($A9="","",IFERROR(INDEX(Données[],MATCH($A9,Données[12/2017],0),MATCH('Période N'!D$1,Données!$1:$1,0)),0)) | E9: =IF($A9="","",IFERROR(INDEX(Données[],MATCH($A9,Données[01/2018],0),MATCH('Période N'!E$1,Données!$1:$1,0)),0)) | F9: =IF($A9="","",IFERROR(INDEX(Données[],MATCH($A9,Données[02/2018],0),MATCH('Période N'!F$1,Données!$1:$1,0)),0)) | G9: =IF($A9="","",IFERROR(INDEX(Données[],MATCH($A9,Données[03/2018],0),MATCH('Période N'!G$1,Données!$1:$1,0)),0)) | H9: =IF($A9="","",IFERROR(INDEX(Données[],MATCH($A9,Données[04/2018],0),MATCH('Période N'!H$1,Données!$1:$1,0)),0)) | I9: =IF($A9="","",IFERROR(INDEX(Données[],MATCH($A9,Données[05/2018],0),MATCH('Période N'!I$1,Données!$1:$1,0)),0)) | J9: =IF($A9="","",IFERROR(INDEX(Données[],MATCH($A9,Données[06/2018],0),MATCH('Période N'!J$1,Données!$1:$1,0)),0)) | K9: =IF($A9="","",IFERROR(INDEX(Données[],MATCH($A9,Données[07/2018],0),MATCH('Période N'!K$1,Données!$1:$1,0)),0)) | L9: =IF($A9="","",IFERROR(INDEX(Données[],MATCH($A9,Données[08/2018],0),MATCH('Période N'!L$1,Données!$1:$1,0)),0)) | M9: =IF($A9="","",IFERROR(INDEX(Données[],MATCH($A9,Données[09/2018],0),MATCH('Période N'!M$1,Données!$1:$1,0)),0)) | N9: =IF($A9="","",IFERROR(INDEX(Données[],MATCH($A9,Données[10/2018],0),MATCH('Période N'!N$1,Données!$1:$1,0)),0))
C10: =IF($A10="","",IFERROR(INDEX(Données[],MATCH($A10,Données[N.RUB.],0),MATCH('Période N'!C$1,Données!$1:$1,0)),0)) | D10: =IF($A10="","",IFERROR(INDEX(Données[],MATCH($A10,Données[12/2017],0),MATCH('Période N'!D$1,Données!$1:$1,0)),0)) | E10: =IF($A10="","",IFERROR(INDEX(Données[],MATCH($A10,Données[01/2018],0),MATCH('Période N'!E$1,Données!$1:$1,0)),0)) | F10: =IF($A10="","",IFERROR(INDEX(Données[],MATCH($A10,Données[02/2018],0),MATCH('Période N'!F$1,Données!$1:$1,0)),0)) | G10: =IF($A10="","",IFERROR(INDEX(Données[],MATCH($A10,Données[03/2018],0),MATCH('Période N'!G$1,Données!$1:$1,0)),0)) | H10: =IF($A10="","",IFERROR(INDEX(Données[],MATCH($A10,Données[04/2018],0),MATCH('Période N'!H$1,Données!$1:$1,0)),0)) | I10: =IF($A10="","",IFERROR(INDEX(Données[],MATCH($A10,Données[05/2018],0),MATCH('Période N'!I$1,Données!$1:$1,0)),0)) | J10: =IF($A10="","",IFERROR(INDEX(Données[],MATCH($A10,Données[06/2018],0),MATCH('Période N'!J$1,Données!$1:$1,0)),0)) | K10: =IF($A10="","",IFERROR(INDEX(Données[],MATCH($A10,Données[07/2018],0),MATCH('Période N'!K$1,Données!$1:$1,0)),0)) | L10: =IF($A10="","",IFERROR(INDEX(Données[],MATCH($A10,Données[08/2018],0),MATCH('Période N'!L$1,Données!$1:$1,0)),0)) | M10: =IF($A10="","",IFERROR(INDEX(Données[],MATCH($A10,Données[09/2018],0),MATCH('Période N'!M$1,Données!$1:$1,0)),0)) | N10: =IF($A10="","",IFERROR(INDEX(Données[],MATCH($A10,Données[10/2018],0),MATCH('Période N'!N$1,Données!$1:$1,0)),0))
C11: =IF($A11="","",IFERROR(INDEX(Données[],MATCH($A11,Données[N.RUB.],0),MATCH('Période N'!C$1,Données!$1:$1,0)),0)) | D11: =IF($A11="","",IFERROR(INDEX(Données[],MATCH($A11,Données[12/2017],0),MATCH('Période N'!D$1,Données!$1:$1,0)),0)) | E11: =IF($A11="","",IFERROR(INDEX(Données[],MATCH($A11,Données[01/2018],0),MATCH('Période N'!E$1,Données!$1:$1,0)),0)) | F11: =IF($A11="","",IFERROR(INDEX(Données[],MATCH($A11,Données[02/2018],0),MATCH('Période N'!F$1,Données!$1:$1,0)),0)) | G11: =IF($A11="","",IFERROR(INDEX(Données[],MATCH($A11,Données[03/2018],0),MATCH('Période N'!G$1,Données!$1:$1,0)),0)) | H11: =IF($A11="","",IFERROR(INDEX(Données[],MATCH($A11,Données[04/2018],0),MATCH('Période N'!H$1,Données!$1:$1,0)),0)) | I11: =IF($A11="","",IFERROR(INDEX(Données[],MATCH($A11,Données[05/2018],0),MATCH('Période N'!I$1,Données!$1:$1,0)),0)) | J11: =IF($A11="","",IFERROR(INDEX(Données[],MATCH($A11,Données[06/2018],0),MATCH('Période N'!J$1,Données!$1:$1,0)),0)) | K11: =IF($A11="","",IFERROR(INDEX(Données[],MATCH($A11,Données[07/2018],0),MATCH('Période N'!K$1,Données!$1:$1,0)),0)) | L11: =IF($A11="","",IFERROR(INDEX(Données[],MATCH($A11,Données[08/2018],0),MATCH('Période N'!L$1,Données!$1:$1,0)),0)) | M11: =IF($A11="","",IFERROR(INDEX(Données[],MATCH($A11,Données[09/2018],0),MATCH('Période N'!M$1,Données!$1:$1,0)),0)) | N11: =IF($A11="","",IFERROR(INDEX(Données[],MATCH($A11,Données[10/2018],0),MATCH('Période N'!N$1,Données!$1:$1,0)),0))
C12: =IF($A12="","",IFERROR(INDEX(Données[],MATCH($A12,Données[N.RUB.],0),MATCH('Période N'!C$1,Données!$1:$1,0)),0)) | D12: =IF($A12="","",IFERROR(INDEX(Données[],MATCH($A12,Données[12/2017],0),MATCH('Période N'!D$1,Données!$1:$1,0)),0)) | E12: =IF($A12="","",IFERROR(INDEX(Données[],MATCH($A12,Données[01/2018],0),MATCH('Période N'!E$1,Données!$1:$1,0)),0)) | F12: =IF($A12="","",IFERROR(INDEX(Données[],MATCH($A12,Données[02/2018],0),MATCH('Période N'!F$1,Données!$1:$1,0)),0)) | G12: =IF($A12="","",IFERROR(INDEX(Données[],MATCH($A12,Données[03/2018],0),MATCH('Période N'!G$1,Données!$1:$1,0)),0)) | H12: =IF($A12="","",IFERROR(INDEX(Données[],MATCH($A12,Données[04/2018],0),MATCH('Période N'!H$1,Données!$1:$1,0)),0)) | I12: =IF($A12="","",IFERROR(INDEX(Données[],MATCH($A12,Données[05/2018],0),MATCH('Période N'!I$1,Données!$1:$1,0)),0)) | J12: =IF($A12="","",IFERROR(INDEX(Données[],MATCH($A12,Données[06/2018],0),MATCH('Période N'!J$1,Données!$1:$1,0)),0)) | K12: =IF($A12="","",IFERROR(INDEX(Données[],MATCH($A12,Données[07/2018],0),MATCH('Période N'!K$1,Données!$1:$1,0)),0)) | L12: =IF($A12="","",IFERROR(INDEX(Données[],MATCH($A12,Données[08/2018],0),MATCH('Période N'!L$1,Données!$1:$1,0)),0)) | M12: =IF($A12="","",IFERROR(INDEX(Données[],MATCH($A12,Données[09/2018],0),MATCH('Période N'!M$1,Données!$1:$1,0)),0)) | N12: =IF($A12="","",IFERROR(INDEX(Données[],MATCH($A12,Données[10/2018],0),MATCH('Période N'!N$1,Données!$1:$1,0)),0))
C13: =IF($A13="","",IFERROR(INDEX(Données[],MATCH($A13,Données[N.RUB.],0),MATCH('Période N'!C$1,Données!$1:$1,0)),0)) | D13: =IF($A13="","",IFERROR(INDEX(Données[],MATCH($A13,Données[12/2017],0),MATCH('Période N'!D$1,Données!$1:$1,0)),0)) | E13: =IF($A13="","",IFERROR(INDEX(Données[],MATCH($A13,Données[01/2018],0),MATCH('Période N'!E$1,Données!$1:$1,0)),0)) | F13: =IF($A13="","",IFERROR(INDEX(Données[],MATCH($A13,Données[02/2018],0),MATCH('Période N'!F$1,Données!$1:$1,0)),0)) | G13: =IF($A13="","",IFERROR(INDEX(Données[],MATCH($A13,Données[03/2018],0),MATCH('Période N'!G$1,Données!$1:$1,0)),0)) | H13: =IF($A13="","",IFERROR(INDEX(Données[],MATCH($A13,Données[04/2018],0),MATCH('Période N'!H$1,Données!$1:$1,0)),0)) | I13: =IF($A13="","",IFERROR(INDEX(Données[],MATCH($A13,Données[05/2018],0),MATCH('Période N'!I$1,Données!$1:$1,0)),0)) | J13: =IF($A13="","",IFERROR(INDEX(Données[],MATCH($A13,Données[06/2018],0),MATCH('Période N'!J$1,Données!$1:$1,0)),0)) | K13: =IF($A13="","",IFERROR(INDEX(Données[],MATCH($A13,Données[07/2018],0),MATCH('Période N'!K$1,Données!$1:$1,0)),0)) | L13: =IF($A13="","",IFERROR(INDEX(Données[],MATCH($A13,Données[08/2018],0),MATCH('Période N'!L$1,Données!$1:$1,0)),0)) | M13: =IF($A13="","",IFERROR(INDEX(Données[],MATCH($A13,Données[09/2018],0),MATCH('Période N'!M$1,Données!$1:$1,0)),0)) | N13: =IF($A13="","",IFERROR(INDEX(Données[],MATCH($A13,Données[10/2018],0),MATCH('Période N'!N$1,Données!$1:$1,0)),0))
A14: TOTAL | C14: =SUM(C2:C13) -> 5286.69 | D14: =SUM(D2:D13) -> 0 | E14: =SUM(E2:E13) -> 0 | F14: =SUM(F2:F13) -> 0 | G14: =SUM(G2:G13) -> 0 | H14: =SUM(H2:H13) -> 0 | I14: =SUM(I2:I13) -> 0 | J14: =SUM(J2:J13) -> 0 | ... N14: =SUM(N2:N13) -> 0

Sheet Données
A1: N.RUB. | B1: 12/2017 | C1: 01/2018 | D1: 02/2018 | E1: 03/2018 | F1: 04/2018 | G1: 05/2018 | H1: 06/2018 | I1: 07/2018 | J1: 08/2018 | K1: 09/2018 | L1: 10/2018 | M1: 11/2018 | N1: 12/2018 | O1: 01/2019 | P1: 02/2019 | Q1: 03/2019 | R1: 04/2019 | S1: 05/2019 | T1: 06/2019 | U1: 07/2019 | V1: 08/2019 | W1: 09/2019 | X1: 10/2019 | Y1: 11/2019 | Z1: 12/2019 | AA1: 01/2020 | AB1: 02/2020 | AC1: 03/2020 | AD1: 04/2020 | AE1: 05/2020 | AF1: 06/2020 | AG1: 07/2020 | AH1: 08/2020 | AI1: 09/2020 | AJ1: 10/2020 | AK1: 11/2020
A2: 060250 | B2: 1 | C2: 1 | D2: 1 | E2: 1 | F2: 1 | G2: 1 | H2: 1 | I2: 1 | J2: 1 | K2: 1 | L2: 1 | M2: 1 | N2: 1 | O2: 1 | P2: 1 | Q2: 1 | R2: 1 | S2: 1 | T2: 1 | U2: 1 | V2: 1 | W2: 1 | X2: 1 | Y2: 1 | Z2: 1 | AA2: 1 | AB2: 1 | AC2: 1 | AD2: 1 | AE2: 1 | AF2: 1 | AG2: 1 | AH2: 1 | AI2: 1 | AJ2: 1 | AK2: 1
A3: 101010 | B3: 1668.37 | C3: 1683.54 | D3: 1683.54 | E3: 1683.54 | F3: 1683.54 | G3: 1683.54 | H3: 1683.54 | I3: 1691.12 | J3: 1691.12 | K3: 1691.12 | L3: 1691.12 | M3: 1691.12 | N3: 1668.37 | O3: 1683.54 | P3: 1683.54 | Q3: 1683.54 | R3: 1683.54 | S3: 1683.54 | T3: 1683.54 | U3: 1691.12 | V3: 1691.12 | W3: 1691.12 | X3: 1691.12 | Y3: 1691.12 | Z3: 1668.37 | AA3: 1683.54 | AB3: 1683.54 | AC3: 1683.54 | AD3: 1683.54 | AE3: 1683.54 | AF3: 1683.54 | AG3: 1691.12 | AH3: 1691.12 | AI3: 1691.12 | AJ3: 1691.12 | AK3: 1691.12
A4: 101320 | B4: 238.29 | C4: 240.45 | D4: 240.45 | E4: 240.45 | F4: 240.45 | G4: 240.45 | H4: 240.45 | I4: 241.55 | J4: 241.55 | K4: 241.55 | L4: 241.55 | M4: 241.55 | N4: 238.29 | O4: 240.45 | P4: 240.45 | Q4: 240.45 | R4: 240.45 | S4: 240.45 | T4: 240.45 | U4: 241.55 | V4: 241.55 | W4: 241.55 | X4: 241.55 | Y4: 241.55 | Z4: 238.29 | AA4: 240.45 | AB4: 240.45 | AC4: 240.45 | AD4: 240.45 | AE4: 240.45 | AF4: 240.45 | AG4: 241.55 | AH4: 241.55 | AI4: 241.55 | AJ4: 241.55 | AK4: 241.55
A5: 101430 | B5: 151.25 | C5: 152.63 | D5: 152.63 | E5: 152.63 | F5: 152.63 | G5: 152.63 | H5: 152.63 | I5: 153.32 | J5: 153.32 | K5: 153.32 | L5: 153.32 | M5: 153.32 | N5: 151.25 | O5: 152.63 | P5: 152.63 | Q5: 152.63 | R5: 152.63 | S5: 152.63 | T5: 152.63 | U5: 153.32 | V5: 153.32 | W5: 153.32 | X5: 153.32 | Y5: 153.32 | Z5: 151.25 | AA5: 152.63 | AB5: 152.63 | AC5: 152.63 | AD5: 152.63 | AE5: 152.63 | AF5: 152.63 | AG5: 153.32 | AH5: 153.32 | AI5: 153.32 | AJ5: 153.32 | AK5: 153.32
A6: 101720 | B6: 41.16 | C6: 41.53 | D6: 41.53 | E6: 41.53 | F6: 41.53 | G6: 41.53 | H6: 41.53 | I6: 41.72 | J6: 41.72 | K6: 41.72 | L6: 41.72 | M6: 41.72 | N6: 41.16 | O6: 41.53 | P6: 41.53 | Q6: 41.53 | R6: 41.53 | S6: 41.53 | T6: 41.53 | U6: 41.72 | V6: 41.72 | W6: 41.72 | X6: 41.72 | Y6: 41.72 | Z6: 41.16 | AA6: 41.53 | AB6: 41.53 | AC6: 41.53 | AD6: 41.53 | AE6: 41.53 | AF6: 41.53 | AG6: 41.72 | AH6: 41.72 | AI6: 41.72 | AJ6: 41.72 | AK6: 41.72
A7: 101900 | B7: 2099.07 | C7: 2118.15 | D7: 2118.15 | E7: 2118.15 | F7: 2118.15 | G7: 2118.15 | H7: 2118.15 | I7: 2127.71 | J7: 2127.71 | K7: 2127.71 | L7: 2127.71 | M7: 2127.71 | N7: 2099.07 | O7: 2118.15 | P7: 2118.15 | Q7: 2118.15 | R7: 2118.15 | S7: 2118.15 | T7: 2118.15 | U7: 2127.71 | V7: 2127.71 | W7: 2127.71 | X7: 2127.71 | Y7: 2127.71 | Z7: 2099.07 | AA7: 2118.15 | AB7: 2118.15 | AC7: 2118.15 | AD7: 2118.15 | AE7: 2118.15 | AF7: 2118.15 | AG7: 2127.71 | AH7: 2127.71 | AI7: 2127.71 | AJ7: 2127.71 | AK7: 2127.71
A8: 109900 | B8: 2099.07 | C8: 2118.15 | D8: 2118.15 | E8: 2118.15 | F8: 2118.15 | G8: 2118.15 | H8: 2118.15 | I8: 2127.71 | J8: 2127.71 | K8: 2127.71 | L8: 2127.71 | M8: 2127.71 | N8: 2099.07 | O8: 2118.15 | P8: 2118.15 | Q8: 2118.15 | R8: 2118.15 | S8: 2118.15 | T8: 2118.15 | U8: 2127.71 | V8: 2127.71 | W8: 2127.71 | X8: 2127.71 | Y8: 2127.71 | Z8: 2099.07 | AA8: 2118.15 | AB8: 2118.15 | AC8: 2118.15 | AD8: 2118.15 | AE8: 2118.15 | AF8: 2118.15 | AG8: 2127.71 | AH8: 2127.71 | AI8: 2127.71 | AJ8: 2127.71 | AK8: 2127.71
A9: 193030 | B9: 0 | C9: 0 | D9: 0 | E9: 0 | F9: 0 | G9: 0 | H9: 0 | I9: 0 | J9: 0 | K9: 0 | L9: 0 | M9: -1418.48 | N9: 0 | O9: 0 | P9: 0 | Q9: 0 | R9: 0 | S9: 0 | T9: 0 | U9: 0 | V9: 0 | W9: 0 | X9: 0 | Y9: -1418.48 | Z9: 0 | AA9: 0 | AB9: 0 | AC9: 0 | AD9: 0 | AE9: 0 | AF9: 0 | AG9: 0 | AH9: 0 | AI9: 0 | AJ9: 0 | AK9: -1418.48
A10: 200260 | B10: 25.41 | C10: 80.67 | D10: 212.27 | E10: 243.06 | F10: 250.88 | G10: 254.66 | H10: 203.85 | I10: 216.84 | J10: 228.68 | K10: 164.37 | L10: 47.48 | M10: 233.36 | N10: 25.41 | O10: 80.67 | P10: 212.27 | Q10: 243.06 | R10: 250.88 | S10: 254.66 | T10: 203.85 | U10: 216.84 | V10: 228.68 | W10: 164.37 | X10: 47.48 | Y10: 233.36 | Z10: 25.41 | AA10: 80.67 | AB10: 212.27 | AC10: 243.06 | AD10: 250.88 | AE10: 254.66 | AF10: 203.85 | AG10: 216.84 | AH10: 228.68 | AI10: 164.37 | AJ10: 47.48 | AK10: 233.36
A11: 200460 | B11: 242.91 | C11: 0 | D11: 107.22 | E11: 0 | F11: 0 | G11: 0 | H11: 38.27 | I11: 132.72 | J11: 36.96 | K11: 79.61 | L11: 0 | M11: 53.11 | N11: 242.91 | O11: 0 | P11: 107.22 | Q11: 0 | R11: 0 | S11: 0 | T11: 38.27 | U11: 132.72 | V11: 36.96 | W11: 79.61 | X11: 0 | Y11: 53.11 | Z11: 242.91 | AA11: 0 | AB11: 107.22 | AC11: 0 | AD11: 0 | AE11: 0 | AF11: 38.27 | AG11: 132.72 | AH11: 36.96 | AI11: 79.61 | AJ11: 0 | AK11: 53.11
A12: 200560 | B12: 34.95 | C12: 102.46 | D12: 147.58 | E12: 74.16 | F12: 292.11 | G12: 35.21 | H12: 254.86 | I12: 196.6 | J12: 181.98 | K12: 130.23 | L12: 0 | M12: 225.6 | N12: 34.95 | O12: 102.46 | P12: 147.58 | Q12: 74.16 | R12: 292.11 | S12: 35.21 | T12: 254.86 | U12: 196.6 | V12: 181.98 | W12: 130.23 | X12: 0 | Y12: 225.6 | Z12: 34.95 | AA12: 102.46 | AB12: 147.58 | AC12: 74.16 | AD12: 292.11 | AE12: 35.21 | AF12: 254.86 | AG12: 196.6 | AH12: 181.98 | AI12: 130.23 | AJ12: 0 | AK12: 225.6
A13: 203030 | B13: 0 | C13: 0 | D13: 0 | E13: 0 | F13: 0 | G13: 0 | H13: 0 | I13: -98.19 | J13: 0 | K13: 0 | L13: 0 | M13: 0 | N13: 0 | O13: 0 | P13: 0 | Q13: 0 | R13: 0 | S13: 0 | T13: 0 | U13: -98.19 | V13: 0 | W13: 0 | X13: 0 | Y13: 0 | Z13: 0 | AA13: 0 | AB13: 0 | AC13: 0 | AD13: 0 | AE13: 0 | AF13: 0 | AG13: -98.19 | AH13: 0 | AI13: 0 | AJ13: 0 | AK13: 0
... A128: 999922 | B128: 1318.57 | C128: 1612.07 | D128: 1829.6 | E128: 1290.8 | F128: 1347.45 | G128: 1315.62 | H128: 1834.85 | I128: 1411.65 | J128: 1407.65 | K128: 1393.65 | L128: 1375.65 | M128: 1397.65 | N128: 1318.57 | O128: 1612.07 | P128: 1829.6 | Q128: 1290.8 | R128: 1347.45 | S128: 1315.62 | T128: 1834.85 | U128: 1411.65 | V128: 1407.65 | W128: 1393.65 | X128: 1375.65 | Y128: 1397.65 | Z128: 1318.57 | AA128: 1612.07 | AB128: 1829.6 | AC128: 1290.8 | AD128: 1347.45 | AE128: 1315.62 | AF128: 1834.85 | AG128: 1411.65 | AH128: 1407.65 | AI128: 1393.65 | AJ128: 1375.65 | AK128: 1397.65
