Workbook

Sheet Nom
A1: NOM | B1: grade
A2: GOBYN | B2: CDT
A3: GILLET | B3: CDT
A4: GASPART | B4: ADJ
A5: WATRISSE | B5: 1CC
A6: TECHY | B6: CPL
A7: BODSON | B7: 1LT
A8: TOUSSAINT | B8: ADJ
A9: JACQUART | B9: 1SM
A10: BURNIAUX | B10: 1SG
A11: DONIN | B11: SGT
A12: CABAL | B12: 1CC
... A131: FERNANDEZ | B131: SDT
A132: BEELEN
A133: BOUDIN | B133: SDT
A134: BRISÉ | B134: SDT
A135: DERVAL | B135: SDT
A136: DEVOS | B136: SDT
A137: FERNANDEZ GONZALEZ | B137: SDT
A138: GASPARD | B138: SDT
A139: GILSOUL | B139: SDT
A140: GRELAK | B140: SDT
A141: HENGESCH | B141: SDT
A142: HOLVOET | B142: SDT
A143: SOUMOY | B143: SDT
A144: STRENS | B144: SDT
... A189: COURTOIS | B189: CPL

Sheet test
A1: PIM | B1: SDT | C1: 1SD | D1: CPL | E1: CPC | F1: 1CC | G1: SGT | H1: 1SG | I1: 1SC | J1: 1SM | K1: ADJ | L1: ADC | M1: ADM | N1: 1LT | O1: LT | P1: CPN | Q1: CDT | R1: MAJ
A2: =IF(Nom!B2=$A$1,Nom!A2," ") | B2: =IF(Nom!B2=$B$1,Nom!A2," ") | C2: =IF(Nom!B2=$C$1,Nom!A2," ") | D2: =IF(Nom!B2=$D$1,Nom!A2," ") | E2: =IF(Nom!E2=$A$1,Nom!A2," ") | F2: =IF(Nom!B2=$F$1,Nom!A2," ") | G2: =IF(Nom!B2=$G$1,Nom!A2," ") | H2: =IF(Nom!B2=$H$1,Nom!A2," ") | I2: =IF(Nom!B2=$I$1,Nom!A2," ") | J2: =IF(Nom!B2=$J$1,Nom!A2," ") | K2: =IF(Nom!B2=$K$1,Nom!A2," ") | L2: =IF(Nom!B2=$L$1,Nom!A2," ") | M2: =IF(Nom!B2=$M$1,Nom!A2," ") | N2: =IF(Nom!B2=$N$1,Nom!A2," ") | O2: =IF(Nom!B2=$O$1,Nom!A2," ") | P2: =IF(Nom!B2=$P$1,Nom!A2," ") | Q2: =IF(Nom!B2=$Q$1,Nom!A2," ") -> GOBYN | R2: =IF(Nom!B2=$R$1,Nom!A2," ")
A3: =IF(Nom!B3=$A$1,Nom!A3," ") | B3: =IF(Nom!B3=$B$1,Nom!A3," ") | C3: =IF(Nom!B3=$C$1,Nom!A3," ") | D3: =IF(Nom!B3=$D$1,Nom!A3," ") | E3: =IF(Nom!E3=$A$1,Nom!A3," ") | F3: =IF(Nom!B3=$F$1,Nom!A3," ") | G3: =IF(Nom!B3=$G$1,Nom!A3," ") | H3: =IF(Nom!B3=$H$1,Nom!A3," ") | I3: =IF(Nom!B3=$I$1,Nom!A3," ") | J3: =IF(Nom!B3=$J$1,Nom!A3," ") | K3: =IF(Nom!B3=$K$1,Nom!A3," ") | L3: =IF(Nom!B3=$L$1,Nom!A3," ") | M3: =IF(Nom!B3=$M$1,Nom!A3," ") | N3: =IF(Nom!B3=$N$1,Nom!A3," ") | O3: =IF(Nom!B3=$O$1,Nom!A3," ") | P3: =IF(Nom!B3=$P$1,Nom!A3," ") | Q3: =IF(Nom!B3=$Q$1,Nom!A3," ") -> GILLET | R3: =IF(Nom!B3=$R$1,Nom!A3," ")
A4: =IF(Nom!B4=$A$1,Nom!A4," ") | B4: =IF(Nom!B4=$B$1,Nom!A4," ") | C4: =IF(Nom!B4=$C$1,Nom!A4," ") | D4: =IF(Nom!B4=$D$1,Nom!A4," ") | E4: =IF(Nom!E4=$A$1,Nom!A4," ") | F4: =IF(Nom!B4=$F$1,Nom!A4," ") | G4: =IF(Nom!B4=$G$1,Nom!A4," ") | H4: =IF(Nom!B4=$H$1,Nom!A4," ") | I4: =IF(Nom!B4=$I$1,Nom!A4," ") | J4: =IF(Nom!B4=$J$1,Nom!A4," ") | K4: =IF(Nom!B4=$K$1,Nom!A4," ") -> GASPART | L4: =IF(Nom!B4=$L$1,Nom!A4," ") | M4: =IF(Nom!B4=$M$1,Nom!A4," ") | N4: =IF(Nom!B4=$N$1,Nom!A4," ") | O4: =IF(Nom!B4=$O$1,Nom!A4," ") | P4: =IF(Nom!B4=$P$1,Nom!A4," ") | Q4: =IF(Nom!B4=$Q$1,Nom!A4," ") | R4: =IF(Nom!B4=$R$1,Nom!A4," ")
A5: =IF(Nom!B5=$A$1,Nom!A5," ") | B5: =IF(Nom!B5=$B$1,Nom!A5," ") | C5: =IF(Nom!B5=$C$1,Nom!A5," ") | D5: =IF(Nom!B5=$D$1,Nom!A5," ") | E5: =IF(Nom!E5=$A$1,Nom!A5," ") | F5: =IF(Nom!B5=$F$1,Nom!A5," ") -> WATRISSE | G5: =IF(Nom!B5=$G$1,Nom!A5," ") | H5: =IF(Nom!B5=$H$1,Nom!A5," ") | I5: =IF(Nom!B5=$I$1,Nom!A5," ") | J5: =IF(Nom!B5=$J$1,Nom!A5," ") | K5: =IF(Nom!B5=$K$1,Nom!A5," ") | L5: =IF(Nom!B5=$L$1,Nom!A5," ") | M5: =IF(Nom!B5=$M$1,Nom!A5," ") | N5: =IF(Nom!B5=$N$1,Nom!A5," ") | O5: =IF(Nom!B5=$O$1,Nom!A5," ") | P5: =IF(Nom!B5=$P$1,Nom!A5," ") | Q5: =IF(Nom!B5=$Q$1,Nom!A5," ") | R5: =IF(Nom!B5=$R$1,Nom!A5," ")
A6: =IF(Nom!B6=$A$1,Nom!A6," ") | B6: =IF(Nom!B6=$B$1,Nom!A6," ") | C6: =IF(Nom!B6=$C$1,Nom!A6," ") | D6: =IF(Nom!B6=$D$1,Nom!A6," ") -> TECHY | E6: =IF(Nom!E6=$A$1,Nom!A6," ") | F6: =IF(Nom!B6=$F$1,Nom!A6," ") | G6: =IF(Nom!B6=$G$1,Nom!A6," ") | H6: =IF(Nom!B6=$H$1,Nom!A6," ") | I6: =IF(Nom!B6=$I$1,Nom!A6," ") | J6: =IF(Nom!B6=$J$1,Nom!A6," ") | K6: =IF(Nom!B6=$K$1,Nom!A6," ") | L6: =IF(Nom!B6=$L$1,Nom!A6," ") | M6: =IF(Nom!B6=$M$1,Nom!A6," ") | N6: =IF(Nom!B6=$N$1,Nom!A6," ") | O6: =IF(Nom!B6=$O$1,Nom!A6," ") | P6: =IF(Nom!B6=$P$1,Nom!A6," ") | Q6: =IF(Nom!B6=$Q$1,Nom!A6," ") | R6: =IF(Nom!B6=$R$1,Nom!A6," ")
A7: =IF(Nom!B7=$A$1,Nom!A7," ") | B7: =IF(Nom!B7=$B$1,Nom!A7," ") | C7: =IF(Nom!B7=$C$1,Nom!A7," ") | D7: =IF(Nom!B7=$D$1,Nom!A7," ") | E7: =IF(Nom!E7=$A$1,Nom!A7," ") | F7: =IF(Nom!B7=$F$1,Nom!A7," ") | G7: =IF(Nom!B7=$G$1,Nom!A7," ") | H7: =IF(Nom!B7=$H$1,Nom!A7," ") | I7: =IF(Nom!B7=$I$1,Nom!A7," ") | J7: =IF(Nom!B7=$J$1,Nom!A7," ") | K7: =IF(Nom!B7=$K$1,Nom!A7," ") | L7: =IF(Nom!B7=$L$1,Nom!A7," ") | M7: =IF(Nom!B7=$M$1,Nom!A7," ") | N7: =IF(Nom!B7=$N$1,Nom!A7," ") -> BODSON | O7: =IF(Nom!B7=$O$1,Nom!A7," ") | P7: =IF(Nom!B7=$P$1,Nom!A7," ") | Q7: =IF(Nom!B7=$Q$1,Nom!A7," ") | R7: =IF(Nom!B7=$R$1,Nom!A7," ")
A8: =IF(Nom!B8=$A$1,Nom!A8," ") | B8: =IF(Nom!B8=$B$1,Nom!A8," ") | C8: =IF(Nom!B8=$C$1,Nom!A8," ") | D8: =IF(Nom!B8=$D$1,Nom!A8," ") | E8: =IF(Nom!E8=$A$1,Nom!A8," ") | F8: =IF(Nom!B8=$F$1,Nom!A8," ") | G8: =IF(Nom!B8=$G$1,Nom!A8," ") | H8: =IF(Nom!B8=$H$1,Nom!A8," ") | I8: =IF(Nom!B8=$I$1,Nom!A8," ") | J8: =IF(Nom!B8=$J$1,Nom!A8," ") | K8: =IF(Nom!B8=$K$1,Nom!A8," ") -> TOUSSAINT | L8: =IF(Nom!B8=$L$1,Nom!A8," ") | M8: =IF(Nom!B8=$M$1,Nom!A8," ") | N8: =IF(Nom!B8=$N$1,Nom!A8," ") | O8: =IF(Nom!B8=$O$1,Nom!A8," ") | P8: =IF(Nom!B8=$P$1,Nom!A8," ") | Q8: =IF(Nom!B8=$Q$1,Nom!A8," ") | R8: =IF(Nom!B8=$R$1,Nom!A8," ")
A9: =IF(Nom!B9=$A$1,Nom!A9," ") | B9: =IF(Nom!B9=$B$1,Nom!A9," ") | C9: =IF(Nom!B9=$C$1,Nom!A9," ") | D9: =IF(Nom!B9=$D$1,Nom!A9," ") | E9: =IF(Nom!E9=$A$1,Nom!A9," ") | F9: =IF(Nom!B9=$F$1,Nom!A9," ") | G9: =IF(Nom!B9=$G$1,Nom!A9," ") | H9: =IF(Nom!B9=$H$1,Nom!A9," ") | I9: =IF(Nom!B9=$I$1,Nom!A9," ") | J9: =IF(Nom!B9=$J$1,Nom!A9," ") -> JACQUART | K9: =IF(Nom!B9=$K$1,Nom!A9," ") | L9: =IF(Nom!B9=$L$1,Nom!A9," ") | M9: =IF(Nom!B9=$M$1,Nom!A9," ") | N9: =IF(Nom!B9=$N$1,Nom!A9," ") | O9: =IF(Nom!B9=$O$1,Nom!A9," ") | P9: =IF(Nom!B9=$P$1,Nom!A9," ") | Q9: =IF(Nom!B9=$Q$1,Nom!A9," ") | R9: =IF(Nom!B9=$R$1,Nom!A9," ")
A10: =IF(Nom!B10=$A$1,Nom!A10," ") | B10: =IF(Nom!B10=$B$1,Nom!A10," ") | C10: =IF(Nom!B10=$C$1,Nom!A10," ") | D10: =IF(Nom!B10=$D$1,Nom!A10," ") | E10: =IF(Nom!E10=$A$1,Nom!A10," ") | F10: =IF(Nom!B10=$F$1,Nom!A10," ") | G10: =IF(Nom!B10=$G$1,Nom!A10," ") | H10: =IF(Nom!B10=$H$1,Nom!A10," ") -> BURNIAUX | I10: =IF(Nom!B10=$I$1,Nom!A10," ") | J10: =IF(Nom!B10=$J$1,Nom!A10," ") | K10: =IF(Nom!B10=$K$1,Nom!A10," ") | L10: =IF(Nom!B10=$L$1,Nom!A10," ") | M10: =IF(Nom!B10=$M$1,Nom!A10," ") | N10: =IF(Nom!B10=$N$1,Nom!A10," ") | O10: =IF(Nom!B10=$O$1,Nom!A10," ") | P10: =IF(Nom!B10=$P$1,Nom!A10," ") | Q10: =IF(Nom!B10=$Q$1,Nom!A10," ") | R10: =IF(Nom!B10=$R$1,Nom!A10," ")
A11: =IF(Nom!B11=$A$1,Nom!A11," ") | B11: =IF(Nom!B11=$B$1,Nom!A11," ") | C11: =IF(Nom!B11=$C$1,Nom!A11," ") | D11: =IF(Nom!B11=$D$1,Nom!A11," ") | E11: =IF(Nom!E11=$A$1,Nom!A11," ") | F11: =IF(Nom!B11=$F$1,Nom!A11," ") | G11: =IF(Nom!B11=$G$1,Nom!A11," ") -> DONIN | H11: =IF(Nom!B11=$H$1,Nom!A11," ") | I11: =IF(Nom!B11=$I$1,Nom!A11," ") | J11: =IF(Nom!B11=$J$1,Nom!A11," ") | K11: =IF(Nom!B11=$K$1,Nom!A11," ") | L11: =IF(Nom!B11=$L$1,Nom!A11," ") | M11: =IF(Nom!B11=$M$1,Nom!A11," ") | N11: =IF(Nom!B11=$N$1,Nom!A11," ") | O11: =IF(Nom!B11=$O$1,Nom!A11," ") | P11: =IF(Nom!B11=$P$1,Nom!A11," ") | Q11: =IF(Nom!B11=$Q$1,Nom!A11," ") | R11: =IF(Nom!B11=$R$1,Nom!A11," ")
A12: =IF(Nom!B12=$A$1,Nom!A12," ") | B12: =IF(Nom!B12=$B$1,Nom!A12," ") | C12: =IF(Nom!B12=$C$1,Nom!A12," ") | D12: =IF(Nom!B12=$D$1,Nom!A12," ") | E12: =IF(Nom!E12=$A$1,Nom!A12," ") | F12: =IF(Nom!B12=$F$1,Nom!A12," ") -> CABAL | G12: =IF(Nom!B12=$G$1,Nom!A12," ") | H12: =IF(Nom!B12=$H$1,Nom!A12," ") | I12: =IF(Nom!B12=$I$1,Nom!A12," ") | J12: =IF(Nom!B12=$J$1,Nom!A12," ") | K12: =IF(Nom!B12=$K$1,Nom!A12," ") | L12: =IF(Nom!B12=$L$1,Nom!A12," ") | M12: =IF(Nom!B12=$M$1,Nom!A12," ") | N12: =IF(Nom!B12=$N$1,Nom!A12," ") | O12: =IF(Nom!B12=$O$1,Nom!A12," ") | P12: =IF(Nom!B12=$P$1,Nom!A12," ") | Q12: =IF(Nom!B12=$Q$1,Nom!A12," ") | R12: =IF(Nom!B12=$R$1,Nom!A12," ")
A13: =IF(Nom!B13=$A$1,Nom!A13," ") | B13: =IF(Nom!B13=$B$1,Nom!A13," ") | C13: =IF(Nom!B13=$C$1,Nom!A13," ") | D13: =IF(Nom!B13=$D$1,Nom!A13," ") | E13: =IF(Nom!E13=$A$1,Nom!A13," ") | F13: =IF(Nom!B13=$F$1,Nom!A13," ") -> IGNACIO MENDOZA | G13: =IF(Nom!B13=$G$1,Nom!A13," ") | H13: =IF(Nom!B13=$H$1,Nom!A13," ") | I13: =IF(Nom!B13=$I$1,Nom!A13," ") | J13: =IF(Nom!B13=$J$1,Nom!A13," ") | K13: =IF(Nom!B13=$K$1,Nom!A13," ") | L13: =IF(Nom!B13=$L$1,Nom!A13," ") | M13: =IF(Nom!B13=$M$1,Nom!A13," ") | N13: =IF(Nom!B13=$N$1,Nom!A13," ") | O13: =IF(Nom!B13=$O$1,Nom!A13," ") | P13: =IF(Nom!B13=$P$1,Nom!A13," ") | Q13: =IF(Nom!B13=$Q$1,Nom!A13," ") | R13: =IF(Nom!B13=$R$1,Nom!A13," ")
... A189: =IF(Nom!B189=$A$1,Nom!A189," ") | B189: =IF(Nom!B189=$B$1,Nom!A189," ") | C189: =IF(Nom!B189=$C$1,Nom!A189," ") | D189: =IF(Nom!B189=$D$1,Nom!A189," ") -> COURTOIS | E189: =IF(Nom!E189=$A$1,Nom!A189," ") | F189: =IF(Nom!B189=$F$1,Nom!A189," ") | G189: =IF(Nom!B189=$G$1,Nom!A189," ") | H189: =IF(Nom!B189=$H$1,Nom!A189," ") | I189: =IF(Nom!B189=$I$1,Nom!A189," ") | J189: =IF(Nom!B189=$J$1,Nom!A189," ") | K189: =IF(Nom!B189=$K$1,Nom!A189," ") | L189: =IF(Nom!B189=$L$1,Nom!A189," ") | M189: =IF(Nom!B189=$M$1,Nom!A189," ") | N189: =IF(Nom!B189=$N$1,Nom!A189," ") | O189: =IF(Nom!B189=$O$1,Nom!A189," ") | P189: =IF(Nom!B189=$P$1,Nom!A189," ") | Q189: =IF(Nom!B189=$Q$1,Nom!A189," ") | R189: =IF(Nom!B189=$R$1,Nom!A189," ")

Sheet test2
A1: PIM | B1: SDT | C1: 1SD | D1: CPL | E1: CPC | F1: 1CC | G1: SGT | H1: 1SG | I1: 1SC | J1: 1SM | K1: ADJ | L1: ADC | M1: ADM | N1: 1LT | O1: LT | P1: CPN | Q1: CDT | R1: MAJ

Sheet Feuil1
A1: 1CC | B1: 1LT | C1: 1SD | D1: 1SG | E1: 1SM | F1: 1Sg2 | G1: 1Sm3 | H1: ADC | I1: ADJ | J1: CDT | K1: CLC | L1: CPC | M1: CPL | N1: CPN | O1: Clc4 | P1: Cpl5 | Q1: Lt | R1: PIM | S1: SDT | T1: SGT | U1: Sdt6 | V1: Sgt7 | W1: Slt | X1: z_sans grade
A2: ANCART | B2: BODSON | C2: ALFANO | D2: BURNIAUX | E2: DENEUBOURG | F2: MINET | G2: HANNECART | H2: PIRET | I2: BAYENET | J2: GILLET | K2: ADAM | L2: LECOCQ | M2: BEHEYDT | N2: PLUMAT | O2: LEVEQUE | P2: SCHILLINGS | Q2: DELANNOY | R2: Baude | S2: BOUDIN | T2: CASTERMANS | U2: ROTH | V2: BAUSCH | W2: MOUTON | X2: BEELEN
A3: BEER | B3: BRUSSELMANS | C3: BATTOIA | D3: LADRAA | E3: JACQUART | F3: WINKEL | I3: FAUVART | J3: GOBYN | K3: DEBROYE | M3: BERNARD | Q3: PLUMAT | R3: Berger | S3: BRISÉ | T3: DELBERGHE | U3: TRIBUZIO | V3: CHEVAL
A4: CABAL | B4: DUCHESNE | C4: BEL KHAYAT | D4: MAHY | E4: LAURENT | I4: GASPART | K4: DESCHUYTENER | M4: CICCHELLI | R4: Bertrand | S4: COCHAUX | T4: DONIN | V4: CUSTINE
A5: CABAL | B5: FRANCOIS | C5: BERCY | E5: ROBYNS | I5: GREGOIRE | K5: EYCKERMAN | M5: COSYNS | R5: Celik | S5: DERVAL | T5: DOUNY | V5: DE ROO
A6: GEORGES | B6: LEMAUVAIS | C6: BERGER | I6: LOUDECHE | K6: GODFROID | M6: COURTOIS | R6: Circo | S6: DEVOS | T6: DUMAY | V6: DESCHRIVER
A7: HIERNAUX | B7: T'SERSTEVENS | C7: CICCARESE | I7: REMY | K7: LAPLANCHE | M7: DE SAINT MOULIN | R7: Coppin | S7: DUCOFFRE | T7: GHYS | V7: GOSSE
A8: IGNACIO MENDOZA | C8: CORSINI | I8: SPELEERS | K8: MARTIN | M8: GENARD | R8: Dangotte | S8: FERNANDEZ | T8: HOLLANGE | V8: GUILLAUME
A9: LAVAERT | C9: DE WOOT DE TRIXHE | I9: TOUSSAINT | K9: WEUSTENBERG | M9: GUADAGNI | R9: De Keyser | S9: FERNANDEZ GONZALEZ | T9: HONORE | V9: LAMBERT
A10: LHOST | C10: DELAHAUT | K10: YERNAUX | M10: LECLERCQ | R10: De Rycke | S10: GASPARD | T10: KLAUZINSKI | V10: LORETANI
A11: MICHEL | C11: DUFRANE | M11: RUIDANT | R11: Delcourt | S11: GILSOUL | T11: LOFFET | V11: RUSSO
A12: MOREAU | C12: FLORKIN | M12: TECHY | R12: Delval | S12: GODEAU | T12: MARCELLI | V12: SADOULAEV
A13: PIEROTTO | C13: HOTE | M13: VANDEWATERE | R13: Draise | S13: GRELAK | T13: MICHEL | V13: SAWERYNIUK
A14: PIETTE | C14: LAHOUSSE | M14: WILMET | R14: Dumais | S14: HENGESCH | T14: PARISIS
A15: SCHOLZ | C15: LEGROS | R15: Elders | S15: HIRSOUX | T15: PERROTTI
A16: WATRISSE | C16: MATHIEU | R16: Fesler | S16: HOLVOET | T16: REINBOLD
A17: WAUTHIER | C17: MOLLE | R17: Foucart | S17: JACQUES
A18: WIAME | C18: MOSSELMANS | R18: Gerein | S18: MARY
C19: PUISSIEUX | R19: Gilbeau | S19: MAUFROID
C20: SPECIALE | R20: Gillard | S20: PATRONELLI
R21: Hanssens | S21: RADERMECKER
R22: Hoberg | S22: SOUMOY
R23: Khelifa | S23: STRENS
R24: Kolodziuk | S24: STRIZZOLO
R25: Lagast | S25: THIANGE
R26: Laruelle | S26: VARSALONA
R27: Lecoq | S27: WEBER
R28: Lefour
R29: Loneux
R30: Mamirgov
R31: Manche
R32: Marée
R33: Pirmez
R34: Piéron
R35: Puissant
R36: Renard
R37: Septroux
R38: Spronck
R39: Thiry
... R41: Willame
