Workbook

Sheet Data
A1: Date | B1: Année | C1: Mois | D1: Semaine | E1: Jour | F1: Lieu | G1: Temps | H1: Température | I1: Humidité | J1: Vitesse Vent | K1: Heure de Départ | L1: Distance KM | M1: Distance M | N1: K1 | O1: K2 | P1: K3 | Q1: K4 | R1: K5 | S1: K6 | T1: K7 | U1: K8 | V1: K9 | W1: K10 | X1: Total
A2: 43950 | B2: =YEAR(A2) -> 2020 | C2: =MONTH(A2) -> 4 | D2: =WEEKNUM(Data[[#This Row],[Date]],21) -> 18 | F2: 1 | G2: Pluie | H2: 13 | I2: 0.78 | J2: 29 | K2: 0.52083333 | L2: 3.67 | M2: =CONVERT(Data[[#This Row],[Distance KM]],"km","m") -> 3670 | N2: 0.0046759259 | O2: 0.0058217593 | P2: 0.004837963 | Q2: 0.0062615741 | X2: =SUM(Data[[#This Row],[K1]:[K10]]) -> 0.021597222
A3: 43952 | B3: =YEAR(A3) -> 2020 | C3: =MONTH(A3) -> 5 | D3: =WEEKNUM(Data[[#This Row],[Date]],21) -> 18 | F3: 1 | G3: Nuageux | H3: 13 | I3: 0.73 | J3: 23 | K3: 0.54166667 | L3: 3.64 | M3: =CONVERT(L3,"km","m") -> 3640 | N3: 0.0046527778 | O3: 0.0062268519 | P3: 0.0063310185 | Q3: 0.0084953704 | X3: =SUM(Data[[#This Row],[K1]:[K10]]) -> 0.025706019
A4: 43953 | B4: =YEAR(A4) -> 2020 | C4: =MONTH(A4) -> 5 | D4: =WEEKNUM(Data[[#This Row],[Date]],21) -> 18 | F4: 1 | G4: Soleil | H4: 13 | I4: 0.58 | J4: 6 | K4: 0.8125 | L4: 3.7 | M4: =CONVERT(L4,"km","m") -> 3700 | N4: 0.0047800926 | O4: 0.0059722222 | P4: 0.0069444444 | Q4: 0.012164352 | X4: =SUM(Data[[#This Row],[K1]:[K10]]) -> 0.029861111
A5: 43956 | B5: =YEAR(A5) -> 2020 | C5: =MONTH(A5) -> 5 | D5: =WEEKNUM(Data[[#This Row],[Date]],21) -> 19 | F5: 1 | G5: Nuageux | H5: 12 | I5: 0.8 | J5: 13 | K5: 0.80208333 | L5: 3.69 | M5: =CONVERT(L5,"km","m") -> 3690 | N5: 0.0046990741 | O5: 0.0059722222 | P5: 0.0047569444 | Q5: 0.0062615741 | X5: =SUM(Data[[#This Row],[K1]:[K10]]) -> 0.021689815
A6: 43958 | B6: =YEAR(A6) -> 2020 | C6: =MONTH(A6) -> 5 | D6: =WEEKNUM(Data[[#This Row],[Date]],21) -> 19 | F6: 1 | G6: Soleil | H6: 19 | I6: 0.49 | J6: 6 | K6: 0.8125 | L6: 3.64 | M6: =CONVERT(L6,"km","m") -> 3640 | N6: 0.0046875 | O6: 0.0057523148 | P6: 0.0047916667 | Q6: 0.0083333333 | X6: =SUM(Data[[#This Row],[K1]:[K10]]) -> 0.023564815
A7: 43960 | B7: =YEAR(A7) -> 2020 | C7: =MONTH(A7) -> 5 | D7: =WEEKNUM(Data[[#This Row],[Date]],21) -> 19 | F7: 1 | G7: Nuageux | H7: 21 | I7: 0.66 | J7: 5 | K7: 0.78125 | L7: 3.65 | M7: =CONVERT(L7,"km","m") -> 3650 | N7: 0.004837963 | O7: 0.005625 | P7: 0.004849537 | Q7: 0.0057060185 | X7: =SUM(Data[[#This Row],[K1]:[K10]]) -> 0.021018519
A8: 43962 | B8: =YEAR(A8) -> 2020 | C8: =MONTH(A8) -> 5 | D8: =WEEKNUM(Data[[#This Row],[Date]],21) -> 20 | F8: 1 | G8: Nuageux | H8: 11 | I8: 0.53 | J8: 32 | K8: 0.79166667 | L8: 3.67 | M8: =CONVERT(L8,"km","m") -> 3670 | N8: 0.0047106481 | O8: 0.0055555556 | P8: 0.0049884259 | Q8: 0.0075115741 | X8: =SUM(Data[[#This Row],[K1]:[K10]]) -> 0.022766204
A9: 43965 | B9: =YEAR(A9) -> 2020 | C9: =MONTH(A9) -> 5 | D9: =WEEKNUM(Data[[#This Row],[Date]],21) -> 20 | F9: 1 | G9: Soleil | H9: 11 | I9: 0.6 | J9: 26 | K9: 0.84375 | L9: 3.64 | M9: =CONVERT(L9,"km","m") -> 3640 | N9: 0.0046296296 | O9: 0.0056134259 | P9: 0.0047569444 | Q9: 0.0062384259 | X9: =SUM(Data[[#This Row],[K1]:[K10]]) -> 0.021238426
A10: 43968 | B10: =YEAR(A10) -> 2020 | C10: =MONTH(A10) -> 5 | D10: =WEEKNUM(Data[[#This Row],[Date]],21) -> 20 | F10: 1 | G10: Soleil | H10: 15 | I10: 0.67 | J10: 11 | K10: 0.79166667 | L10: 3.67 | M10: =CONVERT(L10,"km","m") -> 3670 | N10: 0.0048263889 | O10: 0.0054513889 | P10: 0.0047453704 | Q10: 0.0059606481 | X10: =SUM(Data[[#This Row],[K1]:[K10]]) -> 0.020983796
A11: 43971 | B11: =YEAR(A11) -> 2020 | C11: =MONTH(A11) -> 5 | D11: =WEEKNUM(Data[[#This Row],[Date]],21) -> 21 | F11: 2 | G11: Soleil | H11: 23 | I11: 0.61 | J11: 8 | K11: 0.80208333 | L11: 2.13 | M11: =CONVERT(L11,"km","m") -> 2130 | N11: 0.0049074074 | O11: 0.0049189815 | X11: =SUM(Data[[#This Row],[K1]:[K10]]) -> 0.0098263889
A12: 43973 | B12: =YEAR(A12) -> 2020 | C12: =MONTH(A12) -> 5 | D12: =WEEKNUM(Data[[#This Row],[Date]],21) -> 21 | F12: 1 | G12: Soleil | H12: 16 | I12: 0.69 | J12: 10 | K12: 0.8125 | L12: 3.64 | M12: =CONVERT(L12,"km","m") -> 3640 | N12: 0.0049421296 | O12: 0.0056944444 | P12: 0.005 | Q12: 0.0073148148 | X12: =SUM(Data[[#This Row],[K1]:[K10]]) -> 0.022951389
A13: 43976 | B13: =YEAR(A13) -> 2020 | C13: =MONTH(A13) -> 5 | D13: =WEEKNUM(Data[[#This Row],[Date]],21) -> 22 | F13: 1 | G13: Soleil | H13: 21 | I13: 0.51 | J13: 16 | K13: 0.8125 | L13: 3.66 | M13: =CONVERT(L13,"km","m") -> 3660 | N13: 0.0046296296 | O13: 0.0057638889 | P13: 0.0049074074 | Q13: 0.0072453704 | X13: =SUM(Data[[#This Row],[K1]:[K10]]) -> 0.022546296
A14: 43978 | B14: =YEAR(A14) -> 2020 | C14: =MONTH(A14) -> 5 | D14: =WEEKNUM(Data[[#This Row],[Date]],21) -> 22 | F14: 1 | G14: Soleil | H14: 23 | I14: 0.48 | J14: 19 | K14: 0.79166667 | L14: 3.62 | M14: =CONVERT(L14,"km","m") -> 3620 | N14: 0.004849537 | O14: 0.0067592593 | P14: 0.0060763889 | Q14: 0.0092476852 | X14: =SUM(Data[[#This Row],[K1]:[K10]]) -> 0.02693287
A15: 43980 | B15: =YEAR(A15) -> 2020 | C15: =MONTH(A15) -> 5 | D15: =WEEKNUM(Data[[#This Row],[Date]],21) -> 22 | F15: 1 | G15: Soleil | H15: 23 | I15: 0.38 | J15: 16 | K15: 0.79166667 | L15: 3.7 | M15: =CONVERT(L15,"km","m") -> 3700 | N15: 0.0045717593 | O15: 0.0056712963 | P15: 0.0046759259 | Q15: 0.0064236111 | X15: =SUM(Data[[#This Row],[K1]:[K10]]) -> 0.021342593
A16: 43984 | B16: =YEAR(A16) -> 2020 | C16: =MONTH(A16) -> 6 | D16: =WEEKNUM(Data[[#This Row],[Date]],21) -> 23 | F16: 1 | G16: Soleil | H16: 22 | I16: 0.51 | J16: 13 | K16: 0.82291667 | L16: 3.64 | M16: =CONVERT(L16,"km","m") -> 3640 | N16: 0.0048263889 | O16: 0.0056712963 | P16: 0.0056018519 | Q16: 0.0070138889 | X16: =SUM(Data[[#This Row],[K1]:[K10]]) -> 0.023113426
A17: 43985 | B17: =YEAR(A17) -> 2020 | C17: =MONTH(A17) -> 6 | D17: =WEEKNUM(Data[[#This Row],[Date]],21) -> 23 | F17: 1 | G17: Soleil | H17: 19 | I17: 0.56 | J17: 21 | K17: 0.83611111 | L17: 3.66 | M17: =CONVERT(L17,"km","m") -> 3660 | N17: 0.0071412037 | O17: 0.0073842593 | P17: 0.0073032407 | Q17: 0.0071759259 | X17: =SUM(Data[[#This Row],[K1]:[K10]]) -> 0.02900463
A18: 43987 | B18: =YEAR(A18) -> 2020 | C18: =MONTH(A18) -> 6 | D18: =WEEKNUM(Data[[#This Row],[Date]],21) -> 23 | F18: 1 | G18: Nuageux | H18: 15 | I18: 0.65 | J18: 15 | K18: 0.79930556 | L18: 3.62 | M18: =CONVERT(L18,"km","m") -> 3620 | N18: 0.0047106481 | O18: 0.005625 | P18: 0.0050231481 | Q18: 0.0068981481 | X18: =SUM(Data[[#This Row],[K1]:[K10]]) -> 0.022256944
A19: 43989 | B19: =YEAR(A19) -> 2020 | C19: =MONTH(A19) -> 6 | D19: =WEEKNUM(Data[[#This Row],[Date]],21) -> 23 | F19: 1 | G19: Soleil | H19: 16 | I19: 0.63 | J19: 11 | K19: 0.75555556 | L19: 3.64 | M19: =CONVERT(L19,"km","m") -> 3640 | N19: 0.0045138889 | O19: 0.0054050926 | P19: 0.0046064815 | Q19: 0.0060185185 | X19: =SUM(Data[[#This Row],[K1]:[K10]]) -> 0.020543981
A20: 43991 | B20: =YEAR(A20) -> 2020 | C20: =MONTH(A20) -> 6 | D20: =WEEKNUM(Data[[#This Row],[Date]],21) -> 24 | F20: 1 | G20: Soleil | H20: 16 | I20: 0.66 | J20: 10 | K20: 0.81597222 | L20: 3.69 | M20: =CONVERT(L20,"km","m") -> 3690 | N20: 0.0046759259 | O20: 0.0061921296 | P20: 0.0073842593 | Q20: 0.0080092593 | X20: =SUM(Data[[#This Row],[K1]:[K10]]) -> 0.026261574
A21: 43992 | B21: =YEAR(A21) -> 2020 | C21: =MONTH(A21) -> 6 | D21: =WEEKNUM(Data[[#This Row],[Date]],21) -> 24 | F21: 1 | G21: Nuageux | H21: 12 | I21: 0.9 | J21: 5 | K21: 0.80138889 | L21: 3.79 | M21: =CONVERT(L21,"km","m") -> 3790 | N21: 0.0081018519 | O21: 0.0086921296 | P21: 0.0074421296 | Q21: 0.0071875 | X21: =SUM(Data[[#This Row],[K1]:[K10]]) -> 0.031423611
A22: 43993 | B22: =YEAR(A22) -> 2020 | C22: =MONTH(A22) -> 6 | D22: =WEEKNUM(Data[[#This Row],[Date]],21) -> 24 | F22: 2 | G22: Soleil | H22: 19 | I22: 0.7 | J22: 13 | K22: 0.80972222 | L22: 3.23 | M22: =CONVERT(L22,"km","m") -> 3230 | N22: 0.0046412037 | O22: 0.0049652778 | P22: 0.0052662037 | Q22: 0.0052199074 | X22: =SUM(Data[[#This Row],[K1]:[K10]]) -> 0.020092593
A23: 43995 | B23: =YEAR(A23) -> 2020 | C23: =MONTH(A23) -> 6 | D23: =WEEKNUM(Data[[#This Row],[Date]],21) -> 24 | F23: 1 | G23: Nuageux | H23: 18 | I23: 0.74 | J23: 19 | K23: 0.77708333 | L23: 3.71 | M23: =CONVERT(L23,"km","m") -> 3710 | N23: 0.0048842593 | O23: 0.0055787037 | P23: 0.0048148148 | Q23: 0.0056481481 | X23: =SUM(Data[[#This Row],[K1]:[K10]]) -> 0.020925926
... A33: 44016 | B33: =YEAR(A33) -> 2020 | C33: =MONTH(A33) -> 7 | D33: =WEEKNUM(Data[[#This Row],[Date]],21) -> 27 | F33: 1 | G33: Nuageux | H33: 21 | I33: 0.84 | J33: 23 | K33: 0.78263889 | L33: 4.01 | M33: =CONVERT(L33,"km","m") -> 4010 | N33: 0.0052662037 | O33: 0.0054282407 | P33: 0.0049305556 | Q33: 0.0052662037 | X33: =SUM(Data[[#This Row],[K1]:[K10]]) -> 0.020891204
A34: 44018 | B34: =YEAR(A34) -> 2020 | C34: =MONTH(A34) -> 7 | D34: =WEEKNUM(Data[[#This Row],[Date]],21) -> 28 | F34: 1 | G34: Soleil | H34: 17 | I34: 0.65 | J34: 18 | K34: 0.80069444 | L34: 3.02 | M34: =CONVERT(L34,"km","m") -> 3020 | N34: 0.0050347222 | O34: 0.005462963 | P34: 0.006712963 | X34: =SUM(Data[[#This Row],[K1]:[K10]]) -> 0.017210648
A35: 44020 | B35: =YEAR(A35) -> 2020 | C35: =MONTH(A35) -> 7 | D35: =WEEKNUM(Data[[#This Row],[Date]],21) -> 28 | F35: 1 | G35: Nuageux | H35: 20 | I35: 0.82 | J35: 19 | K35: 0.80277778 | L35: 3.68 | M35: =CONVERT(L35,"km","m") -> 3680 | N35: 0.0046412037 | O35: 0.0058680556 | P35: 0.0042939815 | Q35: 0.0063310185 | X35: =SUM(Data[[#This Row],[K1]:[K10]]) -> 0.021134259
A36: 44021 | B36: =YEAR(A36) -> 2020 | C36: =MONTH(A36) -> 7 | D36: =WEEKNUM(Data[[#This Row],[Date]],21) -> 28 | F36: 1 | G36: Nuageux | H36: 21 | I36: 0.73 | J36: 16 | K36: 0.8125 | L36: 4.43 | M36: =CONVERT(L36,"km","m") -> 4430 | N36: 0.0049189815 | O36: 0.0053587963 | P36: 0.0043634259 | Q36: 0.0051736111 | R36: 0.005150463 | X36: =SUM(Data[[#This Row],[K1]:[K10]]) -> 0.024965278
A37: 44024 | B37: =YEAR(A37) -> 2020 | C37: =MONTH(A37) -> 7 | D37: =WEEKNUM(Data[[#This Row],[Date]],21) -> 28 | F37: 1 | G37: Soleil | H37: 22 | I37: 0.5 | J37: 19 | K37: 0.76388889 | L37: 3.75 | M37: =CONVERT(L37,"km","m") -> 3750 | N37: 0.0046180556 | O37: 0.0056365741 | P37: 0.0047916667 | Q37: 0.0055324074 | X37: =SUM(Data[[#This Row],[K1]:[K10]]) -> 0.020578704
A38: 44026 | B38: =YEAR(A38) -> 2020 | C38: =MONTH(A38) -> 7 | D38: =WEEKNUM(Data[[#This Row],[Date]],21) -> 29 | F38: 1 | G38: Nuageux | H38: 19 | I38: 0.77 | J38: 11 | K38: 0.75763889 | L38: 4.09 | M38: =CONVERT(L38,"km","m") -> 4090 | N38: 0.0048726852 | O38: 0.0053819444 | P38: 0.0049305556 | Q38: 0.0059490741 | X38: =SUM(Data[[#This Row],[K1]:[K10]]) -> 0.021134259
A39: 44028 | B39: =YEAR(A39) -> 2020 | C39: =MONTH(A39) -> 7 | D39: =WEEKNUM(Data[[#This Row],[Date]],21) -> 29 | F39: 1 | G39: Nuageux | H39: 17 | I39: 0.8 | J39: 13 | K39: 0.81666667 | L39: 4.7 | M39: =CONVERT(L39,"km","m") -> 4700 | N39: 0.0048263889 | O39: 0.0053125 | P39: 0.0045601852 | Q39: 0.0054398148 | R39: 0.0059490741 | X39: =SUM(Data[[#This Row],[K1]:[K10]]) -> 0.026087963
A40: 44030 | B40: =YEAR(A40) -> 2020 | C40: =MONTH(A40) -> 7 | D40: =WEEKNUM(Data[[#This Row],[Date]],21) -> 29 | F40: 1 | G40: Soleil | H40: 20 | I40: 0.7 | J40: 11 | K40: 0.80138889 | L40: 5.05 | M40: =CONVERT(L40,"km","m") -> 5050 | N40: 0.004837963 | O40: 0.005462963 | P40: 0.0046875 | Q40: 0.0055671296 | R40: 0.005775463 | X40: =SUM(Data[[#This Row],[K1]:[K10]]) -> 0.026331019
A41: 44032 | B41: =YEAR(A41) -> 2020 | C41: =MONTH(A41) -> 7 | D41: =WEEKNUM(Data[[#This Row],[Date]],21) -> 30 | F41: 1 | G41: Soleil | H41: 21 | I41: 0.49 | J41: 19 | K41: 0.82847222 | L41: 3.64 | M41: =CONVERT(L41,"km","m") -> 3640 | N41: 0.0050462963 | O41: 0.0057638889 | P41: 0.0050810185 | Q41: 0.0063425926 | X41: =SUM(Data[[#This Row],[K1]:[K10]]) -> 0.022233796
A42: 44034 | B42: =YEAR(A42) -> 2020 | C42: =MONTH(A42) -> 7 | D42: =WEEKNUM(Data[[#This Row],[Date]],21) -> 30 | F42: 1 | G42: Soleil | H42: 22 | I42: 0.41 | J42: 16 | K42: 0.81180556 | L42: 3.69 | M42: =CONVERT(L42,"km","m") -> 3690 | N42: 0.0047685185 | O42: 0.0054166667 | P42: 0.0045023148 | Q42: 0.0060648148 | X42: =SUM(Data[[#This Row],[K1]:[K10]]) -> 0.020752315
A43: 44036 | B43: =YEAR(A43) -> 2020 | C43: =MONTH(A43) -> 7 | D43: =WEEKNUM(Data[[#This Row],[Date]],21) -> 30 | F43: 1 | G43: Nuageux | H43: 20 | I43: 0.77 | J43: 10 | K43: 0.81527778 | L43: 5.05 | M43: =CONVERT(L43,"km","m") -> 5050 | N43: 0.0049074074 | O43: 0.0050925926 | P43: 0.0043287037 | Q43: 0.0049884259 | R43: 0.005625 | X43: =SUM(Data[[#This Row],[K1]:[K10]]) -> 0.02494213
A44: 44038 | B44: =YEAR(A44) -> 2020 | C44: =MONTH(A44) -> 7 | D44: =WEEKNUM(Data[[#This Row],[Date]],21) -> 30 | F44: 1 | G44: Soleil | H44: 20 | I44: 0.65 | J44: 14 | K44: 0.76736111 | L44: 3.39 | M44: =CONVERT(L44,"km","m") -> 3390 | N44: 0.0049074074 | O44: 0.0053472222 | P44: 0.0043171296 | Q44: 0.0055324074 | X44: =SUM(Data[[#This Row],[K1]:[K10]]) -> 0.020104167
A45: 44040 | B45: =YEAR(A45) -> 2020 | C45: =MONTH(A45) -> 7 | D45: =WEEKNUM(Data[[#This Row],[Date]],21) -> 31 | F45: 1 | G45: Soleil | H45: 19 | I45: 0.67 | J45: 19 | K45: 0.82152778 | L45: 4.12 | M45: =CONVERT(L45,"km","m") -> 4120 | N45: 0.0047800926 | O45: 0.0052314815 | P45: 0.004537037 | Q45: 0.0056597222 | R45: 0.0065509259 | X45: =SUM(Data[[#This Row],[K1]:[K10]]) -> 0.026759259
A46: 44044 | B46: =YEAR(A46) -> 2020 | C46: =MONTH(A46) -> 8 | D46: =WEEKNUM(Data[[#This Row],[Date]],21) -> 31 | F46: 1 | G46: Soleil | H46: 21 | I46: 0.72 | J46: 13 | K46: 0.78611111 | L46: 4.15 | M46: =CONVERT(L46,"km","m") -> 4150 | N46: 0.0045949074 | O46: 0.005162037 | P46: 0.0043171296 | Q46: 0.0057291667 | R46: 0.0068981481 | X46: =SUM(Data[[#This Row],[K1]:[K10]]) -> 0.026701389
A47: 44046 | B47: =YEAR(A47) -> 2020 | C47: =MONTH(A47) -> 8 | D47: =WEEKNUM(Data[[#This Row],[Date]],21) -> 32 | F47: 1 | G47: Soleil | H47: 19 | I47: 0.63 | J47: 16 | K47: 0.77013889 | L47: 4.17 | M47: =CONVERT(L47,"km","m") -> 4170 | N47: 0.0048263889 | O47: 0.0050347222 | P47: 0.0042824074 | Q47: 0.0055092593 | R47: 0.0061342593 | X47: =SUM(Data[[#This Row],[K1]:[K10]]) -> 0.025787037
A48: 44048 | B48: =YEAR(A48) -> 2020 | C48: =MONTH(A48) -> 8 | D48: =WEEKNUM(Data[[#This Row],[Date]],21) -> 32 | F48: 1 | G48: Soleil | H48: 25 | I48: 0.44 | J48: 11 | K48: 0.76805556 | L48: 4.09 | M48: =CONVERT(L48,"km","m") -> 4090 | N48: 0.0044907407 | O48: 0.0052777778 | P48: 0.0044328704 | Q48: 0.0058564815 | X48: =SUM(Data[[#This Row],[K1]:[K10]]) -> 0.02005787
A49: 44053 | B49: =YEAR(A49) -> 2020 | C49: =MONTH(A49) -> 8 | D49: =WEEKNUM(Data[[#This Row],[Date]],21) -> 33 | F49: 1 | G49: Soleil | H49: 26 | I49: 0.6 | J49: 10 | K49: 0.81319444 | L49: 4.17 | M49: =CONVERT(L49,"km","m") -> 4170 | N49: 0.0046064815 | O49: 0.0054398148 | P49: 0.0044328704 | Q49: 0.0057638889 | R49: 0.0059490741 | X49: =SUM(Data[[#This Row],[K1]:[K10]]) -> 0.02619213
...

Sheet Moy Temps
A1: Année | B1: Mois | C1: Semaine | D1: Lieu | E1: Moyenne K1 | F1: Moyenne K2 | G1: Moyenne K3 | H1: Moyenne K4 | I1: Moyenne K5 | J1: Moyenne K6 | K1: Moyenne K7 | L1: Moyenne K8 | M1: Moyenne K9 | N1: Moyenne K10
A2: 2020 | B2: 4 | D2: 1 | E2: =IFERROR(AVERAGEIFS(INDIRECT("Data[K"&MID(E$1,10,3)&"]"),Data[Année],Moyennes[[#This Row],[Année]],Data[Mois],Moyennes[[#This Row],[Mois]],Data[Lieu],Moyennes[[#This Row],[Lieu]]),"") -> 0.0046759259 | F2: =IFERROR(AVERAGEIFS(Data!O:O,Data!$B:$B,'Moy Temps'!$A2,Data!$C:$C,'Moy Temps'!$B2,Data!$F:$F,'Moy Temps'!$D2), "") -> 0.0058217593 | G2: =IFERROR(AVERAGEIFS(Data!P:P,Data!$B:$B,'Moy Temps'!$A2,Data!$C:$C,'Moy Temps'!$B2,Data!$F:$F,'Moy Temps'!$D2), "") -> 0.004837963 | H2: =IFERROR(AVERAGEIFS(Data!Q:Q,Data!$B:$B,'Moy Temps'!$A2,Data!$C:$C,'Moy Temps'!$B2,Data!$F:$F,'Moy Temps'!$D2), "") -> 0.0062615741 | I2: =IFERROR(AVERAGEIFS(Data!R:R,Data!$B:$B,'Moy Temps'!$A2,Data!$C:$C,'Moy Temps'!$B2,Data!$F:$F,'Moy Temps'!$D2), "") | J2: =IFERROR(AVERAGEIFS(Data!S:S,Data!$B:$B,'Moy Temps'!$A2,Data!$C:$C,'Moy Temps'!$B2,Data!$F:$F,'Moy Temps'!$D2), "") | K2: =IFERROR(AVERAGEIFS(Data!T:T,Data!$B:$B,'Moy Temps'!$A2,Data!$C:$C,'Moy Temps'!$B2,Data!$F:$F,'Moy Temps'!$D2), "") | L2: =IFERROR(AVERAGEIFS(Data!U:U,Data!$B:$B,'Moy Temps'!$A2,Data!$C:$C,'Moy Temps'!$B2,Data!$F:$F,'Moy Temps'!$D2), "") | M2: =IFERROR(AVERAGEIFS(Data!V:V,Data!$B:$B,'Moy Temps'!$A2,Data!$C:$C,'Moy Temps'!$B2,Data!$F:$F,'Moy Temps'!$D2), "") | N2: =IFERROR(AVERAGEIFS(Data!W:W,Data!$B:$B,'Moy Temps'!$A2,Data!$C:$C,'Moy Temps'!$B2,Data!$F:$F,'Moy Temps'!$D2), "")
A3: 2020 | B3: 4 | D3: 2 | E3: =IFERROR(AVERAGEIFS(INDIRECT("Data[K"&MID(E$1,10,3)&"]"),Data[Année],Moyennes[[#This Row],[Année]],Data[Mois],Moyennes[[#This Row],[Mois]],Data[Lieu],Moyennes[[#This Row],[Lieu]]),"") | F3: =IFERROR(AVERAGEIFS(Data!O:O,Data!$B:$B,'Moy Temps'!$A3,Data!$C:$C,'Moy Temps'!$B3,Data!$F:$F,'Moy Temps'!$D3), "") | G3: =IFERROR(AVERAGEIFS(Data!P:P,Data!$B:$B,'Moy Temps'!$A3,Data!$C:$C,'Moy Temps'!$B3,Data!$F:$F,'Moy Temps'!$D3), "") | H3: =IFERROR(AVERAGEIFS(Data!Q:Q,Data!$B:$B,'Moy Temps'!$A3,Data!$C:$C,'Moy Temps'!$B3,Data!$F:$F,'Moy Temps'!$D3), "") | I3: =IFERROR(AVERAGEIFS(Data!R:R,Data!$B:$B,'Moy Temps'!$A3,Data!$C:$C,'Moy Temps'!$B3,Data!$F:$F,'Moy Temps'!$D3), "") | J3: =IFERROR(AVERAGEIFS(Data!S:S,Data!$B:$B,'Moy Temps'!$A3,Data!$C:$C,'Moy Temps'!$B3,Data!$F:$F,'Moy Temps'!$D3), "") | K3: =IFERROR(AVERAGEIFS(Data!T:T,Data!$B:$B,'Moy Temps'!$A3,Data!$C:$C,'Moy Temps'!$B3,Data!$F:$F,'Moy Temps'!$D3), "") | L3: =IFERROR(AVERAGEIFS(Data!U:U,Data!$B:$B,'Moy Temps'!$A3,Data!$C:$C,'Moy Temps'!$B3,Data!$F:$F,'Moy Temps'!$D3), "") | M3: =IFERROR(AVERAGEIFS(Data!V:V,Data!$B:$B,'Moy Temps'!$A3,Data!$C:$C,'Moy Temps'!$B3,Data!$F:$F,'Moy Temps'!$D3), "") | N3: =IFERROR(AVERAGEIFS(Data!W:W,Data!$B:$B,'Moy Temps'!$A3,Data!$C:$C,'Moy Temps'!$B3,Data!$F:$F,'Moy Temps'!$D3), "")
A4: 2020 | B4: 4 | D4: 6 | E4: =IFERROR(AVERAGEIFS(INDIRECT("Data[K"&MID(E$1,10,3)&"]"),Data[Année],Moyennes[[#This Row],[Année]],Data[Mois],Moyennes[[#This Row],[Mois]],Data[Lieu],Moyennes[[#This Row],[Lieu]]),"") | F4: =IFERROR(AVERAGEIFS(Data!O:O,Data!$B:$B,'Moy Temps'!$A4,Data!$C:$C,'Moy Temps'!$B4,Data!$F:$F,'Moy Temps'!$D4), "") | G4: =IFERROR(AVERAGEIFS(Data!P:P,Data!$B:$B,'Moy Temps'!$A4,Data!$C:$C,'Moy Temps'!$B4,Data!$F:$F,'Moy Temps'!$D4), "") | H4: =IFERROR(AVERAGEIFS(Data!Q:Q,Data!$B:$B,'Moy Temps'!$A4,Data!$C:$C,'Moy Temps'!$B4,Data!$F:$F,'Moy Temps'!$D4), "") | I4: =IFERROR(AVERAGEIFS(Data!R:R,Data!$B:$B,'Moy Temps'!$A4,Data!$C:$C,'Moy Temps'!$B4,Data!$F:$F,'Moy Temps'!$D4), "") | J4: =IFERROR(AVERAGEIFS(Data!S:S,Data!$B:$B,'Moy Temps'!$A4,Data!$C:$C,'Moy Temps'!$B4,Data!$F:$F,'Moy Temps'!$D4), "") | K4: =IFERROR(AVERAGEIFS(Data!T:T,Data!$B:$B,'Moy Temps'!$A4,Data!$C:$C,'Moy Temps'!$B4,Data!$F:$F,'Moy Temps'!$D4), "") | L4: =IFERROR(AVERAGEIFS(Data!U:U,Data!$B:$B,'Moy Temps'!$A4,Data!$C:$C,'Moy Temps'!$B4,Data!$F:$F,'Moy Temps'!$D4), "") | M4: =IFERROR(AVERAGEIFS(Data!V:V,Data!$B:$B,'Moy Temps'!$A4,Data!$C:$C,'Moy Temps'!$B4,Data!$F:$F,'Moy Temps'!$D4), "") | N4: =IFERROR(AVERAGEIFS(Data!W:W,Data!$B:$B,'Moy Temps'!$A4,Data!$C:$C,'Moy Temps'!$B4,Data!$F:$F,'Moy Temps'!$D4), "")
A5: 2020 | B5: 4 | D5: 7 | E5: =IFERROR(AVERAGEIFS(INDIRECT("Data[K"&MID(E$1,10,3)&"]"),Data[Année],Moyennes[[#This Row],[Année]],Data[Mois],Moyennes[[#This Row],[Mois]],Data[Lieu],Moyennes[[#This Row],[Lieu]]),"") | F5: =IFERROR(AVERAGEIFS(INDIRECT("Data[K"&MID(F$1,10,3)&"]"),Data[Année],Moyennes[[#This Row],[Année]],Data[Mois],Moyennes[[#This Row],[Mois]],Data[Lieu],Moyennes[[#This Row],[Lieu]]),"") | G5: =IFERROR(AVERAGEIFS(INDIRECT("Data[K"&MID(G$1,10,3)&"]"),Data[Année],Moyennes[[#This Row],[Année]],Data[Mois],Moyennes[[#This Row],[Mois]],Data[Lieu],Moyennes[[#This Row],[Lieu]]),"") | H5: =IFERROR(AVERAGEIFS(INDIRECT("Data[K"&MID(H$1,10,3)&"]"),Data[Année],Moyennes[[#This Row],[Année]],Data[Mois],Moyennes[[#This Row],[Mois]],Data[Lieu],Moyennes[[#This Row],[Lieu]]),"") | I5: =IFERROR(AVERAGEIFS(INDIRECT("Data[K"&MID(I$1,10,3)&"]"),Data[Année],Moyennes[[#This Row],[Année]],Data[Mois],Moyennes[[#This Row],[Mois]],Data[Lieu],Moyennes[[#This Row],[Lieu]]),"") | J5: =IFERROR(AVERAGEIFS(INDIRECT("Data[K"&MID(J$1,10,3)&"]"),Data[Année],Moyennes[[#This Row],[Année]],Data[Mois],Moyennes[[#This Row],[Mois]],Data[Lieu],Moyennes[[#This Row],[Lieu]]),"") | K5: =IFERROR(AVERAGEIFS(INDIRECT("Data[K"&MID(K$1,10,3)&"]"),Data[Année],Moyennes[[#This Row],[Année]],Data[Mois],Moyennes[[#This Row],[Mois]],Data[Lieu],Moyennes[[#This Row],[Lieu]]),"") | L5: =IFERROR(AVERAGEIFS(INDIRECT("Data[K"&MID(L$1,10,3)&"]"),Data[Année],Moyennes[[#This Row],[Année]],Data[Mois],Moyennes[[#This Row],[Mois]],Data[Lieu],Moyennes[[#This Row],[Lieu]]),"") | ... N5: =IFERROR(AVERAGEIFS(INDIRECT("Data[K"&MID(N$1,10,3)&"]"),Data[Année],Moyennes[[#This Row],[Année]],Data[Mois],Moyennes[[#This Row],[Mois]],Data[Lieu],Moyennes[[#This Row],[Lieu]]),"")
A6: 2020 | B6: 4 | D6: 4 | E6: =IFERROR(AVERAGEIFS(INDIRECT("Data[K"&MID(E$1,10,3)&"]"),Data[Année],Moyennes[[#This Row],[Année]],Data[Mois],Moyennes[[#This Row],[Mois]],Data[Lieu],Moyennes[[#This Row],[Lieu]]),"") | F6: =IFERROR(AVERAGEIFS(Data!O:O,Data!$B:$B,'Moy Temps'!$A6,Data!$C:$C,'Moy Temps'!$B6,Data!$F:$F,'Moy Temps'!$D6), "") | G6: =IFERROR(AVERAGEIFS(Data!P:P,Data!$B:$B,'Moy Temps'!$A6,Data!$C:$C,'Moy Temps'!$B6,Data!$F:$F,'Moy Temps'!$D6), "") | H6: =IFERROR(AVERAGEIFS(Data!Q:Q,Data!$B:$B,'Moy Temps'!$A6,Data!$C:$C,'Moy Temps'!$B6,Data!$F:$F,'Moy Temps'!$D6), "") | I6: =IFERROR(AVERAGEIFS(Data!R:R,Data!$B:$B,'Moy Temps'!$A6,Data!$C:$C,'Moy Temps'!$B6,Data!$F:$F,'Moy Temps'!$D6), "") | J6: =IFERROR(AVERAGEIFS(Data!S:S,Data!$B:$B,'Moy Temps'!$A6,Data!$C:$C,'Moy Temps'!$B6,Data!$F:$F,'Moy Temps'!$D6), "") | K6: =IFERROR(AVERAGEIFS(Data!T:T,Data!$B:$B,'Moy Temps'!$A6,Data!$C:$C,'Moy Temps'!$B6,Data!$F:$F,'Moy Temps'!$D6), "") | L6: =IFERROR(AVERAGEIFS(Data!U:U,Data!$B:$B,'Moy Temps'!$A6,Data!$C:$C,'Moy Temps'!$B6,Data!$F:$F,'Moy Temps'!$D6), "") | M6: =IFERROR(AVERAGEIFS(Data!V:V,Data!$B:$B,'Moy Temps'!$A6,Data!$C:$C,'Moy Temps'!$B6,Data!$F:$F,'Moy Temps'!$D6), "") | N6: =IFERROR(AVERAGEIFS(Data!W:W,Data!$B:$B,'Moy Temps'!$A6,Data!$C:$C,'Moy Temps'!$B6,Data!$F:$F,'Moy Temps'!$D6), "")
A7: 2020 | B7: 5 | D7: 1 | E7: =IFERROR(AVERAGEIFS(INDIRECT("Data[K"&MID(E$1,10,3)&"]"),Data[Année],Moyennes[[#This Row],[Année]],Data[Mois],Moyennes[[#This Row],[Mois]],Data[Lieu],Moyennes[[#This Row],[Lieu]]),"") -> 0.0047347608 | F7: =IFERROR(AVERAGEIFS(Data!O:O,Data!$B:$B,'Moy Temps'!$A7,Data!$C:$C,'Moy Temps'!$B7,Data!$F:$F,'Moy Temps'!$D7), "") -> 0.0058381559 | G7: =IFERROR(AVERAGEIFS(Data!P:P,Data!$B:$B,'Moy Temps'!$A7,Data!$C:$C,'Moy Temps'!$B7,Data!$F:$F,'Moy Temps'!$D7), "") -> 0.0052353395 | H7: =IFERROR(AVERAGEIFS(Data!Q:Q,Data!$B:$B,'Moy Temps'!$A7,Data!$C:$C,'Moy Temps'!$B7,Data!$F:$F,'Moy Temps'!$D7), "") -> 0.0075752315 | I7: =IFERROR(AVERAGEIFS(Data!R:R,Data!$B:$B,'Moy Temps'!$A7,Data!$C:$C,'Moy Temps'!$B7,Data!$F:$F,'Moy Temps'!$D7), "") | J7: =IFERROR(AVERAGEIFS(Data!S:S,Data!$B:$B,'Moy Temps'!$A7,Data!$C:$C,'Moy Temps'!$B7,Data!$F:$F,'Moy Temps'!$D7), "") | K7: =IFERROR(AVERAGEIFS(Data!T:T,Data!$B:$B,'Moy Temps'!$A7,Data!$C:$C,'Moy Temps'!$B7,Data!$F:$F,'Moy Temps'!$D7), "") | L7: =IFERROR(AVERAGEIFS(Data!U:U,Data!$B:$B,'Moy Temps'!$A7,Data!$C:$C,'Moy Temps'!$B7,Data!$F:$F,'Moy Temps'!$D7), "") | M7: =IFERROR(AVERAGEIFS(Data!V:V,Data!$B:$B,'Moy Temps'!$A7,Data!$C:$C,'Moy Temps'!$B7,Data!$F:$F,'Moy Temps'!$D7), "") | N7: =IFERROR(AVERAGEIFS(Data!W:W,Data!$B:$B,'Moy Temps'!$A7,Data!$C:$C,'Moy Temps'!$B7,Data!$F:$F,'Moy Temps'!$D7), "")
A8: 2020 | B8: 5 | D8: 2 | E8: =IFERROR(AVERAGEIFS(INDIRECT("Data[K"&MID(E$1,10,3)&"]"),Data[Année],Moyennes[[#This Row],[Année]],Data[Mois],Moyennes[[#This Row],[Mois]],Data[Lieu],Moyennes[[#This Row],[Lieu]]),"") -> 0.0049074074 | F8: =IFERROR(AVERAGEIFS(Data!O:O,Data!$B:$B,'Moy Temps'!$A8,Data!$C:$C,'Moy Temps'!$B8,Data!$F:$F,'Moy Temps'!$D8), "") -> 0.0049189815 | G8: =IFERROR(AVERAGEIFS(Data!P:P,Data!$B:$B,'Moy Temps'!$A8,Data!$C:$C,'Moy Temps'!$B8,Data!$F:$F,'Moy Temps'!$D8), "") | H8: =IFERROR(AVERAGEIFS(Data!Q:Q,Data!$B:$B,'Moy Temps'!$A8,Data!$C:$C,'Moy Temps'!$B8,Data!$F:$F,'Moy Temps'!$D8), "") | I8: =IFERROR(AVERAGEIFS(Data!R:R,Data!$B:$B,'Moy Temps'!$A8,Data!$C:$C,'Moy Temps'!$B8,Data!$F:$F,'Moy Temps'!$D8), "") | J8: =IFERROR(AVERAGEIFS(Data!S:S,Data!$B:$B,'Moy Temps'!$A8,Data!$C:$C,'Moy Temps'!$B8,Data!$F:$F,'Moy Temps'!$D8), "") | K8: =IFERROR(AVERAGEIFS(Data!T:T,Data!$B:$B,'Moy Temps'!$A8,Data!$C:$C,'Moy Temps'!$B8,Data!$F:$F,'Moy Temps'!$D8), "") | L8: =IFERROR(AVERAGEIFS(Data!U:U,Data!$B:$B,'Moy Temps'!$A8,Data!$C:$C,'Moy Temps'!$B8,Data!$F:$F,'Moy Temps'!$D8), "") | M8: =IFERROR(AVERAGEIFS(Data!V:V,Data!$B:$B,'Moy Temps'!$A8,Data!$C:$C,'Moy Temps'!$B8,Data!$F:$F,'Moy Temps'!$D8), "") | N8: =IFERROR(AVERAGEIFS(Data!W:W,Data!$B:$B,'Moy Temps'!$A8,Data!$C:$C,'Moy Temps'!$B8,Data!$F:$F,'Moy Temps'!$D8), "")
A9: 2020 | B9: 5 | D9: 6 | E9: =IFERROR(AVERAGEIFS(INDIRECT("Data[K"&MID(E$1,10,3)&"]"),Data[Année],Moyennes[[#This Row],[Année]],Data[Mois],Moyennes[[#This Row],[Mois]],Data[Lieu],Moyennes[[#This Row],[Lieu]]),"") | F9: =IFERROR(AVERAGEIFS(Data!O:O,Data!$B:$B,'Moy Temps'!$A9,Data!$C:$C,'Moy Temps'!$B9,Data!$F:$F,'Moy Temps'!$D9), "") | G9: =IFERROR(AVERAGEIFS(Data!P:P,Data!$B:$B,'Moy Temps'!$A9,Data!$C:$C,'Moy Temps'!$B9,Data!$F:$F,'Moy Temps'!$D9), "") | H9: =IFERROR(AVERAGEIFS(Data!Q:Q,Data!$B:$B,'Moy Temps'!$A9,Data!$C:$C,'Moy Temps'!$B9,Data!$F:$F,'Moy Temps'!$D9), "") | I9: =IFERROR(AVERAGEIFS(Data!R:R,Data!$B:$B,'Moy Temps'!$A9,Data!$C:$C,'Moy Temps'!$B9,Data!$F:$F,'Moy Temps'!$D9), "") | J9: =IFERROR(AVERAGEIFS(Data!S:S,Data!$B:$B,'Moy Temps'!$A9,Data!$C:$C,'Moy Temps'!$B9,Data!$F:$F,'Moy Temps'!$D9), "") | K9: =IFERROR(AVERAGEIFS(Data!T:T,Data!$B:$B,'Moy Temps'!$A9,Data!$C:$C,'Moy Temps'!$B9,Data!$F:$F,'Moy Temps'!$D9), "") | L9: =IFERROR(AVERAGEIFS(Data!U:U,Data!$B:$B,'Moy Temps'!$A9,Data!$C:$C,'Moy Temps'!$B9,Data!$F:$F,'Moy Temps'!$D9), "") | M9: =IFERROR(AVERAGEIFS(Data!V:V,Data!$B:$B,'Moy Temps'!$A9,Data!$C:$C,'Moy Temps'!$B9,Data!$F:$F,'Moy Temps'!$D9), "") | N9: =IFERROR(AVERAGEIFS(Data!W:W,Data!$B:$B,'Moy Temps'!$A9,Data!$C:$C,'Moy Temps'!$B9,Data!$F:$F,'Moy Temps'!$D9), "")
A10: 2020 | B10: 5 | D10: 7 | E10: =IFERROR(AVERAGEIFS(INDIRECT("Data[K"&MID(E$1,10,3)&"]"),Data[Année],Moyennes[[#This Row],[Année]],Data[Mois],Moyennes[[#This Row],[Mois]],Data[Lieu],Moyennes[[#This Row],[Lieu]]),"") | F10: =IFERROR(AVERAGEIFS(INDIRECT("Data[K"&MID(F$1,10,3)&"]"),Data[Année],Moyennes[[#This Row],[Année]],Data[Mois],Moyennes[[#This Row],[Mois]],Data[Lieu],Moyennes[[#This Row],[Lieu]]),"") | G10: =IFERROR(AVERAGEIFS(INDIRECT("Data[K"&MID(G$1,10,3)&"]"),Data[Année],Moyennes[[#This Row],[Année]],Data[Mois],Moyennes[[#This Row],[Mois]],Data[Lieu],Moyennes[[#This Row],[Lieu]]),"") | H10: =IFERROR(AVERAGEIFS(INDIRECT("Data[K"&MID(H$1,10,3)&"]"),Data[Année],Moyennes[[#This Row],[Année]],Data[Mois],Moyennes[[#This Row],[Mois]],Data[Lieu],Moyennes[[#This Row],[Lieu]]),"") | I10: =IFERROR(AVERAGEIFS(INDIRECT("Data[K"&MID(I$1,10,3)&"]"),Data[Année],Moyennes[[#This Row],[Année]],Data[Mois],Moyennes[[#This Row],[Mois]],Data[Lieu],Moyennes[[#This Row],[Lieu]]),"") | J10: =IFERROR(AVERAGEIFS(INDIRECT("Data[K"&MID(J$1,10,3)&"]"),Data[Année],Moyennes[[#This Row],[Année]],Data[Mois],Moyennes[[#This Row],[Mois]],Data[Lieu],Moyennes[[#This Row],[Lieu]]),"") | K10: =IFERROR(AVERAGEIFS(INDIRECT("Data[K"&MID(K$1,10,3)&"]"),Data[Année],Moyennes[[#This Row],[Année]],Data[Mois],Moyennes[[#This Row],[Mois]],Data[Lieu],Moyennes[[#This Row],[Lieu]]),"") | L10: =IFERROR(AVERAGEIFS(INDIRECT("Data[K"&MID(L$1,10,3)&"]"),Data[Année],Moyennes[[#This Row],[Année]],Data[Mois],Moyennes[[#This Row],[Mois]],Data[Lieu],Moyennes[[#This Row],[Lieu]]),"") | ... N10: =IFERROR(AVERAGEIFS(INDIRECT("Data[K"&MID(N$1,10,3)&"]"),Data[Année],Moyennes[[#This Row],[Année]],Data[Mois],Moyennes[[#This Row],[Mois]],Data[Lieu],Moyennes[[#This Row],[Lieu]]),"")
A11: 2020 | B11: 5 | D11: 4 | E11: =IFERROR(AVERAGEIFS(INDIRECT("Data[K"&MID(E$1,10,3)&"]"),Data[Année],Moyennes[[#This Row],[Année]],Data[Mois],Moyennes[[#This Row],[Mois]],Data[Lieu],Moyennes[[#This Row],[Lieu]]),"") | F11: =IFERROR(AVERAGEIFS(Data!O:O,Data!$B:$B,'Moy Temps'!$A11,Data!$C:$C,'Moy Temps'!$B11,Data!$F:$F,'Moy Temps'!$D11), "") | G11: =IFERROR(AVERAGEIFS(Data!P:P,Data!$B:$B,'Moy Temps'!$A11,Data!$C:$C,'Moy Temps'!$B11,Data!$F:$F,'Moy Temps'!$D11), "") | H11: =IFERROR(AVERAGEIFS(Data!Q:Q,Data!$B:$B,'Moy Temps'!$A11,Data!$C:$C,'Moy Temps'!$B11,Data!$F:$F,'Moy Temps'!$D11), "") | I11: =IFERROR(AVERAGEIFS(Data!R:R,Data!$B:$B,'Moy Temps'!$A11,Data!$C:$C,'Moy Temps'!$B11,Data!$F:$F,'Moy Temps'!$D11), "") | J11: =IFERROR(AVERAGEIFS(Data!S:S,Data!$B:$B,'Moy Temps'!$A11,Data!$C:$C,'Moy Temps'!$B11,Data!$F:$F,'Moy Temps'!$D11), "") | K11: =IFERROR(AVERAGEIFS(Data!T:T,Data!$B:$B,'Moy Temps'!$A11,Data!$C:$C,'Moy Temps'!$B11,Data!$F:$F,'Moy Temps'!$D11), "") | L11: =IFERROR(AVERAGEIFS(Data!U:U,Data!$B:$B,'Moy Temps'!$A11,Data!$C:$C,'Moy Temps'!$B11,Data!$F:$F,'Moy Temps'!$D11), "") | M11: =IFERROR(AVERAGEIFS(Data!V:V,Data!$B:$B,'Moy Temps'!$A11,Data!$C:$C,'Moy Temps'!$B11,Data!$F:$F,'Moy Temps'!$D11), "") | N11: =IFERROR(AVERAGEIFS(Data!W:W,Data!$B:$B,'Moy Temps'!$A11,Data!$C:$C,'Moy Temps'!$B11,Data!$F:$F,'Moy Temps'!$D11), "")
A12: 2020 | B12: 6 | D12: 1 | E12: =IFERROR(AVERAGEIFS(INDIRECT("Data[K"&MID(E$1,10,3)&"]"),Data[Année],Moyennes[[#This Row],[Année]],Data[Mois],Moyennes[[#This Row],[Mois]],Data[Lieu],Moyennes[[#This Row],[Lieu]]),"") -> 0.0055968915 | F12: =IFERROR(AVERAGEIFS(Data!O:O,Data!$B:$B,'Moy Temps'!$A12,Data!$C:$C,'Moy Temps'!$B12,Data!$F:$F,'Moy Temps'!$D12), "") -> 0.0060615079 | G12: =IFERROR(AVERAGEIFS(Data!P:P,Data!$B:$B,'Moy Temps'!$A12,Data!$C:$C,'Moy Temps'!$B12,Data!$F:$F,'Moy Temps'!$D12), "") -> 0.0056770833 | H12: =IFERROR(AVERAGEIFS(Data!Q:Q,Data!$B:$B,'Moy Temps'!$A12,Data!$C:$C,'Moy Temps'!$B12,Data!$F:$F,'Moy Temps'!$D12), "") -> 0.006812996 | I12: =IFERROR(AVERAGEIFS(Data!R:R,Data!$B:$B,'Moy Temps'!$A12,Data!$C:$C,'Moy Temps'!$B12,Data!$F:$F,'Moy Temps'!$D12), "") | J12: =IFERROR(AVERAGEIFS(Data!S:S,Data!$B:$B,'Moy Temps'!$A12,Data!$C:$C,'Moy Temps'!$B12,Data!$F:$F,'Moy Temps'!$D12), "") | K12: =IFERROR(AVERAGEIFS(Data!T:T,Data!$B:$B,'Moy Temps'!$A12,Data!$C:$C,'Moy Temps'!$B12,Data!$F:$F,'Moy Temps'!$D12), "") | L12: =IFERROR(AVERAGEIFS(Data!U:U,Data!$B:$B,'Moy Temps'!$A12,Data!$C:$C,'Moy Temps'!$B12,Data!$F:$F,'Moy Temps'!$D12), "") | M12: =IFERROR(AVERAGEIFS(Data!V:V,Data!$B:$B,'Moy Temps'!$A12,Data!$C:$C,'Moy Temps'!$B12,Data!$F:$F,'Moy Temps'!$D12), "") | N12: =IFERROR(AVERAGEIFS(Data!W:W,Data!$B:$B,'Moy Temps'!$A12,Data!$C:$C,'Moy Temps'!$B12,Data!$F:$F,'Moy Temps'!$D12), "")
A13: 2020 | B13: 6 | D13: 2 | E13: =IFERROR(AVERAGEIFS(INDIRECT("Data[K"&MID(E$1,10,3)&"]"),Data[Année],Moyennes[[#This Row],[Année]],Data[Mois],Moyennes[[#This Row],[Mois]],Data[Lieu],Moyennes[[#This Row],[Lieu]]),"") -> 0.0046701389 | F13: =IFERROR(AVERAGEIFS(Data!O:O,Data!$B:$B,'Moy Temps'!$A13,Data!$C:$C,'Moy Temps'!$B13,Data!$F:$F,'Moy Temps'!$D13), "") -> 0.004994213 | G13: =IFERROR(AVERAGEIFS(Data!P:P,Data!$B:$B,'Moy Temps'!$A13,Data!$C:$C,'Moy Temps'!$B13,Data!$F:$F,'Moy Temps'!$D13), "") -> 0.0053587963 | H13: =IFERROR(AVERAGEIFS(Data!Q:Q,Data!$B:$B,'Moy Temps'!$A13,Data!$C:$C,'Moy Temps'!$B13,Data!$F:$F,'Moy Temps'!$D13), "") -> 0.0053298611 | I13: =IFERROR(AVERAGEIFS(Data!R:R,Data!$B:$B,'Moy Temps'!$A13,Data!$C:$C,'Moy Temps'!$B13,Data!$F:$F,'Moy Temps'!$D13), "") | J13: =IFERROR(AVERAGEIFS(Data!S:S,Data!$B:$B,'Moy Temps'!$A13,Data!$C:$C,'Moy Temps'!$B13,Data!$F:$F,'Moy Temps'!$D13), "") | K13: =IFERROR(AVERAGEIFS(Data!T:T,Data!$B:$B,'Moy Temps'!$A13,Data!$C:$C,'Moy Temps'!$B13,Data!$F:$F,'Moy Temps'!$D13), "") | L13: =IFERROR(AVERAGEIFS(Data!U:U,Data!$B:$B,'Moy Temps'!$A13,Data!$C:$C,'Moy Temps'!$B13,Data!$F:$F,'Moy Temps'!$D13), "") | M13: =IFERROR(AVERAGEIFS(Data!V:V,Data!$B:$B,'Moy Temps'!$A13,Data!$C:$C,'Moy Temps'!$B13,Data!$F:$F,'Moy Temps'!$D13), "") | N13: =IFERROR(AVERAGEIFS(Data!W:W,Data!$B:$B,'Moy Temps'!$A13,Data!$C:$C,'Moy Temps'!$B13,Data!$F:$F,'Moy Temps'!$D13), "")
A14: 2020 | B14: 6 | D14: 6 | E14: =IFERROR(AVERAGEIFS(INDIRECT("Data[K"&MID(E$1,10,3)&"]"),Data[Année],Moyennes[[#This Row],[Année]],Data[Mois],Moyennes[[#This Row],[Mois]],Data[Lieu],Moyennes[[#This Row],[Lieu]]),"") | F14: =IFERROR(AVERAGEIFS(Data!O:O,Data!$B:$B,'Moy Temps'!$A14,Data!$C:$C,'Moy Temps'!$B14,Data!$F:$F,'Moy Temps'!$D14), "") | G14: =IFERROR(AVERAGEIFS(Data!P:P,Data!$B:$B,'Moy Temps'!$A14,Data!$C:$C,'Moy Temps'!$B14,Data!$F:$F,'Moy Temps'!$D14), "") | H14: =IFERROR(AVERAGEIFS(Data!Q:Q,Data!$B:$B,'Moy Temps'!$A14,Data!$C:$C,'Moy Temps'!$B14,Data!$F:$F,'Moy Temps'!$D14), "") | I14: =IFERROR(AVERAGEIFS(Data!R:R,Data!$B:$B,'Moy Temps'!$A14,Data!$C:$C,'Moy Temps'!$B14,Data!$F:$F,'Moy Temps'!$D14), "") | J14: =IFERROR(AVERAGEIFS(Data!S:S,Data!$B:$B,'Moy Temps'!$A14,Data!$C:$C,'Moy Temps'!$B14,Data!$F:$F,'Moy Temps'!$D14), "") | K14: =IFERROR(AVERAGEIFS(Data!T:T,Data!$B:$B,'Moy Temps'!$A14,Data!$C:$C,'Moy Temps'!$B14,Data!$F:$F,'Moy Temps'!$D14), "") | L14: =IFERROR(AVERAGEIFS(Data!U:U,Data!$B:$B,'Moy Temps'!$A14,Data!$C:$C,'Moy Temps'!$B14,Data!$F:$F,'Moy Temps'!$D14), "") | M14: =IFERROR(AVERAGEIFS(Data!V:V,Data!$B:$B,'Moy Temps'!$A14,Data!$C:$C,'Moy Temps'!$B14,Data!$F:$F,'Moy Temps'!$D14), "") | N14: =IFERROR(AVERAGEIFS(Data!W:W,Data!$B:$B,'Moy Temps'!$A14,Data!$C:$C,'Moy Temps'!$B14,Data!$F:$F,'Moy Temps'!$D14), "")
A15: 2020 | B15: 6 | D15: 7 | E15: =IFERROR(AVERAGEIFS(INDIRECT("Data[K"&MID(E$1,10,3)&"]"),Data[Année],Moyennes[[#This Row],[Année]],Data[Mois],Moyennes[[#This Row],[Mois]],Data[Lieu],Moyennes[[#This Row],[Lieu]]),"") | F15: =IFERROR(AVERAGEIFS(INDIRECT("Data[K"&MID(F$1,10,3)&"]"),Data[Année],Moyennes[[#This Row],[Année]],Data[Mois],Moyennes[[#This Row],[Mois]],Data[Lieu],Moyennes[[#This Row],[Lieu]]),"") | G15: =IFERROR(AVERAGEIFS(INDIRECT("Data[K"&MID(G$1,10,3)&"]"),Data[Année],Moyennes[[#This Row],[Année]],Data[Mois],Moyennes[[#This Row],[Mois]],Data[Lieu],Moyennes[[#This Row],[Lieu]]),"") | H15: =IFERROR(AVERAGEIFS(INDIRECT("Data[K"&MID(H$1,10,3)&"]"),Data[Année],Moyennes[[#This Row],[Année]],Data[Mois],Moyennes[[#This Row],[Mois]],Data[Lieu],Moyennes[[#This Row],[Lieu]]),"") | I15: =IFERROR(AVERAGEIFS(INDIRECT("Data[K"&MID(I$1,10,3)&"]"),Data[Année],Moyennes[[#This Row],[Année]],Data[Mois],Moyennes[[#This Row],[Mois]],Data[Lieu],Moyennes[[#This Row],[Lieu]]),"") | J15: =IFERROR(AVERAGEIFS(INDIRECT("Data[K"&MID(J$1,10,3)&"]"),Data[Année],Moyennes[[#This Row],[Année]],Data[Mois],Moyennes[[#This Row],[Mois]],Data[Lieu],Moyennes[[#This Row],[Lieu]]),"") | K15: =IFERROR(AVERAGEIFS(INDIRECT("Data[K"&MID(K$1,10,3)&"]"),Data[Année],Moyennes[[#This Row],[Année]],Data[Mois],Moyennes[[#This Row],[Mois]],Data[Lieu],Moyennes[[#This Row],[Lieu]]),"") | L15: =IFERROR(AVERAGEIFS(INDIRECT("Data[K"&MID(L$1,10,3)&"]"),Data[Année],Moyennes[[#This Row],[Année]],Data[Mois],Moyennes[[#This Row],[Mois]],Data[Lieu],Moyennes[[#This Row],[Lieu]]),"") | ... N15: =IFERROR(AVERAGEIFS(INDIRECT("Data[K"&MID(N$1,10,3)&"]"),Data[Année],Moyennes[[#This Row],[Année]],Data[Mois],Moyennes[[#This Row],[Mois]],Data[Lieu],Moyennes[[#This Row],[Lieu]]),"")
A16: 2020 | B16: 6 | D16: 4 | E16: =IFERROR(AVERAGEIFS(INDIRECT("Data[K"&MID(E$1,10,3)&"]"),Data[Année],Moyennes[[#This Row],[Année]],Data[Mois],Moyennes[[#This Row],[Mois]],Data[Lieu],Moyennes[[#This Row],[Lieu]]),"") | F16: =IFERROR(AVERAGEIFS(Data!O:O,Data!$B:$B,'Moy Temps'!$A16,Data!$C:$C,'Moy Temps'!$B16,Data!$F:$F,'Moy Temps'!$D16), "") | G16: =IFERROR(AVERAGEIFS(Data!P:P,Data!$B:$B,'Moy Temps'!$A16,Data!$C:$C,'Moy Temps'!$B16,Data!$F:$F,'Moy Temps'!$D16), "") | H16: =IFERROR(AVERAGEIFS(Data!Q:Q,Data!$B:$B,'Moy Temps'!$A16,Data!$C:$C,'Moy Temps'!$B16,Data!$F:$F,'Moy Temps'!$D16), "") | I16: =IFERROR(AVERAGEIFS(Data!R:R,Data!$B:$B,'Moy Temps'!$A16,Data!$C:$C,'Moy Temps'!$B16,Data!$F:$F,'Moy Temps'!$D16), "") | J16: =IFERROR(AVERAGEIFS(Data!S:S,Data!$B:$B,'Moy Temps'!$A16,Data!$C:$C,'Moy Temps'!$B16,Data!$F:$F,'Moy Temps'!$D16), "") | K16: =IFERROR(AVERAGEIFS(Data!T:T,Data!$B:$B,'Moy Temps'!$A16,Data!$C:$C,'Moy Temps'!$B16,Data!$F:$F,'Moy Temps'!$D16), "") | L16: =IFERROR(AVERAGEIFS(Data!U:U,Data!$B:$B,'Moy Temps'!$A16,Data!$C:$C,'Moy Temps'!$B16,Data!$F:$F,'Moy Temps'!$D16), "") | M16: =IFERROR(AVERAGEIFS(Data!V:V,Data!$B:$B,'Moy Temps'!$A16,Data!$C:$C,'Moy Temps'!$B16,Data!$F:$F,'Moy Temps'!$D16), "") | N16: =IFERROR(AVERAGEIFS(Data!W:W,Data!$B:$B,'Moy Temps'!$A16,Data!$C:$C,'Moy Temps'!$B16,Data!$F:$F,'Moy Temps'!$D16), "")
A17: 2020 | B17: 7 | D17: 1 | E17: =IFERROR(AVERAGEIFS(INDIRECT("Data[K"&MID(E$1,10,3)&"]"),Data[Année],Moyennes[[#This Row],[Année]],Data[Mois],Moyennes[[#This Row],[Mois]],Data[Lieu],Moyennes[[#This Row],[Lieu]]),"") -> 0.004870205 | F17: =IFERROR(AVERAGEIFS(Data!O:O,Data!$B:$B,'Moy Temps'!$A17,Data!$C:$C,'Moy Temps'!$B17,Data!$F:$F,'Moy Temps'!$D17), "") -> 0.0054265873 | G17: =IFERROR(AVERAGEIFS(Data!P:P,Data!$B:$B,'Moy Temps'!$A17,Data!$C:$C,'Moy Temps'!$B17,Data!$F:$F,'Moy Temps'!$D17), "") -> 0.0047379299 | H17: =IFERROR(AVERAGEIFS(Data!Q:Q,Data!$B:$B,'Moy Temps'!$A17,Data!$C:$C,'Moy Temps'!$B17,Data!$F:$F,'Moy Temps'!$D17), "") -> 0.0056793091 | I17: =IFERROR(AVERAGEIFS(Data!R:R,Data!$B:$B,'Moy Temps'!$A17,Data!$C:$C,'Moy Temps'!$B17,Data!$F:$F,'Moy Temps'!$D17), "") -> 0.0058101852 | J17: =IFERROR(AVERAGEIFS(Data!S:S,Data!$B:$B,'Moy Temps'!$A17,Data!$C:$C,'Moy Temps'!$B17,Data!$F:$F,'Moy Temps'!$D17), "") | K17: =IFERROR(AVERAGEIFS(Data!T:T,Data!$B:$B,'Moy Temps'!$A17,Data!$C:$C,'Moy Temps'!$B17,Data!$F:$F,'Moy Temps'!$D17), "") | L17: =IFERROR(AVERAGEIFS(Data!U:U,Data!$B:$B,'Moy Temps'!$A17,Data!$C:$C,'Moy Temps'!$B17,Data!$F:$F,'Moy Temps'!$D17), "") | M17: =IFERROR(AVERAGEIFS(Data!V:V,Data!$B:$B,'Moy Temps'!$A17,Data!$C:$C,'Moy Temps'!$B17,Data!$F:$F,'Moy Temps'!$D17), "") | N17: =IFERROR(AVERAGEIFS(Data!W:W,Data!$B:$B,'Moy Temps'!$A17,Data!$C:$C,'Moy Temps'!$B17,Data!$F:$F,'Moy Temps'!$D17), "")
A18: 2020 | B18: 7 | D18: 2 | E18: =IFERROR(AVERAGEIFS(INDIRECT("Data[K"&MID(E$1,10,3)&"]"),Data[Année],Moyennes[[#This Row],[Année]],Data[Mois],Moyennes[[#This Row],[Mois]],Data[Lieu],Moyennes[[#This Row],[Lieu]]),"") | F18: =IFERROR(AVERAGEIFS(Data!O:O,Data!$B:$B,'Moy Temps'!$A18,Data!$C:$C,'Moy Temps'!$B18,Data!$F:$F,'Moy Temps'!$D18), "") | G18: =IFERROR(AVERAGEIFS(Data!P:P,Data!$B:$B,'Moy Temps'!$A18,Data!$C:$C,'Moy Temps'!$B18,Data!$F:$F,'Moy Temps'!$D18), "") | H18: =IFERROR(AVERAGEIFS(Data!Q:Q,Data!$B:$B,'Moy Temps'!$A18,Data!$C:$C,'Moy Temps'!$B18,Data!$F:$F,'Moy Temps'!$D18), "") | I18: =IFERROR(AVERAGEIFS(Data!R:R,Data!$B:$B,'Moy Temps'!$A18,Data!$C:$C,'Moy Temps'!$B18,Data!$F:$F,'Moy Temps'!$D18), "") | J18: =IFERROR(AVERAGEIFS(Data!S:S,Data!$B:$B,'Moy Temps'!$A18,Data!$C:$C,'Moy Temps'!$B18,Data!$F:$F,'Moy Temps'!$D18), "") | K18: =IFERROR(AVERAGEIFS(Data!T:T,Data!$B:$B,'Moy Temps'!$A18,Data!$C:$C,'Moy Temps'!$B18,Data!$F:$F,'Moy Temps'!$D18), "") | L18: =IFERROR(AVERAGEIFS(Data!U:U,Data!$B:$B,'Moy Temps'!$A18,Data!$C:$C,'Moy Temps'!$B18,Data!$F:$F,'Moy Temps'!$D18), "") | M18: =IFERROR(AVERAGEIFS(Data!V:V,Data!$B:$B,'Moy Temps'!$A18,Data!$C:$C,'Moy Temps'!$B18,Data!$F:$F,'Moy Temps'!$D18), "") | N18: =IFERROR(AVERAGEIFS(Data!W:W,Data!$B:$B,'Moy Temps'!$A18,Data!$C:$C,'Moy Temps'!$B18,Data!$F:$F,'Moy Temps'!$D18), "")
A19: 2020 | B19: 7 | D19: 6 | E19: =IFERROR(AVERAGEIFS(INDIRECT("Data[K"&MID(E$1,10,3)&"]"),Data[Année],Moyennes[[#This Row],[Année]],Data[Mois],Moyennes[[#This Row],[Mois]],Data[Lieu],Moyennes[[#This Row],[Lieu]]),"") | F19: =IFERROR(AVERAGEIFS(Data!O:O,Data!$B:$B,'Moy Temps'!$A19,Data!$C:$C,'Moy Temps'!$B19,Data!$F:$F,'Moy Temps'!$D19), "") | G19: =IFERROR(AVERAGEIFS(Data!P:P,Data!$B:$B,'Moy Temps'!$A19,Data!$C:$C,'Moy Temps'!$B19,Data!$F:$F,'Moy Temps'!$D19), "") | H19: =IFERROR(AVERAGEIFS(Data!Q:Q,Data!$B:$B,'Moy Temps'!$A19,Data!$C:$C,'Moy Temps'!$B19,Data!$F:$F,'Moy Temps'!$D19), "") | I19: =IFERROR(AVERAGEIFS(Data!R:R,Data!$B:$B,'Moy Temps'!$A19,Data!$C:$C,'Moy Temps'!$B19,Data!$F:$F,'Moy Temps'!$D19), "") | J19: =IFERROR(AVERAGEIFS(Data!S:S,Data!$B:$B,'Moy Temps'!$A19,Data!$C:$C,'Moy Temps'!$B19,Data!$F:$F,'Moy Temps'!$D19), "") | K19: =IFERROR(AVERAGEIFS(Data!T:T,Data!$B:$B,'Moy Temps'!$A19,Data!$C:$C,'Moy Temps'!$B19,Data!$F:$F,'Moy Temps'!$D19), "") | L19: =IFERROR(AVERAGEIFS(Data!U:U,Data!$B:$B,'Moy Temps'!$A19,Data!$C:$C,'Moy Temps'!$B19,Data!$F:$F,'Moy Temps'!$D19), "") | M19: =IFERROR(AVERAGEIFS(Data!V:V,Data!$B:$B,'Moy Temps'!$A19,Data!$C:$C,'Moy Temps'!$B19,Data!$F:$F,'Moy Temps'!$D19), "") | N19: =IFERROR(AVERAGEIFS(Data!W:W,Data!$B:$B,'Moy Temps'!$A19,Data!$C:$C,'Moy Temps'!$B19,Data!$F:$F,'Moy Temps'!$D19), "")
A20: 2020 | B20: 7 | D20: 7 | E20: =IFERROR(AVERAGEIFS(INDIRECT("Data[K"&MID(E$1,10,3)&"]"),Data[Année],Moyennes[[#This Row],[Année]],Data[Mois],Moyennes[[#This Row],[Mois]],Data[Lieu],Moyennes[[#This Row],[Lieu]]),"") | F20: =IFERROR(AVERAGEIFS(INDIRECT("Data[K"&MID(F$1,10,3)&"]"),Data[Année],Moyennes[[#This Row],[Année]],Data[Mois],Moyennes[[#This Row],[Mois]],Data[Lieu],Moyennes[[#This Row],[Lieu]]),"") | G20: =IFERROR(AVERAGEIFS(INDIRECT("Data[K"&MID(G$1,10,3)&"]"),Data[Année],Moyennes[[#This Row],[Année]],Data[Mois],Moyennes[[#This Row],[Mois]],Data[Lieu],Moyennes[[#This Row],[Lieu]]),"") | H20: =IFERROR(AVERAGEIFS(INDIRECT("Data[K"&MID(H$1,10,3)&"]"),Data[Année],Moyennes[[#This Row],[Année]],Data[Mois],Moyennes[[#This Row],[Mois]],Data[Lieu],Moyennes[[#This Row],[Lieu]]),"") | I20: =IFERROR(AVERAGEIFS(INDIRECT("Data[K"&MID(I$1,10,3)&"]"),Data[Année],Moyennes[[#This Row],[Année]],Data[Mois],Moyennes[[#This Row],[Mois]],Data[Lieu],Moyennes[[#This Row],[Lieu]]),"") | J20: =IFERROR(AVERAGEIFS(INDIRECT("Data[K"&MID(J$1,10,3)&"]"),Data[Année],Moyennes[[#This Row],[Année]],Data[Mois],Moyennes[[#This Row],[Mois]],Data[Lieu],Moyennes[[#This Row],[Lieu]]),"") | K20: =IFERROR(AVERAGEIFS(INDIRECT("Data[K"&MID(K$1,10,3)&"]"),Data[Année],Moyennes[[#This Row],[Année]],Data[Mois],Moyennes[[#This Row],[Mois]],Data[Lieu],Moyennes[[#This Row],[Lieu]]),"") | L20: =IFERROR(AVERAGEIFS(INDIRECT("Data[K"&MID(L$1,10,3)&"]"),Data[Année],Moyennes[[#This Row],[Année]],Data[Mois],Moyennes[[#This Row],[Mois]],Data[Lieu],Moyennes[[#This Row],[Lieu]]),"") | ... N20: =IFERROR(AVERAGEIFS(INDIRECT("Data[K"&MID(N$1,10,3)&"]"),Data[Année],Moyennes[[#This Row],[Année]],Data[Mois],Moyennes[[#This Row],[Mois]],Data[Lieu],Moyennes[[#This Row],[Lieu]]),"")
A21: 2020 | B21: 7 | D21: 4 | E21: =IFERROR(AVERAGEIFS(INDIRECT("Data[K"&MID(E$1,10,3)&"]"),Data[Année],Moyennes[[#This Row],[Année]],Data[Mois],Moyennes[[#This Row],[Mois]],Data[Lieu],Moyennes[[#This Row],[Lieu]]),"") | F21: =IFERROR(AVERAGEIFS(Data!O:O,Data!$B:$B,'Moy Temps'!$A21,Data!$C:$C,'Moy Temps'!$B21,Data!$F:$F,'Moy Temps'!$D21), "") | G21: =IFERROR(AVERAGEIFS(Data!P:P,Data!$B:$B,'Moy Temps'!$A21,Data!$C:$C,'Moy Temps'!$B21,Data!$F:$F,'Moy Temps'!$D21), "") | H21: =IFERROR(AVERAGEIFS(Data!Q:Q,Data!$B:$B,'Moy Temps'!$A21,Data!$C:$C,'Moy Temps'!$B21,Data!$F:$F,'Moy Temps'!$D21), "") | I21: =IFERROR(AVERAGEIFS(Data!R:R,Data!$B:$B,'Moy Temps'!$A21,Data!$C:$C,'Moy Temps'!$B21,Data!$F:$F,'Moy Temps'!$D21), "") | J21: =IFERROR(AVERAGEIFS(Data!S:S,Data!$B:$B,'Moy Temps'!$A21,Data!$C:$C,'Moy Temps'!$B21,Data!$F:$F,'Moy Temps'!$D21), "") | K21: =IFERROR(AVERAGEIFS(Data!T:T,Data!$B:$B,'Moy Temps'!$A21,Data!$C:$C,'Moy Temps'!$B21,Data!$F:$F,'Moy Temps'!$D21), "") | L21: =IFERROR(AVERAGEIFS(Data!U:U,Data!$B:$B,'Moy Temps'!$A21,Data!$C:$C,'Moy Temps'!$B21,Data!$F:$F,'Moy Temps'!$D21), "") | M21: =IFERROR(AVERAGEIFS(Data!V:V,Data!$B:$B,'Moy Temps'!$A21,Data!$C:$C,'Moy Temps'!$B21,Data!$F:$F,'Moy Temps'!$D21), "") | N21: =IFERROR(AVERAGEIFS(Data!W:W,Data!$B:$B,'Moy Temps'!$A21,Data!$C:$C,'Moy Temps'!$B21,Data!$F:$F,'Moy Temps'!$D21), "")
A22: 2020 | B22: 8 | D22: 1 | E22: =IFERROR(AVERAGEIFS(INDIRECT("Data[K"&MID(E$1,10,3)&"]"),Data[Année],Moyennes[[#This Row],[Année]],Data[Mois],Moyennes[[#This Row],[Mois]],Data[Lieu],Moyennes[[#This Row],[Lieu]]),"") -> 0.0046388889 | F22: =IFERROR(AVERAGEIFS(Data!O:O,Data!$B:$B,'Moy Temps'!$A22,Data!$C:$C,'Moy Temps'!$B22,Data!$F:$F,'Moy Temps'!$D22), "") -> 0.0053425926 | G22: =IFERROR(AVERAGEIFS(Data!P:P,Data!$B:$B,'Moy Temps'!$A22,Data!$C:$C,'Moy Temps'!$B22,Data!$F:$F,'Moy Temps'!$D22), "") -> 0.0047928241 | H22: =IFERROR(AVERAGEIFS(Data!Q:Q,Data!$B:$B,'Moy Temps'!$A22,Data!$C:$C,'Moy Temps'!$B22,Data!$F:$F,'Moy Temps'!$D22), "") -> 0.005945216 | I22: =IFERROR(AVERAGEIFS(Data!R:R,Data!$B:$B,'Moy Temps'!$A22,Data!$C:$C,'Moy Temps'!$B22,Data!$F:$F,'Moy Temps'!$D22), "") -> 0.0061828704 | J22: =IFERROR(AVERAGEIFS(Data!S:S,Data!$B:$B,'Moy Temps'!$A22,Data!$C:$C,'Moy Temps'!$B22,Data!$F:$F,'Moy Temps'!$D22), "") | K22: =IFERROR(AVERAGEIFS(Data!T:T,Data!$B:$B,'Moy Temps'!$A22,Data!$C:$C,'Moy Temps'!$B22,Data!$F:$F,'Moy Temps'!$D22), "") | L22: =IFERROR(AVERAGEIFS(Data!U:U,Data!$B:$B,'Moy Temps'!$A22,Data!$C:$C,'Moy Temps'!$B22,Data!$F:$F,'Moy Temps'!$D22), "") | M22: =IFERROR(AVERAGEIFS(Data!V:V,Data!$B:$B,'Moy Temps'!$A22,Data!$C:$C,'Moy Temps'!$B22,Data!$F:$F,'Moy Temps'!$D22), "") | N22: =IFERROR(AVERAGEIFS(Data!W:W,Data!$B:$B,'Moy Temps'!$A22,Data!$C:$C,'Moy Temps'!$B22,Data!$F:$F,'Moy Temps'!$D22), "")
A23: 2020 | B23: 8 | D23: 2 | E23: =IFERROR(AVERAGEIFS(INDIRECT("Data[K"&MID(E$1,10,3)&"]"),Data[Année],Moyennes[[#This Row],[Année]],Data[Mois],Moyennes[[#This Row],[Mois]],Data[Lieu],Moyennes[[#This Row],[Lieu]]),"") | F23: =IFERROR(AVERAGEIFS(Data!O:O,Data!$B:$B,'Moy Temps'!$A23,Data!$C:$C,'Moy Temps'!$B23,Data!$F:$F,'Moy Temps'!$D23), "") | G23: =IFERROR(AVERAGEIFS(Data!P:P,Data!$B:$B,'Moy Temps'!$A23,Data!$C:$C,'Moy Temps'!$B23,Data!$F:$F,'Moy Temps'!$D23), "") | H23: =IFERROR(AVERAGEIFS(Data!Q:Q,Data!$B:$B,'Moy Temps'!$A23,Data!$C:$C,'Moy Temps'!$B23,Data!$F:$F,'Moy Temps'!$D23), "") | I23: =IFERROR(AVERAGEIFS(Data!R:R,Data!$B:$B,'Moy Temps'!$A23,Data!$C:$C,'Moy Temps'!$B23,Data!$F:$F,'Moy Temps'!$D23), "") | J23: =IFERROR(AVERAGEIFS(Data!S:S,Data!$B:$B,'Moy Temps'!$A23,Data!$C:$C,'Moy Temps'!$B23,Data!$F:$F,'Moy Temps'!$D23), "") | K23: =IFERROR(AVERAGEIFS(Data!T:T,Data!$B:$B,'Moy Temps'!$A23,Data!$C:$C,'Moy Temps'!$B23,Data!$F:$F,'Moy Temps'!$D23), "") | L23: =IFERROR(AVERAGEIFS(Data!U:U,Data!$B:$B,'Moy Temps'!$A23,Data!$C:$C,'Moy Temps'!$B23,Data!$F:$F,'Moy Temps'!$D23), "") | M23: =IFERROR(AVERAGEIFS(Data!V:V,Data!$B:$B,'Moy Temps'!$A23,Data!$C:$C,'Moy Temps'!$B23,Data!$F:$F,'Moy Temps'!$D23), "") | N23: =IFERROR(AVERAGEIFS(Data!W:W,Data!$B:$B,'Moy Temps'!$A23,Data!$C:$C,'Moy Temps'!$B23,Data!$F:$F,'Moy Temps'!$D23), "")
A24: 2020 | B24: 8 | D24: 6 | E24: =IFERROR(AVERAGEIFS(INDIRECT("Data[K"&MID(E$1,10,3)&"]"),Data[Année],Moyennes[[#This Row],[Année]],Data[Mois],Moyennes[[#This Row],[Mois]],Data[Lieu],Moyennes[[#This Row],[Lieu]]),"") | F24: =IFERROR(AVERAGEIFS(Data!O:O,Data!$B:$B,'Moy Temps'!$A24,Data!$C:$C,'Moy Temps'!$B24,Data!$F:$F,'Moy Temps'!$D24), "") | G24: =IFERROR(AVERAGEIFS(Data!P:P,Data!$B:$B,'Moy Temps'!$A24,Data!$C:$C,'Moy Temps'!$B24,Data!$F:$F,'Moy Temps'!$D24), "") | H24: =IFERROR(AVERAGEIFS(Data!Q:Q,Data!$B:$B,'Moy Temps'!$A24,Data!$C:$C,'Moy Temps'!$B24,Data!$F:$F,'Moy Temps'!$D24), "") | I24: =IFERROR(AVERAGEIFS(Data!R:R,Data!$B:$B,'Moy Temps'!$A24,Data!$C:$C,'Moy Temps'!$B24,Data!$F:$F,'Moy Temps'!$D24), "") | J24: =IFERROR(AVERAGEIFS(Data!S:S,Data!$B:$B,'Moy Temps'!$A24,Data!$C:$C,'Moy Temps'!$B24,Data!$F:$F,'Moy Temps'!$D24), "") | K24: =IFERROR(AVERAGEIFS(Data!T:T,Data!$B:$B,'Moy Temps'!$A24,Data!$C:$C,'Moy Temps'!$B24,Data!$F:$F,'Moy Temps'!$D24), "") | L24: =IFERROR(AVERAGEIFS(Data!U:U,Data!$B:$B,'Moy Temps'!$A24,Data!$C:$C,'Moy Temps'!$B24,Data!$F:$F,'Moy Temps'!$D24), "") | M24: =IFERROR(AVERAGEIFS(Data!V:V,Data!$B:$B,'Moy Temps'!$A24,Data!$C:$C,'Moy Temps'!$B24,Data!$F:$F,'Moy Temps'!$D24), "") | N24: =IFERROR(AVERAGEIFS(Data!W:W,Data!$B:$B,'Moy Temps'!$A24,Data!$C:$C,'Moy Temps'!$B24,Data!$F:$F,'Moy Temps'!$D24), "")
A25: 2020 | B25: 8 | D25: 7 | E25: =IFERROR(AVERAGEIFS(INDIRECT("Data[K"&MID(E$1,10,3)&"]"),Data[Année],Moyennes[[#This Row],[Année]],Data[Mois],Moyennes[[#This Row],[Mois]],Data[Lieu],Moyennes[[#This Row],[Lieu]]),"") | F25: =IFERROR(AVERAGEIFS(INDIRECT("Data[K"&MID(F$1,10,3)&"]"),Data[Année],Moyennes[[#This Row],[Année]],Data[Mois],Moyennes[[#This Row],[Mois]],Data[Lieu],Moyennes[[#This Row],[Lieu]]),"") | G25: =IFERROR(AVERAGEIFS(INDIRECT("Data[K"&MID(G$1,10,3)&"]"),Data[Année],Moyennes[[#This Row],[Année]],Data[Mois],Moyennes[[#This Row],[Mois]],Data[Lieu],Moyennes[[#This Row],[Lieu]]),"") | H25: =IFERROR(AVERAGEIFS(INDIRECT("Data[K"&MID(H$1,10,3)&"]"),Data[Année],Moyennes[[#This Row],[Année]],Data[Mois],Moyennes[[#This Row],[Mois]],Data[Lieu],Moyennes[[#This Row],[Lieu]]),"") | I25: =IFERROR(AVERAGEIFS(INDIRECT("Data[K"&MID(I$1,10,3)&"]"),Data[Année],Moyennes[[#This Row],[Année]],Data[Mois],Moyennes[[#This Row],[Mois]],Data[Lieu],Moyennes[[#This Row],[Lieu]]),"") | J25: =IFERROR(AVERAGEIFS(INDIRECT("Data[K"&MID(J$1,10,3)&"]"),Data[Année],Moyennes[[#This Row],[Année]],Data[Mois],Moyennes[[#This Row],[Mois]],Data[Lieu],Moyennes[[#This Row],[Lieu]]),"") | K25: =IFERROR(AVERAGEIFS(INDIRECT("Data[K"&MID(K$1,10,3)&"]"),Data[Année],Moyennes[[#This Row],[Année]],Data[Mois],Moyennes[[#This Row],[Mois]],Data[Lieu],Moyennes[[#This Row],[Lieu]]),"") | L25: =IFERROR(AVERAGEIFS(INDIRECT("Data[K"&MID(L$1,10,3)&"]"),Data[Année],Moyennes[[#This Row],[Année]],Data[Mois],Moyennes[[#This Row],[Mois]],Data[Lieu],Moyennes[[#This Row],[Lieu]]),"") | ... N25: =IFERROR(AVERAGEIFS(INDIRECT("Data[K"&MID(N$1,10,3)&"]"),Data[Année],Moyennes[[#This Row],[Année]],Data[Mois],Moyennes[[#This Row],[Mois]],Data[Lieu],Moyennes[[#This Row],[Lieu]]),"")
A26: 2020 | B26: 8 | D26: 4 | E26: =IFERROR(AVERAGEIFS(INDIRECT("Data[K"&MID(E$1,10,3)&"]"),Data[Année],Moyennes[[#This Row],[Année]],Data[Mois],Moyennes[[#This Row],[Mois]],Data[Lieu],Moyennes[[#This Row],[Lieu]]),"") | F26: =IFERROR(AVERAGEIFS(Data!O:O,Data!$B:$B,'Moy Temps'!$A26,Data!$C:$C,'Moy Temps'!$B26,Data!$F:$F,'Moy Temps'!$D26), "") | G26: =IFERROR(AVERAGEIFS(Data!P:P,Data!$B:$B,'Moy Temps'!$A26,Data!$C:$C,'Moy Temps'!$B26,Data!$F:$F,'Moy Temps'!$D26), "") | H26: =IFERROR(AVERAGEIFS(Data!Q:Q,Data!$B:$B,'Moy Temps'!$A26,Data!$C:$C,'Moy Temps'!$B26,Data!$F:$F,'Moy Temps'!$D26), "") | I26: =IFERROR(AVERAGEIFS(Data!R:R,Data!$B:$B,'Moy Temps'!$A26,Data!$C:$C,'Moy Temps'!$B26,Data!$F:$F,'Moy Temps'!$D26), "") | J26: =IFERROR(AVERAGEIFS(Data!S:S,Data!$B:$B,'Moy Temps'!$A26,Data!$C:$C,'Moy Temps'!$B26,Data!$F:$F,'Moy Temps'!$D26), "") | K26: =IFERROR(AVERAGEIFS(Data!T:T,Data!$B:$B,'Moy Temps'!$A26,Data!$C:$C,'Moy Temps'!$B26,Data!$F:$F,'Moy Temps'!$D26), "") | L26: =IFERROR(AVERAGEIFS(Data!U:U,Data!$B:$B,'Moy Temps'!$A26,Data!$C:$C,'Moy Temps'!$B26,Data!$F:$F,'Moy Temps'!$D26), "") | M26: =IFERROR(AVERAGEIFS(Data!V:V,Data!$B:$B,'Moy Temps'!$A26,Data!$C:$C,'Moy Temps'!$B26,Data!$F:$F,'Moy Temps'!$D26), "") | N26: =IFERROR(AVERAGEIFS(Data!W:W,Data!$B:$B,'Moy Temps'!$A26,Data!$C:$C,'Moy Temps'!$B26,Data!$F:$F,'Moy Temps'!$D26), "")
A27: 2020 | B27: 9 | D27: 1 | E27: =IFERROR(AVERAGEIFS(INDIRECT("Data[K"&MID(E$1,10,3)&"]"),Data[Année],Moyennes[[#This Row],[Année]],Data[Mois],Moyennes[[#This Row],[Mois]],Data[Lieu],Moyennes[[#This Row],[Lieu]]),"") | F27: =IFERROR(AVERAGEIFS(Data!O:O,Data!$B:$B,'Moy Temps'!$A27,Data!$C:$C,'Moy Temps'!$B27,Data!$F:$F,'Moy Temps'!$D27), "") | G27: =IFERROR(AVERAGEIFS(Data!P:P,Data!$B:$B,'Moy Temps'!$A27,Data!$C:$C,'Moy Temps'!$B27,Data!$F:$F,'Moy Temps'!$D27), "") | H27: =IFERROR(AVERAGEIFS(Data!Q:Q,Data!$B:$B,'Moy Temps'!$A27,Data!$C:$C,'Moy Temps'!$B27,Data!$F:$F,'Moy Temps'!$D27), "") | I27: =IFERROR(AVERAGEIFS(Data!R:R,Data!$B:$B,'Moy Temps'!$A27,Data!$C:$C,'Moy Temps'!$B27,Data!$F:$F,'Moy Temps'!$D27), "") | J27: =IFERROR(AVERAGEIFS(Data!S:S,Data!$B:$B,'Moy Temps'!$A27,Data!$C:$C,'Moy Temps'!$B27,Data!$F:$F,'Moy Temps'!$D27), "") | K27: =IFERROR(AVERAGEIFS(Data!T:T,Data!$B:$B,'Moy Temps'!$A27,Data!$C:$C,'Moy Temps'!$B27,Data!$F:$F,'Moy Temps'!$D27), "") | L27: =IFERROR(AVERAGEIFS(Data!U:U,Data!$B:$B,'Moy Temps'!$A27,Data!$C:$C,'Moy Temps'!$B27,Data!$F:$F,'Moy Temps'!$D27), "") | M27: =IFERROR(AVERAGEIFS(Data!V:V,Data!$B:$B,'Moy Temps'!$A27,Data!$C:$C,'Moy Temps'!$B27,Data!$F:$F,'Moy Temps'!$D27), "") | N27: =IFERROR(AVERAGEIFS(Data!W:W,Data!$B:$B,'Moy Temps'!$A27,Data!$C:$C,'Moy Temps'!$B27,Data!$F:$F,'Moy Temps'!$D27), "")
A28: 2020 | B28: 9 | D28: 2 | E28: =IFERROR(AVERAGEIFS(INDIRECT("Data[K"&MID(E$1,10,3)&"]"),Data[Année],Moyennes[[#This Row],[Année]],Data[Mois],Moyennes[[#This Row],[Mois]],Data[Lieu],Moyennes[[#This Row],[Lieu]]),"") | F28: =IFERROR(AVERAGEIFS(Data!O:O,Data!$B:$B,'Moy Temps'!$A28,Data!$C:$C,'Moy Temps'!$B28,Data!$F:$F,'Moy Temps'!$D28), "") | G28: =IFERROR(AVERAGEIFS(Data!P:P,Data!$B:$B,'Moy Temps'!$A28,Data!$C:$C,'Moy Temps'!$B28,Data!$F:$F,'Moy Temps'!$D28), "") | H28: =IFERROR(AVERAGEIFS(Data!Q:Q,Data!$B:$B,'Moy Temps'!$A28,Data!$C:$C,'Moy Temps'!$B28,Data!$F:$F,'Moy Temps'!$D28), "") | I28: =IFERROR(AVERAGEIFS(Data!R:R,Data!$B:$B,'Moy Temps'!$A28,Data!$C:$C,'Moy Temps'!$B28,Data!$F:$F,'Moy Temps'!$D28), "") | J28: =IFERROR(AVERAGEIFS(Data!S:S,Data!$B:$B,'Moy Temps'!$A28,Data!$C:$C,'Moy Temps'!$B28,Data!$F:$F,'Moy Temps'!$D28), "") | K28: =IFERROR(AVERAGEIFS(Data!T:T,Data!$B:$B,'Moy Temps'!$A28,Data!$C:$C,'Moy Temps'!$B28,Data!$F:$F,'Moy Temps'!$D28), "") | L28: =IFERROR(AVERAGEIFS(Data!U:U,Data!$B:$B,'Moy Temps'!$A28,Data!$C:$C,'Moy Temps'!$B28,Data!$F:$F,'Moy Temps'!$D28), "") | M28: =IFERROR(AVERAGEIFS(Data!V:V,Data!$B:$B,'Moy Temps'!$A28,Data!$C:$C,'Moy Temps'!$B28,Data!$F:$F,'Moy Temps'!$D28), "") | N28: =IFERROR(AVERAGEIFS(Data!W:W,Data!$B:$B,'Moy Temps'!$A28,Data!$C:$C,'Moy Temps'!$B28,Data!$F:$F,'Moy Temps'!$D28), "")
A29: 2020 | B29: 9 | D29: 6 | E29: =IFERROR(AVERAGEIFS(INDIRECT("Data[K"&MID(E$1,10,3)&"]"),Data[Année],Moyennes[[#This Row],[Année]],Data[Mois],Moyennes[[#This Row],[Mois]],Data[Lieu],Moyennes[[#This Row],[Lieu]]),"") -> 0.0046026235 | F29: =IFERROR(AVERAGEIFS(Data!O:O,Data!$B:$B,'Moy Temps'!$A29,Data!$C:$C,'Moy Temps'!$B29,Data!$F:$F,'Moy Temps'!$D29), "") -> 0.0047993827 | G29: =IFERROR(AVERAGEIFS(Data!P:P,Data!$B:$B,'Moy Temps'!$A29,Data!$C:$C,'Moy Temps'!$B29,Data!$F:$F,'Moy Temps'!$D29), "") -> 0.0053896605 | H29: =IFERROR(AVERAGEIFS(Data!Q:Q,Data!$B:$B,'Moy Temps'!$A29,Data!$C:$C,'Moy Temps'!$B29,Data!$F:$F,'Moy Temps'!$D29), "") -> 0.0055941358 | I29: =IFERROR(AVERAGEIFS(Data!R:R,Data!$B:$B,'Moy Temps'!$A29,Data!$C:$C,'Moy Temps'!$B29,Data!$F:$F,'Moy Temps'!$D29), "") -> 0.0061033951 | J29: =IFERROR(AVERAGEIFS(Data!S:S,Data!$B:$B,'Moy Temps'!$A29,Data!$C:$C,'Moy Temps'!$B29,Data!$F:$F,'Moy Temps'!$D29), "") | K29: =IFERROR(AVERAGEIFS(Data!T:T,Data!$B:$B,'Moy Temps'!$A29,Data!$C:$C,'Moy Temps'!$B29,Data!$F:$F,'Moy Temps'!$D29), "") | L29: =IFERROR(AVERAGEIFS(Data!U:U,Data!$B:$B,'Moy Temps'!$A29,Data!$C:$C,'Moy Temps'!$B29,Data!$F:$F,'Moy Temps'!$D29), "") | M29: =IFERROR(AVERAGEIFS(Data!V:V,Data!$B:$B,'Moy Temps'!$A29,Data!$C:$C,'Moy Temps'!$B29,Data!$F:$F,'Moy Temps'!$D29), "") | N29: =IFERROR(AVERAGEIFS(Data!W:W,Data!$B:$B,'Moy Temps'!$A29,Data!$C:$C,'Moy Temps'!$B29,Data!$F:$F,'Moy Temps'!$D29), "")
A30: 2020 | B30: 9 | D30: 7 | E30: =IFERROR(AVERAGEIFS(INDIRECT("Data[K"&MID(E$1,10,3)&"]"),Data[Année],Moyennes[[#This Row],[Année]],Data[Mois],Moyennes[[#This Row],[Mois]],Data[Lieu],Moyennes[[#This Row],[Lieu]]),"") -> 0.0046238426 | F30: =IFERROR(AVERAGEIFS(INDIRECT("Data[K"&MID(F$1,10,3)&"]"),Data[Année],Moyennes[[#This Row],[Année]],Data[Mois],Moyennes[[#This Row],[Mois]],Data[Lieu],Moyennes[[#This Row],[Lieu]]),"") -> 0.0050665509 | G30: =IFERROR(AVERAGEIFS(INDIRECT("Data[K"&MID(G$1,10,3)&"]"),Data[Année],Moyennes[[#This Row],[Année]],Data[Mois],Moyennes[[#This Row],[Mois]],Data[Lieu],Moyennes[[#This Row],[Lieu]]),"") -> 0.0057638889 | H30: =IFERROR(AVERAGEIFS(INDIRECT("Data[K"&MID(H$1,10,3)&"]"),Data[Année],Moyennes[[#This Row],[Année]],Data[Mois],Moyennes[[#This Row],[Mois]],Data[Lieu],Moyennes[[#This Row],[Lieu]]),"") | I30: =IFERROR(AVERAGEIFS(INDIRECT("Data[K"&MID(I$1,10,3)&"]"),Data[Année],Moyennes[[#This Row],[Année]],Data[Mois],Moyennes[[#This Row],[Mois]],Data[Lieu],Moyennes[[#This Row],[Lieu]]),"") | J30: =IFERROR(AVERAGEIFS(INDIRECT("Data[K"&MID(J$1,10,3)&"]"),Data[Année],Moyennes[[#This Row],[Année]],Data[Mois],Moyennes[[#This Row],[Mois]],Data[Lieu],Moyennes[[#This Row],[Lieu]]),"") | K30: =IFERROR(AVERAGEIFS(INDIRECT("Data[K"&MID(K$1,10,3)&"]"),Data[Année],Moyennes[[#This Row],[Année]],Data[Mois],Moyennes[[#This Row],[Mois]],Data[Lieu],Moyennes[[#This Row],[Lieu]]),"") | L30: =IFERROR(AVERAGEIFS(INDIRECT("Data[K"&MID(L$1,10,3)&"]"),Data[Année],Moyennes[[#This Row],[Année]],Data[Mois],Moyennes[[#This Row],[Mois]],Data[Lieu],Moyennes[[#This Row],[Lieu]]),"") | ... N30: =IFERROR(AVERAGEIFS(INDIRECT("Data[K"&MID(N$1,10,3)&"]"),Data[Année],Moyennes[[#This Row],[Année]],Data[Mois],Moyennes[[#This Row],[Mois]],Data[Lieu],Moyennes[[#This Row],[Lieu]]),"")
A31: 2020 | B31: 9 | D31: 4 | E31: =IFERROR(AVERAGEIFS(INDIRECT("Data[K"&MID(E$1,10,3)&"]"),Data[Année],Moyennes[[#This Row],[Année]],Data[Mois],Moyennes[[#This Row],[Mois]],Data[Lieu],Moyennes[[#This Row],[Lieu]]),"") -> 0.0046990741 | F31: =IFERROR(AVERAGEIFS(Data!O:O,Data!$B:$B,'Moy Temps'!$A31,Data!$C:$C,'Moy Temps'!$B31,Data!$F:$F,'Moy Temps'!$D31), "") -> 0.0052430556 | G31: =IFERROR(AVERAGEIFS(Data!P:P,Data!$B:$B,'Moy Temps'!$A31,Data!$C:$C,'Moy Temps'!$B31,Data!$F:$F,'Moy Temps'!$D31), "") -> 0.0061342593 | H31: =IFERROR(AVERAGEIFS(Data!Q:Q,Data!$B:$B,'Moy Temps'!$A31,Data!$C:$C,'Moy Temps'!$B31,Data!$F:$F,'Moy Temps'!$D31), "") -> 0.0060416667 | I31: =IFERROR(AVERAGEIFS(Data!R:R,Data!$B:$B,'Moy Temps'!$A31,Data!$C:$C,'Moy Temps'!$B31,Data!$F:$F,'Moy Temps'!$D31), "") -> 0.0064351852 | J31: =IFERROR(AVERAGEIFS(Data!S:S,Data!$B:$B,'Moy Temps'!$A31,Data!$C:$C,'Moy Temps'!$B31,Data!$F:$F,'Moy Temps'!$D31), "") -> 0.0056944444 | K31: =IFERROR(AVERAGEIFS(Data!T:T,Data!$B:$B,'Moy Temps'!$A31,Data!$C:$C,'Moy Temps'!$B31,Data!$F:$F,'Moy Temps'!$D31), "") | L31: =IFERROR(AVERAGEIFS(Data!U:U,Data!$B:$B,'Moy Temps'!$A31,Data!$C:$C,'Moy Temps'!$B31,Data!$F:$F,'Moy Temps'!$D31), "") | M31: =IFERROR(AVERAGEIFS(Data!V:V,Data!$B:$B,'Moy Temps'!$A31,Data!$C:$C,'Moy Temps'!$B31,Data!$F:$F,'Moy Temps'!$D31), "") | N31: =IFERROR(AVERAGEIFS(Data!W:W,Data!$B:$B,'Moy Temps'!$A31,Data!$C:$C,'Moy Temps'!$B31,Data!$F:$F,'Moy Temps'!$D31), "")
A32: 2020 | B32: 10 | D32: 1 | E32: =IFERROR(AVERAGEIFS(INDIRECT("Data[K"&MID(E$1,10,3)&"]"),Data[Année],Moyennes[[#This Row],[Année]],Data[Mois],Moyennes[[#This Row],[Mois]],Data[Lieu],Moyennes[[#This Row],[Lieu]]),"") | F32: =IFERROR(AVERAGEIFS(Data!O:O,Data!$B:$B,'Moy Temps'!$A32,Data!$C:$C,'Moy Temps'!$B32,Data!$F:$F,'Moy Temps'!$D32), "") | G32: =IFERROR(AVERAGEIFS(Data!P:P,Data!$B:$B,'Moy Temps'!$A32,Data!$C:$C,'Moy Temps'!$B32,Data!$F:$F,'Moy Temps'!$D32), "") | H32: =IFERROR(AVERAGEIFS(Data!Q:Q,Data!$B:$B,'Moy Temps'!$A32,Data!$C:$C,'Moy Temps'!$B32,Data!$F:$F,'Moy Temps'!$D32), "") | I32: =IFERROR(AVERAGEIFS(Data!R:R,Data!$B:$B,'Moy Temps'!$A32,Data!$C:$C,'Moy Temps'!$B32,Data!$F:$F,'Moy Temps'!$D32), "") | J32: =IFERROR(AVERAGEIFS(Data!S:S,Data!$B:$B,'Moy Temps'!$A32,Data!$C:$C,'Moy Temps'!$B32,Data!$F:$F,'Moy Temps'!$D32), "") | K32: =IFERROR(AVERAGEIFS(Data!T:T,Data!$B:$B,'Moy Temps'!$A32,Data!$C:$C,'Moy Temps'!$B32,Data!$F:$F,'Moy Temps'!$D32), "") | L32: =IFERROR(AVERAGEIFS(Data!U:U,Data!$B:$B,'Moy Temps'!$A32,Data!$C:$C,'Moy Temps'!$B32,Data!$F:$F,'Moy Temps'!$D32), "") | M32: =IFERROR(AVERAGEIFS(Data!V:V,Data!$B:$B,'Moy Temps'!$A32,Data!$C:$C,'Moy Temps'!$B32,Data!$F:$F,'Moy Temps'!$D32), "") | N32: =IFERROR(AVERAGEIFS(Data!W:W,Data!$B:$B,'Moy Temps'!$A32,Data!$C:$C,'Moy Temps'!$B32,Data!$F:$F,'Moy Temps'!$D32), "")
