Workbook
Name L_Ans: T_Ans[Années]
Name L_Mois: T_Mois[Mois]
Name List_nom: T_Noms[Nom]

Sheet Planning
H1: Sem 1 | M1: Sem 2 | T1: Sem 3 | Z1: Sem 4 | AD1: TOT
A2: Année | B2: 2020 | E2: =A9 -> DUPOND | H2: =SUM(D9:J9) -> 1.1041667 | M2: =SUM(K9:Q9) -> 0 | T2: =SUM(R9:X9) -> 0 | Z2: =SUM(Y9:AE9) -> 0 | AD2: =SUM(H2:Z2) -> 1.1041667
A3: Mois | B3: Novembre | E3: =A10 -> PALLOT | H3: =SUM(D10:J10) -> 0 | M3: =SUM(K10:Q10) -> 0.85416667 | T3: =SUM(R10:X10) -> 0 | Z3: =SUM(Y10:AE10) -> 0 | AD3: =SUM(H3:Z3) -> 0.85416667
E4: =A11 -> DURANT | H4: =SUM(D11:J11) -> 0.6875 | M4: =SUM(K11:Q11) -> 0 | T4: =SUM(R11:X11) -> 0 | Z4: =SUM(Y11:AE11) -> 0 | AD4: =SUM(H4:Z4) -> 0.6875
C7: =_xlfn.ISOWEEKNUM(C8) -> 44 | D7: =_xlfn.ISOWEEKNUM(D8) -> 45 | E7: =_xlfn.ISOWEEKNUM(E8) -> 45 | F7: =_xlfn.ISOWEEKNUM(F8) -> 45 | G7: =_xlfn.ISOWEEKNUM(G8) -> 45 | H7: =_xlfn.ISOWEEKNUM(H8) -> 45 | I7: =_xlfn.ISOWEEKNUM(I8) -> 45 | J7: =_xlfn.ISOWEEKNUM(J8) -> 45 | ... AG7: =_xlfn.ISOWEEKNUM(AG8) -> 49
A8: NOM | B8: PRENOM | C8: =IF(AND($B$2<>"", $B$3<>""), DATEVALUE(COLUMN(A1)&$B$3&$B$2),0) -> 44136 | D8: =IF(C8<>0,C8+1,0) -> 44137 | E8: =IF(D8<>0,D8+1,0) -> 44138 | F8: =IF(E8<>0,E8+1,0) -> 44139 | G8: =IF(F8<>0,F8+1,0) -> 44140 | H8: =IF(G8<>0,G8+1,0) -> 44141 | I8: =IF(H8<>0,H8+1,0) -> 44142 | J8: =IF(I8<>0,I8+1,0) -> 44143 | K8: =IF(J8<>0,J8+1,0) -> 44144 | ... AG8: =IF(AF8<>0,AF8+1,0) -> 44166
A9: DUPOND | B9: =IFERROR(VLOOKUP($A9,Listes!$E$2:$F$8,2,FALSE),"") -> André | D9: 0.27083333 | E9: 0.20833333 | F9: 0.083333333 | G9: 0.125 | H9: 0.20833333 | I9: 0.125 | J9: 0.083333333
A10: PALLOT | B10: =IFERROR(VLOOKUP($A10,Listes!$E$2:$F$8,2,FALSE),"") -> Marie | L10: 0.27083333 | M10: 0.20833333 | N10: 0.16666667 | O10: 0.20833333
A11: DURANT | B11: =IFERROR(VLOOKUP($A11,Listes!$E$2:$F$8,2,FALSE),"") -> Chantal | E11: 0.20833333 | G11: 0.20833333 | H11: 0.27083333
B12: =IFERROR(VLOOKUP($A12,Listes!$E$2:$F$8,2,FALSE),"")
B13: =IFERROR(VLOOKUP(A13,Listes!E7:F12,2,FALSE),"")
B14: =IFERROR(VLOOKUP(A14,Listes!E8:F13,2,FALSE),"")
B15: =IFERROR(VLOOKUP(A15,Listes!E9:F14,2,FALSE),"")

Sheet Listes
A1: Mois | C1: Années | E1: Nom | F1: Prénom
A2: Janvier | C2: 2010 | E2: DUPOND | F2: André
A3: Février | C3: 2011 | E3: DURANT | F3: Chantal
A4: Mars | C4: 2012 | E4: PALLOT | F4: Marie
A5: Avril | C5: 2013 | E5: QUENOT | F5: Pierre
A6: Mai | C6: 2014
A7: Juin | C7: 2015
A8: Juillet | C8: 2016
A9: Août | C9: 2017
A10: Septembre | C10: 2018
A11: Octobre | C11: 2019
A12: Novembre | C12: 2020
A13: Décembre | C13: 2021
C14: 2022
