Workbook

Sheet Recap annuel 
A1: TABLEAU 1
A2: Opérateur | D2: Janvier 2020 | E2: Février 2020 | F2: Mars 2020 | G2: Avril 2020 | H2: Mai 2020 | I2: Juin 2020 | J2: Juillet 2020 | K2: Août 2020 | L2: Septembre 2020 | M2: Octobre 2020 | N2: Novembre 2020 | O2: Décembre 2020 | P2: TOTAL
A3: CAF | D3: 17 | E3: 2 | F3: 2 | G3: 0 | H3: 4 | I3: 3 | J3: 10 | P3: =SUM(D3:O3) -> 38
A4: Pôle Emploi | D4: 16 | E4: 4 | F4: 2 | G4: 8 | H4: 4 | I4: 3 | J4: 8 | P4: =SUM(D4:O4) -> 45
A5: France Connect / ANTS | D5: 16 | E5: 11 | F5: 6 | G5: 1 | H5: 12 | I5: 13 | J5: 21 | P5: =SUM(D5:O5) -> 80
A6: CPAM | D6: 0 | E6: 3 | F6: 1 | G6: 0 | H6: 5 | I6: 5 | J6: 3 | P6: =SUM(D6:O6) -> 17
A7: MSA | D7: 1 | E7: 0 | F7: 2 | G7: 0 | H7: 0 | I7: 0 | J7: 2 | P7: =SUM(D7:O7) -> 5
A8: CARSAT/Retraite | D8: 2 | E8: 3 | F8: 1 | G8: 0 | H8: 2 | I8: 4 | J8: 9 | P8: =SUM(D8:O8) -> 21
A9: La Poste | D9: 0 | E9: 1 | F9: 0 | G9: 0 | H9: 3 | I9: 1 | J9: 3 | P9: =SUM(D9:O9) -> 8
A10: DDFIP | D10: 2 | E10: 1 | F10: 0 | G10: 2 | H10: 24 | I10: 10 | J10: 7 | P10: =SUM(D10:O10) -> 46
A11: Conciliateur | G11: 0 | H11: 0 | I11: 0 | J11: 0 | K11: 0 | P11: =SUM(D11:O11) -> 0
A12: Énergie | D12: 0 | E12: 0 | F12: 0 | G12: 0 | H12: 0 | I12: 0 | J12: 3 | P12: =SUM(D12:O12) -> 3
A13: Autres demandes FS | D13: 2 | E13: 6 | F13: 2 | G13: 1 | H13: 7 | I13: 7 | J13: 4 | P13: =SUM(D13:O13) -> 29
A14: Total demande FS | D14: =SUM(D3:D13) -> 56 | E14: =SUM(E3:E13) -> 31 | F14: =SUM(F3:F13) -> 16 | G14: =SUM(G3:G13) -> 12 | H14: =SUM(H3:H13) -> 61 | I14: =SUM(I3:I13) -> 46 | J14: =SUM(J3:J13) -> 70 | K14: =SUM(K3:K13) -> 0 | ... O14: =SUM(O3:O13) -> 0 | P14: =SUM(D14:O14) -> 292
A16: TABLEAU 2
D17: Janvier 2020 | E17: Février 2020 | F17: Mars 2020 | G17: Avril 2020 | H17: Mai 2020 | I17: Juin 2020 | J17: Juillet 2020 | K17: Août 2020 | L17: Septembre 2020 | M17: Octobre 2020 | N17: Novembre 2020 | O17: Décembre 2020 | P17: TOTAL
A18: Moins de 20 ans | D18: 0 | E18: 0 | F18: 0 | G18: 1 | H18: 0 | I18: 1 | J18: 1 | P18: =SUM(D18:O18) -> 3
A19: 20-30 ans | D19: 0 | E19: 0 | F19: 0 | G19: 0 | H19: 5 | I19: 0 | J19: 1 | P19: =SUM(D19:O19) -> 6
A20: 30-40 ans | D20: 1 | E20: 2 | F20: 1 | G20: 1 | H20: 5 | I20: 1 | J20: 5 | P20: =SUM(D20:O20) -> 16
A21: 40-50 ans | D21: 5 | E21: 6 | F21: 3 | G21: 2 | H21: 9 | I21: 11 | J21: 8 | P21: =SUM(D21:O21) -> 44
A22: 50-60 ans | D22: 2 | E22: 8 | F22: 4 | G22: 2 | H22: 5 | I22: 8 | J22: 8 | P22: =SUM(D22:O22) -> 37
A23: Plus de 60 ans | D23: 10 | E23: 6 | F23: 6 | G23: 2 | H23: 18 | I23: 14 | J23: 21 | P23: =SUM(D23:O23) -> 77
A24: Plus de 80 ans | D24: 1 | E24: 3 | F24: 2 | G24: 0 | H24: 4 | I24: 2 | J24: 9 | P24: =SUM(D24:O24) -> 21
A25: Non connu | D25: 7 | E25: 4 | F25: 0 | G25: 0 | H25: 10 | I25: 2 | J25: 8 | P25: =SUM(D25:O25) -> 31
A26: Total | D26: =SUM(D18:D25) -> 26 | E26: =SUM(E18:E25) -> 29 | F26: =SUM(F18:F25) -> 16 | G26: =SUM(G18:G25) -> 8 | H26: =SUM(H18:H25) -> 56 | I26: =SUM(I18:I25) -> 39 | J26: =SUM(J18:J25) -> 61 | K26: =SUM(K18:K25) -> 0 | ... O26: =SUM(O18:O25) -> 0 | P26: =SUM(D26:O26) -> 235
A28: TABLEAU 3
D29: Janvier 2020 | E29: Février 2020 | F29: Mars 2020 | G29: Avril 2020 | H29: Mai 2020 | I29: Juin 2020 | J29: Juillet 2020 | K29: Août 2020 | L29: Septembre 2020 | M29: Octobre 2020 | N29: Novembre 2020 | O29: Décembre 2020 | P29: TOTAL
A30: Montlouis sur Loire | D30: 20 | E30: 25 | F30: 9 | G30: 7 | H30: 40 | I30: 25 | J30: 47 | P30: =SUM(D30:O30) -> 173
A31: TEV | D31: 1 | E31: 0 | F31: 0 | G31: 0 | H31: 3 | I31: 3 | J31: 4 | P31: =SUM(D31:O31) -> 11
A32: Hors TEV | D32: 2 | E32: 1 | F32: 3 | G32: 1 | H32: 8 | I32: 8 | J32: 5 | P32: =SUM(D32:O32) -> 28
A33: Non connu | D33: 3 | E33: 3 | F33: 4 | G33: 0 | H33: 5 | I33: 3 | J33: 5 | P33: =SUM(D33:O33) -> 23
A34: Total | D34: =SUM(D30:D33) -> 26 | E34: =SUM(E30:E33) -> 29 | F34: =SUM(F30:F33) -> 16 | G34: =SUM(G30:G33) -> 8 | H34: =SUM(H30:H33) -> 56 | I34: =SUM(I30:I33) -> 39 | J34: =SUM(J30:J33) -> 61 | K34: =SUM(K30:K33) -> 0 | ... O34: =SUM(O30:O33) -> 0 | P34: =SUM(D34:O34) -> 235
A36: TABLEAU 4
D37: Janvier 2020 | E37: Février 2020 | F37: Mars 2020 | G37: Avril 2020 | H37: Mai 2020 | I37: Juin 2020 | J37: Juillet 2020 | K37: Août 2020 | L37: Septembre 2020 | M37: Octobre 2020 | N37: Novembre 2020 | O37: Décembre 2020 | P37: TOTAL
A38: Hommes | D38: 14 | E38: 16 | F38: 7 | G38: 6 | H38: 26 | I38: 19 | J38: 32 | P38: =SUM(D38:O38) -> 120
A39: Femmes | D39: 9 | E39: 11 | F39: 8 | G39: 2 | H39: 24 | I39: 19 | J39: 29 | P39: =SUM(D39:O39) -> 102
A40: Non renseigné | D40: 3 | E40: 2 | F40: 1 | G40: 0 | H40: 6 | I40: 1 | J40: 0 | P40: =SUM(D40:O40) -> 13
A41: Total | D41: =SUM(D38:D40) -> 26 | E41: =SUM(E38:E40) -> 29 | F41: =SUM(F38:F40) -> 16 | G41: =SUM(G38:G40) -> 8 | H41: =SUM(H38:H40) -> 56 | I41: =SUM(I38:I40) -> 39 | J41: =SUM(J38:J40) -> 61 | K41: =SUM(K38:K40) -> 0 | ... O41: =SUM(O38:O40) -> 0 | P41: =SUM(D41:O41) -> 235
A43: TABLEAU 5
D44: Janvier 2020 | E44: Février 2020 | F44: Mars 2020 | G44: Avril 2020 | H44: Mai 2020 | I44: Juin 2020 | J44: Juillet 2020 | K44: Août 2020 | L44: Septembre 2020 | M44: Octobre 2020 | N44: Novembre 2020 | O44: Décembre 2020 | P44: TOTAL
...

Sheet Tableau croisé dynamique
A1: TABLEAU 1
A2: CAF | D2: ='Recap annuel '!P3 -> 38
A3: Pôle Emploi | D3: ='Recap annuel '!P4 -> 45
A4: France Connect / ANTS | D4: ='Recap annuel '!P5 -> 80
A5: CPAM | D5: ='Recap annuel '!P6 -> 17
A6: MSA | D6: ='Recap annuel '!P7 -> 5
A7: CARSAT/Retraite | D7: ='Recap annuel '!P8 -> 21
A8: La Poste | D8: ='Recap annuel '!P9 -> 8
A9: DDFIP | D9: ='Recap annuel '!P10 -> 46
A10: Conciliateur | D10: ='Recap annuel '!P11 -> 0
A11: Énergie | D11: ='Recap annuel '!P12 -> 3
A12: Autres demandes FS | D12: ='Recap annuel '!P13 -> 29
A13: Total demande FS | D13: ='Recap annuel '!P14 -> 292
A15: TABLEAU 2
A16: Moins de 20 ans | D16: ='Recap annuel '!P18 -> 3
A17: 20-30 ans | D17: ='Recap annuel '!P19 -> 6
A18: 30-40 ans | D18: ='Recap annuel '!P20 -> 16
A19: 40-50 ans | D19: ='Recap annuel '!P21 -> 44
A20: 50-60 ans | D20: ='Recap annuel '!P22 -> 37
A21: Plus de 60 ans | D21: ='Recap annuel '!P23 -> 77
A22: Plus de 80 ans | D22: ='Recap annuel '!P24 -> 21
A23: Non connu | D23: ='Recap annuel '!P25 -> 31
A25: TABLEAU 3
A26: Montlouis sur Loire | D26: ='Recap annuel '!P30 -> 173
A27: TEV | D27: ='Recap annuel '!P31 -> 11
A28: Hors TEV | D28: ='Recap annuel '!P32 -> 28
A29: Non connu | D29: ='Recap annuel '!P33 -> 23
A31: TABLEAU 4
A32: Hommes | D32: ='Recap annuel '!P38 -> 120
A33: Femmes | D33: ='Recap annuel '!P39 -> 102
A34: Non renseigné | D34: ='Recap annuel '!P40 -> 13
A36: TABLEAU 5
A37: Actif | D37: ='Recap annuel '!P45 -> 51
A38: Inactif | D38: ='Recap annuel '!P46 -> 44
A39: Demandeur d'emploi | D39: ='Recap annuel '!P47 -> 23
A40: Retraité | D40: ='Recap annuel '!P48 -> 87
A41: Non connu | D41: ='Recap annuel '!P49 -> 30
