Workbook

Sheet Données brutes
A2: Référence article | B2: Désignation | C2: Nuance | D2: Mois | E2: Famille | F2: Stock à terme | G2: Stock disponible | H2: Stock réel | I2: Minimum | J2: Maximum
A3: 1 | B3: BOSSAGE SPECIAL SUIVANT PLAN CLIENT | C3: P265GH | D3: 43983 | E3: RAC | F3: 1 | G3: 0 | H3: 0
A4: 2 | B4: BOSSAGE NPT #3/6000 Ø1/4'' | C4: Z2CN18-10 | D4: 43983 | E4: RACSW | F4: 22 | G4: 22 | H4: 22
A5: 3 | B5: BOSSAGE SW #3/6000 Ø1/4'' - B16.11 | C5: Z2CN18-10 | D5: 43983 | E5: RACSW | F5: 34 | G5: 34 | H5: 34
A6: 4 | B6: BOSSAGE NPT #3/6000 Ø3/8'' | C6: Z2CN18-10 | D6: 43983 | E6: RACSW | F6: 21 | G6: 21 | H6: 21
A7: 5 | B7: BOSSAGE SW #3/6000 Ø3/8'' - B16.11 | C7: Z2CN18-10 | D7: 43983 | E7: RACSW | F7: 29 | G7: 29 | H7: 29
A8: 6 | B8: BOSSAGE NPT #3/6000 Ø1/2'' | C8: Z2CN18-10 | D8: 43983 | E8: RACSW | F8: 19 | G8: 19 | H8: 19
A9: 7 | B9: BOSSAGE SW #3/6000 Ø1/2'' - B16.11 | C9: Z2CN18-10 | D9: 43983 | E9: RACSW | F9: 35 | G9: 35 | H9: 35
A10: 8 | B10: BOSSAGE NPT #3/6000 Ø3/4"'' | C10: Z2CN18-10 | D10: 43983 | E10: RACSW | F10: 17 | G10: 17 | H10: 17
A11: 9 | B11: BOSSAGE SW #3/6000 Ø3/4'' - B16.11 | C11: Z2CN18-10 | D11: 43983 | E11: RACSW | F11: 28 | G11: 28 | H11: 28
A12: 10 | B12: BOSSAGE NPT #3/6000 Ø1'' - B16.11 | C12: Z2CN18-10 | D12: 43983 | E12: RACSW | F12: 19 | G12: 19 | H12: 19
A13: 11 | B13: BOSSAGE SW #3/6000 Ø1'' - B16.11 | C13: Z2CN18-10 | D13: 43983 | E13: RACSW | F13: 25 | G13: 25 | H13: 25
A14: 12 | B14: BOSSAGE NPT #3/6000 Ø1'' 1/4 - B16.11 | C14: Z2CN18-10 | D14: 43983 | E14: RACSW | F14: 0 | G14: 0 | H14: 0
... A42: 20 | B42: BOUCHON FEM TR SW #3000 Ø1/4'' - B16.11 | C42: Z2CN18-10 | D42: 44013 | E42: RACSW | F42: 6 | G42: 6 | H42: 6

Sheet TCD
E4: Valeurs
A5: Référence article | B5: Désignation | C5: Nuance | D5: Mois2 | E5: Somme de Stock à terme | F5: Somme de Stock disponible | G5: Somme de Stock réel
A6: 1 | B6: BOSSAGE SPECIAL SUIVANT PLAN CLIENT | C6: P265GH | D6: juin | E6: 1 | F6: 0 | G6: 0
A7: 1 | B7: BOSSAGE SPECIAL SUIVANT PLAN CLIENT | C7: P265GH | D7: juil | E7: 1 | F7: 0 | G7: 0
A8: 2 | B8: BOSSAGE NPT #3/6000 Ø1/4'' | C8: Z2CN18-10 | D8: juin | E8: 22 | F8: 22 | G8: 22
A9: 2 | B9: BOSSAGE NPT #3/6000 Ø1/4'' | C9: Z2CN18-10 | D9: juil | E9: 21 | F9: 22 | G9: 22
A10: 3 | B10: BOSSAGE SW #3/6000 Ø1/4'' - B16.11 | C10: Z2CN18-10 | D10: juin | E10: 34 | F10: 34 | G10: 34
A11: 3 | B11: BOSSAGE SW #3/6000 Ø1/4'' - B16.11 | C11: Z2CN18-10 | D11: juil | E11: 34 | F11: 34 | G11: 34
A12: 4 | B12: BOSSAGE NPT #3/6000 Ø3/8'' | C12: Z2CN18-10 | D12: juin | E12: 21 | F12: 21 | G12: 21
A13: 4 | B13: BOSSAGE NPT #3/6000 Ø3/8'' | C13: Z2CN18-10 | D13: juil | E13: 0 | F13: 21 | G13: 4
A14: 5 | B14: BOSSAGE SW #3/6000 Ø3/8'' - B16.11 | C14: Z2CN18-10 | D14: juin | E14: 29 | F14: 29 | G14: 29
A15: 5 | B15: BOSSAGE SW #3/6000 Ø3/8'' - B16.11 | C15: Z2CND17 | D15: juil | E15: 29 | F15: 10 | G15: 29
A16: 6 | B16: BOSSAGE NPT #3/6000 Ø1/2'' | C16: Z2CN18-10 | D16: juin | E16: 19 | F16: 19 | G16: 19
A17: 6 | B17: BOSSAGE NPT #3/6000 Ø1/2'' | C17: Z2CND17 | D17: juil | E17: 19 | F17: 19 | G17: 19
... A45: 20 | B45: BOUCHON FEM TR SW #3000 Ø1/4'' - B16.11 | C45: Z2CN18-10 | D45: juil | E45: 6 | F45: 6 | G45: 6
A46: Total général | E46: 471 | F46: 613 | G46: 645
F508: Valeurs
A509: Référence article | B509: Désignation | C509: Nuance | D509: Mois2 | E509: Mois | F509: Produit de Minimum | G509: Produit de Maximum
A510: 1 | B510: BOSSAGE SPECIAL SUIVANT PLAN CLIENT | C510: P265GH | D510: juin
A511: 2 | B511: BOSSAGE NPT #3/6000 Ø1/4'' | C511: Z2CN18-10 | D511: juin
A512: 3 | B512: BOSSAGE SW #3/6000 Ø1/4'' - B16.11 | C512: Z2CN18-10 | D512: juin
A513: 4 | B513: BOSSAGE NPT #3/6000 Ø3/8'' | C513: Z2CN18-10 | D513: juin
A514: 5 | B514: BOSSAGE SW #3/6000 Ø3/8'' - B16.11 | C514: Z2CN18-10 | D514: juin
A515: 6 | B515: BOSSAGE NPT #3/6000 Ø1/2'' | C515: Z2CN18-10 | D515: juin
A516: 7 | B516: BOSSAGE SW #3/6000 Ø1/2'' - B16.11 | C516: Z2CN18-10 | D516: juin
A517: 8 | B517: BOSSAGE NPT #3/6000 Ø3/4"'' | C517: Z2CN18-10 | D517: juin
A518: 9 | B518: BOSSAGE SW #3/6000 Ø3/4'' - B16.11 | C518: Z2CN18-10 | D518: juin
A519: 10 | B519: BOSSAGE NPT #3/6000 Ø1'' - B16.11 | C519: Z2CN18-10 | D519: juin
A520: 11 | B520: BOSSAGE SW #3/6000 Ø1'' - B16.11 | C520: Z2CN18-10 | D520: juin
A521: 12 | B521: BOSSAGE NPT #3/6000 Ø1'' 1/4 - B16.11 | C521: Z2CN18-10 | D521: juin
... A529: 20 | B529: BOUCHON FEM TR SW #3000 Ø1/4'' - B16.11 | C529: Z2CN18-10 | D529: juin
A530: Total général

Sheet Tableau de bord
G3: Nuance | H3: Mois
G4: Z2CN18-10 | H4: juil
D7: 1 | E7: Référence | F7: Désignation et nuance | G7: Nuance | H7: Stock à terme | I7: Stock disponible | J7: Stock réel
E8: 1 | F8: =CONCATENATE(VLOOKUP(E8,'Données brutes'!A:C,2,FALSE)) -> BOSSAGE SPECIAL SUIVANT PLAN CLIENT | G8: =VLOOKUP(E8,'Données brutes'!A:C,3,FALSE) -> P265GH | H8: =IFERROR(GETPIVOTDATA("Somme de Stock à terme",TCD!$A$4,"Référence article",$E8,"Désignation",$F8,"Nuance",$G8,"Mois2",MATCH($H$4,TMois[Mois],0)),0) -> 1 | I8: =GETPIVOTDATA("Somme de Stock disponible",TCD!$A$4,"Référence article",1,"Désignation","BOSSAGE SPECIAL SUIVANT PLAN CLIENT","Nuance","P265GH","Mois2",6) -> 0 | J8: =GETPIVOTDATA("Somme de Stock réel",TCD!$A$4,"Référence article",1,"Désignation","BOSSAGE SPECIAL SUIVANT PLAN CLIENT","Nuance","P265GH","Mois2",6) -> 0
E9: 2 | F9: =CONCATENATE(VLOOKUP(E9,'Données brutes'!A:C,2,FALSE)) -> BOSSAGE NPT #3/6000 Ø1/4'' | G9: =VLOOKUP(E9,'Données brutes'!A:C,3,FALSE) -> Z2CN18-10 | H9: =IFERROR(GETPIVOTDATA("Somme de Stock à terme",TCD!$A$4,"Référence article",$E9,"Désignation",$F9,"Nuance",$G9,"Mois2",MATCH($H$4,TMois[Mois],0)),0) -> 21 | I9: =GETPIVOTDATA("Somme de Stock disponible",TCD!$A$4,"Référence article",1,"Désignation","BOSSAGE SPECIAL SUIVANT PLAN CLIENT","Nuance","P265GH","Mois2",6) -> 0 | J9: =GETPIVOTDATA("Somme de Stock réel",TCD!$A$4,"Référence article",1,"Désignation","BOSSAGE SPECIAL SUIVANT PLAN CLIENT","Nuance","P265GH","Mois2",6) -> 0
E10: 3 | F10: =CONCATENATE(VLOOKUP(E10,'Données brutes'!A:C,2,FALSE)) -> BOSSAGE SW #3/6000 Ø1/4'' - B16.11 | G10: =VLOOKUP(E10,'Données brutes'!A:C,3,FALSE) -> Z2CN18-10 | H10: =IFERROR(GETPIVOTDATA("Somme de Stock à terme",TCD!$A$4,"Référence article",$E10,"Désignation",$F10,"Nuance",$G10,"Mois2",MATCH($H$4,TMois[Mois],0)),0) -> 34 | I10: =GETPIVOTDATA("Somme de Stock disponible",TCD!$A$4,"Référence article",1,"Désignation","BOSSAGE SPECIAL SUIVANT PLAN CLIENT","Nuance","P265GH","Mois2",6) -> 0 | J10: =GETPIVOTDATA("Somme de Stock réel",TCD!$A$4,"Référence article",1,"Désignation","BOSSAGE SPECIAL SUIVANT PLAN CLIENT","Nuance","P265GH","Mois2",6) -> 0
E11: 4 | F11: =CONCATENATE(VLOOKUP(E11,'Données brutes'!A:C,2,FALSE)) -> BOSSAGE NPT #3/6000 Ø3/8'' | G11: =VLOOKUP(E11,'Données brutes'!A:C,3,FALSE) -> Z2CN18-10 | H11: =IFERROR(GETPIVOTDATA("Somme de Stock à terme",TCD!$A$4,"Référence article",$E11,"Désignation",$F11,"Nuance",$G11,"Mois2",MATCH($H$4,TMois[Mois],0)),0) -> 0 | I11: =GETPIVOTDATA("Somme de Stock disponible",TCD!$A$4,"Référence article",1,"Désignation","BOSSAGE SPECIAL SUIVANT PLAN CLIENT","Nuance","P265GH","Mois2",6) -> 0 | J11: =GETPIVOTDATA("Somme de Stock réel",TCD!$A$4,"Référence article",1,"Désignation","BOSSAGE SPECIAL SUIVANT PLAN CLIENT","Nuance","P265GH","Mois2",6) -> 0
E12: 5 | F12: =CONCATENATE(VLOOKUP(E12,'Données brutes'!A:C,2,FALSE)) -> BOSSAGE SW #3/6000 Ø3/8'' - B16.11 | G12: =VLOOKUP(E12,'Données brutes'!A:C,3,FALSE) -> Z2CN18-10 | H12: =IFERROR(GETPIVOTDATA("Somme de Stock à terme",TCD!$A$4,"Référence article",$E12,"Désignation",$F12,"Nuance",$G12,"Mois2",MATCH($H$4,TMois[Mois],0)),0) -> 0 | I12: =GETPIVOTDATA("Somme de Stock disponible",TCD!$A$4,"Référence article",1,"Désignation","BOSSAGE SPECIAL SUIVANT PLAN CLIENT","Nuance","P265GH","Mois2",6) -> 0 | J12: =GETPIVOTDATA("Somme de Stock réel",TCD!$A$4,"Référence article",1,"Désignation","BOSSAGE SPECIAL SUIVANT PLAN CLIENT","Nuance","P265GH","Mois2",6) -> 0
E13: 6 | F13: =CONCATENATE(VLOOKUP(E13,'Données brutes'!A:C,2,FALSE)) -> BOSSAGE NPT #3/6000 Ø1/2'' | G13: =VLOOKUP(E13,'Données brutes'!A:C,3,FALSE) -> Z2CN18-10 | H13: =IFERROR(GETPIVOTDATA("Somme de Stock à terme",TCD!$A$4,"Référence article",$E13,"Désignation",$F13,"Nuance",$G13,"Mois2",MATCH($H$4,TMois[Mois],0)),0) -> 0 | I13: =GETPIVOTDATA("Somme de Stock disponible",TCD!$A$4,"Référence article",1,"Désignation","BOSSAGE SPECIAL SUIVANT PLAN CLIENT","Nuance","P265GH","Mois2",6) -> 0 | J13: =GETPIVOTDATA("Somme de Stock réel",TCD!$A$4,"Référence article",1,"Désignation","BOSSAGE SPECIAL SUIVANT PLAN CLIENT","Nuance","P265GH","Mois2",6) -> 0

Sheet Listes des données
H1: Mois
H2: Janv
H3: Févr
H4: Mars
H5: Avr
H6: Mai
H7: Juin
H8: Juil
H9: Août
H10: Sept
B11: juin | C11: Z2CND17 | H11: Oct
B12: juil | C12: Z2CN18-10 | H12: Nov
H13: Déc

Sheet Stock inox sage au 20200706 
A1: Référence article | B1: Fournisseur principal | C1: Famille | D1: Désignation | E1: DESIGNATION_02 | F1: Stock à terme | G1: Stock disponible | H1: Stock réel | I1: Type | J1: Prix d'achat | K1: Prix de vente | L1: Nomenclature | M1: Statistique 1 | N1: Statistique 2 | O1: Statistique 3
A2: 0341-005-0062T | B2: FE19011 | C2: RAC | D2: THERMOWELL DRW 0253-384008-014 [B] | E2: Z2CND17-12 RCCM M3306 | F2: 1 | G2: 0 | H2: 0 | I2: Standard | J2: 0 | K2: 0 | L2: Fabrication
A3: 0341-005-0072T | B3: FE19011 | C3: RAC | D3: THERMOWELL | E3: Z2CN18-10 RCCM M3306 | F3: 0 | G3: 0 | H3: 0 | I3: Standard | J3: 0 | K3: 0 | L3: Aucune
A4: 0341-005-0073T | B4: FE19011 | C4: RAC | D4: THERMOWELL DRW 0492-P393186-004 [0] | E4: Z2CND18-12N2 RCCM M3306 | F4: 0 | G4: 0 | H4: 0 | I4: Standard | J4: 0 | K4: 0 | L4: Aucune
A5: 0341-005-0074T | B5: FE19011 | C5: RAC | D5: THERMOWELL DRW 0253-P393186-006 [0] | E5: Z2CND18-12N2 RCCM M3306 | F5: 1 | G5: 0 | H5: 0 | I5: Standard | J5: 0 | K5: 0 | L5: Aucune
A6: 0341-005-0075T | B6: FE19011 | C6: RAC | D6: THERMOWELL DRW 0492-P393186-008 [1] | E6: Z2CND18-12N2 RCCM M3306 | F6: 0 | G6: 0 | H6: 0 | I6: Standard | J6: 0 | K6: 0 | L6: Aucune
A7: 0341-005-0076T | B7: FE19011 | C7: RAC | D7: THERMOWELL DRW 0451-385505-018 [3] | E7: Z2CN19-10N2 RCCM M3306 | F7: 0 | G7: 0 | H7: 0 | I7: Standard | J7: 0 | K7: 0 | L7: Aucune
A8: 0341-005-0077T | B8: FE19011 | C8: RAC | D8: THERMOWELL | E8: Z2CND18-12N2 RCCM M3306 | F8: 0 | G8: 0 | H8: 0 | I8: Standard | J8: 0 | K8: 0 | L8: Aucune
A9: 0341-005-0078T | B9: FE19011 | C9: RAC | D9: THERMOWELL DRW 0451-385505-009 [3] | E9: Z2CND18-12N2 RCCM M3306 | F9: 0 | G9: 0 | H9: 0 | I9: Standard | J9: 0 | K9: 0 | L9: Aucune
A10: 0341-005-0079T | B10: FE19011 | C10: RAC | D10: THERMOWELL DRW 0451-385505-013 [2] | E10: Z2CN19-10N2 RCCM M3306 | F10: 0 | G10: 0 | H10: 0 | I10: Standard | J10: 0 | K10: 0 | L10: Aucune
A11: 0341-005-0081T | B11: FE19011 | C11: RAC | D11: THERMOWELL 1/4HLX260-U200 | E11: Z2CND17-12 RCCM M3306 | F11: 0 | G11: 0 | H11: 0 | I11: Standard | J11: 0 | K11: 0 | L11: Aucune
A12: 0341-005-0082T | B12: FE19011 | C12: RAC | D12: THERMOWELL M14 - 1.5S5.0-020 | E12: Z2CND17-12 RCCM M3306 | F12: 0 | G12: 0 | H12: 0 | I12: Standard | J12: 0 | K12: 0 | L12: Aucune
A13: 0341-005-0083T | B13: FE19011 | C13: RAC | D13: THERMOWELL M14 - 1.5S5.0-060 | E13: Z2CND17-12 RCCM M3306 | F13: 0 | G13: -3 | H13: 0 | I13: Standard | J13: 0 | K13: 0 | L13: Fabrication
... A26: 0417-380414-017 | B26: FE19011 | C26: RAC | D26: THERMOWELL | E26: Z2CN18-10 RCCM M3306 | F26: 0 | G26: 0 | H26: 0 | I26: Standard | J26: 0 | K26: 0 | L26: Aucune
A27: AL0150081M3 | C27: RACSW | D27: ALLONGE Ø1/2'' x Ø1/4'' | E27: Z2CN18-10 RCCM M3306 éd.2012 - N3 | I27: Standard | J27: 0 | K27: 0 | L27: Aucune
A28: AL0200151M1 | C28: RACSW | D28: ALLONGE Ø3/4'' x Ø1/2'' | E28: Z2CN18-10 RCCM M3306 éd.2012 - N1 | F28: 0 | G28: 0 | H28: 0 | I28: Standard | J28: 0 | K28: 0 | L28: Aucune
A29: AL0200151M2 | C29: RACSW | D29: ALLONGE Ø3/4'' x Ø1/2'' | E29: Z2CN18-10 RCCM M3306 éd.2012 - N2 | F29: 0 | G29: 0 | H29: 0 | I29: Standard | J29: 80 | K29: 0 | L29: Aucune
A30: B008CO2M2 | C30: RACSW | D30: BOSSAGE Ø1/4'' GAZ CON | E30: Z2CND17-12 RCCM M3306 éd.2012 - N2 | I30: Standard | J30: 0 | K30: 0 | L30: Aucune
A31: B015CO1M2 | C31: RACSW | D31: BOSSAGE Ø1/2'' GAZ CON | E31: Z2CN18-10 RCCM M3306 éd.2012 - N2 | I31: Standard | J31: 0 | K31: 0 | L31: Aucune
A32: B015CO2M2 | C32: RACSW | D32: BOSSAGE Ø1/2'' GAZ CON | E32: Z2CND17-12 RCCM M3306 éd.2012 - N2 | I32: Standard | J32: 0 | K32: 0 | L32: Aucune
A33: BS008CY1M2 | C33: RACSW | D33: BOSSAGE Ø1/4'' GAZ. CYL. | E33: Z2CN18-10 RCCM M3306 éd.2012 - N2 | I33: Standard | J33: 11.2 | K33: 0 | L33: Aucune
A34: BS008N361M2 | C34: RACSW | D34: BOSSAGE NPT #3/6000 Ø1/4'' | E34: Z2CN18-10 RCCM M3306 éd.2012 - N2 | F34: 22 | G34: 22 | H34: 22 | I34: Standard | J34: 0 | K34: 0 | L34: Aucune
A35: BS008N362M2 | C35: RACSW | D35: BOSSAGE NPT #3/6000 Ø1/4'' | E35: Z2CND17-12 RCCM M3306 éd.2012 - N2 | F35: 22 | G35: 22 | H35: 22 | I35: Standard | J35: 0 | K35: 0 | L35: Aucune
A36: BS008S361M2 | C36: RACSW | D36: BOSSAGE SW #3/6000 Ø1/4'' - B16.11 | E36: Z2CN18-10 RCCM M3306 éd.2012 - N2 | F36: 34 | G36: 34 | H36: 34 | I36: Standard | J36: 8.07 | K36: 101 | L36: Aucune
A37: BS008S361S | C37: RACSW | D37: BOSSAGE SW #3/6000 Ø1/4'' - B16.11 | E37: 1.4307/304L | F37: 1 | G37: 0 | H37: 0 | I37: Standard | J37: 0 | K37: 0 | L37: Aucune
A38: BS008S362M2 | C38: RACSW | D38: BOSSAGE SW #3/6000 Ø1/4'' - B16.11 | E38: Z2CND17.12 RCCM M3306 éd.2012 - N2 | F38: 42 | G38: 42 | H38: 42 | I38: Standard | J38: 5.1 | K38: 103 | L38: Aucune
A39: BS010N361M2 | C39: RACSW | D39: BOSSAGE NPT #3/6000 Ø3/8'' | E39: Z2CN18-10 RCCM M3306 éd.2012 - N2 | F39: 21 | G39: 21 | H39: 21 | I39: Standard | J39: 0 | K39: 0 | L39: Aucune
A40: BS010N362M2 | C40: RACSW | D40: BOSSAGE NPT #3/6000 Ø3/8" | E40: Z2CND17-12 RCCM M3306 éd.2012 - N2 | F40: 21 | G40: 21 | H40: 21 | I40: Standard | J40: 0 | K40: 0 | L40: Aucune
A41: BS010S361M2 | C41: RACSW | D41: BOSSAGE SW #3/6000 Ø3/8'' - B16.11 | E41: Z2CN18.10 RCCM M3306 éd 2012 - N2 | F41: 29 | G41: 29 | H41: 29 | I41: Standard | J41: 10.18 | K41: 109 | L41: Aucune
A42: BS010S362M2 | C42: RACSW | D42: BOSSAGE SW #3/6000 Ø3/8'' - B16.11 | E42: Z2CND17.12 RCCM M3306 éd.2012 - N2 | F42: 41 | G42: 41 | H42: 41 | I42: Standard | J42: 5.1 | K42: 113 | L42: Aucune
A43: BS015CY1M2 | C43: RACSW | D43: BOSSAGE Ø1/2'' GAZ CYL. | E43: Z2CN18-10 RCCM M3306 éd.2012 - N2 | I43: Standard | J43: 11.2 | K43: 0 | L43: Aucune
A44: BS015CY2M2 | C44: RACSW | D44: BOSSAGE Ø1/2'' GAZ CYL. | E44: Z2CND17-12 RCCM M3306 éd.2012 - N2 | I44: Standard | J44: 0 | K44: 0 | L44: Aucune
A45: BS015GCY1M2 | C45: RACSW | D45: BOSSAGE Ø1/2'' GAZ CYL. | E45: Z2CN18-10 RCCM M3306 éd.2012 - N2 | I45: Standard | J45: 0 | K45: 0 | L45: Aucune
A46: BS015N361M2 | C46: RACSW | D46: BOSSAGE NPT #3/6000 Ø1/2'' | E46: Z2CN18-10 RCCM M3306 éd.2012 - N2 | F46: 19 | G46: 19 | H46: 19 | I46: Standard | J46: 5.03 | K46: 0 | L46: Aucune
A47: BS015N362M2 | C47: RACSW | D47: BOSSAGE NPT #3/6000 Ø1/2'' | E47: Z2CND17-12 RCCM M3306 éd.2012 - N2 | F47: 22 | G47: 22 | H47: 22 | I47: Standard | J47: 0 | K47: 0 | L47: Aucune
A48: BS015S361M1 | C48: RACSW | D48: BOSSAGE SW #3/6000 Ø1/2'' - B16.11 | E48: Z2CN18.10 RCCM M3306 éd 2012 - N1 | F48: 0 | G48: 0 | H48: 0 | I48: Standard | J48: 9.8 | K48: 0 | L48: Aucune
A49: BS015S361M2 | C49: RACSW | D49: BOSSAGE SW #3/6000 Ø1/2'' - B16.11 | E49: Z2CN18-10 RCCM M3306 éd.2012 - N2 | F49: 35 | G49: 35 | H49: 35 | I49: Standard | J49: 9.8 | K49: 118 | L49: Aucune
A50: BS015S361S | C50: RACSW | D50: BOSSAGE SW #3/6000 Ø1/2'' - B16.11 | E50: 1.4307/304L | F50: 0 | G50: 0 | H50: 0 | I50: Standard | J50: 0 | K50: 0 | L50: Aucune
A51: BS015S362M2 | C51: RACSW | D51: BOSSAGE SW #3/6000 Ø1/2'' - B16.11 | E51: Z2CND17-12 RCCM M3306 éd.2012 - N2 | F51: 38 | G51: 38 | H51: 38 | I51: Standard | J51: 5.1 | K51: 123 | L51: Aucune
A52: BS015S363S | C52: RACSW | D52: BOSSAGE SW #3/6000 Ø1/2'' - B16.11 | E52: 1.4571/316Ti - EN/ASTM | F52: 0 | G52: 0 | H52: 0 | I52: Standard | J52: 0 | K52: 0 | L52: Aucune
A53: BS015SPEJM1 | C53: RAC | D53: BOSSAGE SPECIAL Ø 1/2'' SW | E53: Z2CND18-12N2 RCCM M3306 éd.2012 - N1 | I53: Standard | J53: 0 | K53: 0 | L53: Aucune
A54: BS020CY2M2 | C54: RACSW | D54: BOSSAGE Ø3/4'' GAZ CYL. | E54: Z2CND17-12 RCCM M3306 éd.2012 - N2 | I54: Standard | J54: 0 | K54: 0 | L54: Aucune
A55: BS020N361M2 | C55: RACSW | D55: BOSSAGE NPT #3/6000 Ø3/4"'' | E55: Z2CN18-10 RCCM M3306 éd.2012 - N2 | F55: 17 | G55: 17 | H55: 17 | I55: Standard | J55: 0 | K55: 0 | L55: Aucune
A56: BS020N362M2 | C56: RACSW | D56: BOSSAGE NPT #3/6000 Ø3/4'' | E56: Z2CND17-12 RCCM M3306 éd.2012 - N2 | F56: 21 | G56: 21 | H56: 21 | I56: Standard | J56: 0 | K56: 0 | L56: Aucune
A57: BS020S361M2 | C57: RACSW | D57: BOSSAGE SW #3/6000 Ø3/4'' - B16.11 | E57: Z2CN18-10 RCCM M3306 éd.2012 - N2 | F57: 23 | G57: 23 | H57: 23 | I57: Standard | J57: 10.07 | K57: 130 | L57: Aucune
A58: BS020S361S | C58: RACSW | D58: BOSSAGE SW #3/6000 Ø3/4'' - B16.11 | E58: 304L - EN/ASTM | I58: Standard | J58: 0 | K58: 0 | L58: Aucune
A59: BS020S362M2 | C59: RACSW | D59: BOSSAGE SW #3/6000 Ø3/4'' - B16.11 | E59: Z2CND17.12 RCCM M3306 éd.2012 - N2 | F59: 41 | G59: 41 | H59: 41 | I59: Standard | J59: 5.1 | K59: 137 | L59: Aucune
A60: BS025N361M2 | C60: RACSW | D60: BOSSAGE NPT #3/6000 Ø1'' - B16.11 | E60: Z2CN18-10 RCCM M3306 éd.2012 - N2 | F60: 19 | G60: 19 | H60: 19 | I60: Standard | J60: 20 | K60: 0 | L60: Aucune
A61: BS025N362M2 | C61: RACSW | D61: BOSSAGE NPT #3/6000 Ø1" | E61: Z2CND17-12 RCCM M3306 éd.2012 - N2 | F61: 20 | G61: 20 | H61: 20 | I61: Standard | J61: 0 | K61: 0 | L61: Aucune
A62: BS025S361M2 | C62: RACSW | D62: BOSSAGE SW #3/6000 Ø1'' - B16.11 | E62: Z2CN18-10 RCCM M3306 éd.2012 - N2 | F62: 25 | G62: 25 | H62: 25 | I62: Standard | J62: 4.2 | K62: 168 | L62: Aucune
A63: BS025S361S | C63: RACSW | D63: BOSSAGE SW #3/6000 Ø1'' - B16.11 | E63: 304L - EN/ASTM | F63: 0 | G63: 0 | H63: 0 | I63: Standard | J63: 8.74 | K63: 0 | L63: Aucune
A64: BS025S362M2 | C64: RACSW | D64: BOSSAGE SW #3/6000 Ø1'' - B16.11 | E64: Z2CND17-12 RCCM M3306 éd.2012 - N2 | F64: 34 | G64: 34 | H64: 34 | I64: Standard | J64: 5.1 | K64: 183 | L64: Aucune
A65: BS032CY2M2 | C65: RACSW | D65: BOSSAGE Ø1''1/4 GAZ CYL. | E65: Z2CND17-12 RCCM M3306 éd.2012 - N2 | I65: Standard | J65: 0 | K65: 0 | L65: Aucune
A66: BS032N361M2 | C66: RACSW | D66: BOSSAGE NPT #3/6000 Ø1'' 1/4 - B16.11 | E66: Z2CN18-10 RCCM M3306 éd.2012 - N2 | F66: 0 | G66: 0 | H66: 0 | I66: Standard | J66: 0 | K66: 0 | L66: Aucune
A67: BS032S361M2 | C67: RACSW | D67: BOSSAGE SW #3/6000 Ø1'' 1/4 - B16.11 | E67: Z2CN18.10 RCCM M3306 éd 2012 - N2 | F67: 11 | G67: 11 | H67: 11 | I67: Standard | J67: 0 | K67: 201 | L67: Aucune
A68: BS032S362M2 | C68: RACSW | D68: BOSSAGE SW #3/6000 Ø1'' 1/4 - B16.11 | E68: Z2CND17.12 RCCM M3306 éd.2012 - N2 | F68: 11 | G68: 11 | H68: 11 | I68: Standard | J68: 0 | K68: 221 | L68: Aucune
A69: BS040S361M2 | C69: RACSW | D69: BOSSAGE SW #3/6000 Ø1'' 1/2 - B16.11 | E69: Z2CN18.10 RCCM M3306 éd 2012 - N2 | F69: 11 | G69: 11 | H69: 11 | I69: Standard | J69: 4.2 | K69: 0 | L69: Aucune
A70: BS040S361S | C70: RACSW | D70: BOSSAGE SW #3/6000 1''1/2 - B16-11 | E70: 304L EN/ASTM | I70: Standard | J70: 15.06 | K70: 0 | L70: Aucune
A71: BS040S362M2 | C71: RACSW | D71: BOSSAGE SW #3/6000 Ø1'' 1/2 - B16.11 | E71: Z2CND17-12 RCCM M3306 éd.2012 - N2 | F71: 10 | G71: 10 | H71: 10 | I71: Standard | J71: 0 | K71: 268 | L71: Aucune
A72: BS050N361M2 | C72: RACSW | D72: BOSSAGE NPT #3/6000 Ø2'' | E72: Z2CN18-10 RCCM M3306 éd.2012 - N2 | F72: 1 | G72: 1 | H72: 1 | I72: Standard | J72: 5.03 | K72: 0 | L72: Aucune
A73: BS050S361M2 | C73: RACSW | D73: BOSSAGE SW #3/6000 Ø2'' - B16.11 | E73: Z2CN18-10 RCCM M3306 éd.2012 - N2 | F73: 27 | G73: 27 | H73: 27 | I73: Standard | J73: 0 | K73: 350 | L73: Aucune
A74: BS050S362M2 | C74: RACSW | D74: BOSSAGE SW #3/6000 Ø2'' - B16.11 | E74: Z2CND17-12 RCCM M3306 éd.2012 - N2 | F74: 4 | G74: 4 | H74: 4 | I74: Standard | J74: 0 | K74: 329 | L74: Aucune
A75: BS100B2M3 | C75: RACBW | D75: BOSSAGE BW 4'' | E75: Z2CND17-12 RCCM M3306 éd.2012 - N3 | I75: Standard | J75: 699 | K75: 0 | L75: Aucune
A76: BSGT30321M2 | C76: RACSW | D76: BOSSAGE GREBAC T3 Ø1'' 1/4 | E76: Z2CN18.10 RCCM M3306 éd 2012 - N2 | F76: 3 | G76: 3 | H76: 3 | I76: Standard | J76: 0 | K76: 201 | L76: Aucune
A77: BSPEC1M2 | C77: RACSW | D77: BOSSAGE SPECIAL | E77: Z2CN18-10 RCCM M3306 éd.2012 - N2 | F77: 0 | G77: 0 | H77: 0 | I77: Standard | J77: 0 | K77: 0 | L77: Aucune
A78: BSPEC2M2 | C78: RACSW | D78: BOSSAGE SPECIAL | E78: Z2CND17-12 RCCM M3306 éd.2012 - N2 | F78: 0 | G78: 0 | H78: 0 | I78: Standard | J78: 0 | K78: 0 | L78: Aucune
A79: BSPEFM2 | C79: RAC | D79: BOSSAGE SPECIAL SUIVANT PLAN CLIENT | E79: Z2CN18-10 RCCM M3306 éd.2012 - N2 | I79: Standard | J79: 0 | K79: 0 | L79: Aucune
A80: BSPEGM2 | C80: RAC | D80: BOSSAGE SPECIAL SUIVANT PLAN CLIENT | E80: P265GH RCCM M1122 éd.2012 - N2 | F80: 1 | G80: 0 | H80: 0 | I80: Standard | J80: 0 | K80: 0 | L80: Fabrication
A81: BUF008CY61M2 | C81: RAC | D81: BOUCHON FEM TR 1/4'' 6000# GAZ CYLINDRIQUE | E81: Z2CN18-10 RCCM M3306 éd.2012 - N2 | F81: 0 | G81: 0 | H81: 0 | I81: Standard | J81: 0 | K81: 0 | L81: Aucune
A82: BUF008N31M2 | C82: RACSW | D82: BOUCHON FEM NPT #3000 Ø1/4'' | E82: Z2CN18-10 RCCM M3306 éd.2012 - N2 | F82: -50 | G82: 23 | H82: 23 | I82: Standard | J82: 15.22 | K82: 0 | L82: Aucune
A83: BUF008N31S | C83: RACSW | D83: BOUCHON FEM NPT #3000 Ø1/4'' - B16-11 | E83: A182 - F304L | F83: -13 | G83: 2 | H83: 14 | I83: Standard | J83: 0 | K83: 0 | L83: Aucune
A84: BUF008N32M2 | C84: RACSW | D84: BOUCHON FEM NPT #3000 Ø1/4'' | E84: Z2CND17-12 RCCM M3306 éd.2012 - N2 | F84: 0 | G84: 0 | H84: 0 | I84: Standard | J84: 15.22 | K84: 0 | L84: Aucune
A85: BUF008N363N | C85: RACSW | D85: BOUCHON FEM NPT #3000 Ø1/4'' - B16-11 | E85: 1.4307/304L - STD 0199 3N | F85: 9 | G85: -4 | H85: 0 | I85: Standard | J85: 0 | K85: 0 | L85: Fabrication
A86: BUF008N36S | C86: RACSW | D86: BOUCHON FEM NPT #3000 Ø1/4'' - B16-11 | E86: A182 - F304L | F86: 6 | G86: 3 | H86: 19 | I86: Standard | J86: 0 | K86: 0 | L86: Aucune
A87: BUF008S31M2 | C87: RACSW | D87: BOUCHON FEM TR SW #3000 Ø1/4'' - B16.11 | E87: Z2CN18-10 RCCM M3306 éd.2012 - N2 | F87: 6 | G87: 6 | H87: 6 | I87: Standard | J87: 6.5 | K87: 90 | L87: Aucune
A88: BUF008S32M2 | C88: RACSW | D88: BOUCHON FEM TR SW #3000 Ø1/4'' - B16.11 | E88: Z2CND17.12 RCCM M3306 éd.2012 - N2 | F88: 43 | G88: 43 | H88: 43 | I88: Standard | J88: 9.14 | K88: 91 | L88: Aucune
A89: BUF008S61M2 | C89: RACSW | D89: BOUCHON FEM TR SW #6000 Ø1/4'' - B16.11 | E89: Z2CN18-10 RCCM M3306 éd.2012 - N2 | F89: 19 | G89: 19 | H89: 19 | I89: Standard | J89: 12 | K89: 89 | L89: Aucune
A90: BUF008S62M2 | C90: RACSW | D90: BOUCHON FEM TR SW #6000 Ø1/4'' - B16.11 | E90: Z2CND17.12 RCCM M3306 éd.2012 - N2 | F90: 22 | G90: 22 | H90: 22 | I90: Standard | J90: 9.14 | K90: 91 | L90: Aucune
A91: BUF010CYTAR2M2% | C91: RACSW | D91: BOUCHON FEM CYL TARAUDE 3/8'' PLAN CLIENT | E91: Z2CND1712 RCCM M3306 éd. 2007 N2 | I91: Standard | J91: 24 | K91: 0 | L91: Aucune
A92: BUF010N31M2 | C92: RACSW | D92: BOUCHON FEM NPT #3000 Ø3/8'' | E92: Z2CN18-10 RCCM M3306 éd.2012 - N2 | F92: 0 | G92: 0 | H92: 0 | I92: Standard | J92: 4.2 | K92: 0 | L92: Fabrication
A93: BUF010N31S | C93: RACSW | D93: BOUCHON FEM NPT #3000 Ø3/8'' - B16-11 | E93: Inox 304L EN/ASTM | F93: 3 | G93: 3 | H93: 3 | I93: Standard | J93: 0 | K93: 0 | L93: Aucune
A94: BUF010N61M2 | C94: RACSW | D94: BOUCHON FEM NPT #6000 Ø3/8'' | E94: Z2CN18-10 RCCM M3306 éd.2012 - N2 | F94: 0 | G94: 0 | H94: 0 | I94: Standard | J94: 4.2 | K94: 0 | L94: Aucune
A95: BUF010N66S | C95: RACSW | D95: BOUCHON FEM NPT #6000 Ø3/8'' | E95: 304L - EN/ASTM | F95: 0 | G95: 0 | H95: 0 | I95: Standard | J95: 4.8 | K95: 0 | L95: Aucune
A96: BUF010S31M2 | C96: RACSW | D96: BOUCHON FEM TR SW #3000 Ø3/8'' - B16.11 | E96: Z2CN18-10 RCCM M3306 éd.2012 - N2 | F96: 4 | G96: 26 | H96: 26 | I96: Standard | J96: 4.55 | K96: 90 | L96: Aucune
A97: BUF010S32M2 | C97: RACSW | D97: BOUCHON FEM TR SW #3000 Ø3/8'' - B16.11 | E97: Z2CND17.12 RCCM M3306 éd.2012 - N2 | F97: 42 | G97: 42 | H97: 42 | I97: Standard | J97: 9.14 | K97: 92 | L97: Aucune
A98: BUF010S36S | C98: RACSW | D98: BOUCHON FEM SW #3000 3/8'' | E98: A182 - F304L | F98: 2 | G98: 4 | H98: 10 | I98: Standard | J98: 0 | K98: 0 | L98: Aucune
A99: BUF010S61M2 | C99: RACSW | D99: BOUCHON FEM TR SW #6000 Ø3/8'' - B16.11 | E99: Z2CN18-10 RCCM M3306 éd.2012 - N2 | F99: 10 | G99: 10 | H99: 10 | I99: Standard | J99: 0 | K99: 95 | L99: Aucune
A100: BUF010S62M2 | C100: RACSW | D100: BOUCHON FEM TR SW #6000 Ø3/8'' - B16.11 | E100: Z2CND17.12 RCCM M3306 éd.2012 - N2 | F100: 22 | G100: 22 | H100: 22 | I100: Standard | J100: 9.14 | K100: 98 | L100: Aucune
A101: BUF010STD04552S | C101: RACSW | D101: BOUCHON FEM DN10 UNF - STD 0455/E | E101: Inox 316L EN/ASTM | F101: 2 | G101: 2 | H101: 2 | I101: Standard | J101: 0 | K101: 0 | L101: Aucune
A102: BUF015C61M2 | C102: RAC | D102: BOUCHON FEM TR 1/2'' 6000# GAZ CYLINDRIQUE | E102: Z2CN18-10 RCCM M3306 éd.2012 - N2 | I102: Standard | J102: 0 | K102: 0 | L102: Aucune
A103: BUF015CY31M2 | C103: RAC | D103: BOUCHON FEM TR 1/2'' 3000# GAZ CYLINDRIQUE | E103: Z2CN18-10 RCCM M3306 éd.2012 - N2 | F103: 0 | G103: 0 | H103: 0 | I103: Standard | J103: 0 | K103: 0 | L103: Aucune
A104: BUF015CY61M2 | C104: RAC | D104: BOUCHON FEM TR 1/2'' 6000# GAZ CYLINDRIQUE | E104: Z2CN18-10 RCCM M3306 éd.2012 - N2 | F104: 0 | G104: 0 | H104: 0 | I104: Standard | J104: 0 | K104: 0 | L104: Aucune
A105: BUF015N31M2 | C105: RACSW | D105: BOUCHON FEM NPT #3000 Ø1/2'' | E105: Z2CN18-10 RCCM M3306 éd.2012 - N2 | F105: -12 | G105: 42 | H105: 42 | I105: Standard | J105: 15.22 | K105: 0 | L105: Aucune
A106: BUF015N31S | C106: RACSW | D106: BOUCHON FEM NPT #3000 Ø1/2'' - B16-11 | E106: Inox 304L EN/ASTM | F106: 6 | G106: 9 | H106: 10 | I106: Standard | J106: 0 | K106: 0 | L106: Aucune
A107: BUF015N61M2 | C107: RACSW | D107: BOUCHON FEM NPT #6000 Ø1/2'' | E107: Z2CN18-10 RCCM M3306 éd.2012 - N2 | F107: 0 | G107: 0 | H107: 0 | I107: Standard | J107: 0 | K107: 0 | L107: Aucune
A108: BUF015N62S | C108: RACSW | D108: BOUCHON FEM TR NPT #6000 Ø1/2'' | E108: 316L - EN/ASTM | F108: 0 | G108: 0 | H108: 0 | I108: Standard | J108: 5.83 | K108: 0 | L108: Aucune
A109: BUF015S312N | C109: RACSW | D109: BOUCHON FEM SW #3000 Ø1/2'' | E109: Z2CN18.10 STD0199 - 2N | F109: 0 | G109: 0 | H109: 0 | I109: Standard | J109: 0 | K109: 0 | L109: Aucune
A110: BUF015S31M2 | C110: RACSW | D110: BOUCHON FEM TR SW #3000 Ø1/2'' - B16.11 | E110: Z2CN18-10 RCCM M3306 éd.2012 - N2 | F110: 16 | G110: 16 | H110: 16 | I110: Standard | J110: 4.54 | K110: 96 | L110: Fabrication
A111: BUF015S31S | C111: RACSW | D111: BOUCHON FEM SW #3000 1/2'' | E111: 304L ASTM / NF EN | F111: 0 | G111: 0 | H111: 0 | I111: Standard | J111: 4.54 | K111: 0 | L111: Aucune
A112: BUF015S32M2 | C112: RACSW | D112: BOUCHON FEM TR SW #3000 Ø1/2'' - B16.11 | E112: Z2CND17-12 RCCM M3306 éd.2012 - N2 | F112: 22 | G112: 22 | H112: 22 | I112: Standard | J112: 9.14 | K112: 99 | L112: Aucune
...

Sheet Stock carbone sage au 20200707
A1: Référence article | B1: Fournisseur principal | C1: Famille | D1: Désignation | E1: DESIGNATION_02 | F1: Stock à terme | G1: Stock disponible | H1: Stock réel | I1: Type | J1: Prix d'achat | K1: Prix de vente | L1: Nomenclature | M1: Statistique 1 | N1: Statistique 2 | O1: Statistique 3
A2: AL020015LG130GM3 | C2: RACSW | D2: ALLONGE Ø3/4'' x Ø1/2'' LG 130 | E2: P265GH RCCM M1122 éd.2012 - N3 | I2: Standard | J2: 0 | K2: 0 | L2: Aucune
A3: AL025020NGM3 | C3: RACSW | D3: ALLONGE MALE LISSE 1'' x MALE NPT 3/4'' | E3: P265GH RCCM M1122 éd.2012 - N3 | F3: 0 | G3: 0 | H3: 0 | I3: Standard | J3: 0 | K3: 0 | L3: Aucune
A4: B032N36IM2 | C4: RACSW | D4: BOSSAGE NPT #3/6000 Ø1''1/4 - B16.11 | E4: P295GH RCCM M1122 éd.2012 - N2 | F4: 0 | G4: 0 | H4: 0 | I4: Standard | J4: 4.6 | K4: 0 | L4: Aucune
A5: BS008N36GM2 | C5: RACSW | D5: BOSSAGE NPT #3/6000 Ø1/4'' - B16.11 | E5: P265GH RCCM M1122 éd.2012 - N2 | F5: 0 | G5: 0 | H5: 0 | I5: Standard | J5: 0 | K5: 0 | L5: Aucune
A6: BS008S36GM2 | C6: RACSW | D6: BOSSAGE SW #3/6000 Ø1/4'' - B16.11 | E6: P265GH RCCM M1122 éd.2012 - N2 | F6: 60 | G6: 30 | H6: 30 | I6: Standard | J6: 14 | K6: 114 | L6: Aucune
A7: BS010N36GM2 | C7: RACSW | D7: BOSSAGE NPT #3/6000 Ø3/8'' - B16.11 | E7: P265GH RCCM M1122 éd.2012 - N2 | F7: 26 | G7: 26 | H7: 26 | I7: Standard | J7: 27 | K7: 0 | L7: Aucune
A8: BS010S36GM2 | C8: RACSW | D8: BOSSAGE SW #3/6000 Ø3/8'' - B16.11 | E8: P265GH RCCM M1122 éd.2012 - N2 | F8: 13 | G8: 13 | H8: 13 | I8: Standard | J8: 16.46 | K8: 114 | L8: Aucune
A9: BS015CYKM3 | C9: RACSW | D9: BOSSAGE GAZ CYL Ø1/2'' | E9: A48AP RCCM M1122 N3 | I9: Standard | J9: 0 | K9: 0 | L9: Aucune
A10: BS015GM3 | C10: RACSW | D10: BOSSAGE 1/2'' PLAN CLIENT | E10: P265GH RCCM M1122 éd.2012 - N3 | I10: Standard | J10: 0 | K10: 0 | L10: Aucune
A11: BS015N36GM2 | C11: RACSW | D11: BOSSAGE NPT #3/6000 Ø1/2'' - B16.11 | E11: P265GH RCCM M1122 éd.2012 - N2 | F11: 10 | G11: 10 | H11: 10 | I11: Standard | J11: 27 | K11: 120 | L11: Fabrication
A12: BS015N36IM2 | C12: RACSW | D12: BOSSAGE NPT #3/6000 Ø1/2'' - B16.11 | E12: P295GH RCCM M1122 éd.2012 - N2 | F12: 15 | G12: 15 | H12: 15 | I12: Standard | J12: 4.6 | K12: 0 | L12: Aucune
A13: BS015S36GM2 | C13: RACSW | D13: BOSSAGE SW #3/6000 Ø1/2'' - B16.11 | E13: P265GH RCCM M1122 éd.2012 - N2 | F13: -27 | G13: 7 | H13: 7 | I13: Standard | J13: 4.6 | K13: 118 | L13: Aucune
A14: BS015S36IM2 | C14: RACSW | D14: BOSSAGE SW #3/6000 Ø1/2'' - B16.11 | E14: P295GH RCCM M1122 éd.2012 - N2 | F14: 0 | G14: 0 | H14: 0 | I14: Standard | J14: 4.6 | K14: 0 | L14: Aucune
A15: BS015S36IM2-RGV | C15: RACSW | D15: BOSSAGE SW#3/6000 Ø1/2'' - B16.11 RGV | E15: P295GH RCCM M1122 éd.2012 - N2 | F15: 3 | G15: 3 | H15: 3 | I15: Standard | J15: 4.6 | K15: 0 | L15: Aucune
A16: BS015S36JM2 | C16: RACSW | D16: BOSSAGE SW #3/6000 Ø1/2'' - B16.11 | E16: A42AP RCCM M1122 éd.2012 - N2 | I16: Standard | J16: 0 | K16: 0 | L16: Aucune
A17: BS015S36TS | C17: RACSW | D17: BOSSAGE SW #3/6000 Ø1/2'' - B16.11 | E17: A105 AMENDE | F17: 2 | G17: 2 | H17: 2 | I17: Standard | J17: 1.42 | K17: 0 | L17: Aucune
A18: BS015W220IM2 | C18: RACSW | D18: BOSSAGE SW Ø1/2'' CLOSER SIR/ARE | E18: P295GH RCCM M1122 éd. 2012 N2 - RETDC 1583/O | I18: Standard | J18: 0 | K18: 0 | L18: Aucune
A19: BS020CY36PS | C19: RACSW | D19: BOSSAGE BSP #3/6000 Ø3/4" | E19: A350LF2 | F19: 0 | G19: 0 | H19: 0 | I19: Standard | J19: 4.81 | K19: 0 | L19: Aucune
A20: BS020CYGM2 | C20: RACSW | D20: BOSSAGE Ø3/4'' GAZ CYL. | E20: P265GH RCCM M1122 éd.2012 - N2 | F20: 0 | G20: 0 | H20: 0 | I20: Standard | J20: 0 | K20: 0 | L20: Aucune
A21: BS020N36GM2 | C21: RACSW | D21: BOSSAGE NPT #3/6000 Ø3/4'' - B16.11 | E21: P265GH RCCM M1122 éd.2012 - N2 | F21: 21 | G21: 21 | H21: 21 | I21: Standard | J21: 4.6 | K21: 0 | L21: Aucune
A22: BS020N36IM2 | C22: RACSW | D22: BOSSAGE NPT #3/6000 Ø3/4'' - B16.11 | E22: P295GH RCCM M1122 éd.2012 - N2 | F22: 46 | G22: 36 | H22: 36 | I22: Standard | J22: 4.6 | K22: 0 | L22: Aucune
A23: BS020N36JM2 | C23: RACSW | D23: BOSSAGE NPT #3/6000 Ø3/4'' | E23: A42AP RCCM M1122 éd.2012 - N2 | F23: 0 | G23: 0 | H23: 0 | I23: Standard | J23: 0 | K23: 0 | L23: Aucune
A24: BS020NGM2 | C24: RACSW | D24: BOSSAGE NPT #3/6000 Ø3/4'' | E24: P265GH RCCM M1122 éd.2012 - N2 | I24: Standard | J24: 0 | K24: 0 | L24: Aucune
A25: BS020S36GM2 | C25: RACSW | D25: BOSSAGE SW #3/6000 Ø3/4'' - B16.11 | E25: P265GH RCCM M1122 éd.2012 - N2 | F25: 15 | G25: 15 | H25: 15 | I25: Standard | J25: 5.4 | K25: 140 | L25: Aucune
A26: BS020S36IM2 | C26: RACSW | D26: BOSSAGE SW #3/6000 Ø3/4'' - B16.11 | E26: P295GH RCCM M1122 éd.2012 - N2 | F26: 39 | G26: 19 | H26: 19 | I26: Standard | J26: 5.4 | K26: 0 | L26: Aucune
A27: BS020S36TS | C27: RACSW | D27: BOSSAGE SW #3/6000 Ø3/4'' - B16.11 | E27: A105 AMENDE | I27: Standard | J27: 1.42 | K27: 0 | L27: Aucune
A28: BS025CY36TS | C28: RACSW | D28: BOSSAGE BSP #3/6000 Ø1'' | E28: A105 ASTM AMENDE | I28: Standard | J28: 4.81 | K28: 0 | L28: Aucune
A29: BS025N36GM2 | C29: RACSW | D29: BOSSAGE NPT #3/6000 Ø1'' - B16.11 | E29: P265GH RCCM M1122 éd.2012 - N2 | I29: Standard | J29: 14 | K29: 0 | L29: Aucune
A30: BS025N36IM2 | C30: RACSW | D30: BOSSAGE NPT #3/6000 Ø1'' - B16.11 | E30: P295GH RCCM M1122 éd.2012 - N2 | F30: 0 | G30: 0 | H30: 0 | I30: Standard | J30: 4.6 | K30: 0 | L30: Aucune
A31: BS025S36GM2 | C31: RACSW | D31: BOSSAGE SW #3/6000 Ø1'' - B16.11 | E31: P265GH RCCM M1122 éd.2012 - N2 | F31: 8 | G31: 0 | H31: 8 | I31: Standard | J31: 7.5 | K31: 166 | L31: Fabrication
A32: BS025S36IM2 | C32: RACSW | D32: BOSSAGE SW #3/6000 Ø1'' - B16.11 | E32: P295GH RCCM M1122 éd.2012 - N2 | F32: 0 | G32: 0 | H32: 0 | I32: Standard | J32: 19 | K32: 0 | L32: Aucune
A33: BS025S36TS | C33: RACSW | D33: BOSSAGE SW #3/6000 Ø1'' - B16.11 | E33: A105 AMENDE | F33: 0 | G33: 0 | H33: 0 | I33: Standard | J33: 0.72 | K33: 0 | L33: Aucune
A34: BS025W222IM2 | C34: RACSW | D34: BOSSAGE SW Ø1'' CLOSER VVP | E34: P295GH RCCM M1122 éd. 2012 N2 - RETDC 1583/O | I34: Standard | J34: 0 | K34: 0 | L34: Aucune
A35: BS032CY3GM2 | C35: RACSW | D35: BOSSAGE GAZ CYL Ø1''1/4 | E35: P265GH RCCM M1122 éd.2012 - N2 | F35: 0 | G35: 0 | H35: 0 | I35: Standard | J35: 0 | K35: 0 | L35: Aucune
A36: BS032N36IM2 | C36: RACSW | D36: BOSSAGE NPT #3/6000 Ø1''1/4 - B16.11 | E36: P295GH RCCM M1122 éd.2012 - N2 | F36: 0 | G36: 0 | H36: 0 | I36: Standard | J36: 4.6 | K36: 0 | L36: Aucune
A37: BS032S36GM2 | C37: RACSW | D37: BOSSAGE SW #3/6000 Ø1'' 1/4 - B16.11 | E37: P265GH RCCM M1122 éd.2012 - N2 | F37: 13 | G37: 13 | H37: 13 | I37: Standard | J37: 7.5 | K37: 180 | L37: Aucune
A38: BS040N36GM2 | C38: RACSW | D38: BOSSAGE NPT #3/6000 Ø1''1/2 - B16.11 | E38: P265GH RCCM M1122 éd.2012 - N2 | F38: 2 | G38: 2 | H38: 2 | I38: Standard | J38: 4.6 | K38: 0 | L38: Aucune
A39: BS040N36IM2 | C39: RACSW | D39: BOSSAGE NPT #3/6000 Ø1''1/2 - B16.11 | E39: P295GH RCCM M1122 éd.2012 - N2 | F39: 0 | G39: 0 | H39: 0 | I39: Standard | J39: 4.6 | K39: 0 | L39: Aucune
A40: BS040S36GM2 | C40: RACSW | D40: BOSSAGE SW #3/6000 Ø1''1/2 - B16.11 | E40: P265GH RCCM M1122 éd.2012 - N2 | F40: 10 | G40: 10 | H40: 10 | I40: Standard | J40: 13.1 | K40: 198 | L40: Fabrication
A41: BS040S36IM2 | C41: RACSW | D41: BOSSAGE SW #3/6000 Ø1''1/2 - B16.11 | E41: P295GH RCCM M1122 éd.2012 - N2 | F41: 5 | G41: 0 | H41: 0 | I41: Standard | J41: 13.1 | K41: 198 | L41: Aucune
A42: BS040S36TS | C42: RACSW | D42: BOSSAGE SW #3/6000 Ø1''1/2 - B16.11 | E42: A105 AMENDE | F42: 2 | G42: 2 | H42: 2 | I42: Standard | J42: 1.56 | K42: 0 | L42: Aucune
A43: BS050N36GM2 | C43: RACSW | D43: BOSSAGE NPT #3/6000 Ø2'' - B16.11 | E43: P265GH RCCM M1122 éd.2012 - N2 | F43: 0 | G43: 0 | H43: 0 | I43: Standard | J43: 0 | K43: 0 | L43: Aucune
A44: BS050S36GM2 | C44: RACSW | D44: BOSSAGE SW #3/6000 Ø2'' - B16.11 | E44: P265GH RCCM M1122 éd.2012 - N2 | F44: 5 | G44: 5 | H44: 5 | I44: Standard | J44: 0 | K44: 260 | L44: Fabrication
A45: BS050S36IM2 | C45: RACSW | D45: BOSSAGE SW #3/6000 Ø2'' - B16.11 | E45: P295GH RCCM M1122 éd.2012 - N2 | F45: 8 | G45: 3 | H45: 3 | I45: Standard | J45: 19 | K45: 0 | L45: Aucune
A46: BSPECGM2 | C46: RACSW | D46: BOSSAGE SPECIAL | E46: P265GH RCCM M1122 éd.2012 - N2 | F46: -56 | G46: 4 | H46: 4 | I46: Standard | J46: 0 | K46: 0 | L46: Fabrication
... A54: BUF010S6IM2 | C54: RACSW | D54: BOUCHON FEM SW #6000 Ø3/8'' - B16.11 | E54: P295GH RCCM M1122 éd.2012 - N2 | F54: 0 | G54: 0 | H54: 0 | I54: Standard | J54: 7.52 | K54: 92 | L54: Aucune
A55: BUF015G3GM2 | C55: RACSW | D55: BOUCHON FEM TH GAZ Ø1/2'' | E55: P265GH RCCM M1122 éd.2012 - N2 | I55: Standard | J55: 6.3 | K55: 0 | L55: Aucune
A56: BUF015N3GM2 | C56: RACSW | D56: BOUCHON FEM NPT #3000 Ø1/2'' | E56: P265GH RCCM M1122 éd.2012 - N2 | F56: 0 | G56: 0 | H56: 0 | I56: Standard | J56: 8.48 | K56: 116 | L56: Aucune
A57: BUF015N3TS | C57: RACSW | D57: BOUCHON FEM NPT #3000 Ø1/2'' - B16.11 | E57: A105 - ASTM | F57: 0 | G57: 0 | H57: 0 | I57: Standard | J57: 0 | K57: 0 | L57: Aucune
A58: BUF015S3GM2 | C58: RACSW | D58: BOUCHON FEM SW #3000 Ø1/2'' - B16.11 | E58: P265GH RCCM M1122 éd.2012 - N2 | F58: 20 | G58: 0 | H58: 20 | I58: Standard | J58: 8.39 | K58: 99 | L58: Aucune
A59: BUF015S3GM2-RGV | C59: RACSW | D59: BOUCHON FEM SW #3000 Ø1/2'' - B16.11 RGV | E59: P265GH RCCM M1122 éd.2012 - N2 | F59: 2 | G59: 2 | H59: 2 | I59: Standard | J59: 8.39 | K59: 0 | L59: Aucune
A60: BUF015S3IM2 | C60: RACSW | D60: BOUCHON FEM SW #3000 Ø1/2'' - B16.11 | E60: P295GH RCCM M1122 éd.2012 - N2 | I60: Standard | J60: 21 | K60: 0 | L60: Aucune
A61: BUF015S6GM2 | C61: RACSW | D61: BOUCHON FEM SW #6000 Ø1/2'' - B16.11 | E61: P265GH RCCM M1122 éd.2012 - N2 | F61: 2 | G61: 2 | H61: 2 | I61: Standard | J61: 4.19 | K61: 109 | L61: Aucune
A62: BUF015S6GM2-RGV | C62: RACSW | D62: BOUCHON FEM SW #6000 Ø1/2'' - B16.11 RGV | E62: P265GH RCCM M1122 éd.2012 - N2 | F62: 0 | G62: 0 | H62: 0 | I62: Standard | J62: 4.19 | K62: 0 | L62: Aucune
A63: BUF020CYGM2 | C63: RACSW | D63: BOUCHON FEM TR 3/4'' GAZ CYLINDRIQUE | E63: P265GH RCCM M1122 éd.2012 - N2 | F63: 0 | G63: 0 | H63: 0 | I63: Standard | J63: 35 | K63: 0 | L63: Aucune
A64: BUF020N3GM2 | C64: RACSW | D64: BOUCHON FEM NPT #3000 Ø3/4'' | E64: P265GH RCCM M1122 éd.2012 - N2 | F64: 0 | G64: 0 | H64: 0 | I64: Standard | J64: 0 | K64: 116 | L64: Aucune
A65: BUF020S3GM2 | C65: RACSW | D65: BOUCHON FEM SW #3000 Ø3/4'' - B16.11 | E65: P265GH RCCM M1122 éd.2012 - N2 | F65: 6 | G65: 6 | H65: 6 | I65: Standard | J65: 15 | K65: 103 | L65: Aucune
A66: BUF020S3IM2 | C66: RACSW | D66: BOUCHON FEM SW #3000 Ø3/4'' - B16.11 | E66: P295GH RCCM M1122 éd.2012 - N2 | I66: Standard | J66: 15 | K66: 0 | L66: Aucune
A67: BUF020S6GM2 | C67: RACSW | D67: BOUCHON FEM SW #6000 Ø3/4'' - B16.11 | E67: P265GH RCCM M1122 éd.2012 - N2 | F67: 7 | G67: 7 | H67: 7 | I67: Standard | J67: 4.19 | K67: 93 | L67: Aucune
A68: BUF025N3GM2 | C68: RACSW | D68: BOUCHON FEM NPT #3000 Ø1'' | E68: P265GH RCCM M1122 éd.2012 - N2 | F68: 0 | G68: 0 | H68: 0 | I68: Standard | J68: 0 | K68: 0 | L68: Aucune
A69: BUF025S3GM2 | C69: RACSW | D69: BOUCHON FEM SW #3000 Ø1'' - B16.11 | E69: P265GH RCCM M1122 éd.2012 - N2 | F69: 0 | G69: 0 | H69: 0 | I69: Standard | J69: 16 | K69: 108 | L69: Aucune
A70: BUF025S6GM2 | C70: RACSW | D70: BOUCHON FEM SW #6000 Ø1'' - B16.11 | E70: P265GH RCCM M1122 éd.2012 - N2 | F70: 2 | G70: 2 | H70: 2 | I70: Standard | J70: 4.19 | K70: 107 | L70: Aucune
A71: BUF040N3GM2 | C71: RACSW | D71: BOUCHON FEM NPT #3000 Ø1''1/2 | E71: P265GH RCCM M1122 éd.2012 - N2 | F71: 0 | G71: 0 | H71: 0 | I71: Standard | J71: 0 | K71: 116 | L71: Aucune
A72: BUF040S3G2N | C72: RACSW | D72: BOUCHON FEM SW#3000 Ø1''1/2 - B16.11 | E72: P265GH STD7107 - 2N | I72: Standard | J72: 0 | K72: 0 | L72: Aucune
A73: BUF040S3GM2 | C73: RACSW | D73: BOUCHON FEM SW #3000 Ø1''1/2 - B16.11 | E73: P265GH RCCM M1122 éd.2012 - N2 | F73: 0 | G73: 0 | H73: 0 | I73: Standard | J73: 16 | K73: 147 | L73: Aucune
A74: BUF040S3IM2 | C74: RACSW | D74: BOUCHON FEM SW #3000 Ø1''1/2 - B16.11 | E74: P295GH RCCM M1122 éd.2012 - N2 | F74: 2 | G74: 2 | H74: 2 | I74: Standard | J74: 15 | K74: 0 | L74: Aucune
A75: BUF040S6GM2 | C75: RACSW | D75: BOUCHON FEM SW #6000 Ø1''1/2 - B16.11 | E75: P265GH RCCM M1122 éd.2012 - N2 | F75: 0 | G75: 0 | H75: 0 | I75: Standard | J75: 16 | K75: 147 | L75: Aucune
A76: BUF050S3GM2 | C76: RACSW | D76: BOUCHON FEM SW #3000 Ø2'' - B16.11 | E76: P265GH RCCM M1122 éd.2012 - N2 | I76: Standard | J76: 16 | K76: 158 | L76: Aucune
A77: BUFTH020N6GM2 | C77: RACSW | D77: BOUCHON FEM TH NPT #6000 Ø3/4'' - B16.11 | E77: P265GH RCCM M1122 éd.2012 - N2 | I77: Standard | J77: 0 | K77: 0 | L77: Aucune
A78: BUFTR008N3TS | C78: RACSW | D78: BOUCHON FEM TR NPT #3000 Ø1/4'' - B16.11 | E78: A105 - ASTM | F78: 9 | G78: 9 | H78: 9 | I78: Standard | J78: 1.24 | K78: 0 | L78: Aucune
A79: BUFTR008N6TS | C79: RACSW | D79: BOUCHON FEM TR NPT #6000 Ø1/4'' - B16.11 | E79: A105 - ASTM | F79: 0 | G79: 0 | H79: 0 | I79: Standard | J79: 1.24 | K79: 0 | L79: Aucune
A80: BUFTR008S3TS | C80: RACSW | D80: BOUCHON FEM TR SW #3000 Ø1/4'' - B16-11 | E80: A105 AMENDE | F80: 1 | G80: 1 | H80: 1 | I80: Standard | J80: 1.42 | K80: 0 | L80: Aucune
A81: BUFTR010N3GM2 | C81: RACSW | D81: BOUCHON FEM TR NPT #3000 Ø3/8'' | E81: P265GH RCCM M1122 éd.2012 - N2 | F81: 10 | G81: 0 | H81: 10 | I81: Standard | J81: 0 | K81: 0 | L81: Fabrication
A82: BUFTR010N6TS | C82: RACSW | D82: BOUCHON FEM TR NPT #6000 Ø3/8'' - B16.11 | E82: A105 - ASTM | F82: 0 | G82: 0 | H82: 0 | I82: Standard | J82: 1.24 | K82: 0 | L82: Aucune
A83: BUFTR015CY3TS | C83: RACSW | D83: BOUCHON FEM TR BSP 3000 Ø1/2'' | E83: A105 AMENDE | I83: Standard | J83: 1.42 | K83: 0 | L83: Aucune
A84: BUFTR015N3GM2 | C84: RACSW | D84: BOUCHON FEM TR NPT #3000 Ø1/2'' | E84: P265GH RCCM M1122 éd.2012 - N2 | F84: 29 | G84: 29 | H84: 29 | I84: Standard | J84: 0 | K84: 0 | L84: Aucune
A85: BUFTR015N3IM2 | C85: RACSW | D85: BOUCHON FEM TR NPT #3000 Ø1/2'' - B16.11 | E85: P295GH RCCM M1122 éd.2012 - N2 | F85: 0 | G85: 0 | H85: 0 | I85: Standard | J85: 4.6 | K85: 0 | L85: Aucune
A86: BUFTR015N3M2N | C86: RACSW | D86: BOUCHON FEM TR NPT #3000 Ø1/2'' - B16.11 | E86: P295GH - STD 7107 2N | F86: -1 | G86: -1 | H86: 0 | I86: Standard | J86: 0 | K86: 0 | L86: Aucune
A87: BUFTR015N3M3N | C87: RACSW | D87: BOUCHON FEM TR NPT #3000 Ø1/2'' - B16.11 | E87: P295GH - STD 7107 3N | F87: 0 | G87: 0 | H87: 0 | I87: Standard | J87: 0 | K87: 0 | L87: Aucune
A88: BUFTR015N3TS | C88: RACSW | D88: BOUCHON FEM TR NPT #3000 Ø1/2'' - B16.11 | E88: A105 - ASTM | F88: 3 | G88: 3 | H88: 3 | I88: Standard | J88: 0 | K88: 0 | L88: Aucune
A89: BUFTR015N6TS | C89: RACSW | D89: BOUCHON FEM TR NPT #6000 Ø1/2'' - B16.11 | E89: A105 - ASTM | F89: 0 | G89: 0 | H89: 0 | I89: Standard | J89: 1.24 | K89: 0 | L89: Aucune
A90: BUFTR015S3TS | C90: RACSW | D90: BOUCHON FEM TR SW #3000 Ø1/2'' - B16-11 | E90: A105 | F90: 5 | G90: 5 | H90: 5 | I90: Standard | J90: 0 | K90: 0 | L90: Aucune
A91: BUFTR015S6GM2 | C91: RACSW | D91: BOUCHON FEM TR SW #6000 Ø1/2'' - B16.11 | E91: P265GH RCCM M1122 éd.2012 - N2 | I91: Standard | J91: 0 | K91: 0 | L91: Aucune
A92: BUFTR020CY3GM2 | C92: RACSW | D92: BOUCHON FEM TR BSP 3000 Ø3/4'' | E92: P265GH RCCM M1122 éd.2012 - N2 | I92: Standard | J92: 1.42 | K92: 0 | L92: Aucune
A93: BUFTR020N3GM2 | C93: RACSW | D93: BOUCHON FEM TR NPT #3000 Ø3/4'' | E93: P265GH RCCM M1122 éd.2012 - N2 | F93: 30 | G93: 30 | H93: 30 | I93: Standard | J93: 0 | K93: 0 | L93: Aucune
A94: BUFTR020N3IM2 | C94: RACSW | D94: BOUCHON FEM TR NPT #3000 Ø3/4'' - B16.11 | E94: P295GH RCCM M1122 éd.2012 - N2 | F94: 0 | G94: 0 | H94: 0 | I94: Standard | J94: 4.6 | K94: 0 | L94: Aucune
A95: BUFTR020N3M2N | C95: RACSW | D95: BOUCHON FEM TR NPT #3000 Ø3/4'' - B16.11 | E95: P295GH - STD 7107 2N | F95: 9 | G95: 9 | H95: 11 | I95: Standard | J95: 0 | K95: 0 | L95: Aucune
A96: BUFTR020N3M3N | C96: RACSW | D96: BOUCHON FEM TR NPT #3000 Ø3/4'' - B16.11 | E96: P295GH - STD 7107 3N | F96: 0 | G96: 0 | H96: 0 | I96: Standard | J96: 0 | K96: 0 | L96: Aucune
A97: BUFTR020N3TS | C97: RACSW | D97: BOUCHON FEM TR NPT #3000 Ø3/4'' - B16.11 | E97: A105 - ASTM | F97: 4 | G97: 4 | H97: 4 | I97: Standard | J97: 0 | K97: 0 | L97: Aucune
A98: BUFTR020N6TS | C98: RACSW | D98: BOUCHON FEM TR NPT #6000 Ø3/4'' - B16.11 | E98: A105 - ASTM | F98: 0 | G98: 0 | H98: 0 | I98: Standard | J98: 1.66 | K98: 0 | L98: Aucune
A99: BUFTR020S3TS | C99: RACSW | D99: BOUCHON FEM TR SW #3000 Ø3/4'' - B16-11 | E99: A105 | F99: 2 | G99: 2 | H99: 2 | I99: Standard | J99: 0 | K99: 0 | L99: Aucune
A100: BUFTR020S6TS | C100: RACSW | D100: BOUCHON FEM TR SW #6000 Ø3/4'' - B16-11 | E100: A105 AMENDE | F100: 0 | G100: 0 | H100: 0 | I100: Standard | J100: 0 | K100: 0 | L100: Aucune
A101: BUFTR025N3GM2 | C101: RACSW | D101: BOUCHON FEM TR NPT #3000 Ø1'' - B16.11 | E101: P265GH RCCM M1122 éd.2012 - N2 | F101: 0 | G101: 0 | H101: 0 | I101: Standard | J101: 0 | K101: 0 | L101: Aucune
A102: BUFTR025N3IM2 | C102: RACSW | D102: BOUCHON FEM TR NPT #3000 Ø1'' - B16.11 | E102: P295GH RCCM M1122 éd.2012 - N2 | F102: 2 | G102: 0 | H102: 0 | I102: Standard | J102: 0 | K102: 0 | L102: Aucune
A103: BUFTR025N3TS | C103: RACSW | D103: BOUCHON FEM TR NPT #3000 Ø1'' - B16.11 | E103: A105 - ASTM | F103: 0 | G103: 0 | H103: 0 | I103: Standard | J103: 1.7 | K103: 0 | L103: Aucune
A104: BUFTR025N6TS | C104: RACSW | D104: BOUCHON FEM TR NPT #6000 Ø1'' - B16.11 | E104: A105 - ASTM | F104: 0 | G104: 0 | H104: 0 | I104: Standard | J104: 2.35 | K104: 0 | L104: Aucune
... A120: BUM010SGM2 | C120: RACSW | D120: BOUCHON MALE POUR SW Ø3/8'' | E120: P265GH RCCM M1122 éd.2012 - N2 | F120: 11 | G120: 11 | H120: 11 | I120: Standard | J120: 12 | K120: 101 | L120: Aucune
A121: BUM015GM3 | C121: RACSW | D121: BOUCHON MALE Ø1/2'' PLAN CLIENT | E121: P265GH RCCM M1122 éd.2012 - N3 | I121: Standard | J121: 0 | K121: 0 | L121: Aucune
A122: BUM015HS | C122: RACSW | D122: BOUCHON MALE POUR SW Ø1/2'' | E122: P295GH EN-10273 / A105 ASTM | F122: 0 | G122: 0 | H122: 0 | I122: Standard | J122: 0 | K122: 0 | L122: Aucune
...
