Workbook

Sheet Prix
A2: Liste de prix des vins et spiritueux en monnaies diverses | I2: Monnaie
I3: AUD
F4: Prix en CHF | G4: AUD
A5: Vieille Prune | F5: 222 | G5: =F5*VLOOKUP($G$4,'Taux de change'!$B$2:$C$10,2,0) -> 210.123
A6: Marc de Muscat | F6: 216.1 | G6: =F6*VLOOKUP($G$4,'Taux de change'!$B$2:$C$10,2,0) -> 204.53865
A7: Dauphin Fine Calvados | F7: 267.6 | G7: =F7*VLOOKUP($G$4,'Taux de change'!$B$2:$C$10,2,0) -> 253.2834
A8: Prince D`Arignac V.S. | F8: 45.6 | G8: =F8*VLOOKUP($G$4,'Taux de change'!$B$2:$C$10,2,0) -> 43.1604
A9: Bisquit, Cognac V.S.O.P. | F9: 142.7 | G9: =F9*VLOOKUP($G$4,'Taux de change'!$B$2:$C$10,2,0) -> 135.06555
A10: Bisquit, Cognac X.O. (Caraffe) | F10: 257.7 | G10: =F10*VLOOKUP($G$4,'Taux de change'!$B$2:$C$10,2,0) -> 243.91305
A11: Camus, Grand Cognac V.S.O.P. | F11: 273.6 | G11: =F11*VLOOKUP($G$4,'Taux de change'!$B$2:$C$10,2,0) -> 258.9624
A12: Comte Joseph Fine Cognac V.S.O.P. | F12: 156.6 | G12: =F12*VLOOKUP($G$4,'Taux de change'!$B$2:$C$10,2,0) -> 148.2219
A13: Hennessy Rare Fine Old Cognac | F13: 283.5 | G13: =F13*VLOOKUP($G$4,'Taux de change'!$B$2:$C$10,2,0) -> 268.33275
A14: Otard, Cognac V.S.O.P. | F14: 134.8 | G14: =F14*VLOOKUP($G$4,'Taux de change'!$B$2:$C$10,2,0) -> 127.5882
A15: Remy Martin V.S. Grand Cru | F15: 162.6 | G15: =F15*VLOOKUP($G$4,'Taux de change'!$B$2:$C$10,2,0) -> 153.9009
A16: Carlos No.1 , Solera Gran Reserva | F16: 95.2 | G16: =F16*VLOOKUP($G$4,'Taux de change'!$B$2:$C$10,2,0) -> 90.1068
... A93: Sandeman White Porto | F93: 245.8 | G93: =F93*VLOOKUP($G$4,'Taux de change'!$B$2:$C$10,2,0) -> 232.6497

Sheet Taux de change
A1: Taux de change
A2: 1 | B2: AUD | C2: 0.9465
A3: 2 | B3: CAD | C3: 0.9495
A4: 3 | B4: EUR | C4: 1.20815
A5: 4 | B5: GBP | C5: 1.499
A6: 5 | B6: JPY | C6: 116.2
A7: 6 | B7: NZD | C7: 0.76015
A8: 7 | B8: SGD | C8: 0.7559
A9: 8 | B9: USD | C9: 0.9292
A10: 9 | B10: ZAR | C10: 0.10585
