Workbook
Name Segment_Date: #N/A

Sheet suivi stock
A1: Désignation | B1: Prix unitaire | E1: Désignation | F1: Date | G1: Mouvement | H1: Qté | I1: Qté signée | J1: Prix unitaire | K1: Cout total
A2: Bleu 1,5 | B2: 0.10882 | E2: Bleu 1,5 | F2: 43502 | G2: Stock initial | H2: 6000 | I2: =IF(Mouvements[[#This Row],[Mouvement]]="Sortie",-Mouvements[[#This Row],[Qté]],Mouvements[[#This Row],[Qté]]) -> 6000 | J2: =VLOOKUP(Mouvements[[#This Row],[Désignation]],Produits[],2,0) -> 0.10882 | K2: =Mouvements[[#This Row],[Qté signée]]*Mouvements[[#This Row],[Prix unitaire]] -> 652.92
A3: Rouge 1,5 | B3: 0.10882 | E3: Rouge 1,5 | F3: 43502 | G3: Stock initial | H3: 15500 | I3: =IF(Mouvements[[#This Row],[Mouvement]]="Sortie",-Mouvements[[#This Row],[Qté]],Mouvements[[#This Row],[Qté]]) -> 15500 | J3: =VLOOKUP(Mouvements[[#This Row],[Désignation]],Produits[],2,0) -> 0.10882 | K3: =Mouvements[[#This Row],[Qté signée]]*Mouvements[[#This Row],[Prix unitaire]] -> 1686.71
A4: V/J 1,5 | B4: 0.10882 | E4: V/J 1,5 | F4: 43502 | G4: Stock initial | H4: 9000 | I4: =IF(Mouvements[[#This Row],[Mouvement]]="Sortie",-Mouvements[[#This Row],[Qté]],Mouvements[[#This Row],[Qté]]) -> 9000 | J4: =VLOOKUP(Mouvements[[#This Row],[Désignation]],Produits[],2,0) -> 0.10882 | K4: =Mouvements[[#This Row],[Qté signée]]*Mouvements[[#This Row],[Prix unitaire]] -> 979.38
A5: Marron 1,5 | B5: 0.10882 | E5: Marron 1,5 | F5: 43502 | G5: Stock initial | H5: 5000 | I5: =IF(Mouvements[[#This Row],[Mouvement]]="Sortie",-Mouvements[[#This Row],[Qté]],Mouvements[[#This Row],[Qté]]) -> 5000 | J5: =VLOOKUP(Mouvements[[#This Row],[Désignation]],Produits[],2,0) -> 0.10882 | K5: =Mouvements[[#This Row],[Qté signée]]*Mouvements[[#This Row],[Prix unitaire]] -> 544.1
A6: Orange 1,5 | B6: 0.10882 | E6: Orange 1,5 | F6: 43502 | G6: Stock initial | H6: 9750 | I6: =IF(Mouvements[[#This Row],[Mouvement]]="Sortie",-Mouvements[[#This Row],[Qté]],Mouvements[[#This Row],[Qté]]) -> 9750 | J6: =VLOOKUP(Mouvements[[#This Row],[Désignation]],Produits[],2,0) -> 0.10882 | K6: =Mouvements[[#This Row],[Qté signée]]*Mouvements[[#This Row],[Prix unitaire]] -> 1060.995
A7: Noir 1,5 | B7: 0.10882 | E7: Noir 1,5 | F7: 43502 | G7: Stock initial | H7: 2250 | I7: =IF(Mouvements[[#This Row],[Mouvement]]="Sortie",-Mouvements[[#This Row],[Qté]],Mouvements[[#This Row],[Qté]]) -> 2250 | J7: =VLOOKUP(Mouvements[[#This Row],[Désignation]],Produits[],2,0) -> 0.10882 | K7: =Mouvements[[#This Row],[Qté signée]]*Mouvements[[#This Row],[Prix unitaire]] -> 244.845
A8: Blanc 1,5 | B8: 0.10882 | E8: Blanc 1,5 | F8: 43502 | G8: Stock initial | H8: 7500 | I8: =IF(Mouvements[[#This Row],[Mouvement]]="Sortie",-Mouvements[[#This Row],[Qté]],Mouvements[[#This Row],[Qté]]) -> 7500 | J8: =VLOOKUP(Mouvements[[#This Row],[Désignation]],Produits[],2,0) -> 0.10882 | K8: =Mouvements[[#This Row],[Qté signée]]*Mouvements[[#This Row],[Prix unitaire]] -> 816.15
A9: Violet 1,5 | B9: 0.10882 | E9: Violet 1,5 | F9: 43502 | G9: Stock initial | H9: 11000 | I9: =IF(Mouvements[[#This Row],[Mouvement]]="Sortie",-Mouvements[[#This Row],[Qté]],Mouvements[[#This Row],[Qté]]) -> 11000 | J9: =VLOOKUP(Mouvements[[#This Row],[Désignation]],Produits[],2,0) -> 0.10882 | K9: =Mouvements[[#This Row],[Qté signée]]*Mouvements[[#This Row],[Prix unitaire]] -> 1197.02
A10: Bleu 2,5 | B10: 0.17313 | E10: Bleu 2,5 | F10: 43502 | G10: Stock initial | H10: 30000 | I10: =IF(Mouvements[[#This Row],[Mouvement]]="Sortie",-Mouvements[[#This Row],[Qté]],Mouvements[[#This Row],[Qté]]) -> 30000 | J10: =VLOOKUP(Mouvements[[#This Row],[Désignation]],Produits[],2,0) -> 0.17313 | K10: =Mouvements[[#This Row],[Qté signée]]*Mouvements[[#This Row],[Prix unitaire]] -> 5193.9
A11: Rouge 2,5 | B11: 0.17313 | E11: Rouge 2,5 | F11: 43502 | G11: Stock initial | H11: 36000 | I11: =IF(Mouvements[[#This Row],[Mouvement]]="Sortie",-Mouvements[[#This Row],[Qté]],Mouvements[[#This Row],[Qté]]) -> 36000 | J11: =VLOOKUP(Mouvements[[#This Row],[Désignation]],Produits[],2,0) -> 0.17313 | K11: =Mouvements[[#This Row],[Qté signée]]*Mouvements[[#This Row],[Prix unitaire]] -> 6232.68
A12: V/J 2,5 | B12: 0.17313 | E12: V/J 2,5 | F12: 43502 | G12: Stock initial | H12: 32500 | I12: =IF(Mouvements[[#This Row],[Mouvement]]="Sortie",-Mouvements[[#This Row],[Qté]],Mouvements[[#This Row],[Qté]]) -> 32500 | J12: =VLOOKUP(Mouvements[[#This Row],[Désignation]],Produits[],2,0) -> 0.17313 | K12: =Mouvements[[#This Row],[Qté signée]]*Mouvements[[#This Row],[Prix unitaire]] -> 5626.725
A13: Marron 2,5 | B13: 0.17313 | E13: Marron 2,5 | F13: 43502 | G13: Stock initial | H13: 15000 | I13: =IF(Mouvements[[#This Row],[Mouvement]]="Sortie",-Mouvements[[#This Row],[Qté]],Mouvements[[#This Row],[Qté]]) -> 15000 | J13: =VLOOKUP(Mouvements[[#This Row],[Désignation]],Produits[],2,0) -> 0.17313 | K13: =Mouvements[[#This Row],[Qté signée]]*Mouvements[[#This Row],[Prix unitaire]] -> 2596.95
... A24: Bleu alu 6 | B24: 0.475 | E24: Bleu alu 6 | F24: 43502 | G24: Stock initial | H24: 1000 | I24: =IF(Mouvements[[#This Row],[Mouvement]]="Sortie",-Mouvements[[#This Row],[Qté]],Mouvements[[#This Row],[Qté]]) -> 1000 | J24: =VLOOKUP(Mouvements[[#This Row],[Désignation]],Produits[],2,0) -> 0.475 | K24: =Mouvements[[#This Row],[Qté signée]]*Mouvements[[#This Row],[Prix unitaire]] -> 475
E25: Marron 1,5 | F25: 43502 | G25: Sortie | H25: 1500 | I25: =IF(Mouvements[[#This Row],[Mouvement]]="Sortie",-Mouvements[[#This Row],[Qté]],Mouvements[[#This Row],[Qté]]) -> -1500 | J25: =VLOOKUP(Mouvements[[#This Row],[Désignation]],Produits[],2,0) -> 0.10882 | K25: =Mouvements[[#This Row],[Qté signée]]*Mouvements[[#This Row],[Prix unitaire]] -> -163.23
E26: Noir 1,5 | F26: 43502 | G26: Sortie | H26: 500 | I26: =IF(Mouvements[[#This Row],[Mouvement]]="Sortie",-Mouvements[[#This Row],[Qté]],Mouvements[[#This Row],[Qté]]) -> -500 | J26: =VLOOKUP(Mouvements[[#This Row],[Désignation]],Produits[],2,0) -> 0.10882 | K26: =Mouvements[[#This Row],[Qté signée]]*Mouvements[[#This Row],[Prix unitaire]] -> -54.41
E27: Blanc 1,5 | F27: 43502 | G27: Sortie | H27: 500 | I27: =IF(Mouvements[[#This Row],[Mouvement]]="Sortie",-Mouvements[[#This Row],[Qté]],Mouvements[[#This Row],[Qté]]) -> -500 | J27: =VLOOKUP(Mouvements[[#This Row],[Désignation]],Produits[],2,0) -> 0.10882 | K27: =Mouvements[[#This Row],[Qté signée]]*Mouvements[[#This Row],[Prix unitaire]] -> -54.41
E28: Violet 1,5 | F28: 43502 | G28: Sortie | H28: 500 | I28: =IF(Mouvements[[#This Row],[Mouvement]]="Sortie",-Mouvements[[#This Row],[Qté]],Mouvements[[#This Row],[Qté]]) -> -500 | J28: =VLOOKUP(Mouvements[[#This Row],[Désignation]],Produits[],2,0) -> 0.10882 | K28: =Mouvements[[#This Row],[Qté signée]]*Mouvements[[#This Row],[Prix unitaire]] -> -54.41
E29: Bleu 2,5 | F29: 43502 | G29: Sortie | H29: 1500 | I29: =IF(Mouvements[[#This Row],[Mouvement]]="Sortie",-Mouvements[[#This Row],[Qté]],Mouvements[[#This Row],[Qté]]) -> -1500 | J29: =VLOOKUP(Mouvements[[#This Row],[Désignation]],Produits[],2,0) -> 0.17313 | K29: =Mouvements[[#This Row],[Qté signée]]*Mouvements[[#This Row],[Prix unitaire]] -> -259.695
E30: Rouge 2,5 | F30: 43502 | G30: Sortie | H30: 500 | I30: =IF(Mouvements[[#This Row],[Mouvement]]="Sortie",-Mouvements[[#This Row],[Qté]],Mouvements[[#This Row],[Qté]]) -> -500 | J30: =VLOOKUP(Mouvements[[#This Row],[Désignation]],Produits[],2,0) -> 0.17313 | K30: =Mouvements[[#This Row],[Qté signée]]*Mouvements[[#This Row],[Prix unitaire]] -> -86.565
E31: V/J 2,5 | F31: 43502 | G31: Sortie | H31: 1500 | I31: =IF(Mouvements[[#This Row],[Mouvement]]="Sortie",-Mouvements[[#This Row],[Qté]],Mouvements[[#This Row],[Qté]]) -> -1500 | J31: =VLOOKUP(Mouvements[[#This Row],[Désignation]],Produits[],2,0) -> 0.17313 | K31: =Mouvements[[#This Row],[Qté signée]]*Mouvements[[#This Row],[Prix unitaire]] -> -259.695
E32: Marron 2,5 | F32: 43502 | G32: Sortie | H32: 500 | I32: =IF(Mouvements[[#This Row],[Mouvement]]="Sortie",-Mouvements[[#This Row],[Qté]],Mouvements[[#This Row],[Qté]]) -> -500 | J32: =VLOOKUP(Mouvements[[#This Row],[Désignation]],Produits[],2,0) -> 0.17313 | K32: =Mouvements[[#This Row],[Qté signée]]*Mouvements[[#This Row],[Prix unitaire]] -> -86.565
E33: Noir 2,5 | F33: 43502 | G33: Sortie | H33: 500 | I33: =IF(Mouvements[[#This Row],[Mouvement]]="Sortie",-Mouvements[[#This Row],[Qté]],Mouvements[[#This Row],[Qté]]) -> -500 | J33: =VLOOKUP(Mouvements[[#This Row],[Désignation]],Produits[],2,0) -> 0.17313 | K33: =Mouvements[[#This Row],[Qté signée]]*Mouvements[[#This Row],[Prix unitaire]] -> -86.565
E34: Rouge alu 6 | F34: 43502 | G34: Sortie | H34: 500 | I34: =IF(Mouvements[[#This Row],[Mouvement]]="Sortie",-Mouvements[[#This Row],[Qté]],Mouvements[[#This Row],[Qté]]) -> -500 | J34: =VLOOKUP(Mouvements[[#This Row],[Désignation]],Produits[],2,0) -> 0.475 | K34: =Mouvements[[#This Row],[Qté signée]]*Mouvements[[#This Row],[Prix unitaire]] -> -237.5

Sheet Suivi TCD
B3: Étiquettes de colonnes
A4: Étiquettes de lignes | B4: Stock initial | C4: Sortie | D4: Stock Final
A5: 04/02/2019 - 07/02/2019
A6: Blanc 1,5
A7: Somme de Qté signée | B7: 7500 | C7: -500 | D7: 7000
A8: Somme de Cout total | B8: 816.15 | C8: -54.41 | D8: 761.74
A9: Bleu 1,5
A10: Somme de Qté signée | B10: 6000 | D10: 6000
A11: Somme de Cout total | B11: 652.92 | D11: 652.92
A12: Bleu 2,5
A13: Somme de Qté signée | B13: 30000 | C13: -1500 | D13: 28500
A14: Somme de Cout total | B14: 5193.9 | C14: -259.695 | D14: 4934.205
A15: Bleu alu 16
A16: Somme de Qté signée | B16: 0 | D16: 0
A17: Somme de Cout total | B17: 0 | D17: 0
A18: Bleu alu 25
A19: Somme de Qté signée | B19: 500 | D19: 500
A20: Somme de Cout total | B20: 310 | D20: 310
A21: Bleu alu 35
A22: Somme de Qté signée | B22: 500 | D22: 500
A23: Somme de Cout total | B23: 435 | D23: 435
A24: Bleu alu 6
A25: Somme de Qté signée | B25: 1000 | D25: 1000
A26: Somme de Cout total | B26: 475 | D26: 475
A27: Marron 1,5
A28: Somme de Qté signée | B28: 5000 | C28: -1500 | D28: 3500
A29: Somme de Cout total | B29: 544.1 | C29: -163.23 | D29: 380.87
A30: Marron 2,5
A31: Somme de Qté signée | B31: 15000 | C31: -500 | D31: 14500
A32: Somme de Cout total | B32: 2596.95 | C32: -86.565 | D32: 2510.385
A33: Noir 1,5
A34: Somme de Qté signée | B34: 2250 | C34: -500 | D34: 1750
A35: Somme de Cout total | B35: 244.845 | C35: -54.41 | D35: 190.435
A36: Noir 2,5
A37: Somme de Qté signée | B37: 18000 | C37: -500 | D37: 17500
A38: Somme de Cout total | B38: 3116.34 | C38: -86.565 | D38: 3029.775
A39: Orange 1,5
A40: Somme de Qté signée | B40: 9750 | D40: 9750
A41: Somme de Cout total | B41: 1060.995 | D41: 1060.995
A42: Rouge 1,5
A43: Somme de Qté signée | B43: 15500 | D43: 15500
A44: Somme de Cout total | B44: 1686.71 | D44: 1686.71
A45: Rouge 2,5
A46: Somme de Qté signée | B46: 36000 | C46: -500 | D46: 35500
A47: Somme de Cout total | B47: 6232.68 | C47: -86.565 | D47: 6146.115
A48: Rouge alu 16
A49: Somme de Qté signée | B49: 0 | D49: 0
A50: Somme de Cout total | B50: 0 | D50: 0
A51: Rouge alu 25
A52: Somme de Qté signée | B52: 500 | D52: 500
A53: Somme de Cout total | B53: 310 | D53: 310
A54: Rouge alu 35
A55: Somme de Qté signée | B55: 500 | D55: 500
A56: Somme de Cout total | B56: 435 | D56: 435
A57: Rouge alu 6
A58: Somme de Qté signée | B58: 1000 | C58: -500 | D58: 500
A59: Somme de Cout total | B59: 475 | C59: -237.5 | D59: 237.5
A60: V/J 1,5
A61: Somme de Qté signée | B61: 9000 | D61: 9000
A62: Somme de Cout total | B62: 979.38 | D62: 979.38
A63: V/J 2,5
A64: Somme de Qté signée | B64: 32500 | C64: -1500 | D64: 31000
A65: Somme de Cout total | B65: 5626.725 | C65: -259.695 | D65: 5367.03
A66: V/J alu 25
A67: Somme de Qté signée | B67: 1500 | D67: 1500
A68: Somme de Cout total | B68: 930 | D68: 930
A69: V/J alu 6
A70: Somme de Qté signée | B70: 1000 | D70: 1000
A71: Somme de Cout total | B71: 475 | D71: 475
A72: Violet 1,5
A73: Somme de Qté signée | B73: 11000 | C73: -500 | D73: 10500
A74: Somme de Cout total | B74: 1197.02 | C74: -54.41 | D74: 1142.61
A75: Somme de Qté signée 04/02/2019 - 07/02/2019 | B75: 204000 | C75: -8000 | D75: 196000
A76: Somme de Cout total 04/02/2019 - 07/02/2019 | B76: 33793.715 | C76: -1343.045 | D76: 32450.67
A77: Total Somme de Qté signée | B77: 204000 | C77: -8000 | D77: 196000
A78: Total Somme de Cout total | B78: 33793.715 | C78: -1343.045 | D78: 32450.67

Sheet feuille de suivi
A1: STOCK AU | B1: =TODAY() -> 43502
A3: Désignation | B3: Stock initial | C3: Entrée | D3: Sortie | E3: Stock final
A4: ='suivi stock'!A2 -> Bleu 1,5 | B4: ='suivi stock'!#REF! -> #REF!
A5: ='suivi stock'!A3 -> Rouge 1,5 | B5: ='suivi stock'!#REF! -> #REF!
A6: ='suivi stock'!A4 -> V/J 1,5 | B6: ='suivi stock'!#REF! -> #REF!
A7: ='suivi stock'!A5 -> Marron 1,5 | B7: ='suivi stock'!#REF! -> #REF!
A8: ='suivi stock'!A6 -> Orange 1,5 | B8: ='suivi stock'!#REF! -> #REF!
A9: ='suivi stock'!A7 -> Noir 1,5 | B9: ='suivi stock'!#REF! -> #REF!
A10: ='suivi stock'!A8 -> Blanc 1,5 | B10: ='suivi stock'!#REF! -> #REF!
A11: ='suivi stock'!A9 -> Violet 1,5 | B11: ='suivi stock'!#REF! -> #REF!
A12: ='suivi stock'!A10 -> Bleu 2,5 | B12: ='suivi stock'!#REF! -> #REF!
A13: ='suivi stock'!A11 -> Rouge 2,5 | B13: ='suivi stock'!#REF! -> #REF!
A14: ='suivi stock'!A12 -> V/J 2,5 | B14: ='suivi stock'!#REF! -> #REF!
A15: ='suivi stock'!A13 -> Marron 2,5 | B15: ='suivi stock'!#REF! -> #REF!
... A26: ='suivi stock'!A24 -> Bleu alu 6 | B26: ='suivi stock'!#REF! -> #REF!

Sheet Feuil3
