Workbook
Name __bookmark_1: BD!$A$1:$A$43

Sheet BD
A1: Nom | B1: Date | C1: Heure | D1: N° badg | E1: Durée | F1: RepoJ | G1: ReposH | H1: Direction | I1: Matin Hors Borne | J1: Soir Hors Borne | K1: WE
A2: Albert | B2: 43388 | C2: 0.34652778 | D2: =IF(OR(A2<>A1,B2<>B1),1,D1+1) -> 1 | E2: =IF(ISEVEN(Tableau1[[#This Row],[N° badg]]),SUM(Tableau1[[#This Row],[Heure]],-C1),0) -> 0 | F2: =IF(ROW()=2,0,IF(AND(Tableau1[[#This Row],[Nom]]=A1,Tableau1[[#This Row],[Date]]<>B1,WEEKDAY(Tableau1[[#This Row],[Date]],2)>WEEKDAY(B1,2)),Tableau1[[#This Row],[Date]]+Tableau1[[#This Row],[Heure]]-(B1+C1),0)) -> 0 | G2: =IF(ROW()=2,0,IF(AND(Tableau1[[#This Row],[Nom]]=A1,Tableau1[[#This Row],[Date]]<>B1,WEEKDAY(Tableau1[[#This Row],[Date]],2)<WEEKDAY(B1,2)),Tableau1[[#This Row],[Date]]+Tableau1[[#This Row],[Heure]]-(B1+C1),0)) -> 0 | H2: =VLOOKUP(Tableau1[[#This Row],[Nom]],TSalariés[],2,0) -> Direction 2 | I2: =IF(Tableau1[[#This Row],[Heure]]<T_Horaire[Matin],T_Horaire[Matin]-Tableau1[[#This Row],[Heure]],0) -> 0 | J2: =IF(Tableau1[[#This Row],[Heure]]>T_Horaire[Soir],Tableau1[[#This Row],[Heure]]-T_Horaire[Soir],0) -> 0 | K2: =IF(WEEKDAY(Tableau1[[#This Row],[Date]],2)>5,1,0) -> 0
A3: Albert | B3: 43388 | C3: 0.35069444 | D3: =IF(OR(A3<>A2,B3<>B2),1,D2+1) -> 2 | E3: =IF(ISEVEN(Tableau1[[#This Row],[N° badg]]),SUM(Tableau1[[#This Row],[Heure]],-C2),0) -> 0.0041666667 | F3: =IF(ROW()=2,0,IF(AND(Tableau1[[#This Row],[Nom]]=A2,Tableau1[[#This Row],[Date]]<>B2,WEEKDAY(Tableau1[[#This Row],[Date]],2)>WEEKDAY(B2,2)),Tableau1[[#This Row],[Date]]+Tableau1[[#This Row],[Heure]]-(B2+C2),0)) -> 0 | G3: =IF(ROW()=2,0,IF(AND(Tableau1[[#This Row],[Nom]]=A2,Tableau1[[#This Row],[Date]]<>B2,WEEKDAY(Tableau1[[#This Row],[Date]],2)<WEEKDAY(B2,2)),Tableau1[[#This Row],[Date]]+Tableau1[[#This Row],[Heure]]-(B2+C2),0)) -> 0 | H3: =VLOOKUP(Tableau1[[#This Row],[Nom]],TSalariés[],2,0) -> Direction 2 | I3: =IF(Tableau1[[#This Row],[Heure]]<T_Horaire[Matin],T_Horaire[Matin]-Tableau1[[#This Row],[Heure]],0) -> 0 | J3: =IF(Tableau1[[#This Row],[Heure]]>T_Horaire[Soir],Tableau1[[#This Row],[Heure]]-T_Horaire[Soir],0) -> 0 | K3: =IF(WEEKDAY(Tableau1[[#This Row],[Date]],2)>5,1,0) -> 0
A4: Albert | B4: 43389 | C4: 0.37916667 | D4: =IF(OR(A4<>A3,B4<>B3),1,D3+1) -> 1 | E4: =IF(ISEVEN(Tableau1[[#This Row],[N° badg]]),SUM(Tableau1[[#This Row],[Heure]],-C3),0) -> 0 | F4: =IF(ROW()=2,0,IF(AND(Tableau1[[#This Row],[Nom]]=A3,Tableau1[[#This Row],[Date]]<>B3,WEEKDAY(Tableau1[[#This Row],[Date]],2)>WEEKDAY(B3,2)),Tableau1[[#This Row],[Date]]+Tableau1[[#This Row],[Heure]]-(B3+C3),0)) -> 1.0284722 | G4: =IF(ROW()=2,0,IF(AND(Tableau1[[#This Row],[Nom]]=A3,Tableau1[[#This Row],[Date]]<>B3,WEEKDAY(Tableau1[[#This Row],[Date]],2)<WEEKDAY(B3,2)),Tableau1[[#This Row],[Date]]+Tableau1[[#This Row],[Heure]]-(B3+C3),0)) -> 0 | H4: =VLOOKUP(Tableau1[[#This Row],[Nom]],TSalariés[],2,0) -> Direction 2 | I4: =IF(Tableau1[[#This Row],[Heure]]<T_Horaire[Matin],T_Horaire[Matin]-Tableau1[[#This Row],[Heure]],0) -> 0 | J4: =IF(Tableau1[[#This Row],[Heure]]>T_Horaire[Soir],Tableau1[[#This Row],[Heure]]-T_Horaire[Soir],0) -> 0 | K4: =IF(WEEKDAY(Tableau1[[#This Row],[Date]],2)>5,1,0) -> 0
A5: Albert | B5: 43389 | C5: 0.48263889 | D5: =IF(OR(A5<>A4,B5<>B4),1,D4+1) -> 2 | E5: =IF(ISEVEN(Tableau1[[#This Row],[N° badg]]),SUM(Tableau1[[#This Row],[Heure]],-C4),0) -> 0.10347222 | F5: =IF(ROW()=2,0,IF(AND(Tableau1[[#This Row],[Nom]]=A4,Tableau1[[#This Row],[Date]]<>B4,WEEKDAY(Tableau1[[#This Row],[Date]],2)>WEEKDAY(B4,2)),Tableau1[[#This Row],[Date]]+Tableau1[[#This Row],[Heure]]-(B4+C4),0)) -> 0 | G5: =IF(ROW()=2,0,IF(AND(Tableau1[[#This Row],[Nom]]=A4,Tableau1[[#This Row],[Date]]<>B4,WEEKDAY(Tableau1[[#This Row],[Date]],2)<WEEKDAY(B4,2)),Tableau1[[#This Row],[Date]]+Tableau1[[#This Row],[Heure]]-(B4+C4),0)) -> 0 | H5: =VLOOKUP(Tableau1[[#This Row],[Nom]],TSalariés[],2,0) -> Direction 2 | I5: =IF(Tableau1[[#This Row],[Heure]]<T_Horaire[Matin],T_Horaire[Matin]-Tableau1[[#This Row],[Heure]],0) -> 0 | J5: =IF(Tableau1[[#This Row],[Heure]]>T_Horaire[Soir],Tableau1[[#This Row],[Heure]]-T_Horaire[Soir],0) -> 0 | K5: =IF(WEEKDAY(Tableau1[[#This Row],[Date]],2)>5,1,0) -> 0
A6: Albert | B6: 43389 | C6: 0.57708333 | D6: =IF(OR(A6<>A5,B6<>B5),1,D5+1) -> 3 | E6: =IF(ISEVEN(Tableau1[[#This Row],[N° badg]]),SUM(Tableau1[[#This Row],[Heure]],-C5),0) -> 0 | F6: =IF(ROW()=2,0,IF(AND(Tableau1[[#This Row],[Nom]]=A5,Tableau1[[#This Row],[Date]]<>B5,WEEKDAY(Tableau1[[#This Row],[Date]],2)>WEEKDAY(B5,2)),Tableau1[[#This Row],[Date]]+Tableau1[[#This Row],[Heure]]-(B5+C5),0)) -> 0 | G6: =IF(ROW()=2,0,IF(AND(Tableau1[[#This Row],[Nom]]=A5,Tableau1[[#This Row],[Date]]<>B5,WEEKDAY(Tableau1[[#This Row],[Date]],2)<WEEKDAY(B5,2)),Tableau1[[#This Row],[Date]]+Tableau1[[#This Row],[Heure]]-(B5+C5),0)) -> 0 | H6: =VLOOKUP(Tableau1[[#This Row],[Nom]],TSalariés[],2,0) -> Direction 2 | I6: =IF(Tableau1[[#This Row],[Heure]]<T_Horaire[Matin],T_Horaire[Matin]-Tableau1[[#This Row],[Heure]],0) -> 0 | J6: =IF(Tableau1[[#This Row],[Heure]]>T_Horaire[Soir],Tableau1[[#This Row],[Heure]]-T_Horaire[Soir],0) -> 0 | K6: =IF(WEEKDAY(Tableau1[[#This Row],[Date]],2)>5,1,0) -> 0
A7: Albert | B7: 43389 | C7: 0.7375 | D7: =IF(OR(A7<>A6,B7<>B6),1,D6+1) -> 4 | E7: =IF(ISEVEN(Tableau1[[#This Row],[N° badg]]),SUM(Tableau1[[#This Row],[Heure]],-C6),0) -> 0.16041667 | F7: =IF(ROW()=2,0,IF(AND(Tableau1[[#This Row],[Nom]]=A6,Tableau1[[#This Row],[Date]]<>B6,WEEKDAY(Tableau1[[#This Row],[Date]],2)>WEEKDAY(B6,2)),Tableau1[[#This Row],[Date]]+Tableau1[[#This Row],[Heure]]-(B6+C6),0)) -> 0 | G7: =IF(ROW()=2,0,IF(AND(Tableau1[[#This Row],[Nom]]=A6,Tableau1[[#This Row],[Date]]<>B6,WEEKDAY(Tableau1[[#This Row],[Date]],2)<WEEKDAY(B6,2)),Tableau1[[#This Row],[Date]]+Tableau1[[#This Row],[Heure]]-(B6+C6),0)) -> 0 | H7: =VLOOKUP(Tableau1[[#This Row],[Nom]],TSalariés[],2,0) -> Direction 2 | I7: =IF(Tableau1[[#This Row],[Heure]]<T_Horaire[Matin],T_Horaire[Matin]-Tableau1[[#This Row],[Heure]],0) -> 0 | J7: =IF(Tableau1[[#This Row],[Heure]]>T_Horaire[Soir],Tableau1[[#This Row],[Heure]]-T_Horaire[Soir],0) -> 0 | K7: =IF(WEEKDAY(Tableau1[[#This Row],[Date]],2)>5,1,0) -> 0
A8: Albert | B8: 43391 | C8: 0.37569444 | D8: =IF(OR(A8<>A7,B8<>B7),1,D7+1) -> 1 | E8: =IF(ISEVEN(Tableau1[[#This Row],[N° badg]]),SUM(Tableau1[[#This Row],[Heure]],-C7),0) -> 0 | F8: =IF(ROW()=2,0,IF(AND(Tableau1[[#This Row],[Nom]]=A7,Tableau1[[#This Row],[Date]]<>B7,WEEKDAY(Tableau1[[#This Row],[Date]],2)>WEEKDAY(B7,2)),Tableau1[[#This Row],[Date]]+Tableau1[[#This Row],[Heure]]-(B7+C7),0)) -> 1.6381944 | G8: =IF(ROW()=2,0,IF(AND(Tableau1[[#This Row],[Nom]]=A7,Tableau1[[#This Row],[Date]]<>B7,WEEKDAY(Tableau1[[#This Row],[Date]],2)<WEEKDAY(B7,2)),Tableau1[[#This Row],[Date]]+Tableau1[[#This Row],[Heure]]-(B7+C7),0)) -> 0 | H8: =VLOOKUP(Tableau1[[#This Row],[Nom]],TSalariés[],2,0) -> Direction 2 | I8: =IF(Tableau1[[#This Row],[Heure]]<T_Horaire[Matin],T_Horaire[Matin]-Tableau1[[#This Row],[Heure]],0) -> 0 | J8: =IF(Tableau1[[#This Row],[Heure]]>T_Horaire[Soir],Tableau1[[#This Row],[Heure]]-T_Horaire[Soir],0) -> 0 | K8: =IF(WEEKDAY(Tableau1[[#This Row],[Date]],2)>5,1,0) -> 0
A9: Albert | B9: 43391 | C9: 0.50277778 | D9: =IF(OR(A9<>A8,B9<>B8),1,D8+1) -> 2 | E9: =IF(ISEVEN(Tableau1[[#This Row],[N° badg]]),SUM(Tableau1[[#This Row],[Heure]],-C8),0) -> 0.12708333 | F9: =IF(ROW()=2,0,IF(AND(Tableau1[[#This Row],[Nom]]=A8,Tableau1[[#This Row],[Date]]<>B8,WEEKDAY(Tableau1[[#This Row],[Date]],2)>WEEKDAY(B8,2)),Tableau1[[#This Row],[Date]]+Tableau1[[#This Row],[Heure]]-(B8+C8),0)) -> 0 | G9: =IF(ROW()=2,0,IF(AND(Tableau1[[#This Row],[Nom]]=A8,Tableau1[[#This Row],[Date]]<>B8,WEEKDAY(Tableau1[[#This Row],[Date]],2)<WEEKDAY(B8,2)),Tableau1[[#This Row],[Date]]+Tableau1[[#This Row],[Heure]]-(B8+C8),0)) -> 0 | H9: =VLOOKUP(Tableau1[[#This Row],[Nom]],TSalariés[],2,0) -> Direction 2 | I9: =IF(Tableau1[[#This Row],[Heure]]<T_Horaire[Matin],T_Horaire[Matin]-Tableau1[[#This Row],[Heure]],0) -> 0 | J9: =IF(Tableau1[[#This Row],[Heure]]>T_Horaire[Soir],Tableau1[[#This Row],[Heure]]-T_Horaire[Soir],0) -> 0 | K9: =IF(WEEKDAY(Tableau1[[#This Row],[Date]],2)>5,1,0) -> 0
A10: Albert | B10: 43391 | C10: 0.54166667 | D10: =IF(OR(A10<>A9,B10<>B9),1,D9+1) -> 3 | E10: =IF(ISEVEN(Tableau1[[#This Row],[N° badg]]),SUM(Tableau1[[#This Row],[Heure]],-C9),0) -> 0 | F10: =IF(ROW()=2,0,IF(AND(Tableau1[[#This Row],[Nom]]=A9,Tableau1[[#This Row],[Date]]<>B9,WEEKDAY(Tableau1[[#This Row],[Date]],2)>WEEKDAY(B9,2)),Tableau1[[#This Row],[Date]]+Tableau1[[#This Row],[Heure]]-(B9+C9),0)) -> 0 | G10: =IF(ROW()=2,0,IF(AND(Tableau1[[#This Row],[Nom]]=A9,Tableau1[[#This Row],[Date]]<>B9,WEEKDAY(Tableau1[[#This Row],[Date]],2)<WEEKDAY(B9,2)),Tableau1[[#This Row],[Date]]+Tableau1[[#This Row],[Heure]]-(B9+C9),0)) -> 0 | H10: =VLOOKUP(Tableau1[[#This Row],[Nom]],TSalariés[],2,0) -> Direction 2 | I10: =IF(Tableau1[[#This Row],[Heure]]<T_Horaire[Matin],T_Horaire[Matin]-Tableau1[[#This Row],[Heure]],0) -> 0 | J10: =IF(Tableau1[[#This Row],[Heure]]>T_Horaire[Soir],Tableau1[[#This Row],[Heure]]-T_Horaire[Soir],0) -> 0 | K10: =IF(WEEKDAY(Tableau1[[#This Row],[Date]],2)>5,1,0) -> 0
A11: Albert | B11: 43391 | C11: 0.74236111 | D11: =IF(OR(A11<>A10,B11<>B10),1,D10+1) -> 4 | E11: =IF(ISEVEN(Tableau1[[#This Row],[N° badg]]),SUM(Tableau1[[#This Row],[Heure]],-C10),0) -> 0.20069444 | F11: =IF(ROW()=2,0,IF(AND(Tableau1[[#This Row],[Nom]]=A10,Tableau1[[#This Row],[Date]]<>B10,WEEKDAY(Tableau1[[#This Row],[Date]],2)>WEEKDAY(B10,2)),Tableau1[[#This Row],[Date]]+Tableau1[[#This Row],[Heure]]-(B10+C10),0)) -> 0 | G11: =IF(ROW()=2,0,IF(AND(Tableau1[[#This Row],[Nom]]=A10,Tableau1[[#This Row],[Date]]<>B10,WEEKDAY(Tableau1[[#This Row],[Date]],2)<WEEKDAY(B10,2)),Tableau1[[#This Row],[Date]]+Tableau1[[#This Row],[Heure]]-(B10+C10),0)) -> 0 | H11: =VLOOKUP(Tableau1[[#This Row],[Nom]],TSalariés[],2,0) -> Direction 2 | I11: =IF(Tableau1[[#This Row],[Heure]]<T_Horaire[Matin],T_Horaire[Matin]-Tableau1[[#This Row],[Heure]],0) -> 0 | J11: =IF(Tableau1[[#This Row],[Heure]]>T_Horaire[Soir],Tableau1[[#This Row],[Heure]]-T_Horaire[Soir],0) -> 0 | K11: =IF(WEEKDAY(Tableau1[[#This Row],[Date]],2)>5,1,0) -> 0
A12: Albert | B12: 43392 | C12: 0.31319444 | D12: =IF(OR(A12<>A11,B12<>B11),1,D11+1) -> 1 | E12: =IF(ISEVEN(Tableau1[[#This Row],[N° badg]]),SUM(Tableau1[[#This Row],[Heure]],-C11),0) -> 0 | F12: =IF(ROW()=2,0,IF(AND(Tableau1[[#This Row],[Nom]]=A11,Tableau1[[#This Row],[Date]]<>B11,WEEKDAY(Tableau1[[#This Row],[Date]],2)>WEEKDAY(B11,2)),Tableau1[[#This Row],[Date]]+Tableau1[[#This Row],[Heure]]-(B11+C11),0)) -> 0.57083333 | G12: =IF(ROW()=2,0,IF(AND(Tableau1[[#This Row],[Nom]]=A11,Tableau1[[#This Row],[Date]]<>B11,WEEKDAY(Tableau1[[#This Row],[Date]],2)<WEEKDAY(B11,2)),Tableau1[[#This Row],[Date]]+Tableau1[[#This Row],[Heure]]-(B11+C11),0)) -> 0 | H12: =VLOOKUP(Tableau1[[#This Row],[Nom]],TSalariés[],2,0) -> Direction 2 | I12: =IF(Tableau1[[#This Row],[Heure]]<T_Horaire[Matin],T_Horaire[Matin]-Tableau1[[#This Row],[Heure]],0) -> 0 | J12: =IF(Tableau1[[#This Row],[Heure]]>T_Horaire[Soir],Tableau1[[#This Row],[Heure]]-T_Horaire[Soir],0) -> 0 | K12: =IF(WEEKDAY(Tableau1[[#This Row],[Date]],2)>5,1,0) -> 0
A13: Albert | B13: 43392 | C13: 0.53125 | D13: =IF(OR(A13<>A12,B13<>B12),1,D12+1) -> 2 | E13: =IF(ISEVEN(Tableau1[[#This Row],[N° badg]]),SUM(Tableau1[[#This Row],[Heure]],-C12),0) -> 0.21805556 | F13: =IF(ROW()=2,0,IF(AND(Tableau1[[#This Row],[Nom]]=A12,Tableau1[[#This Row],[Date]]<>B12,WEEKDAY(Tableau1[[#This Row],[Date]],2)>WEEKDAY(B12,2)),Tableau1[[#This Row],[Date]]+Tableau1[[#This Row],[Heure]]-(B12+C12),0)) -> 0 | G13: =IF(ROW()=2,0,IF(AND(Tableau1[[#This Row],[Nom]]=A12,Tableau1[[#This Row],[Date]]<>B12,WEEKDAY(Tableau1[[#This Row],[Date]],2)<WEEKDAY(B12,2)),Tableau1[[#This Row],[Date]]+Tableau1[[#This Row],[Heure]]-(B12+C12),0)) -> 0 | H13: =VLOOKUP(Tableau1[[#This Row],[Nom]],TSalariés[],2,0) -> Direction 2 | I13: =IF(Tableau1[[#This Row],[Heure]]<T_Horaire[Matin],T_Horaire[Matin]-Tableau1[[#This Row],[Heure]],0) -> 0 | J13: =IF(Tableau1[[#This Row],[Heure]]>T_Horaire[Soir],Tableau1[[#This Row],[Heure]]-T_Horaire[Soir],0) -> 0 | K13: =IF(WEEKDAY(Tableau1[[#This Row],[Date]],2)>5,1,0) -> 0
... A44: Robert | B44: 43389 | C44: 0.80763889 | D44: =IF(OR(A44<>A43,B44<>B43),1,D43+1) -> 8 | E44: =IF(ISEVEN(Tableau1[[#This Row],[N° badg]]),SUM(Tableau1[[#This Row],[Heure]],-C43),0) -> 0.099305556 | F44: =IF(ROW()=2,0,IF(AND(Tableau1[[#This Row],[Nom]]=A43,Tableau1[[#This Row],[Date]]<>B43,WEEKDAY(Tableau1[[#This Row],[Date]],2)>WEEKDAY(B43,2)),Tableau1[[#This Row],[Date]]+Tableau1[[#This Row],[Heure]]-(B43+C43),0)) -> 0 | G44: =IF(ROW()=2,0,IF(AND(Tableau1[[#This Row],[Nom]]=A43,Tableau1[[#This Row],[Date]]<>B43,WEEKDAY(Tableau1[[#This Row],[Date]],2)<WEEKDAY(B43,2)),Tableau1[[#This Row],[Date]]+Tableau1[[#This Row],[Heure]]-(B43+C43),0)) -> 0 | H44: =VLOOKUP(Tableau1[[#This Row],[Nom]],TSalariés[],2,0) -> Direction 2 | I44: =IF(Tableau1[[#This Row],[Heure]]<T_Horaire[Matin],T_Horaire[Matin]-Tableau1[[#This Row],[Heure]],0) -> 0 | J44: =IF(Tableau1[[#This Row],[Heure]]>T_Horaire[Soir],Tableau1[[#This Row],[Heure]]-T_Horaire[Soir],0) -> 0.015972222 | K44: =IF(WEEKDAY(Tableau1[[#This Row],[Date]],2)>5,1,0) -> 0

Sheet TCD
A1: Direction | B1: Nom | C1: Date | D1: Nombre | E1: Durée | F1: RepoJ | G1: ReposH | H1: Matin Hors Bornes | I1: Soir Hors Bornes | J1: WE
A2: Direction 1 | B2: Gérard | C2: 43385 | D2: 4 | E2: 0.32916667 | F2: 0 | G2: 0 | H2: 0 | I2: 0 | J2: 0
A3: Direction 1 | C3: 43388 | D3: 4 | E3: 0.33541667 | F3: 0 | G3: 2.6541667 | H3: 0 | I3: 0 | J3: 0
A4: Direction 1 | C4: 43389 | D4: 2 | E4: 0.51319444 | F4: 0.56666667 | G4: 0 | H4: 0.015277778 | I4: 0.01875 | J4: 0
A5: Direction 1 | C5: 43390 | D5: 4 | E5: 0.41666667 | F5: 0.45555556 | G5: 0 | H5: 0.046527778 | I5: 0 | J5: 0
A6: Direction 1 | C6: 43392 | D6: 3 | E6: 0.16527778 | F6: 1.6611111 | G6: 0 | H6: 0 | I6: 0 | J6: 0
A8: Direction 2 | B8: Albert | C8: 43388 | D8: 2 | E8: 0.0041666667 | F8: 0 | G8: 0 | H8: 0 | I8: 0 | J8: 0
A9: Direction 2 | C9: 43389 | D9: 4 | E9: 0.26388889 | F9: 1.0284722 | G9: 0 | H9: 0 | I9: 0 | J9: 0
A10: Direction 2 | C10: 43391 | D10: 4 | E10: 0.32777778 | F10: 1.6381944 | G10: 0 | H10: 0 | I10: 0 | J10: 0
A11: Direction 2 | C11: 43392 | D11: 2 | E11: 0.21805556 | F11: 0.57083333 | G11: 0 | H11: 0 | I11: 0 | J11: 0
A12: Direction 2 | C12: 43393 | D12: 2 | E12: 0.13541667 | F12: 1.0222222 | G12: 0 | H12: 0 | I12: 0 | J12: 1
A13: Direction 2 | B13: Robert | C13: 43388 | D13: 4 | E13: 0.37986111 | F13: 0 | G13: 0 | H13: 0 | I13: 0 | J13: 0
A14: Direction 2 | C14: 43389 | D14: 8 | E14: 0.41319444 | F14: 0.59930556 | G14: 0 | H14: 0 | I14: 0.015972222 | J14: 0

Sheet Stats Direction 1
A1: Direction 1
A3: Journées de travail supérieures à 12h: | B3: =COUNTIFS(TCD!A:A,$A$1,TCD!E:E,">0,5") -> 1
A4: Repos quotidien inférieur à 11h: | B4: =COUNTIFS(TCD!A:A,$A$1,TCD!F:F,"<"&11/24,TCD!F:F,">0") -> 1
A5: Repos hebdo inférieur à 35h: | B5: =COUNTIFS(TCD!A:A,$A$1,TCD!G:G,"<"&35/24,TCD!G:G,">0") -> 0
A6: Jours de week ends travaillés: | B6: =COUNTIFS(TCD!A:A,$A$1,TCD!J:J,1) -> 0
A7: Temps travaillé hors plage le matin: | B7: =SUMIFS(TCD!H:H,TCD!A:A,$A$1) -> 0.061805556
A8: Temps travaillé hors plage le soir: | B8: =SUMIFS(TCD!I:I,TCD!A:A,$A$1) -> 0.01875

Sheet Stats Direction 2
A1: Direction 2
A3: Journées de travail supérieures à 12h: | B3: =COUNTIFS(TCD!A:A,$A$1,TCD!E:E,">0,5") -> 0
A4: Repos quotidien inférieur à 11h: | B4: =COUNTIFS(TCD!A:A,$A$1,TCD!F:F,"<"&11/24,TCD!F:F,">0") -> 0
A5: Repos hebdo inférieur à 35h: | B5: =COUNTIFS(TCD!A:A,$A$1,TCD!G:G,"<"&35/24,TCD!G:G,">0") -> 0
A6: Jours de week ends travaillés: | B6: =COUNTIFS(TCD!A:A,$A$1,TCD!J:J,1) -> 1
A7: Temps travaillé hors plage le matin: | B7: =SUMIFS(TCD!H:H,TCD!A:A,$A$1) -> 0
A8: Temps travaillé hors plage le soir: | B8: =SUMIFS(TCD!I:I,TCD!A:A,$A$1) -> 0.015972222

Sheet Liste salariés
A1: Salarié | B1: Direction | E1: Matin | F1: Soir
A2: Albert | B2: Direction 2 | E2: 0.3125 | F2: 0.79166667
A3: Gérard | B3: Direction 1
A4: Robert | B4: Direction 2
