Workbook
Name BudgetSecuPackLine: [1]Budget!$B1
Name DATA_AutomaticWarnings_1: [1]DATA!$Q$2
Name DATA_AutomaticWarnings_2: [1]DATA!$Q$3
Name DATA_AutomaticWarnings_3: [1]DATA!$Q$4
Name DATA_AutomaticWarnings_4: [1]DATA!$Q$5
Name DATA_AutomaticWarnings_5: [1]DATA!$Q$6
Name DATA_AutomaticWarnings_6: [1]DATA!$Q$7
Name DATA_AutomaticWarnings_7: [1]DATA!$Q$8
Name DATA_AutomaticWarnings_8: [1]DATA!$Q$9
Name DATA_AutomaticWarnings_9: [1]DATA!$Q$10
Name DATA_DQA_1: [1]DATA!$O$2
Name DATA_DQA_10: [1]DATA!$O$11
Name DATA_DQA_11: [1]DATA!$O$12
Name DATA_DQA_12: [1]DATA!$O$13
Name DATA_DQA_13: [1]DATA!$O$14
Name DATA_DQA_14: [1]DATA!$O$15
Name DATA_DQA_16: [1]DATA!$O$17
Name DATA_DQA_17: [1]DATA!$O$18
Name DATA_DQA_18: [1]DATA!$O$19
Name DATA_DQA_19: [1]DATA!$O$20
Name DATA_DQA_2: [1]DATA!$O$3
Name DATA_DQA_3: [1]DATA!$O$4
Name DATA_DQA_4: [1]DATA!$O$5
Name DATA_DQA_5: [1]DATA!$O$6
Name DATA_DQA_6: [1]DATA!$O$7
Name DATA_DQA_7: [1]DATA!$O$8
Name DATA_DQA_8: [1]DATA!$O$9
Name DATA_DQA_9: [1]DATA!$O$10
Name DATA_FileVersion: DATA!$A$3
Name DATA_SP_AFadv: [1]DATA!$C$5
Name DATA_SP_AFMed: [1]DATA!$C$4
Name DATA_SP_AntiAPTAdv: [1]DATA!$C$8
Name DATA_SP_AntiAPTMed: [1]DATA!$C$7
Name DATA_SP_AntiDdos: [1]DATA!$C$3
Name DATA_SP_ATMsecAdv: [1]DATA!$C$11
Name DATA_SP_ATMsecBas: [1]DATA!$C$9
Name DATA_SP_Basics: [1]DATA!$C$2
Name DATA_SP_CBDataSecurity: [1]DATA!$C$12
Name DATA_SP_CertifAudit: [1]DATA!$C$13
Name DATA_SP_DLP: [1]DATA!$C$6
Name DATA_SP_LocalPackage: [1]DATA!$C$14
Name DATA_SPG_AntiAPT: [1]DATA!$Z$3
Name DATA_SPG_AntiFraud: [1]DATA!$Z$2
Name DATA_SPG_ATM: [1]DATA!$Z$4
Name DATA_Status_CERTIFIED: [1]DATA!$E$9
Name DATA_Status_DONEPostAuditMitigation: [1]DATA!$E$8
Name DATA_Status_DONEtoBeCERTIFIED: [1]DATA!$E$7
Name DATA_Status_INPROGRESS: [1]DATA!$E$6
Name DATA_Status_NOTAPPLICABLE: [1]DATA!$E$4
Name DATA_Status_PleaseChoose: [1]DATA!$E$2
Name DATA_Status_RiskAccepted: [1]DATA!$E$3
Name DATA_Status_TOBESTARTED: [1]DATA!$E$5
Name DateAbove: [1]Planning!A$7
Name EndOf2015: [1]DATA!$W$2
Name EndOf2016: [1]DATA!$W$3
Name EndOf2017: [1]DATA!$W$4
Name EndOf2018: [1]DATA!$W$5
Name EndOf2019: [1]DATA!$W$6
Name LocalProgramLead: '[1]Security Measures'!$C$5
Name NbDays2016: [1]DATA!$X$3

Sheet REPORTING_SEPTEMBRE
A1: BU | B1: Region | C1: Entity | D1: Measure ID | E1: Priority | F1: Target status | G1: Target scope | H1: Target justification (if<100%) | I1: Status | J1: Implementation progress rate | K1: CISO assessment | L1: CISO Comments | M1: Resource allocated | N1: Main actor | O1: Kick-off | P1: Initial end | Q1: Re-estimated end | R1: <Local use 1> | S1: <Local use 2>
A2: AFMO | B2: Maroc | C2: EQDOM | D2: OPS_ACM_01 | E2: P0 | F2: =IF(GLOBAL_DATA_01[[#This Row],[Target scope]]="","",INDEX(DATA_TargetStatusChoice[Target_Status_Choice],MATCH(GLOBAL_DATA_01[[#This Row],[Target scope]],DATA_TargetStatusChoice[Value],1))) -> NOT APPLICABLE | G2: - | H2: =IF(GLOBAL_DATA_01[[#This Row],[Target status]]<>"FULL IMPLEMENTATION", "<required>"," -") -> <required> | I2: NO PROJECT | J2: 0 | K2: No alert | M2: Not secured | N2: Local | O2: 43922 | P2: 43936
A3: AFMO | B3: Maroc | C3: EQDOM | D3: OPS_ACM_02 | E3: P1 | F3: =IF(GLOBAL_DATA_01[[#This Row],[Target scope]]="","",INDEX(DATA_TargetStatusChoice[Target_Status_Choice],MATCH(GLOBAL_DATA_01[[#This Row],[Target scope]],DATA_TargetStatusChoice[Value],1))) -> FULL IMPLEMENTATION | G3: 1 | H3: =IF(GLOBAL_DATA_01[[#This Row],[Target status]]<>"FULL IMPLEMENTATION", "<required>"," -") -> - | I3: DONE | J3: 1 | K3: No alert | M3: Not secured | N3: NC | Q3: 43943
A4: AFMO | B4: Maroc | C4: EQDOM | D4: OPS_ACM_03 | E4: P0 | F4: =IF(GLOBAL_DATA_01[[#This Row],[Target scope]]="","",INDEX(DATA_TargetStatusChoice[Target_Status_Choice],MATCH(GLOBAL_DATA_01[[#This Row],[Target scope]],DATA_TargetStatusChoice[Value],1))) -> FULL IMPLEMENTATION | G4: 1 | H4: =IF(GLOBAL_DATA_01[[#This Row],[Target status]]<>"FULL IMPLEMENTATION", "<required>"," -") -> - | I4: VERIFIED | J4: 1 | K4: Alert | N4: Hub SSI | Q4: 43944
A5: AFMO | B5: Maroc | C5: EQDOM | D5: OPS_ACM_04 | E5: P0 | F5: =IF(GLOBAL_DATA_01[[#This Row],[Target scope]]="","",INDEX(DATA_TargetStatusChoice[Target_Status_Choice],MATCH(GLOBAL_DATA_01[[#This Row],[Target scope]],DATA_TargetStatusChoice[Value],1))) -> FULL IMPLEMENTATION | G5: 1 | H5: =IF(GLOBAL_DATA_01[[#This Row],[Target status]]<>"FULL IMPLEMENTATION", "<required>"," -") -> - | I5: TO BE STARTED | J5: 0 | K5: Alert | L5: 20% déjà réalisés avant début du projet donc to be started est cohérent | N5: Hub SSI | Q5: 43945
A6: AFMO | B6: Maroc | C6: EQDOM | D6: OPS_ACM_05 | E6: P0 | F6: =IF(GLOBAL_DATA_01[[#This Row],[Target scope]]="","",INDEX(DATA_TargetStatusChoice[Target_Status_Choice],MATCH(GLOBAL_DATA_01[[#This Row],[Target scope]],DATA_TargetStatusChoice[Value],1))) -> PARTIAL IMPLEMENTATION + RA | G6: 0.8 | H6: =IF(GLOBAL_DATA_01[[#This Row],[Target status]]<>"FULL IMPLEMENTATION", "<required>"," -") -> <required> | I6: IN PROGRESS | J6: 0.9 | K6: Warning | L6: Pas de projet donc pas de suivi | N6: Local | Q6: 43946
A7: AFMO | B7: Maroc | C7: EQDOM | D7: OPS_ACM_06 | E7: P0 | F7: =IF(GLOBAL_DATA_01[[#This Row],[Target scope]]="","",INDEX(DATA_TargetStatusChoice[Target_Status_Choice],MATCH(GLOBAL_DATA_01[[#This Row],[Target scope]],DATA_TargetStatusChoice[Value],1))) -> NOT APPLICABLE | G7: - | H7: =IF(GLOBAL_DATA_01[[#This Row],[Target status]]<>"FULL IMPLEMENTATION", "<required>"," -") -> <required> | I7: TO BE STARTED | J7: 0 | K7: Warning | L7: Pas de projet donc pas de suivi | N7: Local | Q7: 43946
A8: AFMO | B8: Maroc | C8: EQDOM | D8: OPS_EYS_01 | E8: P1 | F8: =IF(GLOBAL_DATA_01[[#This Row],[Target scope]]="","",INDEX(DATA_TargetStatusChoice[Target_Status_Choice],MATCH(GLOBAL_DATA_01[[#This Row],[Target scope]],DATA_TargetStatusChoice[Value],1))) -> PARTIAL IMPLEMENTATION + RA | G8: 0.8 | H8: =IF(GLOBAL_DATA_01[[#This Row],[Target status]]<>"FULL IMPLEMENTATION", "<required>"," -") -> <required> | I8: IN PROGRESS | J8: 0.8 | L8: Pas de projet donc pas de suivi | N8: NC | Q8: 43948
A9: AFMO | B9: Maroc | C9: EQDOM | D9: OPS_IMN_01 | E9: P2 | F9: =IF(GLOBAL_DATA_01[[#This Row],[Target scope]]="","",INDEX(DATA_TargetStatusChoice[Target_Status_Choice],MATCH(GLOBAL_DATA_01[[#This Row],[Target scope]],DATA_TargetStatusChoice[Value],1))) -> PARTIAL IMPLEMENTATION + RA | G9: 0.2 | H9: =IF(GLOBAL_DATA_01[[#This Row],[Target status]]<>"FULL IMPLEMENTATION", "<required>"," -") -> <required> | I9: IN PROGRESS | J9: 0 | N9: NC | Q9: 43948
A10: AFMO | B10: Maroc | C10: EQDOM | D10: OPS_IMN_02 | E10: P1 | F10: =IF(GLOBAL_DATA_01[[#This Row],[Target scope]]="","",INDEX(DATA_TargetStatusChoice[Target_Status_Choice],MATCH(GLOBAL_DATA_01[[#This Row],[Target scope]],DATA_TargetStatusChoice[Value],1))) -> PARTIAL IMPLEMENTATION + RA | G10: 0.8 | H10: =IF(GLOBAL_DATA_01[[#This Row],[Target status]]<>"FULL IMPLEMENTATION", "<required>"," -") -> <required> | I10: DONE | J10: 1 | N10: NC | Q10: 43950
A11: AFMO | B11: Maroc | C11: EQDOM | D11: OPS_IMN_03 | E11: P1 | F11: =IF(GLOBAL_DATA_01[[#This Row],[Target scope]]="","",INDEX(DATA_TargetStatusChoice[Target_Status_Choice],MATCH(GLOBAL_DATA_01[[#This Row],[Target scope]],DATA_TargetStatusChoice[Value],1))) -> PARTIAL IMPLEMENTATION + RA | G11: 0.8 | H11: =IF(GLOBAL_DATA_01[[#This Row],[Target status]]<>"FULL IMPLEMENTATION", "<required>"," -") -> <required> | I11: CHECKED CISO | J11: 1 | N11: NC | Q11: 43951
A12: AFMO | B12: Maroc | C12: EQDOM | D12: OPS_KYI_01 | E12: P0 | F12: =IF(GLOBAL_DATA_01[[#This Row],[Target scope]]="","",INDEX(DATA_TargetStatusChoice[Target_Status_Choice],MATCH(GLOBAL_DATA_01[[#This Row],[Target scope]],DATA_TargetStatusChoice[Value],1))) -> NOT APPLICABLE | G12: - | H12: =IF(GLOBAL_DATA_01[[#This Row],[Target status]]<>"FULL IMPLEMENTATION", "<required>"," -") -> <required> | I12: NO PROJECT | J12: 0 | N12: Local
A13: AFMO | B13: Maroc | C13: EQDOM | D13: OPS_KYI_02 | E13: P0 | F13: =IF(GLOBAL_DATA_01[[#This Row],[Target scope]]="","",INDEX(DATA_TargetStatusChoice[Target_Status_Choice],MATCH(GLOBAL_DATA_01[[#This Row],[Target scope]],DATA_TargetStatusChoice[Value],1))) -> FULL IMPLEMENTATION | G13: 1 | H13: =IF(GLOBAL_DATA_01[[#This Row],[Target status]]<>"FULL IMPLEMENTATION", "<required>"," -") -> - | I13: DONE | J13: 1 | N13: Local | Q13: 44317
A14: AFMO | B14: Maroc | C14: EQDOM | D14: OPS_KYI_03 | E14: P2 | F14: =IF(GLOBAL_DATA_01[[#This Row],[Target scope]]="","",INDEX(DATA_TargetStatusChoice[Target_Status_Choice],MATCH(GLOBAL_DATA_01[[#This Row],[Target scope]],DATA_TargetStatusChoice[Value],1))) -> RISK ACCEPTED | G14: 0 | H14: =IF(GLOBAL_DATA_01[[#This Row],[Target status]]<>"FULL IMPLEMENTATION", "<required>"," -") -> <required> | I14: NO PROJECT | J14: 0 | N14: NC
A15: AFMO | B15: Maroc | C15: EQDOM | D15: OPS_KYI_04 | E15: P0 | F15: =IF(GLOBAL_DATA_01[[#This Row],[Target scope]]="","",INDEX(DATA_TargetStatusChoice[Target_Status_Choice],MATCH(GLOBAL_DATA_01[[#This Row],[Target scope]],DATA_TargetStatusChoice[Value],1))) -> NOT APPLICABLE | G15: - | H15: =IF(GLOBAL_DATA_01[[#This Row],[Target status]]<>"FULL IMPLEMENTATION", "<required>"," -") -> <required> | I15: NO PROJECT | J15: 0 | N15: Local
A16: AFMO | B16: Maroc | C16: EQDOM | D16: OPS_KYI_05 | E16: P0 | F16: =IF(GLOBAL_DATA_01[[#This Row],[Target scope]]="","",INDEX(DATA_TargetStatusChoice[Target_Status_Choice],MATCH(GLOBAL_DATA_01[[#This Row],[Target scope]],DATA_TargetStatusChoice[Value],1))) -> PARTIAL IMPLEMENTATION + RA | G16: 0.8 | H16: =IF(GLOBAL_DATA_01[[#This Row],[Target status]]<>"FULL IMPLEMENTATION", "<required>"," -") -> <required> | I16: VERIFIED | J16: 1 | N16: Hub SSI | Q16: 44317
A17: AFMO | B17: Maroc | C17: EQDOM | D17: OPS_KYI_06 | E17: P0 | F17: =IF(GLOBAL_DATA_01[[#This Row],[Target scope]]="","",INDEX(DATA_TargetStatusChoice[Target_Status_Choice],MATCH(GLOBAL_DATA_01[[#This Row],[Target scope]],DATA_TargetStatusChoice[Value],1))) -> PARTIAL IMPLEMENTATION + RA | G17: 0.8 | H17: =IF(GLOBAL_DATA_01[[#This Row],[Target status]]<>"FULL IMPLEMENTATION", "<required>"," -") -> <required> | I17: IN PROGRESS | J17: 0.8 | N17: Local | Q17: 44317
A18: AFMO | B18: Maroc | C18: EQDOM | D18: OPS_MIS_01 | E18: P0 | F18: =IF(GLOBAL_DATA_01[[#This Row],[Target scope]]="","",INDEX(DATA_TargetStatusChoice[Target_Status_Choice],MATCH(GLOBAL_DATA_01[[#This Row],[Target scope]],DATA_TargetStatusChoice[Value],1))) -> PARTIAL IMPLEMENTATION + RA | G18: 0.6 | H18: =IF(GLOBAL_DATA_01[[#This Row],[Target status]]<>"FULL IMPLEMENTATION", "<required>"," -") -> <required> | I18: TO BE STARTED | J18: 0 | N18: Local | Q18: 44317
A19: AFMO | B19: Maroc | C19: EQDOM | D19: OPS_MIS_02 | E19: P0 | F19: =IF(GLOBAL_DATA_01[[#This Row],[Target scope]]="","",INDEX(DATA_TargetStatusChoice[Target_Status_Choice],MATCH(GLOBAL_DATA_01[[#This Row],[Target scope]],DATA_TargetStatusChoice[Value],1))) -> FULL IMPLEMENTATION | G19: 1 | H19: =IF(GLOBAL_DATA_01[[#This Row],[Target status]]<>"FULL IMPLEMENTATION", "<required>"," -") -> - | I19: TO BE STARTED | J19: 0 | N19: SG ABS | Q19: 44317
A20: AFMO | B20: Maroc | C20: EQDOM | D20: OPS_MIS_03 | E20: P0 | F20: =IF(GLOBAL_DATA_01[[#This Row],[Target scope]]="","",INDEX(DATA_TargetStatusChoice[Target_Status_Choice],MATCH(GLOBAL_DATA_01[[#This Row],[Target scope]],DATA_TargetStatusChoice[Value],1))) -> PARTIAL IMPLEMENTATION + RA | G20: 0.6 | H20: =IF(GLOBAL_DATA_01[[#This Row],[Target status]]<>"FULL IMPLEMENTATION", "<required>"," -") -> <required> | I20: TO BE STARTED | J20: 0 | N20: SG ABS | Q20: 44317
A21: AFMO | B21: Maroc | C21: EQDOM | D21: OPS_MIS_04 | E21: P0 | F21: =IF(GLOBAL_DATA_01[[#This Row],[Target scope]]="","",INDEX(DATA_TargetStatusChoice[Target_Status_Choice],MATCH(GLOBAL_DATA_01[[#This Row],[Target scope]],DATA_TargetStatusChoice[Value],1))) -> PARTIAL IMPLEMENTATION + RA | G21: 0.6 | H21: =IF(GLOBAL_DATA_01[[#This Row],[Target status]]<>"FULL IMPLEMENTATION", "<required>"," -") -> <required> | I21: TO BE STARTED | J21: 0 | N21: Local | Q21: 44317
A22: AFMO | B22: Maroc | C22: EQDOM | D22: OPS_MIS_05 | E22: P0 | F22: =IF(GLOBAL_DATA_01[[#This Row],[Target scope]]="","",INDEX(DATA_TargetStatusChoice[Target_Status_Choice],MATCH(GLOBAL_DATA_01[[#This Row],[Target scope]],DATA_TargetStatusChoice[Value],1))) -> PARTIAL IMPLEMENTATION + RA | G22: 0.8 | H22: =IF(GLOBAL_DATA_01[[#This Row],[Target status]]<>"FULL IMPLEMENTATION", "<required>"," -") -> <required> | I22: TO BE STARTED | J22: 0 | N22: Local | Q22: 44317
A23: AFMO | B23: Maroc | C23: EQDOM | D23: OPS_MIS_06 | E23: P0 | F23: =IF(GLOBAL_DATA_01[[#This Row],[Target scope]]="","",INDEX(DATA_TargetStatusChoice[Target_Status_Choice],MATCH(GLOBAL_DATA_01[[#This Row],[Target scope]],DATA_TargetStatusChoice[Value],1))) -> FULL IMPLEMENTATION | G23: 1 | H23: =IF(GLOBAL_DATA_01[[#This Row],[Target status]]<>"FULL IMPLEMENTATION", "<required>"," -") -> - | I23: TO BE STARTED | J23: 0 | N23: Hub SSI | Q23: 44317
A24: AFMO | B24: Maroc | C24: EQDOM | D24: OPS_MIS_07 | E24: P0 | F24: =IF(GLOBAL_DATA_01[[#This Row],[Target scope]]="","",INDEX(DATA_TargetStatusChoice[Target_Status_Choice],MATCH(GLOBAL_DATA_01[[#This Row],[Target scope]],DATA_TargetStatusChoice[Value],1))) -> PARTIAL IMPLEMENTATION + RA | G24: 0.8 | H24: =IF(GLOBAL_DATA_01[[#This Row],[Target status]]<>"FULL IMPLEMENTATION", "<required>"," -") -> <required> | I24: CHECKED CISO | J24: 1 | N24: Local | Q24: 44317
A25: AFMO | B25: Maroc | C25: EQDOM | D25: OPS_MIS_08 | E25: P0 | F25: =IF(GLOBAL_DATA_01[[#This Row],[Target scope]]="","",INDEX(DATA_TargetStatusChoice[Target_Status_Choice],MATCH(GLOBAL_DATA_01[[#This Row],[Target scope]],DATA_TargetStatusChoice[Value],1))) -> FULL IMPLEMENTATION | G25: 1 | H25: =IF(GLOBAL_DATA_01[[#This Row],[Target status]]<>"FULL IMPLEMENTATION", "<required>"," -") -> - | I25: DONE | J25: 1 | N25: Hub SSI | Q25: 44317
A26: AFMO | B26: Maroc | C26: EQDOM | D26: OPS_MIS_09 | E26: P0 | F26: =IF(GLOBAL_DATA_01[[#This Row],[Target scope]]="","",INDEX(DATA_TargetStatusChoice[Target_Status_Choice],MATCH(GLOBAL_DATA_01[[#This Row],[Target scope]],DATA_TargetStatusChoice[Value],1))) -> FULL IMPLEMENTATION | G26: 1 | H26: =IF(GLOBAL_DATA_01[[#This Row],[Target status]]<>"FULL IMPLEMENTATION", "<required>"," -") -> - | I26: DONE | J26: 1 | N26: Local | Q26: 44317
A27: AFMO | B27: Maroc | C27: EQDOM | D27: OPS_MON_01 | E27: P2 | F27: =IF(GLOBAL_DATA_01[[#This Row],[Target scope]]="","",INDEX(DATA_TargetStatusChoice[Target_Status_Choice],MATCH(GLOBAL_DATA_01[[#This Row],[Target scope]],DATA_TargetStatusChoice[Value],1))) -> FULL IMPLEMENTATION | G27: 1 | H27: =IF(GLOBAL_DATA_01[[#This Row],[Target status]]<>"FULL IMPLEMENTATION", "<required>"," -") -> - | I27: DONE | J27: 1 | N27: NC | Q27: 44317
... A49: AFMO | B49: Maroc | C49: EQDOM | D49: OPS_SYI_07 | E49: P0 | F49: =IF(GLOBAL_DATA_01[[#This Row],[Target scope]]="","",INDEX(DATA_TargetStatusChoice[Target_Status_Choice],MATCH(GLOBAL_DATA_01[[#This Row],[Target scope]],DATA_TargetStatusChoice[Value],1))) -> FULL IMPLEMENTATION | G49: 1 | H49: =IF(GLOBAL_DATA_01[[#This Row],[Target status]]<>"FULL IMPLEMENTATION", "<required>"," -") -> - | I49: TO BE STARTED | J49: 0 | N49: SG ABS | Q49: 44706
A50: AFMO | B50: Maroc | C50: EQDOM | D50: OPS_SYI_08 | E50: P3 | F50: =IF(GLOBAL_DATA_01[[#This Row],[Target scope]]="","",INDEX(DATA_TargetStatusChoice[Target_Status_Choice],MATCH(GLOBAL_DATA_01[[#This Row],[Target scope]],DATA_TargetStatusChoice[Value],1))) -> RISK ACCEPTED | G50: 0 | H50: =IF(GLOBAL_DATA_01[[#This Row],[Target status]]<>"FULL IMPLEMENTATION", "<required>"," -") -> <required> | I50: NO PROJECT | J50: 0 | N50: NC
A51: AFMO | B51: Maroc | C51: EQDOM | D51: TAA_AWA_01 | E51: P0 | F51: =IF(GLOBAL_DATA_01[[#This Row],[Target scope]]="","",INDEX(DATA_TargetStatusChoice[Target_Status_Choice],MATCH(GLOBAL_DATA_01[[#This Row],[Target scope]],DATA_TargetStatusChoice[Value],1))) -> FULL IMPLEMENTATION | G51: 1 | H51: =IF(GLOBAL_DATA_01[[#This Row],[Target status]]<>"FULL IMPLEMENTATION", "<required>"," -") -> - | I51: DONE | J51: 1 | N51: Hub SSI | Q51: 44356
A52: AFMO | B52: Maroc | C52: EQDOM | D52: TAA_AWA_02 | E52: P0 | F52: =IF(GLOBAL_DATA_01[[#This Row],[Target scope]]="","",INDEX(DATA_TargetStatusChoice[Target_Status_Choice],MATCH(GLOBAL_DATA_01[[#This Row],[Target scope]],DATA_TargetStatusChoice[Value],1))) -> NOT APPLICABLE | G52: - | H52: =IF(GLOBAL_DATA_01[[#This Row],[Target status]]<>"FULL IMPLEMENTATION", "<required>"," -") -> <required> | I52: NO PROJECT | J52: 0 | N52: Hub SSI
A53: AFMO | B53: Maroc | C53: EQDOM | D53: TAA_AWA_03 | E53: P2 | F53: =IF(GLOBAL_DATA_01[[#This Row],[Target scope]]="","",INDEX(DATA_TargetStatusChoice[Target_Status_Choice],MATCH(GLOBAL_DATA_01[[#This Row],[Target scope]],DATA_TargetStatusChoice[Value],1))) -> FULL IMPLEMENTATION | G53: 1 | H53: =IF(GLOBAL_DATA_01[[#This Row],[Target status]]<>"FULL IMPLEMENTATION", "<required>"," -") -> - | I53: CHECKED CISO | J53: 1 | N53: NC | Q53: 44356
A54: AFMO | B54: Maroc | C54: EQDOM | D54: TAA_AWA_04 | E54: P0 | F54: =IF(GLOBAL_DATA_01[[#This Row],[Target scope]]="","",INDEX(DATA_TargetStatusChoice[Target_Status_Choice],MATCH(GLOBAL_DATA_01[[#This Row],[Target scope]],DATA_TargetStatusChoice[Value],1))) -> PARTIAL IMPLEMENTATION + RA | G54: 0.2 | H54: =IF(GLOBAL_DATA_01[[#This Row],[Target status]]<>"FULL IMPLEMENTATION", "<required>"," -") -> <required> | I54: IN PROGRESS | J54: 0.4 | N54: Local | Q54: 43991
A55: AFMO | B55: Maroc | C55: EQDOM | D55: TAA_AWA_05 | E55: P0 | F55: =IF(GLOBAL_DATA_01[[#This Row],[Target scope]]="","",INDEX(DATA_TargetStatusChoice[Target_Status_Choice],MATCH(GLOBAL_DATA_01[[#This Row],[Target scope]],DATA_TargetStatusChoice[Value],1))) -> NOT APPLICABLE | G55: - | H55: =IF(GLOBAL_DATA_01[[#This Row],[Target status]]<>"FULL IMPLEMENTATION", "<required>"," -") -> <required> | I55: VERIFIED | J55: 1 | N55: Hub SSI | Q55: 43991
A56: AFMO | B56: Maroc | C56: EQDOM | D56: TAA_CAW_01 | E56: P1 | F56: =IF(GLOBAL_DATA_01[[#This Row],[Target scope]]="","",INDEX(DATA_TargetStatusChoice[Target_Status_Choice],MATCH(GLOBAL_DATA_01[[#This Row],[Target scope]],DATA_TargetStatusChoice[Value],1))) -> PARTIAL IMPLEMENTATION + RA | G56: 0.8 | H56: =IF(GLOBAL_DATA_01[[#This Row],[Target status]]<>"FULL IMPLEMENTATION", "<required>"," -") -> <required> | I56: DONE | J56: 1 | N56: NC | Q56: 43991
A57: AFMO | B57: Maroc | C57: EQDOM | D57: TAA_GOV_01 | E57: P0 | F57: =IF(GLOBAL_DATA_01[[#This Row],[Target scope]]="","",INDEX(DATA_TargetStatusChoice[Target_Status_Choice],MATCH(GLOBAL_DATA_01[[#This Row],[Target scope]],DATA_TargetStatusChoice[Value],1))) -> RISK ACCEPTED | G57: 0 | H57: =IF(GLOBAL_DATA_01[[#This Row],[Target status]]<>"FULL IMPLEMENTATION", "<required>"," -") -> <required> | I57: NO PROJECT | J57: 0 | N57: Hub SSI
A58: AFMO | B58: Maroc | C58: EQDOM | D58: TAA_GOV_02 | E58: P0 | F58: =IF(GLOBAL_DATA_01[[#This Row],[Target scope]]="","",INDEX(DATA_TargetStatusChoice[Target_Status_Choice],MATCH(GLOBAL_DATA_01[[#This Row],[Target scope]],DATA_TargetStatusChoice[Value],1))) -> RISK ACCEPTED | G58: 0 | H58: =IF(GLOBAL_DATA_01[[#This Row],[Target status]]<>"FULL IMPLEMENTATION", "<required>"," -") -> <required> | I58: NO PROJECT | J58: 0 | N58: Local
A59: AFMO | B59: Maroc | C59: EQDOM | D59: TAA_SPC_01 | E59: P2 | F59: =IF(GLOBAL_DATA_01[[#This Row],[Target scope]]="","",INDEX(DATA_TargetStatusChoice[Target_Status_Choice],MATCH(GLOBAL_DATA_01[[#This Row],[Target scope]],DATA_TargetStatusChoice[Value],1))) -> PARTIAL IMPLEMENTATION + RA | G59: 0.8 | H59: =IF(GLOBAL_DATA_01[[#This Row],[Target status]]<>"FULL IMPLEMENTATION", "<required>"," -") -> <required> | I59: IN PROGRESS | J59: 0.6 | N59: NC | Q59: 44356
A60: AFMO | B60: Maroc | C60: EQDOM | D60: TAA_TPT_01 | E60: P0 | F60: =IF(GLOBAL_DATA_01[[#This Row],[Target scope]]="","",INDEX(DATA_TargetStatusChoice[Target_Status_Choice],MATCH(GLOBAL_DATA_01[[#This Row],[Target scope]],DATA_TargetStatusChoice[Value],1))) -> PARTIAL IMPLEMENTATION + RA | G60: 0.8 | H60: =IF(GLOBAL_DATA_01[[#This Row],[Target status]]<>"FULL IMPLEMENTATION", "<required>"," -") -> <required> | I60: IN PROGRESS | J60: 0.6 | N60: Hub SSI | Q60: 44721
A61: AFMO | B61: Maroc | C61: EQDOM | D61: TAA_TRN_01 | E61: P0 | F61: =IF(GLOBAL_DATA_01[[#This Row],[Target scope]]="","",INDEX(DATA_TargetStatusChoice[Target_Status_Choice],MATCH(GLOBAL_DATA_01[[#This Row],[Target scope]],DATA_TargetStatusChoice[Value],1))) -> RISK ACCEPTED | G61: 0 | H61: =IF(GLOBAL_DATA_01[[#This Row],[Target status]]<>"FULL IMPLEMENTATION", "<required>"," -") -> <required> | I61: NO PROJECT | J61: 0 | N61: Hub SSI
A62: AFMO | B62: Maroc | C62: EQDOM | D62: DTP_ANO_01 | E62: P0 | F62: =IF(GLOBAL_DATA_01[[#This Row],[Target scope]]="","",INDEX(DATA_TargetStatusChoice[Target_Status_Choice],MATCH(GLOBAL_DATA_01[[#This Row],[Target scope]],DATA_TargetStatusChoice[Value],1))) -> RISK ACCEPTED | G62: 0 | H62: =IF(GLOBAL_DATA_01[[#This Row],[Target status]]<>"FULL IMPLEMENTATION", "<required>"," -") -> <required> | I62: NO PROJECT | J62: 0 | N62: SG ABS
A63: AFMO | B63: Maroc | C63: EQDOM | D63: DTP_ANO_02 | E63: P2 | F63: =IF(GLOBAL_DATA_01[[#This Row],[Target scope]]="","",INDEX(DATA_TargetStatusChoice[Target_Status_Choice],MATCH(GLOBAL_DATA_01[[#This Row],[Target scope]],DATA_TargetStatusChoice[Value],1))) -> NOT APPLICABLE | G63: - | H63: =IF(GLOBAL_DATA_01[[#This Row],[Target status]]<>"FULL IMPLEMENTATION", "<required>"," -") -> <required> | I63: NO PROJECT | J63: 0 | N63: NC
A64: AFMO | B64: Maroc | C64: EQDOM | D64: DTP_BDT_01 | E64: P1 | F64: =IF(GLOBAL_DATA_01[[#This Row],[Target scope]]="","",INDEX(DATA_TargetStatusChoice[Target_Status_Choice],MATCH(GLOBAL_DATA_01[[#This Row],[Target scope]],DATA_TargetStatusChoice[Value],1))) -> PARTIAL IMPLEMENTATION + RA | G64: 0.8 | H64: =IF(GLOBAL_DATA_01[[#This Row],[Target status]]<>"FULL IMPLEMENTATION", "<required>"," -") -> <required> | I64: DONE | J64: 1 | N64: NC | Q64: 43991
A65: AFMO | B65: Maroc | C65: EQDOM | D65: DTP_BDT_02 | E65: P1 | F65: =IF(GLOBAL_DATA_01[[#This Row],[Target scope]]="","",INDEX(DATA_TargetStatusChoice[Target_Status_Choice],MATCH(GLOBAL_DATA_01[[#This Row],[Target scope]],DATA_TargetStatusChoice[Value],1))) -> NOT APPLICABLE | G65: - | H65: =IF(GLOBAL_DATA_01[[#This Row],[Target status]]<>"FULL IMPLEMENTATION", "<required>"," -") -> <required> | I65: DONE | J65: 1 | N65: NC | Q65: 43991
A66: AFMO | B66: Maroc | C66: EQDOM | D66: DTP_BDT_03 | E66: P1 | F66: =IF(GLOBAL_DATA_01[[#This Row],[Target scope]]="","",INDEX(DATA_TargetStatusChoice[Target_Status_Choice],MATCH(GLOBAL_DATA_01[[#This Row],[Target scope]],DATA_TargetStatusChoice[Value],1))) -> PARTIAL IMPLEMENTATION + RA | G66: 0.8 | H66: =IF(GLOBAL_DATA_01[[#This Row],[Target status]]<>"FULL IMPLEMENTATION", "<required>"," -") -> <required> | I66: DONE | J66: 1 | N66: NC | Q66: 44356
A67: AFMO | B67: Maroc | C67: EQDOM | D67: DTP_BDT_04 | E67: P1 | F67: =IF(GLOBAL_DATA_01[[#This Row],[Target scope]]="","",INDEX(DATA_TargetStatusChoice[Target_Status_Choice],MATCH(GLOBAL_DATA_01[[#This Row],[Target scope]],DATA_TargetStatusChoice[Value],1))) -> FULL IMPLEMENTATION | G67: 1 | H67: =IF(GLOBAL_DATA_01[[#This Row],[Target status]]<>"FULL IMPLEMENTATION", "<required>"," -") -> - | I67: CHECKED CISO | J67: 1 | N67: NC | Q67: 44356
A68: AFMO | B68: Maroc | C68: EQDOM | D68: DTP_BDT_05 | E68: P1 | F68: =IF(GLOBAL_DATA_01[[#This Row],[Target scope]]="","",INDEX(DATA_TargetStatusChoice[Target_Status_Choice],MATCH(GLOBAL_DATA_01[[#This Row],[Target scope]],DATA_TargetStatusChoice[Value],1))) -> NOT APPLICABLE | G68: - | H68: =IF(GLOBAL_DATA_01[[#This Row],[Target status]]<>"FULL IMPLEMENTATION", "<required>"," -") -> <required> | I68: CHECKED CISO | J68: 1 | N68: NC
A69: AFMO | B69: Maroc | C69: EQDOM | D69: DTP_BDT_06 | E69: P1 | F69: =IF(GLOBAL_DATA_01[[#This Row],[Target scope]]="","",INDEX(DATA_TargetStatusChoice[Target_Status_Choice],MATCH(GLOBAL_DATA_01[[#This Row],[Target scope]],DATA_TargetStatusChoice[Value],1))) -> PARTIAL IMPLEMENTATION + RA | G69: 0.6 | H69: =IF(GLOBAL_DATA_01[[#This Row],[Target status]]<>"FULL IMPLEMENTATION", "<required>"," -") -> <required> | I69: CHECKED CISO | J69: 1 | N69: NC | Q69: 44356
A70: AFMO | B70: Maroc | C70: EQDOM | D70: DTP_DCT_01 | E70: P0 | F70: =IF(GLOBAL_DATA_01[[#This Row],[Target scope]]="","",INDEX(DATA_TargetStatusChoice[Target_Status_Choice],MATCH(GLOBAL_DATA_01[[#This Row],[Target scope]],DATA_TargetStatusChoice[Value],1))) -> FULL IMPLEMENTATION | G70: 1 | H70: =IF(GLOBAL_DATA_01[[#This Row],[Target status]]<>"FULL IMPLEMENTATION", "<required>"," -") -> - | I70: VERIFIED | J70: 1 | N70: Local | Q70: 44356
A71: AFMO | B71: Maroc | C71: EQDOM | D71: DTP_DCT_02 | E71: P2 | F71: =IF(GLOBAL_DATA_01[[#This Row],[Target scope]]="","",INDEX(DATA_TargetStatusChoice[Target_Status_Choice],MATCH(GLOBAL_DATA_01[[#This Row],[Target scope]],DATA_TargetStatusChoice[Value],1))) -> RISK ACCEPTED | G71: 0 | H71: =IF(GLOBAL_DATA_01[[#This Row],[Target status]]<>"FULL IMPLEMENTATION", "<required>"," -") -> <required> | I71: NO PROJECT | J71: 0 | N71: NC
A72: AFMO | B72: Maroc | C72: EQDOM | D72: DTP_DCT_03 | E72: P0 | F72: =IF(GLOBAL_DATA_01[[#This Row],[Target scope]]="","",INDEX(DATA_TargetStatusChoice[Target_Status_Choice],MATCH(GLOBAL_DATA_01[[#This Row],[Target scope]],DATA_TargetStatusChoice[Value],1))) -> NOT APPLICABLE | G72: - | H72: =IF(GLOBAL_DATA_01[[#This Row],[Target status]]<>"FULL IMPLEMENTATION", "<required>"," -") -> <required> | I72: NO PROJECT | J72: 0 | N72: Hub SSI
A73: AFMO | B73: Maroc | C73: EQDOM | D73: DTP_DCT_04 | E73: P2 | F73: =IF(GLOBAL_DATA_01[[#This Row],[Target scope]]="","",INDEX(DATA_TargetStatusChoice[Target_Status_Choice],MATCH(GLOBAL_DATA_01[[#This Row],[Target scope]],DATA_TargetStatusChoice[Value],1))) -> PARTIAL IMPLEMENTATION + RA | G73: 0.8 | H73: =IF(GLOBAL_DATA_01[[#This Row],[Target status]]<>"FULL IMPLEMENTATION", "<required>"," -") -> <required> | I73: TO BE STARTED | J73: 0 | N73: NC | Q73: 44356
A74: AFMO | B74: Maroc | C74: EQDOM | D74: DTP_DCL_01 | E74: P0 | F74: =IF(GLOBAL_DATA_01[[#This Row],[Target scope]]="","",INDEX(DATA_TargetStatusChoice[Target_Status_Choice],MATCH(GLOBAL_DATA_01[[#This Row],[Target scope]],DATA_TargetStatusChoice[Value],1))) -> PARTIAL IMPLEMENTATION + RA | G74: 0.6 | H74: =IF(GLOBAL_DATA_01[[#This Row],[Target status]]<>"FULL IMPLEMENTATION", "<required>"," -") -> <required> | I74: TO BE STARTED | J74: 0 | N74: Local | Q74: 44721
A75: AFMO | B75: Maroc | C75: EQDOM | D75: DTP_DCL_02 | E75: P1 | F75: =IF(GLOBAL_DATA_01[[#This Row],[Target scope]]="","",INDEX(DATA_TargetStatusChoice[Target_Status_Choice],MATCH(GLOBAL_DATA_01[[#This Row],[Target scope]],DATA_TargetStatusChoice[Value],1))) -> PARTIAL IMPLEMENTATION + RA | G75: 0.8 | H75: =IF(GLOBAL_DATA_01[[#This Row],[Target status]]<>"FULL IMPLEMENTATION", "<required>"," -") -> <required> | I75: TO BE STARTED | J75: 0 | N75: SG ABS | Q75: 44721
A76: AFMO | B76: Maroc | C76: EQDOM | D76: DTP_DLK_01 | E76: P2 | F76: =IF(GLOBAL_DATA_01[[#This Row],[Target scope]]="","",INDEX(DATA_TargetStatusChoice[Target_Status_Choice],MATCH(GLOBAL_DATA_01[[#This Row],[Target scope]],DATA_TargetStatusChoice[Value],1))) -> FULL IMPLEMENTATION | G76: 1 | H76: =IF(GLOBAL_DATA_01[[#This Row],[Target status]]<>"FULL IMPLEMENTATION", "<required>"," -") -> - | I76: TO BE STARTED | J76: 0 | N76: NC | Q76: 44721
A77: AFMO | B77: Maroc | C77: EQDOM | D77: DTP_DLK_02 | E77: P0 | F77: =IF(GLOBAL_DATA_01[[#This Row],[Target scope]]="","",INDEX(DATA_TargetStatusChoice[Target_Status_Choice],MATCH(GLOBAL_DATA_01[[#This Row],[Target scope]],DATA_TargetStatusChoice[Value],1))) -> NOT APPLICABLE | G77: - | H77: =IF(GLOBAL_DATA_01[[#This Row],[Target status]]<>"FULL IMPLEMENTATION", "<required>"," -") -> <required> | I77: NO PROJECT | J77: 0 | N77: Local
A78: AFMO | B78: Maroc | C78: EQDOM | D78: DTP_DLK_03 | E78: P0 | F78: =IF(GLOBAL_DATA_01[[#This Row],[Target scope]]="","",INDEX(DATA_TargetStatusChoice[Target_Status_Choice],MATCH(GLOBAL_DATA_01[[#This Row],[Target scope]],DATA_TargetStatusChoice[Value],1))) -> PARTIAL IMPLEMENTATION + RA | G78: 0.6 | H78: =IF(GLOBAL_DATA_01[[#This Row],[Target status]]<>"FULL IMPLEMENTATION", "<required>"," -") -> <required> | I78: IN PROGRESS | J78: 0.6 | N78: Local | Q78: 44721
A79: AFMO | B79: Maroc | C79: EQDOM | D79: DTP_DLK_04 | E79: P0 | F79: =IF(GLOBAL_DATA_01[[#This Row],[Target scope]]="","",INDEX(DATA_TargetStatusChoice[Target_Status_Choice],MATCH(GLOBAL_DATA_01[[#This Row],[Target scope]],DATA_TargetStatusChoice[Value],1))) -> FULL IMPLEMENTATION | G79: 1 | H79: =IF(GLOBAL_DATA_01[[#This Row],[Target status]]<>"FULL IMPLEMENTATION", "<required>"," -") -> - | I79: IN PROGRESS | J79: 0.6 | N79: Local | Q79: 44721
A80: AFMO | B80: Maroc | C80: EQDOM | D80: DTP_DLK_05 | E80: P0 | F80: =IF(GLOBAL_DATA_01[[#This Row],[Target scope]]="","",INDEX(DATA_TargetStatusChoice[Target_Status_Choice],MATCH(GLOBAL_DATA_01[[#This Row],[Target scope]],DATA_TargetStatusChoice[Value],1))) -> PARTIAL IMPLEMENTATION + RA | G80: 0.8 | H80: =IF(GLOBAL_DATA_01[[#This Row],[Target status]]<>"FULL IMPLEMENTATION", "<required>"," -") -> <required> | I80: IN PROGRESS | J80: 0.6 | N80: Hub SSI | Q80: 44721
A81: AFMO | B81: Maroc | C81: EQDOM | D81: DTP_DLK_06 | E81: P1 | F81: =IF(GLOBAL_DATA_01[[#This Row],[Target scope]]="","",INDEX(DATA_TargetStatusChoice[Target_Status_Choice],MATCH(GLOBAL_DATA_01[[#This Row],[Target scope]],DATA_TargetStatusChoice[Value],1))) -> FULL IMPLEMENTATION | G81: 1 | H81: =IF(GLOBAL_DATA_01[[#This Row],[Target status]]<>"FULL IMPLEMENTATION", "<required>"," -") -> - | I81: IN PROGRESS | J81: 0.6 | N81: NC | Q81: 44721
A82: AFMO | B82: Maroc | C82: EQDOM | D82: DTP_DLK_07 | E82: P3 | F82: =IF(GLOBAL_DATA_01[[#This Row],[Target scope]]="","",INDEX(DATA_TargetStatusChoice[Target_Status_Choice],MATCH(GLOBAL_DATA_01[[#This Row],[Target scope]],DATA_TargetStatusChoice[Value],1))) -> NOT APPLICABLE | G82: - | H82: =IF(GLOBAL_DATA_01[[#This Row],[Target status]]<>"FULL IMPLEMENTATION", "<required>"," -") -> <required> | I82: NO PROJECT | J82: 0 | N82: NC
A83: AFMO | B83: Maroc | C83: EQDOM | D83: DTP_ENC_01 | E83: P2 | F83: =IF(GLOBAL_DATA_01[[#This Row],[Target scope]]="","",INDEX(DATA_TargetStatusChoice[Target_Status_Choice],MATCH(GLOBAL_DATA_01[[#This Row],[Target scope]],DATA_TargetStatusChoice[Value],1))) -> PARTIAL IMPLEMENTATION + RA | G83: 0.6 | H83: =IF(GLOBAL_DATA_01[[#This Row],[Target status]]<>"FULL IMPLEMENTATION", "<required>"," -") -> <required> | I83: CHECKED CISO | J83: 1 | N83: NC | Q83: 44721
A84: AFMO | B84: Maroc | C84: EQDOM | D84: DTP_ENC_02 | E84: P0 | F84: =IF(GLOBAL_DATA_01[[#This Row],[Target scope]]="","",INDEX(DATA_TargetStatusChoice[Target_Status_Choice],MATCH(GLOBAL_DATA_01[[#This Row],[Target scope]],DATA_TargetStatusChoice[Value],1))) -> FULL IMPLEMENTATION | G84: 1 | H84: =IF(GLOBAL_DATA_01[[#This Row],[Target status]]<>"FULL IMPLEMENTATION", "<required>"," -") -> - | I84: CHECKED CISO | J84: 1 | N84: SG ABS | Q84: 44721
A85: AFMO | B85: Maroc | C85: EQDOM | D85: DTP_ENC_03 | E85: P0 | F85: =IF(GLOBAL_DATA_01[[#This Row],[Target scope]]="","",INDEX(DATA_TargetStatusChoice[Target_Status_Choice],MATCH(GLOBAL_DATA_01[[#This Row],[Target scope]],DATA_TargetStatusChoice[Value],1))) -> FULL IMPLEMENTATION | G85: 1 | H85: =IF(GLOBAL_DATA_01[[#This Row],[Target status]]<>"FULL IMPLEMENTATION", "<required>"," -") -> - | I85: CHECKED CISO | J85: 1 | N85: Local | Q85: 44721
A86: AFMO | B86: Maroc | C86: EQDOM | D86: DTP_ENC_04 | E86: P0 | F86: =IF(GLOBAL_DATA_01[[#This Row],[Target scope]]="","",INDEX(DATA_TargetStatusChoice[Target_Status_Choice],MATCH(GLOBAL_DATA_01[[#This Row],[Target scope]],DATA_TargetStatusChoice[Value],1))) -> PARTIAL IMPLEMENTATION + RA | G86: 0.8 | H86: =IF(GLOBAL_DATA_01[[#This Row],[Target status]]<>"FULL IMPLEMENTATION", "<required>"," -") -> <required> | I86: CHECKED CISO | J86: 1 | N86: Local | Q86: 44721
A87: AFMO | B87: Maroc | C87: EQDOM | D87: DTP_ENC_05 | E87: P0 | F87: =IF(GLOBAL_DATA_01[[#This Row],[Target scope]]="","",INDEX(DATA_TargetStatusChoice[Target_Status_Choice],MATCH(GLOBAL_DATA_01[[#This Row],[Target scope]],DATA_TargetStatusChoice[Value],1))) -> FULL IMPLEMENTATION | G87: 1 | H87: =IF(GLOBAL_DATA_01[[#This Row],[Target status]]<>"FULL IMPLEMENTATION", "<required>"," -") -> - | I87: CHECKED CISO | J87: 1 | N87: SG ABS | Q87: 44721
A88: AFMO | B88: Maroc | C88: EQDOM | D88: DTP_ENC_06 | E88: P0 | F88: =IF(GLOBAL_DATA_01[[#This Row],[Target scope]]="","",INDEX(DATA_TargetStatusChoice[Target_Status_Choice],MATCH(GLOBAL_DATA_01[[#This Row],[Target scope]],DATA_TargetStatusChoice[Value],1))) -> NOT APPLICABLE | G88: - | H88: =IF(GLOBAL_DATA_01[[#This Row],[Target status]]<>"FULL IMPLEMENTATION", "<required>"," -") -> <required> | I88: NO PROJECT | J88: 0 | N88: Local
A89: AFMO | B89: Maroc | C89: EQDOM | D89: DTP_ENC_07 | E89: P0 | F89: =IF(GLOBAL_DATA_01[[#This Row],[Target scope]]="","",INDEX(DATA_TargetStatusChoice[Target_Status_Choice],MATCH(GLOBAL_DATA_01[[#This Row],[Target scope]],DATA_TargetStatusChoice[Value],1))) -> PARTIAL IMPLEMENTATION + RA | G89: 0.6 | H89: =IF(GLOBAL_DATA_01[[#This Row],[Target status]]<>"FULL IMPLEMENTATION", "<required>"," -") -> <required> | I89: CHECKED CISO | J89: 1 | N89: Local | Q89: 44721
A90: AFMO | B90: Maroc | C90: EQDOM | D90: DTP_MON_01 | E90: P1 | F90: =IF(GLOBAL_DATA_01[[#This Row],[Target scope]]="","",INDEX(DATA_TargetStatusChoice[Target_Status_Choice],MATCH(GLOBAL_DATA_01[[#This Row],[Target scope]],DATA_TargetStatusChoice[Value],1))) -> FULL IMPLEMENTATION | G90: 1 | H90: =IF(GLOBAL_DATA_01[[#This Row],[Target status]]<>"FULL IMPLEMENTATION", "<required>"," -") -> - | I90: TO BE STARTED | J90: 0 | N90: NC | Q90: 44721
A91: AFMO | B91: Maroc | C91: EQDOM | D91: DTP_MON_02 | E91: P0 | F91: =IF(GLOBAL_DATA_01[[#This Row],[Target scope]]="","",INDEX(DATA_TargetStatusChoice[Target_Status_Choice],MATCH(GLOBAL_DATA_01[[#This Row],[Target scope]],DATA_TargetStatusChoice[Value],1))) -> FULL IMPLEMENTATION | G91: 1 | H91: =IF(GLOBAL_DATA_01[[#This Row],[Target status]]<>"FULL IMPLEMENTATION", "<required>"," -") -> - | I91: IN PROGRESS | J91: 0.4 | N91: SG ABS | Q91: 44721
A92: AFMO | B92: Maroc | C92: EQDOM | D92: IFP_DET_01 | E92: P0 | F92: =IF(GLOBAL_DATA_01[[#This Row],[Target scope]]="","",INDEX(DATA_TargetStatusChoice[Target_Status_Choice],MATCH(GLOBAL_DATA_01[[#This Row],[Target scope]],DATA_TargetStatusChoice[Value],1))) -> RISK ACCEPTED | G92: 0 | H92: =IF(GLOBAL_DATA_01[[#This Row],[Target status]]<>"FULL IMPLEMENTATION", "<required>"," -") -> <required> | I92: NO PROJECT | J92: 0 | N92: Hub SSI
A93: AFMO | B93: Maroc | C93: EQDOM | D93: IFP_DET_02 | E93: P2 | F93: =IF(GLOBAL_DATA_01[[#This Row],[Target scope]]="","",INDEX(DATA_TargetStatusChoice[Target_Status_Choice],MATCH(GLOBAL_DATA_01[[#This Row],[Target scope]],DATA_TargetStatusChoice[Value],1))) -> FULL IMPLEMENTATION | G93: 1 | H93: =IF(GLOBAL_DATA_01[[#This Row],[Target status]]<>"FULL IMPLEMENTATION", "<required>"," -") -> - | I93: TO BE STARTED | J93: 0 | N93: NC | Q93: 43991
A94: AFMO | B94: Maroc | C94: EQDOM | D94: IFP_DET_03 | E94: P0 | F94: =IF(GLOBAL_DATA_01[[#This Row],[Target scope]]="","",INDEX(DATA_TargetStatusChoice[Target_Status_Choice],MATCH(GLOBAL_DATA_01[[#This Row],[Target scope]],DATA_TargetStatusChoice[Value],1))) -> PARTIAL IMPLEMENTATION + RA | G94: 0.8 | H94: =IF(GLOBAL_DATA_01[[#This Row],[Target status]]<>"FULL IMPLEMENTATION", "<required>"," -") -> <required> | I94: DONE | J94: 1 | N94: Hub SSI | Q94: 43991
A95: AFMO | B95: Maroc | C95: EQDOM | D95: IFP_DET_04 | E95: P0 | F95: =IF(GLOBAL_DATA_01[[#This Row],[Target scope]]="","",INDEX(DATA_TargetStatusChoice[Target_Status_Choice],MATCH(GLOBAL_DATA_01[[#This Row],[Target scope]],DATA_TargetStatusChoice[Value],1))) -> PARTIAL IMPLEMENTATION + RA | G95: 0.8 | H95: =IF(GLOBAL_DATA_01[[#This Row],[Target status]]<>"FULL IMPLEMENTATION", "<required>"," -") -> <required> | I95: CHECKED CISO | J95: 1 | N95: Hub SSI | Q95: 44356
A96: AFMO | B96: Maroc | C96: EQDOM | D96: IFP_GOV_01 | E96: P0 | F96: =IF(GLOBAL_DATA_01[[#This Row],[Target scope]]="","",INDEX(DATA_TargetStatusChoice[Target_Status_Choice],MATCH(GLOBAL_DATA_01[[#This Row],[Target scope]],DATA_TargetStatusChoice[Value],1))) -> PARTIAL IMPLEMENTATION + RA | G96: 0.6 | H96: =IF(GLOBAL_DATA_01[[#This Row],[Target status]]<>"FULL IMPLEMENTATION", "<required>"," -") -> <required> | I96: IN PROGRESS | J96: 0.8 | N96: Hub SSI | Q96: 44356
A97: AFMO | B97: Maroc | C97: EQDOM | D97: IFP_GOV_02 | E97: P0 | F97: =IF(GLOBAL_DATA_01[[#This Row],[Target scope]]="","",INDEX(DATA_TargetStatusChoice[Target_Status_Choice],MATCH(GLOBAL_DATA_01[[#This Row],[Target scope]],DATA_TargetStatusChoice[Value],1))) -> PARTIAL IMPLEMENTATION + RA | G97: 0.6 | H97: =IF(GLOBAL_DATA_01[[#This Row],[Target status]]<>"FULL IMPLEMENTATION", "<required>"," -") -> <required> | I97: TO BE STARTED | J97: 0 | N97: Hub SSI | Q97: 44356
A98: AFMO | B98: Maroc | C98: EQDOM | D98: IFP_GOV_03 | E98: P0 | F98: =IF(GLOBAL_DATA_01[[#This Row],[Target scope]]="","",INDEX(DATA_TargetStatusChoice[Target_Status_Choice],MATCH(GLOBAL_DATA_01[[#This Row],[Target scope]],DATA_TargetStatusChoice[Value],1))) -> PARTIAL IMPLEMENTATION + RA | G98: 0.6 | H98: =IF(GLOBAL_DATA_01[[#This Row],[Target status]]<>"FULL IMPLEMENTATION", "<required>"," -") -> <required> | I98: IN PROGRESS | J98: 0.4 | N98: Hub SSI | Q98: 44721
A99: AFMO | B99: Maroc | C99: EQDOM | D99: IFP_PRV_01 | E99: P0 | F99: =IF(GLOBAL_DATA_01[[#This Row],[Target scope]]="","",INDEX(DATA_TargetStatusChoice[Target_Status_Choice],MATCH(GLOBAL_DATA_01[[#This Row],[Target scope]],DATA_TargetStatusChoice[Value],1))) -> FULL IMPLEMENTATION | G99: 1 | H99: =IF(GLOBAL_DATA_01[[#This Row],[Target status]]<>"FULL IMPLEMENTATION", "<required>"," -") -> - | I99: IN PROGRESS | J99: 0.3 | N99: Hub SSI | Q99: 44356

Sheet REPORTING_DECEMBRE
A1: BU | B1: Region | C1: Entity | D1: Measure ID | E1: Priority | F1: Target status | G1: Target scope | H1: Target justification (if<100%) | I1: Status | J1: Implementation progress rate | K1: CISO assessment | L1: CISO Comments | M1: Resource allocated | N1: Main actor | O1: Kick-off | P1: Initial end | Q1: Re-estimated end | R1: <Local use 1> | S1: <Local use 2>
A2: AFMO | B2: Maroc | C2: EQDOM | D2: OPS_ACM_01 | E2: P0 | F2: =IF(GLOBAL_DATA_02[[#This Row],[Target scope]]="","",INDEX(DATA_TargetStatusChoice[Target_Status_Choice],MATCH(GLOBAL_DATA_02[[#This Row],[Target scope]],DATA_TargetStatusChoice[Value],1))) -> PARTIAL IMPLEMENTATION + RA | G2: 0.4 | H2: BUDGET | I2: IN PROGRESS | J2: 0.2 | K2: Warning | L2: Ressources | M2: Not secured | O2: 43922 | P2: 43936 | Q2: 43946 | R2: CP : Ahmad
A3: AFMO | B3: Maroc | C3: EQDOM | D3: OPS_ACM_02 | E3: P1 | F3: =IF(GLOBAL_DATA_02[[#This Row],[Target scope]]="","",INDEX(DATA_TargetStatusChoice[Target_Status_Choice],MATCH(GLOBAL_DATA_02[[#This Row],[Target scope]],DATA_TargetStatusChoice[Value],1))) | H3: =IF(GLOBAL_DATA_02[[#This Row],[Target status]]<>"FULL IMPLEMENTATION", "<required>"," -") -> <required> | I3: DONE | J3: 1 | K3: No alert | M3: Not secured | N3: NC | Q3: 43943 | S3: CP : Ahmad
A4: AFMO | B4: Maroc | C4: EQDOM | D4: OPS_ACM_03 | E4: P0 | F4: =IF(GLOBAL_DATA_02[[#This Row],[Target scope]]="","",INDEX(DATA_TargetStatusChoice[Target_Status_Choice],MATCH(GLOBAL_DATA_02[[#This Row],[Target scope]],DATA_TargetStatusChoice[Value],1))) -> FULL IMPLEMENTATION | G4: 1 | H4: =IF(GLOBAL_DATA_02[[#This Row],[Target status]]<>"FULL IMPLEMENTATION", "<required>"," -") -> - | I4: VERIFIED | J4: 1 | K4: Alert | N4: Hub SSI | Q4: 43944
A5: AFMO | B5: Maroc | C5: EQDOM | D5: OPS_ACM_04 | E5: P0 | F5: =IF(GLOBAL_DATA_02[[#This Row],[Target scope]]="","",INDEX(DATA_TargetStatusChoice[Target_Status_Choice],MATCH(GLOBAL_DATA_02[[#This Row],[Target scope]],DATA_TargetStatusChoice[Value],1))) -> FULL IMPLEMENTATION | G5: 1 | H5: =IF(GLOBAL_DATA_02[[#This Row],[Target status]]<>"FULL IMPLEMENTATION", "<required>"," -") -> - | I5: TO BE STARTED | J5: 0 | K5: Alert | L5: 20% déjà réalisés avant début du projet donc to be started est cohérent | N5: Hub SSI | Q5: 43945
A6: AFMO | B6: Maroc | C6: EQDOM | D6: OPS_ACM_05 | E6: P0 | F6: =IF(GLOBAL_DATA_02[[#This Row],[Target scope]]="","",INDEX(DATA_TargetStatusChoice[Target_Status_Choice],MATCH(GLOBAL_DATA_02[[#This Row],[Target scope]],DATA_TargetStatusChoice[Value],1))) -> FULL IMPLEMENTATION | G6: 1 | H6: =IF(GLOBAL_DATA_02[[#This Row],[Target status]]<>"FULL IMPLEMENTATION", "<required>"," -") -> - | I6: DONE | J6: 1 | K6: No alert | L6: Double checked of proof done | M6: Secured | N6: Local | Q6: 43946
A7: AFMO | B7: Maroc | C7: EQDOM | D7: OPS_ACM_06 | E7: P0 | F7: =IF(GLOBAL_DATA_02[[#This Row],[Target scope]]="","",INDEX(DATA_TargetStatusChoice[Target_Status_Choice],MATCH(GLOBAL_DATA_02[[#This Row],[Target scope]],DATA_TargetStatusChoice[Value],1))) -> NOT APPLICABLE | G7: - | H7: =IF(GLOBAL_DATA_02[[#This Row],[Target status]]<>"FULL IMPLEMENTATION", "<required>"," -") -> <required> | I7: TO BE STARTED | J7: 0 | K7: Warning | L7: Pas de projet donc pas de suivi | N7: Local | Q7: 43946
A8: AFMO | B8: Maroc | C8: EQDOM | D8: OPS_EYS_01 | E8: P1 | F8: =IF(GLOBAL_DATA_02[[#This Row],[Target scope]]="","",INDEX(DATA_TargetStatusChoice[Target_Status_Choice],MATCH(GLOBAL_DATA_02[[#This Row],[Target scope]],DATA_TargetStatusChoice[Value],1))) -> PARTIAL IMPLEMENTATION + RA | G8: 0.8 | H8: =IF(GLOBAL_DATA_02[[#This Row],[Target status]]<>"FULL IMPLEMENTATION", "<required>"," -") -> <required> | I8: IN PROGRESS | J8: 0.8 | L8: Pas de projet donc pas de suivi | N8: NC | Q8: 43948
A9: AFMO | B9: Maroc | C9: EQDOM | D9: OPS_IMN_01 | E9: P2 | F9: =IF(GLOBAL_DATA_02[[#This Row],[Target scope]]="","",INDEX(DATA_TargetStatusChoice[Target_Status_Choice],MATCH(GLOBAL_DATA_02[[#This Row],[Target scope]],DATA_TargetStatusChoice[Value],1))) -> PARTIAL IMPLEMENTATION + RA | G9: 0.2 | H9: =IF(GLOBAL_DATA_02[[#This Row],[Target status]]<>"FULL IMPLEMENTATION", "<required>"," -") -> <required> | I9: IN PROGRESS | J9: 0 | N9: NC | Q9: 43948
A10: AFMO | B10: Maroc | C10: EQDOM | D10: OPS_IMN_02 | E10: P1 | F10: =IF(GLOBAL_DATA_02[[#This Row],[Target scope]]="","",INDEX(DATA_TargetStatusChoice[Target_Status_Choice],MATCH(GLOBAL_DATA_02[[#This Row],[Target scope]],DATA_TargetStatusChoice[Value],1))) -> PARTIAL IMPLEMENTATION + RA | G10: 0.8 | H10: =IF(GLOBAL_DATA_02[[#This Row],[Target status]]<>"FULL IMPLEMENTATION", "<required>"," -") -> <required> | I10: DONE | J10: 1 | N10: NC | Q10: 43950
A11: AFMO | B11: Maroc | C11: EQDOM | D11: OPS_IMN_03 | E11: P1 | F11: =IF(GLOBAL_DATA_02[[#This Row],[Target scope]]="","",INDEX(DATA_TargetStatusChoice[Target_Status_Choice],MATCH(GLOBAL_DATA_02[[#This Row],[Target scope]],DATA_TargetStatusChoice[Value],1))) -> PARTIAL IMPLEMENTATION + RA | G11: 0.8 | H11: =IF(GLOBAL_DATA_02[[#This Row],[Target status]]<>"FULL IMPLEMENTATION", "<required>"," -") -> <required> | I11: CHECKED CISO | J11: 1 | N11: NC | Q11: 43951
A12: AFMO | B12: Maroc | C12: EQDOM | D12: OPS_KYI_01 | E12: P0 | F12: =IF(GLOBAL_DATA_02[[#This Row],[Target scope]]="","",INDEX(DATA_TargetStatusChoice[Target_Status_Choice],MATCH(GLOBAL_DATA_02[[#This Row],[Target scope]],DATA_TargetStatusChoice[Value],1))) -> FULL IMPLEMENTATION | G12: 1 | H12: =IF(GLOBAL_DATA_02[[#This Row],[Target status]]<>"FULL IMPLEMENTATION", "<required>"," -") -> - | I12: IN PROGRESS | J12: 0.5 | K12: No alert | N12: Local
A13: AFMO | B13: Maroc | C13: EQDOM | D13: OPS_KYI_02 | E13: P0 | F13: =IF(GLOBAL_DATA_02[[#This Row],[Target scope]]="","",INDEX(DATA_TargetStatusChoice[Target_Status_Choice],MATCH(GLOBAL_DATA_02[[#This Row],[Target scope]],DATA_TargetStatusChoice[Value],1))) -> FULL IMPLEMENTATION | G13: 1 | H13: =IF(GLOBAL_DATA_02[[#This Row],[Target status]]<>"FULL IMPLEMENTATION", "<required>"," -") -> - | I13: DONE | J13: 1 | N13: Local | Q13: 44317
A14: AFMO | B14: Maroc | C14: EQDOM | D14: OPS_KYI_03 | E14: P2 | F14: =IF(GLOBAL_DATA_02[[#This Row],[Target scope]]="","",INDEX(DATA_TargetStatusChoice[Target_Status_Choice],MATCH(GLOBAL_DATA_02[[#This Row],[Target scope]],DATA_TargetStatusChoice[Value],1))) -> RISK ACCEPTED | G14: 0 | H14: =IF(GLOBAL_DATA_02[[#This Row],[Target status]]<>"FULL IMPLEMENTATION", "<required>"," -") -> <required> | I14: NO PROJECT | J14: 0 | N14: NC
A15: AFMO | B15: Maroc | C15: EQDOM | D15: OPS_KYI_04 | E15: P0 | F15: =IF(GLOBAL_DATA_02[[#This Row],[Target scope]]="","",INDEX(DATA_TargetStatusChoice[Target_Status_Choice],MATCH(GLOBAL_DATA_02[[#This Row],[Target scope]],DATA_TargetStatusChoice[Value],1))) -> NOT APPLICABLE | G15: - | H15: =IF(GLOBAL_DATA_02[[#This Row],[Target status]]<>"FULL IMPLEMENTATION", "<required>"," -") -> <required> | I15: NO PROJECT | J15: 0 | N15: Local
A16: AFMO | B16: Maroc | C16: EQDOM | D16: OPS_KYI_05 | E16: P0 | F16: =IF(GLOBAL_DATA_02[[#This Row],[Target scope]]="","",INDEX(DATA_TargetStatusChoice[Target_Status_Choice],MATCH(GLOBAL_DATA_02[[#This Row],[Target scope]],DATA_TargetStatusChoice[Value],1))) -> PARTIAL IMPLEMENTATION + RA | G16: 0.8 | H16: =IF(GLOBAL_DATA_02[[#This Row],[Target status]]<>"FULL IMPLEMENTATION", "<required>"," -") -> <required> | I16: VERIFIED | J16: 1 | N16: Hub SSI | Q16: 44317
A17: AFMO | B17: Maroc | C17: EQDOM | D17: OPS_KYI_06 | E17: P0 | F17: =IF(GLOBAL_DATA_02[[#This Row],[Target scope]]="","",INDEX(DATA_TargetStatusChoice[Target_Status_Choice],MATCH(GLOBAL_DATA_02[[#This Row],[Target scope]],DATA_TargetStatusChoice[Value],1))) -> PARTIAL IMPLEMENTATION + RA | G17: 0.8 | H17: =IF(GLOBAL_DATA_02[[#This Row],[Target status]]<>"FULL IMPLEMENTATION", "<required>"," -") -> <required> | I17: IN PROGRESS | J17: 0.8 | N17: Local | Q17: 44317
A18: AFMO | B18: Maroc | C18: EQDOM | D18: OPS_MIS_01 | E18: P0 | F18: =IF(GLOBAL_DATA_02[[#This Row],[Target scope]]="","",INDEX(DATA_TargetStatusChoice[Target_Status_Choice],MATCH(GLOBAL_DATA_02[[#This Row],[Target scope]],DATA_TargetStatusChoice[Value],1))) -> PARTIAL IMPLEMENTATION + RA | G18: 0.6 | H18: =IF(GLOBAL_DATA_02[[#This Row],[Target status]]<>"FULL IMPLEMENTATION", "<required>"," -") -> <required> | I18: TO BE STARTED | J18: 0 | N18: Local | Q18: 44317
A19: AFMO | B19: Maroc | C19: EQDOM | D19: OPS_MIS_02 | E19: P0 | F19: =IF(GLOBAL_DATA_02[[#This Row],[Target scope]]="","",INDEX(DATA_TargetStatusChoice[Target_Status_Choice],MATCH(GLOBAL_DATA_02[[#This Row],[Target scope]],DATA_TargetStatusChoice[Value],1))) -> FULL IMPLEMENTATION | G19: 1 | H19: =IF(GLOBAL_DATA_02[[#This Row],[Target status]]<>"FULL IMPLEMENTATION", "<required>"," -") -> - | I19: TO BE STARTED | J19: 0 | N19: SG ABS | Q19: 44317
A20: AFMO | B20: Maroc | C20: EQDOM | D20: OPS_MIS_03 | E20: P0 | F20: =IF(GLOBAL_DATA_02[[#This Row],[Target scope]]="","",INDEX(DATA_TargetStatusChoice[Target_Status_Choice],MATCH(GLOBAL_DATA_02[[#This Row],[Target scope]],DATA_TargetStatusChoice[Value],1))) -> PARTIAL IMPLEMENTATION + RA | G20: 0.6 | H20: =IF(GLOBAL_DATA_02[[#This Row],[Target status]]<>"FULL IMPLEMENTATION", "<required>"," -") -> <required> | I20: TO BE STARTED | J20: 0 | N20: SG ABS | Q20: 44317
A21: AFMO | B21: Maroc | C21: EQDOM | D21: OPS_MIS_04 | E21: P0 | F21: =IF(GLOBAL_DATA_02[[#This Row],[Target scope]]="","",INDEX(DATA_TargetStatusChoice[Target_Status_Choice],MATCH(GLOBAL_DATA_02[[#This Row],[Target scope]],DATA_TargetStatusChoice[Value],1))) -> PARTIAL IMPLEMENTATION + RA | G21: 0.6 | H21: =IF(GLOBAL_DATA_02[[#This Row],[Target status]]<>"FULL IMPLEMENTATION", "<required>"," -") -> <required> | I21: TO BE STARTED | J21: 0 | N21: Local | Q21: 44317
A22: AFMO | B22: Maroc | C22: EQDOM | D22: OPS_MIS_05 | E22: P0 | F22: =IF(GLOBAL_DATA_02[[#This Row],[Target scope]]="","",INDEX(DATA_TargetStatusChoice[Target_Status_Choice],MATCH(GLOBAL_DATA_02[[#This Row],[Target scope]],DATA_TargetStatusChoice[Value],1))) -> PARTIAL IMPLEMENTATION + RA | G22: 0.8 | H22: =IF(GLOBAL_DATA_02[[#This Row],[Target status]]<>"FULL IMPLEMENTATION", "<required>"," -") -> <required> | I22: TO BE STARTED | J22: 0 | N22: Local | Q22: 44317
A23: AFMO | B23: Maroc | C23: EQDOM | D23: OPS_MIS_06 | E23: P0 | F23: =IF(GLOBAL_DATA_02[[#This Row],[Target scope]]="","",INDEX(DATA_TargetStatusChoice[Target_Status_Choice],MATCH(GLOBAL_DATA_02[[#This Row],[Target scope]],DATA_TargetStatusChoice[Value],1))) -> FULL IMPLEMENTATION | G23: 1 | H23: =IF(GLOBAL_DATA_02[[#This Row],[Target status]]<>"FULL IMPLEMENTATION", "<required>"," -") -> - | I23: TO BE STARTED | J23: 0 | N23: Hub SSI | Q23: 44317
A24: AFMO | B24: Maroc | C24: EQDOM | D24: OPS_MIS_07 | E24: P0 | F24: =IF(GLOBAL_DATA_02[[#This Row],[Target scope]]="","",INDEX(DATA_TargetStatusChoice[Target_Status_Choice],MATCH(GLOBAL_DATA_02[[#This Row],[Target scope]],DATA_TargetStatusChoice[Value],1))) -> PARTIAL IMPLEMENTATION + RA | G24: 0.8 | H24: =IF(GLOBAL_DATA_02[[#This Row],[Target status]]<>"FULL IMPLEMENTATION", "<required>"," -") -> <required> | I24: CHECKED CISO | J24: 1 | N24: Local | Q24: 44317
A25: AFMO | B25: Maroc | C25: EQDOM | D25: OPS_MIS_08 | E25: P0 | F25: =IF(GLOBAL_DATA_02[[#This Row],[Target scope]]="","",INDEX(DATA_TargetStatusChoice[Target_Status_Choice],MATCH(GLOBAL_DATA_02[[#This Row],[Target scope]],DATA_TargetStatusChoice[Value],1))) -> FULL IMPLEMENTATION | G25: 1 | H25: =IF(GLOBAL_DATA_02[[#This Row],[Target status]]<>"FULL IMPLEMENTATION", "<required>"," -") -> - | I25: DONE | J25: 1 | N25: Hub SSI | Q25: 44317
A26: AFMO | B26: Maroc | C26: EQDOM | D26: OPS_MIS_09 | E26: P0 | F26: =IF(GLOBAL_DATA_02[[#This Row],[Target scope]]="","",INDEX(DATA_TargetStatusChoice[Target_Status_Choice],MATCH(GLOBAL_DATA_02[[#This Row],[Target scope]],DATA_TargetStatusChoice[Value],1))) -> FULL IMPLEMENTATION | G26: 1 | H26: =IF(GLOBAL_DATA_02[[#This Row],[Target status]]<>"FULL IMPLEMENTATION", "<required>"," -") -> - | I26: DONE | J26: 1 | N26: Local | Q26: 44317 | R26: CF : Mohammed | S26: CF : Mohammed
A27: AFMO | B27: Maroc | C27: EQDOM | D27: OPS_MON_01 | E27: P2 | F27: =IF(GLOBAL_DATA_02[[#This Row],[Target scope]]="","",INDEX(DATA_TargetStatusChoice[Target_Status_Choice],MATCH(GLOBAL_DATA_02[[#This Row],[Target scope]],DATA_TargetStatusChoice[Value],1))) -> FULL IMPLEMENTATION | G27: 1 | H27: =IF(GLOBAL_DATA_02[[#This Row],[Target status]]<>"FULL IMPLEMENTATION", "<required>"," -") -> - | I27: CHECKED CISO | J27: 1 | L27: Check done | M27: Secured | N27: NC | Q27: 44317
A28: AFMO | B28: Maroc | C28: EQDOM | D28: OPS_MON_02 | E28: P1 | F28: =IF(GLOBAL_DATA_02[[#This Row],[Target scope]]="","",INDEX(DATA_TargetStatusChoice[Target_Status_Choice],MATCH(GLOBAL_DATA_02[[#This Row],[Target scope]],DATA_TargetStatusChoice[Value],1))) -> PARTIAL IMPLEMENTATION + RA | G28: 0.8 | H28: =IF(GLOBAL_DATA_02[[#This Row],[Target status]]<>"FULL IMPLEMENTATION", "<required>"," -") -> <required> | I28: IN PROGRESS | J28: 0.8 | N28: NC | Q28: 44317
A29: AFMO | B29: Maroc | C29: EQDOM | D29: OPS_MON_03 | E29: P1 | F29: =IF(GLOBAL_DATA_02[[#This Row],[Target scope]]="","",INDEX(DATA_TargetStatusChoice[Target_Status_Choice],MATCH(GLOBAL_DATA_02[[#This Row],[Target scope]],DATA_TargetStatusChoice[Value],1))) -> PARTIAL IMPLEMENTATION + RA | G29: 0.8 | H29: =IF(GLOBAL_DATA_02[[#This Row],[Target status]]<>"FULL IMPLEMENTATION", "<required>"," -") -> <required> | I29: VERIFIED | J29: 1 | N29: NC | Q29: 44317
A30: AFMO | B30: Maroc | C30: EQDOM | D30: OPS_MON_04 | E30: P0 | F30: =IF(GLOBAL_DATA_02[[#This Row],[Target scope]]="","",INDEX(DATA_TargetStatusChoice[Target_Status_Choice],MATCH(GLOBAL_DATA_02[[#This Row],[Target scope]],DATA_TargetStatusChoice[Value],1))) -> FULL IMPLEMENTATION | G30: 1 | H30: =IF(GLOBAL_DATA_02[[#This Row],[Target status]]<>"FULL IMPLEMENTATION", "<required>"," -") -> - | I30: IN PROGRESS | J30: 0.8 | N30: SG ABS | Q30: 44317
A31: AFMO | B31: Maroc | C31: EQDOM | D31: OPS_MON_05 | E31: P2 | F31: =IF(GLOBAL_DATA_02[[#This Row],[Target scope]]="","",INDEX(DATA_TargetStatusChoice[Target_Status_Choice],MATCH(GLOBAL_DATA_02[[#This Row],[Target scope]],DATA_TargetStatusChoice[Value],1))) -> FULL IMPLEMENTATION | G31: 1 | H31: =IF(GLOBAL_DATA_02[[#This Row],[Target status]]<>"FULL IMPLEMENTATION", "<required>"," -") -> - | I31: DONE | J31: 1 | N31: NC | Q31: 44317
A32: AFMO | B32: Maroc | C32: EQDOM | D32: OPS_MON_06 | E32: P1 | F32: =IF(GLOBAL_DATA_02[[#This Row],[Target scope]]="","",INDEX(DATA_TargetStatusChoice[Target_Status_Choice],MATCH(GLOBAL_DATA_02[[#This Row],[Target scope]],DATA_TargetStatusChoice[Value],1))) -> PARTIAL IMPLEMENTATION + RA | G32: 0.8 | H32: =IF(GLOBAL_DATA_02[[#This Row],[Target status]]<>"FULL IMPLEMENTATION", "<required>"," -") -> <required> | I32: TO BE STARTED | J32: 0 | N32: NC | Q32: 44317
A33: AFMO | B33: Maroc | C33: EQDOM | D33: OPS_PAM_01 | E33: P0 | F33: =IF(GLOBAL_DATA_02[[#This Row],[Target scope]]="","",INDEX(DATA_TargetStatusChoice[Target_Status_Choice],MATCH(GLOBAL_DATA_02[[#This Row],[Target scope]],DATA_TargetStatusChoice[Value],1))) -> FULL IMPLEMENTATION | G33: 1 | H33: =IF(GLOBAL_DATA_02[[#This Row],[Target status]]<>"FULL IMPLEMENTATION", "<required>"," -") -> - | I33: TO BE STARTED | J33: 0 | N33: Hub SSI | Q33: 44317
A34: AFMO | B34: Maroc | C34: EQDOM | D34: OPS_PAM_02 | E34: P0 | F34: =IF(GLOBAL_DATA_02[[#This Row],[Target scope]]="","",INDEX(DATA_TargetStatusChoice[Target_Status_Choice],MATCH(GLOBAL_DATA_02[[#This Row],[Target scope]],DATA_TargetStatusChoice[Value],1))) -> FULL IMPLEMENTATION | G34: 1 | H34: =IF(GLOBAL_DATA_02[[#This Row],[Target status]]<>"FULL IMPLEMENTATION", "<required>"," -") -> - | I34: TO BE STARTED | J34: 0 | N34: Local | Q34: 44317
A35: AFMO | B35: Maroc | C35: EQDOM | D35: OPS_PAM_03 | E35: P0 | F35: =IF(GLOBAL_DATA_02[[#This Row],[Target scope]]="","",INDEX(DATA_TargetStatusChoice[Target_Status_Choice],MATCH(GLOBAL_DATA_02[[#This Row],[Target scope]],DATA_TargetStatusChoice[Value],1))) -> FULL IMPLEMENTATION | G35: 1 | H35: =IF(GLOBAL_DATA_02[[#This Row],[Target status]]<>"FULL IMPLEMENTATION", "<required>"," -") -> - | I35: TO BE STARTED | J35: 0 | N35: SG ABS | Q35: 44317
A36: AFMO | B36: Maroc | C36: EQDOM | D36: OPS_PAM_04 | E36: P0 | F36: =IF(GLOBAL_DATA_02[[#This Row],[Target scope]]="","",INDEX(DATA_TargetStatusChoice[Target_Status_Choice],MATCH(GLOBAL_DATA_02[[#This Row],[Target scope]],DATA_TargetStatusChoice[Value],1))) -> FULL IMPLEMENTATION | G36: 1 | H36: =IF(GLOBAL_DATA_02[[#This Row],[Target status]]<>"FULL IMPLEMENTATION", "<required>"," -") -> - | I36: TO BE STARTED | J36: 0 | N36: SG ABS | Q36: 44706
A37: AFMO | B37: Maroc | C37: EQDOM | D37: OPS_PAM_05 | E37: P0 | F37: =IF(GLOBAL_DATA_02[[#This Row],[Target scope]]="","",INDEX(DATA_TargetStatusChoice[Target_Status_Choice],MATCH(GLOBAL_DATA_02[[#This Row],[Target scope]],DATA_TargetStatusChoice[Value],1))) -> FULL IMPLEMENTATION | G37: 1 | H37: =IF(GLOBAL_DATA_02[[#This Row],[Target status]]<>"FULL IMPLEMENTATION", "<required>"," -") -> - | I37: CHECKED CISO | J37: 1 | N37: Local | Q37: 44706
A38: AFMO | B38: Maroc | C38: EQDOM | D38: OPS_PAM_06 | E38: P1 | F38: =IF(GLOBAL_DATA_02[[#This Row],[Target scope]]="","",INDEX(DATA_TargetStatusChoice[Target_Status_Choice],MATCH(GLOBAL_DATA_02[[#This Row],[Target scope]],DATA_TargetStatusChoice[Value],1))) -> PARTIAL IMPLEMENTATION + RA | G38: 0.8 | H38: =IF(GLOBAL_DATA_02[[#This Row],[Target status]]<>"FULL IMPLEMENTATION", "<required>"," -") -> <required> | I38: DONE | J38: 1 | N38: NC | Q38: 44706
A39: AFMO | B39: Maroc | C39: EQDOM | D39: OPS_PAM_07 | E39: P0 | F39: =IF(GLOBAL_DATA_02[[#This Row],[Target scope]]="","",INDEX(DATA_TargetStatusChoice[Target_Status_Choice],MATCH(GLOBAL_DATA_02[[#This Row],[Target scope]],DATA_TargetStatusChoice[Value],1))) -> FULL IMPLEMENTATION | G39: 1 | H39: =IF(GLOBAL_DATA_02[[#This Row],[Target status]]<>"FULL IMPLEMENTATION", "<required>"," -") -> - | I39: DONE | J39: 1 | N39: SG ABS | Q39: 44706
... A49: AFMO | B49: Maroc | C49: EQDOM | D49: OPS_SYI_07 | E49: P0 | F49: =IF(GLOBAL_DATA_02[[#This Row],[Target scope]]="","",INDEX(DATA_TargetStatusChoice[Target_Status_Choice],MATCH(GLOBAL_DATA_02[[#This Row],[Target scope]],DATA_TargetStatusChoice[Value],1))) -> FULL IMPLEMENTATION | G49: 1 | H49: =IF(GLOBAL_DATA_02[[#This Row],[Target status]]<>"FULL IMPLEMENTATION", "<required>"," -") -> - | I49: TO BE STARTED | J49: 0 | N49: SG ABS | Q49: 44706
A50: AFMO | B50: Maroc | C50: EQDOM | D50: OPS_SYI_08 | E50: P3 | F50: =IF(GLOBAL_DATA_02[[#This Row],[Target scope]]="","",INDEX(DATA_TargetStatusChoice[Target_Status_Choice],MATCH(GLOBAL_DATA_02[[#This Row],[Target scope]],DATA_TargetStatusChoice[Value],1))) -> RISK ACCEPTED | G50: 0 | H50: =IF(GLOBAL_DATA_02[[#This Row],[Target status]]<>"FULL IMPLEMENTATION", "<required>"," -") -> <required> | I50: NO PROJECT | J50: 0 | N50: NC
A51: AFMO | B51: Maroc | C51: EQDOM | D51: TAA_AWA_01 | E51: P0 | F51: =IF(GLOBAL_DATA_02[[#This Row],[Target scope]]="","",INDEX(DATA_TargetStatusChoice[Target_Status_Choice],MATCH(GLOBAL_DATA_02[[#This Row],[Target scope]],DATA_TargetStatusChoice[Value],1))) -> FULL IMPLEMENTATION | G51: 1 | H51: =IF(GLOBAL_DATA_02[[#This Row],[Target status]]<>"FULL IMPLEMENTATION", "<required>"," -") -> - | I51: DONE | J51: 1 | N51: Hub SSI | Q51: 44356
A52: AFMO | B52: Maroc | C52: EQDOM | D52: TAA_AWA_02 | E52: P0 | F52: =IF(GLOBAL_DATA_02[[#This Row],[Target scope]]="","",INDEX(DATA_TargetStatusChoice[Target_Status_Choice],MATCH(GLOBAL_DATA_02[[#This Row],[Target scope]],DATA_TargetStatusChoice[Value],1))) -> NOT APPLICABLE | G52: - | H52: =IF(GLOBAL_DATA_02[[#This Row],[Target status]]<>"FULL IMPLEMENTATION", "<required>"," -") -> <required> | I52: NO PROJECT | J52: 0 | N52: Hub SSI
A53: AFMO | B53: Maroc | C53: EQDOM | D53: TAA_AWA_03 | E53: P2 | F53: =IF(GLOBAL_DATA_02[[#This Row],[Target scope]]="","",INDEX(DATA_TargetStatusChoice[Target_Status_Choice],MATCH(GLOBAL_DATA_02[[#This Row],[Target scope]],DATA_TargetStatusChoice[Value],1))) -> FULL IMPLEMENTATION | G53: 1 | H53: =IF(GLOBAL_DATA_02[[#This Row],[Target status]]<>"FULL IMPLEMENTATION", "<required>"," -") -> - | I53: CHECKED CISO | J53: 1 | N53: NC | Q53: 44356
A54: AFMO | B54: Maroc | C54: EQDOM | D54: TAA_AWA_04 | E54: P0 | F54: =IF(GLOBAL_DATA_02[[#This Row],[Target scope]]="","",INDEX(DATA_TargetStatusChoice[Target_Status_Choice],MATCH(GLOBAL_DATA_02[[#This Row],[Target scope]],DATA_TargetStatusChoice[Value],1))) -> PARTIAL IMPLEMENTATION + RA | G54: 0.2 | H54: =IF(GLOBAL_DATA_02[[#This Row],[Target status]]<>"FULL IMPLEMENTATION", "<required>"," -") -> <required> | I54: IN PROGRESS | J54: 0.4 | N54: Local | Q54: 43991
A55: AFMO | B55: Maroc | C55: EQDOM | D55: TAA_AWA_05 | E55: P0 | F55: =IF(GLOBAL_DATA_02[[#This Row],[Target scope]]="","",INDEX(DATA_TargetStatusChoice[Target_Status_Choice],MATCH(GLOBAL_DATA_02[[#This Row],[Target scope]],DATA_TargetStatusChoice[Value],1))) -> NOT APPLICABLE | G55: - | H55: =IF(GLOBAL_DATA_02[[#This Row],[Target status]]<>"FULL IMPLEMENTATION", "<required>"," -") -> <required> | I55: VERIFIED | J55: 1 | N55: Hub SSI | Q55: 43991
A56: AFMO | B56: Maroc | C56: EQDOM | D56: TAA_CAW_01 | E56: P1 | F56: =IF(GLOBAL_DATA_02[[#This Row],[Target scope]]="","",INDEX(DATA_TargetStatusChoice[Target_Status_Choice],MATCH(GLOBAL_DATA_02[[#This Row],[Target scope]],DATA_TargetStatusChoice[Value],1))) -> PARTIAL IMPLEMENTATION + RA | G56: 0.8 | H56: =IF(GLOBAL_DATA_02[[#This Row],[Target status]]<>"FULL IMPLEMENTATION", "<required>"," -") -> <required> | I56: DONE | J56: 1 | N56: NC | Q56: 43991
A57: AFMO | B57: Maroc | C57: EQDOM | D57: TAA_GOV_01 | E57: P0 | F57: =IF(GLOBAL_DATA_02[[#This Row],[Target scope]]="","",INDEX(DATA_TargetStatusChoice[Target_Status_Choice],MATCH(GLOBAL_DATA_02[[#This Row],[Target scope]],DATA_TargetStatusChoice[Value],1))) -> RISK ACCEPTED | G57: 0 | H57: =IF(GLOBAL_DATA_02[[#This Row],[Target status]]<>"FULL IMPLEMENTATION", "<required>"," -") -> <required> | I57: NO PROJECT | J57: 0 | N57: Hub SSI
A58: AFMO | B58: Maroc | C58: EQDOM | D58: TAA_GOV_02 | E58: P0 | F58: =IF(GLOBAL_DATA_02[[#This Row],[Target scope]]="","",INDEX(DATA_TargetStatusChoice[Target_Status_Choice],MATCH(GLOBAL_DATA_02[[#This Row],[Target scope]],DATA_TargetStatusChoice[Value],1))) -> RISK ACCEPTED | G58: 0 | H58: =IF(GLOBAL_DATA_02[[#This Row],[Target status]]<>"FULL IMPLEMENTATION", "<required>"," -") -> <required> | I58: NO PROJECT | J58: 0 | N58: Local
A59: AFMO | B59: Maroc | C59: EQDOM | D59: TAA_SPC_01 | E59: P2 | F59: =IF(GLOBAL_DATA_02[[#This Row],[Target scope]]="","",INDEX(DATA_TargetStatusChoice[Target_Status_Choice],MATCH(GLOBAL_DATA_02[[#This Row],[Target scope]],DATA_TargetStatusChoice[Value],1))) -> PARTIAL IMPLEMENTATION + RA | G59: 0.8 | H59: =IF(GLOBAL_DATA_02[[#This Row],[Target status]]<>"FULL IMPLEMENTATION", "<required>"," -") -> <required> | I59: IN PROGRESS | J59: 0.6 | N59: NC | Q59: 44356
A60: AFMO | B60: Maroc | C60: EQDOM | D60: TAA_TPT_01 | E60: P0 | F60: =IF(GLOBAL_DATA_02[[#This Row],[Target scope]]="","",INDEX(DATA_TargetStatusChoice[Target_Status_Choice],MATCH(GLOBAL_DATA_02[[#This Row],[Target scope]],DATA_TargetStatusChoice[Value],1))) -> PARTIAL IMPLEMENTATION + RA | G60: 0.8 | H60: =IF(GLOBAL_DATA_02[[#This Row],[Target status]]<>"FULL IMPLEMENTATION", "<required>"," -") -> <required> | I60: IN PROGRESS | J60: 0.6 | N60: Hub SSI | Q60: 44721
A61: AFMO | B61: Maroc | C61: EQDOM | D61: TAA_TRN_01 | E61: P0 | F61: =IF(GLOBAL_DATA_02[[#This Row],[Target scope]]="","",INDEX(DATA_TargetStatusChoice[Target_Status_Choice],MATCH(GLOBAL_DATA_02[[#This Row],[Target scope]],DATA_TargetStatusChoice[Value],1))) -> RISK ACCEPTED | G61: 0 | H61: =IF(GLOBAL_DATA_02[[#This Row],[Target status]]<>"FULL IMPLEMENTATION", "<required>"," -") -> <required> | I61: NO PROJECT | J61: 0 | N61: Hub SSI
A62: AFMO | B62: Maroc | C62: EQDOM | D62: DTP_ANO_01 | E62: P0 | F62: =IF(GLOBAL_DATA_02[[#This Row],[Target scope]]="","",INDEX(DATA_TargetStatusChoice[Target_Status_Choice],MATCH(GLOBAL_DATA_02[[#This Row],[Target scope]],DATA_TargetStatusChoice[Value],1))) -> RISK ACCEPTED | G62: 0 | H62: =IF(GLOBAL_DATA_02[[#This Row],[Target status]]<>"FULL IMPLEMENTATION", "<required>"," -") -> <required> | I62: NO PROJECT | J62: 0 | N62: SG ABS
A63: AFMO | B63: Maroc | C63: EQDOM | D63: DTP_ANO_02 | E63: P2 | F63: =IF(GLOBAL_DATA_02[[#This Row],[Target scope]]="","",INDEX(DATA_TargetStatusChoice[Target_Status_Choice],MATCH(GLOBAL_DATA_02[[#This Row],[Target scope]],DATA_TargetStatusChoice[Value],1))) -> NOT APPLICABLE | G63: - | H63: =IF(GLOBAL_DATA_02[[#This Row],[Target status]]<>"FULL IMPLEMENTATION", "<required>"," -") -> <required> | I63: NO PROJECT | J63: 0 | N63: NC
A64: AFMO | B64: Maroc | C64: EQDOM | D64: DTP_BDT_01 | E64: P1 | F64: =IF(GLOBAL_DATA_02[[#This Row],[Target scope]]="","",INDEX(DATA_TargetStatusChoice[Target_Status_Choice],MATCH(GLOBAL_DATA_02[[#This Row],[Target scope]],DATA_TargetStatusChoice[Value],1))) -> PARTIAL IMPLEMENTATION + RA | G64: 0.8 | H64: =IF(GLOBAL_DATA_02[[#This Row],[Target status]]<>"FULL IMPLEMENTATION", "<required>"," -") -> <required> | I64: DONE | J64: 1 | N64: NC | Q64: 43991
A65: AFMO | B65: Maroc | C65: EQDOM | D65: DTP_BDT_02 | E65: P1 | F65: =IF(GLOBAL_DATA_02[[#This Row],[Target scope]]="","",INDEX(DATA_TargetStatusChoice[Target_Status_Choice],MATCH(GLOBAL_DATA_02[[#This Row],[Target scope]],DATA_TargetStatusChoice[Value],1))) -> NOT APPLICABLE | G65: - | H65: =IF(GLOBAL_DATA_02[[#This Row],[Target status]]<>"FULL IMPLEMENTATION", "<required>"," -") -> <required> | I65: DONE | J65: 1 | N65: NC | Q65: 43991
A66: AFMO | B66: Maroc | C66: EQDOM | D66: DTP_BDT_03 | E66: P1 | F66: =IF(GLOBAL_DATA_02[[#This Row],[Target scope]]="","",INDEX(DATA_TargetStatusChoice[Target_Status_Choice],MATCH(GLOBAL_DATA_02[[#This Row],[Target scope]],DATA_TargetStatusChoice[Value],1))) -> PARTIAL IMPLEMENTATION + RA | G66: 0.8 | H66: =IF(GLOBAL_DATA_02[[#This Row],[Target status]]<>"FULL IMPLEMENTATION", "<required>"," -") -> <required> | I66: DONE | J66: 1 | N66: NC | Q66: 44356
A67: AFMO | B67: Maroc | C67: EQDOM | D67: DTP_BDT_04 | E67: P1 | F67: =IF(GLOBAL_DATA_02[[#This Row],[Target scope]]="","",INDEX(DATA_TargetStatusChoice[Target_Status_Choice],MATCH(GLOBAL_DATA_02[[#This Row],[Target scope]],DATA_TargetStatusChoice[Value],1))) -> FULL IMPLEMENTATION | G67: 1 | H67: =IF(GLOBAL_DATA_02[[#This Row],[Target status]]<>"FULL IMPLEMENTATION", "<required>"," -") -> - | I67: CHECKED CISO | J67: 1 | N67: NC | Q67: 44356
A68: AFMO | B68: Maroc | C68: EQDOM | D68: DTP_BDT_05 | E68: P1 | F68: =IF(GLOBAL_DATA_02[[#This Row],[Target scope]]="","",INDEX(DATA_TargetStatusChoice[Target_Status_Choice],MATCH(GLOBAL_DATA_02[[#This Row],[Target scope]],DATA_TargetStatusChoice[Value],1))) -> NOT APPLICABLE | G68: - | H68: =IF(GLOBAL_DATA_02[[#This Row],[Target status]]<>"FULL IMPLEMENTATION", "<required>"," -") -> <required> | I68: CHECKED CISO | J68: 1 | N68: NC
A69: AFMO | B69: Maroc | C69: EQDOM | D69: DTP_BDT_06 | E69: P1 | F69: =IF(GLOBAL_DATA_02[[#This Row],[Target scope]]="","",INDEX(DATA_TargetStatusChoice[Target_Status_Choice],MATCH(GLOBAL_DATA_02[[#This Row],[Target scope]],DATA_TargetStatusChoice[Value],1))) -> PARTIAL IMPLEMENTATION + RA | G69: 0.6 | H69: =IF(GLOBAL_DATA_02[[#This Row],[Target status]]<>"FULL IMPLEMENTATION", "<required>"," -") -> <required> | I69: CHECKED CISO | J69: 1 | N69: NC | Q69: 44356
A70: AFMO | B70: Maroc | C70: EQDOM | D70: DTP_DCT_01 | E70: P0 | F70: =IF(GLOBAL_DATA_02[[#This Row],[Target scope]]="","",INDEX(DATA_TargetStatusChoice[Target_Status_Choice],MATCH(GLOBAL_DATA_02[[#This Row],[Target scope]],DATA_TargetStatusChoice[Value],1))) -> FULL IMPLEMENTATION | G70: 1 | H70: =IF(GLOBAL_DATA_02[[#This Row],[Target status]]<>"FULL IMPLEMENTATION", "<required>"," -") -> - | I70: VERIFIED | J70: 1 | N70: Local | Q70: 44356
A71: AFMO | B71: Maroc | C71: EQDOM | D71: DTP_DCT_02 | E71: P2 | F71: =IF(GLOBAL_DATA_02[[#This Row],[Target scope]]="","",INDEX(DATA_TargetStatusChoice[Target_Status_Choice],MATCH(GLOBAL_DATA_02[[#This Row],[Target scope]],DATA_TargetStatusChoice[Value],1))) -> RISK ACCEPTED | G71: 0 | H71: =IF(GLOBAL_DATA_02[[#This Row],[Target status]]<>"FULL IMPLEMENTATION", "<required>"," -") -> <required> | I71: NO PROJECT | J71: 0 | N71: NC
A72: AFMO | B72: Maroc | C72: EQDOM | D72: DTP_DCT_03 | E72: P0 | F72: =IF(GLOBAL_DATA_02[[#This Row],[Target scope]]="","",INDEX(DATA_TargetStatusChoice[Target_Status_Choice],MATCH(GLOBAL_DATA_02[[#This Row],[Target scope]],DATA_TargetStatusChoice[Value],1))) -> NOT APPLICABLE | G72: - | H72: =IF(GLOBAL_DATA_02[[#This Row],[Target status]]<>"FULL IMPLEMENTATION", "<required>"," -") -> <required> | I72: NO PROJECT | J72: 0 | N72: Hub SSI
A73: AFMO | B73: Maroc | C73: EQDOM | D73: DTP_DCT_04 | E73: P2 | F73: =IF(GLOBAL_DATA_02[[#This Row],[Target scope]]="","",INDEX(DATA_TargetStatusChoice[Target_Status_Choice],MATCH(GLOBAL_DATA_02[[#This Row],[Target scope]],DATA_TargetStatusChoice[Value],1))) -> PARTIAL IMPLEMENTATION + RA | G73: 0.8 | H73: =IF(GLOBAL_DATA_02[[#This Row],[Target status]]<>"FULL IMPLEMENTATION", "<required>"," -") -> <required> | I73: TO BE STARTED | J73: 0 | N73: NC | Q73: 44356
A74: AFMO | B74: Maroc | C74: EQDOM | D74: DTP_DCL_01 | E74: P0 | F74: =IF(GLOBAL_DATA_02[[#This Row],[Target scope]]="","",INDEX(DATA_TargetStatusChoice[Target_Status_Choice],MATCH(GLOBAL_DATA_02[[#This Row],[Target scope]],DATA_TargetStatusChoice[Value],1))) -> PARTIAL IMPLEMENTATION + RA | G74: 0.6 | H74: =IF(GLOBAL_DATA_02[[#This Row],[Target status]]<>"FULL IMPLEMENTATION", "<required>"," -") -> <required> | I74: TO BE STARTED | J74: 0 | N74: Local | Q74: 44721
A75: AFMO | B75: Maroc | C75: EQDOM | D75: DTP_DCL_02 | E75: P1 | F75: =IF(GLOBAL_DATA_02[[#This Row],[Target scope]]="","",INDEX(DATA_TargetStatusChoice[Target_Status_Choice],MATCH(GLOBAL_DATA_02[[#This Row],[Target scope]],DATA_TargetStatusChoice[Value],1))) -> PARTIAL IMPLEMENTATION + RA | G75: 0.8 | H75: =IF(GLOBAL_DATA_02[[#This Row],[Target status]]<>"FULL IMPLEMENTATION", "<required>"," -") -> <required> | I75: TO BE STARTED | J75: 0 | N75: SG ABS | Q75: 44721
A76: AFMO | B76: Maroc | C76: EQDOM | D76: DTP_DLK_01 | E76: P2 | F76: =IF(GLOBAL_DATA_02[[#This Row],[Target scope]]="","",INDEX(DATA_TargetStatusChoice[Target_Status_Choice],MATCH(GLOBAL_DATA_02[[#This Row],[Target scope]],DATA_TargetStatusChoice[Value],1))) -> FULL IMPLEMENTATION | G76: 1 | H76: =IF(GLOBAL_DATA_02[[#This Row],[Target status]]<>"FULL IMPLEMENTATION", "<required>"," -") -> - | I76: TO BE STARTED | J76: 0 | N76: NC | Q76: 44721
A77: AFMO | B77: Maroc | C77: EQDOM | D77: DTP_DLK_02 | E77: P0 | F77: =IF(GLOBAL_DATA_02[[#This Row],[Target scope]]="","",INDEX(DATA_TargetStatusChoice[Target_Status_Choice],MATCH(GLOBAL_DATA_02[[#This Row],[Target scope]],DATA_TargetStatusChoice[Value],1))) -> NOT APPLICABLE | G77: - | H77: =IF(GLOBAL_DATA_02[[#This Row],[Target status]]<>"FULL IMPLEMENTATION", "<required>"," -") -> <required> | I77: NO PROJECT | J77: 0 | N77: Local
A78: AFMO | B78: Maroc | C78: EQDOM | D78: DTP_DLK_03 | E78: P0 | F78: =IF(GLOBAL_DATA_02[[#This Row],[Target scope]]="","",INDEX(DATA_TargetStatusChoice[Target_Status_Choice],MATCH(GLOBAL_DATA_02[[#This Row],[Target scope]],DATA_TargetStatusChoice[Value],1))) -> PARTIAL IMPLEMENTATION + RA | G78: 0.6 | H78: =IF(GLOBAL_DATA_02[[#This Row],[Target status]]<>"FULL IMPLEMENTATION", "<required>"," -") -> <required> | I78: IN PROGRESS | J78: 0.6 | N78: Local | Q78: 44721
A79: AFMO | B79: Maroc | C79: EQDOM | D79: DTP_DLK_04 | E79: P0 | F79: =IF(GLOBAL_DATA_02[[#This Row],[Target scope]]="","",INDEX(DATA_TargetStatusChoice[Target_Status_Choice],MATCH(GLOBAL_DATA_02[[#This Row],[Target scope]],DATA_TargetStatusChoice[Value],1))) -> FULL IMPLEMENTATION | G79: 1 | H79: =IF(GLOBAL_DATA_02[[#This Row],[Target status]]<>"FULL IMPLEMENTATION", "<required>"," -") -> - | I79: IN PROGRESS | J79: 0.6 | N79: Local | Q79: 44721
A80: AFMO | B80: Maroc | C80: EQDOM | D80: DTP_DLK_05 | E80: P0 | F80: =IF(GLOBAL_DATA_02[[#This Row],[Target scope]]="","",INDEX(DATA_TargetStatusChoice[Target_Status_Choice],MATCH(GLOBAL_DATA_02[[#This Row],[Target scope]],DATA_TargetStatusChoice[Value],1))) -> FULL IMPLEMENTATION | G80: 1 | H80: =IF(GLOBAL_DATA_02[[#This Row],[Target status]]<>"FULL IMPLEMENTATION", "<required>"," -") -> - | I80: IN PROGRESS | J80: 0.6 | N80: Hub SSI | Q80: 44721
A81: AFMO | B81: Maroc | C81: EQDOM | D81: DTP_DLK_06 | E81: P1 | F81: =IF(GLOBAL_DATA_02[[#This Row],[Target scope]]="","",INDEX(DATA_TargetStatusChoice[Target_Status_Choice],MATCH(GLOBAL_DATA_02[[#This Row],[Target scope]],DATA_TargetStatusChoice[Value],1))) -> FULL IMPLEMENTATION | G81: 1 | H81: =IF(GLOBAL_DATA_02[[#This Row],[Target status]]<>"FULL IMPLEMENTATION", "<required>"," -") -> - | I81: IN PROGRESS | J81: 0.6 | N81: NC | Q81: 44721
A82: AFMO | B82: Maroc | C82: EQDOM | D82: DTP_DLK_07 | E82: P3 | F82: =IF(GLOBAL_DATA_02[[#This Row],[Target scope]]="","",INDEX(DATA_TargetStatusChoice[Target_Status_Choice],MATCH(GLOBAL_DATA_02[[#This Row],[Target scope]],DATA_TargetStatusChoice[Value],1))) -> NOT APPLICABLE | G82: - | H82: =IF(GLOBAL_DATA_02[[#This Row],[Target status]]<>"FULL IMPLEMENTATION", "<required>"," -") -> <required> | I82: NO PROJECT | J82: 0 | N82: NC
A83: AFMO | B83: Maroc | C83: EQDOM | D83: DTP_ENC_01 | E83: P2 | F83: =IF(GLOBAL_DATA_02[[#This Row],[Target scope]]="","",INDEX(DATA_TargetStatusChoice[Target_Status_Choice],MATCH(GLOBAL_DATA_02[[#This Row],[Target scope]],DATA_TargetStatusChoice[Value],1))) -> PARTIAL IMPLEMENTATION + RA | G83: 0.6 | H83: =IF(GLOBAL_DATA_02[[#This Row],[Target status]]<>"FULL IMPLEMENTATION", "<required>"," -") -> <required> | I83: CHECKED CISO | J83: 1 | N83: NC | Q83: 44721
A84: AFMO | B84: Maroc | C84: EQDOM | D84: DTP_ENC_02 | E84: P0 | F84: =IF(GLOBAL_DATA_02[[#This Row],[Target scope]]="","",INDEX(DATA_TargetStatusChoice[Target_Status_Choice],MATCH(GLOBAL_DATA_02[[#This Row],[Target scope]],DATA_TargetStatusChoice[Value],1))) -> FULL IMPLEMENTATION | G84: 1 | H84: =IF(GLOBAL_DATA_02[[#This Row],[Target status]]<>"FULL IMPLEMENTATION", "<required>"," -") -> - | I84: CHECKED CISO | J84: 1 | N84: SG ABS | Q84: 44721
A85: AFMO | B85: Maroc | C85: EQDOM | D85: DTP_ENC_03 | E85: P0 | F85: =IF(GLOBAL_DATA_02[[#This Row],[Target scope]]="","",INDEX(DATA_TargetStatusChoice[Target_Status_Choice],MATCH(GLOBAL_DATA_02[[#This Row],[Target scope]],DATA_TargetStatusChoice[Value],1))) -> FULL IMPLEMENTATION | G85: 1 | H85: =IF(GLOBAL_DATA_02[[#This Row],[Target status]]<>"FULL IMPLEMENTATION", "<required>"," -") -> - | I85: CHECKED CISO | J85: 1 | N85: Local | Q85: 44721
A86: AFMO | B86: Maroc | C86: EQDOM | D86: DTP_ENC_04 | E86: P0 | F86: =IF(GLOBAL_DATA_02[[#This Row],[Target scope]]="","",INDEX(DATA_TargetStatusChoice[Target_Status_Choice],MATCH(GLOBAL_DATA_02[[#This Row],[Target scope]],DATA_TargetStatusChoice[Value],1))) -> PARTIAL IMPLEMENTATION + RA | G86: 0.8 | H86: =IF(GLOBAL_DATA_02[[#This Row],[Target status]]<>"FULL IMPLEMENTATION", "<required>"," -") -> <required> | I86: CHECKED CISO | J86: 1 | N86: Local | Q86: 44721
A87: AFMO | B87: Maroc | C87: EQDOM | D87: DTP_ENC_05 | E87: P0 | F87: =IF(GLOBAL_DATA_02[[#This Row],[Target scope]]="","",INDEX(DATA_TargetStatusChoice[Target_Status_Choice],MATCH(GLOBAL_DATA_02[[#This Row],[Target scope]],DATA_TargetStatusChoice[Value],1))) -> FULL IMPLEMENTATION | G87: 1 | H87: =IF(GLOBAL_DATA_02[[#This Row],[Target status]]<>"FULL IMPLEMENTATION", "<required>"," -") -> - | I87: VERIFIED | J87: 1 | L87: LOD2 done | N87: SG ABS | Q87: 44721
A88: AFMO | B88: Maroc | C88: EQDOM | D88: DTP_ENC_06 | E88: P0 | F88: =IF(GLOBAL_DATA_02[[#This Row],[Target scope]]="","",INDEX(DATA_TargetStatusChoice[Target_Status_Choice],MATCH(GLOBAL_DATA_02[[#This Row],[Target scope]],DATA_TargetStatusChoice[Value],1))) -> PARTIAL IMPLEMENTATION + RA | G88: 0.4 | H88: =IF(GLOBAL_DATA_02[[#This Row],[Target status]]<>"FULL IMPLEMENTATION", "<required>"," -") -> <required> | I88: IN PROGRESS | J88: 0.1 | M88: Secured | N88: Local | O88: 44476 | P88: 44537
A89: AFMO | B89: Maroc | C89: EQDOM | D89: DTP_ENC_07 | E89: P0 | F89: =IF(GLOBAL_DATA_02[[#This Row],[Target scope]]="","",INDEX(DATA_TargetStatusChoice[Target_Status_Choice],MATCH(GLOBAL_DATA_02[[#This Row],[Target scope]],DATA_TargetStatusChoice[Value],1))) -> PARTIAL IMPLEMENTATION + RA | G89: 0.6 | H89: =IF(GLOBAL_DATA_02[[#This Row],[Target status]]<>"FULL IMPLEMENTATION", "<required>"," -") -> <required> | I89: CHECKED CISO | J89: 1 | N89: Local | Q89: 44721
A90: AFMO | B90: Maroc | C90: EQDOM | D90: DTP_MON_01 | E90: P1 | F90: =IF(GLOBAL_DATA_02[[#This Row],[Target scope]]="","",INDEX(DATA_TargetStatusChoice[Target_Status_Choice],MATCH(GLOBAL_DATA_02[[#This Row],[Target scope]],DATA_TargetStatusChoice[Value],1))) -> FULL IMPLEMENTATION | G90: 1 | H90: =IF(GLOBAL_DATA_02[[#This Row],[Target status]]<>"FULL IMPLEMENTATION", "<required>"," -") -> - | I90: TO BE STARTED | J90: 0 | N90: NC | Q90: 44721
A91: AFMO | B91: Maroc | C91: EQDOM | D91: DTP_MON_02 | E91: P0 | F91: =IF(GLOBAL_DATA_02[[#This Row],[Target scope]]="","",INDEX(DATA_TargetStatusChoice[Target_Status_Choice],MATCH(GLOBAL_DATA_02[[#This Row],[Target scope]],DATA_TargetStatusChoice[Value],1))) -> FULL IMPLEMENTATION | G91: 1 | H91: =IF(GLOBAL_DATA_02[[#This Row],[Target status]]<>"FULL IMPLEMENTATION", "<required>"," -") -> - | I91: IN PROGRESS | J91: 0.4 | N91: SG ABS | Q91: 44721
A92: AFMO | B92: Maroc | C92: EQDOM | D92: IFP_DET_01 | E92: P0 | F92: =IF(GLOBAL_DATA_02[[#This Row],[Target scope]]="","",INDEX(DATA_TargetStatusChoice[Target_Status_Choice],MATCH(GLOBAL_DATA_02[[#This Row],[Target scope]],DATA_TargetStatusChoice[Value],1))) -> RISK ACCEPTED | G92: 0 | H92: =IF(GLOBAL_DATA_02[[#This Row],[Target status]]<>"FULL IMPLEMENTATION", "<required>"," -") -> <required> | I92: NO PROJECT | J92: 0 | N92: Hub SSI
A93: AFMO | B93: Maroc | C93: EQDOM | D93: IFP_DET_02 | E93: P2 | F93: =IF(GLOBAL_DATA_02[[#This Row],[Target scope]]="","",INDEX(DATA_TargetStatusChoice[Target_Status_Choice],MATCH(GLOBAL_DATA_02[[#This Row],[Target scope]],DATA_TargetStatusChoice[Value],1))) -> FULL IMPLEMENTATION | G93: 1 | H93: =IF(GLOBAL_DATA_02[[#This Row],[Target status]]<>"FULL IMPLEMENTATION", "<required>"," -") -> - | I93: TO BE STARTED | J93: 0 | N93: NC | Q93: 43991
A94: AFMO | B94: Maroc | C94: EQDOM | D94: IFP_DET_03 | E94: P0 | F94: =IF(GLOBAL_DATA_02[[#This Row],[Target scope]]="","",INDEX(DATA_TargetStatusChoice[Target_Status_Choice],MATCH(GLOBAL_DATA_02[[#This Row],[Target scope]],DATA_TargetStatusChoice[Value],1))) -> PARTIAL IMPLEMENTATION + RA | G94: 0.8 | H94: =IF(GLOBAL_DATA_02[[#This Row],[Target status]]<>"FULL IMPLEMENTATION", "<required>"," -") -> <required> | I94: DONE | J94: 1 | N94: Hub SSI | Q94: 43991
A95: AFMO | B95: Maroc | C95: EQDOM | D95: IFP_DET_04 | E95: P0 | F95: =IF(GLOBAL_DATA_02[[#This Row],[Target scope]]="","",INDEX(DATA_TargetStatusChoice[Target_Status_Choice],MATCH(GLOBAL_DATA_02[[#This Row],[Target scope]],DATA_TargetStatusChoice[Value],1))) -> PARTIAL IMPLEMENTATION + RA | G95: 0.8 | H95: =IF(GLOBAL_DATA_02[[#This Row],[Target status]]<>"FULL IMPLEMENTATION", "<required>"," -") -> <required> | I95: CHECKED CISO | J95: 1 | N95: Hub SSI | Q95: 44356
A96: AFMO | B96: Maroc | C96: EQDOM | D96: IFP_GOV_01 | E96: P0 | F96: =IF(GLOBAL_DATA_02[[#This Row],[Target scope]]="","",INDEX(DATA_TargetStatusChoice[Target_Status_Choice],MATCH(GLOBAL_DATA_02[[#This Row],[Target scope]],DATA_TargetStatusChoice[Value],1))) -> PARTIAL IMPLEMENTATION + RA | G96: 0.6 | H96: =IF(GLOBAL_DATA_02[[#This Row],[Target status]]<>"FULL IMPLEMENTATION", "<required>"," -") -> <required> | I96: IN PROGRESS | J96: 0.8 | N96: Hub SSI | Q96: 44356
A97: AFMO | B97: Maroc | C97: EQDOM | D97: IFP_GOV_02 | E97: P0 | F97: =IF(GLOBAL_DATA_02[[#This Row],[Target scope]]="","",INDEX(DATA_TargetStatusChoice[Target_Status_Choice],MATCH(GLOBAL_DATA_02[[#This Row],[Target scope]],DATA_TargetStatusChoice[Value],1))) -> PARTIAL IMPLEMENTATION + RA | G97: 0.6 | H97: =IF(GLOBAL_DATA_02[[#This Row],[Target status]]<>"FULL IMPLEMENTATION", "<required>"," -") -> <required> | I97: TO BE STARTED | J97: 0 | N97: Hub SSI | Q97: 44356
A98: AFMO | B98: Maroc | C98: EQDOM | D98: IFP_GOV_03 | E98: P0 | F98: =IF(GLOBAL_DATA_02[[#This Row],[Target scope]]="","",INDEX(DATA_TargetStatusChoice[Target_Status_Choice],MATCH(GLOBAL_DATA_02[[#This Row],[Target scope]],DATA_TargetStatusChoice[Value],1))) -> PARTIAL IMPLEMENTATION + RA | G98: 0.6 | H98: =IF(GLOBAL_DATA_02[[#This Row],[Target status]]<>"FULL IMPLEMENTATION", "<required>"," -") -> <required> | I98: IN PROGRESS | J98: 0.4 | N98: Hub SSI | Q98: 44721
A99: AFMO | B99: Maroc | C99: EQDOM | D99: IFP_PRV_01 | E99: P0 | F99: =IF(GLOBAL_DATA_02[[#This Row],[Target scope]]="","",INDEX(DATA_TargetStatusChoice[Target_Status_Choice],MATCH(GLOBAL_DATA_02[[#This Row],[Target scope]],DATA_TargetStatusChoice[Value],1))) -> FULL IMPLEMENTATION | G99: 1 | H99: =IF(GLOBAL_DATA_02[[#This Row],[Target status]]<>"FULL IMPLEMENTATION", "<required>"," -") -> - | I99: IN PROGRESS | J99: 0.3 | N99: Hub SSI | Q99: 44356
A100: AFMO | B100: Maroc | C100: EQDOM | D100: SPL_PMD_07 | E100: P1 | F100: =IF(GLOBAL_DATA_02[[#This Row],[Target scope]]="","",INDEX(DATA_TargetStatusChoice[Target_Status_Choice],MATCH(GLOBAL_DATA_02[[#This Row],[Target scope]],DATA_TargetStatusChoice[Value],1))) -> PARTIAL IMPLEMENTATION + RA | G100: 0.6 | H100: edezc | I100: IN PROGRESS | J100: 0.2 | N100: Hub SSI | Q100: 43998

Sheet DATA
A1: C2-Confidential
A2: File_Version | E2: Security packs EN | F2: Security packs FR | G2: Acronym / Acronyme | I2: Status_Choice | J2: Rank | L2: Months overdelay | N2: # | O2: Entity | P2: BU | Q2: Region | R2: Country | S2: Level | T2: Language | V2: Pack EN | W2: Pack FR | X2: Theme EN | Y2: Theme FR | Z2: Acronym theme | AA2: Acronym combined | AB2: ID
A3: 5.0 | E3: Advanced protection | F3: Protection avancée | G3: ADP | I3: NO PROJECT | J3: 1 | L3: 3 | N3: 1 | O3: BDK | P3: EURO | Q3: - | R3: Allemagne | S3: 3 | T3: EN | V3: Advanced protection | W3: Protection avancée | X3: Analytic security | Y3: Sécurité analytique | Z3: ANS | AA3: ADP_ANS | AB3: Advanced protectionAnalytic security
E4: Cloud | F4: Cloud | G4: CLD | I4: TO BE STARTED | J4: 2 | N4: 2 | O4: BDP | P4: AFMO | Q4: Outre-mer | R4: Polynésie française | S4: 3 | T4: FR | V4: Advanced protection | W4: Protection avancée | X4: Cyber Incident | Y4: Incident cyber | Z4: CYI | AA4: ADP_CYI | AB4: Advanced protectionCyber Incident
E5: Data protection | F5: Protection des données | G5: DTP | I5: IN PROGRESS | J5: 3 | L5: Ressources | N5: 3 | O5: BFCOI | P5: AFMO | Q5: Outre-mer | R5: La Réunion | S5: 3 | T5: FR | V5: Advanced protection | W5: Protection avancée | X5: Endpoint security | Y5: Sécurité des terminaux | Z5: ENS | AA5: ADP_ENS | AB5: Advanced protectionEndpoint security
E6: Exposed services | F6: Services exposés | G6: EXS | I6: DONE | J6: 4 | L6: Not secured | N6: 4 | O6: BRD | P6: EURO | Q6: - | R6: Roumanie | S6: 1 | T6: EN | V6: Advanced protection | W6: Protection avancée | X6: Filtering security | Y6: Sécurité des flux | Z6: FLS | AA6: ADP_FLS | AB6: Advanced protectionFiltering security
E7: Internal fraud protection | F7: Protection contre la fraude interne | G7: IFP | I7: CHECKED CISO | J7: 5 | L7: Secured | N7: 5 | O7: BRD Finance | P7: EURO | Q7: - | R7: Roumanie | S7: 3 | T7: EN | V7: Advanced protection | W7: Protection avancée | X7: Sensitive Assets | Y7: Actifs sensibles | Z7: SEA | AA7: ADP_SEA | AB7: Advanced protectionSensitive Assets
E8: Operational security | F8: Sécurité opérationnelle | G8: OPS | I8: VERIFIED | J8: 6 | N8: 6 | O8: CGI Finance | P8: EURO | Q8: - | R8: France | S8: 2 | T8: FR | V8: Advanced protection | W8: Protection avancée | X8: User Security | Y8: Sécurité des utilisateurs | Z8: UZS | AA8: ADP_UZS | AB8: Advanced protectionUser Security
E9: Security in product lifecycle | F9: Sécurité dans le cycle de vie produit | G9: SPL | N9: 7 | O9: EQDOM | P9: AFMO | Q9: Maroc | R9: Maroc | S9: 3 | T9: FR | V9: Cloud | W9: Cloud | X9: Cloud Management | Y9: Gestion du Cloud | Z9: MNG | AA9: CLD_MNG | AB9: CloudCloud Management
E10: Third parties and supply chain | F10: Tiers et supply chain | G10: TPS | N10: 8 | O10: Essox | P10: EURO | Q10: - | R10: République Tchèque | S10: 3 | T10: EN | V10: Cloud | W10: Cloud | X10: Availability | Y10: Disponibilité | Z10: AVA | AA10: CLD_AVA | AB10: CloudAvailability
E11: Training and awareness | F11: Formation et sensibilisation | G11: TAA | I11: Target_Status_Choice | J11: Value | L11: Target of scope | N11: 9 | O11: Fiditalia | P11: EURO | Q11: - | R11: Italie | S11: 2 | T11: EN | V11: Cloud | W11: Cloud | X11: IAM | Y11: IAM | Z11: IAM | AA11: CLD_IAM | AB11: CloudIAM
I12: RISK ACCEPTED | J12: 0 | L12: - | N12: 10 | O12: Hanseatic Bank | P12: EURO | Q12: - | R12: Allemagne | S12: 3 | T12: EN | V12: Cloud | W12: Cloud | X12: Data Protection | Y12: Protection des données | Z12: DTP | AA12: CLD_DTP | AB12: CloudData Protection
I13: PARTIAL IMPLEMENTATION + RA | J13: 0.01 | L13: 0 | N13: 11 | O13: KB | P13: EURO | Q13: - | R13: République Tchèque | S13: 1 | T13: EN | V13: Cloud | W13: Cloud | X13: Incident management | Y13: Gestion des incidents | Z13: IMN | AA13: CLD_IMN | AB13: CloudIncident management
A14: CISO assessment | E14: Pack | F14: Acronyme | G14: Order index | I14: FULL IMPLEMENTATION | J14: 1 | L14: 0.2 | N14: 12 | O14: ROSBANK | P14: RUSS | Q14: - | R14: Russie | S14: 1 | T14: EN | V14: Cloud | W14: Cloud | X14: Services access | Y14: Accès aux services | Z14: SAC | AA14: CLD_SAC | AB14: CloudServices access
A15: No alert | E15: Operational security | F15: OPS | G15: 1 | I15: NOT APPLICABLE | J15: - | L15: 0.4 | N15: 13 | O15: Rusfinance | P15: RUSS | Q15: - | R15: Russie | S15: 2 | T15: EN | V15: Cloud | W15: Cloud | X15: Architecture | Y15: Architecture | Z15: ARC | AA15: CLD_ARC | AB15: CloudArchitecture
A16: Warning | E16: Training and awareness | F16: TAA | G16: 2 | L16: 0.6 | N16: 14 | O16: SGA | P16: AFMO | Q16: Méditerranée | R16: Algérie | S16: 2 | T16: FR | V16: Cloud | W16: Cloud | X16: Access filtering | Y16: Filtrage d'accès | Z16: ACF | AA16: CLD_ACF | AB16: CloudAccess filtering
A17: Alert | E17: Data protection | F17: DTP | G17: 3 | I17: RAF_Status_Choice | J17: Rank | L17: 0.8 | N17: 15 | O17: SGABS | P17: AFMO | Q17: COO | R17: Maroc | S17: 1 | T17: FR | V17: Cloud | W17: Cloud | X17: Infrastructure security | Y17: Sécurité de l'infrastructure | Z17: IFS | AA17: CLD_IFS | AB17: CloudInfrastructure security
E18: Internal fraud protection | F18: IFP | G18: 4 | I18: NOT APPLICABLE | J18: 1 | L18: 1 | N18: 16 | O18: SGB | P18: AFMO | Q18: Afrique de l'ouest | R18: Bénin | S18: 3 | T18: FR | V18: Cloud | W18: Cloud | X18: Log management | Y18: Gestion des traces | Z18: LGM | AA18: CLD_LGM | AB18: CloudLog management
E19: Advanced protection | F19: ADP | G19: 5 | I19: TO BE DONE | J19: 2 | N19: 17 | O19: SGBF | P19: AFMO | Q19: Afrique de l'ouest | R19: Burkina Faso | S19: 3 | T19: FR | V19: Data protection | W19: Protection des données | X19: Data cartography | Y19: Cartographie des données | Z19: DCT | AA19: DTP_DCT | AB19: Data protectionData cartography
E20: Exposed services | F20: EXS | G20: 6 | I20: TO BE UPDATED | J20: 3 | N20: 18 | O20: SGBGE | P20: AFMO | Q20: Afrique centrale et Australie | R20: Guinée équatoriale | S20: 3 | T20: FR | V20: Data protection | W20: Protection des données | X20: Data classification | Y20: Classification des données | Z20: DCL | AA20: DTP_DCL | AB20: Data protectionData classification
E21: Cloud | F21: CLD | G21: 7 | I21: IN PROGRESS | J21: 4 | N21: 19 | O21: SGC | P21: AFMO | Q21: Afrique centrale et Australie | R21: Congo | S21: 3 | T21: FR | V21: Data protection | W21: Protection des données | X21: Monitoring | Y21: Monitoring | Z21: MON | AA21: DTP_MON | AB21: Data protectionMonitoring
E22: Third parties and supply chain | F22: TPS | G22: 8 | I22: SUBMITTED | J22: 5 | N22: 20 | O22: SGCAM | P22: AFMO | Q22: Afrique centrale et Australie | R22: Cameroun | S22: 3 | T22: FR | V22: Data protection | W22: Protection des données | X22: Data leakage | Y22: Fuite de données | Z22: DLK | AA22: DTP_DLK | AB22: Data protectionData leakage
E23: Security in product lifecycle | F23: SPL | G23: 9 | I23: VALIDATED | J23: 6 | N23: 21 | O23: SGCB | P23: AFMO | Q23: Outre-mer | R23: Nouvelle Calédonie | S23: 3 | T23: FR | V23: Data protection | W23: Protection des données | X23: Encryption | Y23: Chiffrement | Z23: ENC | AA23: DTP_ENC | AB23: Data protectionEncryption
N24: 22 | O24: SGCI | P24: AFMO | Q24: Afrique de l'ouest | R24: SGCI | S24: 3 | T24: FR | V24: Data protection | W24: Protection des données | X24: Anonymisation | Y24: Anonymisation | Z24: ANO | AA24: DTP_ANO | AB24: Data protectionAnonymisation
N25: 23 | O25: SGGH | P25: AFMO | Q25: Afrique de l'ouest | R25: Ghana | S25: 3 | T25: EN | V25: Data protection | W25: Protection des données | X25: Big Data | Y25: Big data | Z25: BDT | AA25: DTP_BDT | AB25: Data protectionBig Data
N26: 24 | O26: SGGN | P26: AFMO | Q26: Afrique de l'ouest | R26: Guinée | S26: 3 | T26: FR | V26: Exposed services | W26: Services exposés | X26: Secure Hosting Baseline | Y26: Hébergement de référence sécurisé | Z26: SHB | AA26: EXS_SHB | AB26: Exposed servicesSecure Hosting Baseline
N27: 25 | O27: SGM | P27: AFMO | Q27: Afrique de l'ouest | R27: Mauritanie | S27: 3 | T27: FR | V27: Exposed services | W27: Services exposés | X27: Customer Identity Mangement | Y27: Gestion de l'identité des clients | Z27: CIM | AA27: EXS_CIM | AB27: Exposed servicesCustomer Identity Mangement
N28: 26 | O28: SGMA | P28: AFMO | Q28: Maroc | R28: Maroc | S28: 2 | T28: FR | V28: Exposed services | W28: Services exposés | X28: DNS security | Y28: Sécurité du DNS | Z28: DNS | AA28: EXS_DNS | AB28: Exposed servicesDNS security
N29: 27 | O29: SGMADA | P29: AFMO | Q29: Afrique centrale et Australie | R29: Madagascar | S29: 2 | T29: FR | V29: Exposed services | W29: Services exposés | X29: E-fraud | Y29: E-fraud | Z29: EFD | AA29: EXS_EFD | AB29: Exposed servicesE-fraud
N30: 28 | O30: SGMZ | P30: AFMO | Q30: Afrique centrale et Australie | R30: Mozambique | S30: 3 | T30: EN | V30: Exposed services | W30: Services exposés | X30: Internet application security | Y30: Sécurité des applications web | Z30: IAS | AA30: EXS_IAS | AB30: Exposed servicesInternet application security
N31: 29 | O31: SGSN | P31: AFMO | Q31: Afrique de l'ouest | R31: Sénégal | S31: 3 | T31: FR | V31: Exposed services | W31: Services exposés | X31: Mobile Banking Security | Y31: Sécurité des services bancaires mobile | Z31: MBS | AA31: EXS_MBS | AB31: Exposed servicesMobile Banking Security
N32: 30 | O32: SGT | P32: AFMO | Q32: Afrique centrale et Australie | R32: Tchad | S32: 3 | T32: FR | V32: Exposed services | W32: Services exposés | X32: Open Banking and API security | Y32: Open Banking et sécurité des API | Z32: OBS | AA32: EXS_OBS | AB32: Exposed servicesOpen Banking and API security
N33: 31 | O33: SGTG | P33: AFMO | Q33: Afrique de l'ouest | R33: Togo | S33: 3 | T33: FR | V33: Exposed services | W33: Services exposés | X33: Secure usage of internet services | Y33: Utilisation sécurisée des services web | Z33: SUI | AA33: EXS_SUI | AB33: Exposed servicesSecure usage of internet services
N34: 32 | O34: UIB | P34: AFMO | Q34: Méditerranée | R34: Tunisie | S34: 3 | T34: FR | V34: Internal fraud protection | W34: Protection contre la fraude interne | X34: Governance | Y34: Gouvernance | Z34: GOV | AA34: IFP_GOV | AB34: Internal fraud protectionGovernance
V35: Internal fraud protection | W35: Protection contre la fraude interne | X35: Prevention | Y35: Prévention | Z35: PRV | AA35: IFP_PRV | AB35: Internal fraud protectionPrevention
O36: =SUMPRODUCT(1/COUNTIF(DATA_EntityRegion[Entity],DATA_EntityRegion[Entity])) -> 32 | P36: =SUMPRODUCT(1/COUNTIF(DATA_EntityRegion[[BU ]],DATA_EntityRegion[[BU ]])) -> 3 | Q36: =SUMPRODUCT(1/COUNTIF(DATA_EntityRegion[Region],DATA_EntityRegion[Region])) -> 7 | R36: =SUMPRODUCT(1/COUNTIF(DATA_EntityRegion[Country],DATA_EntityRegion[Country])) -> 26 | V36: Internal fraud protection | W36: Protection contre la fraude interne | X36: Detection | Y36: Détection | Z36: DET | AA36: IFP_DET | AB36: Internal fraud protectionDetection
V37: Operational security | W37: Sécurité opérationnelle | X37: Know your IT | Y37: Connaître son SI | Z37: KYI | AA37: OPS_KYI | AB37: Operational securityKnow your IT
V38: Operational security | W38: Sécurité opérationnelle | X38: Incident management | Y38: Gestion des incidents | Z38: IMN | AA38: OPS_IMN | AB38: Operational securityIncident management
V39: Operational security | W39: Sécurité opérationnelle | X39: Access management | Y39: Gestion des accès | Z39: ACM | AA39: OPS_ACM | AB39: Operational securityAccess management
V40: Operational security | W40: Sécurité opérationnelle | X40: Privileged Access management | Y40: Gestion des accès à privilèges | Z40: PAM | AA40: OPS_PAM | AB40: Operational securityPrivileged Access management
V41: Operational security | W41: Sécurité opérationnelle | X41: Secure your IT | Y41: Sécuriser son SI | Z41: SYI | AA41: OPS_SYI | AB41: Operational securitySecure your IT
V42: Operational security | W42: Sécurité opérationnelle | X42: Secure your Endpoints | Y42: Protéger ces postes de travail | Z42: SYE | AA42: OPS_SYE | AB42: Operational securitySecure your Endpoints
V43: Operational security | W43: Sécurité opérationnelle | X43: Maintain IT Security | Y43: Maintenance de la sécurité du SI | Z43: MIS | AA43: OPS_MIS | AB43: Operational securityMaintain IT Security
V44: Operational security | W44: Sécurité opérationnelle | X44: Monitoring | Y44: Monitoring | Z44: MON | AA44: OPS_MON | AB44: Operational securityMonitoring
V45: Operational security | W45: Sécurité opérationnelle | X45: Evaluate your Security | Y45: Evaluer la sécurité | Z45: EYS | AA45: OPS_EYS | AB45: Operational securityEvaluate your Security
V46: Security in product lifecycle | W46: Sécurité dans le cycle de vie produit | X46: Project Methodology | Y46: Méthodologie Projet | Z46: PMD | AA46: SPL_PMD | AB46: Security in product lifecycleProject Methodology
V47: Security in product lifecycle | W47: Sécurité dans le cycle de vie produit | X47: Agile Project Methodology | Y47: Méthodologie Projet Agile | Z47: APM | AA47: SPL_APM | AB47: Security in product lifecycleAgile Project Methodology
V48: Security in product lifecycle | W48: Sécurité dans le cycle de vie produit | X48: Dev. Security | Y48: Sécurité des développements | Z48: DVS | AA48: SPL_DVS | AB48: Security in product lifecycleDev. Security
... V59: Training and awareness | W59: Formation et sensibilisation | X59: Third Parties | Y59: Tiers | Z59: TPT | AA59: TAA_TPT | AB59: Training and awarenessThird Parties
V60: =SUMPRODUCT((DATA_ID[Pack EN]<>"")/(COUNTIF(DATA_ID[Pack EN],DATA_ID[Pack EN]))) -> 9 | X60: =COUNTA(DATA_ID[Theme EN]) -> 57

Sheet CALCULATION
A1: C2-Confidential
A2: PACK | B2: END | C2: Before DARWIN² | D2: NO PROJECT P0 | E2: NO PROJECT P1 | F2: NO PROJECT P2&P3 | G2: NO PROJECT | H2: TO BE STARTED P0 | I2: TO BE STARTED P1 | J2: TO BE STARTED P2&P3 | K2: TO BE STARTED | L2: IN PROGRESS P0 | M2: IN PROGRESS P1 | N2: IN PROGRESS P2&P3 | O2: IN PROGRESS | P2: DONE P0 | Q2: DONE P1 | R2: DONE P2&P3 | S2: DONE | T2: CHECKED CISO P0 | U2: CHECKED CISO P1 | V2: CHECKED CISO P2&P3 | W2: CHECKED CISO | X2: VERIFIED P0 | Y2: VERIFIED P1 | Z2: VERIFIED P2&P3 | AA2: VERIFIED | AB2: PR_EX P0 | AC2: PR_EX P1 | AD2: PR_EX P2&P3 | AE2: TOTAL PR_EX | AF2: RISK ACCEPTED P0 | AG2: RISK ACCEPTED P1 | AH2: RISK ACCEPTED P2&3 | AI2: RISK ACCEPTED (FULL MEASURE) | AJ2: PARTIAL IMPLEMENTATION + RA P0 | AK2: PARTIAL IMPLEMENTATION + RA P1 | AL2: PARTIAL IMPLEMENTATION + RA P2&P3 | AM2: PARTIAL IMPLEMENTATION + RA | AN2: RISK ACCEPTANCE | AO2: FULL IMPLEMENTATION | AP2: NOT APPLICABLE | AQ2: LEFT P0 | AR2: LEFT P1 | AS2: LEFT P2&3 | AT2: TOTAL Impl | AU2: WIP | AV2: COMPLETED P0 | AW2: COMPLETED P1 | AX2: COMPLETED P2&3 | AY2: COMPLETED | AZ2: COMPLETED % | BA2: IN SCOPE | BB2: IN SCOPE % | BC2: % RISK ACCEPTED | BD2: Risk situation comment | BE2: RISK STATUS (Alert/Warning) | BF2: DELTA (No risk/empty) | BG2: TARGET IMPL | BH2: CURRENT IMPL DONE | BI2: CURRENT IMPL CHECKED CISO & VERIFIED | BJ2: WIP % | BK2: CURRENT IMPL | BL2: 2020 IMLP | BM2: 2020 COMMITTED | BN2: % 2020 COMMITTED | BO2: 2021 IMPL | BP2: 2021 COMMITTED | BQ2: % 2021 COMMITTED | BR2: 2022 IMPL | BS2: 2022 COMMITTED | BT2: % 2022 COMMITTED | BU2: COMMITTED | BV2: Total IMPLEMENTED | BW2: DELTA
A3: Operational security | B3: 1 | C3: 0.2 | D3: =COUNTIFS(#REF!,CALCULATION[[#This Row],[PACK]],GLOBAL_DATA_01[Priority],"P0",GLOBAL_DATA_01[Status],Status_No_Project) -> #REF! | E3: =COUNTIFS(#REF!,CALCULATION[[#This Row],[PACK]],GLOBAL_DATA_01[Priority],"P1",GLOBAL_DATA_01[Status],Status_No_Project) -> #REF! | F3: =COUNTIFS(#REF!,CALCULATION[[#This Row],[PACK]],GLOBAL_DATA_01[Priority],">=P2",GLOBAL_DATA_01[Status],Status_No_Project) -> #REF! | G3: =COUNTIFS(#REF!,CALCULATION[[#This Row],[PACK]],GLOBAL_DATA_01[Status],CALCULATION[[#Headers],[NO PROJECT]]) -> #REF! | H3: =COUNTIFS(#REF!,CALCULATION[[#This Row],[PACK]],GLOBAL_DATA_01[Priority],"P0",GLOBAL_DATA_01[Status],DATA!$I$4) -> #REF! | I3: =COUNTIFS(#REF!,CALCULATION[[#This Row],[PACK]],GLOBAL_DATA_01[Priority],"P1",GLOBAL_DATA_01[Status],DATA!$I$4) -> #REF! | J3: =COUNTIFS(#REF!,CALCULATION[[#This Row],[PACK]],GLOBAL_DATA_01[Priority],">=P2",GLOBAL_DATA_01[Status],DATA!$I$4) -> #REF! | K3: =COUNTIFS(#REF!,CALCULATION[[#This Row],[PACK]],GLOBAL_DATA_01[Status],CALCULATION[[#Headers],[TO BE STARTED]]) -> #REF! | L3: =COUNTIFS(#REF!,CALCULATION[[#This Row],[PACK]],GLOBAL_DATA_01[Priority],"P0",GLOBAL_DATA_01[Status],DATA!$I$5) -> #REF! | M3: =COUNTIFS(#REF!,CALCULATION[[#This Row],[PACK]],GLOBAL_DATA_01[Priority],"P1",GLOBAL_DATA_01[Status],DATA!$I$5) -> #REF! | N3: =COUNTIFS(#REF!,CALCULATION[[#This Row],[PACK]],GLOBAL_DATA_01[Priority],">=P2",GLOBAL_DATA_01[Status],DATA!$I$5) -> #REF! | O3: =COUNTIFS(#REF!,CALCULATION[[#This Row],[PACK]],GLOBAL_DATA_01[Status],CALCULATION[[#Headers],[IN PROGRESS]]) -> #REF! | P3: =COUNTIFS(#REF!,CALCULATION[[#This Row],[PACK]],GLOBAL_DATA_01[Priority],"P0",GLOBAL_DATA_01[Status],DATA!$I$6) -> #REF! | Q3: =COUNTIFS(#REF!,CALCULATION[[#This Row],[PACK]],GLOBAL_DATA_01[Priority],"P1",GLOBAL_DATA_01[Status],DATA!$I$6) -> #REF! | R3: =COUNTIFS(#REF!,CALCULATION[[#This Row],[PACK]],GLOBAL_DATA_01[Priority],">=P2",GLOBAL_DATA_01[Status],DATA!$I$6) -> #REF! | S3: =COUNTIFS(#REF!,CALCULATION[[#This Row],[PACK]],GLOBAL_DATA_01[Status],CALCULATION[[#Headers],[DONE]]) -> #REF! | T3: =COUNTIFS(#REF!,CALCULATION[[#This Row],[PACK]],GLOBAL_DATA_01[Priority],"P0",GLOBAL_DATA_01[Status],DATA!$I$7) -> #REF! | U3: =COUNTIFS(#REF!,CALCULATION[[#This Row],[PACK]],GLOBAL_DATA_01[Priority],"P1",GLOBAL_DATA_01[Status],DATA!$I$7) -> #REF! | V3: =COUNTIFS(#REF!,CALCULATION[[#This Row],[PACK]],GLOBAL_DATA_01[Priority],">=P2",GLOBAL_DATA_01[Status],DATA!$I$7) -> #REF! | W3: =COUNTIFS(#REF!,CALCULATION[[#This Row],[PACK]],GLOBAL_DATA_01[Status],CALCULATION[[#Headers],[CHECKED CISO]]) -> #REF! | X3: =COUNTIFS(#REF!,CALCULATION[[#This Row],[PACK]],GLOBAL_DATA_01[Priority],"P0",GLOBAL_DATA_01[Status],DATA!$I$8) -> #REF! | Y3: =COUNTIFS(#REF!,CALCULATION[[#This Row],[PACK]],GLOBAL_DATA_01[Priority],"P1",GLOBAL_DATA_01[Status],DATA!$I$8) -> #REF! | Z3: =COUNTIFS(#REF!,CALCULATION[[#This Row],[PACK]],GLOBAL_DATA_01[Priority],">=P2",GLOBAL_DATA_01[Status],DATA!$I$8) -> #REF! | AA3: =COUNTIFS(#REF!,CALCULATION[[#This Row],[PACK]],GLOBAL_DATA_01[Status],CALCULATION[[#Headers],[VERIFIED]]) -> #REF! | AB3: =COUNTIFS(#REF!,CALCULATION[[#This Row],[PACK]],GLOBAL_DATA_01[Priority],"P0",GLOBAL_DATA_01[Status],"<>"&Status_No_Project) -> #REF! | AC3: =COUNTIFS(#REF!,CALCULATION[[#This Row],[PACK]],GLOBAL_DATA_01[Priority],"P1",GLOBAL_DATA_01[Status],"<>"&Status_No_Project) -> #REF! | AD3: =COUNTIFS(#REF!,CALCULATION[[#This Row],[PACK]],GLOBAL_DATA_01[Priority],">=P2",GLOBAL_DATA_01[Status],"<>"&Status_No_Project) -> #REF! | AE3: =COUNTIFS(#REF!,CALCULATION[[#This Row],[PACK]],GLOBAL_DATA_01[Status],"<>"&Status_No_Project) -> #REF! | AF3: =COUNTIFS(#REF!,CALCULATION[[#This Row],[PACK]],GLOBAL_DATA_01[Priority],"P0",GLOBAL_DATA_01[Target status],DATA!$I$12) -> #REF! | AG3: =COUNTIFS(#REF!,CALCULATION[[#This Row],[PACK]],GLOBAL_DATA_01[Priority],"P1",GLOBAL_DATA_01[Target status],DATA!$I$12) -> #REF! | AH3: =COUNTIFS(#REF!,CALCULATION[[#This Row],[PACK]],GLOBAL_DATA_01[Priority],">P1",GLOBAL_DATA_01[Target status],DATA!$I$12) -> #REF! | AI3: =COUNTIFS(#REF!,CALCULATION[[#This Row],[PACK]],GLOBAL_DATA_01[Target status],DATA!$I$12) -> #REF! | AJ3: =COUNTIFS(#REF!,CALCULATION[[#This Row],[PACK]],GLOBAL_DATA_01[Target status],DATA!I13,GLOBAL_DATA_01[Priority],"P0") -> #REF! | AK3: =COUNTIFS(#REF!,CALCULATION[[#This Row],[PACK]],GLOBAL_DATA_01[Target status],DATA!I13,GLOBAL_DATA_01[Priority],"P1") -> #REF! | AL3: =COUNTIFS(#REF!,CALCULATION[[#This Row],[PACK]],GLOBAL_DATA_01[Target status],DATA!I13,GLOBAL_DATA_01[Priority],">P1") -> #REF! | AM3: =COUNTIFS(#REF!,CALCULATION[[#This Row],[PACK]],GLOBAL_DATA_01[Target status],CALCULATION[[#Headers],[PARTIAL IMPLEMENTATION + RA]]) -> #REF! | AN3: =1-CALCULATION[[#This Row],[IN SCOPE %]] -> 1 | AO3: =COUNTIFS(#REF!,CALCULATION[[#This Row],[PACK]],GLOBAL_DATA_01[Target status],CALCULATION[[#Headers],[FULL IMPLEMENTATION]]) -> #REF! | AP3: =COUNTIFS(#REF!,CALCULATION[[#This Row],[PACK]],GLOBAL_DATA_01[Target status],CALCULATION[[#Headers],[NOT APPLICABLE]]) -> #REF! | AQ3: =COUNTIFS(#REF!,CALCULATION[[#This Row],[PACK]],GLOBAL_DATA_01[Priority],"P0",GLOBAL_DATA_01[Target status],DATA!$I$13)+COUNTIFS(#REF!,CALCULATION[[#This Row],[PACK]],GLOBAL_DATA_01[Priority],"P0",GLOBAL_DATA_01[Target status],DATA!$I$14)-CALCULATION[[#This Row],[COMPLETED P0]] -> #REF! | AR3: =COUNTIFS(#REF!,CALCULATION[[#This Row],[PACK]],GLOBAL_DATA_01[Priority],"P1",GLOBAL_DATA_01[Target status],DATA!$I$13)+COUNTIFS(#REF!,CALCULATION[[#This Row],[PACK]],GLOBAL_DATA_01[Priority],"P1",GLOBAL_DATA_01[Target status],DATA!$I$14)-CALCULATION[[#This Row],[COMPLETED P1]] -> #REF! | AS3: =COUNTIFS(#REF!,CALCULATION[[#This Row],[PACK]],GLOBAL_DATA_01[Priority],">P1",GLOBAL_DATA_01[Target status],DATA!$I$13)+COUNTIFS(#REF!,CALCULATION[[#This Row],[PACK]],GLOBAL_DATA_01[Priority],">P1",GLOBAL_DATA_01[Target status],DATA!$I$14)-CALCULATION[[#This Row],[COMPLETED P2&3]] -> #REF! | AT3: =CALCULATION[[#This Row],[PARTIAL IMPLEMENTATION + RA]]+CALCULATION[[#This Row],[FULL IMPLEMENTATION]] -> #REF! | AU3: =CALCULATION[[#This Row],[IN PROGRESS]]+CALCULATION[[#This Row],[TO BE STARTED]] -> #REF! | AV3: =COUNTIFS(#REF!,CALCULATION[[#This Row],[PACK]],GLOBAL_DATA_01[Priority],"P0",#REF!,1) -> #REF! | AW3: =CALCULATION[[#This Row],[DONE P1]]+CALCULATION[[#This Row],[CHECKED CISO P1]]+CALCULATION[[#This Row],[VERIFIED P1]] -> #REF! | AX3: =CALCULATION[[#This Row],[DONE P2&P3]]+CALCULATION[[#This Row],[CHECKED CISO P2&P3]]+CALCULATION[[#This Row],[VERIFIED P2&P3]] -> #REF! | AY3: =CALCULATION[[#This Row],[DONE]]+CALCULATION[[#This Row],[CHECKED CISO]]+CALCULATION[[#This Row],[VERIFIED]] -> #REF! | AZ3: =IFERROR(CALCULATION[[#This Row],[COMPLETED]]/CALCULATION[[#This Row],[IN SCOPE]],0) -> 0 | BA3: =COUNTIFS(#REF!,CALCULATION[[#This Row],[PACK]],GLOBAL_DATA_01[Target status],"<>"&DATA!$I$15) -> #REF! | BB3: =IFERROR(ROUND(SUMIFS(GLOBAL_DATA_01[Target scope],#REF!,CALCULATION[[#This Row],[PACK]],GLOBAL_DATA_01[Target status],"<>"&DATA!$I$15)/CALCULATION[[#This Row],[IN SCOPE]],4),0) -> 0 | BC3: =IFERROR(ROUND(CALCULATION[[#This Row],[RISK ACCEPTED (FULL MEASURE)]]/CALCULATION[[#This Row],[IN SCOPE]],4),0) -> 0 | BD3: =IF((COUNTIFS(#REF!,CALCULATION[[#This Row],[PACK]],GLOBAL_DATA_01[CISO Comments]," ")>0),(COUNTIFS(#REF!,CALCULATION[[#This Row],[PACK]],GLOBAL_DATA_01[CISO Comments],"<>No alert")),(COUNTIFS(#REF!,CALCULATION[[#This Row],[PACK]],GLOBAL_DATA_01[CISO Comments],"")&" CISO assessment still empty")) -> #REF! | BE3: =COUNTIFS(#REF!,CALCULATION[[#This Row],[PACK]],GLOBAL_DATA_01[CISO assessment],"<>No alert")-COUNTIFS(#REF!,CALCULATION[[#This Row],[PACK]],GLOBAL_DATA_01[CISO assessment],"") -> #REF! | BF3: =COUNTIFS(#REF!,CALCULATION[[#This Row],[PACK]],GLOBAL_DATA_01[CISO assessment],"No alert")+COUNTIFS(#REF!,CALCULATION[[#This Row],[PACK]],GLOBAL_DATA_01[CISO assessment],"") -> #REF! | BG3: =IFERROR(ROUND(SUMIF(#REF!,CALCULATION[[#This Row],[PACK]],GLOBAL_DATA_01[Target scope])/CALCULATION[[#This Row],[IN SCOPE]],4),0) -> 0 | BH3: =IFERROR(ROUND(SUMIFS(#REF!,#REF!,CALCULATION[[#This Row],[PACK]],GLOBAL_DATA_01[Status],DATA!$I$6)/CALCULATION[[#This Row],[IN SCOPE]],4),0) -> 0 | BI3: =IFERROR(ROUND(SUMIFS(#REF!,#REF!,CALCULATION[[#This Row],[PACK]],#REF!,1)/CALCULATION[[#This Row],[IN SCOPE]],4),0)-CALCULATION[[#This Row],[CURRENT IMPL DONE ]] -> 0 | BJ3: =CALCULATION[[#This Row],[CURRENT IMPL]]-CALCULATION[[#This Row],[CURRENT IMPL DONE ]]-CALCULATION[[#This Row],[CURRENT IMPL CHECKED CISO & VERIFIED]] -> 0 | BK3: =IFERROR(ROUND(SUMIF(#REF!,CALCULATION[[#This Row],[PACK]],#REF!)/CALCULATION[[#This Row],[IN SCOPE]],4),0) -> 0 | BL3: =COUNTIFS(#REF!,CALCULATION[[#This Row],[PACK]],GLOBAL_DATA_01[Re-estimated end],">31/12/2019",GLOBAL_DATA_01[Re-estimated end],"<01/01/2021",#REF!,1) -> #REF! | BM3: =COUNTIFS(#REF!,CALCULATION[[#This Row],[PACK]],GLOBAL_DATA_01[Re-estimated end],">31/12/2019",GLOBAL_DATA_01[Re-estimated end],"<01/01/2021") -> #REF! | BN3: =IFERROR(ROUND(SUMIFS(GLOBAL_DATA_01[Target scope],#REF!,CALCULATION[PACK],GLOBAL_DATA_01[Re-estimated end],">31/12/2019",GLOBAL_DATA_01[Re-estimated end],"<01/01/2021")/CALCULATION[[#This Row],[IN SCOPE]],4),0) -> 0 | BO3: =COUNTIFS(#REF!,CALCULATION[[#This Row],[PACK]],GLOBAL_DATA_01[Re-estimated end],">31/12/2020",GLOBAL_DATA_01[Re-estimated end],"<01/01/2022",#REF!,1) -> #REF! | BP3: =COUNTIFS(#REF!,CALCULATION[[#This Row],[PACK]],GLOBAL_DATA_01[Re-estimated end],">31/12/2020",GLOBAL_DATA_01[Re-estimated end],"<01/01/2022") -> #REF! | BQ3: =IFERROR(ROUND(SUMIFS(GLOBAL_DATA_01[Target scope],#REF!,CALCULATION[PACK],GLOBAL_DATA_01[Re-estimated end],">31/12/2020",GLOBAL_DATA_01[Re-estimated end],"<01/01/2022")/CALCULATION[[#This Row],[IN SCOPE]],4),0) -> 0 | BR3: =COUNTIFS(#REF!,CALCULATION[[#This Row],[PACK]],GLOBAL_DATA_01[Re-estimated end],">31/12/2021",#REF!,"<01/01/2023",#REF!,1) -> #REF! | BS3: =COUNTIFS(#REF!,CALCULATION[[#This Row],[PACK]],GLOBAL_DATA_01[Re-estimated end],">31/12/2021",GLOBAL_DATA_01[Re-estimated end],"<01/01/2023") -> #REF! | BT3: =IFERROR(ROUND(SUMIFS(GLOBAL_DATA_01[Target scope],#REF!,CALCULATION[PACK],GLOBAL_DATA_01[Re-estimated end],">31/12/2021",GLOBAL_DATA_01[Re-estimated end],"<01/01/2023")/CALCULATION[[#This Row],[IN SCOPE]],4),0) -> 0 | BU3: =CALCULATION[[#This Row],[% 2020 COMMITTED]]+CALCULATION[[#This Row],[% 2021 COMMITTED]]+CALCULATION[[#This Row],[% 2022 COMMITTED]] -> 0 | BV3: =BK3 -> 0 | BW3: =CALCULATION[[#This Row],[% 2020 COMMITTED]]+CALCULATION[[#This Row],[% 2021 COMMITTED]]+CALCULATION[[#This Row],[% 2022 COMMITTED]]-CALCULATION[[#This Row],[CURRENT IMPL]] -> 0
A4: Training and awareness | B4: 1 | C4: 0.15 | D4: =COUNTIFS(#REF!,CALCULATION[[#This Row],[PACK]],GLOBAL_DATA_01[Priority],"P0",GLOBAL_DATA_01[Status],Status_No_Project) -> #REF! | E4: =COUNTIFS(#REF!,CALCULATION[[#This Row],[PACK]],GLOBAL_DATA_01[Priority],"P1",GLOBAL_DATA_01[Status],Status_No_Project) -> #REF! | F4: =COUNTIFS(#REF!,CALCULATION[[#This Row],[PACK]],GLOBAL_DATA_01[Priority],">=P2",GLOBAL_DATA_01[Status],Status_No_Project) -> #REF! | G4: =COUNTIFS(#REF!,CALCULATION[[#This Row],[PACK]],GLOBAL_DATA_01[Status],CALCULATION[[#Headers],[NO PROJECT]]) -> #REF! | H4: =COUNTIFS(#REF!,CALCULATION[[#This Row],[PACK]],GLOBAL_DATA_01[Priority],"P0",GLOBAL_DATA_01[Status],DATA!$I$4) -> #REF! | I4: =COUNTIFS(#REF!,CALCULATION[[#This Row],[PACK]],GLOBAL_DATA_01[Priority],"P1",GLOBAL_DATA_01[Status],DATA!$I$4) -> #REF! | J4: =COUNTIFS(#REF!,CALCULATION[[#This Row],[PACK]],GLOBAL_DATA_01[Priority],">=P2",GLOBAL_DATA_01[Status],DATA!$I$4) -> #REF! | K4: =COUNTIFS(#REF!,CALCULATION[[#This Row],[PACK]],GLOBAL_DATA_01[Status],CALCULATION[[#Headers],[TO BE STARTED]]) -> #REF! | L4: =COUNTIFS(#REF!,CALCULATION[[#This Row],[PACK]],GLOBAL_DATA_01[Priority],"P0",GLOBAL_DATA_01[Status],"IN PROGRESS") -> #REF! | M4: =COUNTIFS(#REF!,CALCULATION[[#This Row],[PACK]],GLOBAL_DATA_01[Priority],"P1",GLOBAL_DATA_01[Status],DATA!$I$5) -> #REF! | N4: =COUNTIFS(#REF!,CALCULATION[[#This Row],[PACK]],GLOBAL_DATA_01[Priority],">=P2",GLOBAL_DATA_01[Status],DATA!$I$5) -> #REF! | O4: =COUNTIFS(#REF!,CALCULATION[[#This Row],[PACK]],GLOBAL_DATA_01[Status],CALCULATION[[#Headers],[IN PROGRESS]]) -> #REF! | P4: =COUNTIFS(#REF!,CALCULATION[[#This Row],[PACK]],GLOBAL_DATA_01[Priority],"P0",GLOBAL_DATA_01[Status],DATA!$I$6) -> #REF! | Q4: =COUNTIFS(#REF!,CALCULATION[[#This Row],[PACK]],GLOBAL_DATA_01[Priority],"P1",GLOBAL_DATA_01[Status],DATA!$I$6) -> #REF! | R4: =COUNTIFS(#REF!,CALCULATION[[#This Row],[PACK]],GLOBAL_DATA_01[Priority],">=P2",GLOBAL_DATA_01[Status],DATA!$I$6) -> #REF! | S4: =COUNTIFS(#REF!,CALCULATION[[#This Row],[PACK]],GLOBAL_DATA_01[Status],CALCULATION[[#Headers],[DONE]]) -> #REF! | T4: =COUNTIFS(#REF!,CALCULATION[[#This Row],[PACK]],GLOBAL_DATA_01[Priority],"P0",GLOBAL_DATA_01[Status],DATA!$I$7) -> #REF! | U4: =COUNTIFS(#REF!,CALCULATION[[#This Row],[PACK]],GLOBAL_DATA_01[Priority],"P1",GLOBAL_DATA_01[Status],DATA!$I$7) -> #REF! | V4: =COUNTIFS(#REF!,CALCULATION[[#This Row],[PACK]],GLOBAL_DATA_01[Priority],">=P2",GLOBAL_DATA_01[Status],DATA!$I$7) -> #REF! | W4: =COUNTIFS(#REF!,CALCULATION[[#This Row],[PACK]],GLOBAL_DATA_01[Status],CALCULATION[[#Headers],[CHECKED CISO]]) -> #REF! | X4: =COUNTIFS(#REF!,CALCULATION[[#This Row],[PACK]],GLOBAL_DATA_01[Priority],"P0",GLOBAL_DATA_01[Status],DATA!$I$8) -> #REF! | Y4: =COUNTIFS(#REF!,CALCULATION[[#This Row],[PACK]],GLOBAL_DATA_01[Priority],"P1",GLOBAL_DATA_01[Status],DATA!$I$8) -> #REF! | Z4: =COUNTIFS(#REF!,CALCULATION[[#This Row],[PACK]],GLOBAL_DATA_01[Priority],">=P2",GLOBAL_DATA_01[Status],DATA!$I$8) -> #REF! | AA4: =COUNTIFS(#REF!,CALCULATION[[#This Row],[PACK]],GLOBAL_DATA_01[Status],CALCULATION[[#Headers],[VERIFIED]]) -> #REF! | AB4: =COUNTIFS(#REF!,CALCULATION[[#This Row],[PACK]],GLOBAL_DATA_01[Priority],"P0",GLOBAL_DATA_01[Status],"<>"&Status_No_Project) -> #REF! | AC4: =COUNTIFS(#REF!,CALCULATION[[#This Row],[PACK]],GLOBAL_DATA_01[Priority],"P1",GLOBAL_DATA_01[Status],"<>"&Status_No_Project) -> #REF! | AD4: =COUNTIFS(#REF!,CALCULATION[[#This Row],[PACK]],GLOBAL_DATA_01[Priority],">=P2",GLOBAL_DATA_01[Status],"<>NO PROJECT") -> #REF! | AE4: =COUNTIFS(#REF!,CALCULATION[[#This Row],[PACK]],GLOBAL_DATA_01[Status],"<>"&Status_No_Project) -> #REF! | AF4: =COUNTIFS(#REF!,CALCULATION[[#This Row],[PACK]],GLOBAL_DATA_01[Priority],"P0",GLOBAL_DATA_01[Target status],DATA!$I$12) -> #REF! | AG4: =COUNTIFS(#REF!,CALCULATION[[#This Row],[PACK]],GLOBAL_DATA_01[Priority],"P1",GLOBAL_DATA_01[Target status],DATA!$I$12) -> #REF! | AH4: =COUNTIFS(#REF!,CALCULATION[[#This Row],[PACK]],GLOBAL_DATA_01[Priority],">P1",GLOBAL_DATA_01[Target status],DATA!$I$12) -> #REF! | AI4: =COUNTIFS(#REF!,CALCULATION[[#This Row],[PACK]],GLOBAL_DATA_01[Target status],DATA!$I$12) -> #REF! | AJ4: =COUNTIFS(#REF!,CALCULATION[[#This Row],[PACK]],GLOBAL_DATA_01[Target status],DATA!I14,GLOBAL_DATA_01[Priority],"P0") -> #REF! | AK4: =COUNTIFS(#REF!,CALCULATION[[#This Row],[PACK]],GLOBAL_DATA_01[Target status],DATA!I14,GLOBAL_DATA_01[Priority],"P1") -> #REF! | AL4: =COUNTIFS(#REF!,CALCULATION[[#This Row],[PACK]],GLOBAL_DATA_01[Target status],DATA!I14,GLOBAL_DATA_01[Priority],">P1") -> #REF! | AM4: =COUNTIFS(#REF!,CALCULATION[[#This Row],[PACK]],GLOBAL_DATA_01[Target status],CALCULATION[[#Headers],[PARTIAL IMPLEMENTATION + RA]]) -> #REF! | AN4: =1-CALCULATION[[#This Row],[IN SCOPE %]] -> 1 | AO4: =COUNTIFS(#REF!,CALCULATION[[#This Row],[PACK]],GLOBAL_DATA_01[Target status],CALCULATION[[#Headers],[FULL IMPLEMENTATION]]) -> #REF! | AP4: =COUNTIFS(#REF!,CALCULATION[[#This Row],[PACK]],GLOBAL_DATA_01[Target status],CALCULATION[[#Headers],[NOT APPLICABLE]]) -> #REF! | AQ4: =COUNTIFS(#REF!,CALCULATION[[#This Row],[PACK]],GLOBAL_DATA_01[Priority],"P0",GLOBAL_DATA_01[Target status],DATA!$I$13)+COUNTIFS(#REF!,CALCULATION[[#This Row],[PACK]],GLOBAL_DATA_01[Priority],"P0",GLOBAL_DATA_01[Target status],DATA!$I$14)-CALCULATION[[#This Row],[COMPLETED P0]] -> #REF! | AR4: =COUNTIFS(#REF!,CALCULATION[[#This Row],[PACK]],GLOBAL_DATA_01[Priority],"P1",GLOBAL_DATA_01[Target status],DATA!$I$13)+COUNTIFS(#REF!,CALCULATION[[#This Row],[PACK]],GLOBAL_DATA_01[Priority],"P1",GLOBAL_DATA_01[Target status],DATA!$I$14)-CALCULATION[[#This Row],[COMPLETED P1]] -> #REF! | AS4: =COUNTIFS(#REF!,CALCULATION[[#This Row],[PACK]],GLOBAL_DATA_01[Priority],">P1",GLOBAL_DATA_01[Target status],DATA!$I$13)+COUNTIFS(#REF!,CALCULATION[[#This Row],[PACK]],GLOBAL_DATA_01[Priority],">P1",GLOBAL_DATA_01[Target status],DATA!$I$14)-CALCULATION[[#This Row],[COMPLETED P2&3]] -> #REF! | AT4: =CALCULATION[[#This Row],[PARTIAL IMPLEMENTATION + RA]]+CALCULATION[[#This Row],[FULL IMPLEMENTATION]] -> #REF! | AU4: =CALCULATION[[#This Row],[IN PROGRESS]]+CALCULATION[[#This Row],[TO BE STARTED]] -> #REF! | AV4: =COUNTIFS(#REF!,CALCULATION[[#This Row],[PACK]],GLOBAL_DATA_01[Priority],"P0",#REF!,1) -> #REF! | AW4: =CALCULATION[[#This Row],[DONE P1]]+CALCULATION[[#This Row],[CHECKED CISO P1]]+CALCULATION[[#This Row],[VERIFIED P1]] -> #REF! | AX4: =CALCULATION[[#This Row],[DONE P2&P3]]+CALCULATION[[#This Row],[CHECKED CISO P2&P3]]+CALCULATION[[#This Row],[VERIFIED P2&P3]] -> #REF! | AY4: =CALCULATION[[#This Row],[DONE]]+CALCULATION[[#This Row],[CHECKED CISO]]+CALCULATION[[#This Row],[VERIFIED]] -> #REF! | AZ4: =IFERROR(CALCULATION[[#This Row],[COMPLETED]]/CALCULATION[[#This Row],[IN SCOPE]],0) -> 0 | BA4: =COUNTIFS(#REF!,CALCULATION[[#This Row],[PACK]],GLOBAL_DATA_01[Target status],"<>"&DATA!$I$15) -> #REF! | BB4: =IFERROR(ROUND(SUMIFS(GLOBAL_DATA_01[Target scope],#REF!,CALCULATION[[#This Row],[PACK]],GLOBAL_DATA_01[Target status],"<>"&DATA!$I$15)/CALCULATION[[#This Row],[IN SCOPE]],4),0) -> 0 | BC4: =IFERROR(ROUND(CALCULATION[[#This Row],[RISK ACCEPTED (FULL MEASURE)]]/CALCULATION[[#This Row],[IN SCOPE]],4),0) -> 0 | BD4: =IF((COUNTIFS(#REF!,CALCULATION[[#This Row],[PACK]],GLOBAL_DATA_01[CISO Comments]," ")>0),(COUNTIFS(#REF!,CALCULATION[[#This Row],[PACK]],GLOBAL_DATA_01[CISO Comments],"<>No alert")),(COUNTIFS(#REF!,CALCULATION[[#This Row],[PACK]],GLOBAL_DATA_01[CISO Comments],"")&" CISO assessment still empty")) -> #REF! | BE4: =COUNTIFS(#REF!,CALCULATION[[#This Row],[PACK]],GLOBAL_DATA_01[CISO assessment],"<>No alert")-COUNTIFS(#REF!,CALCULATION[[#This Row],[PACK]],GLOBAL_DATA_01[CISO assessment],"") -> #REF! | BF4: =COUNTIFS(#REF!,CALCULATION[[#This Row],[PACK]],GLOBAL_DATA_01[CISO assessment],"No alert")+COUNTIFS(#REF!,CALCULATION[[#This Row],[PACK]],GLOBAL_DATA_01[CISO assessment],"") -> #REF! | BG4: =IFERROR(ROUND(SUMIF(#REF!,CALCULATION[[#This Row],[PACK]],GLOBAL_DATA_01[Target scope])/CALCULATION[[#This Row],[IN SCOPE]],4),0) -> 0 | BH4: =IFERROR(ROUND(SUMIFS(#REF!,#REF!,CALCULATION[[#This Row],[PACK]],GLOBAL_DATA_01[Status],DATA!$I$6)/CALCULATION[[#This Row],[IN SCOPE]],4),0) -> 0 | BI4: =IFERROR(ROUND(SUMIFS(#REF!,#REF!,CALCULATION[[#This Row],[PACK]],#REF!,1)/CALCULATION[[#This Row],[IN SCOPE]],4),0)-CALCULATION[[#This Row],[CURRENT IMPL DONE ]] -> 0 | BJ4: =CALCULATION[[#This Row],[CURRENT IMPL]]-CALCULATION[[#This Row],[CURRENT IMPL DONE ]]-CALCULATION[[#This Row],[CURRENT IMPL CHECKED CISO & VERIFIED]] -> 0 | BK4: =IFERROR(ROUND(SUMIF(#REF!,CALCULATION[[#This Row],[PACK]],#REF!)/CALCULATION[[#This Row],[IN SCOPE]],4),0) -> 0 | BL4: =COUNTIFS(#REF!,CALCULATION[[#This Row],[PACK]],GLOBAL_DATA_01[Re-estimated end],">31/12/2019",GLOBAL_DATA_01[Re-estimated end],"<01/01/2021",#REF!,1) -> #REF! | BM4: =COUNTIFS(#REF!,CALCULATION[[#This Row],[PACK]],GLOBAL_DATA_01[Re-estimated end],">31/12/2019",GLOBAL_DATA_01[Re-estimated end],"<01/01/2021") -> #REF! | BN4: =IFERROR(ROUND(SUMIFS(GLOBAL_DATA_01[Target scope],#REF!,CALCULATION[PACK],GLOBAL_DATA_01[Re-estimated end],">31/12/2019",GLOBAL_DATA_01[Re-estimated end],"<01/01/2021")/CALCULATION[[#This Row],[IN SCOPE]],4),0) -> 0 | BO4: =COUNTIFS(#REF!,CALCULATION[[#This Row],[PACK]],GLOBAL_DATA_01[Re-estimated end],">31/12/2020",GLOBAL_DATA_01[Re-estimated end],"<01/01/2022",#REF!,1) -> #REF! | BP4: =COUNTIFS(#REF!,CALCULATION[[#This Row],[PACK]],GLOBAL_DATA_01[Re-estimated end],">31/12/2020",GLOBAL_DATA_01[Re-estimated end],"<01/01/2022") -> #REF! | BQ4: =IFERROR(ROUND(SUMIFS(GLOBAL_DATA_01[Target scope],#REF!,CALCULATION[PACK],GLOBAL_DATA_01[Re-estimated end],">31/12/2020",GLOBAL_DATA_01[Re-estimated end],"<01/01/2022")/CALCULATION[[#This Row],[IN SCOPE]],4),0) -> 0 | BR4: =COUNTIFS(#REF!,CALCULATION[[#This Row],[PACK]],GLOBAL_DATA_01[Re-estimated end],">31/12/2021",#REF!,"<01/01/2023",#REF!,1) -> #REF! | BS4: =COUNTIFS(#REF!,CALCULATION[[#This Row],[PACK]],GLOBAL_DATA_01[Re-estimated end],">31/12/2021",GLOBAL_DATA_01[Re-estimated end],"<01/01/2023") -> #REF! | BT4: =IFERROR(ROUND(SUMIFS(GLOBAL_DATA_01[Target scope],#REF!,CALCULATION[PACK],GLOBAL_DATA_01[Re-estimated end],">31/12/2021",GLOBAL_DATA_01[Re-estimated end],"<01/01/2023")/CALCULATION[[#This Row],[IN SCOPE]],4),0) -> 0 | BU4: =CALCULATION[[#This Row],[% 2020 COMMITTED]]+CALCULATION[[#This Row],[% 2021 COMMITTED]]+CALCULATION[[#This Row],[% 2022 COMMITTED]] -> 0 | BV4: =BK4 -> 0 | BW4: =CALCULATION[[#This Row],[% 2020 COMMITTED]]+CALCULATION[[#This Row],[% 2021 COMMITTED]]+CALCULATION[[#This Row],[% 2022 COMMITTED]]-CALCULATION[[#This Row],[CURRENT IMPL]] -> 0
A5: Data protection | B5: 1 | C5: 0.1 | D5: =COUNTIFS(#REF!,CALCULATION[[#This Row],[PACK]],GLOBAL_DATA_01[Priority],"P0",GLOBAL_DATA_01[Status],Status_No_Project) -> #REF! | E5: =COUNTIFS(#REF!,CALCULATION[[#This Row],[PACK]],GLOBAL_DATA_01[Priority],"P1",GLOBAL_DATA_01[Status],Status_No_Project) -> #REF! | F5: =COUNTIFS(#REF!,CALCULATION[[#This Row],[PACK]],GLOBAL_DATA_01[Priority],">=P2",GLOBAL_DATA_01[Status],Status_No_Project) -> #REF! | G5: =COUNTIFS(#REF!,CALCULATION[[#This Row],[PACK]],GLOBAL_DATA_01[Status],CALCULATION[[#Headers],[NO PROJECT]]) -> #REF! | H5: =COUNTIFS(#REF!,CALCULATION[[#This Row],[PACK]],GLOBAL_DATA_01[Priority],"P0",GLOBAL_DATA_01[Status],DATA!$I$4) -> #REF! | I5: =COUNTIFS(#REF!,CALCULATION[[#This Row],[PACK]],GLOBAL_DATA_01[Priority],"P1",GLOBAL_DATA_01[Status],DATA!$I$4) -> #REF! | J5: =COUNTIFS(#REF!,CALCULATION[[#This Row],[PACK]],GLOBAL_DATA_01[Priority],">=P2",GLOBAL_DATA_01[Status],DATA!$I$4) -> #REF! | K5: =COUNTIFS(#REF!,CALCULATION[[#This Row],[PACK]],GLOBAL_DATA_01[Status],CALCULATION[[#Headers],[TO BE STARTED]]) -> #REF! | L5: =COUNTIFS(#REF!,CALCULATION[[#This Row],[PACK]],GLOBAL_DATA_01[Priority],"P0",GLOBAL_DATA_01[Status],"IN PROGRESS") -> #REF! | M5: =COUNTIFS(#REF!,CALCULATION[[#This Row],[PACK]],GLOBAL_DATA_01[Priority],"P1",GLOBAL_DATA_01[Status],DATA!$I$5) -> #REF! | N5: =COUNTIFS(#REF!,CALCULATION[[#This Row],[PACK]],GLOBAL_DATA_01[Priority],">=P2",GLOBAL_DATA_01[Status],DATA!$I$5) -> #REF! | O5: =COUNTIFS(#REF!,CALCULATION[[#This Row],[PACK]],GLOBAL_DATA_01[Status],CALCULATION[[#Headers],[IN PROGRESS]]) -> #REF! | P5: =COUNTIFS(#REF!,CALCULATION[[#This Row],[PACK]],GLOBAL_DATA_01[Priority],"P0",GLOBAL_DATA_01[Status],DATA!$I$6) -> #REF! | Q5: =COUNTIFS(#REF!,CALCULATION[[#This Row],[PACK]],GLOBAL_DATA_01[Priority],"P1",GLOBAL_DATA_01[Status],DATA!$I$6) -> #REF! | R5: =COUNTIFS(#REF!,CALCULATION[[#This Row],[PACK]],GLOBAL_DATA_01[Priority],">=P2",GLOBAL_DATA_01[Status],DATA!$I$6) -> #REF! | S5: =COUNTIFS(#REF!,CALCULATION[[#This Row],[PACK]],GLOBAL_DATA_01[Status],CALCULATION[[#Headers],[DONE]]) -> #REF! | T5: =COUNTIFS(#REF!,CALCULATION[[#This Row],[PACK]],GLOBAL_DATA_01[Priority],"P0",GLOBAL_DATA_01[Status],DATA!$I$7) -> #REF! | U5: =COUNTIFS(#REF!,CALCULATION[[#This Row],[PACK]],GLOBAL_DATA_01[Priority],"P1",GLOBAL_DATA_01[Status],DATA!$I$7) -> #REF! | V5: =COUNTIFS(#REF!,CALCULATION[[#This Row],[PACK]],GLOBAL_DATA_01[Priority],">=P2",GLOBAL_DATA_01[Status],DATA!$I$7) -> #REF! | W5: =COUNTIFS(#REF!,CALCULATION[[#This Row],[PACK]],GLOBAL_DATA_01[Status],CALCULATION[[#Headers],[CHECKED CISO]]) -> #REF! | X5: =COUNTIFS(#REF!,CALCULATION[[#This Row],[PACK]],GLOBAL_DATA_01[Priority],"P0",GLOBAL_DATA_01[Status],DATA!$I$8) -> #REF! | Y5: =COUNTIFS(#REF!,CALCULATION[[#This Row],[PACK]],GLOBAL_DATA_01[Priority],"P1",GLOBAL_DATA_01[Status],DATA!$I$8) -> #REF! | Z5: =COUNTIFS(#REF!,CALCULATION[[#This Row],[PACK]],GLOBAL_DATA_01[Priority],">=P2",GLOBAL_DATA_01[Status],DATA!$I$8) -> #REF! | AA5: =COUNTIFS(#REF!,CALCULATION[[#This Row],[PACK]],GLOBAL_DATA_01[Status],CALCULATION[[#Headers],[VERIFIED]]) -> #REF! | AB5: =COUNTIFS(#REF!,CALCULATION[[#This Row],[PACK]],GLOBAL_DATA_01[Priority],"P0",GLOBAL_DATA_01[Status],"<>"&Status_No_Project) -> #REF! | AC5: =COUNTIFS(#REF!,CALCULATION[[#This Row],[PACK]],GLOBAL_DATA_01[Priority],"P1",GLOBAL_DATA_01[Status],"<>"&Status_No_Project) -> #REF! | AD5: =COUNTIFS(#REF!,CALCULATION[[#This Row],[PACK]],GLOBAL_DATA_01[Priority],">=P2",GLOBAL_DATA_01[Status],"<>NO PROJECT") -> #REF! | AE5: =COUNTIFS(#REF!,CALCULATION[[#This Row],[PACK]],GLOBAL_DATA_01[Status],"<>"&Status_No_Project) -> #REF! | AF5: =COUNTIFS(#REF!,CALCULATION[[#This Row],[PACK]],GLOBAL_DATA_01[Priority],"P0",GLOBAL_DATA_01[Target status],DATA!$I$12) -> #REF! | AG5: =COUNTIFS(#REF!,CALCULATION[[#This Row],[PACK]],GLOBAL_DATA_01[Priority],"P1",GLOBAL_DATA_01[Target status],DATA!$I$12) -> #REF! | AH5: =COUNTIFS(#REF!,CALCULATION[[#This Row],[PACK]],GLOBAL_DATA_01[Priority],">P1",GLOBAL_DATA_01[Target status],DATA!$I$12) -> #REF! | AI5: =COUNTIFS(#REF!,CALCULATION[[#This Row],[PACK]],GLOBAL_DATA_01[Target status],DATA!$I$12) -> #REF! | AJ5: =COUNTIFS(#REF!,CALCULATION[[#This Row],[PACK]],GLOBAL_DATA_01[Target status],DATA!I15,GLOBAL_DATA_01[Priority],"P0") -> #REF! | AK5: =COUNTIFS(#REF!,CALCULATION[[#This Row],[PACK]],GLOBAL_DATA_01[Target status],DATA!I15,GLOBAL_DATA_01[Priority],"P1") -> #REF! | AL5: =COUNTIFS(#REF!,CALCULATION[[#This Row],[PACK]],GLOBAL_DATA_01[Target status],DATA!I15,GLOBAL_DATA_01[Priority],">P1") -> #REF! | AM5: =COUNTIFS(#REF!,CALCULATION[[#This Row],[PACK]],GLOBAL_DATA_01[Target status],CALCULATION[[#Headers],[PARTIAL IMPLEMENTATION + RA]]) -> #REF! | AN5: =1-CALCULATION[[#This Row],[IN SCOPE %]] -> 1 | AO5: =COUNTIFS(#REF!,CALCULATION[[#This Row],[PACK]],GLOBAL_DATA_01[Target status],CALCULATION[[#Headers],[FULL IMPLEMENTATION]]) -> #REF! | AP5: =COUNTIFS(#REF!,CALCULATION[[#This Row],[PACK]],GLOBAL_DATA_01[Target status],CALCULATION[[#Headers],[NOT APPLICABLE]]) -> #REF! | AQ5: =COUNTIFS(#REF!,CALCULATION[[#This Row],[PACK]],GLOBAL_DATA_01[Priority],"P0",GLOBAL_DATA_01[Target status],DATA!$I$13)+COUNTIFS(#REF!,CALCULATION[[#This Row],[PACK]],GLOBAL_DATA_01[Priority],"P0",GLOBAL_DATA_01[Target status],DATA!$I$14)-CALCULATION[[#This Row],[COMPLETED P0]] -> #REF! | AR5: =COUNTIFS(#REF!,CALCULATION[[#This Row],[PACK]],GLOBAL_DATA_01[Priority],"P1",GLOBAL_DATA_01[Target status],DATA!$I$13)+COUNTIFS(#REF!,CALCULATION[[#This Row],[PACK]],GLOBAL_DATA_01[Priority],"P1",GLOBAL_DATA_01[Target status],DATA!$I$14)-CALCULATION[[#This Row],[COMPLETED P1]] -> #REF! | AS5: =COUNTIFS(#REF!,CALCULATION[[#This Row],[PACK]],GLOBAL_DATA_01[Priority],">P1",GLOBAL_DATA_01[Target status],DATA!$I$13)+COUNTIFS(#REF!,CALCULATION[[#This Row],[PACK]],GLOBAL_DATA_01[Priority],">P1",GLOBAL_DATA_01[Target status],DATA!$I$14)-CALCULATION[[#This Row],[COMPLETED P2&3]] -> #REF! | AT5: =CALCULATION[[#This Row],[PARTIAL IMPLEMENTATION + RA]]+CALCULATION[[#This Row],[FULL IMPLEMENTATION]] -> #REF! | AU5: =CALCULATION[[#This Row],[IN PROGRESS]]+CALCULATION[[#This Row],[TO BE STARTED]] -> #REF! | AV5: =COUNTIFS(#REF!,CALCULATION[[#This Row],[PACK]],GLOBAL_DATA_01[Priority],"P0",#REF!,1) -> #REF! | AW5: =CALCULATION[[#This Row],[DONE P1]]+CALCULATION[[#This Row],[CHECKED CISO P1]]+CALCULATION[[#This Row],[VERIFIED P1]] -> #REF! | AX5: =CALCULATION[[#This Row],[DONE P2&P3]]+CALCULATION[[#This Row],[CHECKED CISO P2&P3]]+CALCULATION[[#This Row],[VERIFIED P2&P3]] -> #REF! | AY5: =CALCULATION[[#This Row],[DONE]]+CALCULATION[[#This Row],[CHECKED CISO]]+CALCULATION[[#This Row],[VERIFIED]] -> #REF! | AZ5: =IFERROR(CALCULATION[[#This Row],[COMPLETED]]/CALCULATION[[#This Row],[IN SCOPE]],0) -> 0 | BA5: =COUNTIFS(#REF!,CALCULATION[[#This Row],[PACK]],GLOBAL_DATA_01[Target status],"<>"&DATA!$I$15) -> #REF! | BB5: =IFERROR(ROUND(SUMIFS(GLOBAL_DATA_01[Target scope],#REF!,CALCULATION[[#This Row],[PACK]],GLOBAL_DATA_01[Target status],"<>"&DATA!$I$15)/CALCULATION[[#This Row],[IN SCOPE]],4),0) -> 0 | BC5: =IFERROR(ROUND(CALCULATION[[#This Row],[RISK ACCEPTED (FULL MEASURE)]]/CALCULATION[[#This Row],[IN SCOPE]],4),0) -> 0 | BD5: =IF((COUNTIFS(#REF!,CALCULATION[[#This Row],[PACK]],GLOBAL_DATA_01[CISO Comments]," ")>0),(COUNTIFS(#REF!,CALCULATION[[#This Row],[PACK]],GLOBAL_DATA_01[CISO Comments],"<>No alert")),(COUNTIFS(#REF!,CALCULATION[[#This Row],[PACK]],GLOBAL_DATA_01[CISO Comments],"")&" CISO assessment still empty")) -> #REF! | BE5: =COUNTIFS(#REF!,CALCULATION[[#This Row],[PACK]],GLOBAL_DATA_01[CISO assessment],"<>No alert")-COUNTIFS(#REF!,CALCULATION[[#This Row],[PACK]],GLOBAL_DATA_01[CISO assessment],"") -> #REF! | BF5: =COUNTIFS(#REF!,CALCULATION[[#This Row],[PACK]],GLOBAL_DATA_01[CISO assessment],"No alert")+COUNTIFS(#REF!,CALCULATION[[#This Row],[PACK]],GLOBAL_DATA_01[CISO assessment],"") -> #REF! | BG5: =IFERROR(ROUND(SUMIF(#REF!,CALCULATION[[#This Row],[PACK]],GLOBAL_DATA_01[Target scope])/CALCULATION[[#This Row],[IN SCOPE]],4),0) -> 0 | BH5: =IFERROR(ROUND(SUMIFS(#REF!,#REF!,CALCULATION[[#This Row],[PACK]],GLOBAL_DATA_01[Status],DATA!$I$6)/CALCULATION[[#This Row],[IN SCOPE]],4),0) -> 0 | BI5: =IFERROR(ROUND(SUMIFS(#REF!,#REF!,CALCULATION[[#This Row],[PACK]],#REF!,1)/CALCULATION[[#This Row],[IN SCOPE]],4),0)-CALCULATION[[#This Row],[CURRENT IMPL DONE ]] -> 0 | BJ5: =CALCULATION[[#This Row],[CURRENT IMPL]]-CALCULATION[[#This Row],[CURRENT IMPL DONE ]]-CALCULATION[[#This Row],[CURRENT IMPL CHECKED CISO & VERIFIED]] -> 0 | BK5: =IFERROR(ROUND(SUMIF(#REF!,CALCULATION[[#This Row],[PACK]],#REF!)/CALCULATION[[#This Row],[IN SCOPE]],4),0) -> 0 | BL5: =COUNTIFS(#REF!,CALCULATION[[#This Row],[PACK]],GLOBAL_DATA_01[Re-estimated end],">31/12/2019",GLOBAL_DATA_01[Re-estimated end],"<01/01/2021",#REF!,1) -> #REF! | BM5: =COUNTIFS(#REF!,CALCULATION[[#This Row],[PACK]],GLOBAL_DATA_01[Re-estimated end],">31/12/2019",GLOBAL_DATA_01[Re-estimated end],"<01/01/2021") -> #REF! | BN5: =IFERROR(ROUND(SUMIFS(GLOBAL_DATA_01[Target scope],#REF!,CALCULATION[PACK],GLOBAL_DATA_01[Re-estimated end],">31/12/2019",GLOBAL_DATA_01[Re-estimated end],"<01/01/2021")/CALCULATION[[#This Row],[IN SCOPE]],4),0) -> 0 | BO5: =COUNTIFS(#REF!,CALCULATION[[#This Row],[PACK]],GLOBAL_DATA_01[Re-estimated end],">31/12/2020",GLOBAL_DATA_01[Re-estimated end],"<01/01/2022",#REF!,1) -> #REF! | BP5: =COUNTIFS(#REF!,CALCULATION[[#This Row],[PACK]],GLOBAL_DATA_01[Re-estimated end],">31/12/2020",GLOBAL_DATA_01[Re-estimated end],"<01/01/2022") -> #REF! | BQ5: =IFERROR(ROUND(SUMIFS(GLOBAL_DATA_01[Target scope],#REF!,CALCULATION[PACK],GLOBAL_DATA_01[Re-estimated end],">31/12/2020",GLOBAL_DATA_01[Re-estimated end],"<01/01/2022")/CALCULATION[[#This Row],[IN SCOPE]],4),0) -> 0 | BR5: =COUNTIFS(#REF!,CALCULATION[[#This Row],[PACK]],GLOBAL_DATA_01[Re-estimated end],">31/12/2021",#REF!,"<01/01/2023",#REF!,1) -> #REF! | BS5: =COUNTIFS(#REF!,CALCULATION[[#This Row],[PACK]],GLOBAL_DATA_01[Re-estimated end],">31/12/2021",GLOBAL_DATA_01[Re-estimated end],"<01/01/2023") -> #REF! | BT5: =IFERROR(ROUND(SUMIFS(GLOBAL_DATA_01[Target scope],#REF!,CALCULATION[PACK],GLOBAL_DATA_01[Re-estimated end],">31/12/2021",GLOBAL_DATA_01[Re-estimated end],"<01/01/2023")/CALCULATION[[#This Row],[IN SCOPE]],4),0) -> 0 | BU5: =CALCULATION[[#This Row],[% 2020 COMMITTED]]+CALCULATION[[#This Row],[% 2021 COMMITTED]]+CALCULATION[[#This Row],[% 2022 COMMITTED]] -> 0 | BV5: =BK5 -> 0 | BW5: =CALCULATION[[#This Row],[% 2020 COMMITTED]]+CALCULATION[[#This Row],[% 2021 COMMITTED]]+CALCULATION[[#This Row],[% 2022 COMMITTED]]-CALCULATION[[#This Row],[CURRENT IMPL]] -> 0
A6: Internal fraud protection | B6: 1 | C6: 0.07 | D6: =COUNTIFS(#REF!,CALCULATION[[#This Row],[PACK]],GLOBAL_DATA_01[Priority],"P0",GLOBAL_DATA_01[Status],Status_No_Project) -> #REF! | E6: =COUNTIFS(#REF!,CALCULATION[[#This Row],[PACK]],GLOBAL_DATA_01[Priority],"P1",GLOBAL_DATA_01[Status],Status_No_Project) -> #REF! | F6: =COUNTIFS(#REF!,CALCULATION[[#This Row],[PACK]],GLOBAL_DATA_01[Priority],">=P2",GLOBAL_DATA_01[Status],Status_No_Project) -> #REF! | G6: =COUNTIFS(#REF!,CALCULATION[[#This Row],[PACK]],GLOBAL_DATA_01[Status],CALCULATION[[#Headers],[NO PROJECT]]) -> #REF! | H6: =COUNTIFS(#REF!,CALCULATION[[#This Row],[PACK]],GLOBAL_DATA_01[Priority],"P0",GLOBAL_DATA_01[Status],DATA!$I$4) -> #REF! | I6: =COUNTIFS(#REF!,CALCULATION[[#This Row],[PACK]],GLOBAL_DATA_01[Priority],"P1",GLOBAL_DATA_01[Status],DATA!$I$4) -> #REF! | J6: =COUNTIFS(#REF!,CALCULATION[[#This Row],[PACK]],GLOBAL_DATA_01[Priority],">=P2",GLOBAL_DATA_01[Status],DATA!$I$4) -> #REF! | K6: =COUNTIFS(#REF!,CALCULATION[[#This Row],[PACK]],GLOBAL_DATA_01[Status],CALCULATION[[#Headers],[TO BE STARTED]]) -> #REF! | L6: =COUNTIFS(#REF!,CALCULATION[[#This Row],[PACK]],GLOBAL_DATA_01[Priority],"P0",GLOBAL_DATA_01[Status],"IN PROGRESS") -> #REF! | M6: =COUNTIFS(#REF!,CALCULATION[[#This Row],[PACK]],GLOBAL_DATA_01[Priority],"P1",GLOBAL_DATA_01[Status],DATA!$I$5) -> #REF! | N6: =COUNTIFS(#REF!,CALCULATION[[#This Row],[PACK]],GLOBAL_DATA_01[Priority],">=P2",GLOBAL_DATA_01[Status],DATA!$I$5) -> #REF! | O6: =COUNTIFS(#REF!,CALCULATION[[#This Row],[PACK]],GLOBAL_DATA_01[Status],CALCULATION[[#Headers],[IN PROGRESS]]) -> #REF! | P6: =COUNTIFS(#REF!,CALCULATION[[#This Row],[PACK]],GLOBAL_DATA_01[Priority],"P0",GLOBAL_DATA_01[Status],DATA!$I$6) -> #REF! | Q6: =COUNTIFS(#REF!,CALCULATION[[#This Row],[PACK]],GLOBAL_DATA_01[Priority],"P1",GLOBAL_DATA_01[Status],DATA!$I$6) -> #REF! | R6: =COUNTIFS(#REF!,CALCULATION[[#This Row],[PACK]],GLOBAL_DATA_01[Priority],">=P2",GLOBAL_DATA_01[Status],DATA!$I$6) -> #REF! | S6: =COUNTIFS(#REF!,CALCULATION[[#This Row],[PACK]],GLOBAL_DATA_01[Status],CALCULATION[[#Headers],[DONE]]) -> #REF! | T6: =COUNTIFS(#REF!,CALCULATION[[#This Row],[PACK]],GLOBAL_DATA_01[Priority],"P0",GLOBAL_DATA_01[Status],DATA!$I$7) -> #REF! | U6: =COUNTIFS(#REF!,CALCULATION[[#This Row],[PACK]],GLOBAL_DATA_01[Priority],"P1",GLOBAL_DATA_01[Status],DATA!$I$7) -> #REF! | V6: =COUNTIFS(#REF!,CALCULATION[[#This Row],[PACK]],GLOBAL_DATA_01[Priority],">=P2",GLOBAL_DATA_01[Status],DATA!$I$7) -> #REF! | W6: =COUNTIFS(#REF!,CALCULATION[[#This Row],[PACK]],GLOBAL_DATA_01[Status],CALCULATION[[#Headers],[CHECKED CISO]]) -> #REF! | X6: =COUNTIFS(#REF!,CALCULATION[[#This Row],[PACK]],GLOBAL_DATA_01[Priority],"P0",GLOBAL_DATA_01[Status],DATA!$I$8) -> #REF! | Y6: =COUNTIFS(#REF!,CALCULATION[[#This Row],[PACK]],GLOBAL_DATA_01[Priority],"P1",GLOBAL_DATA_01[Status],DATA!$I$8) -> #REF! | Z6: =COUNTIFS(#REF!,CALCULATION[[#This Row],[PACK]],GLOBAL_DATA_01[Priority],">=P2",GLOBAL_DATA_01[Status],DATA!$I$8) -> #REF! | AA6: =COUNTIFS(#REF!,CALCULATION[[#This Row],[PACK]],GLOBAL_DATA_01[Status],CALCULATION[[#Headers],[VERIFIED]]) -> #REF! | AB6: =COUNTIFS(#REF!,CALCULATION[[#This Row],[PACK]],GLOBAL_DATA_01[Priority],"P0",GLOBAL_DATA_01[Status],"<>"&Status_No_Project) -> #REF! | AC6: =COUNTIFS(#REF!,CALCULATION[[#This Row],[PACK]],GLOBAL_DATA_01[Priority],"P1",GLOBAL_DATA_01[Status],"<>"&Status_No_Project) -> #REF! | AD6: =COUNTIFS(#REF!,CALCULATION[[#This Row],[PACK]],GLOBAL_DATA_01[Priority],">=P2",GLOBAL_DATA_01[Status],"<>NO PROJECT") -> #REF! | AE6: =COUNTIFS(#REF!,CALCULATION[[#This Row],[PACK]],GLOBAL_DATA_01[Status],"<>"&Status_No_Project) -> #REF! | AF6: =COUNTIFS(#REF!,CALCULATION[[#This Row],[PACK]],GLOBAL_DATA_01[Priority],"P0",GLOBAL_DATA_01[Target status],DATA!$I$12) -> #REF! | AG6: =COUNTIFS(#REF!,CALCULATION[[#This Row],[PACK]],GLOBAL_DATA_01[Priority],"P1",GLOBAL_DATA_01[Target status],DATA!$I$12) -> #REF! | AH6: =COUNTIFS(#REF!,CALCULATION[[#This Row],[PACK]],GLOBAL_DATA_01[Priority],">P1",GLOBAL_DATA_01[Target status],DATA!$I$12) -> #REF! | AI6: =COUNTIFS(#REF!,CALCULATION[[#This Row],[PACK]],GLOBAL_DATA_01[Target status],DATA!$I$12) -> #REF! | AJ6: =COUNTIFS(#REF!,CALCULATION[[#This Row],[PACK]],GLOBAL_DATA_01[Target status],DATA!I16,GLOBAL_DATA_01[Priority],"P0") -> #REF! | AK6: =COUNTIFS(#REF!,CALCULATION[[#This Row],[PACK]],GLOBAL_DATA_01[Target status],DATA!I16,GLOBAL_DATA_01[Priority],"P1") -> #REF! | AL6: =COUNTIFS(#REF!,CALCULATION[[#This Row],[PACK]],GLOBAL_DATA_01[Target status],DATA!I16,GLOBAL_DATA_01[Priority],">P1") -> #REF! | AM6: =COUNTIFS(#REF!,CALCULATION[[#This Row],[PACK]],GLOBAL_DATA_01[Target status],CALCULATION[[#Headers],[PARTIAL IMPLEMENTATION + RA]]) -> #REF! | AN6: =1-CALCULATION[[#This Row],[IN SCOPE %]] -> 1 | AO6: =COUNTIFS(#REF!,CALCULATION[[#This Row],[PACK]],GLOBAL_DATA_01[Target status],CALCULATION[[#Headers],[FULL IMPLEMENTATION]]) -> #REF! | AP6: =COUNTIFS(#REF!,CALCULATION[[#This Row],[PACK]],GLOBAL_DATA_01[Target status],CALCULATION[[#Headers],[NOT APPLICABLE]]) -> #REF! | AQ6: =COUNTIFS(#REF!,CALCULATION[[#This Row],[PACK]],GLOBAL_DATA_01[Priority],"P0",GLOBAL_DATA_01[Target status],DATA!$I$13)+COUNTIFS(#REF!,CALCULATION[[#This Row],[PACK]],GLOBAL_DATA_01[Priority],"P0",GLOBAL_DATA_01[Target status],DATA!$I$14)-CALCULATION[[#This Row],[COMPLETED P0]] -> #REF! | AR6: =COUNTIFS(#REF!,CALCULATION[[#This Row],[PACK]],GLOBAL_DATA_01[Priority],"P1",GLOBAL_DATA_01[Target status],DATA!$I$13)+COUNTIFS(#REF!,CALCULATION[[#This Row],[PACK]],GLOBAL_DATA_01[Priority],"P1",GLOBAL_DATA_01[Target status],DATA!$I$14)-CALCULATION[[#This Row],[COMPLETED P1]] -> #REF! | AS6: =COUNTIFS(#REF!,CALCULATION[[#This Row],[PACK]],GLOBAL_DATA_01[Priority],">P1",GLOBAL_DATA_01[Target status],DATA!$I$13)+COUNTIFS(#REF!,CALCULATION[[#This Row],[PACK]],GLOBAL_DATA_01[Priority],">P1",GLOBAL_DATA_01[Target status],DATA!$I$14)-CALCULATION[[#This Row],[COMPLETED P2&3]] -> #REF! | AT6: =CALCULATION[[#This Row],[PARTIAL IMPLEMENTATION + RA]]+CALCULATION[[#This Row],[FULL IMPLEMENTATION]] -> #REF! | AU6: =CALCULATION[[#This Row],[IN PROGRESS]]+CALCULATION[[#This Row],[TO BE STARTED]] -> #REF! | AV6: =COUNTIFS(#REF!,CALCULATION[[#This Row],[PACK]],GLOBAL_DATA_01[Priority],"P0",#REF!,1) -> #REF! | AW6: =CALCULATION[[#This Row],[DONE P1]]+CALCULATION[[#This Row],[CHECKED CISO P1]]+CALCULATION[[#This Row],[VERIFIED P1]] -> #REF! | AX6: =CALCULATION[[#This Row],[DONE P2&P3]]+CALCULATION[[#This Row],[CHECKED CISO P2&P3]]+CALCULATION[[#This Row],[VERIFIED P2&P3]] -> #REF! | AY6: =CALCULATION[[#This Row],[DONE]]+CALCULATION[[#This Row],[CHECKED CISO]]+CALCULATION[[#This Row],[VERIFIED]] -> #REF! | AZ6: =IFERROR(CALCULATION[[#This Row],[COMPLETED]]/CALCULATION[[#This Row],[IN SCOPE]],0) -> 0 | BA6: =COUNTIFS(#REF!,CALCULATION[[#This Row],[PACK]],GLOBAL_DATA_01[Target status],"<>"&DATA!$I$15) -> #REF! | BB6: =IFERROR(ROUND(SUMIFS(GLOBAL_DATA_01[Target scope],#REF!,CALCULATION[[#This Row],[PACK]],GLOBAL_DATA_01[Target status],"<>"&DATA!$I$15)/CALCULATION[[#This Row],[IN SCOPE]],4),0) -> 0 | BC6: =IFERROR(ROUND(CALCULATION[[#This Row],[RISK ACCEPTED (FULL MEASURE)]]/CALCULATION[[#This Row],[IN SCOPE]],4),0) -> 0 | BD6: =IF((COUNTIFS(#REF!,CALCULATION[[#This Row],[PACK]],GLOBAL_DATA_01[CISO Comments]," ")>0),(COUNTIFS(#REF!,CALCULATION[[#This Row],[PACK]],GLOBAL_DATA_01[CISO Comments],"<>No alert")),(COUNTIFS(#REF!,CALCULATION[[#This Row],[PACK]],GLOBAL_DATA_01[CISO Comments],"")&" CISO assessment still empty")) -> #REF! | BE6: =COUNTIFS(#REF!,CALCULATION[[#This Row],[PACK]],GLOBAL_DATA_01[CISO assessment],"<>No alert")-COUNTIFS(#REF!,CALCULATION[[#This Row],[PACK]],GLOBAL_DATA_01[CISO assessment],"") -> #REF! | BF6: =COUNTIFS(#REF!,CALCULATION[[#This Row],[PACK]],GLOBAL_DATA_01[CISO assessment],"No alert")+COUNTIFS(#REF!,CALCULATION[[#This Row],[PACK]],GLOBAL_DATA_01[CISO assessment],"") -> #REF! | BG6: =IFERROR(ROUND(SUMIF(#REF!,CALCULATION[[#This Row],[PACK]],GLOBAL_DATA_01[Target scope])/CALCULATION[[#This Row],[IN SCOPE]],4),0) -> 0 | BH6: =IFERROR(ROUND(SUMIFS(#REF!,#REF!,CALCULATION[[#This Row],[PACK]],GLOBAL_DATA_01[Status],DATA!$I$6)/CALCULATION[[#This Row],[IN SCOPE]],4),0) -> 0 | BI6: =IFERROR(ROUND(SUMIFS(#REF!,#REF!,CALCULATION[[#This Row],[PACK]],#REF!,1)/CALCULATION[[#This Row],[IN SCOPE]],4),0)-CALCULATION[[#This Row],[CURRENT IMPL DONE ]] -> 0 | BJ6: =CALCULATION[[#This Row],[CURRENT IMPL]]-CALCULATION[[#This Row],[CURRENT IMPL DONE ]]-CALCULATION[[#This Row],[CURRENT IMPL CHECKED CISO & VERIFIED]] -> 0 | BK6: =IFERROR(ROUND(SUMIF(#REF!,CALCULATION[[#This Row],[PACK]],#REF!)/CALCULATION[[#This Row],[IN SCOPE]],4),0) -> 0 | BL6: =COUNTIFS(#REF!,CALCULATION[[#This Row],[PACK]],GLOBAL_DATA_01[Re-estimated end],">31/12/2019",GLOBAL_DATA_01[Re-estimated end],"<01/01/2021",#REF!,1) -> #REF! | BM6: =COUNTIFS(#REF!,CALCULATION[[#This Row],[PACK]],GLOBAL_DATA_01[Re-estimated end],">31/12/2019",GLOBAL_DATA_01[Re-estimated end],"<01/01/2021") -> #REF! | BN6: =IFERROR(ROUND(SUMIFS(GLOBAL_DATA_01[Target scope],#REF!,CALCULATION[PACK],GLOBAL_DATA_01[Re-estimated end],">31/12/2019",GLOBAL_DATA_01[Re-estimated end],"<01/01/2021")/CALCULATION[[#This Row],[IN SCOPE]],4),0) -> 0 | BO6: =COUNTIFS(#REF!,CALCULATION[[#This Row],[PACK]],GLOBAL_DATA_01[Re-estimated end],">31/12/2020",GLOBAL_DATA_01[Re-estimated end],"<01/01/2022",#REF!,1) -> #REF! | BP6: =COUNTIFS(#REF!,CALCULATION[[#This Row],[PACK]],GLOBAL_DATA_01[Re-estimated end],">31/12/2020",GLOBAL_DATA_01[Re-estimated end],"<01/01/2022") -> #REF! | BQ6: =IFERROR(ROUND(SUMIFS(GLOBAL_DATA_01[Target scope],#REF!,CALCULATION[PACK],GLOBAL_DATA_01[Re-estimated end],">31/12/2020",GLOBAL_DATA_01[Re-estimated end],"<01/01/2022")/CALCULATION[[#This Row],[IN SCOPE]],4),0) -> 0 | BR6: =COUNTIFS(#REF!,CALCULATION[[#This Row],[PACK]],GLOBAL_DATA_01[Re-estimated end],">31/12/2021",#REF!,"<01/01/2023",#REF!,1) -> #REF! | BS6: =COUNTIFS(#REF!,CALCULATION[[#This Row],[PACK]],GLOBAL_DATA_01[Re-estimated end],">31/12/2021",GLOBAL_DATA_01[Re-estimated end],"<01/01/2023") -> #REF! | BT6: =IFERROR(ROUND(SUMIFS(GLOBAL_DATA_01[Target scope],#REF!,CALCULATION[PACK],GLOBAL_DATA_01[Re-estimated end],">31/12/2021",GLOBAL_DATA_01[Re-estimated end],"<01/01/2023")/CALCULATION[[#This Row],[IN SCOPE]],4),0) -> 0 | BU6: =CALCULATION[[#This Row],[% 2020 COMMITTED]]+CALCULATION[[#This Row],[% 2021 COMMITTED]]+CALCULATION[[#This Row],[% 2022 COMMITTED]] -> 0 | BV6: =BK6 -> 0 | BW6: =CALCULATION[[#This Row],[% 2020 COMMITTED]]+CALCULATION[[#This Row],[% 2021 COMMITTED]]+CALCULATION[[#This Row],[% 2022 COMMITTED]]-CALCULATION[[#This Row],[CURRENT IMPL]] -> 0
A7: Advanced protection | B7: 1 | C7: 0.08 | D7: =COUNTIFS(#REF!,CALCULATION[[#This Row],[PACK]],GLOBAL_DATA_01[Priority],"P0",GLOBAL_DATA_01[Status],Status_No_Project) -> #REF! | E7: =COUNTIFS(#REF!,CALCULATION[[#This Row],[PACK]],GLOBAL_DATA_01[Priority],"P1",GLOBAL_DATA_01[Status],Status_No_Project) -> #REF! | F7: =COUNTIFS(#REF!,CALCULATION[[#This Row],[PACK]],GLOBAL_DATA_01[Priority],">=P2",GLOBAL_DATA_01[Status],Status_No_Project) -> #REF! | G7: =COUNTIFS(#REF!,CALCULATION[[#This Row],[PACK]],GLOBAL_DATA_01[Status],CALCULATION[[#Headers],[NO PROJECT]]) -> #REF! | H7: =COUNTIFS(#REF!,CALCULATION[[#This Row],[PACK]],GLOBAL_DATA_01[Priority],"P0",GLOBAL_DATA_01[Status],DATA!$I$4) -> #REF! | I7: =COUNTIFS(#REF!,CALCULATION[[#This Row],[PACK]],GLOBAL_DATA_01[Priority],"P1",GLOBAL_DATA_01[Status],DATA!$I$4) -> #REF! | J7: =COUNTIFS(#REF!,CALCULATION[[#This Row],[PACK]],GLOBAL_DATA_01[Priority],">=P2",GLOBAL_DATA_01[Status],DATA!$I$4) -> #REF! | K7: =COUNTIFS(#REF!,CALCULATION[[#This Row],[PACK]],GLOBAL_DATA_01[Status],CALCULATION[[#Headers],[TO BE STARTED]]) -> #REF! | L7: =COUNTIFS(#REF!,CALCULATION[[#This Row],[PACK]],GLOBAL_DATA_01[Priority],"P0",GLOBAL_DATA_01[Status],"IN PROGRESS") -> #REF! | M7: =COUNTIFS(#REF!,CALCULATION[[#This Row],[PACK]],GLOBAL_DATA_01[Priority],"P1",GLOBAL_DATA_01[Status],DATA!$I$5) -> #REF! | N7: =COUNTIFS(#REF!,CALCULATION[[#This Row],[PACK]],GLOBAL_DATA_01[Priority],">=P2",GLOBAL_DATA_01[Status],DATA!$I$5) -> #REF! | O7: =COUNTIFS(#REF!,CALCULATION[[#This Row],[PACK]],GLOBAL_DATA_01[Status],CALCULATION[[#Headers],[IN PROGRESS]]) -> #REF! | P7: =COUNTIFS(#REF!,CALCULATION[[#This Row],[PACK]],GLOBAL_DATA_01[Priority],"P0",GLOBAL_DATA_01[Status],DATA!$I$6) -> #REF! | Q7: =COUNTIFS(#REF!,CALCULATION[[#This Row],[PACK]],GLOBAL_DATA_01[Priority],"P1",GLOBAL_DATA_01[Status],DATA!$I$6) -> #REF! | R7: =COUNTIFS(#REF!,CALCULATION[[#This Row],[PACK]],GLOBAL_DATA_01[Priority],">=P2",GLOBAL_DATA_01[Status],DATA!$I$6) -> #REF! | S7: =COUNTIFS(#REF!,CALCULATION[[#This Row],[PACK]],GLOBAL_DATA_01[Status],CALCULATION[[#Headers],[DONE]]) -> #REF! | T7: =COUNTIFS(#REF!,CALCULATION[[#This Row],[PACK]],GLOBAL_DATA_01[Priority],"P0",GLOBAL_DATA_01[Status],DATA!$I$7) -> #REF! | U7: =COUNTIFS(#REF!,CALCULATION[[#This Row],[PACK]],GLOBAL_DATA_01[Priority],"P1",GLOBAL_DATA_01[Status],DATA!$I$7) -> #REF! | V7: =COUNTIFS(#REF!,CALCULATION[[#This Row],[PACK]],GLOBAL_DATA_01[Priority],">=P2",GLOBAL_DATA_01[Status],DATA!$I$7) -> #REF! | W7: =COUNTIFS(#REF!,CALCULATION[[#This Row],[PACK]],GLOBAL_DATA_01[Status],CALCULATION[[#Headers],[CHECKED CISO]]) -> #REF! | X7: =COUNTIFS(#REF!,CALCULATION[[#This Row],[PACK]],GLOBAL_DATA_01[Priority],"P0",GLOBAL_DATA_01[Status],DATA!$I$8) -> #REF! | Y7: =COUNTIFS(#REF!,CALCULATION[[#This Row],[PACK]],GLOBAL_DATA_01[Priority],"P1",GLOBAL_DATA_01[Status],DATA!$I$8) -> #REF! | Z7: =COUNTIFS(#REF!,CALCULATION[[#This Row],[PACK]],GLOBAL_DATA_01[Priority],">=P2",GLOBAL_DATA_01[Status],DATA!$I$8) -> #REF! | AA7: =COUNTIFS(#REF!,CALCULATION[[#This Row],[PACK]],GLOBAL_DATA_01[Status],CALCULATION[[#Headers],[VERIFIED]]) -> #REF! | AB7: =COUNTIFS(#REF!,CALCULATION[[#This Row],[PACK]],GLOBAL_DATA_01[Priority],"P0",GLOBAL_DATA_01[Status],"<>"&Status_No_Project) -> #REF! | AC7: =COUNTIFS(#REF!,CALCULATION[[#This Row],[PACK]],GLOBAL_DATA_01[Priority],"P1",GLOBAL_DATA_01[Status],"<>"&Status_No_Project) -> #REF! | AD7: =COUNTIFS(#REF!,CALCULATION[[#This Row],[PACK]],GLOBAL_DATA_01[Priority],">=P2",GLOBAL_DATA_01[Status],"<>NO PROJECT") -> #REF! | AE7: =COUNTIFS(#REF!,CALCULATION[[#This Row],[PACK]],GLOBAL_DATA_01[Status],"<>"&Status_No_Project) -> #REF! | AF7: =COUNTIFS(#REF!,CALCULATION[[#This Row],[PACK]],GLOBAL_DATA_01[Priority],"P0",GLOBAL_DATA_01[Target status],DATA!$I$12) -> #REF! | AG7: =COUNTIFS(#REF!,CALCULATION[[#This Row],[PACK]],GLOBAL_DATA_01[Priority],"P1",GLOBAL_DATA_01[Target status],DATA!$I$12) -> #REF! | AH7: =COUNTIFS(#REF!,CALCULATION[[#This Row],[PACK]],GLOBAL_DATA_01[Priority],">P1",GLOBAL_DATA_01[Target status],DATA!$I$12) -> #REF! | AI7: =COUNTIFS(#REF!,CALCULATION[[#This Row],[PACK]],GLOBAL_DATA_01[Target status],DATA!$I$12) -> #REF! | AJ7: =COUNTIFS(#REF!,CALCULATION[[#This Row],[PACK]],GLOBAL_DATA_01[Target status],DATA!I17,GLOBAL_DATA_01[Priority],"P0") -> #REF! | AK7: =COUNTIFS(#REF!,CALCULATION[[#This Row],[PACK]],GLOBAL_DATA_01[Target status],DATA!I17,GLOBAL_DATA_01[Priority],"P1") -> #REF! | AL7: =COUNTIFS(#REF!,CALCULATION[[#This Row],[PACK]],GLOBAL_DATA_01[Target status],DATA!I17,GLOBAL_DATA_01[Priority],">P1") -> #REF! | AM7: =COUNTIFS(#REF!,CALCULATION[[#This Row],[PACK]],GLOBAL_DATA_01[Target status],CALCULATION[[#Headers],[PARTIAL IMPLEMENTATION + RA]]) -> #REF! | AN7: =1-CALCULATION[[#This Row],[IN SCOPE %]] -> 1 | AO7: =COUNTIFS(#REF!,CALCULATION[[#This Row],[PACK]],GLOBAL_DATA_01[Target status],CALCULATION[[#Headers],[FULL IMPLEMENTATION]]) -> #REF! | AP7: =COUNTIFS(#REF!,CALCULATION[[#This Row],[PACK]],GLOBAL_DATA_01[Target status],CALCULATION[[#Headers],[NOT APPLICABLE]]) -> #REF! | AQ7: =COUNTIFS(#REF!,CALCULATION[[#This Row],[PACK]],GLOBAL_DATA_01[Priority],"P0",GLOBAL_DATA_01[Target status],DATA!$I$13)+COUNTIFS(#REF!,CALCULATION[[#This Row],[PACK]],GLOBAL_DATA_01[Priority],"P0",GLOBAL_DATA_01[Target status],DATA!$I$14)-CALCULATION[[#This Row],[COMPLETED P0]] -> #REF! | AR7: =COUNTIFS(#REF!,CALCULATION[[#This Row],[PACK]],GLOBAL_DATA_01[Priority],"P1",GLOBAL_DATA_01[Target status],DATA!$I$13)+COUNTIFS(#REF!,CALCULATION[[#This Row],[PACK]],GLOBAL_DATA_01[Priority],"P1",GLOBAL_DATA_01[Target status],DATA!$I$14)-CALCULATION[[#This Row],[COMPLETED P1]] -> #REF! | AS7: =COUNTIFS(#REF!,CALCULATION[[#This Row],[PACK]],GLOBAL_DATA_01[Priority],">P1",GLOBAL_DATA_01[Target status],DATA!$I$13)+COUNTIFS(#REF!,CALCULATION[[#This Row],[PACK]],GLOBAL_DATA_01[Priority],">P1",GLOBAL_DATA_01[Target status],DATA!$I$14)-CALCULATION[[#This Row],[COMPLETED P2&3]] -> #REF! | AT7: =CALCULATION[[#This Row],[PARTIAL IMPLEMENTATION + RA]]+CALCULATION[[#This Row],[FULL IMPLEMENTATION]] -> #REF! | AU7: =CALCULATION[[#This Row],[IN PROGRESS]]+CALCULATION[[#This Row],[TO BE STARTED]] -> #REF! | AV7: =COUNTIFS(#REF!,CALCULATION[[#This Row],[PACK]],GLOBAL_DATA_01[Priority],"P0",#REF!,1) -> #REF! | AW7: =CALCULATION[[#This Row],[DONE P1]]+CALCULATION[[#This Row],[CHECKED CISO P1]]+CALCULATION[[#This Row],[VERIFIED P1]] -> #REF! | AX7: =CALCULATION[[#This Row],[DONE P2&P3]]+CALCULATION[[#This Row],[CHECKED CISO P2&P3]]+CALCULATION[[#This Row],[VERIFIED P2&P3]] -> #REF! | AY7: =CALCULATION[[#This Row],[DONE]]+CALCULATION[[#This Row],[CHECKED CISO]]+CALCULATION[[#This Row],[VERIFIED]] -> #REF! | AZ7: =IFERROR(CALCULATION[[#This Row],[COMPLETED]]/CALCULATION[[#This Row],[IN SCOPE]],0) -> 0 | BA7: =COUNTIFS(#REF!,CALCULATION[[#This Row],[PACK]],GLOBAL_DATA_01[Target status],"<>"&DATA!$I$15) -> #REF! | BB7: =IFERROR(ROUND(SUMIFS(GLOBAL_DATA_01[Target scope],#REF!,CALCULATION[[#This Row],[PACK]],GLOBAL_DATA_01[Target status],"<>"&DATA!$I$15)/CALCULATION[[#This Row],[IN SCOPE]],4),0) -> 0 | BC7: =IFERROR(ROUND(CALCULATION[[#This Row],[RISK ACCEPTED (FULL MEASURE)]]/CALCULATION[[#This Row],[IN SCOPE]],4),0) -> 0 | BD7: =IF((COUNTIFS(#REF!,CALCULATION[[#This Row],[PACK]],GLOBAL_DATA_01[CISO Comments]," ")>0),(COUNTIFS(#REF!,CALCULATION[[#This Row],[PACK]],GLOBAL_DATA_01[CISO Comments],"<>No alert")),(COUNTIFS(#REF!,CALCULATION[[#This Row],[PACK]],GLOBAL_DATA_01[CISO Comments],"")&" CISO assessment still empty")) -> #REF! | BE7: =COUNTIFS(#REF!,CALCULATION[[#This Row],[PACK]],GLOBAL_DATA_01[CISO assessment],"<>No alert")-COUNTIFS(#REF!,CALCULATION[[#This Row],[PACK]],GLOBAL_DATA_01[CISO assessment],"") -> #REF! | BF7: =COUNTIFS(#REF!,CALCULATION[[#This Row],[PACK]],GLOBAL_DATA_01[CISO assessment],"No alert")+COUNTIFS(#REF!,CALCULATION[[#This Row],[PACK]],GLOBAL_DATA_01[CISO assessment],"") -> #REF! | BG7: =IFERROR(ROUND(SUMIF(#REF!,CALCULATION[[#This Row],[PACK]],GLOBAL_DATA_01[Target scope])/CALCULATION[[#This Row],[IN SCOPE]],4),0) -> 0 | BH7: =IFERROR(ROUND(SUMIFS(#REF!,#REF!,CALCULATION[[#This Row],[PACK]],GLOBAL_DATA_01[Status],DATA!$I$6)/CALCULATION[[#This Row],[IN SCOPE]],4),0) -> 0 | BI7: =IFERROR(ROUND(SUMIFS(#REF!,#REF!,CALCULATION[[#This Row],[PACK]],#REF!,1)/CALCULATION[[#This Row],[IN SCOPE]],4),0)-CALCULATION[[#This Row],[CURRENT IMPL DONE ]] -> 0 | BJ7: =CALCULATION[[#This Row],[CURRENT IMPL]]-CALCULATION[[#This Row],[CURRENT IMPL DONE ]]-CALCULATION[[#This Row],[CURRENT IMPL CHECKED CISO & VERIFIED]] -> 0 | BK7: =IFERROR(ROUND(SUMIF(#REF!,CALCULATION[[#This Row],[PACK]],#REF!)/CALCULATION[[#This Row],[IN SCOPE]],4),0) -> 0 | BL7: =COUNTIFS(#REF!,CALCULATION[[#This Row],[PACK]],GLOBAL_DATA_01[Re-estimated end],">31/12/2019",GLOBAL_DATA_01[Re-estimated end],"<01/01/2021",#REF!,1) -> #REF! | BM7: =COUNTIFS(#REF!,CALCULATION[[#This Row],[PACK]],GLOBAL_DATA_01[Re-estimated end],">31/12/2019",GLOBAL_DATA_01[Re-estimated end],"<01/01/2021") -> #REF! | BN7: =IFERROR(ROUND(SUMIFS(GLOBAL_DATA_01[Target scope],#REF!,CALCULATION[PACK],GLOBAL_DATA_01[Re-estimated end],">31/12/2019",GLOBAL_DATA_01[Re-estimated end],"<01/01/2021")/CALCULATION[[#This Row],[IN SCOPE]],4),0) -> 0 | BO7: =COUNTIFS(#REF!,CALCULATION[[#This Row],[PACK]],GLOBAL_DATA_01[Re-estimated end],">31/12/2020",GLOBAL_DATA_01[Re-estimated end],"<01/01/2022",#REF!,1) -> #REF! | BP7: =COUNTIFS(#REF!,CALCULATION[[#This Row],[PACK]],GLOBAL_DATA_01[Re-estimated end],">31/12/2020",GLOBAL_DATA_01[Re-estimated end],"<01/01/2022") -> #REF! | BQ7: =IFERROR(ROUND(SUMIFS(GLOBAL_DATA_01[Target scope],#REF!,CALCULATION[PACK],GLOBAL_DATA_01[Re-estimated end],">31/12/2020",GLOBAL_DATA_01[Re-estimated end],"<01/01/2022")/CALCULATION[[#This Row],[IN SCOPE]],4),0) -> 0 | BR7: =COUNTIFS(#REF!,CALCULATION[[#This Row],[PACK]],GLOBAL_DATA_01[Re-estimated end],">31/12/2021",#REF!,"<01/01/2023",#REF!,1) -> #REF! | BS7: =COUNTIFS(#REF!,CALCULATION[[#This Row],[PACK]],GLOBAL_DATA_01[Re-estimated end],">31/12/2021",GLOBAL_DATA_01[Re-estimated end],"<01/01/2023") -> #REF! | BT7: =IFERROR(ROUND(SUMIFS(GLOBAL_DATA_01[Target scope],#REF!,CALCULATION[PACK],GLOBAL_DATA_01[Re-estimated end],">31/12/2021",GLOBAL_DATA_01[Re-estimated end],"<01/01/2023")/CALCULATION[[#This Row],[IN SCOPE]],4),0) -> 0 | BU7: =CALCULATION[[#This Row],[% 2020 COMMITTED]]+CALCULATION[[#This Row],[% 2021 COMMITTED]]+CALCULATION[[#This Row],[% 2022 COMMITTED]] -> 0 | BV7: =BK7 -> 0 | BW7: =CALCULATION[[#This Row],[% 2020 COMMITTED]]+CALCULATION[[#This Row],[% 2021 COMMITTED]]+CALCULATION[[#This Row],[% 2022 COMMITTED]]-CALCULATION[[#This Row],[CURRENT IMPL]] -> 0
A8: Exposed services | B8: 1 | C8: 0.09 | D8: =COUNTIFS(#REF!,CALCULATION[[#This Row],[PACK]],GLOBAL_DATA_01[Priority],"P0",GLOBAL_DATA_01[Status],Status_No_Project) -> #REF! | E8: =COUNTIFS(#REF!,CALCULATION[[#This Row],[PACK]],GLOBAL_DATA_01[Priority],"P1",GLOBAL_DATA_01[Status],Status_No_Project) -> #REF! | F8: =COUNTIFS(#REF!,CALCULATION[[#This Row],[PACK]],GLOBAL_DATA_01[Priority],">=P2",GLOBAL_DATA_01[Status],Status_No_Project) -> #REF! | G8: =COUNTIFS(#REF!,CALCULATION[[#This Row],[PACK]],GLOBAL_DATA_01[Status],CALCULATION[[#Headers],[NO PROJECT]]) -> #REF! | H8: =COUNTIFS(#REF!,CALCULATION[[#This Row],[PACK]],GLOBAL_DATA_01[Priority],"P0",GLOBAL_DATA_01[Status],DATA!$I$4) -> #REF! | I8: =COUNTIFS(#REF!,CALCULATION[[#This Row],[PACK]],GLOBAL_DATA_01[Priority],"P1",GLOBAL_DATA_01[Status],DATA!$I$4) -> #REF! | J8: =COUNTIFS(#REF!,CALCULATION[[#This Row],[PACK]],GLOBAL_DATA_01[Priority],">=P2",GLOBAL_DATA_01[Status],DATA!$I$4) -> #REF! | K8: =COUNTIFS(#REF!,CALCULATION[[#This Row],[PACK]],GLOBAL_DATA_01[Status],CALCULATION[[#Headers],[TO BE STARTED]]) -> #REF! | L8: =COUNTIFS(#REF!,CALCULATION[[#This Row],[PACK]],GLOBAL_DATA_01[Priority],"P0",GLOBAL_DATA_01[Status],"IN PROGRESS") -> #REF! | M8: =COUNTIFS(#REF!,CALCULATION[[#This Row],[PACK]],GLOBAL_DATA_01[Priority],"P1",GLOBAL_DATA_01[Status],DATA!$I$5) -> #REF! | N8: =COUNTIFS(#REF!,CALCULATION[[#This Row],[PACK]],GLOBAL_DATA_01[Priority],">=P2",GLOBAL_DATA_01[Status],DATA!$I$5) -> #REF! | O8: =COUNTIFS(#REF!,CALCULATION[[#This Row],[PACK]],GLOBAL_DATA_01[Status],CALCULATION[[#Headers],[IN PROGRESS]]) -> #REF! | P8: =COUNTIFS(#REF!,CALCULATION[[#This Row],[PACK]],GLOBAL_DATA_01[Priority],"P0",GLOBAL_DATA_01[Status],DATA!$I$6) -> #REF! | Q8: =COUNTIFS(#REF!,CALCULATION[[#This Row],[PACK]],GLOBAL_DATA_01[Priority],"P1",GLOBAL_DATA_01[Status],DATA!$I$6) -> #REF! | R8: =COUNTIFS(#REF!,CALCULATION[[#This Row],[PACK]],GLOBAL_DATA_01[Priority],">=P2",GLOBAL_DATA_01[Status],DATA!$I$6) -> #REF! | S8: =COUNTIFS(#REF!,CALCULATION[[#This Row],[PACK]],GLOBAL_DATA_01[Status],CALCULATION[[#Headers],[DONE]]) -> #REF! | T8: =COUNTIFS(#REF!,CALCULATION[[#This Row],[PACK]],GLOBAL_DATA_01[Priority],"P0",GLOBAL_DATA_01[Status],DATA!$I$7) -> #REF! | U8: =COUNTIFS(#REF!,CALCULATION[[#This Row],[PACK]],GLOBAL_DATA_01[Priority],"P1",GLOBAL_DATA_01[Status],DATA!$I$7) -> #REF! | V8: =COUNTIFS(#REF!,CALCULATION[[#This Row],[PACK]],GLOBAL_DATA_01[Priority],">=P2",GLOBAL_DATA_01[Status],DATA!$I$7) -> #REF! | W8: =COUNTIFS(#REF!,CALCULATION[[#This Row],[PACK]],GLOBAL_DATA_01[Status],CALCULATION[[#Headers],[CHECKED CISO]]) -> #REF! | X8: =COUNTIFS(#REF!,CALCULATION[[#This Row],[PACK]],GLOBAL_DATA_01[Priority],"P0",GLOBAL_DATA_01[Status],DATA!$I$8) -> #REF! | Y8: =COUNTIFS(#REF!,CALCULATION[[#This Row],[PACK]],GLOBAL_DATA_01[Priority],"P1",GLOBAL_DATA_01[Status],DATA!$I$8) -> #REF! | Z8: =COUNTIFS(#REF!,CALCULATION[[#This Row],[PACK]],GLOBAL_DATA_01[Priority],">=P2",GLOBAL_DATA_01[Status],DATA!$I$8) -> #REF! | AA8: =COUNTIFS(#REF!,CALCULATION[[#This Row],[PACK]],GLOBAL_DATA_01[Status],CALCULATION[[#Headers],[VERIFIED]]) -> #REF! | AB8: =COUNTIFS(#REF!,CALCULATION[[#This Row],[PACK]],GLOBAL_DATA_01[Priority],"P0",GLOBAL_DATA_01[Status],"<>"&Status_No_Project) -> #REF! | AC8: =COUNTIFS(#REF!,CALCULATION[[#This Row],[PACK]],GLOBAL_DATA_01[Priority],"P1",GLOBAL_DATA_01[Status],"<>"&Status_No_Project) -> #REF! | AD8: =COUNTIFS(#REF!,CALCULATION[[#This Row],[PACK]],GLOBAL_DATA_01[Priority],">=P2",GLOBAL_DATA_01[Status],"<>NO PROJECT") -> #REF! | AE8: =COUNTIFS(#REF!,CALCULATION[[#This Row],[PACK]],GLOBAL_DATA_01[Status],"<>"&Status_No_Project) -> #REF! | AF8: =COUNTIFS(#REF!,CALCULATION[[#This Row],[PACK]],GLOBAL_DATA_01[Priority],"P0",GLOBAL_DATA_01[Target status],DATA!$I$12) -> #REF! | AG8: =COUNTIFS(#REF!,CALCULATION[[#This Row],[PACK]],GLOBAL_DATA_01[Priority],"P1",GLOBAL_DATA_01[Target status],DATA!$I$12) -> #REF! | AH8: =COUNTIFS(#REF!,CALCULATION[[#This Row],[PACK]],GLOBAL_DATA_01[Priority],">P1",GLOBAL_DATA_01[Target status],DATA!$I$12) -> #REF! | AI8: =COUNTIFS(#REF!,CALCULATION[[#This Row],[PACK]],GLOBAL_DATA_01[Target status],DATA!$I$12) -> #REF! | AJ8: =COUNTIFS(#REF!,CALCULATION[[#This Row],[PACK]],GLOBAL_DATA_01[Target status],DATA!I18,GLOBAL_DATA_01[Priority],"P0") -> #REF! | AK8: =COUNTIFS(#REF!,CALCULATION[[#This Row],[PACK]],GLOBAL_DATA_01[Target status],DATA!I18,GLOBAL_DATA_01[Priority],"P1") -> #REF! | AL8: =COUNTIFS(#REF!,CALCULATION[[#This Row],[PACK]],GLOBAL_DATA_01[Target status],DATA!I18,GLOBAL_DATA_01[Priority],">P1") -> #REF! | AM8: =COUNTIFS(#REF!,CALCULATION[[#This Row],[PACK]],GLOBAL_DATA_01[Target status],CALCULATION[[#Headers],[PARTIAL IMPLEMENTATION + RA]]) -> #REF! | AN8: =1-CALCULATION[[#This Row],[IN SCOPE %]] -> 1 | AO8: =COUNTIFS(#REF!,CALCULATION[[#This Row],[PACK]],GLOBAL_DATA_01[Target status],CALCULATION[[#Headers],[FULL IMPLEMENTATION]]) -> #REF! | AP8: =COUNTIFS(#REF!,CALCULATION[[#This Row],[PACK]],GLOBAL_DATA_01[Target status],CALCULATION[[#Headers],[NOT APPLICABLE]]) -> #REF! | AQ8: =COUNTIFS(#REF!,CALCULATION[[#This Row],[PACK]],GLOBAL_DATA_01[Priority],"P0",GLOBAL_DATA_01[Target status],DATA!$I$13)+COUNTIFS(#REF!,CALCULATION[[#This Row],[PACK]],GLOBAL_DATA_01[Priority],"P0",GLOBAL_DATA_01[Target status],DATA!$I$14)-CALCULATION[[#This Row],[COMPLETED P0]] -> #REF! | AR8: =COUNTIFS(#REF!,CALCULATION[[#This Row],[PACK]],GLOBAL_DATA_01[Priority],"P1",GLOBAL_DATA_01[Target status],DATA!$I$13)+COUNTIFS(#REF!,CALCULATION[[#This Row],[PACK]],GLOBAL_DATA_01[Priority],"P1",GLOBAL_DATA_01[Target status],DATA!$I$14)-CALCULATION[[#This Row],[COMPLETED P1]] -> #REF! | AS8: =COUNTIFS(#REF!,CALCULATION[[#This Row],[PACK]],GLOBAL_DATA_01[Priority],">P1",GLOBAL_DATA_01[Target status],DATA!$I$13)+COUNTIFS(#REF!,CALCULATION[[#This Row],[PACK]],GLOBAL_DATA_01[Priority],">P1",GLOBAL_DATA_01[Target status],DATA!$I$14)-CALCULATION[[#This Row],[COMPLETED P2&3]] -> #REF! | AT8: =CALCULATION[[#This Row],[PARTIAL IMPLEMENTATION + RA]]+CALCULATION[[#This Row],[FULL IMPLEMENTATION]] -> #REF! | AU8: =CALCULATION[[#This Row],[IN PROGRESS]]+CALCULATION[[#This Row],[TO BE STARTED]] -> #REF! | AV8: =COUNTIFS(#REF!,CALCULATION[[#This Row],[PACK]],GLOBAL_DATA_01[Priority],"P0",#REF!,1) -> #REF! | AW8: =CALCULATION[[#This Row],[DONE P1]]+CALCULATION[[#This Row],[CHECKED CISO P1]]+CALCULATION[[#This Row],[VERIFIED P1]] -> #REF! | AX8: =CALCULATION[[#This Row],[DONE P2&P3]]+CALCULATION[[#This Row],[CHECKED CISO P2&P3]]+CALCULATION[[#This Row],[VERIFIED P2&P3]] -> #REF! | AY8: =CALCULATION[[#This Row],[DONE]]+CALCULATION[[#This Row],[CHECKED CISO]]+CALCULATION[[#This Row],[VERIFIED]] -> #REF! | AZ8: =IFERROR(CALCULATION[[#This Row],[COMPLETED]]/CALCULATION[[#This Row],[IN SCOPE]],0) -> 0 | BA8: =COUNTIFS(#REF!,CALCULATION[[#This Row],[PACK]],GLOBAL_DATA_01[Target status],"<>"&DATA!$I$15) -> #REF! | BB8: =IFERROR(ROUND(SUMIFS(GLOBAL_DATA_01[Target scope],#REF!,CALCULATION[[#This Row],[PACK]],GLOBAL_DATA_01[Target status],"<>"&DATA!$I$15)/CALCULATION[[#This Row],[IN SCOPE]],4),0) -> 0 | BC8: =IFERROR(ROUND(CALCULATION[[#This Row],[RISK ACCEPTED (FULL MEASURE)]]/CALCULATION[[#This Row],[IN SCOPE]],4),0) -> 0 | BD8: =IF((COUNTIFS(#REF!,CALCULATION[[#This Row],[PACK]],GLOBAL_DATA_01[CISO Comments]," ")>0),(COUNTIFS(#REF!,CALCULATION[[#This Row],[PACK]],GLOBAL_DATA_01[CISO Comments],"<>No alert")),(COUNTIFS(#REF!,CALCULATION[[#This Row],[PACK]],GLOBAL_DATA_01[CISO Comments],"")&" CISO assessment still empty")) -> #REF! | BE8: =COUNTIFS(#REF!,CALCULATION[[#This Row],[PACK]],GLOBAL_DATA_01[CISO assessment],"<>No alert")-COUNTIFS(#REF!,CALCULATION[[#This Row],[PACK]],GLOBAL_DATA_01[CISO assessment],"") -> #REF! | BF8: =COUNTIFS(#REF!,CALCULATION[[#This Row],[PACK]],GLOBAL_DATA_01[CISO assessment],"No alert")+COUNTIFS(#REF!,CALCULATION[[#This Row],[PACK]],GLOBAL_DATA_01[CISO assessment],"") -> #REF! | BG8: =IFERROR(ROUND(SUMIF(#REF!,CALCULATION[[#This Row],[PACK]],GLOBAL_DATA_01[Target scope])/CALCULATION[[#This Row],[IN SCOPE]],4),0) -> 0 | BH8: =IFERROR(ROUND(SUMIFS(#REF!,#REF!,CALCULATION[[#This Row],[PACK]],GLOBAL_DATA_01[Status],DATA!$I$6)/CALCULATION[[#This Row],[IN SCOPE]],4),0) -> 0 | BI8: =IFERROR(ROUND(SUMIFS(#REF!,#REF!,CALCULATION[[#This Row],[PACK]],#REF!,1)/CALCULATION[[#This Row],[IN SCOPE]],4),0)-CALCULATION[[#This Row],[CURRENT IMPL DONE ]] -> 0 | BJ8: =CALCULATION[[#This Row],[CURRENT IMPL]]-CALCULATION[[#This Row],[CURRENT IMPL DONE ]]-CALCULATION[[#This Row],[CURRENT IMPL CHECKED CISO & VERIFIED]] -> 0 | BK8: =IFERROR(ROUND(SUMIF(#REF!,CALCULATION[[#This Row],[PACK]],#REF!)/CALCULATION[[#This Row],[IN SCOPE]],4),0) -> 0 | BL8: =COUNTIFS(#REF!,CALCULATION[[#This Row],[PACK]],GLOBAL_DATA_01[Re-estimated end],">31/12/2019",GLOBAL_DATA_01[Re-estimated end],"<01/01/2021",#REF!,1) -> #REF! | BM8: =COUNTIFS(#REF!,CALCULATION[[#This Row],[PACK]],GLOBAL_DATA_01[Re-estimated end],">31/12/2019",GLOBAL_DATA_01[Re-estimated end],"<01/01/2021") -> #REF! | BN8: =IFERROR(ROUND(SUMIFS(GLOBAL_DATA_01[Target scope],#REF!,CALCULATION[PACK],GLOBAL_DATA_01[Re-estimated end],">31/12/2019",GLOBAL_DATA_01[Re-estimated end],"<01/01/2021")/CALCULATION[[#This Row],[IN SCOPE]],4),0) -> 0 | BO8: =COUNTIFS(#REF!,CALCULATION[[#This Row],[PACK]],GLOBAL_DATA_01[Re-estimated end],">31/12/2020",GLOBAL_DATA_01[Re-estimated end],"<01/01/2022",#REF!,1) -> #REF! | BP8: =COUNTIFS(#REF!,CALCULATION[[#This Row],[PACK]],GLOBAL_DATA_01[Re-estimated end],">31/12/2020",GLOBAL_DATA_01[Re-estimated end],"<01/01/2022") -> #REF! | BQ8: =IFERROR(ROUND(SUMIFS(GLOBAL_DATA_01[Target scope],#REF!,CALCULATION[PACK],GLOBAL_DATA_01[Re-estimated end],">31/12/2020",GLOBAL_DATA_01[Re-estimated end],"<01/01/2022")/CALCULATION[[#This Row],[IN SCOPE]],4),0) -> 0 | BR8: =COUNTIFS(#REF!,CALCULATION[[#This Row],[PACK]],GLOBAL_DATA_01[Re-estimated end],">31/12/2021",#REF!,"<01/01/2023",#REF!,1) -> #REF! | BS8: =COUNTIFS(#REF!,CALCULATION[[#This Row],[PACK]],GLOBAL_DATA_01[Re-estimated end],">31/12/2021",GLOBAL_DATA_01[Re-estimated end],"<01/01/2023") -> #REF! | BT8: =IFERROR(ROUND(SUMIFS(GLOBAL_DATA_01[Target scope],#REF!,CALCULATION[PACK],GLOBAL_DATA_01[Re-estimated end],">31/12/2021",GLOBAL_DATA_01[Re-estimated end],"<01/01/2023")/CALCULATION[[#This Row],[IN SCOPE]],4),0) -> 0 | BU8: =CALCULATION[[#This Row],[% 2020 COMMITTED]]+CALCULATION[[#This Row],[% 2021 COMMITTED]]+CALCULATION[[#This Row],[% 2022 COMMITTED]] -> 0 | BV8: =BK8 -> 0 | BW8: =CALCULATION[[#This Row],[% 2020 COMMITTED]]+CALCULATION[[#This Row],[% 2021 COMMITTED]]+CALCULATION[[#This Row],[% 2022 COMMITTED]]-CALCULATION[[#This Row],[CURRENT IMPL]] -> 0
A9: Cloud | B9: 1 | C9: 0.1 | D9: =COUNTIFS(#REF!,CALCULATION[[#This Row],[PACK]],GLOBAL_DATA_01[Priority],"P0",GLOBAL_DATA_01[Status],Status_No_Project) -> #REF! | E9: =COUNTIFS(#REF!,CALCULATION[[#This Row],[PACK]],GLOBAL_DATA_01[Priority],"P1",GLOBAL_DATA_01[Status],Status_No_Project) -> #REF! | F9: =COUNTIFS(#REF!,CALCULATION[[#This Row],[PACK]],GLOBAL_DATA_01[Priority],">=P2",GLOBAL_DATA_01[Status],Status_No_Project) -> #REF! | G9: =COUNTIFS(#REF!,CALCULATION[[#This Row],[PACK]],GLOBAL_DATA_01[Status],CALCULATION[[#Headers],[NO PROJECT]]) -> #REF! | H9: =COUNTIFS(#REF!,CALCULATION[[#This Row],[PACK]],GLOBAL_DATA_01[Priority],"P0",GLOBAL_DATA_01[Status],DATA!$I$4) -> #REF! | I9: =COUNTIFS(#REF!,CALCULATION[[#This Row],[PACK]],GLOBAL_DATA_01[Priority],"P1",GLOBAL_DATA_01[Status],DATA!$I$4) -> #REF! | J9: =COUNTIFS(#REF!,CALCULATION[[#This Row],[PACK]],GLOBAL_DATA_01[Priority],">=P2",GLOBAL_DATA_01[Status],DATA!$I$4) -> #REF! | K9: =COUNTIFS(#REF!,CALCULATION[[#This Row],[PACK]],GLOBAL_DATA_01[Status],CALCULATION[[#Headers],[TO BE STARTED]]) -> #REF! | L9: =COUNTIFS(#REF!,CALCULATION[[#This Row],[PACK]],GLOBAL_DATA_01[Priority],"P0",GLOBAL_DATA_01[Status],"IN PROGRESS") -> #REF! | M9: =COUNTIFS(#REF!,CALCULATION[[#This Row],[PACK]],GLOBAL_DATA_01[Priority],"P1",GLOBAL_DATA_01[Status],DATA!$I$5) -> #REF! | N9: =COUNTIFS(#REF!,CALCULATION[[#This Row],[PACK]],GLOBAL_DATA_01[Priority],">=P2",GLOBAL_DATA_01[Status],DATA!$I$5) -> #REF! | O9: =COUNTIFS(#REF!,CALCULATION[[#This Row],[PACK]],GLOBAL_DATA_01[Status],CALCULATION[[#Headers],[IN PROGRESS]]) -> #REF! | P9: =COUNTIFS(#REF!,CALCULATION[[#This Row],[PACK]],GLOBAL_DATA_01[Priority],"P0",GLOBAL_DATA_01[Status],DATA!$I$6) -> #REF! | Q9: =COUNTIFS(#REF!,CALCULATION[[#This Row],[PACK]],GLOBAL_DATA_01[Priority],"P1",GLOBAL_DATA_01[Status],DATA!$I$6) -> #REF! | R9: =COUNTIFS(#REF!,CALCULATION[[#This Row],[PACK]],GLOBAL_DATA_01[Priority],">=P2",GLOBAL_DATA_01[Status],DATA!$I$6) -> #REF! | S9: =COUNTIFS(#REF!,CALCULATION[[#This Row],[PACK]],GLOBAL_DATA_01[Status],CALCULATION[[#Headers],[DONE]]) -> #REF! | T9: =COUNTIFS(#REF!,CALCULATION[[#This Row],[PACK]],GLOBAL_DATA_01[Priority],"P0",GLOBAL_DATA_01[Status],DATA!$I$7) -> #REF! | U9: =COUNTIFS(#REF!,CALCULATION[[#This Row],[PACK]],GLOBAL_DATA_01[Priority],"P1",GLOBAL_DATA_01[Status],DATA!$I$7) -> #REF! | V9: =COUNTIFS(#REF!,CALCULATION[[#This Row],[PACK]],GLOBAL_DATA_01[Priority],">=P2",GLOBAL_DATA_01[Status],DATA!$I$7) -> #REF! | W9: =COUNTIFS(#REF!,CALCULATION[[#This Row],[PACK]],GLOBAL_DATA_01[Status],CALCULATION[[#Headers],[CHECKED CISO]]) -> #REF! | X9: =COUNTIFS(#REF!,CALCULATION[[#This Row],[PACK]],GLOBAL_DATA_01[Priority],"P0",GLOBAL_DATA_01[Status],DATA!$I$8) -> #REF! | Y9: =COUNTIFS(#REF!,CALCULATION[[#This Row],[PACK]],GLOBAL_DATA_01[Priority],"P1",GLOBAL_DATA_01[Status],DATA!$I$8) -> #REF! | Z9: =COUNTIFS(#REF!,CALCULATION[[#This Row],[PACK]],GLOBAL_DATA_01[Priority],">=P2",GLOBAL_DATA_01[Status],DATA!$I$8) -> #REF! | AA9: =COUNTIFS(#REF!,CALCULATION[[#This Row],[PACK]],GLOBAL_DATA_01[Status],CALCULATION[[#Headers],[VERIFIED]]) -> #REF! | AB9: =COUNTIFS(#REF!,CALCULATION[[#This Row],[PACK]],GLOBAL_DATA_01[Priority],"P0",GLOBAL_DATA_01[Status],"<>"&Status_No_Project) -> #REF! | AC9: =COUNTIFS(#REF!,CALCULATION[[#This Row],[PACK]],GLOBAL_DATA_01[Priority],"P1",GLOBAL_DATA_01[Status],"<>"&Status_No_Project) -> #REF! | AD9: =COUNTIFS(#REF!,CALCULATION[[#This Row],[PACK]],GLOBAL_DATA_01[Priority],">=P2",GLOBAL_DATA_01[Status],"<>NO PROJECT") -> #REF! | AE9: =COUNTIFS(#REF!,CALCULATION[[#This Row],[PACK]],GLOBAL_DATA_01[Status],"<>"&Status_No_Project) -> #REF! | AF9: =COUNTIFS(#REF!,CALCULATION[[#This Row],[PACK]],GLOBAL_DATA_01[Priority],"P0",GLOBAL_DATA_01[Target status],DATA!$I$12) -> #REF! | AG9: =COUNTIFS(#REF!,CALCULATION[[#This Row],[PACK]],GLOBAL_DATA_01[Priority],"P1",GLOBAL_DATA_01[Target status],DATA!$I$12) -> #REF! | AH9: =COUNTIFS(#REF!,CALCULATION[[#This Row],[PACK]],GLOBAL_DATA_01[Priority],">P1",GLOBAL_DATA_01[Target status],DATA!$I$12) -> #REF! | AI9: =COUNTIFS(#REF!,CALCULATION[[#This Row],[PACK]],GLOBAL_DATA_01[Target status],DATA!$I$12) -> #REF! | AJ9: =COUNTIFS(#REF!,CALCULATION[[#This Row],[PACK]],GLOBAL_DATA_01[Target status],DATA!I19,GLOBAL_DATA_01[Priority],"P0") -> #REF! | AK9: =COUNTIFS(#REF!,CALCULATION[[#This Row],[PACK]],GLOBAL_DATA_01[Target status],DATA!I19,GLOBAL_DATA_01[Priority],"P1") -> #REF! | AL9: =COUNTIFS(#REF!,CALCULATION[[#This Row],[PACK]],GLOBAL_DATA_01[Target status],DATA!I19,GLOBAL_DATA_01[Priority],">P1") -> #REF! | AM9: =COUNTIFS(#REF!,CALCULATION[[#This Row],[PACK]],GLOBAL_DATA_01[Target status],CALCULATION[[#Headers],[PARTIAL IMPLEMENTATION + RA]]) -> #REF! | AN9: =1-CALCULATION[[#This Row],[IN SCOPE %]] -> 1 | AO9: =COUNTIFS(#REF!,CALCULATION[[#This Row],[PACK]],GLOBAL_DATA_01[Target status],CALCULATION[[#Headers],[FULL IMPLEMENTATION]]) -> #REF! | AP9: =COUNTIFS(#REF!,CALCULATION[[#This Row],[PACK]],GLOBAL_DATA_01[Target status],CALCULATION[[#Headers],[NOT APPLICABLE]]) -> #REF! | AQ9: =COUNTIFS(#REF!,CALCULATION[[#This Row],[PACK]],GLOBAL_DATA_01[Priority],"P0",GLOBAL_DATA_01[Target status],DATA!$I$13)+COUNTIFS(#REF!,CALCULATION[[#This Row],[PACK]],GLOBAL_DATA_01[Priority],"P0",GLOBAL_DATA_01[Target status],DATA!$I$14)-CALCULATION[[#This Row],[COMPLETED P0]] -> #REF! | AR9: =COUNTIFS(#REF!,CALCULATION[[#This Row],[PACK]],GLOBAL_DATA_01[Priority],"P1",GLOBAL_DATA_01[Target status],DATA!$I$13)+COUNTIFS(#REF!,CALCULATION[[#This Row],[PACK]],GLOBAL_DATA_01[Priority],"P1",GLOBAL_DATA_01[Target status],DATA!$I$14)-CALCULATION[[#This Row],[COMPLETED P1]] -> #REF! | AS9: =COUNTIFS(#REF!,CALCULATION[[#This Row],[PACK]],GLOBAL_DATA_01[Priority],">P1",GLOBAL_DATA_01[Target status],DATA!$I$13)+COUNTIFS(#REF!,CALCULATION[[#This Row],[PACK]],GLOBAL_DATA_01[Priority],">P1",GLOBAL_DATA_01[Target status],DATA!$I$14)-CALCULATION[[#This Row],[COMPLETED P2&3]] -> #REF! | AT9: =CALCULATION[[#This Row],[PARTIAL IMPLEMENTATION + RA]]+CALCULATION[[#This Row],[FULL IMPLEMENTATION]] -> #REF! | AU9: =CALCULATION[[#This Row],[IN PROGRESS]]+CALCULATION[[#This Row],[TO BE STARTED]] -> #REF! | AV9: =COUNTIFS(#REF!,CALCULATION[[#This Row],[PACK]],GLOBAL_DATA_01[Priority],"P0",#REF!,1) -> #REF! | AW9: =CALCULATION[[#This Row],[DONE P1]]+CALCULATION[[#This Row],[CHECKED CISO P1]]+CALCULATION[[#This Row],[VERIFIED P1]] -> #REF! | AX9: =CALCULATION[[#This Row],[DONE P2&P3]]+CALCULATION[[#This Row],[CHECKED CISO P2&P3]]+CALCULATION[[#This Row],[VERIFIED P2&P3]] -> #REF! | AY9: =CALCULATION[[#This Row],[DONE]]+CALCULATION[[#This Row],[CHECKED CISO]]+CALCULATION[[#This Row],[VERIFIED]] -> #REF! | AZ9: =IFERROR(CALCULATION[[#This Row],[COMPLETED]]/CALCULATION[[#This Row],[IN SCOPE]],0) -> 0 | BA9: =COUNTIFS(#REF!,CALCULATION[[#This Row],[PACK]],GLOBAL_DATA_01[Target status],"<>"&DATA!$I$15) -> #REF! | BB9: =IFERROR(ROUND(SUMIFS(GLOBAL_DATA_01[Target scope],#REF!,CALCULATION[[#This Row],[PACK]],GLOBAL_DATA_01[Target status],"<>"&DATA!$I$15)/CALCULATION[[#This Row],[IN SCOPE]],4),0) -> 0 | BC9: =IFERROR(ROUND(CALCULATION[[#This Row],[RISK ACCEPTED (FULL MEASURE)]]/CALCULATION[[#This Row],[IN SCOPE]],4),0) -> 0 | BD9: =IF((COUNTIFS(#REF!,CALCULATION[[#This Row],[PACK]],GLOBAL_DATA_01[CISO Comments]," ")>0),(COUNTIFS(#REF!,CALCULATION[[#This Row],[PACK]],GLOBAL_DATA_01[CISO Comments],"<>No alert")),(COUNTIFS(#REF!,CALCULATION[[#This Row],[PACK]],GLOBAL_DATA_01[CISO Comments],"")&" CISO assessment still empty")) -> #REF! | BE9: =COUNTIFS(#REF!,CALCULATION[[#This Row],[PACK]],GLOBAL_DATA_01[CISO assessment],"<>No alert")-COUNTIFS(#REF!,CALCULATION[[#This Row],[PACK]],GLOBAL_DATA_01[CISO assessment],"") -> #REF! | BF9: =COUNTIFS(#REF!,CALCULATION[[#This Row],[PACK]],GLOBAL_DATA_01[CISO assessment],"No alert")+COUNTIFS(#REF!,CALCULATION[[#This Row],[PACK]],GLOBAL_DATA_01[CISO assessment],"") -> #REF! | BG9: =IFERROR(ROUND(SUMIF(#REF!,CALCULATION[[#This Row],[PACK]],GLOBAL_DATA_01[Target scope])/CALCULATION[[#This Row],[IN SCOPE]],4),0) -> 0 | BH9: =IFERROR(ROUND(SUMIFS(#REF!,#REF!,CALCULATION[[#This Row],[PACK]],GLOBAL_DATA_01[Status],DATA!$I$6)/CALCULATION[[#This Row],[IN SCOPE]],4),0) -> 0 | BI9: =IFERROR(ROUND(SUMIFS(#REF!,#REF!,CALCULATION[[#This Row],[PACK]],#REF!,1)/CALCULATION[[#This Row],[IN SCOPE]],4),0)-CALCULATION[[#This Row],[CURRENT IMPL DONE ]] -> 0 | BJ9: =CALCULATION[[#This Row],[CURRENT IMPL]]-CALCULATION[[#This Row],[CURRENT IMPL DONE ]]-CALCULATION[[#This Row],[CURRENT IMPL CHECKED CISO & VERIFIED]] -> 0 | BK9: =IFERROR(ROUND(SUMIF(#REF!,CALCULATION[[#This Row],[PACK]],#REF!)/CALCULATION[[#This Row],[IN SCOPE]],4),0) -> 0 | BL9: =COUNTIFS(#REF!,CALCULATION[[#This Row],[PACK]],GLOBAL_DATA_01[Re-estimated end],">31/12/2019",GLOBAL_DATA_01[Re-estimated end],"<01/01/2021",#REF!,1) -> #REF! | BM9: =COUNTIFS(#REF!,CALCULATION[[#This Row],[PACK]],GLOBAL_DATA_01[Re-estimated end],">31/12/2019",GLOBAL_DATA_01[Re-estimated end],"<01/01/2021") -> #REF! | BN9: =IFERROR(ROUND(SUMIFS(GLOBAL_DATA_01[Target scope],#REF!,CALCULATION[PACK],GLOBAL_DATA_01[Re-estimated end],">31/12/2019",GLOBAL_DATA_01[Re-estimated end],"<01/01/2021")/CALCULATION[[#This Row],[IN SCOPE]],4),0) -> 0 | BO9: =COUNTIFS(#REF!,CALCULATION[[#This Row],[PACK]],GLOBAL_DATA_01[Re-estimated end],">31/12/2020",GLOBAL_DATA_01[Re-estimated end],"<01/01/2022",#REF!,1) -> #REF! | BP9: =COUNTIFS(#REF!,CALCULATION[[#This Row],[PACK]],GLOBAL_DATA_01[Re-estimated end],">31/12/2020",GLOBAL_DATA_01[Re-estimated end],"<01/01/2022") -> #REF! | BQ9: =IFERROR(ROUND(SUMIFS(GLOBAL_DATA_01[Target scope],#REF!,CALCULATION[PACK],GLOBAL_DATA_01[Re-estimated end],">31/12/2020",GLOBAL_DATA_01[Re-estimated end],"<01/01/2022")/CALCULATION[[#This Row],[IN SCOPE]],4),0) -> 0 | BR9: =COUNTIFS(#REF!,CALCULATION[[#This Row],[PACK]],GLOBAL_DATA_01[Re-estimated end],">31/12/2021",#REF!,"<01/01/2023",#REF!,1) -> #REF! | BS9: =COUNTIFS(#REF!,CALCULATION[[#This Row],[PACK]],GLOBAL_DATA_01[Re-estimated end],">31/12/2021",GLOBAL_DATA_01[Re-estimated end],"<01/01/2023") -> #REF! | BT9: =IFERROR(ROUND(SUMIFS(GLOBAL_DATA_01[Target scope],#REF!,CALCULATION[PACK],GLOBAL_DATA_01[Re-estimated end],">31/12/2021",GLOBAL_DATA_01[Re-estimated end],"<01/01/2023")/CALCULATION[[#This Row],[IN SCOPE]],4),0) -> 0 | BU9: =CALCULATION[[#This Row],[% 2020 COMMITTED]]+CALCULATION[[#This Row],[% 2021 COMMITTED]]+CALCULATION[[#This Row],[% 2022 COMMITTED]] -> 0 | BV9: =BK9 -> 0 | BW9: =CALCULATION[[#This Row],[% 2020 COMMITTED]]+CALCULATION[[#This Row],[% 2021 COMMITTED]]+CALCULATION[[#This Row],[% 2022 COMMITTED]]-CALCULATION[[#This Row],[CURRENT IMPL]] -> 0
A10: Third parties and supply chain | B10: 1 | C10: 0.11 | D10: =COUNTIFS(#REF!,CALCULATION[[#This Row],[PACK]],GLOBAL_DATA_01[Priority],"P0",GLOBAL_DATA_01[Status],Status_No_Project) -> #REF! | E10: =COUNTIFS(#REF!,CALCULATION[[#This Row],[PACK]],GLOBAL_DATA_01[Priority],"P1",GLOBAL_DATA_01[Status],Status_No_Project) -> #REF! | F10: =COUNTIFS(#REF!,CALCULATION[[#This Row],[PACK]],GLOBAL_DATA_01[Priority],">=P2",GLOBAL_DATA_01[Status],Status_No_Project) -> #REF! | G10: =COUNTIFS(#REF!,CALCULATION[[#This Row],[PACK]],GLOBAL_DATA_01[Status],CALCULATION[[#Headers],[NO PROJECT]]) -> #REF! | H10: =COUNTIFS(#REF!,CALCULATION[[#This Row],[PACK]],GLOBAL_DATA_01[Priority],"P0",GLOBAL_DATA_01[Status],DATA!$I$4) -> #REF! | I10: =COUNTIFS(#REF!,CALCULATION[[#This Row],[PACK]],GLOBAL_DATA_01[Priority],"P1",GLOBAL_DATA_01[Status],DATA!$I$4) -> #REF! | J10: =COUNTIFS(#REF!,CALCULATION[[#This Row],[PACK]],GLOBAL_DATA_01[Priority],">=P2",GLOBAL_DATA_01[Status],DATA!$I$4) -> #REF! | K10: =COUNTIFS(#REF!,CALCULATION[[#This Row],[PACK]],GLOBAL_DATA_01[Status],CALCULATION[[#Headers],[TO BE STARTED]]) -> #REF! | L10: =COUNTIFS(#REF!,CALCULATION[[#This Row],[PACK]],GLOBAL_DATA_01[Priority],"P0",GLOBAL_DATA_01[Status],"IN PROGRESS") -> #REF! | M10: =COUNTIFS(#REF!,CALCULATION[[#This Row],[PACK]],GLOBAL_DATA_01[Priority],"P1",GLOBAL_DATA_01[Status],DATA!$I$5) -> #REF! | N10: =COUNTIFS(#REF!,CALCULATION[[#This Row],[PACK]],GLOBAL_DATA_01[Priority],">=P2",GLOBAL_DATA_01[Status],DATA!$I$5) -> #REF! | O10: =COUNTIFS(#REF!,CALCULATION[[#This Row],[PACK]],GLOBAL_DATA_01[Status],CALCULATION[[#Headers],[IN PROGRESS]]) -> #REF! | P10: =COUNTIFS(#REF!,CALCULATION[[#This Row],[PACK]],GLOBAL_DATA_01[Priority],"P0",GLOBAL_DATA_01[Status],DATA!$I$6) -> #REF! | Q10: =COUNTIFS(#REF!,CALCULATION[[#This Row],[PACK]],GLOBAL_DATA_01[Priority],"P1",GLOBAL_DATA_01[Status],DATA!$I$6) -> #REF! | R10: =COUNTIFS(#REF!,CALCULATION[[#This Row],[PACK]],GLOBAL_DATA_01[Priority],">=P2",GLOBAL_DATA_01[Status],DATA!$I$6) -> #REF! | S10: =COUNTIFS(#REF!,CALCULATION[[#This Row],[PACK]],GLOBAL_DATA_01[Status],CALCULATION[[#Headers],[DONE]]) -> #REF! | T10: =COUNTIFS(#REF!,CALCULATION[[#This Row],[PACK]],GLOBAL_DATA_01[Priority],"P0",GLOBAL_DATA_01[Status],DATA!$I$7) -> #REF! | U10: =COUNTIFS(#REF!,CALCULATION[[#This Row],[PACK]],GLOBAL_DATA_01[Priority],"P1",GLOBAL_DATA_01[Status],DATA!$I$7) -> #REF! | V10: =COUNTIFS(#REF!,CALCULATION[[#This Row],[PACK]],GLOBAL_DATA_01[Priority],">=P2",GLOBAL_DATA_01[Status],DATA!$I$7) -> #REF! | W10: =COUNTIFS(#REF!,CALCULATION[[#This Row],[PACK]],GLOBAL_DATA_01[Status],CALCULATION[[#Headers],[CHECKED CISO]]) -> #REF! | X10: =COUNTIFS(#REF!,CALCULATION[[#This Row],[PACK]],GLOBAL_DATA_01[Priority],"P0",GLOBAL_DATA_01[Status],DATA!$I$8) -> #REF! | Y10: =COUNTIFS(#REF!,CALCULATION[[#This Row],[PACK]],GLOBAL_DATA_01[Priority],"P1",GLOBAL_DATA_01[Status],DATA!$I$8) -> #REF! | Z10: =COUNTIFS(#REF!,CALCULATION[[#This Row],[PACK]],GLOBAL_DATA_01[Priority],">=P2",GLOBAL_DATA_01[Status],DATA!$I$8) -> #REF! | AA10: =COUNTIFS(#REF!,CALCULATION[[#This Row],[PACK]],GLOBAL_DATA_01[Status],CALCULATION[[#Headers],[VERIFIED]]) -> #REF! | AB10: =COUNTIFS(#REF!,CALCULATION[[#This Row],[PACK]],GLOBAL_DATA_01[Priority],"P0",GLOBAL_DATA_01[Status],"<>"&Status_No_Project) -> #REF! | AC10: =COUNTIFS(#REF!,CALCULATION[[#This Row],[PACK]],GLOBAL_DATA_01[Priority],"P1",GLOBAL_DATA_01[Status],"<>"&Status_No_Project) -> #REF! | AD10: =COUNTIFS(#REF!,CALCULATION[[#This Row],[PACK]],GLOBAL_DATA_01[Priority],">=P2",GLOBAL_DATA_01[Status],"<>NO PROJECT") -> #REF! | AE10: =COUNTIFS(#REF!,CALCULATION[[#This Row],[PACK]],GLOBAL_DATA_01[Status],"<>"&Status_No_Project) -> #REF! | AF10: =COUNTIFS(#REF!,CALCULATION[[#This Row],[PACK]],GLOBAL_DATA_01[Priority],"P0",GLOBAL_DATA_01[Target status],DATA!$I$12) -> #REF! | AG10: =COUNTIFS(#REF!,CALCULATION[[#This Row],[PACK]],GLOBAL_DATA_01[Priority],"P1",GLOBAL_DATA_01[Target status],DATA!$I$12) -> #REF! | AH10: =COUNTIFS(#REF!,CALCULATION[[#This Row],[PACK]],GLOBAL_DATA_01[Priority],">P1",GLOBAL_DATA_01[Target status],DATA!$I$12) -> #REF! | AI10: =COUNTIFS(#REF!,CALCULATION[[#This Row],[PACK]],GLOBAL_DATA_01[Target status],DATA!$I$12) -> #REF! | AJ10: =COUNTIFS(#REF!,CALCULATION[[#This Row],[PACK]],GLOBAL_DATA_01[Target status],DATA!I20,GLOBAL_DATA_01[Priority],"P0") -> #REF! | AK10: =COUNTIFS(#REF!,CALCULATION[[#This Row],[PACK]],GLOBAL_DATA_01[Target status],DATA!I20,GLOBAL_DATA_01[Priority],"P1") -> #REF! | AL10: =COUNTIFS(#REF!,CALCULATION[[#This Row],[PACK]],GLOBAL_DATA_01[Target status],DATA!I20,GLOBAL_DATA_01[Priority],">P1") -> #REF! | AM10: =COUNTIFS(#REF!,CALCULATION[[#This Row],[PACK]],GLOBAL_DATA_01[Target status],CALCULATION[[#Headers],[PARTIAL IMPLEMENTATION + RA]]) -> #REF! | AN10: =1-CALCULATION[[#This Row],[IN SCOPE %]] -> 1 | AO10: =COUNTIFS(#REF!,CALCULATION[[#This Row],[PACK]],GLOBAL_DATA_01[Target status],CALCULATION[[#Headers],[FULL IMPLEMENTATION]]) -> #REF! | AP10: =COUNTIFS(#REF!,CALCULATION[[#This Row],[PACK]],GLOBAL_DATA_01[Target status],CALCULATION[[#Headers],[NOT APPLICABLE]]) -> #REF! | AQ10: =COUNTIFS(#REF!,CALCULATION[[#This Row],[PACK]],GLOBAL_DATA_01[Priority],"P0",GLOBAL_DATA_01[Target status],DATA!$I$13)+COUNTIFS(#REF!,CALCULATION[[#This Row],[PACK]],GLOBAL_DATA_01[Priority],"P0",GLOBAL_DATA_01[Target status],DATA!$I$14)-CALCULATION[[#This Row],[COMPLETED P0]] -> #REF! | AR10: =COUNTIFS(#REF!,CALCULATION[[#This Row],[PACK]],GLOBAL_DATA_01[Priority],"P1",GLOBAL_DATA_01[Target status],DATA!$I$13)+COUNTIFS(#REF!,CALCULATION[[#This Row],[PACK]],GLOBAL_DATA_01[Priority],"P1",GLOBAL_DATA_01[Target status],DATA!$I$14)-CALCULATION[[#This Row],[COMPLETED P1]] -> #REF! | AS10: =COUNTIFS(#REF!,CALCULATION[[#This Row],[PACK]],GLOBAL_DATA_01[Priority],">P1",GLOBAL_DATA_01[Target status],DATA!$I$13)+COUNTIFS(#REF!,CALCULATION[[#This Row],[PACK]],GLOBAL_DATA_01[Priority],">P1",GLOBAL_DATA_01[Target status],DATA!$I$14)-CALCULATION[[#This Row],[COMPLETED P2&3]] -> #REF! | AT10: =CALCULATION[[#This Row],[PARTIAL IMPLEMENTATION + RA]]+CALCULATION[[#This Row],[FULL IMPLEMENTATION]] -> #REF! | AU10: =CALCULATION[[#This Row],[IN PROGRESS]]+CALCULATION[[#This Row],[TO BE STARTED]] -> #REF! | AV10: =COUNTIFS(#REF!,CALCULATION[[#This Row],[PACK]],GLOBAL_DATA_01[Priority],"P0",#REF!,1) -> #REF! | AW10: =CALCULATION[[#This Row],[DONE P1]]+CALCULATION[[#This Row],[CHECKED CISO P1]]+CALCULATION[[#This Row],[VERIFIED P1]] -> #REF! | AX10: =CALCULATION[[#This Row],[DONE P2&P3]]+CALCULATION[[#This Row],[CHECKED CISO P2&P3]]+CALCULATION[[#This Row],[VERIFIED P2&P3]] -> #REF! | AY10: =CALCULATION[[#This Row],[DONE]]+CALCULATION[[#This Row],[CHECKED CISO]]+CALCULATION[[#This Row],[VERIFIED]] -> #REF! | AZ10: =IFERROR(CALCULATION[[#This Row],[COMPLETED]]/CALCULATION[[#This Row],[IN SCOPE]],0) -> 0 | BA10: =COUNTIFS(#REF!,CALCULATION[[#This Row],[PACK]],GLOBAL_DATA_01[Target status],"<>"&DATA!$I$15) -> #REF! | BB10: =IFERROR(ROUND(SUMIFS(GLOBAL_DATA_01[Target scope],#REF!,CALCULATION[[#This Row],[PACK]],GLOBAL_DATA_01[Target status],"<>"&DATA!$I$15)/CALCULATION[[#This Row],[IN SCOPE]],4),0) -> 0 | BC10: =IFERROR(ROUND(CALCULATION[[#This Row],[RISK ACCEPTED (FULL MEASURE)]]/CALCULATION[[#This Row],[IN SCOPE]],4),0) -> 0 | BD10: =IF((COUNTIFS(#REF!,CALCULATION[[#This Row],[PACK]],GLOBAL_DATA_01[CISO Comments]," ")>0),(COUNTIFS(#REF!,CALCULATION[[#This Row],[PACK]],GLOBAL_DATA_01[CISO Comments],"<>No alert")),(COUNTIFS(#REF!,CALCULATION[[#This Row],[PACK]],GLOBAL_DATA_01[CISO Comments],"")&" CISO assessment still empty")) -> #REF! | BE10: =COUNTIFS(#REF!,CALCULATION[[#This Row],[PACK]],GLOBAL_DATA_01[CISO assessment],"<>No alert")-COUNTIFS(#REF!,CALCULATION[[#This Row],[PACK]],GLOBAL_DATA_01[CISO assessment],"") -> #REF! | BF10: =COUNTIFS(#REF!,CALCULATION[[#This Row],[PACK]],GLOBAL_DATA_01[CISO assessment],"No alert")+COUNTIFS(#REF!,CALCULATION[[#This Row],[PACK]],GLOBAL_DATA_01[CISO assessment],"") -> #REF! | BG10: =IFERROR(ROUND(SUMIF(#REF!,CALCULATION[[#This Row],[PACK]],GLOBAL_DATA_01[Target scope])/CALCULATION[[#This Row],[IN SCOPE]],4),0) -> 0 | BH10: =IFERROR(ROUND(SUMIFS(#REF!,#REF!,CALCULATION[[#This Row],[PACK]],GLOBAL_DATA_01[Status],DATA!$I$6)/CALCULATION[[#This Row],[IN SCOPE]],4),0) -> 0 | BI10: =IFERROR(ROUND(SUMIFS(#REF!,#REF!,CALCULATION[[#This Row],[PACK]],#REF!,1)/CALCULATION[[#This Row],[IN SCOPE]],4),0)-CALCULATION[[#This Row],[CURRENT IMPL DONE ]] -> 0 | BJ10: =CALCULATION[[#This Row],[CURRENT IMPL]]-CALCULATION[[#This Row],[CURRENT IMPL DONE ]]-CALCULATION[[#This Row],[CURRENT IMPL CHECKED CISO & VERIFIED]] -> 0 | BK10: =IFERROR(ROUND(SUMIF(#REF!,CALCULATION[[#This Row],[PACK]],#REF!)/CALCULATION[[#This Row],[IN SCOPE]],4),0) -> 0 | BL10: =COUNTIFS(#REF!,CALCULATION[[#This Row],[PACK]],GLOBAL_DATA_01[Re-estimated end],">31/12/2019",GLOBAL_DATA_01[Re-estimated end],"<01/01/2021",#REF!,1) -> #REF! | BM10: =COUNTIFS(#REF!,CALCULATION[[#This Row],[PACK]],GLOBAL_DATA_01[Re-estimated end],">31/12/2019",GLOBAL_DATA_01[Re-estimated end],"<01/01/2021") -> #REF! | BN10: =IFERROR(ROUND(SUMIFS(GLOBAL_DATA_01[Target scope],#REF!,CALCULATION[PACK],GLOBAL_DATA_01[Re-estimated end],">31/12/2019",GLOBAL_DATA_01[Re-estimated end],"<01/01/2021")/CALCULATION[[#This Row],[IN SCOPE]],4),0) -> 0 | BO10: =COUNTIFS(#REF!,CALCULATION[[#This Row],[PACK]],GLOBAL_DATA_01[Re-estimated end],">31/12/2020",GLOBAL_DATA_01[Re-estimated end],"<01/01/2022",#REF!,1) -> #REF! | BP10: =COUNTIFS(#REF!,CALCULATION[[#This Row],[PACK]],GLOBAL_DATA_01[Re-estimated end],">31/12/2020",GLOBAL_DATA_01[Re-estimated end],"<01/01/2022") -> #REF! | BQ10: =IFERROR(ROUND(SUMIFS(GLOBAL_DATA_01[Target scope],#REF!,CALCULATION[PACK],GLOBAL_DATA_01[Re-estimated end],">31/12/2020",GLOBAL_DATA_01[Re-estimated end],"<01/01/2022")/CALCULATION[[#This Row],[IN SCOPE]],4),0) -> 0 | BR10: =COUNTIFS(#REF!,CALCULATION[[#This Row],[PACK]],GLOBAL_DATA_01[Re-estimated end],">31/12/2021",#REF!,"<01/01/2023",#REF!,1) -> #REF! | BS10: =COUNTIFS(#REF!,CALCULATION[[#This Row],[PACK]],GLOBAL_DATA_01[Re-estimated end],">31/12/2021",GLOBAL_DATA_01[Re-estimated end],"<01/01/2023") -> #REF! | BT10: =IFERROR(ROUND(SUMIFS(GLOBAL_DATA_01[Target scope],#REF!,CALCULATION[PACK],GLOBAL_DATA_01[Re-estimated end],">31/12/2021",GLOBAL_DATA_01[Re-estimated end],"<01/01/2023")/CALCULATION[[#This Row],[IN SCOPE]],4),0) -> 0 | BU10: =CALCULATION[[#This Row],[% 2020 COMMITTED]]+CALCULATION[[#This Row],[% 2021 COMMITTED]]+CALCULATION[[#This Row],[% 2022 COMMITTED]] -> 0 | BV10: =BK10 -> 0 | BW10: =CALCULATION[[#This Row],[% 2020 COMMITTED]]+CALCULATION[[#This Row],[% 2021 COMMITTED]]+CALCULATION[[#This Row],[% 2022 COMMITTED]]-CALCULATION[[#This Row],[CURRENT IMPL]] -> 0
A11: Security in product lifecycle | B11: 1 | C11: 0.12 | D11: =COUNTIFS(#REF!,CALCULATION[[#This Row],[PACK]],GLOBAL_DATA_01[Priority],"P0",GLOBAL_DATA_01[Status],Status_No_Project) -> #REF! | E11: =COUNTIFS(#REF!,CALCULATION[[#This Row],[PACK]],GLOBAL_DATA_01[Priority],"P1",GLOBAL_DATA_01[Status],Status_No_Project) -> #REF! | F11: =COUNTIFS(#REF!,CALCULATION[[#This Row],[PACK]],GLOBAL_DATA_01[Priority],">=P2",GLOBAL_DATA_01[Status],Status_No_Project) -> #REF! | G11: =COUNTIFS(#REF!,CALCULATION[[#This Row],[PACK]],GLOBAL_DATA_01[Status],CALCULATION[[#Headers],[NO PROJECT]]) -> #REF! | H11: =COUNTIFS(#REF!,CALCULATION[[#This Row],[PACK]],GLOBAL_DATA_01[Priority],"P0",GLOBAL_DATA_01[Status],DATA!$I$4) -> #REF! | I11: =COUNTIFS(#REF!,CALCULATION[[#This Row],[PACK]],GLOBAL_DATA_01[Priority],"P1",GLOBAL_DATA_01[Status],DATA!$I$4) -> #REF! | J11: =COUNTIFS(#REF!,CALCULATION[[#This Row],[PACK]],GLOBAL_DATA_01[Priority],">=P2",GLOBAL_DATA_01[Status],DATA!$I$4) -> #REF! | K11: =COUNTIFS(#REF!,CALCULATION[[#This Row],[PACK]],GLOBAL_DATA_01[Status],CALCULATION[[#Headers],[TO BE STARTED]]) -> #REF! | L11: =COUNTIFS(#REF!,CALCULATION[[#This Row],[PACK]],GLOBAL_DATA_01[Priority],"P0",GLOBAL_DATA_01[Status],"IN PROGRESS") -> #REF! | M11: =COUNTIFS(#REF!,CALCULATION[[#This Row],[PACK]],GLOBAL_DATA_01[Priority],"P1",GLOBAL_DATA_01[Status],DATA!$I$5) -> #REF! | N11: =COUNTIFS(#REF!,CALCULATION[[#This Row],[PACK]],GLOBAL_DATA_01[Priority],">=P2",GLOBAL_DATA_01[Status],DATA!$I$5) -> #REF! | O11: =COUNTIFS(#REF!,CALCULATION[[#This Row],[PACK]],GLOBAL_DATA_01[Status],CALCULATION[[#Headers],[IN PROGRESS]]) -> #REF! | P11: =COUNTIFS(#REF!,CALCULATION[[#This Row],[PACK]],GLOBAL_DATA_01[Priority],"P0",GLOBAL_DATA_01[Status],DATA!$I$6) -> #REF! | Q11: =COUNTIFS(#REF!,CALCULATION[[#This Row],[PACK]],GLOBAL_DATA_01[Priority],"P1",GLOBAL_DATA_01[Status],DATA!$I$6) -> #REF! | R11: =COUNTIFS(#REF!,CALCULATION[[#This Row],[PACK]],GLOBAL_DATA_01[Priority],">=P2",GLOBAL_DATA_01[Status],DATA!$I$6) -> #REF! | S11: =COUNTIFS(#REF!,CALCULATION[[#This Row],[PACK]],GLOBAL_DATA_01[Status],CALCULATION[[#Headers],[DONE]]) -> #REF! | T11: =COUNTIFS(#REF!,CALCULATION[[#This Row],[PACK]],GLOBAL_DATA_01[Priority],"P0",GLOBAL_DATA_01[Status],DATA!$I$7) -> #REF! | U11: =COUNTIFS(#REF!,CALCULATION[[#This Row],[PACK]],GLOBAL_DATA_01[Priority],"P1",GLOBAL_DATA_01[Status],DATA!$I$7) -> #REF! | V11: =COUNTIFS(#REF!,CALCULATION[[#This Row],[PACK]],GLOBAL_DATA_01[Priority],">=P2",GLOBAL_DATA_01[Status],DATA!$I$7) -> #REF! | W11: =COUNTIFS(#REF!,CALCULATION[[#This Row],[PACK]],GLOBAL_DATA_01[Status],CALCULATION[[#Headers],[CHECKED CISO]]) -> #REF! | X11: =COUNTIFS(#REF!,CALCULATION[[#This Row],[PACK]],GLOBAL_DATA_01[Priority],"P0",GLOBAL_DATA_01[Status],DATA!$I$8) -> #REF! | Y11: =COUNTIFS(#REF!,CALCULATION[[#This Row],[PACK]],GLOBAL_DATA_01[Priority],"P1",GLOBAL_DATA_01[Status],DATA!$I$8) -> #REF! | Z11: =COUNTIFS(#REF!,CALCULATION[[#This Row],[PACK]],GLOBAL_DATA_01[Priority],">=P2",GLOBAL_DATA_01[Status],DATA!$I$8) -> #REF! | AA11: =COUNTIFS(#REF!,CALCULATION[[#This Row],[PACK]],GLOBAL_DATA_01[Status],CALCULATION[[#Headers],[VERIFIED]]) -> #REF! | AB11: =COUNTIFS(#REF!,CALCULATION[[#This Row],[PACK]],GLOBAL_DATA_01[Priority],"P0",GLOBAL_DATA_01[Status],"<>"&Status_No_Project) -> #REF! | AC11: =COUNTIFS(#REF!,CALCULATION[[#This Row],[PACK]],GLOBAL_DATA_01[Priority],"P1",GLOBAL_DATA_01[Status],"<>"&Status_No_Project) -> #REF! | AD11: =COUNTIFS(#REF!,CALCULATION[[#This Row],[PACK]],GLOBAL_DATA_01[Priority],">=P2",GLOBAL_DATA_01[Status],"<>NO PROJECT") -> #REF! | AE11: =COUNTIFS(#REF!,CALCULATION[[#This Row],[PACK]],GLOBAL_DATA_01[Status],"<>"&Status_No_Project) -> #REF! | AF11: =COUNTIFS(#REF!,CALCULATION[[#This Row],[PACK]],GLOBAL_DATA_01[Priority],"P0",GLOBAL_DATA_01[Target status],DATA!$I$12) -> #REF! | AG11: =COUNTIFS(#REF!,CALCULATION[[#This Row],[PACK]],GLOBAL_DATA_01[Priority],"P1",GLOBAL_DATA_01[Target status],DATA!$I$12) -> #REF! | AH11: =COUNTIFS(#REF!,CALCULATION[[#This Row],[PACK]],GLOBAL_DATA_01[Priority],">P1",GLOBAL_DATA_01[Target status],DATA!$I$12) -> #REF! | AI11: =COUNTIFS(#REF!,CALCULATION[[#This Row],[PACK]],GLOBAL_DATA_01[Target status],DATA!$I$12) -> #REF! | AJ11: =COUNTIFS(#REF!,CALCULATION[[#This Row],[PACK]],GLOBAL_DATA_01[Target status],DATA!I21,GLOBAL_DATA_01[Priority],"P0") -> #REF! | AK11: =COUNTIFS(#REF!,CALCULATION[[#This Row],[PACK]],GLOBAL_DATA_01[Target status],DATA!I21,GLOBAL_DATA_01[Priority],"P1") -> #REF! | AL11: =COUNTIFS(#REF!,CALCULATION[[#This Row],[PACK]],GLOBAL_DATA_01[Target status],DATA!I21,GLOBAL_DATA_01[Priority],">P1") -> #REF! | AM11: =COUNTIFS(#REF!,CALCULATION[[#This Row],[PACK]],GLOBAL_DATA_01[Target status],CALCULATION[[#Headers],[PARTIAL IMPLEMENTATION + RA]]) -> #REF! | AN11: =1-CALCULATION[[#This Row],[IN SCOPE %]] -> 1 | AO11: =COUNTIFS(#REF!,CALCULATION[[#This Row],[PACK]],GLOBAL_DATA_01[Target status],CALCULATION[[#Headers],[FULL IMPLEMENTATION]]) -> #REF! | AP11: =COUNTIFS(#REF!,CALCULATION[[#This Row],[PACK]],GLOBAL_DATA_01[Target status],CALCULATION[[#Headers],[NOT APPLICABLE]]) -> #REF! | AQ11: =COUNTIFS(#REF!,CALCULATION[[#This Row],[PACK]],GLOBAL_DATA_01[Priority],"P0",GLOBAL_DATA_01[Target status],DATA!$I$13)+COUNTIFS(#REF!,CALCULATION[[#This Row],[PACK]],GLOBAL_DATA_01[Priority],"P0",GLOBAL_DATA_01[Target status],DATA!$I$14)-CALCULATION[[#This Row],[COMPLETED P0]] -> #REF! | AR11: =COUNTIFS(#REF!,CALCULATION[[#This Row],[PACK]],GLOBAL_DATA_01[Priority],"P1",GLOBAL_DATA_01[Target status],DATA!$I$13)+COUNTIFS(#REF!,CALCULATION[[#This Row],[PACK]],GLOBAL_DATA_01[Priority],"P1",GLOBAL_DATA_01[Target status],DATA!$I$14)-CALCULATION[[#This Row],[COMPLETED P1]] -> #REF! | AS11: =COUNTIFS(#REF!,CALCULATION[[#This Row],[PACK]],GLOBAL_DATA_01[Priority],">P1",GLOBAL_DATA_01[Target status],DATA!$I$13)+COUNTIFS(#REF!,CALCULATION[[#This Row],[PACK]],GLOBAL_DATA_01[Priority],">P1",GLOBAL_DATA_01[Target status],DATA!$I$14)-CALCULATION[[#This Row],[COMPLETED P2&3]] -> #REF! | AT11: =CALCULATION[[#This Row],[PARTIAL IMPLEMENTATION + RA]]+CALCULATION[[#This Row],[FULL IMPLEMENTATION]] -> #REF! | AU11: =CALCULATION[[#This Row],[IN PROGRESS]]+CALCULATION[[#This Row],[TO BE STARTED]] -> #REF! | AV11: =COUNTIFS(#REF!,CALCULATION[[#This Row],[PACK]],GLOBAL_DATA_01[Priority],"P0",#REF!,1) -> #REF! | AW11: =CALCULATION[[#This Row],[DONE P1]]+CALCULATION[[#This Row],[CHECKED CISO P1]]+CALCULATION[[#This Row],[VERIFIED P1]] -> #REF! | AX11: =CALCULATION[[#This Row],[DONE P2&P3]]+CALCULATION[[#This Row],[CHECKED CISO P2&P3]]+CALCULATION[[#This Row],[VERIFIED P2&P3]] -> #REF! | AY11: =CALCULATION[[#This Row],[DONE]]+CALCULATION[[#This Row],[CHECKED CISO]]+CALCULATION[[#This Row],[VERIFIED]] -> #REF! | AZ11: =IFERROR(CALCULATION[[#This Row],[COMPLETED]]/CALCULATION[[#This Row],[IN SCOPE]],0) -> 0 | BA11: =COUNTIFS(#REF!,CALCULATION[[#This Row],[PACK]],GLOBAL_DATA_01[Target status],"<>"&DATA!$I$15) -> #REF! | BB11: =IFERROR(ROUND(SUMIFS(GLOBAL_DATA_01[Target scope],#REF!,CALCULATION[[#This Row],[PACK]],GLOBAL_DATA_01[Target status],"<>"&DATA!$I$15)/CALCULATION[[#This Row],[IN SCOPE]],4),0) -> 0 | BC11: =IFERROR(ROUND(CALCULATION[[#This Row],[RISK ACCEPTED (FULL MEASURE)]]/CALCULATION[[#This Row],[IN SCOPE]],4),0) -> 0 | BD11: =IF((COUNTIFS(#REF!,CALCULATION[[#This Row],[PACK]],GLOBAL_DATA_01[CISO Comments]," ")>0),(COUNTIFS(#REF!,CALCULATION[[#This Row],[PACK]],GLOBAL_DATA_01[CISO Comments],"<>No alert")),(COUNTIFS(#REF!,CALCULATION[[#This Row],[PACK]],GLOBAL_DATA_01[CISO Comments],"")&" CISO assessment still empty")) -> #REF! | BE11: =COUNTIFS(#REF!,CALCULATION[[#This Row],[PACK]],GLOBAL_DATA_01[CISO assessment],"<>No alert")-COUNTIFS(#REF!,CALCULATION[[#This Row],[PACK]],GLOBAL_DATA_01[CISO assessment],"") -> #REF! | BF11: =COUNTIFS(#REF!,CALCULATION[[#This Row],[PACK]],GLOBAL_DATA_01[CISO assessment],"No alert")+COUNTIFS(#REF!,CALCULATION[[#This Row],[PACK]],GLOBAL_DATA_01[CISO assessment],"") -> #REF! | BG11: =IFERROR(ROUND(SUMIF(#REF!,CALCULATION[[#This Row],[PACK]],GLOBAL_DATA_01[Target scope])/CALCULATION[[#This Row],[IN SCOPE]],4),0) -> 0 | BH11: =IFERROR(ROUND(SUMIFS(#REF!,#REF!,CALCULATION[[#This Row],[PACK]],GLOBAL_DATA_01[Status],DATA!$I$6)/CALCULATION[[#This Row],[IN SCOPE]],4),0) -> 0 | BI11: =IFERROR(ROUND(SUMIFS(#REF!,#REF!,CALCULATION[[#This Row],[PACK]],#REF!,1)/CALCULATION[[#This Row],[IN SCOPE]],4),0)-CALCULATION[[#This Row],[CURRENT IMPL DONE ]] -> 0 | BJ11: =CALCULATION[[#This Row],[CURRENT IMPL]]-CALCULATION[[#This Row],[CURRENT IMPL DONE ]]-CALCULATION[[#This Row],[CURRENT IMPL CHECKED CISO & VERIFIED]] -> 0 | BK11: =IFERROR(ROUND(SUMIF(#REF!,CALCULATION[[#This Row],[PACK]],#REF!)/CALCULATION[[#This Row],[IN SCOPE]],4),0) -> 0 | BL11: =COUNTIFS(#REF!,CALCULATION[[#This Row],[PACK]],GLOBAL_DATA_01[Re-estimated end],">31/12/2019",GLOBAL_DATA_01[Re-estimated end],"<01/01/2021",#REF!,1) -> #REF! | BM11: =COUNTIFS(#REF!,CALCULATION[[#This Row],[PACK]],GLOBAL_DATA_01[Re-estimated end],">31/12/2019",GLOBAL_DATA_01[Re-estimated end],"<01/01/2021") -> #REF! | BN11: =IFERROR(ROUND(SUMIFS(GLOBAL_DATA_01[Target scope],#REF!,CALCULATION[PACK],GLOBAL_DATA_01[Re-estimated end],">31/12/2019",GLOBAL_DATA_01[Re-estimated end],"<01/01/2021")/CALCULATION[[#This Row],[IN SCOPE]],4),0) -> 0 | BO11: =COUNTIFS(#REF!,CALCULATION[[#This Row],[PACK]],GLOBAL_DATA_01[Re-estimated end],">31/12/2020",GLOBAL_DATA_01[Re-estimated end],"<01/01/2022",#REF!,1) -> #REF! | BP11: =COUNTIFS(#REF!,CALCULATION[[#This Row],[PACK]],GLOBAL_DATA_01[Re-estimated end],">31/12/2020",GLOBAL_DATA_01[Re-estimated end],"<01/01/2022") -> #REF! | BQ11: =IFERROR(ROUND(SUMIFS(GLOBAL_DATA_01[Target scope],#REF!,CALCULATION[PACK],GLOBAL_DATA_01[Re-estimated end],">31/12/2020",GLOBAL_DATA_01[Re-estimated end],"<01/01/2022")/CALCULATION[[#This Row],[IN SCOPE]],4),0) -> 0 | BR11: =COUNTIFS(#REF!,CALCULATION[[#This Row],[PACK]],GLOBAL_DATA_01[Re-estimated end],">31/12/2021",#REF!,"<01/01/2023",#REF!,1) -> #REF! | BS11: =COUNTIFS(#REF!,CALCULATION[[#This Row],[PACK]],GLOBAL_DATA_01[Re-estimated end],">31/12/2021",GLOBAL_DATA_01[Re-estimated end],"<01/01/2023") -> #REF! | BT11: =IFERROR(ROUND(SUMIFS(GLOBAL_DATA_01[Target scope],#REF!,CALCULATION[PACK],GLOBAL_DATA_01[Re-estimated end],">31/12/2021",GLOBAL_DATA_01[Re-estimated end],"<01/01/2023")/CALCULATION[[#This Row],[IN SCOPE]],4),0) -> 0 | BU11: =CALCULATION[[#This Row],[% 2020 COMMITTED]]+CALCULATION[[#This Row],[% 2021 COMMITTED]]+CALCULATION[[#This Row],[% 2022 COMMITTED]] -> 0 | BV11: =BK11 -> 0 | BW11: =CALCULATION[[#This Row],[% 2020 COMMITTED]]+CALCULATION[[#This Row],[% 2021 COMMITTED]]+CALCULATION[[#This Row],[% 2022 COMMITTED]]-CALCULATION[[#This Row],[CURRENT IMPL]] -> 0
A12: Overview | D12: =SUM(CALCULATION[NO PROJECT P0]) -> #REF! | E12: =SUM(CALCULATION[NO PROJECT P2&P3]) -> #REF! | F12: =SUM(CALCULATION[NO PROJECT]) -> #REF! | G12: =SUM(CALCULATION[TO BE STARTED P0]) -> #REF! | H12: =SUM(CALCULATION[TO BE STARTED P1]) -> #REF! | I12: =SUM(CALCULATION[TO BE STARTED P2&P3]) -> #REF! | J12: =SUM(CALCULATION[TO BE STARTED]) -> #REF! | K12: =SUM(CALCULATION[IN PROGRESS P0]) -> #REF! | L12: =SUM(CALCULATION[IN PROGRESS P1]) -> #REF! | M12: =SUM(CALCULATION[IN PROGRESS P2&P3]) -> #REF! | N12: =SUM(CALCULATION[IN PROGRESS]) -> #REF! | O12: =SUM(CALCULATION[DONE P0]) -> #REF! | P12: =SUM(CALCULATION[DONE P1]) -> #REF! | Q12: =SUM(CALCULATION[DONE P2&P3]) -> #REF! | R12: =SUM(CALCULATION[DONE]) -> #REF! | S12: =SUM(CALCULATION[CHECKED CISO P0]) -> #REF! | T12: =SUM(CALCULATION[CHECKED CISO P1]) -> #REF! | U12: =SUM(CALCULATION[CHECKED CISO P2&P3]) -> #REF! | V12: =SUM(CALCULATION[CHECKED CISO]) -> #REF! | W12: =SUM(CALCULATION[VERIFIED P0]) -> #REF! | X12: =SUM(CALCULATION[VERIFIED P1]) -> #REF! | Y12: =SUM(CALCULATION[VERIFIED P2&P3]) -> #REF! | Z12: =SUM(CALCULATION[VERIFIED]) -> #REF! | AA12: =SUM(CALCULATION[PR_EX P0]) -> #REF! | AB12: =SUM(CALCULATION[PR_EX P1]) -> #REF! | AC12: =SUM(CALCULATION[PR_EX P2&P3]) -> #REF! | AD12: =SUM(CALCULATION[TOTAL PR_EX]) -> #REF! | AE12: =SUM(CALCULATION[RISK ACCEPTED P0]) -> #REF! | AF12: =SUM(CALCULATION[RISK ACCEPTED P1]) -> #REF! | AG12: =SUM(CALCULATION[RISK ACCEPTED P2&3]) -> #REF! | AH12: =SUM(CALCULATION[RISK ACCEPTED (FULL MEASURE)]) -> #REF! | AI12: =SUM(CALCULATION[PARTIAL IMPLEMENTATION + RA P0]) -> #REF! | AJ12: =SUM(CALCULATION[PARTIAL IMPLEMENTATION + RA P1]) -> #REF! | AK12: =SUM(CALCULATION[PARTIAL IMPLEMENTATION + RA P2&P3]) -> #REF! | AL12: =SUM(CALCULATION[PARTIAL IMPLEMENTATION + RA]) -> #REF! | AM12: =1-BA12 -> 1 | AN12: =SUM(CALCULATION[FULL IMPLEMENTATION]) -> #REF! | AO12: =SUM(CALCULATION[NOT APPLICABLE]) -> #REF! | AP12: =SUM(CALCULATION[LEFT P0]) -> #REF! | AQ12: =SUM(CALCULATION[LEFT P1]) -> #REF! | AR12: =SUM(CALCULATION[LEFT P2&3]) -> #REF! | AS12: =SUM(CALCULATION[TOTAL Impl]) -> #REF! | AT12: =SUM(CALCULATION[WIP]) -> #REF! | AU12: =SUM(CALCULATION[COMPLETED P0]) -> #REF! | AV12: =SUM(CALCULATION[COMPLETED P1]) -> #REF! | AW12: =SUM(CALCULATION[COMPLETED P2&3]) -> #REF! | AX12: =SUM(CALCULATION[COMPLETED]) -> #REF! | AY12: =AX12/AZ12 -> #REF! | AZ12: =SUM(CALCULATION[IN SCOPE]) -> #REF! | BA12: =IFERROR(ROUND(SUMIFS(GLOBAL_DATA_01[Target scope],GLOBAL_DATA_01[Target status],"<>"&DATA!$I$15)/AZ12,4),0) -> 0 | BB12: =AH12/AZ12 -> #REF! | BD12: =SUM(CALCULATION[RISK STATUS (Alert/Warning)]) -> #REF! | BE12: =SUM(CALCULATION[DELTA (No risk/empty)]) -> #REF! | BF12: =IFERROR(ROUND(SUMIFS(GLOBAL_DATA_01[Target scope],GLOBAL_DATA_01[Target status],"<>"&DATA!$I$15)/AZ12,4),0) -> 0 | BG12: =IFERROR(ROUND(SUMIFS(#REF!,GLOBAL_DATA_01[Status],DATA!$I$6)/AZ12,4),0) -> 0 | BH12: =IFERROR(ROUND(SUMIFS(#REF!,#REF!,1)/AZ12,4),0)-BG12 -> 0 | BI12: =BJ12-BG12-BH12 -> 0 | BJ12: =IFERROR(ROUND(SUM(#REF!)/AZ12,4),0) -> 0 | BK12: =SUM(CALCULATION[2020 IMLP]) -> #REF! | BL12: =SUM(CALCULATION[2020 COMMITTED]) -> #REF! | BM12: =IFERROR(ROUND(SUMIFS(GLOBAL_DATA_01[Target scope],GLOBAL_DATA_01[Re-estimated end],">31/12/2019",GLOBAL_DATA_01[Re-estimated end],"<01/01/2021")/AZ12,4),0) -> 0 | BN12: =SUM(CALCULATION[2021 IMPL]) -> #REF! | BO12: =SUM(CALCULATION[2021 COMMITTED]) -> #REF! | BP12: =IFERROR(ROUND(SUMIFS(GLOBAL_DATA_01[Target scope],GLOBAL_DATA_01[Re-estimated end],">31/12/2020",GLOBAL_DATA_01[Re-estimated end],"<01/01/2022")/AZ12,4),0) -> 0 | BQ12: =SUM(CALCULATION[2022 IMPL]) -> #REF! | BR12: =SUM(CALCULATION[2022 COMMITTED]) -> #REF! | BS12: =IFERROR(ROUND(SUMIFS(GLOBAL_DATA_01[Target scope],GLOBAL_DATA_01[Re-estimated end],">31/12/2021",GLOBAL_DATA_01[Re-estimated end],"<01/01/2023")/AZ12,4),0) -> 0 | BT12: =BM12+BP12+BS12 -> 0 | BU12: =SUM(CALCULATION[[Total IMPLEMENTED ]]) -> 0 | BV12: =BT12-BJ12 -> 0
A14: PACK | C14: Target Nb | D14: Target Global Status | E14: 2020 | F14: 2021 | G14: 2022
A15: Operational security | B15: P0 | C15: =COUNTIFS(#REF!,A15,GLOBAL_DATA_01[Priority],"P0",#REF!,1) -> #REF! | D15: =IFERROR((COUNTIFS(#REF!,A15,GLOBAL_DATA_01[Priority],"P0",#REF!,1)/AB3),"0 in scope") -> 0 in scope | E15: =IFERROR((COUNTIFS(#REF!,A15,GLOBAL_DATA_01[Priority],"P0",GLOBAL_DATA_01[Re-estimated end],">31/12/2019",GLOBAL_DATA_01[Re-estimated end],"<01/01/2021",#REF!,1)/COUNTIFS(#REF!,A15,GLOBAL_DATA_01[Priority],"P0",GLOBAL_DATA_01[Re-estimated end],">31/12/2019",GLOBAL_DATA_01[Re-estimated end],"<01/01/2021",GLOBAL_DATA_01[Status],"<>Status_No_Project")),"0 in scope") -> 0 in scope | F15: =IFERROR((COUNTIFS(#REF!,A15,GLOBAL_DATA_01[Priority],"P0",GLOBAL_DATA_01[Re-estimated end],">31/12/2020",GLOBAL_DATA_01[Re-estimated end],"<01/01/2022",#REF!,1)/COUNTIFS(#REF!,A15,GLOBAL_DATA_01[Priority],"P0",GLOBAL_DATA_01[Re-estimated end],">31/12/2020",GLOBAL_DATA_01[Re-estimated end],"<01/01/2022",GLOBAL_DATA_01[Status],"<>Status_No_Project")),"0 in scope") -> 0 in scope | G15: =IFERROR((COUNTIFS(#REF!,A15,#REF!,"P0",#REF!,">31/12/2021",#REF!,"<01/01/2022",#REF!,1)/COUNTIFS(#REF!,A15,#REF!,"P0",#REF!,">31/12/2021",#REF!,"<01/01/2023",GLOBAL_DATA_01[Implementation progress rate],"<>Status_No_Project")), "0 in scope") -> 0 in scope
A16: Operational security | B16: P1 | C16: =COUNTIFS(#REF!,A16,GLOBAL_DATA_01[Priority],"P1",#REF!,1) -> #REF! | D16: =IFERROR((COUNTIFS(#REF!,A16,GLOBAL_DATA_01[Priority],"P1",#REF!,1)/AC3),"0 in scope") -> 0 in scope | E16: =IFERROR((COUNTIFS(#REF!,A16,GLOBAL_DATA_01[Priority],"P1",GLOBAL_DATA_01[Re-estimated end],">31/12/2019",GLOBAL_DATA_01[Re-estimated end],"<01/01/2021",#REF!,1)/COUNTIFS(#REF!,A16,GLOBAL_DATA_01[Priority],"P1",GLOBAL_DATA_01[Re-estimated end],">31/12/2019",GLOBAL_DATA_01[Re-estimated end],"<01/01/2021",GLOBAL_DATA_01[Status],"<>Status_No_Project")),"0 in scope") -> 0 in scope | F16: =IFERROR((COUNTIFS(#REF!,A16,GLOBAL_DATA_01[Priority],"P1",GLOBAL_DATA_01[Re-estimated end],">31/12/2020",GLOBAL_DATA_01[Re-estimated end],"<01/01/2022",#REF!,1)/COUNTIFS(#REF!,A16,GLOBAL_DATA_01[Priority],"P1",GLOBAL_DATA_01[Re-estimated end],">31/12/2020",GLOBAL_DATA_01[Re-estimated end],"<01/01/2022",GLOBAL_DATA_01[Status],"<>Status_No_Project")),"0 in scope") -> 0 in scope | G16: =IFERROR((COUNTIFS(#REF!,A16,#REF!,"P1",#REF!,">31/12/2020",#REF!,"<01/01/2022",#REF!,1)/COUNTIFS(#REF!,A16,#REF!,"P1",#REF!,">31/12/2020",#REF!,"<01/01/2022",GLOBAL_DATA_01[Implementation progress rate],"<>Status_No_Project")),"0 in scope") -> 0 in scope
A17: Training and awareness | B17: P0 | C17: =COUNTIFS(#REF!,A17,GLOBAL_DATA_01[Priority],"P0",#REF!,1) -> #REF! | D17: =IFERROR((COUNTIFS(#REF!,A17,GLOBAL_DATA_01[Priority],"P0",#REF!,1)/AB4),"0 in scope") -> 0 in scope | E17: =IFERROR((COUNTIFS(#REF!,A17,GLOBAL_DATA_01[Priority],"P0",GLOBAL_DATA_01[Re-estimated end],">31/12/2019",GLOBAL_DATA_01[Re-estimated end],"<01/01/2021",#REF!,1)/COUNTIFS(#REF!,A17,GLOBAL_DATA_01[Priority],"P0",GLOBAL_DATA_01[Re-estimated end],">31/12/2019",GLOBAL_DATA_01[Re-estimated end],"<01/01/2021",GLOBAL_DATA_01[Status],"<>Status_No_Project")),"0 in scope") -> 0 in scope | F17: =IFERROR((COUNTIFS(#REF!,A17,GLOBAL_DATA_01[Priority],"P0",GLOBAL_DATA_01[Re-estimated end],">31/12/2020",GLOBAL_DATA_01[Re-estimated end],"<01/01/2022",#REF!,1)/COUNTIFS(#REF!,A17,GLOBAL_DATA_01[Priority],"P0",GLOBAL_DATA_01[Re-estimated end],">31/12/2020",GLOBAL_DATA_01[Re-estimated end],"<01/01/2022",GLOBAL_DATA_01[Status],"<>Status_No_Project")),"0 in scope") -> 0 in scope | G17: =IFERROR((COUNTIFS(#REF!,A17,#REF!,"P0",#REF!,">31/12/2021",#REF!,"<01/01/2022",#REF!,1)/COUNTIFS(#REF!,A17,#REF!,"P0",#REF!,">31/12/2021",#REF!,"<01/01/2023",GLOBAL_DATA_01[Implementation progress rate],"<>Status_No_Project")), "0 in scope") -> 0 in scope
A18: Training and awareness | B18: P1 | C18: =COUNTIFS(#REF!,A18,GLOBAL_DATA_01[Priority],"P1",#REF!,1) -> #REF! | D18: =IFERROR((COUNTIFS(#REF!,A18,GLOBAL_DATA_01[Priority],"P1",#REF!,1)/AC4),"0 in scope") -> 0 in scope | E18: =IFERROR((COUNTIFS(#REF!,A18,GLOBAL_DATA_01[Priority],"P1",GLOBAL_DATA_01[Re-estimated end],">31/12/2019",GLOBAL_DATA_01[Re-estimated end],"<01/01/2021",#REF!,1)/COUNTIFS(#REF!,A18,GLOBAL_DATA_01[Priority],"P1",GLOBAL_DATA_01[Re-estimated end],">31/12/2019",GLOBAL_DATA_01[Re-estimated end],"<01/01/2021",GLOBAL_DATA_01[Status],"<>Status_No_Project")),"0 in scope") -> 0 in scope | F18: =IFERROR((COUNTIFS(#REF!,A18,GLOBAL_DATA_01[Priority],"P1",GLOBAL_DATA_01[Re-estimated end],">31/12/2020",GLOBAL_DATA_01[Re-estimated end],"<01/01/2022",#REF!,1)/COUNTIFS(#REF!,A18,GLOBAL_DATA_01[Priority],"P1",GLOBAL_DATA_01[Re-estimated end],">31/12/2020",GLOBAL_DATA_01[Re-estimated end],"<01/01/2022",GLOBAL_DATA_01[Status],"<>Status_No_Project")),"0 in scope") -> 0 in scope | G18: =IFERROR((COUNTIFS(#REF!,A18,#REF!,"P1",#REF!,">31/12/2020",#REF!,"<01/01/2022",#REF!,1)/COUNTIFS(#REF!,A18,#REF!,"P1",#REF!,">31/12/2020",#REF!,"<01/01/2022",GLOBAL_DATA_01[Implementation progress rate],"<>Status_No_Project")),"0 in scope") -> 0 in scope
