Workbook
Name BudgetSecuPackLine: [1]Budget!$B1
Name DATA_AutomaticWarnings_1: [1]DATA!$Q$2
Name DATA_AutomaticWarnings_2: [1]DATA!$Q$3
Name DATA_AutomaticWarnings_3: [1]DATA!$Q$4
Name DATA_AutomaticWarnings_4: [1]DATA!$Q$5
Name DATA_AutomaticWarnings_5: [1]DATA!$Q$6
Name DATA_AutomaticWarnings_6: [1]DATA!$Q$7
Name DATA_AutomaticWarnings_7: [1]DATA!$Q$8
Name DATA_AutomaticWarnings_8: [1]DATA!$Q$9
Name DATA_AutomaticWarnings_9: [1]DATA!$Q$10
Name DATA_DQA_1: [1]DATA!$O$2
Name DATA_DQA_10: [1]DATA!$O$11
Name DATA_DQA_11: [1]DATA!$O$12
Name DATA_DQA_12: [1]DATA!$O$13
Name DATA_DQA_13: [1]DATA!$O$14
Name DATA_DQA_14: [1]DATA!$O$15
Name DATA_DQA_16: [1]DATA!$O$17
Name DATA_DQA_17: [1]DATA!$O$18
Name DATA_DQA_18: [1]DATA!$O$19
Name DATA_DQA_19: [1]DATA!$O$20
Name DATA_DQA_2: [1]DATA!$O$3
Name DATA_DQA_3: [1]DATA!$O$4
Name DATA_DQA_4: [1]DATA!$O$5
Name DATA_DQA_5: [1]DATA!$O$6
Name DATA_DQA_6: [1]DATA!$O$7
Name DATA_DQA_7: [1]DATA!$O$8
Name DATA_DQA_8: [1]DATA!$O$9
Name DATA_DQA_9: [1]DATA!$O$10
Name DATA_FileVersion: DATA!$A$3
Name DATA_SP_AFadv: [1]DATA!$C$5
Name DATA_SP_AFMed: [1]DATA!$C$4
Name DATA_SP_AntiAPTAdv: [1]DATA!$C$8
Name DATA_SP_AntiAPTMed: [1]DATA!$C$7
Name DATA_SP_AntiDdos: [1]DATA!$C$3
Name DATA_SP_ATMsecAdv: [1]DATA!$C$11
Name DATA_SP_ATMsecBas: [1]DATA!$C$9
Name DATA_SP_Basics: [1]DATA!$C$2
Name DATA_SP_CBDataSecurity: [1]DATA!$C$12
Name DATA_SP_CertifAudit: [1]DATA!$C$13
Name DATA_SP_DLP: [1]DATA!$C$6
Name DATA_SP_LocalPackage: [1]DATA!$C$14
Name DATA_SPG_AntiAPT: [1]DATA!$Z$3
Name DATA_SPG_AntiFraud: [1]DATA!$Z$2
Name DATA_SPG_ATM: [1]DATA!$Z$4
Name DATA_Status_CERTIFIED: [1]DATA!$E$9
Name DATA_Status_DONEPostAuditMitigation: [1]DATA!$E$8
Name DATA_Status_DONEtoBeCERTIFIED: [1]DATA!$E$7
Name DATA_Status_INPROGRESS: [1]DATA!$E$6
Name DATA_Status_NOTAPPLICABLE: [1]DATA!$E$4
Name DATA_Status_PleaseChoose: [1]DATA!$E$2
Name DATA_Status_RiskAccepted: [1]DATA!$E$3
Name DATA_Status_TOBESTARTED: [1]DATA!$E$5
Name DateAbove: [1]Planning!A$7
Name EndOf2015: [1]DATA!$W$2
Name EndOf2016: [1]DATA!$W$3
Name EndOf2017: [1]DATA!$W$4
Name EndOf2018: [1]DATA!$W$5
Name EndOf2019: [1]DATA!$W$6
Name LocalProgramLead: '[1]Security Measures'!$C$5
Name NbDays2016: [1]DATA!$X$3

Sheet REPORTING_SEPTEMBRE
A1: BU | B1: Region | C1: Entity | D1: Measure ID | E1: Priority | F1: Target status | G1: Target scope | H1: Target justification (if<100%) | I1: Status | J1: Implementation progress rate | K1: CISO assessment | L1: CISO Comments | M1: Resource allocated | N1: Main actor | O1: Kick-off | P1: Initial end | Q1: Re-estimated end | R1: <Local use 1> | S1: <Local use 2>
A2: AFMO | B2: Maroc | C2: EQDOM | D2: OPS_ACM_01 | E2: P0 | F2: =IF(GLOBAL_DATA_01[[#This Row],[Target scope]]="","",INDEX(DATA_TargetStatusChoice[Target_Status_Choice],MATCH(GLOBAL_DATA_01[[#This Row],[Target scope]],DATA_TargetStatusChoice[Value],1))) -> NOT APPLICABLE | G2: - | H2: =IF(GLOBAL_DATA_01[[#This Row],[Target status]]<>"FULL IMPLEMENTATION", "<required>"," -") -> <required> | I2: NO PROJECT | J2: 0 | K2: No alert | M2: Not secured | N2: Local | O2: 43922 | P2: 43936
A3: AFMO | B3: Maroc | C3: EQDOM | D3: OPS_ACM_02 | E3: P1 | F3: =IF(GLOBAL_DATA_01[[#This Row],[Target scope]]="","",INDEX(DATA_TargetStatusChoice[Target_Status_Choice],MATCH(GLOBAL_DATA_01[[#This Row],[Target scope]],DATA_TargetStatusChoice[Value],1))) -> FULL IMPLEMENTATION | G3: 1 | H3: =IF(GLOBAL_DATA_01[[#This Row],[Target status]]<>"FULL IMPLEMENTATION", "<required>"," -") -> - | I3: DONE | J3: 1 | K3: No alert | M3: Not secured | N3: NC | Q3: 43943
A4: AFMO | B4: Maroc | C4: EQDOM | D4: OPS_ACM_03 | E4: P0 | F4: =IF(GLOBAL_DATA_01[[#This Row],[Target scope]]="","",INDEX(DATA_TargetStatusChoice[Target_Status_Choice],MATCH(GLOBAL_DATA_01[[#This Row],[Target scope]],DATA_TargetStatusChoice[Value],1))) -> FULL IMPLEMENTATION | G4: 1 | H4: =IF(GLOBAL_DATA_01[[#This Row],[Target status]]<>"FULL IMPLEMENTATION", "<required>"," -") -> - | I4: VERIFIED | J4: 1 | K4: Alert | N4: Hub SSI | Q4: 43944
A5: AFMO | B5: Maroc | C5: EQDOM | D5: OPS_ACM_04 | E5: P0 | F5: =IF(GLOBAL_DATA_01[[#This Row],[Target scope]]="","",INDEX(DATA_TargetStatusChoice[Target_Status_Choice],MATCH(GLOBAL_DATA_01[[#This Row],[Target scope]],DATA_TargetStatusChoice[Value],1))) -> FULL IMPLEMENTATION | G5: 1 | H5: =IF(GLOBAL_DATA_01[[#This Row],[Target status]]<>"FULL IMPLEMENTATION", "<required>"," -") -> - | I5: TO BE STARTED | J5: 0 | K5: Alert | L5: 20% déjà réalisés avant début du projet donc to be started est cohérent | N5: Hub SSI | Q5: 43945
A6: AFMO | B6: Maroc | C6: EQDOM | D6: OPS_ACM_05 | E6: P0 | F6: =IF(GLOBAL_DATA_01[[#This Row],[Target scope]]="","",INDEX(DATA_TargetStatusChoice[Target_Status_Choice],MATCH(GLOBAL_DATA_01[[#This Row],[Target scope]],DATA_TargetStatusChoice[Value],1))) -> PARTIAL IMPLEMENTATION + RA | G6: 0.8 | H6: =IF(GLOBAL_DATA_01[[#This Row],[Target status]]<>"FULL IMPLEMENTATION", "<required>"," -") -> <required> | I6: IN PROGRESS | J6: 0.9 | K6: Warning | L6: Pas de projet donc pas de suivi | N6: Local | Q6: 43946
A7: AFMO | B7: Maroc | C7: EQDOM | D7: OPS_ACM_06 | E7: P0 | F7: =IF(GLOBAL_DATA_01[[#This Row],[Target scope]]="","",INDEX(DATA_TargetStatusChoice[Target_Status_Choice],MATCH(GLOBAL_DATA_01[[#This Row],[Target scope]],DATA_TargetStatusChoice[Value],1))) -> NOT APPLICABLE | G7: - | H7: =IF(GLOBAL_DATA_01[[#This Row],[Target status]]<>"FULL IMPLEMENTATION", "<required>"," -") -> <required> | I7: TO BE STARTED | J7: 0 | K7: Warning | L7: Pas de projet donc pas de suivi | N7: Local | Q7: 43946
A8: AFMO | B8: Maroc | C8: EQDOM | D8: OPS_EYS_01 | E8: P1 | F8: =IF(GLOBAL_DATA_01[[#This Row],[Target scope]]="","",INDEX(DATA_TargetStatusChoice[Target_Status_Choice],MATCH(GLOBAL_DATA_01[[#This Row],[Target scope]],DATA_TargetStatusChoice[Value],1))) -> PARTIAL IMPLEMENTATION + RA | G8: 0.8 | H8: =IF(GLOBAL_DATA_01[[#This Row],[Target status]]<>"FULL IMPLEMENTATION", "<required>"," -") -> <required> | I8: IN PROGRESS | J8: 0.8 | L8: Pas de projet donc pas de suivi | N8: NC | Q8: 43948
A9: AFMO | B9: Maroc | C9: EQDOM | D9: OPS_IMN_01 | E9: P2 | F9: =IF(GLOBAL_DATA_01[[#This Row],[Target scope]]="","",INDEX(DATA_TargetStatusChoice[Target_Status_Choice],MATCH(GLOBAL_DATA_01[[#This Row],[Target scope]],DATA_TargetStatusChoice[Value],1))) -> PARTIAL IMPLEMENTATION + RA | G9: 0.2 | H9: =IF(GLOBAL_DATA_01[[#This Row],[Target status]]<>"FULL IMPLEMENTATION", "<required>"," -") -> <required> | I9: IN PROGRESS | J9: 0 | N9: NC | Q9: 43948
A10: AFMO | B10: Maroc | C10: EQDOM | D10: OPS_IMN_02 | E10: P1 | F10: =IF(GLOBAL_DATA_01[[#This Row],[Target scope]]="","",INDEX(DATA_TargetStatusChoice[Target_Status_Choice],MATCH(GLOBAL_DATA_01[[#This Row],[Target scope]],DATA_TargetStatusChoice[Value],1))) -> PARTIAL IMPLEMENTATION + RA | G10: 0.8 | H10: =IF(GLOBAL_DATA_01[[#This Row],[Target status]]<>"FULL IMPLEMENTATION", "<required>"," -") -> <required> | I10: DONE | J10: 1 | N10: NC | Q10: 43950
A11: AFMO | B11: Maroc | C11: EQDOM | D11: OPS_IMN_03 | E11: P1 | F11: =IF(GLOBAL_DATA_01[[#This Row],[Target scope]]="","",INDEX(DATA_TargetStatusChoice[Target_Status_Choice],MATCH(GLOBAL_DATA_01[[#This Row],[Target scope]],DATA_TargetStatusChoice[Value],1))) -> PARTIAL IMPLEMENTATION + RA | G11: 0.8 | H11: =IF(GLOBAL_DATA_01[[#This Row],[Target status]]<>"FULL IMPLEMENTATION", "<required>"," -") -> <required> | I11: CHECKED CISO | J11: 1 | N11: NC | Q11: 43951
A12: AFMO | B12: Maroc | C12: EQDOM | D12: OPS_KYI_01 | E12: P0 | F12: =IF(GLOBAL_DATA_01[[#This Row],[Target scope]]="","",INDEX(DATA_TargetStatusChoice[Target_Status_Choice],MATCH(GLOBAL_DATA_01[[#This Row],[Target scope]],DATA_TargetStatusChoice[Value],1))) -> NOT APPLICABLE | G12: - | H12: =IF(GLOBAL_DATA_01[[#This Row],[Target status]]<>"FULL IMPLEMENTATION", "<required>"," -") -> <required> | I12: NO PROJECT | J12: 0 | N12: Local
A13: AFMO | B13: Maroc | C13: EQDOM | D13: OPS_KYI_02 | E13: P0 | F13: =IF(GLOBAL_DATA_01[[#This Row],[Target scope]]="","",INDEX(DATA_TargetStatusChoice[Target_Status_Choice],MATCH(GLOBAL_DATA_01[[#This Row],[Target scope]],DATA_TargetStatusChoice[Value],1))) -> FULL IMPLEMENTATION | G13: 1 | H13: =IF(GLOBAL_DATA_01[[#This Row],[Target status]]<>"FULL IMPLEMENTATION", "<required>"," -") -> - | I13: DONE | J13: 1 | N13: Local | Q13: 44317
A14: AFMO | B14: Maroc | C14: EQDOM | D14: OPS_KYI_03 | E14: P2 | F14: =IF(GLOBAL_DATA_01[[#This Row],[Target scope]]="","",INDEX(DATA_TargetStatusChoice[Target_Status_Choice],MATCH(GLOBAL_DATA_01[[#This Row],[Target scope]],DATA_TargetStatusChoice[Value],1))) -> RISK ACCEPTED | G14: 0 | H14: =IF(GLOBAL_DATA_01[[#This Row],[Target status]]<>"FULL IMPLEMENTATION", "<required>"," -") -> <required> | I14: NO PROJECT | J14: 0 | N14: NC
A15: AFMO | B15: Maroc | C15: EQDOM | D15: OPS_KYI_04 | E15: P0 | F15: =IF(GLOBAL_DATA_01[[#This Row],[Target scope]]="","",INDEX(DATA_TargetStatusChoice[Target_Status_Choice],MATCH(GLOBAL_DATA_01[[#This Row],[Target scope]],DATA_TargetStatusChoice[Value],1))) -> NOT APPLICABLE | G15: - | H15: =IF(GLOBAL_DATA_01[[#This Row],[Target status]]<>"FULL IMPLEMENTATION", "<required>"," -") -> <required> | I15: NO PROJECT | J15: 0 | N15: Local
A16: AFMO | B16: Maroc | C16: EQDOM | D16: OPS_KYI_05 | E16: P0 | F16: =IF(GLOBAL_DATA_01[[#This Row],[Target scope]]="","",INDEX(DATA_TargetStatusChoice[Target_Status_Choice],MATCH(GLOBAL_DATA_01[[#This Row],[Target scope]],DATA_TargetStatusChoice[Value],1))) -> PARTIAL IMPLEMENTATION + RA | G16: 0.8 | H16: =IF(GLOBAL_DATA_01[[#This Row],[Target status]]<>"FULL IMPLEMENTATION", "<required>"," -") -> <required> | I16: VERIFIED | J16: 1 | N16: Hub SSI | Q16: 44317
A17: AFMO | B17: Maroc | C17: EQDOM | D17: OPS_KYI_06 | E17: P0 | F17: =IF(GLOBAL_DATA_01[[#This Row],[Target scope]]="","",INDEX(DATA_TargetStatusChoice[Target_Status_Choice],MATCH(GLOBAL_DATA_01[[#This Row],[Target scope]],DATA_TargetStatusChoice[Value],1))) -> PARTIAL IMPLEMENTATION + RA | G17: 0.8 | H17: =IF(GLOBAL_DATA_01[[#This Row],[Target status]]<>"FULL IMPLEMENTATION", "<required>"," -") -> <required> | I17: IN PROGRESS | J17: 0.8 | N17: Local | Q17: 44317
A18: AFMO | B18: Maroc | C18: EQDOM | D18: OPS_MIS_01 | E18: P0 | F18: =IF(GLOBAL_DATA_01[[#This Row],[Target scope]]="","",INDEX(DATA_TargetStatusChoice[Target_Status_Choice],MATCH(GLOBAL_DATA_01[[#This Row],[Target scope]],DATA_TargetStatusChoice[Value],1))) -> PARTIAL IMPLEMENTATION + RA | G18: 0.6 | H18: =IF(GLOBAL_DATA_01[[#This Row],[Target status]]<>"FULL IMPLEMENTATION", "<required>"," -") -> <required> | I18: TO BE STARTED | J18: 0 | N18: Local | Q18: 44317
A19: AFMO | B19: Maroc | C19: EQDOM | D19: OPS_MIS_02 | E19: P0 | F19: =IF(GLOBAL_DATA_01[[#This Row],[Target scope]]="","",INDEX(DATA_TargetStatusChoice[Target_Status_Choice],MATCH(GLOBAL_DATA_01[[#This Row],[Target scope]],DATA_TargetStatusChoice[Value],1))) -> FULL IMPLEMENTATION | G19: 1 | H19: =IF(GLOBAL_DATA_01[[#This Row],[Target status]]<>"FULL IMPLEMENTATION", "<required>"," -") -> - | I19: TO BE STARTED | J19: 0 | N19: SG ABS | Q19: 44317
A20: AFMO | B20: Maroc | C20: EQDOM | D20: OPS_MIS_03 | E20: P0 | F20: =IF(GLOBAL_DATA_01[[#This Row],[Target scope]]="","",INDEX(DATA_TargetStatusChoice[Target_Status_Choice],MATCH(GLOBAL_DATA_01[[#This Row],[Target scope]],DATA_TargetStatusChoice[Value],1))) -> PARTIAL IMPLEMENTATION + RA | G20: 0.6 | H20: =IF(GLOBAL_DATA_01[[#This Row],[Target status]]<>"FULL IMPLEMENTATION", "<required>"," -") -> <required> | I20: TO BE STARTED | J20: 0 | N20: SG ABS | Q20: 44317
A21: AFMO | B21: Maroc | C21: EQDOM | D21: OPS_MIS_04 | E21: P0 | F21: =IF(GLOBAL_DATA_01[[#This Row],[Target scope]]="","",INDEX(DATA_TargetStatusChoice[Target_Status_Choice],MATCH(GLOBAL_DATA_01[[#This Row],[Target scope]],DATA_TargetStatusChoice[Value],1))) -> PARTIAL IMPLEMENTATION + RA | G21: 0.6 | H21: =IF(GLOBAL_DATA_01[[#This Row],[Target status]]<>"FULL IMPLEMENTATION", "<required>"," -") -> <required> | I21: TO BE STARTED | J21: 0 | N21: Local | Q21: 44317
A22: AFMO | B22: Maroc | C22: EQDOM | D22: OPS_MIS_05 | E22: P0 | F22: =IF(GLOBAL_DATA_01[[#This Row],[Target scope]]="","",INDEX(DATA_TargetStatusChoice[Target_Status_Choice],MATCH(GLOBAL_DATA_01[[#This Row],[Target scope]],DATA_TargetStatusChoice[Value],1))) -> PARTIAL IMPLEMENTATION + RA | G22: 0.8 | H22: =IF(GLOBAL_DATA_01[[#This Row],[Target status]]<>"FULL IMPLEMENTATION", "<required>"," -") -> <required> | I22: TO BE STARTED | J22: 0 | N22: Local | Q22: 44317
A23: AFMO | B23: Maroc | C23: EQDOM | D23: OPS_MIS_06 | E23: P0 | F23: =IF(GLOBAL_DATA_01[[#This Row],[Target scope]]="","",INDEX(DATA_TargetStatusChoice[Target_Status_Choice],MATCH(GLOBAL_DATA_01[[#This Row],[Target scope]],DATA_TargetStatusChoice[Value],1))) -> FULL IMPLEMENTATION | G23: 1 | H23: =IF(GLOBAL_DATA_01[[#This Row],[Target status]]<>"FULL IMPLEMENTATION", "<required>"," -") -> - | I23: TO BE STARTED | J23: 0 | N23: Hub SSI | Q23: 44317
A24: AFMO | B24: Maroc | C24: EQDOM | D24: OPS_MIS_07 | E24: P0 | F24: =IF(GLOBAL_DATA_01[[#This Row],[Target scope]]="","",INDEX(DATA_TargetStatusChoice[Target_Status_Choice],MATCH(GLOBAL_DATA_01[[#This Row],[Target scope]],DATA_TargetStatusChoice[Value],1))) -> PARTIAL IMPLEMENTATION + RA | G24: 0.8 | H24: =IF(GLOBAL_DATA_01[[#This Row],[Target status]]<>"FULL IMPLEMENTATION", "<required>"," -") -> <required> | I24: CHECKED CISO | J24: 1 | N24: Local | Q24: 44317
A25: AFMO | B25: Maroc | C25: EQDOM | D25: OPS_MIS_08 | E25: P0 | F25: =IF(GLOBAL_DATA_01[[#This Row],[Target scope]]="","",INDEX(DATA_TargetStatusChoice[Target_Status_Choice],MATCH(GLOBAL_DATA_01[[#This Row],[Target scope]],DATA_TargetStatusChoice[Value],1))) -> FULL IMPLEMENTATION | G25: 1 | H25: =IF(GLOBAL_DATA_01[[#This Row],[Target status]]<>"FULL IMPLEMENTATION", "<required>"," -") -> - | I25: DONE | J25: 1 | N25: Hub SSI | Q25: 44317
A26: AFMO | B26: Maroc | C26: EQDOM | D26: OPS_MIS_09 | E26: P0 | F26: =IF(GLOBAL_DATA_01[[#This Row],[Target scope]]="","",INDEX(DATA_TargetStatusChoice[Target_Status_Choice],MATCH(GLOBAL_DATA_01[[#This Row],[Target scope]],DATA_TargetStatusChoice[Value],1))) -> FULL IMPLEMENTATION | G26: 1 | H26: =IF(GLOBAL_DATA_01[[#This Row],[Target status]]<>"FULL IMPLEMENTATION", "<required>"," -") -> - | I26: DONE | J26: 1 | N26: Local | Q26: 44317
A27: AFMO | B27: Maroc | C27: EQDOM | D27: OPS_MON_01 | E27: P2 | F27: =IF(GLOBAL_DATA_01[[#This Row],[Target scope]]="","",INDEX(DATA_TargetStatusChoice[Target_Status_Choice],MATCH(GLOBAL_DATA_01[[#This Row],[Target scope]],DATA_TargetStatusChoice[Value],1))) -> FULL IMPLEMENTATION | G27: 1 | H27: =IF(GLOBAL_DATA_01[[#This Row],[Target status]]<>"FULL IMPLEMENTATION", "<required>"," -") -> - | I27: DONE | J27: 1 | N27: NC | Q27: 44317
... A49: AFMO | B49: Maroc | C49: EQDOM | D49: OPS_SYI_07 | E49: P0 | F49: =IF(GLOBAL_DATA_01[[#This Row],[Target scope]]="","",INDEX(DATA_TargetStatusChoice[Target_Status_Choice],MATCH(GLOBAL_DATA_01[[#This Row],[Target scope]],DATA_TargetStatusChoice[Value],1))) -> FULL IMPLEMENTATION | G49: 1 | H49: =IF(GLOBAL_DATA_01[[#This Row],[Target status]]<>"FULL IMPLEMENTATION", "<required>"," -") -> - | I49: TO BE STARTED | J49: 0 | N49: SG ABS | Q49: 44706
A50: AFMO | B50: Maroc | C50: EQDOM | D50: OPS_SYI_08 | E50: P3 | F50: =IF(GLOBAL_DATA_01[[#This Row],[Target scope]]="","",INDEX(DATA_TargetStatusChoice[Target_Status_Choice],MATCH(GLOBAL_DATA_01[[#This Row],[Target scope]],DATA_TargetStatusChoice[Value],1))) -> RISK ACCEPTED | G50: 0 | H50: =IF(GLOBAL_DATA_01[[#This Row],[Target status]]<>"FULL IMPLEMENTATION", "<required>"," -") -> <required> | I50: NO PROJECT | J50: 0 | N50: NC
A51: AFMO | B51: Maroc | C51: EQDOM | D51: TAA_AWA_01 | E51: P0 | F51: =IF(GLOBAL_DATA_01[[#This Row],[Target scope]]="","",INDEX(DATA_TargetStatusChoice[Target_Status_Choice],MATCH(GLOBAL_DATA_01[[#This Row],[Target scope]],DATA_TargetStatusChoice[Value],1))) -> FULL IMPLEMENTATION | G51: 1 | H51: =IF(GLOBAL_DATA_01[[#This Row],[Target status]]<>"FULL IMPLEMENTATION", "<required>"," -") -> - | I51: DONE | J51: 1 | N51: Hub SSI | Q51: 44356
A52: AFMO | B52: Maroc | C52: EQDOM | D52: TAA_AWA_02 | E52: P0 | F52: =IF(GLOBAL_DATA_01[[#This Row],[Target scope]]="","",INDEX(DATA_TargetStatusChoice[Target_Status_Choice],MATCH(GLOBAL_DATA_01[[#This Row],[Target scope]],DATA_TargetStatusChoice[Value],1))) -> NOT APPLICABLE | G52: - | H52: =IF(GLOBAL_DATA_01[[#This Row],[Target status]]<>"FULL IMPLEMENTATION", "<required>"," -") -> <required> | I52: NO PROJECT | J52: 0 | N52: Hub SSI
A53: AFMO | B53: Maroc | C53: EQDOM | D53: TAA_AWA_03 | E53: P2 | F53: =IF(GLOBAL_DATA_01[[#This Row],[Target scope]]="","",INDEX(DATA_TargetStatusChoice[Target_Status_Choice],MATCH(GLOBAL_DATA_01[[#This Row],[Target scope]],DATA_TargetStatusChoice[Value],1))) -> FULL IMPLEMENTATION | G53: 1 | H53: =IF(GLOBAL_DATA_01[[#This Row],[Target status]]<>"FULL IMPLEMENTATION", "<required>"," -") -> - | I53: CHECKED CISO | J53: 1 | N53: NC | Q53: 44356
A54: AFMO | B54: Maroc | C54: EQDOM | D54: TAA_AWA_04 | E54: P0 | F54: =IF(GLOBAL_DATA_01[[#This Row],[Target scope]]="","",INDEX(DATA_TargetStatusChoice[Target_Status_Choice],MATCH(GLOBAL_DATA_01[[#This Row],[Target scope]],DATA_TargetStatusChoice[Value],1))) -> PARTIAL IMPLEMENTATION + RA | G54: 0.2 | H54: =IF(GLOBAL_DATA_01[[#This Row],[Target status]]<>"FULL IMPLEMENTATION", "<required>"," -") -> <required> | I54: IN PROGRESS | J54: 0.4 | N54: Local | Q54: 43991
A55: AFMO | B55: Maroc | C55: EQDOM | D55: TAA_AWA_05 | E55: P0 | F55: =IF(GLOBAL_DATA_01[[#This Row],[Target scope]]="","",INDEX(DATA_TargetStatusChoice[Target_Status_Choice],MATCH(GLOBAL_DATA_01[[#This Row],[Target scope]],DATA_TargetStatusChoice[Value],1))) -> NOT APPLICABLE | G55: - | H55: =IF(GLOBAL_DATA_01[[#This Row],[Target status]]<>"FULL IMPLEMENTATION", "<required>"," -") -> <required> | I55: VERIFIED | J55: 1 | N55: Hub SSI | Q55: 43991
A56: AFMO | B56: Maroc | C56: EQDOM | D56: TAA_CAW_01 | E56: P1 | F56: =IF(GLOBAL_DATA_01[[#This Row],[Target scope]]="","",INDEX(DATA_TargetStatusChoice[Target_Status_Choice],MATCH(GLOBAL_DATA_01[[#This Row],[Target scope]],DATA_TargetStatusChoice[Value],1))) -> PARTIAL IMPLEMENTATION + RA | G56: 0.8 | H56: =IF(GLOBAL_DATA_01[[#This Row],[Target status]]<>"FULL IMPLEMENTATION", "<required>"," -") -> <required> | I56: DONE | J56: 1 | N56: NC | Q56: 43991
A57: AFMO | B57: Maroc | C57: EQDOM | D57: TAA_GOV_01 | E57: P0 | F57: =IF(GLOBAL_DATA_01[[#This Row],[Target scope]]="","",INDEX(DATA_TargetStatusChoice[Target_Status_Choice],MATCH(GLOBAL_DATA_01[[#This Row],[Target scope]],DATA_TargetStatusChoice[Value],1))) -> RISK ACCEPTED | G57: 0 | H57: =IF(GLOBAL_DATA_01[[#This Row],[Target status]]<>"FULL IMPLEMENTATION", "<required>"," -") -> <required> | I57: NO PROJECT | J57: 0 | N57: Hub SSI
A58: AFMO | B58: Maroc | C58: EQDOM | D58: TAA_GOV_02 | E58: P0 | F58: =IF(GLOBAL_DATA_01[[#This Row],[Target scope]]="","",INDEX(DATA_TargetStatusChoice[Target_Status_Choice],MATCH(GLOBAL_DATA_01[[#This Row],[Target scope]],DATA_TargetStatusChoice[Value],1))) -> RISK ACCEPTED | G58: 0 | H58: =IF(GLOBAL_DATA_01[[#This Row],[Target status]]<>"FULL IMPLEMENTATION", "<required>"," -") -> <required> | I58: NO PROJECT | J58: 0 | N58: Local
A59: AFMO | B59: Maroc | C59: EQDOM | D59: TAA_SPC_01 | E59: P2 | F59: =IF(GLOBAL_DATA_01[[#This Row],[Target scope]]="","",INDEX(DATA_TargetStatusChoice[Target_Status_Choice],MATCH(GLOBAL_DATA_01[[#This Row],[Target scope]],DATA_TargetStatusChoice[Value],1))) -> PARTIAL IMPLEMENTATION + RA | G59: 0.8 | H59: =IF(GLOBAL_DATA_01[[#This Row],[Target status]]<>"FULL IMPLEMENTATION", "<required>"," -") -> <required> | I59: IN PROGRESS | J59: 0.6 | N59: NC | Q59: 44356
A60: AFMO | B60: Maroc | C60: EQDOM | D60: TAA_TPT_01 | E60: P0 | F60: =IF(GLOBAL_DATA_01[[#This Row],[Target scope]]="","",INDEX(DATA_TargetStatusChoice[Target_Status_Choice],MATCH(GLOBAL_DATA_01[[#This Row],[Target scope]],DATA_TargetStatusChoice[Value],1))) -> PARTIAL IMPLEMENTATION + RA | G60: 0.8 | H60: =IF(GLOBAL_DATA_01[[#This Row],[Target status]]<>"FULL IMPLEMENTATION", "<required>"," -") -> <required> | I60: IN PROGRESS | J60: 0.6 | N60: Hub SSI | Q60: 44721
A61: AFMO | B61: Maroc | C61: EQDOM | D61: TAA_TRN_01 | E61: P0 | F61: =IF(GLOBAL_DATA_01[[#This Row],[Target scope]]="","",INDEX(DATA_TargetStatusChoice[Target_Status_Choice],MATCH(GLOBAL_DATA_01[[#This Row],[Target scope]],DATA_TargetStatusChoice[Value],1))) -> RISK ACCEPTED | G61: 0 | H61: =IF(GLOBAL_DATA_01[[#This Row],[Target status]]<>"FULL IMPLEMENTATION", "<required>"," -") -> <required> | I61: NO PROJECT | J61: 0 | N61: Hub SSI
...

Sheet REPORTING_DECEMBRE
A1: BU | B1: Region | C1: Entity | D1: Measure ID | E1: Priority | F1: Target status | G1: Target scope | H1: Target justification (if<100%) | I1: Status | J1: Implementation progress rate | K1: CISO assessment | L1: CISO Comments | M1: Resource allocated | N1: Main actor | O1: Kick-off | P1: Initial end | Q1: Re-estimated end | R1: <Local use 1> | S1: <Local use 2>
A2: AFMO | B2: Maroc | C2: EQDOM | D2: OPS_ACM_01 | E2: P0 | F2: =IF(GLOBAL_DATA_02[[#This Row],[Target scope]]="","",INDEX(DATA_TargetStatusChoice[Target_Status_Choice],MATCH(GLOBAL_DATA_02[[#This Row],[Target scope]],DATA_TargetStatusChoice[Value],1))) -> PARTIAL IMPLEMENTATION + RA | G2: 0.4 | H2: BUDGET | I2: IN PROGRESS | J2: 0.2 | K2: Warning | L2: Ressources | M2: Not secured | O2: 43922 | P2: 43936 | Q2: 43946 | R2: CP : Ahmad
A3: AFMO | B3: Maroc | C3: EQDOM | D3: OPS_ACM_02 | E3: P1 | F3: =IF(GLOBAL_DATA_02[[#This Row],[Target scope]]="","",INDEX(DATA_TargetStatusChoice[Target_Status_Choice],MATCH(GLOBAL_DATA_02[[#This Row],[Target scope]],DATA_TargetStatusChoice[Value],1))) | H3: =IF(GLOBAL_DATA_02[[#This Row],[Target status]]<>"FULL IMPLEMENTATION", "<required>"," -") -> <required> | I3: DONE | J3: 1 | K3: No alert | M3: Not secured | N3: NC | Q3: 43943 | S3: CP : Ahmad
A4: AFMO | B4: Maroc | C4: EQDOM | D4: OPS_ACM_03 | E4: P0 | F4: =IF(GLOBAL_DATA_02[[#This Row],[Target scope]]="","",INDEX(DATA_TargetStatusChoice[Target_Status_Choice],MATCH(GLOBAL_DATA_02[[#This Row],[Target scope]],DATA_TargetStatusChoice[Value],1))) -> FULL IMPLEMENTATION | G4: 1 | H4: =IF(GLOBAL_DATA_02[[#This Row],[Target status]]<>"FULL IMPLEMENTATION", "<required>"," -") -> - | I4: VERIFIED | J4: 1 | K4: Alert | N4: Hub SSI | Q4: 43944
A5: AFMO | B5: Maroc | C5: EQDOM | D5: OPS_ACM_04 | E5: P0 | F5: =IF(GLOBAL_DATA_02[[#This Row],[Target scope]]="","",INDEX(DATA_TargetStatusChoice[Target_Status_Choice],MATCH(GLOBAL_DATA_02[[#This Row],[Target scope]],DATA_TargetStatusChoice[Value],1))) -> FULL IMPLEMENTATION | G5: 1 | H5: =IF(GLOBAL_DATA_02[[#This Row],[Target status]]<>"FULL IMPLEMENTATION", "<required>"," -") -> - | I5: TO BE STARTED | J5: 0 | K5: Alert | L5: 20% déjà réalisés avant début du projet donc to be started est cohérent | N5: Hub SSI | Q5: 43945
A6: AFMO | B6: Maroc | C6: EQDOM | D6: OPS_ACM_05 | E6: P0 | F6: =IF(GLOBAL_DATA_02[[#This Row],[Target scope]]="","",INDEX(DATA_TargetStatusChoice[Target_Status_Choice],MATCH(GLOBAL_DATA_02[[#This Row],[Target scope]],DATA_TargetStatusChoice[Value],1))) -> FULL IMPLEMENTATION | G6: 1 | H6: =IF(GLOBAL_DATA_02[[#This Row],[Target status]]<>"FULL IMPLEMENTATION", "<required>"," -") -> - | I6: DONE | J6: 1 | K6: No alert | L6: Double checked of proof done | M6: Secured | N6: Local | Q6: 43946
A7: AFMO | B7: Maroc | C7: EQDOM | D7: OPS_ACM_06 | E7: P0 | F7: =IF(GLOBAL_DATA_02[[#This Row],[Target scope]]="","",INDEX(DATA_TargetStatusChoice[Target_Status_Choice],MATCH(GLOBAL_DATA_02[[#This Row],[Target scope]],DATA_TargetStatusChoice[Value],1))) -> NOT APPLICABLE | G7: - | H7: =IF(GLOBAL_DATA_02[[#This Row],[Target status]]<>"FULL IMPLEMENTATION", "<required>"," -") -> <required> | I7: TO BE STARTED | J7: 0 | K7: Warning | L7: Pas de projet donc pas de suivi | N7: Local | Q7: 43946
A8: AFMO | B8: Maroc | C8: EQDOM | D8: OPS_EYS_01 | E8: P1 | F8: =IF(GLOBAL_DATA_02[[#This Row],[Target scope]]="","",INDEX(DATA_TargetStatusChoice[Target_Status_Choice],MATCH(GLOBAL_DATA_02[[#This Row],[Target scope]],DATA_TargetStatusChoice[Value],1))) -> PARTIAL IMPLEMENTATION + RA | G8: 0.8 | H8: =IF(GLOBAL_DATA_02[[#This Row],[Target status]]<>"FULL IMPLEMENTATION", "<required>"," -") -> <required> | I8: IN PROGRESS | J8: 0.8 | L8: Pas de projet donc pas de suivi | N8: NC | Q8: 43948
A9: AFMO | B9: Maroc | C9: EQDOM | D9: OPS_IMN_01 | E9: P2 | F9: =IF(GLOBAL_DATA_02[[#This Row],[Target scope]]="","",INDEX(DATA_TargetStatusChoice[Target_Status_Choice],MATCH(GLOBAL_DATA_02[[#This Row],[Target scope]],DATA_TargetStatusChoice[Value],1))) -> PARTIAL IMPLEMENTATION + RA | G9: 0.2 | H9: =IF(GLOBAL_DATA_02[[#This Row],[Target status]]<>"FULL IMPLEMENTATION", "<required>"," -") -> <required> | I9: IN PROGRESS | J9: 0 | N9: NC | Q9: 43948
A10: AFMO | B10: Maroc | C10: EQDOM | D10: OPS_IMN_02 | E10: P1 | F10: =IF(GLOBAL_DATA_02[[#This Row],[Target scope]]="","",INDEX(DATA_TargetStatusChoice[Target_Status_Choice],MATCH(GLOBAL_DATA_02[[#This Row],[Target scope]],DATA_TargetStatusChoice[Value],1))) -> PARTIAL IMPLEMENTATION + RA | G10: 0.8 | H10: =IF(GLOBAL_DATA_02[[#This Row],[Target status]]<>"FULL IMPLEMENTATION", "<required>"," -") -> <required> | I10: DONE | J10: 1 | N10: NC | Q10: 43950
A11: AFMO | B11: Maroc | C11: EQDOM | D11: OPS_IMN_03 | E11: P1 | F11: =IF(GLOBAL_DATA_02[[#This Row],[Target scope]]="","",INDEX(DATA_TargetStatusChoice[Target_Status_Choice],MATCH(GLOBAL_DATA_02[[#This Row],[Target scope]],DATA_TargetStatusChoice[Value],1))) -> PARTIAL IMPLEMENTATION + RA | G11: 0.8 | H11: =IF(GLOBAL_DATA_02[[#This Row],[Target status]]<>"FULL IMPLEMENTATION", "<required>"," -") -> <required> | I11: CHECKED CISO | J11: 1 | N11: NC | Q11: 43951
A12: AFMO | B12: Maroc | C12: EQDOM | D12: OPS_KYI_01 | E12: P0 | F12: =IF(GLOBAL_DATA_02[[#This Row],[Target scope]]="","",INDEX(DATA_TargetStatusChoice[Target_Status_Choice],MATCH(GLOBAL_DATA_02[[#This Row],[Target scope]],DATA_TargetStatusChoice[Value],1))) -> FULL IMPLEMENTATION | G12: 1 | H12: =IF(GLOBAL_DATA_02[[#This Row],[Target status]]<>"FULL IMPLEMENTATION", "<required>"," -") -> - | I12: IN PROGRESS | J12: 0.5 | K12: No alert | N12: Local
A13: AFMO | B13: Maroc | C13: EQDOM | D13: OPS_KYI_02 | E13: P0 | F13: =IF(GLOBAL_DATA_02[[#This Row],[Target scope]]="","",INDEX(DATA_TargetStatusChoice[Target_Status_Choice],MATCH(GLOBAL_DATA_02[[#This Row],[Target scope]],DATA_TargetStatusChoice[Value],1))) -> FULL IMPLEMENTATION | G13: 1 | H13: =IF(GLOBAL_DATA_02[[#This Row],[Target status]]<>"FULL IMPLEMENTATION", "<required>"," -") -> - | I13: DONE | J13: 1 | N13: Local | Q13: 44317
A14: AFMO | B14: Maroc | C14: EQDOM | D14: OPS_KYI_03 | E14: P2 | F14: =IF(GLOBAL_DATA_02[[#This Row],[Target scope]]="","",INDEX(DATA_TargetStatusChoice[Target_Status_Choice],MATCH(GLOBAL_DATA_02[[#This Row],[Target scope]],DATA_TargetStatusChoice[Value],1))) -> RISK ACCEPTED | G14: 0 | H14: =IF(GLOBAL_DATA_02[[#This Row],[Target status]]<>"FULL IMPLEMENTATION", "<required>"," -") -> <required> | I14: NO PROJECT | J14: 0 | N14: NC
A15: AFMO | B15: Maroc | C15: EQDOM | D15: OPS_KYI_04 | E15: P0 | F15: =IF(GLOBAL_DATA_02[[#This Row],[Target scope]]="","",INDEX(DATA_TargetStatusChoice[Target_Status_Choice],MATCH(GLOBAL_DATA_02[[#This Row],[Target scope]],DATA_TargetStatusChoice[Value],1))) -> NOT APPLICABLE | G15: - | H15: =IF(GLOBAL_DATA_02[[#This Row],[Target status]]<>"FULL IMPLEMENTATION", "<required>"," -") -> <required> | I15: NO PROJECT | J15: 0 | N15: Local
A16: AFMO | B16: Maroc | C16: EQDOM | D16: OPS_KYI_05 | E16: P0 | F16: =IF(GLOBAL_DATA_02[[#This Row],[Target scope]]="","",INDEX(DATA_TargetStatusChoice[Target_Status_Choice],MATCH(GLOBAL_DATA_02[[#This Row],[Target scope]],DATA_TargetStatusChoice[Value],1))) -> PARTIAL IMPLEMENTATION + RA | G16: 0.8 | H16: =IF(GLOBAL_DATA_02[[#This Row],[Target status]]<>"FULL IMPLEMENTATION", "<required>"," -") -> <required> | I16: VERIFIED | J16: 1 | N16: Hub SSI | Q16: 44317
A17: AFMO | B17: Maroc | C17: EQDOM | D17: OPS_KYI_06 | E17: P0 | F17: =IF(GLOBAL_DATA_02[[#This Row],[Target scope]]="","",INDEX(DATA_TargetStatusChoice[Target_Status_Choice],MATCH(GLOBAL_DATA_02[[#This Row],[Target scope]],DATA_TargetStatusChoice[Value],1))) -> PARTIAL IMPLEMENTATION + RA | G17: 0.8 | H17: =IF(GLOBAL_DATA_02[[#This Row],[Target status]]<>"FULL IMPLEMENTATION", "<required>"," -") -> <required> | I17: IN PROGRESS | J17: 0.8 | N17: Local | Q17: 44317
A18: AFMO | B18: Maroc | C18: EQDOM | D18: OPS_MIS_01 | E18: P0 | F18: =IF(GLOBAL_DATA_02[[#This Row],[Target scope]]="","",INDEX(DATA_TargetStatusChoice[Target_Status_Choice],MATCH(GLOBAL_DATA_02[[#This Row],[Target scope]],DATA_TargetStatusChoice[Value],1))) -> PARTIAL IMPLEMENTATION + RA | G18: 0.6 | H18: =IF(GLOBAL_DATA_02[[#This Row],[Target status]]<>"FULL IMPLEMENTATION", "<required>"," -") -> <required> | I18: TO BE STARTED | J18: 0 | N18: Local | Q18: 44317
A19: AFMO | B19: Maroc | C19: EQDOM | D19: OPS_MIS_02 | E19: P0 | F19: =IF(GLOBAL_DATA_02[[#This Row],[Target scope]]="","",INDEX(DATA_TargetStatusChoice[Target_Status_Choice],MATCH(GLOBAL_DATA_02[[#This Row],[Target scope]],DATA_TargetStatusChoice[Value],1))) -> FULL IMPLEMENTATION | G19: 1 | H19: =IF(GLOBAL_DATA_02[[#This Row],[Target status]]<>"FULL IMPLEMENTATION", "<required>"," -") -> - | I19: TO BE STARTED | J19: 0 | N19: SG ABS | Q19: 44317
A20: AFMO | B20: Maroc | C20: EQDOM | D20: OPS_MIS_03 | E20: P0 | F20: =IF(GLOBAL_DATA_02[[#This Row],[Target scope]]="","",INDEX(DATA_TargetStatusChoice[Target_Status_Choice],MATCH(GLOBAL_DATA_02[[#This Row],[Target scope]],DATA_TargetStatusChoice[Value],1))) -> PARTIAL IMPLEMENTATION + RA | G20: 0.6 | H20: =IF(GLOBAL_DATA_02[[#This Row],[Target status]]<>"FULL IMPLEMENTATION", "<required>"," -") -> <required> | I20: TO BE STARTED | J20: 0 | N20: SG ABS | Q20: 44317
A21: AFMO | B21: Maroc | C21: EQDOM | D21: OPS_MIS_04 | E21: P0 | F21: =IF(GLOBAL_DATA_02[[#This Row],[Target scope]]="","",INDEX(DATA_TargetStatusChoice[Target_Status_Choice],MATCH(GLOBAL_DATA_02[[#This Row],[Target scope]],DATA_TargetStatusChoice[Value],1))) -> PARTIAL IMPLEMENTATION + RA | G21: 0.6 | H21: =IF(GLOBAL_DATA_02[[#This Row],[Target status]]<>"FULL IMPLEMENTATION", "<required>"," -") -> <required> | I21: TO BE STARTED | J21: 0 | N21: Local | Q21: 44317
A22: AFMO | B22: Maroc | C22: EQDOM | D22: OPS_MIS_05 | E22: P0 | F22: =IF(GLOBAL_DATA_02[[#This Row],[Target scope]]="","",INDEX(DATA_TargetStatusChoice[Target_Status_Choice],MATCH(GLOBAL_DATA_02[[#This Row],[Target scope]],DATA_TargetStatusChoice[Value],1))) -> PARTIAL IMPLEMENTATION + RA | G22: 0.8 | H22: =IF(GLOBAL_DATA_02[[#This Row],[Target status]]<>"FULL IMPLEMENTATION", "<required>"," -") -> <required> | I22: TO BE STARTED | J22: 0 | N22: Local | Q22: 44317
A23: AFMO | B23: Maroc | C23: EQDOM | D23: OPS_MIS_06 | E23: P0 | F23: =IF(GLOBAL_DATA_02[[#This Row],[Target scope]]="","",INDEX(DATA_TargetStatusChoice[Target_Status_Choice],MATCH(GLOBAL_DATA_02[[#This Row],[Target scope]],DATA_TargetStatusChoice[Value],1))) -> FULL IMPLEMENTATION | G23: 1 | H23: =IF(GLOBAL_DATA_02[[#This Row],[Target status]]<>"FULL IMPLEMENTATION", "<required>"," -") -> - | I23: TO BE STARTED | J23: 0 | N23: Hub SSI | Q23: 44317
A24: AFMO | B24: Maroc | C24: EQDOM | D24: OPS_MIS_07 | E24: P0 | F24: =IF(GLOBAL_DATA_02[[#This Row],[Target scope]]="","",INDEX(DATA_TargetStatusChoice[Target_Status_Choice],MATCH(GLOBAL_DATA_02[[#This Row],[Target scope]],DATA_TargetStatusChoice[Value],1))) -> PARTIAL IMPLEMENTATION + RA | G24: 0.8 | H24: =IF(GLOBAL_DATA_02[[#This Row],[Target status]]<>"FULL IMPLEMENTATION", "<required>"," -") -> <required> | I24: CHECKED CISO | J24: 1 | N24: Local | Q24: 44317
A25: AFMO | B25: Maroc | C25: EQDOM | D25: OPS_MIS_08 | E25: P0 | F25: =IF(GLOBAL_DATA_02[[#This Row],[Target scope]]="","",INDEX(DATA_TargetStatusChoice[Target_Status_Choice],MATCH(GLOBAL_DATA_02[[#This Row],[Target scope]],DATA_TargetStatusChoice[Value],1))) -> FULL IMPLEMENTATION | G25: 1 | H25: =IF(GLOBAL_DATA_02[[#This Row],[Target status]]<>"FULL IMPLEMENTATION", "<required>"," -") -> - | I25: DONE | J25: 1 | N25: Hub SSI | Q25: 44317
A26: AFMO | B26: Maroc | C26: EQDOM | D26: OPS_MIS_09 | E26: P0 | F26: =IF(GLOBAL_DATA_02[[#This Row],[Target scope]]="","",INDEX(DATA_TargetStatusChoice[Target_Status_Choice],MATCH(GLOBAL_DATA_02[[#This Row],[Target scope]],DATA_TargetStatusChoice[Value],1))) -> FULL IMPLEMENTATION | G26: 1 | H26: =IF(GLOBAL_DATA_02[[#This Row],[Target status]]<>"FULL IMPLEMENTATION", "<required>"," -") -> - | I26: DONE | J26: 1 | N26: Local | Q26: 44317 | R26: CF : Mohammed | S26: CF : Mohammed
A27: AFMO | B27: Maroc | C27: EQDOM | D27: OPS_MON_01 | E27: P2 | F27: =IF(GLOBAL_DATA_02[[#This Row],[Target scope]]="","",INDEX(DATA_TargetStatusChoice[Target_Status_Choice],MATCH(GLOBAL_DATA_02[[#This Row],[Target scope]],DATA_TargetStatusChoice[Value],1))) -> FULL IMPLEMENTATION | G27: 1 | H27: =IF(GLOBAL_DATA_02[[#This Row],[Target status]]<>"FULL IMPLEMENTATION", "<required>"," -") -> - | I27: CHECKED CISO | J27: 1 | L27: Check done | M27: Secured | N27: NC | Q27: 44317
A28: AFMO | B28: Maroc | C28: EQDOM | D28: OPS_MON_02 | E28: P1 | F28: =IF(GLOBAL_DATA_02[[#This Row],[Target scope]]="","",INDEX(DATA_TargetStatusChoice[Target_Status_Choice],MATCH(GLOBAL_DATA_02[[#This Row],[Target scope]],DATA_TargetStatusChoice[Value],1))) -> PARTIAL IMPLEMENTATION + RA | G28: 0.8 | H28: =IF(GLOBAL_DATA_02[[#This Row],[Target status]]<>"FULL IMPLEMENTATION", "<required>"," -") -> <required> | I28: IN PROGRESS | J28: 0.8 | N28: NC | Q28: 44317
A29: AFMO | B29: Maroc | C29: EQDOM | D29: OPS_MON_03 | E29: P1 | F29: =IF(GLOBAL_DATA_02[[#This Row],[Target scope]]="","",INDEX(DATA_TargetStatusChoice[Target_Status_Choice],MATCH(GLOBAL_DATA_02[[#This Row],[Target scope]],DATA_TargetStatusChoice[Value],1))) -> PARTIAL IMPLEMENTATION + RA | G29: 0.8 | H29: =IF(GLOBAL_DATA_02[[#This Row],[Target status]]<>"FULL IMPLEMENTATION", "<required>"," -") -> <required> | I29: VERIFIED | J29: 1 | N29: NC | Q29: 44317
A30: AFMO | B30: Maroc | C30: EQDOM | D30: OPS_MON_04 | E30: P0 | F30: =IF(GLOBAL_DATA_02[[#This Row],[Target scope]]="","",INDEX(DATA_TargetStatusChoice[Target_Status_Choice],MATCH(GLOBAL_DATA_02[[#This Row],[Target scope]],DATA_TargetStatusChoice[Value],1))) -> FULL IMPLEMENTATION | G30: 1 | H30: =IF(GLOBAL_DATA_02[[#This Row],[Target status]]<>"FULL IMPLEMENTATION", "<required>"," -") -> - | I30: IN PROGRESS | J30: 0.8 | N30: SG ABS | Q30: 44317
A31: AFMO | B31: Maroc | C31: EQDOM | D31: OPS_MON_05 | E31: P2 | F31: =IF(GLOBAL_DATA_02[[#This Row],[Target scope]]="","",INDEX(DATA_TargetStatusChoice[Target_Status_Choice],MATCH(GLOBAL_DATA_02[[#This Row],[Target scope]],DATA_TargetStatusChoice[Value],1))) -> FULL IMPLEMENTATION | G31: 1 | H31: =IF(GLOBAL_DATA_02[[#This Row],[Target status]]<>"FULL IMPLEMENTATION", "<required>"," -") -> - | I31: DONE | J31: 1 | N31: NC | Q31: 44317
A32: AFMO | B32: Maroc | C32: EQDOM | D32: OPS_MON_06 | E32: P1 | F32: =IF(GLOBAL_DATA_02[[#This Row],[Target scope]]="","",INDEX(DATA_TargetStatusChoice[Target_Status_Choice],MATCH(GLOBAL_DATA_02[[#This Row],[Target scope]],DATA_TargetStatusChoice[Value],1))) -> PARTIAL IMPLEMENTATION + RA | G32: 0.8 | H32: =IF(GLOBAL_DATA_02[[#This Row],[Target status]]<>"FULL IMPLEMENTATION", "<required>"," -") -> <required> | I32: TO BE STARTED | J32: 0 | N32: NC | Q32: 44317
A33: AFMO | B33: Maroc | C33: EQDOM | D33: OPS_PAM_01 | E33: P0 | F33: =IF(GLOBAL_DATA_02[[#This Row],[Target scope]]="","",INDEX(DATA_TargetStatusChoice[Target_Status_Choice],MATCH(GLOBAL_DATA_02[[#This Row],[Target scope]],DATA_TargetStatusChoice[Value],1))) -> FULL IMPLEMENTATION | G33: 1 | H33: =IF(GLOBAL_DATA_02[[#This Row],[Target status]]<>"FULL IMPLEMENTATION", "<required>"," -") -> - | I33: TO BE STARTED | J33: 0 | N33: Hub SSI | Q33: 44317
A34: AFMO | B34: Maroc | C34: EQDOM | D34: OPS_PAM_02 | E34: P0 | F34: =IF(GLOBAL_DATA_02[[#This Row],[Target scope]]="","",INDEX(DATA_TargetStatusChoice[Target_Status_Choice],MATCH(GLOBAL_DATA_02[[#This Row],[Target scope]],DATA_TargetStatusChoice[Value],1))) -> FULL IMPLEMENTATION | G34: 1 | H34: =IF(GLOBAL_DATA_02[[#This Row],[Target status]]<>"FULL IMPLEMENTATION", "<required>"," -") -> - | I34: TO BE STARTED | J34: 0 | N34: Local | Q34: 44317
A35: AFMO | B35: Maroc | C35: EQDOM | D35: OPS_PAM_03 | E35: P0 | F35: =IF(GLOBAL_DATA_02[[#This Row],[Target scope]]="","",INDEX(DATA_TargetStatusChoice[Target_Status_Choice],MATCH(GLOBAL_DATA_02[[#This Row],[Target scope]],DATA_TargetStatusChoice[Value],1))) -> FULL IMPLEMENTATION | G35: 1 | H35: =IF(GLOBAL_DATA_02[[#This Row],[Target status]]<>"FULL IMPLEMENTATION", "<required>"," -") -> - | I35: TO BE STARTED | J35: 0 | N35: SG ABS | Q35: 44317
A36: AFMO | B36: Maroc | C36: EQDOM | D36: OPS_PAM_04 | E36: P0 | F36: =IF(GLOBAL_DATA_02[[#This Row],[Target scope]]="","",INDEX(DATA_TargetStatusChoice[Target_Status_Choice],MATCH(GLOBAL_DATA_02[[#This Row],[Target scope]],DATA_TargetStatusChoice[Value],1))) -> FULL IMPLEMENTATION | G36: 1 | H36: =IF(GLOBAL_DATA_02[[#This Row],[Target status]]<>"FULL IMPLEMENTATION", "<required>"," -") -> - | I36: TO BE STARTED | J36: 0 | N36: SG ABS | Q36: 44706
A37: AFMO | B37: Maroc | C37: EQDOM | D37: OPS_PAM_05 | E37: P0 | F37: =IF(GLOBAL_DATA_02[[#This Row],[Target scope]]="","",INDEX(DATA_TargetStatusChoice[Target_Status_Choice],MATCH(GLOBAL_DATA_02[[#This Row],[Target scope]],DATA_TargetStatusChoice[Value],1))) -> FULL IMPLEMENTATION | G37: 1 | H37: =IF(GLOBAL_DATA_02[[#This Row],[Target status]]<>"FULL IMPLEMENTATION", "<required>"," -") -> - | I37: CHECKED CISO | J37: 1 | N37: Local | Q37: 44706
A38: AFMO | B38: Maroc | C38: EQDOM | D38: OPS_PAM_06 | E38: P1 | F38: =IF(GLOBAL_DATA_02[[#This Row],[Target scope]]="","",INDEX(DATA_TargetStatusChoice[Target_Status_Choice],MATCH(GLOBAL_DATA_02[[#This Row],[Target scope]],DATA_TargetStatusChoice[Value],1))) -> PARTIAL IMPLEMENTATION + RA | G38: 0.8 | H38: =IF(GLOBAL_DATA_02[[#This Row],[Target status]]<>"FULL IMPLEMENTATION", "<required>"," -") -> <required> | I38: DONE | J38: 1 | N38: NC | Q38: 44706
A39: AFMO | B39: Maroc | C39: EQDOM | D39: OPS_PAM_07 | E39: P0 | F39: =IF(GLOBAL_DATA_02[[#This Row],[Target scope]]="","",INDEX(DATA_TargetStatusChoice[Target_Status_Choice],MATCH(GLOBAL_DATA_02[[#This Row],[Target scope]],DATA_TargetStatusChoice[Value],1))) -> FULL IMPLEMENTATION | G39: 1 | H39: =IF(GLOBAL_DATA_02[[#This Row],[Target status]]<>"FULL IMPLEMENTATION", "<required>"," -") -> - | I39: DONE | J39: 1 | N39: SG ABS | Q39: 44706
... A49: AFMO | B49: Maroc | C49: EQDOM | D49: OPS_SYI_07 | E49: P0 | F49: =IF(GLOBAL_DATA_02[[#This Row],[Target scope]]="","",INDEX(DATA_TargetStatusChoice[Target_Status_Choice],MATCH(GLOBAL_DATA_02[[#This Row],[Target scope]],DATA_TargetStatusChoice[Value],1))) -> FULL IMPLEMENTATION | G49: 1 | H49: =IF(GLOBAL_DATA_02[[#This Row],[Target status]]<>"FULL IMPLEMENTATION", "<required>"," -") -> - | I49: TO BE STARTED | J49: 0 | N49: SG ABS | Q49: 44706
...

Sheet DATA
A1: C2-Confidential
A2: File_Version | E2: Security packs EN | F2: Security packs FR | G2: Acronym / Acronyme | I2: Status_Choice | J2: Rank | L2: Months overdelay | N2: # | O2: Entity | P2: BU | Q2: Region | R2: Country | S2: Level | T2: Language | V2: Pack EN | W2: Pack FR | X2: Theme EN | Y2: Theme FR | Z2: Acronym theme | AA2: Acronym combined | AB2: ID
A3: 5.0 | E3: Advanced protection | F3: Protection avancée | G3: ADP | I3: NO PROJECT | J3: 1 | L3: 3 | N3: 1 | O3: BDK | P3: EURO | Q3: - | R3: Allemagne | S3: 3 | T3: EN | V3: Advanced protection | W3: Protection avancée | X3: Analytic security | Y3: Sécurité analytique | Z3: ANS | AA3: ADP_ANS | AB3: Advanced protectionAnalytic security
E4: Cloud | F4: Cloud | G4: CLD | I4: TO BE STARTED | J4: 2 | N4: 2 | O4: BDP | P4: AFMO | Q4: Outre-mer | R4: Polynésie française | S4: 3 | T4: FR | V4: Advanced protection | W4: Protection avancée | X4: Cyber Incident | Y4: Incident cyber | Z4: CYI | AA4: ADP_CYI | AB4: Advanced protectionCyber Incident
E5: Data protection | F5: Protection des données | G5: DTP | I5: IN PROGRESS | J5: 3 | L5: Ressources | N5: 3 | O5: BFCOI | P5: AFMO | Q5: Outre-mer | R5: La Réunion | S5: 3 | T5: FR | V5: Advanced protection | W5: Protection avancée | X5: Endpoint security | Y5: Sécurité des terminaux | Z5: ENS | AA5: ADP_ENS | AB5: Advanced protectionEndpoint security
E6: Exposed services | F6: Services exposés | G6: EXS | I6: DONE | J6: 4 | L6: Not secured | N6: 4 | O6: BRD | P6: EURO | Q6: - | R6: Roumanie | S6: 1 | T6: EN | V6: Advanced protection | W6: Protection avancée | X6: Filtering security | Y6: Sécurité des flux | Z6: FLS | AA6: ADP_FLS | AB6: Advanced protectionFiltering security
E7: Internal fraud protection | F7: Protection contre la fraude interne | G7: IFP | I7: CHECKED CISO | J7: 5 | L7: Secured | N7: 5 | O7: BRD Finance | P7: EURO | Q7: - | R7: Roumanie | S7: 3 | T7: EN | V7: Advanced protection | W7: Protection avancée | X7: Sensitive Assets | Y7: Actifs sensibles | Z7: SEA | AA7: ADP_SEA | AB7: Advanced protectionSensitive Assets
E8: Operational security | F8: Sécurité opérationnelle | G8: OPS | I8: VERIFIED | J8: 6 | N8: 6 | O8: CGI Finance | P8: EURO | Q8: - | R8: France | S8: 2 | T8: FR | V8: Advanced protection | W8: Protection avancée | X8: User Security | Y8: Sécurité des utilisateurs | Z8: UZS | AA8: ADP_UZS | AB8: Advanced protectionUser Security
E9: Security in product lifecycle | F9: Sécurité dans le cycle de vie produit | G9: SPL | N9: 7 | O9: EQDOM | P9: AFMO | Q9: Maroc | R9: Maroc | S9: 3 | T9: FR | V9: Cloud | W9: Cloud | X9: Cloud Management | Y9: Gestion du Cloud | Z9: MNG | AA9: CLD_MNG | AB9: CloudCloud Management
E10: Third parties and supply chain | F10: Tiers et supply chain | G10: TPS | N10: 8 | O10: Essox | P10: EURO | Q10: - | R10: République Tchèque | S10: 3 | T10: EN | V10: Cloud | W10: Cloud | X10: Availability | Y10: Disponibilité | Z10: AVA | AA10: CLD_AVA | AB10: CloudAvailability
E11: Training and awareness | F11: Formation et sensibilisation | G11: TAA | I11: Target_Status_Choice | J11: Value | L11: Target of scope | N11: 9 | O11: Fiditalia | P11: EURO | Q11: - | R11: Italie | S11: 2 | T11: EN | V11: Cloud | W11: Cloud | X11: IAM | Y11: IAM | Z11: IAM | AA11: CLD_IAM | AB11: CloudIAM
I12: RISK ACCEPTED | J12: 0 | L12: - | N12: 10 | O12: Hanseatic Bank | P12: EURO | Q12: - | R12: Allemagne | S12: 3 | T12: EN | V12: Cloud | W12: Cloud | X12: Data Protection | Y12: Protection des données | Z12: DTP | AA12: CLD_DTP | AB12: CloudData Protection
I13: PARTIAL IMPLEMENTATION + RA | J13: 0.01 | L13: 0 | N13: 11 | O13: KB | P13: EURO | Q13: - | R13: République Tchèque | S13: 1 | T13: EN | V13: Cloud | W13: Cloud | X13: Incident management | Y13: Gestion des incidents | Z13: IMN | AA13: CLD_IMN | AB13: CloudIncident management
A14: CISO assessment | E14: Pack | F14: Acronyme | G14: Order index | I14: FULL IMPLEMENTATION | J14: 1 | L14: 0.2 | N14: 12 | O14: ROSBANK | P14: RUSS | Q14: - | R14: Russie | S14: 1 | T14: EN | V14: Cloud | W14: Cloud | X14: Services access | Y14: Accès aux services | Z14: SAC | AA14: CLD_SAC | AB14: CloudServices access
A15: No alert | E15: Operational security | F15: OPS | G15: 1 | I15: NOT APPLICABLE | J15: - | L15: 0.4 | N15: 13 | O15: Rusfinance | P15: RUSS | Q15: - | R15: Russie | S15: 2 | T15: EN | V15: Cloud | W15: Cloud | X15: Architecture | Y15: Architecture | Z15: ARC | AA15: CLD_ARC | AB15: CloudArchitecture
A16: Warning | E16: Training and awareness | F16: TAA | G16: 2 | L16: 0.6 | N16: 14 | O16: SGA | P16: AFMO | Q16: Méditerranée | R16: Algérie | S16: 2 | T16: FR | V16: Cloud | W16: Cloud | X16: Access filtering | Y16: Filtrage d'accès | Z16: ACF | AA16: CLD_ACF | AB16: CloudAccess filtering
A17: Alert | E17: Data protection | F17: DTP | G17: 3 | I17: RAF_Status_Choice | J17: Rank | L17: 0.8 | N17: 15 | O17: SGABS | P17: AFMO | Q17: COO | R17: Maroc | S17: 1 | T17: FR | V17: Cloud | W17: Cloud | X17: Infrastructure security | Y17: Sécurité de l'infrastructure | Z17: IFS | AA17: CLD_IFS | AB17: CloudInfrastructure security
E18: Internal fraud protection | F18: IFP | G18: 4 | I18: NOT APPLICABLE | J18: 1 | L18: 1 | N18: 16 | O18: SGB | P18: AFMO | Q18: Afrique de l'ouest | R18: Bénin | S18: 3 | T18: FR | V18: Cloud | W18: Cloud | X18: Log management | Y18: Gestion des traces | Z18: LGM | AA18: CLD_LGM | AB18: CloudLog management
E19: Advanced protection | F19: ADP | G19: 5 | I19: TO BE DONE | J19: 2 | N19: 17 | O19: SGBF | P19: AFMO | Q19: Afrique de l'ouest | R19: Burkina Faso | S19: 3 | T19: FR | V19: Data protection | W19: Protection des données | X19: Data cartography | Y19: Cartographie des données | Z19: DCT | AA19: DTP_DCT | AB19: Data protectionData cartography
E20: Exposed services | F20: EXS | G20: 6 | I20: TO BE UPDATED | J20: 3 | N20: 18 | O20: SGBGE | P20: AFMO | Q20: Afrique centrale et Australie | R20: Guinée équatoriale | S20: 3 | T20: FR | V20: Data protection | W20: Protection des données | X20: Data classification | Y20: Classification des données | Z20: DCL | AA20: DTP_DCL | AB20: Data protectionData classification
E21: Cloud | F21: CLD | G21: 7 | I21: IN PROGRESS | J21: 4 | N21: 19 | O21: SGC | P21: AFMO | Q21: Afrique centrale et Australie | R21: Congo | S21: 3 | T21: FR | V21: Data protection | W21: Protection des données | X21: Monitoring | Y21: Monitoring | Z21: MON | AA21: DTP_MON | AB21: Data protectionMonitoring
E22: Third parties and supply chain | F22: TPS | G22: 8 | I22: SUBMITTED | J22: 5 | N22: 20 | O22: SGCAM | P22: AFMO | Q22: Afrique centrale et Australie | R22: Cameroun | S22: 3 | T22: FR | V22: Data protection | W22: Protection des données | X22: Data leakage | Y22: Fuite de données | Z22: DLK | AA22: DTP_DLK | AB22: Data protectionData leakage
E23: Security in product lifecycle | F23: SPL | G23: 9 | I23: VALIDATED | J23: 6 | N23: 21 | O23: SGCB | P23: AFMO | Q23: Outre-mer | R23: Nouvelle Calédonie | S23: 3 | T23: FR | V23: Data protection | W23: Protection des données | X23: Encryption | Y23: Chiffrement | Z23: ENC | AA23: DTP_ENC | AB23: Data protectionEncryption
N24: 22 | O24: SGCI | P24: AFMO | Q24: Afrique de l'ouest | R24: SGCI | S24: 3 | T24: FR | V24: Data protection | W24: Protection des données | X24: Anonymisation | Y24: Anonymisation | Z24: ANO | AA24: DTP_ANO | AB24: Data protectionAnonymisation
N25: 23 | O25: SGGH | P25: AFMO | Q25: Afrique de l'ouest | R25: Ghana | S25: 3 | T25: EN | V25: Data protection | W25: Protection des données | X25: Big Data | Y25: Big data | Z25: BDT | AA25: DTP_BDT | AB25: Data protectionBig Data
N26: 24 | O26: SGGN | P26: AFMO | Q26: Afrique de l'ouest | R26: Guinée | S26: 3 | T26: FR | V26: Exposed services | W26: Services exposés | X26: Secure Hosting Baseline | Y26: Hébergement de référence sécurisé | Z26: SHB | AA26: EXS_SHB | AB26: Exposed servicesSecure Hosting Baseline
N27: 25 | O27: SGM | P27: AFMO | Q27: Afrique de l'ouest | R27: Mauritanie | S27: 3 | T27: FR | V27: Exposed services | W27: Services exposés | X27: Customer Identity Mangement | Y27: Gestion de l'identité des clients | Z27: CIM | AA27: EXS_CIM | AB27: Exposed servicesCustomer Identity Mangement
N28: 26 | O28: SGMA | P28: AFMO | Q28: Maroc | R28: Maroc | S28: 2 | T28: FR | V28: Exposed services | W28: Services exposés | X28: DNS security | Y28: Sécurité du DNS | Z28: DNS | AA28: EXS_DNS | AB28: Exposed servicesDNS security
N29: 27 | O29: SGMADA | P29: AFMO | Q29: Afrique centrale et Australie | R29: Madagascar | S29: 2 | T29: FR | V29: Exposed services | W29: Services exposés | X29: E-fraud | Y29: E-fraud | Z29: EFD | AA29: EXS_EFD | AB29: Exposed servicesE-fraud
N30: 28 | O30: SGMZ | P30: AFMO | Q30: Afrique centrale et Australie | R30: Mozambique | S30: 3 | T30: EN | V30: Exposed services | W30: Services exposés | X30: Internet application security | Y30: Sécurité des applications web | Z30: IAS | AA30: EXS_IAS | AB30: Exposed servicesInternet application security
N31: 29 | O31: SGSN | P31: AFMO | Q31: Afrique de l'ouest | R31: Sénégal | S31: 3 | T31: FR | V31: Exposed services | W31: Services exposés | X31: Mobile Banking Security | Y31: Sécurité des services bancaires mobile | Z31: MBS | AA31: EXS_MBS | AB31: Exposed servicesMobile Banking Security
N32: 30 | O32: SGT | P32: AFMO | Q32: Afrique centrale et Australie | R32: Tchad | S32: 3 | T32: FR | V32: Exposed services | W32: Services exposés | X32: Open Banking and API security | Y32: Open Banking et sécurité des API | Z32: OBS | AA32: EXS_OBS | AB32: Exposed servicesOpen Banking and API security
N33: 31 | O33: SGTG | P33: AFMO | Q33: Afrique de l'ouest | R33: Togo | S33: 3 | T33: FR | V33: Exposed services | W33: Services exposés | X33: Secure usage of internet services | Y33: Utilisation sécurisée des services web | Z33: SUI | AA33: EXS_SUI | AB33: Exposed servicesSecure usage of internet services
N34: 32 | O34: UIB | P34: AFMO | Q34: Méditerranée | R34: Tunisie | S34: 3 | T34: FR | V34: Internal fraud protection | W34: Protection contre la fraude interne | X34: Governance | Y34: Gouvernance | Z34: GOV | AA34: IFP_GOV | AB34: Internal fraud protectionGovernance
V35: Internal fraud protection | W35: Protection contre la fraude interne | X35: Prevention | Y35: Prévention | Z35: PRV | AA35: IFP_PRV | AB35: Internal fraud protectionPrevention
O36: =SUMPRODUCT(1/COUNTIF(DATA_EntityRegion[Entity],DATA_EntityRegion[Entity])) -> 32 | P36: =SUMPRODUCT(1/COUNTIF(DATA_EntityRegion[[BU ]],DATA_EntityRegion[[BU ]])) -> 3 | Q36: =SUMPRODUCT(1/COUNTIF(DATA_EntityRegion[Region],DATA_EntityRegion[Region])) -> 7 | R36: =SUMPRODUCT(1/COUNTIF(DATA_EntityRegion[Country],DATA_EntityRegion[Country])) -> 26 | V36: Internal fraud protection | W36: Protection contre la fraude interne | X36: Detection | Y36: Détection | Z36: DET | AA36: IFP_DET | AB36: Internal fraud protectionDetection
V37: Operational security | W37: Sécurité opérationnelle | X37: Know your IT | Y37: Connaître son SI | Z37: KYI | AA37: OPS_KYI | AB37: Operational securityKnow your IT
V38: Operational security | W38: Sécurité opérationnelle | X38: Incident management | Y38: Gestion des incidents | Z38: IMN | AA38: OPS_IMN | AB38: Operational securityIncident management
V39: Operational security | W39: Sécurité opérationnelle | X39: Access management | Y39: Gestion des accès | Z39: ACM | AA39: OPS_ACM | AB39: Operational securityAccess management
V40: Operational security | W40: Sécurité opérationnelle | X40: Privileged Access management | Y40: Gestion des accès à privilèges | Z40: PAM | AA40: OPS_PAM | AB40: Operational securityPrivileged Access management
...

Sheet CALCULATION
A1: C2-Confidential
A2: PACK | B2: END | C2: Before DARWIN² | D2: NO PROJECT P0 | E2: NO PROJECT P1 | F2: NO PROJECT P2&P3 | G2: NO PROJECT | H2: TO BE STARTED P0 | I2: TO BE STARTED P1 | J2: TO BE STARTED P2&P3 | K2: TO BE STARTED | L2: IN PROGRESS P0 | M2: IN PROGRESS P1 | N2: IN PROGRESS P2&P3 | O2: IN PROGRESS | P2: DONE P0 | Q2: DONE P1 | R2: DONE P2&P3 | S2: DONE | T2: CHECKED CISO P0 | U2: CHECKED CISO P1 | V2: CHECKED CISO P2&P3 | W2: CHECKED CISO | X2: VERIFIED P0 | Y2: VERIFIED P1 | Z2: VERIFIED P2&P3 | AA2: VERIFIED | AB2: PR_EX P0 | AC2: PR_EX P1 | AD2: PR_EX P2&P3 | AE2: TOTAL PR_EX | AF2: RISK ACCEPTED P0 | AG2: RISK ACCEPTED P1 | AH2: RISK ACCEPTED P2&3 | AI2: RISK ACCEPTED (FULL MEASURE) | AJ2: PARTIAL IMPLEMENTATION + RA P0 | AK2: PARTIAL IMPLEMENTATION + RA P1 | AL2: PARTIAL IMPLEMENTATION + RA P2&P3 | AM2: PARTIAL IMPLEMENTATION + RA | AN2: RISK ACCEPTANCE | AO2: FULL IMPLEMENTATION | AP2: NOT APPLICABLE | AQ2: LEFT P0 | AR2: LEFT P1 | AS2: LEFT P2&3 | AT2: TOTAL Impl | AU2: WIP | AV2: COMPLETED P0 | AW2: COMPLETED P1 | AX2: COMPLETED P2&3 | AY2: COMPLETED | AZ2: COMPLETED % | BA2: IN SCOPE | BB2: IN SCOPE % | BC2: % RISK ACCEPTED | BD2: Risk situation comment | BE2: RISK STATUS (Alert/Warning) | BF2: DELTA (No risk/empty) | BG2: TARGET IMPL | BH2: CURRENT IMPL DONE | BI2: CURRENT IMPL CHECKED CISO & VERIFIED | BJ2: WIP % | BK2: CURRENT IMPL | BL2: 2020 IMLP | BM2: 2020 COMMITTED | BN2: % 2020 COMMITTED | BO2: 2021 IMPL | BP2: 2021 COMMITTED | BQ2: % 2021 COMMITTED | BR2: 2022 IMPL | BS2: 2022 COMMITTED | BT2: % 2022 COMMITTED | BU2: COMMITTED | BV2: Total IMPLEMENTED | BW2: DELTA
