Workbook

Sheet AIDE à l'utilisation

Sheet Infos
D1: Ecole Supérieure du Bois
D2: JUNIOR DU BOIS
D3: 7, rue Christian Pauc
D4: 44000 NANTES
D5: Tél : 07 69 84 10 93
D6: Courriel :jdb@asso.ecoledubois.fr
A10: CAHIER DE COMPTABILITE INFORMATISE
F13: ANNEE | G13: 2017
D15: Crédit TVA au report
B18: BANQUE | H18: Agence CARQUEFOU Tél: 02 28 23 25 38 Fax : 02 28 23 22 91 Courrier: 1, rue François René Chateaubriand 44470 CARQUEFOU Compte n° FR76 3000 3012 6100 0372 6123 320
E29: Trésorier actuel: | H29: Pierre MILLON
B33: Merci de bien vouloir renseigner les cellules en jaune.

Sheet Détail
Q1: COMPTES DE PRODUITS ( Entrées ) | X1: COMPTES DE CHARGES ( Sorties )
Q2: 8 | R2: 9 | S2: 10 | T2: 11 | U2: 12 | V2: 13 | X2: 1 | Y2: 2 | Z2: 3 | AA2: 4 | AB2: 5 | AC2: 6 | AD2: 7
A3: N° | B3: Date | C3: Nature De L'opération | D3: CONTRÔLE | E3: Ventilation | F3: TVA (20%) | G3: Compte Courant bancaire | L3: Caisse (espèces) | O3: Situation générale (banque + caisse) | P3: N° | Q3: Projets | R3: Prêts | S3: Subventions reçues | T3: Autres subventions | U3: Ventes | V3: Produits exceptionnels | X3: Achats de produits | Y3: Achats machines | Z3: Impôts | AA3: Rémunérations | AB3: Charges URSSAF | AC3: Charges courantes | AD3: Charges except.
G4: Entrées (crédit) | H4: Sorties (débit) | I4: Solde | J4: Pointage | K4: Solde pointé | L4: Entrées (crédit) | M4: Sorties (débit) | N4: Solde | Q4: Etudes réalisées | R4: Machines électroportatifs, … | S4: Etat, établis-sements publiques, collectivités locales | T4: associations diverses, | U4: Matériels, … | V4: intérêts financiers | X4: Bois, vis, outil, … | Y4: Machines électroportatifs, … | Z4: CFE, … | AC4: téléphones, assurances, … | AD4: événement imprévu, solidarité,…
A5: =+CONCATENATE("REPORT DES SOLDES DE TRESORERIE DU 31/03/",Infos!G13) -> REPORT DES SOLDES DE TRESORERIE DU 31/03/2017 | E5: comptes | I5: =1875.93+30.4 -> 1906.33 | K5: =I5 -> 1906.33 | N5: 25.2 | O5: =+N5+I5 -> 1931.53
A6: 1 | B6: 42832 | C6: FREE - Facture n° 666943497 | D6: =+IF((G6-H6+L6-M6)=(SUM(Q6:V6)-SUM(X6:AD6)),"","VENTILATION") | E6: 6 | H6: 3.37 | I6: =+G6-H6+I5 -> 1902.96 | J6: x | K6: =IF(J6<>"",K5+G6-H6,K5) -> 1902.96 | N6: =+L6-M6+N5 -> 25.2 | O6: =+N6+I6 -> 1928.16 | P6: =IF(ISBLANK(A6),"",A6) -> 1 | Q6: =IF(E6=8,SUM(G6+L6),0) -> 0 | R6: =IF(E6=9,SUM(G6+L6),0) -> 0 | S6: =IF(E6=10,SUM(G6+L6),0) -> 0 | T6: =IF(E6=11,SUM(G6+L6),0) -> 0 | U6: =IF(E6=12,SUM(G6+L6),0) -> 0 | V6: =IF(E6=13,SUM(G6+L6),0) -> 0 | X6: =IF(E6=1,SUM(H6+M6),0) -> 0 | Y6: =IF(E6=2,SUM(H6+M6),0) -> 0 | Z6: =IF(E6=3,SUM(H6+M6),0) -> 0 | AA6: =IF(E6=4,SUM(H6+M6),0) -> 0 | AB6: =IF(E6=5,SUM(H6+M6),0) -> 0 | AC6: =IF(E6=6,SUM(H6+M6),0) -> 3.37 | AD6: =IF(E6=7,SUM(H6+M6),0) -> 0
A7: 2 | B7: 42832 | C7: Salaire Thomas VERGES | D7: =+IF((G7-H7+L7-M7)=(SUM(Q7:V7)-SUM(X7:AD7)),"","VENTILATION") | E7: 4 | H7: 40 | I7: =+G7-H7+I6 -> 1862.96 | J7: x | K7: =IF(J7<>"",K6+G7-H7,K6) -> 1862.96 | N7: =+L7-M7+N6 -> 25.2 | O7: =+N7+I7 -> 1888.16 | P7: =IF(ISBLANK(A7),"",A7) -> 2 | Q7: =IF(E7=8,SUM(G7+L7),0) -> 0 | R7: =IF(E7=9,SUM(G7+L7),0) -> 0 | S7: =IF(E7=10,SUM(G7+L7),0) -> 0 | T7: =IF(E7=11,SUM(G7+L7),0) -> 0 | U7: =IF(E7=12,SUM(G7+L7),0) -> 0 | V7: =IF(E7=13,SUM(G7+L7),0) -> 0 | X7: =IF(E7=1,SUM(H7+M7),0) -> 0 | Y7: =IF(E7=2,SUM(H7+M7),0) -> 0 | Z7: =IF(E7=3,SUM(H7+M7),0) -> 0 | AA7: =IF(E7=4,SUM(H7+M7),0) -> 40 | AB7: =IF(E7=5,SUM(H7+M7),0) -> 0 | AC7: =IF(E7=6,SUM(H7+M7),0) -> 0 | AD7: =IF(E7=7,SUM(H7+M7),0) -> 0
A8: 3 | B8: 42843 | C8: Prélèvement URSSAF Janvier 2017 | D8: =+IF((G8-H8+L8-M8)=(SUM(Q8:V8)-SUM(X8:AD8)),"","VENTILATION") | E8: 5 | H8: 294 | I8: =+G8-H8+I7 -> 1568.96 | J8: x | K8: =IF(J8<>"",K7+G8-H8,K7) -> 1568.96 | N8: =+L8-M8+N7 -> 25.2 | O8: =+N8+I8 -> 1594.16 | P8: =IF(ISBLANK(A8),"",A8) -> 3 | Q8: =IF(E8=8,SUM(G8+L8),0) -> 0 | R8: =IF(E8=9,SUM(G8+L8),0) -> 0 | S8: =IF(E8=10,SUM(G8+L8),0) -> 0 | T8: =IF(E8=11,SUM(G8+L8),0) -> 0 | U8: =IF(E8=12,SUM(G8+L8),0) -> 0 | V8: =IF(E8=13,SUM(G8+L8),0) -> 0 | X8: =IF(E8=1,SUM(H8+M8),0) -> 0 | Y8: =IF(E8=2,SUM(H8+M8),0) -> 0 | Z8: =IF(E8=3,SUM(H8+M8),0) -> 0 | AA8: =IF(E8=4,SUM(H8+M8),0) -> 0 | AB8: =IF(E8=5,SUM(H8+M8),0) -> 294 | AC8: =IF(E8=6,SUM(H8+M8),0) -> 0 | AD8: =IF(E8=7,SUM(H8+M8),0) -> 0
A9: 4 | B9: 42840 | C9: Dispano - février 2017 | D9: =+IF((G9-H9+L9-M9)=(SUM(Q9:V9)-SUM(X9:AD9)),"","VENTILATION") | E9: 1 | H9: 152.3 | I9: =+G9-H9+I8 -> 1416.66 | J9: x | K9: =IF(J9<>"",K8+G9-H9,K8) -> 1416.66 | N9: =+L9-M9+N8 -> 25.2 | O9: =+N9+I9 -> 1441.86 | P9: =IF(ISBLANK(A9),"",A9) -> 4 | Q9: =IF(E9=8,SUM(G9+L9),0) -> 0 | R9: =IF(E9=9,SUM(G9+L9),0) -> 0 | S9: =IF(E9=10,SUM(G9+L9),0) -> 0 | T9: =IF(E9=11,SUM(G9+L9),0) -> 0 | U9: =IF(E9=12,SUM(G9+L9),0) -> 0 | V9: =IF(E9=13,SUM(G9+L9),0) -> 0 | X9: =IF(E9=1,SUM(H9+M9),0) -> 152.3 | Y9: =IF(E9=2,SUM(H9+M9),0) -> 0 | Z9: =IF(E9=3,SUM(H9+M9),0) -> 0 | AA9: =IF(E9=4,SUM(H9+M9),0) -> 0 | AB9: =IF(E9=5,SUM(H9+M9),0) -> 0 | AC9: =IF(E9=6,SUM(H9+M9),0) -> 0 | AD9: =IF(E9=7,SUM(H9+M9),0) -> 0
A10: 5 | B10: 42844 | C10: Logo génie - Facture n°31130 | D10: =+IF((G10-H10+L10-M10)=(SUM(Q10:V10)-SUM(X10:AD10)),"","VENTILATION") | E10: 7 | H10: 23.92 | I10: =+G10-H10+I9 -> 1392.74 | J10: x | K10: =IF(J10<>"",K9+G10-H10,K9) -> 1392.74 | N10: =+L10-M10+N9 -> 25.2 | O10: =+N10+I10 -> 1417.94 | P10: =IF(ISBLANK(A10),"",A10) -> 5 | Q10: =IF(E10=8,SUM(G10+L10),0) -> 0 | R10: =IF(E10=9,SUM(G10+L10),0) -> 0 | S10: =IF(E10=10,SUM(G10+L10),0) -> 0 | T10: =IF(E10=11,SUM(G10+L10),0) -> 0 | U10: =IF(E10=12,SUM(G10+L10),0) -> 0 | V10: =IF(E10=13,SUM(G10+L10),0) -> 0 | X10: =IF(E10=1,SUM(H10+M10),0) -> 0 | Y10: =IF(E10=2,SUM(H10+M10),0) -> 0 | Z10: =IF(E10=3,SUM(H10+M10),0) -> 0 | AA10: =IF(E10=4,SUM(H10+M10),0) -> 0 | AB10: =IF(E10=5,SUM(H10+M10),0) -> 0 | AC10: =IF(E10=6,SUM(H10+M10),0) -> 0 | AD10: =IF(E10=7,SUM(H10+M10),0) -> 23.92
A11: 6 | B11: 42846 | C11: Leclerc - Facture n°0170001675 | D11: =+IF((G11-H11+L11-M11)=(SUM(Q11:V11)-SUM(X11:AD11)),"","VENTILATION") | E11: 1 | H11: 7.9 | I11: =+G11-H11+I10 -> 1384.84 | J11: x | K11: =IF(J11<>"",K10+G11-H11,K10) -> 1384.84 | N11: =+L11-M11+N10 -> 25.2 | O11: =+N11+I11 -> 1410.04 | P11: =IF(ISBLANK(A11),"",A11) -> 6 | Q11: =IF(E11=8,SUM(G11+L11),0) -> 0 | R11: =IF(E11=9,SUM(G11+L11),0) -> 0 | S11: =IF(E11=10,SUM(G11+L11),0) -> 0 | T11: =IF(E11=11,SUM(G11+L11),0) -> 0 | U11: =IF(E11=12,SUM(G11+L11),0) -> 0 | V11: =IF(E11=13,SUM(G11+L11),0) -> 0 | X11: =IF(E11=1,SUM(H11+M11),0) -> 7.9 | Y11: =IF(E11=2,SUM(H11+M11),0) -> 0 | Z11: =IF(E11=3,SUM(H11+M11),0) -> 0 | AA11: =IF(E11=4,SUM(H11+M11),0) -> 0 | AB11: =IF(E11=5,SUM(H11+M11),0) -> 0 | AC11: =IF(E11=6,SUM(H11+M11),0) -> 0 | AD11: =IF(E11=7,SUM(H11+M11),0) -> 0
A12: 7 | B12: 42847 | C12: Legallais - Facture n°7178451 | D12: =+IF((G12-H12+L12-M12)=(SUM(Q12:V12)-SUM(X12:AD12)),"","VENTILATION") | E12: 1 | H12: 61.09 | I12: =+G12-H12+I11 -> 1323.75 | J12: x | K12: =IF(J12<>"",K11+G12-H12,K11) -> 1323.75 | N12: =+L12-M12+N11 -> 25.2 | O12: =+N12+I12 -> 1348.95 | P12: =IF(ISBLANK(A12),"",A12) -> 7 | Q12: =IF(E12=8,SUM(G12+L12),0) -> 0 | R12: =IF(E12=9,SUM(G12+L12),0) -> 0 | S12: =IF(E12=10,SUM(G12+L12),0) -> 0 | T12: =IF(E12=11,SUM(G12+L12),0) -> 0 | U12: =IF(E12=12,SUM(G12+L12),0) -> 0 | V12: =IF(E12=13,SUM(G12+L12),0) -> 0 | X12: =IF(E12=1,SUM(H12+M12),0) -> 61.09 | Y12: =IF(E12=2,SUM(H12+M12),0) -> 0 | Z12: =IF(E12=3,SUM(H12+M12),0) -> 0 | AA12: =IF(E12=4,SUM(H12+M12),0) -> 0 | AB12: =IF(E12=5,SUM(H12+M12),0) -> 0 | AC12: =IF(E12=6,SUM(H12+M12),0) -> 0 | AD12: =IF(E12=7,SUM(H12+M12),0) -> 0
A13: 8 | B13: 42847 | C13: Super U - Facture n°30 914-5-625 876-20170421 | D13: =+IF((G13-H13+L13-M13)=(SUM(Q13:V13)-SUM(X13:AD13)),"","VENTILATION") | E13: 1 | H13: 8.95 | I13: =+G13-H13+I12 -> 1314.8 | J13: x | K13: =IF(J13<>"",K12+G13-H13,K12) -> 1314.8 | N13: =+L13-M13+N12 -> 25.2 | O13: =+N13+I13 -> 1340 | P13: =IF(ISBLANK(A13),"",A13) -> 8 | Q13: =IF(E13=8,SUM(G13+L13),0) -> 0 | R13: =IF(E13=9,SUM(G13+L13),0) -> 0 | S13: =IF(E13=10,SUM(G13+L13),0) -> 0 | T13: =IF(E13=11,SUM(G13+L13),0) -> 0 | U13: =IF(E13=12,SUM(G13+L13),0) -> 0 | V13: =IF(E13=13,SUM(G13+L13),0) -> 0 | X13: =IF(E13=1,SUM(H13+M13),0) -> 8.95 | Y13: =IF(E13=2,SUM(H13+M13),0) -> 0 | Z13: =IF(E13=3,SUM(H13+M13),0) -> 0 | AA13: =IF(E13=4,SUM(H13+M13),0) -> 0 | AB13: =IF(E13=5,SUM(H13+M13),0) -> 0 | AC13: =IF(E13=6,SUM(H13+M13),0) -> 0 | AD13: =IF(E13=7,SUM(H13+M13),0) -> 0
A14: 9 | B14: 42852 | C14: Legallais - Facture n°7181547 | D14: =+IF((G14-H14+L14-M14)=(SUM(Q14:V14)-SUM(X14:AD14)),"","VENTILATION") | E14: 1 | H14: 108.83 | I14: =+G14-H14+I13 -> 1205.97 | J14: x | K14: =IF(J14<>"",K13+G14-H14,K13) -> 1205.97 | N14: =+L14-M14+N13 -> 25.2 | O14: =+N14+I14 -> 1231.17 | P14: =IF(ISBLANK(A14),"",A14) -> 9 | Q14: =IF(E14=8,SUM(G14+L14),0) -> 0 | R14: =IF(E14=9,SUM(G14+L14),0) -> 0 | S14: =IF(E14=10,SUM(G14+L14),0) -> 0 | T14: =IF(E14=11,SUM(G14+L14),0) -> 0 | U14: =IF(E14=12,SUM(G14+L14),0) -> 0 | V14: =IF(E14=13,SUM(G14+L14),0) -> 0 | X14: =IF(E14=1,SUM(H14+M14),0) -> 108.83 | Y14: =IF(E14=2,SUM(H14+M14),0) -> 0 | Z14: =IF(E14=3,SUM(H14+M14),0) -> 0 | AA14: =IF(E14=4,SUM(H14+M14),0) -> 0 | AB14: =IF(E14=5,SUM(H14+M14),0) -> 0 | AC14: =IF(E14=6,SUM(H14+M14),0) -> 0 | AD14: =IF(E14=7,SUM(H14+M14),0) -> 0
A15: 10 | B15: 42851 | C15: OoPrint - Facture n°170426-23A75B8C3E6 | D15: =+IF((G15-H15+L15-M15)=(SUM(Q15:V15)-SUM(X15:AD15)),"","VENTILATION") | E15: 7 | H15: 11.88 | I15: =+G15-H15+I14 -> 1194.09 | J15: x | K15: =IF(J15<>"",K14+G15-H15,K14) -> 1194.09 | N15: =+L15-M15+N14 -> 25.2 | O15: =+N15+I15 -> 1219.29 | P15: =IF(ISBLANK(A15),"",A15) -> 10 | Q15: =IF(E15=8,SUM(G15+L15),0) -> 0 | R15: =IF(E15=9,SUM(G15+L15),0) -> 0 | S15: =IF(E15=10,SUM(G15+L15),0) -> 0 | T15: =IF(E15=11,SUM(G15+L15),0) -> 0 | U15: =IF(E15=12,SUM(G15+L15),0) -> 0 | V15: =IF(E15=13,SUM(G15+L15),0) -> 0 | X15: =IF(E15=1,SUM(H15+M15),0) -> 0 | Y15: =IF(E15=2,SUM(H15+M15),0) -> 0 | Z15: =IF(E15=3,SUM(H15+M15),0) -> 0 | AA15: =IF(E15=4,SUM(H15+M15),0) -> 0 | AB15: =IF(E15=5,SUM(H15+M15),0) -> 0 | AC15: =IF(E15=6,SUM(H15+M15),0) -> 0 | AD15: =IF(E15=7,SUM(H15+M15),0) -> 11.88
A16: 11 | B16: 42856 | C16: Panofrance | D16: =+IF((G16-H16+L16-M16)=(SUM(Q16:V16)-SUM(X16:AD16)),"","VENTILATION") | E16: 1 | H16: 359.11 | I16: =+G16-H16+I15 -> 834.98 | J16: x | K16: =IF(J16<>"",K15+G16-H16,K15) -> 834.98 | N16: =+L16-M16+N15 -> 25.2 | O16: =+N16+I16 -> 860.18 | P16: =IF(ISBLANK(A16),"",A16) -> 11 | Q16: =IF(E16=8,SUM(G16+L16),0) -> 0 | R16: =IF(E16=9,SUM(G16+L16),0) -> 0 | S16: =IF(E16=10,SUM(G16+L16),0) -> 0 | T16: =IF(E16=11,SUM(G16+L16),0) -> 0 | U16: =IF(E16=12,SUM(G16+L16),0) -> 0 | V16: =IF(E16=13,SUM(G16+L16),0) -> 0 | X16: =IF(E16=1,SUM(H16+M16),0) -> 359.11 | Y16: =IF(E16=2,SUM(H16+M16),0) -> 0 | Z16: =IF(E16=3,SUM(H16+M16),0) -> 0 | AA16: =IF(E16=4,SUM(H16+M16),0) -> 0 | AB16: =IF(E16=5,SUM(H16+M16),0) -> 0 | AC16: =IF(E16=6,SUM(H16+M16),0) -> 0 | AD16: =IF(E16=7,SUM(H16+M16),0) -> 0
A17: 12 | B17: 42859 | C17: Legallais - Facture n°7221133 | D17: =+IF((G17-H17+L17-M17)=(SUM(Q17:V17)-SUM(X17:AD17)),"","VENTILATION") | E17: 1 | H17: 14.83 | I17: =+G17-H17+I16 -> 820.15 | J17: x | K17: =IF(J17<>"",K16+G17-H17,K16) -> 820.15 | N17: =+L17-M17+N16 -> 25.2 | O17: =+N17+I17 -> 845.35 | P17: =IF(ISBLANK(A17),"",A17) -> 12 | Q17: =IF(E17=8,SUM(G17+L17),0) -> 0 | R17: =IF(E17=9,SUM(G17+L17),0) -> 0 | S17: =IF(E17=10,SUM(G17+L17),0) -> 0 | T17: =IF(E17=11,SUM(G17+L17),0) -> 0 | U17: =IF(E17=12,SUM(G17+L17),0) -> 0 | V17: =IF(E17=13,SUM(G17+L17),0) -> 0 | X17: =IF(E17=1,SUM(H17+M17),0) -> 14.83 | Y17: =IF(E17=2,SUM(H17+M17),0) -> 0 | Z17: =IF(E17=3,SUM(H17+M17),0) -> 0 | AA17: =IF(E17=4,SUM(H17+M17),0) -> 0 | AB17: =IF(E17=5,SUM(H17+M17),0) -> 0 | AC17: =IF(E17=6,SUM(H17+M17),0) -> 0 | AD17: =IF(E17=7,SUM(H17+M17),0) -> 0
A18: 13 | B18: 42859 | C18: Legallais - Facture n°7221137 | D18: =+IF((G18-H18+L18-M18)=(SUM(Q18:V18)-SUM(X18:AD18)),"","VENTILATION") | E18: 1 | H18: 10.76 | I18: =+G18-H18+I17 -> 809.39 | J18: x | K18: =IF(J18<>"",K17+G18-H18,K17) -> 809.39 | N18: =+L18-M18+N17 -> 25.2 | O18: =+N18+I18 -> 834.59 | P18: =IF(ISBLANK(A18),"",A18) -> 13 | Q18: =IF(E18=8,SUM(G18+L18),0) -> 0 | R18: =IF(E18=9,SUM(G18+L18),0) -> 0 | S18: =IF(E18=10,SUM(G18+L18),0) -> 0 | T18: =IF(E18=11,SUM(G18+L18),0) -> 0 | U18: =IF(E18=12,SUM(G18+L18),0) -> 0 | V18: =IF(E18=13,SUM(G18+L18),0) -> 0 | X18: =IF(E18=1,SUM(H18+M18),0) -> 10.76 | Y18: =IF(E18=2,SUM(H18+M18),0) -> 0 | Z18: =IF(E18=3,SUM(H18+M18),0) -> 0 | AA18: =IF(E18=4,SUM(H18+M18),0) -> 0 | AB18: =IF(E18=5,SUM(H18+M18),0) -> 0 | AC18: =IF(E18=6,SUM(H18+M18),0) -> 0 | AD18: =IF(E18=7,SUM(H18+M18),0) -> 0
A19: 14 | B19: 42859 | C19: Facture n°20 & 21 | D19: =+IF((G19-H19+L19-M19)=(SUM(Q19:V19)-SUM(X19:AD19)),"","VENTILATION") | E19: 8 | G19: 176.41 | I19: =+G19-H19+I18 -> 985.8 | J19: x | K19: =IF(J19<>"",K18+G19-H19,K18) -> 985.8 | N19: =+L19-M19+N18 -> 25.2 | O19: =+N19+I19 -> 1011 | P19: =IF(ISBLANK(A19),"",A19) -> 14 | Q19: =IF(E19=8,SUM(G19+L19),0) -> 176.41 | R19: =IF(E19=9,SUM(G19+L19),0) -> 0 | S19: =IF(E19=10,SUM(G19+L19),0) -> 0 | T19: =IF(E19=11,SUM(G19+L19),0) -> 0 | U19: =IF(E19=12,SUM(G19+L19),0) -> 0 | V19: =IF(E19=13,SUM(G19+L19),0) -> 0 | X19: =IF(E19=1,SUM(H19+M19),0) -> 0 | Y19: =IF(E19=2,SUM(H19+M19),0) -> 0 | Z19: =IF(E19=3,SUM(H19+M19),0) -> 0 | AA19: =IF(E19=4,SUM(H19+M19),0) -> 0 | AB19: =IF(E19=5,SUM(H19+M19),0) -> 0 | AC19: =IF(E19=6,SUM(H19+M19),0) -> 0 | AD19: =IF(E19=7,SUM(H19+M19),0) -> 0
A20: 15 | B20: 42860 | C20: Legallais - Facture n°7221469 | D20: =+IF((G20-H20+L20-M20)=(SUM(Q20:V20)-SUM(X20:AD20)),"","VENTILATION") | E20: 1 | H20: 54.88 | I20: =+G20-H20+I19 -> 930.92 | J20: x | K20: =IF(J20<>"",K19+G20-H20,K19) -> 930.92 | N20: =+L20-M20+N19 -> 25.2 | O20: =+N20+I20 -> 956.12 | P20: =IF(ISBLANK(A20),"",A20) -> 15 | Q20: =IF(E20=8,SUM(G20+L20),0) -> 0 | R20: =IF(E20=9,SUM(G20+L20),0) -> 0 | S20: =IF(E20=10,SUM(G20+L20),0) -> 0 | T20: =IF(E20=11,SUM(G20+L20),0) -> 0 | U20: =IF(E20=12,SUM(G20+L20),0) -> 0 | V20: =IF(E20=13,SUM(G20+L20),0) -> 0 | X20: =IF(E20=1,SUM(H20+M20),0) -> 54.88 | Y20: =IF(E20=2,SUM(H20+M20),0) -> 0 | Z20: =IF(E20=3,SUM(H20+M20),0) -> 0 | AA20: =IF(E20=4,SUM(H20+M20),0) -> 0 | AB20: =IF(E20=5,SUM(H20+M20),0) -> 0 | AC20: =IF(E20=6,SUM(H20+M20),0) -> 0 | AD20: =IF(E20=7,SUM(H20+M20),0) -> 0
A21: 16 | B21: 42863 | C21: Castorama - Facture n°984937 & 985098 | D21: =+IF((G21-H21+L21-M21)=(SUM(Q21:V21)-SUM(X21:AD21)),"","VENTILATION") | E21: 1 | H21: 101.55 | I21: =+G21-H21+I20 -> 829.37 | J21: x | K21: =IF(J21<>"",K20+G21-H21,K20) -> 829.37 | N21: =+L21-M21+N20 -> 25.2 | O21: =+N21+I21 -> 854.57 | P21: =IF(ISBLANK(A21),"",A21) -> 16 | Q21: =IF(E21=8,SUM(G21+L21),0) -> 0 | R21: =IF(E21=9,SUM(G21+L21),0) -> 0 | S21: =IF(E21=10,SUM(G21+L21),0) -> 0 | T21: =IF(E21=11,SUM(G21+L21),0) -> 0 | U21: =IF(E21=12,SUM(G21+L21),0) -> 0 | V21: =IF(E21=13,SUM(G21+L21),0) -> 0 | X21: =IF(E21=1,SUM(H21+M21),0) -> 101.55 | Y21: =IF(E21=2,SUM(H21+M21),0) -> 0 | Z21: =IF(E21=3,SUM(H21+M21),0) -> 0 | AA21: =IF(E21=4,SUM(H21+M21),0) -> 0 | AB21: =IF(E21=5,SUM(H21+M21),0) -> 0 | AC21: =IF(E21=6,SUM(H21+M21),0) -> 0 | AD21: =IF(E21=7,SUM(H21+M21),0) -> 0
A22: 17 | B22: 42864 | C22: Free - Facture n° | D22: =+IF((G22-H22+L22-M22)=(SUM(Q22:V22)-SUM(X22:AD22)),"","VENTILATION") | E22: 6 | H22: 4.64 | I22: =+G22-H22+I21 -> 824.73 | J22: x | K22: =IF(J22<>"",K21+G22-H22,K21) -> 824.73 | N22: =+L22-M22+N21 -> 25.2 | O22: =+N22+I22 -> 849.93 | P22: =IF(ISBLANK(A22),"",A22) -> 17 | Q22: =IF(E22=8,SUM(G22+L22),0) -> 0 | R22: =IF(E22=9,SUM(G22+L22),0) -> 0 | S22: =IF(E22=10,SUM(G22+L22),0) -> 0 | T22: =IF(E22=11,SUM(G22+L22),0) -> 0 | U22: =IF(E22=12,SUM(G22+L22),0) -> 0 | V22: =IF(E22=13,SUM(G22+L22),0) -> 0 | X22: =IF(E22=1,SUM(H22+M22),0) -> 0 | Y22: =IF(E22=2,SUM(H22+M22),0) -> 0 | Z22: =IF(E22=3,SUM(H22+M22),0) -> 0 | AA22: =IF(E22=4,SUM(H22+M22),0) -> 0 | AB22: =IF(E22=5,SUM(H22+M22),0) -> 0 | AC22: =IF(E22=6,SUM(H22+M22),0) -> 4.64 | AD22: =IF(E22=7,SUM(H22+M22),0) -> 0
A23: 18 | B23: 42870 | C23: Dispano - mars 2017 | D23: =+IF((G23-H23+L23-M23)=(SUM(Q23:V23)-SUM(X23:AD23)),"","VENTILATION") | E23: 1 | H23: 399.3 | I23: =+G23-H23+I22 -> 425.43 | J23: x | K23: =IF(J23<>"",K22+G23-H23,K22) -> 425.43 | N23: =+L23-M23+N22 -> 25.2 | O23: =+N23+I23 -> 450.63 | P23: =IF(ISBLANK(A23),"",A23) -> 18 | Q23: =IF(E23=8,SUM(G23+L23),0) -> 0 | R23: =IF(E23=9,SUM(G23+L23),0) -> 0 | S23: =IF(E23=10,SUM(G23+L23),0) -> 0 | T23: =IF(E23=11,SUM(G23+L23),0) -> 0 | U23: =IF(E23=12,SUM(G23+L23),0) -> 0 | V23: =IF(E23=13,SUM(G23+L23),0) -> 0 | X23: =IF(E23=1,SUM(H23+M23),0) -> 399.3 | Y23: =IF(E23=2,SUM(H23+M23),0) -> 0 | Z23: =IF(E23=3,SUM(H23+M23),0) -> 0 | AA23: =IF(E23=4,SUM(H23+M23),0) -> 0 | AB23: =IF(E23=5,SUM(H23+M23),0) -> 0 | AC23: =IF(E23=6,SUM(H23+M23),0) -> 0 | AD23: =IF(E23=7,SUM(H23+M23),0) -> 0
A24: 19 | B24: 42870 | C24: Leclerc - Facture n°0170002106 | D24: =+IF((G24-H24+L24-M24)=(SUM(Q24:V24)-SUM(X24:AD24)),"","VENTILATION") | E24: 1 | H24: 5 | I24: =+G24-H24+I23 -> 420.43 | J24: x | K24: =IF(J24<>"",K23+G24-H24,K23) -> 420.43 | N24: =+L24-M24+N23 -> 25.2 | O24: =+N24+I24 -> 445.63 | P24: =IF(ISBLANK(A24),"",A24) -> 19 | Q24: =IF(E24=8,SUM(G24+L24),0) -> 0 | R24: =IF(E24=9,SUM(G24+L24),0) -> 0 | S24: =IF(E24=10,SUM(G24+L24),0) -> 0 | T24: =IF(E24=11,SUM(G24+L24),0) -> 0 | U24: =IF(E24=12,SUM(G24+L24),0) -> 0 | V24: =IF(E24=13,SUM(G24+L24),0) -> 0 | X24: =IF(E24=1,SUM(H24+M24),0) -> 5 | Y24: =IF(E24=2,SUM(H24+M24),0) -> 0 | Z24: =IF(E24=3,SUM(H24+M24),0) -> 0 | AA24: =IF(E24=4,SUM(H24+M24),0) -> 0 | AB24: =IF(E24=5,SUM(H24+M24),0) -> 0 | AC24: =IF(E24=6,SUM(H24+M24),0) -> 0 | AD24: =IF(E24=7,SUM(H24+M24),0) -> 0
A25: 20 | B25: 42872 | C25: Legallais - Facture n°7227270 | D25: =+IF((G25-H25+L25-M25)=(SUM(Q25:V25)-SUM(X25:AD25)),"","VENTILATION") | E25: 1 | H25: 19.75 | I25: =+G25-H25+I24 -> 400.68 | J25: x | K25: =IF(J25<>"",K24+G25-H25,K24) -> 400.68 | N25: =+L25-M25+N24 -> 25.2 | O25: =+N25+I25 -> 425.88 | P25: =IF(ISBLANK(A25),"",A25) -> 20 | Q25: =IF(E25=8,SUM(G25+L25),0) -> 0 | R25: =IF(E25=9,SUM(G25+L25),0) -> 0 | S25: =IF(E25=10,SUM(G25+L25),0) -> 0 | T25: =IF(E25=11,SUM(G25+L25),0) -> 0 | U25: =IF(E25=12,SUM(G25+L25),0) -> 0 | V25: =IF(E25=13,SUM(G25+L25),0) -> 0 | X25: =IF(E25=1,SUM(H25+M25),0) -> 19.75 | Y25: =IF(E25=2,SUM(H25+M25),0) -> 0 | Z25: =IF(E25=3,SUM(H25+M25),0) -> 0 | AA25: =IF(E25=4,SUM(H25+M25),0) -> 0 | AB25: =IF(E25=5,SUM(H25+M25),0) -> 0 | AC25: =IF(E25=6,SUM(H25+M25),0) -> 0 | AD25: =IF(E25=7,SUM(H25+M25),0) -> 0
A26: 21 | B26: 42872 | C26: Legallais - Facture n°7227425 | D26: =+IF((G26-H26+L26-M26)=(SUM(Q26:V26)-SUM(X26:AD26)),"","VENTILATION") | E26: 1 | H26: 6.5 | I26: =+G26-H26+I25 -> 394.18 | J26: x | K26: =IF(J26<>"",K25+G26-H26,K25) -> 394.18 | N26: =+L26-M26+N25 -> 25.2 | O26: =+N26+I26 -> 419.38 | P26: =IF(ISBLANK(A26),"",A26) -> 21 | Q26: =IF(E26=8,SUM(G26+L26),0) -> 0 | R26: =IF(E26=9,SUM(G26+L26),0) -> 0 | S26: =IF(E26=10,SUM(G26+L26),0) -> 0 | T26: =IF(E26=11,SUM(G26+L26),0) -> 0 | U26: =IF(E26=12,SUM(G26+L26),0) -> 0 | V26: =IF(E26=13,SUM(G26+L26),0) -> 0 | X26: =IF(E26=1,SUM(H26+M26),0) -> 6.5 | Y26: =IF(E26=2,SUM(H26+M26),0) -> 0 | Z26: =IF(E26=3,SUM(H26+M26),0) -> 0 | AA26: =IF(E26=4,SUM(H26+M26),0) -> 0 | AB26: =IF(E26=5,SUM(H26+M26),0) -> 0 | AC26: =IF(E26=6,SUM(H26+M26),0) -> 0 | AD26: =IF(E26=7,SUM(H26+M26),0) -> 0
A27: 22 | B27: 42872 | C27: Salaire GAYOT | D27: =+IF((G27-H27+L27-M27)=(SUM(Q27:V27)-SUM(X27:AD27)),"","VENTILATION") | E27: 4 | H27: 62 | I27: =+G27-H27+I26 -> 332.18 | K27: =IF(J27<>"",K26+G27-H27,K26) -> 394.18 | N27: =+L27-M27+N26 -> 25.2 | O27: =+N27+I27 -> 357.38 | P27: =IF(ISBLANK(A27),"",A27) -> 22 | Q27: =IF(E27=8,SUM(G27+L27),0) -> 0 | R27: =IF(E27=9,SUM(G27+L27),0) -> 0 | S27: =IF(E27=10,SUM(G27+L27),0) -> 0 | T27: =IF(E27=11,SUM(G27+L27),0) -> 0 | U27: =IF(E27=12,SUM(G27+L27),0) -> 0 | V27: =IF(E27=13,SUM(G27+L27),0) -> 0 | X27: =IF(E27=1,SUM(H27+M27),0) -> 0 | Y27: =IF(E27=2,SUM(H27+M27),0) -> 0 | Z27: =IF(E27=3,SUM(H27+M27),0) -> 0 | AA27: =IF(E27=4,SUM(H27+M27),0) -> 62 | AB27: =IF(E27=5,SUM(H27+M27),0) -> 0 | AC27: =IF(E27=6,SUM(H27+M27),0) -> 0 | AD27: =IF(E27=7,SUM(H27+M27),0) -> 0
A28: 23 | B28: 42884 | C28: Legallais- Facture n°7232129 | D28: =+IF((G28-H28+L28-M28)=(SUM(Q28:V28)-SUM(X28:AD28)),"","VENTILATION") | E28: 1 | H28: 71.09 | I28: =+G28-H28+I27 -> 261.09 | J28: x | K28: =IF(J28<>"",K27+G28-H28,K27) -> 323.09 | N28: =+L28-M28+N27 -> 25.2 | O28: =+N28+I28 -> 286.29 | P28: =IF(ISBLANK(A28),"",A28) -> 23 | Q28: =IF(E28=8,SUM(G28+L28),0) -> 0 | R28: =IF(E28=9,SUM(G28+L28),0) -> 0 | S28: =IF(E28=10,SUM(G28+L28),0) -> 0 | T28: =IF(E28=11,SUM(G28+L28),0) -> 0 | U28: =IF(E28=12,SUM(G28+L28),0) -> 0 | V28: =IF(E28=13,SUM(G28+L28),0) -> 0 | X28: =IF(E28=1,SUM(H28+M28),0) -> 71.09 | Y28: =IF(E28=2,SUM(H28+M28),0) -> 0 | Z28: =IF(E28=3,SUM(H28+M28),0) -> 0 | AA28: =IF(E28=4,SUM(H28+M28),0) -> 0 | AB28: =IF(E28=5,SUM(H28+M28),0) -> 0 | AC28: =IF(E28=6,SUM(H28+M28),0) -> 0 | AD28: =IF(E28=7,SUM(H28+M28),0) -> 0
A29: 24 | B29: 42884 | C29: Castorama - Facture n°829756 | D29: =+IF((G29-H29+L29-M29)=(SUM(Q29:V29)-SUM(X29:AD29)),"","VENTILATION") | E29: 1 | H29: 16.35 | I29: =+G29-H29+I28 -> 244.74 | J29: x | K29: =IF(J29<>"",K28+G29-H29,K28) -> 306.74 | N29: =+L29-M29+N28 -> 25.2 | O29: =+N29+I29 -> 269.94 | P29: =IF(ISBLANK(A29),"",A29) -> 24 | Q29: =IF(E29=8,SUM(G29+L29),0) -> 0 | R29: =IF(E29=9,SUM(G29+L29),0) -> 0 | S29: =IF(E29=10,SUM(G29+L29),0) -> 0 | T29: =IF(E29=11,SUM(G29+L29),0) -> 0 | U29: =IF(E29=12,SUM(G29+L29),0) -> 0 | V29: =IF(E29=13,SUM(G29+L29),0) -> 0 | X29: =IF(E29=1,SUM(H29+M29),0) -> 16.35 | Y29: =IF(E29=2,SUM(H29+M29),0) -> 0 | Z29: =IF(E29=3,SUM(H29+M29),0) -> 0 | AA29: =IF(E29=4,SUM(H29+M29),0) -> 0 | AB29: =IF(E29=5,SUM(H29+M29),0) -> 0 | AC29: =IF(E29=6,SUM(H29+M29),0) -> 0 | AD29: =IF(E29=7,SUM(H29+M29),0) -> 0
A30: 25 | B30: 42884 | C30: Legallais - Facture n°7232501 | D30: =+IF((G30-H30+L30-M30)=(SUM(Q30:V30)-SUM(X30:AD30)),"","VENTILATION") | E30: 1 | H30: 13.82 | I30: =+G30-H30+I29 -> 230.92 | J30: x | K30: =IF(J30<>"",K29+G30-H30,K29) -> 292.92 | N30: =+L30-M30+N29 -> 25.2 | O30: =+N30+I30 -> 256.12 | P30: =IF(ISBLANK(A30),"",A30) -> 25 | Q30: =IF(E30=8,SUM(G30+L30),0) -> 0 | R30: =IF(E30=9,SUM(G30+L30),0) -> 0 | S30: =IF(E30=10,SUM(G30+L30),0) -> 0 | T30: =IF(E30=11,SUM(G30+L30),0) -> 0 | U30: =IF(E30=12,SUM(G30+L30),0) -> 0 | V30: =IF(E30=13,SUM(G30+L30),0) -> 0 | X30: =IF(E30=1,SUM(H30+M30),0) -> 13.82 | Y30: =IF(E30=2,SUM(H30+M30),0) -> 0 | Z30: =IF(E30=3,SUM(H30+M30),0) -> 0 | AA30: =IF(E30=4,SUM(H30+M30),0) -> 0 | AB30: =IF(E30=5,SUM(H30+M30),0) -> 0 | AC30: =IF(E30=6,SUM(H30+M30),0) -> 0 | AD30: =IF(E30=7,SUM(H30+M30),0) -> 0
A31: 26 | B31: 42886 | C31: Acompte-projet_SE-0417 | D31: =+IF((G31-H31+L31-M31)=(SUM(Q31:V31)-SUM(X31:AD31)),"","VENTILATION") | E31: 8 | G31: 367.2 | I31: =+G31-H31+I30 -> 598.12 | J31: x | K31: =IF(J31<>"",K30+G31-H31,K30) -> 660.12 | N31: =+L31-M31+N30 -> 25.2 | O31: =+N31+I31 -> 623.32 | P31: =IF(ISBLANK(A31),"",A31) -> 26 | Q31: =IF(E31=8,SUM(G31+L31),0) -> 367.2 | R31: =IF(E31=9,SUM(G31+L31),0) -> 0 | S31: =IF(E31=10,SUM(G31+L31),0) -> 0 | T31: =IF(E31=11,SUM(G31+L31),0) -> 0 | U31: =IF(E31=12,SUM(G31+L31),0) -> 0 | V31: =IF(E31=13,SUM(G31+L31),0) -> 0 | X31: =IF(E31=1,SUM(H31+M31),0) -> 0 | Y31: =IF(E31=2,SUM(H31+M31),0) -> 0 | Z31: =IF(E31=3,SUM(H31+M31),0) -> 0 | AA31: =IF(E31=4,SUM(H31+M31),0) -> 0 | AB31: =IF(E31=5,SUM(H31+M31),0) -> 0 | AC31: =IF(E31=6,SUM(H31+M31),0) -> 0 | AD31: =IF(E31=7,SUM(H31+M31),0) -> 0
A32: 27 | B32: 42887 | C32: Castorama - Facture n°830217 | D32: =+IF((G32-H32+L32-M32)=(SUM(Q32:V32)-SUM(X32:AD32)),"","VENTILATION") | E32: 1 | H32: 33.9 | I32: =+G32-H32+I31 -> 564.22 | J32: x | K32: =IF(J32<>"",K31+G32-H32,K31) -> 626.22 | N32: =+L32-M32+N31 -> 25.2 | O32: =+N32+I32 -> 589.42 | P32: =IF(ISBLANK(A32),"",A32) -> 27 | Q32: =IF(E32=8,SUM(G32+L32),0) -> 0 | R32: =IF(E32=9,SUM(G32+L32),0) -> 0 | S32: =IF(E32=10,SUM(G32+L32),0) -> 0 | T32: =IF(E32=11,SUM(G32+L32),0) -> 0 | U32: =IF(E32=12,SUM(G32+L32),0) -> 0 | V32: =IF(E32=13,SUM(G32+L32),0) -> 0 | X32: =IF(E32=1,SUM(H32+M32),0) -> 33.9 | Y32: =IF(E32=2,SUM(H32+M32),0) -> 0 | Z32: =IF(E32=3,SUM(H32+M32),0) -> 0 | AA32: =IF(E32=4,SUM(H32+M32),0) -> 0 | AB32: =IF(E32=5,SUM(H32+M32),0) -> 0 | AC32: =IF(E32=6,SUM(H32+M32),0) -> 0 | AD32: =IF(E32=7,SUM(H32+M32),0) -> 0
A33: 28 | B33: 42877 | C33: Facture 24 - Sarl HBO | D33: =+IF((G33-H33+L33-M33)=(SUM(Q33:V33)-SUM(X33:AD33)),"","VENTILATION") | E33: 8 | G33: 1377.92 | I33: =+G33-H33+I32 -> 1942.14 | K33: =IF(J33<>"",K32+G33-H33,K32) -> 626.22 | N33: =+L33-M33+N32 -> 25.2 | O33: =+N33+I33 -> 1967.34 | P33: =IF(ISBLANK(A33),"",A33) -> 28 | Q33: =IF(E33=8,SUM(G33+L33),0) -> 1377.92 | R33: =IF(E33=9,SUM(G33+L33),0) -> 0 | S33: =IF(E33=10,SUM(G33+L33),0) -> 0 | T33: =IF(E33=11,SUM(G33+L33),0) -> 0 | U33: =IF(E33=12,SUM(G33+L33),0) -> 0 | V33: =IF(E33=13,SUM(G33+L33),0) -> 0 | X33: =IF(E33=1,SUM(H33+M33),0) -> 0 | Y33: =IF(E33=2,SUM(H33+M33),0) -> 0 | Z33: =IF(E33=3,SUM(H33+M33),0) -> 0 | AA33: =IF(E33=4,SUM(H33+M33),0) -> 0 | AB33: =IF(E33=5,SUM(H33+M33),0) -> 0 | AC33: =IF(E33=6,SUM(H33+M33),0) -> 0 | AD33: =IF(E33=7,SUM(H33+M33),0) -> 0
A34: 29 | B34: 42894 | C34: Free - Facture Mai | D34: =+IF((G34-H34+L34-M34)=(SUM(Q34:V34)-SUM(X34:AD34)),"","VENTILATION") | E34: 6 | H34: 6.61 | I34: =+G34-H34+I33 -> 1935.53 | J34: x | K34: =IF(J34<>"",K33+G34-H34,K33) -> 619.61 | N34: =+L34-M34+N33 -> 25.2 | O34: =+N34+I34 -> 1960.73 | P34: =IF(ISBLANK(A34),"",A34) -> 29 | Q34: =IF(E34=8,SUM(G34+L34),0) -> 0 | R34: =IF(E34=9,SUM(G34+L34),0) -> 0 | S34: =IF(E34=10,SUM(G34+L34),0) -> 0 | T34: =IF(E34=11,SUM(G34+L34),0) -> 0 | U34: =IF(E34=12,SUM(G34+L34),0) -> 0 | V34: =IF(E34=13,SUM(G34+L34),0) -> 0 | X34: =IF(E34=1,SUM(H34+M34),0) -> 0 | Y34: =IF(E34=2,SUM(H34+M34),0) -> 0 | Z34: =IF(E34=3,SUM(H34+M34),0) -> 0 | AA34: =IF(E34=4,SUM(H34+M34),0) -> 0 | AB34: =IF(E34=5,SUM(H34+M34),0) -> 0 | AC34: =IF(E34=6,SUM(H34+M34),0) -> 6.61 | AD34: =IF(E34=7,SUM(H34+M34),0) -> 0
A35: 30 | B35: 42902 | C35: Prélèvement URSSAF Avril | D35: =+IF((G35-H35+L35-M35)=(SUM(Q35:V35)-SUM(X35:AD35)),"","VENTILATION") | E35: 6 | H35: 29 | I35: =+G35-H35+I34 -> 1906.53 | J35: x | K35: =IF(J35<>"",K34+G35-H35,K34) -> 590.61 | N35: =+L35-M35+N34 -> 25.2 | O35: =+N35+I35 -> 1931.73 | P35: =IF(ISBLANK(A35),"",A35) -> 30 | Q35: =IF(E35=8,SUM(G35+L35),0) -> 0 | R35: =IF(E35=9,SUM(G35+L35),0) -> 0 | S35: =IF(E35=10,SUM(G35+L35),0) -> 0 | T35: =IF(E35=11,SUM(G35+L35),0) -> 0 | U35: =IF(E35=12,SUM(G35+L35),0) -> 0 | V35: =IF(E35=13,SUM(G35+L35),0) -> 0 | X35: =IF(E35=1,SUM(H35+M35),0) -> 0 | Y35: =IF(E35=2,SUM(H35+M35),0) -> 0 | Z35: =IF(E35=3,SUM(H35+M35),0) -> 0 | AA35: =IF(E35=4,SUM(H35+M35),0) -> 0 | AB35: =IF(E35=5,SUM(H35+M35),0) -> 0 | AC35: =IF(E35=6,SUM(H35+M35),0) -> 29 | AD35: =IF(E35=7,SUM(H35+M35),0) -> 0
A36: 31 | B36: 42919 | C36: Encaissement chèque | D36: =+IF((G36-H36+L36-M36)=(SUM(Q36:V36)-SUM(X36:AD36)),"","VENTILATION") | E36: 12 | G36: 304.4 | I36: =+G36-H36+I35 -> 2210.93 | J36: x | K36: =IF(J36<>"",K35+G36-H36,K35) -> 895.01 | N36: =+L36-M36+N35 -> 25.2 | O36: =+N36+I36 -> 2236.13 | P36: =IF(ISBLANK(A36),"",A36) -> 31 | Q36: =IF(E36=8,SUM(G36+L36),0) -> 0 | R36: =IF(E36=9,SUM(G36+L36),0) -> 0 | S36: =IF(E36=10,SUM(G36+L36),0) -> 0 | T36: =IF(E36=11,SUM(G36+L36),0) -> 0 | U36: =IF(E36=12,SUM(G36+L36),0) -> 304.4 | V36: =IF(E36=13,SUM(G36+L36),0) -> 0 | X36: =IF(E36=1,SUM(H36+M36),0) -> 0 | Y36: =IF(E36=2,SUM(H36+M36),0) -> 0 | Z36: =IF(E36=3,SUM(H36+M36),0) -> 0 | AA36: =IF(E36=4,SUM(H36+M36),0) -> 0 | AB36: =IF(E36=5,SUM(H36+M36),0) -> 0 | AC36: =IF(E36=6,SUM(H36+M36),0) -> 0 | AD36: =IF(E36=7,SUM(H36+M36),0) -> 0
A37: 32 | B37: 42921 | C37: Free - Facture Juin | D37: =+IF((G37-H37+L37-M37)=(SUM(Q37:V37)-SUM(X37:AD37)),"","VENTILATION") | E37: 6 | H37: 2 | I37: =+G37-H37+I36 -> 2208.93 | J37: x | K37: =IF(J37<>"",K36+G37-H37,K36) -> 893.01 | N37: =+L37-M37+N36 -> 25.2 | O37: =+N37+I37 -> 2234.13 | P37: =IF(ISBLANK(A37),"",A37) -> 32 | Q37: =IF(E37=8,SUM(G37+L37),0) -> 0 | R37: =IF(E37=9,SUM(G37+L37),0) -> 0 | S37: =IF(E37=10,SUM(G37+L37),0) -> 0 | T37: =IF(E37=11,SUM(G37+L37),0) -> 0 | U37: =IF(E37=12,SUM(G37+L37),0) -> 0 | V37: =IF(E37=13,SUM(G37+L37),0) -> 0 | X37: =IF(E37=1,SUM(H37+M37),0) -> 0 | Y37: =IF(E37=2,SUM(H37+M37),0) -> 0 | Z37: =IF(E37=3,SUM(H37+M37),0) -> 0 | AA37: =IF(E37=4,SUM(H37+M37),0) -> 0 | AB37: =IF(E37=5,SUM(H37+M37),0) -> 0 | AC37: =IF(E37=6,SUM(H37+M37),0) -> 2 | AD37: =IF(E37=7,SUM(H37+M37),0) -> 0
A38: 33 | B38: 42933 | C38: Dispano - Facture n°461C0003751810 | D38: =+IF((G38-H38+L38-M38)=(SUM(Q38:V38)-SUM(X38:AD38)),"","VENTILATION") | E38: 1 | H38: 364.14 | I38: =+G38-H38+I37 -> 1844.79 | J38: x | K38: =IF(J38<>"",K37+G38-H38,K37) -> 528.87 | N38: =+L38-M38+N37 -> 25.2 | O38: =+N38+I38 -> 1869.99 | P38: =IF(ISBLANK(A38),"",A38) -> 33 | Q38: =IF(E38=8,SUM(G38+L38),0) -> 0 | R38: =IF(E38=9,SUM(G38+L38),0) -> 0 | S38: =IF(E38=10,SUM(G38+L38),0) -> 0 | T38: =IF(E38=11,SUM(G38+L38),0) -> 0 | U38: =IF(E38=12,SUM(G38+L38),0) -> 0 | V38: =IF(E38=13,SUM(G38+L38),0) -> 0 | X38: =IF(E38=1,SUM(H38+M38),0) -> 364.14 | Y38: =IF(E38=2,SUM(H38+M38),0) -> 0 | Z38: =IF(E38=3,SUM(H38+M38),0) -> 0 | AA38: =IF(E38=4,SUM(H38+M38),0) -> 0 | AB38: =IF(E38=5,SUM(H38+M38),0) -> 0 | AC38: =IF(E38=6,SUM(H38+M38),0) -> 0 | AD38: =IF(E38=7,SUM(H38+M38),0) -> 0
A39: 34 | B39: 42946 | C39: ? | D39: =+IF((G39-H39+L39-M39)=(SUM(Q39:V39)-SUM(X39:AD39)),"","VENTILATION") | E39: 1 | H39: 189.02 | I39: =+G39-H39+I38 -> 1655.77 | J39: x | K39: =IF(J39<>"",K38+G39-H39,K38) -> 339.85 | N39: =+L39-M39+N38 -> 25.2 | O39: =+N39+I39 -> 1680.97 | P39: =IF(ISBLANK(A39),"",A39) -> 34 | Q39: =IF(E39=8,SUM(G39+L39),0) -> 0 | R39: =IF(E39=9,SUM(G39+L39),0) -> 0 | S39: =IF(E39=10,SUM(G39+L39),0) -> 0 | T39: =IF(E39=11,SUM(G39+L39),0) -> 0 | U39: =IF(E39=12,SUM(G39+L39),0) -> 0 | V39: =IF(E39=13,SUM(G39+L39),0) -> 0 | X39: =IF(E39=1,SUM(H39+M39),0) -> 189.02 | Y39: =IF(E39=2,SUM(H39+M39),0) -> 0 | Z39: =IF(E39=3,SUM(H39+M39),0) -> 0 | AA39: =IF(E39=4,SUM(H39+M39),0) -> 0 | AB39: =IF(E39=5,SUM(H39+M39),0) -> 0 | AC39: =IF(E39=6,SUM(H39+M39),0) -> 0 | AD39: =IF(E39=7,SUM(H39+M39),0) -> 0
A40: 35 | B40: 42948 | C40: SIAJE - Facture n°17S00510 | D40: =+IF((G40-H40+L40-M40)=(SUM(Q40:V40)-SUM(X40:AD40)),"","VENTILATION") | E40: 6 | H40: 90 | I40: =+G40-H40+I39 -> 1565.77 | J40: x | K40: =IF(J40<>"",K39+G40-H40,K39) -> 249.85 | N40: =+L40-M40+N39 -> 25.2 | O40: =+N40+I40 -> 1590.97 | P40: =IF(ISBLANK(A40),"",A40) -> 35 | Q40: =IF(E40=8,SUM(G40+L40),0) -> 0 | R40: =IF(E40=9,SUM(G40+L40),0) -> 0 | S40: =IF(E40=10,SUM(G40+L40),0) -> 0 | T40: =IF(E40=11,SUM(G40+L40),0) -> 0 | U40: =IF(E40=12,SUM(G40+L40),0) -> 0 | V40: =IF(E40=13,SUM(G40+L40),0) -> 0 | X40: =IF(E40=1,SUM(H40+M40),0) -> 0 | Y40: =IF(E40=2,SUM(H40+M40),0) -> 0 | Z40: =IF(E40=3,SUM(H40+M40),0) -> 0 | AA40: =IF(E40=4,SUM(H40+M40),0) -> 0 | AB40: =IF(E40=5,SUM(H40+M40),0) -> 0 | AC40: =IF(E40=6,SUM(H40+M40),0) -> 90 | AD40: =IF(E40=7,SUM(H40+M40),0) -> 0
...

Sheet JOURNAL
A1: LISTE DES ECRITURES
A3: =+CONCATENATE("Coop.n°",Infos!G30) -> Coop.n° | C3: =+CONCATENATE("Année scolaire: ",Infos!#REF!,"/",Infos!G13) -> #REF!
G4: REPORT: | H4: =+Détail!O5 -> 1931.53
B5: DATE | C5: ECRITURES | D5: CREDIT | E5: DEBIT | F5: CREDIT | G5: DEBIT | H5: SOLDE
A6: =+Détail!A6 -> 1 | B6: =+Détail!B6 -> 42832 | C6: =+Détail!C6 -> FREE - Facture n° 666943497 | D6: =+Détail!G6 -> 0 | E6: =+Détail!H6 -> 3.37 | F6: =+Détail!L6 -> 0 | G6: =+Détail!M6 -> 0 | H6: =+Détail!O6 -> 1928.16
A7: =+Détail!A7 -> 2 | B7: =+Détail!B7 -> 42832 | C7: =+Détail!C7 -> Salaire Thomas VERGES | D7: =+Détail!G7 -> 0 | E7: =+Détail!H7 -> 40 | F7: =+Détail!L7 -> 0 | G7: =+Détail!M7 -> 0 | H7: =+Détail!O7 -> 1888.16
A8: =+Détail!A8 -> 3 | B8: =+Détail!B8 -> 42843 | C8: =+Détail!C8 -> Prélèvement URSSAF Janvier 2017 | D8: =+Détail!G8 -> 0 | E8: =+Détail!H8 -> 294 | F8: =+Détail!L8 -> 0 | G8: =+Détail!M8 -> 0 | H8: =+Détail!O8 -> 1594.16
A9: =+Détail!A9 -> 4 | B9: =+Détail!B9 -> 42840 | C9: =+Détail!C9 -> Dispano - février 2017 | D9: =+Détail!G9 -> 0 | E9: =+Détail!H9 -> 152.3 | F9: =+Détail!L9 -> 0 | G9: =+Détail!M9 -> 0 | H9: =+Détail!O9 -> 1441.86
A10: =+Détail!A10 -> 5 | B10: =+Détail!B10 -> 42844 | C10: =+Détail!C10 -> Logo génie - Facture n°31130 | D10: =+Détail!G10 -> 0 | E10: =+Détail!H10 -> 23.92 | F10: =+Détail!L10 -> 0 | G10: =+Détail!M10 -> 0 | H10: =+Détail!O10 -> 1417.94
A11: =+Détail!A11 -> 6 | B11: =+Détail!B11 -> 42846 | C11: =+Détail!C11 -> Leclerc - Facture n°0170001675 | D11: =+Détail!G11 -> 0 | E11: =+Détail!H11 -> 7.9 | F11: =+Détail!L11 -> 0 | G11: =+Détail!M11 -> 0 | H11: =+Détail!O11 -> 1410.04
A12: =+Détail!A12 -> 7 | B12: =+Détail!B12 -> 42847 | C12: =+Détail!C12 -> Legallais - Facture n°7178451 | D12: =+Détail!G12 -> 0 | E12: =+Détail!H12 -> 61.09 | F12: =+Détail!L12 -> 0 | G12: =+Détail!M12 -> 0 | H12: =+Détail!O12 -> 1348.95
A13: =+Détail!A13 -> 8 | B13: =+Détail!B13 -> 42847 | C13: =+Détail!C13 -> Super U - Facture n°30 914-5-625 876-20170421 | D13: =+Détail!G13 -> 0 | E13: =+Détail!H13 -> 8.95 | F13: =+Détail!L13 -> 0 | G13: =+Détail!M13 -> 0 | H13: =+Détail!O13 -> 1340
A14: =+Détail!A14 -> 9 | B14: =+Détail!B14 -> 42852 | C14: =+Détail!C14 -> Legallais - Facture n°7181547 | D14: =+Détail!G14 -> 0 | E14: =+Détail!H14 -> 108.83 | F14: =+Détail!L14 -> 0 | G14: =+Détail!M14 -> 0 | H14: =+Détail!O14 -> 1231.17
A15: =+Détail!A15 -> 10 | B15: =+Détail!B15 -> 42851 | C15: =+Détail!C15 -> OoPrint - Facture n°170426-23A75B8C3E6 | D15: =+Détail!G15 -> 0 | E15: =+Détail!H15 -> 11.88 | F15: =+Détail!L15 -> 0 | G15: =+Détail!M15 -> 0 | H15: =+Détail!O15 -> 1219.29
A16: =+Détail!A16 -> 11 | B16: =+Détail!B16 -> 42856 | C16: =+Détail!C16 -> Panofrance | D16: =+Détail!G16 -> 0 | E16: =+Détail!H16 -> 359.11 | F16: =+Détail!L16 -> 0 | G16: =+Détail!M16 -> 0 | H16: =+Détail!O16 -> 860.18
A17: =+Détail!A17 -> 12 | B17: =+Détail!B17 -> 42859 | C17: =+Détail!C17 -> Legallais - Facture n°7221133 | D17: =+Détail!G17 -> 0 | E17: =+Détail!H17 -> 14.83 | F17: =+Détail!L17 -> 0 | G17: =+Détail!M17 -> 0 | H17: =+Détail!O17 -> 845.35
... A800: =+Détail!A800 -> 795 | B800: =+Détail!B800 -> 0 | C800: =+Détail!C800 -> 0 | D800: =+Détail!G800 -> 0 | E800: =+Détail!H800 -> 0 | F800: =+Détail!L800 -> 0 | G800: =+Détail!M800 -> 0 | H800: =+Détail!O800 -> 1590.97

Sheet BILAN
A2: Compte de fonctionnement général
A3: =+CONCATENATE("Du 1er avril au 31 décembre ",Infos!G13) -> Du 1er avril au 31 décembre 2017
A4: en Euros
B8: CHARGES | C8: Euros | F8: PRODUITS | G8: Euros
B10: 1 : Achats de produits | C10: =Détail!X801 -> 1999.07 | F10: 8: Projets | G10: =Détail!Q801 -> 1921.53
B12: 2 : Achat Machine | C12: =Détail!Y801 -> 0 | F12: 9 : Prêts | G12: =Détail!R801 -> 0
B14: 3 : Impôts | C14: =Détail!Z801 -> 0 | F14: 10 : Subventions reçues | G14: =Détail!S801 -> 0
B16: 4 : Rémunérations | C16: =Détail!AA801 -> 102 | F16: 11 : Autres subventions | G16: =Détail!T801 -> 0
B18: 5 : Charges URSSAF | C18: =Détail!AB801 -> 294 | F18: 12 : Ventes | G18: =Détail!U801 -> 304.4
B20: 6: Charges courantes | C20: =Détail!AC801 -> 135.62 | F20: 13 : Produits exceptionnels | G20: =Détail!V801 -> 0
B22: 7 : Charges exceptionnelles | C22: =Détail!AD801 -> 35.8
B27: Total des charges | C27: =+C10+C12+C14+C16+C18+C20+C22 -> 2566.49 | F27: Total des produits | G27: =+G10+G12+G14+G16+G18+G20+G22+G24 -> 2225.93
C28: + | G28: +
B29: Excédent (Produits-Charges) | C29: =+IF(G27>=C27,G27-C27,0) -> 0 | F29: Déficit ( Charges - Produits ) | G29: =+IF(G27<C27,C27-G27,0) -> 340.56
C30: = | G30: =
B31: (3) | C31: =+C29+C27 -> 2566.49 | F31: (4) | G31: =+G29+G27 -> 2566.49
B36: =+CONCATENATE("BILAN simplifié au 31 décembre ",Infos!G13," en Euros") -> BILAN simplifié au 31 décembre 2017 en Euros
B39: ACTIF | F39: PASSIF
C41: Euros | G41: Euros
B42: BANQUE | C42: =Détail!I801 -> 1565.77 | F42: Report à nouveau | G42: =+Détail!O5 -> 1931.53
C43: +
G44: +
B45: CAISSE EN ESPECES | C45: =Détail!N801 -> 25.2 | F45: Excédent (+) | G45: =+C29 -> 0
F46: OU | G46: -
F47: Déficit (-) | G47: =+G29 -> 340.56
C49: = | G49: =
B51: Total de l'actif | C51: =C42+C45 -> 1590.97 | F51: Total du passif | G51: =+G42+G45-G47 -> 1590.97
C52: Euros | G52: Euros
B55: Nom du Mandataire | C55: =+CONCATENATE(Infos!G13) -> 2017 | F55: Signature du mandataire | G55: =+CONCATENATE(Infos!G13) -> 2017
B56: =+Infos!H29 -> Pierre MILLON
A62: Etat de rapprochement bancaire | E62: Arrêté de caisse au 31 Décembre
A63: Lister les opérations non débitées (montant précédé de -) et les opérations non créditées (montant précédé de +)
B65: Solde figurant sur le relevé bancaire au 31/12 | E65: Nombre | F65: Détail de la caisse | G65: Montant
A66: Date | B66: Libellé de l'opération | C66: Montant | F66: Billets de 50 € | G66: =E66*50 -> 0
F67: Billets de 20 € | G67: =E67*20 -> 0
F68: Billets de 10 € | G68: =E68*10 -> 0
F69: Billets de 5 | G69: =E69*5 -> 0
F70: Pièces de 2 € | G70: =E70*2 -> 0
F71: Pièces de 1 € | G71: =E71*1 -> 0
F72: Pièces de 0,50 € | G72: =E72*0.5 -> 0
...

Sheet TVA
B1: =DATE(YEAR(Détail!$B$6),1,1) -> 42736
A2: Trimestre 1
A3: CA HT | B3: =SUMIFS(Détail!$G$6:$G$800,Détail!$B$6:$B$800,">="&$B$1,Détail!$B$6:$B$800,"<="&EOMONTH($B$1,3)) -> 0
A4: TVA | B4: =SUMIFS(Détail!$F$6:$F$800,Détail!$B$6:$B$800,">="&$B$1,Détail!$B$6:$B$800,"<="&EOMONTH($B$1,3)) -> 0
A6: TVA déductible
A7: TOTAL
A10: Trimestre 2
A11: CA HT | B11: =SUMIFS(Détail!$G$6:$G$800,Détail!$B$6:$B$800,">="&EOMONTH($B$1,3)+1,Détail!$B$6:$B$800,"<="&EOMONTH($B$1,6)) -> 2225.93
A12: TVA | B12: =SUMIFS(Détail!$F$6:$F$800,Détail!$B$6:$B$800,">="&EOMONTH($B$1,3)+1,Détail!$B$6:$B$800,"<="&EOMONTH($B$1,6)) -> 0
A14: TVA déductible
A15: TOTAL
