Workbook
Name Joursemaine: [1]Blcos!$A$1:$B$7

Sheet LISTE des arrets par ligne 
A1: LISTE DES ARRETS DE REFERENCE PAR LIGNES | H1: Dossier
H2: T:\TEMP\__csv\Bus
A3: Arrêts de référence par ligne
A4: Ligne | B4: Pta | C4: Sens Aller | D4: Sens Retour | E4: Pta2
A5: T1 | B5: LIBERTR | C5: A54 Caissargues | D5: GAMBETTA -COUPOLE | E5: GAMT1
A6: T1 | B6: PARTR | C6: COSTIERES-PARNASSE | D6: ESPLANADE-FEUCHERES | E6: ESPT1
A7: T1 | B7: LIBR | C7: LIBERTE | D7: DHUODA | E7: DHUOA
A8: T1 | B8: DHUOR | C8: DHUODA | D8: NEMAUSA | E8: CSOLA
A9: T1 | B9: ArenT | C9: ARENES | D9: COSTIERES-PARNASSE | E9: PARTA
A10: T1 | D10: A54 Caissargues | E10: LIBERTA
A11: 2 | B11: CHUR | C11: CHU- CAREMEAU | D11: CITADELLE | E11: CITAT
A12: 2 | B12: UNIAR | C12: TRAIT D'UNION | D12: PONT DE JUSTICE | E12: CBAT
A13: 2 | B13: JAUAR | C13: JAURES | D13: ST BAUDILE | E13: BAUA
A14: 2 | B14: FEU8 | C14: GARE FEUCHERES | D14: GARE FEUCHERES | E14: FEU1
A15: 2 | B15: BAUR | C15: ST BAUDILE | D15: JAURES | E15: JAUBA
A16: 2 | B16: JUSTR | C16: PONT DE JUSTICE | D16: TRAIT D'UNION | E16: UNIAA
A17: 2 | B17: CITAR | C17: CITADELLE | D17: CHU- CAREMEAU | E17: CHUA
A18: 3 | B18: VALDT | C18: VALDEGOUR | D18: PONT DE JUSTICE | E18: CBAE
A19: 3 | B19: UNIER | C19: TRAIT D'UNION | D19: OLIVIERS | E19: OLIA
A20: 3 | B20: FEU8 | C20: GARE FEUCHERES | D20: GARE FEUCHERES | E20: FEU1
A21: 3 | B21: OLIR | C21: OLIVIERS | D21: TRAIT D'UNION | E21: UNIEA
A22: 3 | B22: CBAE | C22: PONT DE JUSTICE | D22: VALDEGOUR | E22: VALDT
... A38: 6 | B38: ABEA | C38: MULTIPLEXE | D38: CALVAS | E38: CALVT
A39: 6 | B39: CARRST | C39: CARRE SUD
A40: 7 | B40: ACTD | C40: VILLE ACTIVE | D40: VALMY | E40: T
A41: 7 | B41: PARNA | C41: PARNASSE | D41: BOUQUERIE | E41: BOUQR
A42: 7 | B42: FEU1 | C42: GARE FEUCHERES | D42: GARE FEUCHERES | E42: FEU8
A43: 7 | B43: BOUQA | C43: BOUQUERIE | D43: PARNASSE | E43: CASR
A44: 7 | B44: T | C44: VALMY | D44: VILLE ACTIVE | E44: ACTA
A45: 8 | B45: VALDT | C45: VALDEGOUR | D45: PONT DE JUSTICE | E45: JUSTR
A46: 8 | B46: UNIAR | C46: TRAIT D'UNION | D46: P. LAMOUR | E46: LAMA
A47: 8 | B47: VIGNR | C47: MAS DE VIGNOLLES | D47: MAS DE VIGNOLLES | E47: VIGNCC
A48: 8 | B48: LAMR | C48: P. LAMOUR | D48: TRAIT D'UNION | E48: UNIAA
A49: 8 | B49: JUSTR | C49: PONT DE JUSTICE | D49: VALDEGOUR | E49: VALDT
A50: 9 | B50: ALEST | C50: ROUTE D'ALES | D50: 8 MAI 1945 (BOUILLARGUES) | E50: 8MAI45T
A51: 9 | B51: GAFR | C51: GAFONNE | D51: ROUTE D'ARLES | E51: ARLT
... A54: 9 | B54: ARLT | C54: ROUTE D'ARLES | D54: ROUTE D'ALES | E54: ALEST
A55: 9 | B55: 8MAI45T | C55: 8 MAI 1945 (BOUILLARGUES)
A56: 10 | B56: ESCAT | C56: MAS D'ESCATTES | D56: SERRE CAVALIER | E56: CAVART
A57: 10 | B57: CITAT | C57: CITADELLE | D57: SULLY | E57: SULA
...

Sheet Ponctualité 
A1: Synthèse trimestre
A5: Jour | B5: Jour2 | C5: Mois | D5: Date | E5: SI | F5: avance (entre -1 et 0 min) | G5: à l'heure (0 - 3min) | H5: Retard supérieur à 3 min | I5: Total | J5: Part SI | K5: Part avance | L5: Part à l'heure | M5: Part retard
A6: =VLOOKUP(B6,Joursemaine,2,FALSE) -> MARDI | B6: =WEEKDAY(D6,2) -> 2 | C6: =MONTH(D6) -> 1 | D6: 41647 | E6: =+'mardi 9 01 18'!H1300 -> 208 | F6: =+'mardi 9 01 18'!I1300 -> 242 | G6: =+'mardi 9 01 18'!J1300 -> 515 | H6: =+'mardi 9 01 18'!K1300 -> 114 | I6: =+'mardi 9 01 18'!L1300 -> 871 | J6: =+E6/$I6 -> 0.23880597 | K6: =+F6/$I6 -> 0.27784156 | L6: =+G6/$I6 -> 0.5912744 | M6: =+H6/$I6 -> 0.13088404
A7: =VLOOKUP(B7,Joursemaine,2,FALSE) -> SAMEDI | B7: =WEEKDAY(D7,2) -> 6 | C7: =MONTH(D7) -> 1 | D7: 41658 | E7: =+#REF! -> #REF! | F7: =+#REF! -> #REF! | G7: =+#REF! -> #REF! | H7: =+#REF! -> #REF! | I7: =+#REF! -> #REF! | J7: =+E7/$I7 -> #REF! | K7: =+F7/$I7 -> #REF! | L7: =+G7/$I7 -> #REF! | M7: =+H7/$I7 -> #REF!
A8: =VLOOKUP(B8,Joursemaine,2,FALSE) -> JEUDI | B8: =WEEKDAY(D8,2) -> 4 | C8: =MONTH(D8) -> 1 | D8: 41663 | E8: =+#REF! -> #REF! | F8: =+#REF! -> #REF! | G8: =+#REF! -> #REF! | H8: =+#REF! -> #REF! | I8: =+#REF! -> #REF! | J8: =+E8/$I8 -> #REF! | K8: =+F8/$I8 -> #REF! | L8: =+G8/$I8 -> #REF! | M8: =+H8/$I8 -> #REF!
A9: =VLOOKUP(B9,Joursemaine,2,FALSE) -> MERCREDI | B9: =WEEKDAY(D9,2) -> 3 | C9: =MONTH(D9) -> 2 | D9: 41676 | E9: =+#REF! -> #REF! | F9: =+#REF! -> #REF! | G9: =+#REF! -> #REF! | H9: =+#REF! -> #REF! | I9: =+#REF! -> #REF! | J9: =+E9/$I9 -> #REF! | K9: =+F9/$I9 -> #REF! | L9: =+G9/$I9 -> #REF! | M9: =+H9/$I9 -> #REF!
A10: =VLOOKUP(B10,Joursemaine,2,FALSE) -> JEUDI | B10: =WEEKDAY(D10,2) -> 4 | C10: =MONTH(D10) -> 2 | D10: 41677 | E10: =+#REF! -> #REF! | F10: =+#REF! -> #REF! | G10: =+#REF! -> #REF! | H10: =+#REF! -> #REF! | I10: =+#REF! -> #REF! | J10: =+E10/$I10 -> #REF! | K10: =+F10/$I10 -> #REF! | L10: =+G10/$I10 -> #REF! | M10: =+H10/$I10 -> #REF!
A11: =VLOOKUP(B11,Joursemaine,2,FALSE) -> LUNDI | B11: =WEEKDAY(D11,2) -> 1 | C11: =MONTH(D11) -> 2 | D11: 41688 | E11: =+#REF! -> #REF! | F11: =+#REF! -> #REF! | G11: =+#REF! -> #REF! | H11: =+#REF! -> #REF! | I11: =+#REF! -> #REF! | J11: =+E11/$I11 -> #REF! | K11: =+F11/$I11 -> #REF! | L11: =+G11/$I11 -> #REF! | M11: =+H11/$I11 -> #REF!
A12: =VLOOKUP(B12,Joursemaine,2,FALSE) -> LUNDI | B12: =WEEKDAY(D12,2) -> 1 | C12: =MONTH(D12) -> 3 | D12: 41702 | E12: =+#REF! -> #REF! | F12: =+#REF! -> #REF! | G12: =+#REF! -> #REF! | H12: =+#REF! -> #REF! | I12: =+#REF! -> #REF! | J12: =+E12/$I12 -> #REF! | K12: =+F12/$I12 -> #REF! | L12: =+G12/$I12 -> #REF! | M12: =+H12/$I12 -> #REF!
A13: =VLOOKUP(B13,Joursemaine,2,FALSE) -> VENDREDI | B13: =WEEKDAY(D13,2) -> 5 | C13: =MONTH(D13) -> 3 | D13: 41713 | E13: =+#REF! -> #REF! | F13: =+#REF! -> #REF! | G13: =+#REF! -> #REF! | H13: =+#REF! -> #REF! | I13: =+#REF! -> #REF! | J13: =+E13/$I13 -> #REF! | K13: =+F13/$I13 -> #REF! | L13: =+G13/$I13 -> #REF! | M13: =+H13/$I13 -> #REF!
A14: =VLOOKUP(B14,Joursemaine,2,FALSE) -> DIMANCHE | B14: =WEEKDAY(D14,2) -> 7 | C14: =MONTH(D14) -> 3 | D14: 41715 | E14: =+#REF! -> #REF! | F14: =+#REF! -> #REF! | G14: =+#REF! -> #REF! | H14: =+#REF! -> #REF! | I14: =+#REF! -> #REF! | J14: =+E14/$I14 -> #REF! | K14: =+F14/$I14 -> #REF! | L14: =+G14/$I14 -> #REF! | M14: =+H14/$I14 -> #REF!
A15: =VLOOKUP(B15,Joursemaine,2,FALSE) -> LUNDI | B15: =WEEKDAY(D15,2) -> 1 | C15: =MONTH(D15) -> 3 | D15: 41723 | E15: =+#REF! -> #REF! | F15: =+#REF! -> #REF! | G15: =+#REF! -> #REF! | H15: =+#REF! -> #REF! | I15: =+#REF! -> #REF! | J15: =+E15/$I15 -> #REF! | K15: =+F15/$I15 -> #REF! | L15: =+G15/$I15 -> #REF! | M15: =+H15/$I15 -> #REF!
E16: =SUM(E6:E15) -> #REF! | F16: =SUM(F6:F15) -> #REF! | G16: =SUM(G6:G15) -> #REF! | H16: =SUM(H6:H15) -> #REF! | I16: =SUM(I6:I15) -> #REF! | J16: =+E16/$I16 -> #REF! | K16: =+F16/$I16 -> #REF! | L16: =+G16/$I16 -> #REF! | M16: =+H16/$I16 -> #REF!
E17: =+E16/$I$16 -> #REF! | F17: =+F16/$I$16 -> #REF! | G17: =+G16/$I$16 -> #REF! | H17: =+H16/$I$16 -> #REF!
E18: =+E16 -> #REF! | F18: =+I16-E18-H18 -> #REF! | H18: =+H16 -> #REF! | I18: =SUM(E18:H18) -> #REF!
E19: =+E18/$I$18 -> #REF! | F19: =+F18/$I$18 -> #REF! | H19: =+H18/$I$18 -> #REF!
D24: Masquer colonne | J24: Masquer colonne | L24: Masquer colonne | R24: Masquer colonne
C25: Valeurs | D25: Type2 | E25: Type
C26: Nombre | K26: Part
C27: Avance > 1 mn | D27: Total Avance > 1 mn | E27: Dans la marge | H27: Total Dans la marge | I27: Retard > 3 mn | J27: Total Retard > 3 mn | K27: Avance > 1 mn | L27: Total Avance > 1 mn | M27: Dans la marge | P27: Total Dans la marge | Q27: Retard > 3 mn | R27: Total Retard > 3 mn
A28: Jour | B28: Date heure d'exploitation - Réalisé - Départ | C28: Avance > 1 mn | E28: Avance <= 1 mn | F28: A l'heure | G28: Retard <= 3 mn | I28: Retard > 3 mn | K28: Avance > 1 mn | M28: Avance <= 1 mn | N28: A l'heure | O28: Retard <= 3 mn | Q28: Retard > 3 mn
A29: lundi | B29: 43598 | C29: 1962 | D29: 1962 | E29: 601 | F29: 1102 | G29: 92 | H29: 1795 | I29: 21 | J29: 21 | K29: 0.51932239 | L29: 0.51932239 | M29: 0.15907888 | N29: 0.29168872 | O29: 0.024351509 | P29: 0.47511911 | Q29: 0.0055584966 | R29: 0.0055584966
A30: mardi | B30: 43606 | C30: 1810 | D30: 1810 | E30: 634 | F30: 1097 | G30: 67 | H30: 1798 | I30: 22 | J30: 22 | K30: 0.49862259 | L30: 0.49862259 | M30: 0.17465565 | N30: 0.30220386 | O30: 0.0184573 | P30: 0.4953168 | Q30: 0.0060606061 | R30: 0.0060606061
B31: 43578 | C31: 1650 | D31: 1650 | E31: 648 | F31: 1070 | G31: 57 | H31: 1775 | I31: 15 | J31: 15 | K31: 0.47965116 | L31: 0.47965116 | M31: 0.18837209 | N31: 0.31104651 | O31: 0.016569767 | P31: 0.51598837 | Q31: 0.0043604651 | R31: 0.0043604651
A32: vendredi | B32: 43602 | C32: 1858 | D32: 1858 | E32: 613 | F32: 1137 | G32: 86 | H32: 1836 | I32: 23 | J32: 23 | K32: 0.49986548 | L32: 0.49986548 | M32: 0.16491794 | N32: 0.30589185 | O32: 0.023136938 | P32: 0.49394673 | Q32: 0.0061877858 | R32: 0.0061877858
B33: 43581 | C33: 1667 | D33: 1667 | E33: 625 | F33: 1092 | G33: 72 | H33: 1789 | I33: 15 | J33: 15 | K33: 0.48026505 | L33: 0.48026505 | M33: 0.18006338 | N33: 0.31460674 | O33: 0.020743302 | P33: 0.51541343 | Q33: 0.0043215212 | R33: 0.0043215212
A34: dimanche | B34: 43611 | C34: 272 | D34: 272 | E34: 120 | F34: 245 | G34: 19 | H34: 384 | I34: 3 | J34: 3 | K34: 0.41274659 | L34: 0.41274659 | M34: 0.18209408 | N34: 0.37177542 | O34: 0.028831563 | P34: 0.58270106 | Q34: 0.004552352 | R34: 0.004552352
A35: Total général | C35: 9219 | D35: 9219 | E35: 3241 | F35: 5743 | G35: 393 | H35: 9377 | I35: 99 | J35: 99 | K35: 0.4931265 | L35: 0.4931265 | M35: 0.17336186 | N35: 0.30719444 | O35: 0.021021664 | P35: 0.50157796 | Q35: 0.0052955336 | R35: 0.0052955336

Sheet mardi 9 01 18
D1: tableau type après extract
A2: Réseau | B2: Ligne | C2: Sens | D2: Point d'arrêt | E2: Date heure d'exploitation - Réalisé - Départ | F2: Date heure d'exploitation - Théorique - Départ | G2: Passage réalisé/théorique | H2: -0.00069444444 | I2: 0 | J2: 0.0020833333 | K2: +3 minutes
A3: TANGO | B3: 2 | C3: Aller | D3: JUSTR | E3: 41647.551 | F3: 41647.552 | G3: =+E3-F3 -> -0.00069444445 | H3: =+IF(G3<=$H$2,1,0) -> 1 | I3: =IF(G3<$I$2,1,0) -> 1 | J3: =+IF(I3=1,0,IF(G3<=$J$2,1,0)) -> 0 | K3: =+IF(I3=1,0,IF(J3=1,0,1)) -> 0
A4: TANGO | B4: 2 | C4: Aller | D4: CITAR | H4: 0 | I4: 1 | J4: 0 | K4: 0
A5: TANGO | B5: 2 | C5: Aller | D5: JUSTR | E5: 41647.619 | F5: 41647.621 | G5: =+E5-F5 -> -0.0013888889 | H5: =+IF(G5<=$H$2,1,0) -> 1 | I5: =IF(G5<$I$2,1,0) -> 1 | J5: =+IF(I5=1,0,IF(G5<=$J$2,1,0)) -> 0 | K5: =+IF(I5=1,0,IF(J5=1,0,1)) -> 0
A6: TANGO | B6: 2 | C6: Aller | D6: CITAR | H6: 1 | I6: 1 | J6: 0 | K6: 0
A7: TANGO | B7: 2 | C7: Aller | D7: JUSTR | E7: 41647.413 | F7: 41647.415 | G7: =+E7-F7 -> -0.0013888889 | H7: =+IF(G7<=$H$2,1,0) -> 1 | I7: =IF(G7<$I$2,1,0) -> 1 | J7: =+IF(I7=1,0,IF(G7<=$J$2,1,0)) -> 0 | K7: =+IF(I7=1,0,IF(J7=1,0,1)) -> 0
A8: TANGO | B8: 2 | C8: Aller | D8: CITAR | H8: 0 | I8: 0 | J8: 1 | K8: 0
A9: TANGO | B9: 2 | C9: Aller | D9: JUSTR | E9: 41647.461 | F9: 41647.46 | G9: =+E9-F9 -> 0.00069444444 | H9: =+IF(G9<=$H$2,1,0) -> 0 | I9: =IF(G9<$I$2,1,0) -> 0 | J9: =+IF(I9=1,0,IF(G9<=$J$2,1,0)) -> 1 | K9: =+IF(I9=1,0,IF(J9=1,0,1)) -> 0
A10: TANGO | B10: 2 | C10: Aller | D10: CITAR | H10: 0 | I10: 0 | J10: 1 | K10: 0
A11: TANGO | B11: 2 | C11: Aller | D11: JUSTR | E11: 41647.277 | F11: 41647.278 | G11: =+E11-F11 -> -0.0013888889 | H11: =+IF(G11<=$H$2,1,0) -> 1 | I11: =IF(G11<$I$2,1,0) -> 1 | J11: =+IF(I11=1,0,IF(G11<=$J$2,1,0)) -> 0 | K11: =+IF(I11=1,0,IF(J11=1,0,1)) -> 0
A12: TANGO | B12: 2 | C12: Aller | D12: CITAR
A13: TANGO | B13: 2 | C13: Aller | D13: JUSTR | E13: 41647.422 | F13: 41647.422 | G13: =+E13-F13 -> -0.00069444445 | H13: =+IF(G13<=$H$2,1,0) -> 1 | I13: =IF(G13<$I$2,1,0) -> 1 | J13: =+IF(I13=1,0,IF(G13<=$J$2,1,0)) -> 0 | K13: =+IF(I13=1,0,IF(J13=1,0,1)) -> 0
A14: TANGO | B14: 2 | C14: Aller | D14: CITAR
A15: TANGO | B15: 2 | C15: Aller | D15: JUSTR | E15: 41647.74 | F15: 41647.739 | G15: =+E15-F15 -> 0.00069444445 | H15: =+IF(G15<=$H$2,1,0) -> 0 | I15: =IF(G15<$I$2,1,0) -> 0 | J15: =+IF(I15=1,0,IF(G15<=$J$2,1,0)) -> 1 | K15: =+IF(I15=1,0,IF(J15=1,0,1)) -> 0
A16: TANGO | B16: 2 | C16: Aller | D16: CITAR
A17: TANGO | B17: 2 | C17: Aller | D17: JUSTR | E17: 41647.316 | F17: 41647.317 | G17: =+E17-F17 -> -0.00069444445 | H17: =+IF(G17<=$H$2,1,0) -> 1 | I17: =IF(G17<$I$2,1,0) -> 1 | J17: =+IF(I17=1,0,IF(G17<=$J$2,1,0)) -> 0 | K17: =+IF(I17=1,0,IF(J17=1,0,1)) -> 0
A18: TANGO | B18: 2 | C18: Aller | D18: CITAR
A19: TANGO | B19: 2 | C19: Aller | D19: JUSTR | E19: 41647.817 | F19: 41647.816 | G19: =+E19-F19 -> 0.00069444445 | H19: =+IF(G19<=$H$2,1,0) -> 0 | I19: =IF(G19<$I$2,1,0) -> 0 | J19: =+IF(I19=1,0,IF(G19<=$J$2,1,0)) -> 1 | K19: =+IF(I19=1,0,IF(J19=1,0,1)) -> 0
A20: TANGO | B20: 2 | C20: Aller | D20: CITAR
A21: TANGO | B21: 2 | C21: Aller | D21: JUSTR | E21: 41647.533 | F21: 41647.53 | G21: =+E21-F21 -> 0.0027777778 | H21: =+IF(G21<=$H$2,1,0) -> 0 | I21: =IF(G21<$I$2,1,0) -> 0 | J21: =+IF(I21=1,0,IF(G21<=$J$2,1,0)) -> 0 | K21: =+IF(I21=1,0,IF(J21=1,0,1)) -> 1
A22: TANGO | B22: 2 | C22: Aller | D22: CITAR
A23: TANGO | B23: 2 | C23: Aller | D23: JUSTR | E23: 41647.597 | F23: 41647.598 | G23: =+E23-F23 -> -0.00069444445 | H23: =+IF(G23<=$H$2,1,0) -> 1 | I23: =IF(G23<$I$2,1,0) -> 1 | J23: =+IF(I23=1,0,IF(G23<=$J$2,1,0)) -> 0 | K23: =+IF(I23=1,0,IF(J23=1,0,1)) -> 0
A24: TANGO | B24: 2 | C24: Aller | D24: CITAR
A25: TANGO | B25: 2 | C25: Aller | D25: JUSTR | E25: 41647.665 | F25: 41647.667 | G25: =+E25-F25 -> -0.0013888889 | H25: =+IF(G25<=$H$2,1,0) -> 1 | I25: =IF(G25<$I$2,1,0) -> 1 | J25: =+IF(I25=1,0,IF(G25<=$J$2,1,0)) -> 0 | K25: =+IF(I25=1,0,IF(J25=1,0,1)) -> 0
A26: TANGO | B26: 2 | C26: Aller | D26: CITAR
A27: TANGO | B27: 2 | C27: Aller | D27: JUSTR | E27: 41647.614 | F27: 41647.613 | G27: =+E27-F27 -> 0.00069444445 | H27: =+IF(G27<=$H$2,1,0) -> 0 | I27: =IF(G27<$I$2,1,0) -> 0 | J27: =+IF(I27=1,0,IF(G27<=$J$2,1,0)) -> 1 | K27: =+IF(I27=1,0,IF(J27=1,0,1)) -> 0
A28: TANGO | B28: 2 | C28: Aller | D28: CITAR
A29: TANGO | B29: 2 | C29: Aller | D29: JUSTR | E29: 41647.684 | F29: 41647.682 | G29: =+E29-F29 -> 0.0020833333 | H29: =+IF(G29<=$H$2,1,0) -> 0 | I29: =IF(G29<$I$2,1,0) -> 0 | J29: =+IF(I29=1,0,IF(G29<=$J$2,1,0)) -> 0 | K29: =+IF(I29=1,0,IF(J29=1,0,1)) -> 1
A30: TANGO | B30: 2 | C30: Aller | D30: CITAR
A31: TANGO | B31: 2 | C31: Aller | D31: JUSTR | E31: 41647.76 | F31: 41647.754 | G31: =+E31-F31 -> 0.0055555556 | H31: =+IF(G31<=$H$2,1,0) -> 0 | I31: =IF(G31<$I$2,1,0) -> 0 | J31: =+IF(I31=1,0,IF(G31<=$J$2,1,0)) -> 0 | K31: =+IF(I31=1,0,IF(J31=1,0,1)) -> 1
A32: TANGO | B32: 2 | C32: Aller | D32: CITAR
A33: TANGO | B33: 2 | C33: Aller | D33: JUSTR | E33: 41647.476 | F33: 41647.476 | G33: =+E33-F33 -> 0 | H33: =+IF(G33<=$H$2,1,0) -> 0 | I33: =IF(G33<$I$2,1,0) -> 0 | J33: =+IF(I33=1,0,IF(G33<=$J$2,1,0)) -> 1 | K33: =+IF(I33=1,0,IF(J33=1,0,1)) -> 0
A34: TANGO | B34: 2 | C34: Aller | D34: CITAR
A35: TANGO | B35: 2 | C35: Aller | D35: JUSTR | E35: 41647.543 | F35: 41647.544 | G35: =+E35-F35 -> -0.0013888889 | H35: =+IF(G35<=$H$2,1,0) -> 1 | I35: =IF(G35<$I$2,1,0) -> 1 | J35: =+IF(I35=1,0,IF(G35<=$J$2,1,0)) -> 0 | K35: =+IF(I35=1,0,IF(J35=1,0,1)) -> 0
A36: TANGO | B36: 2 | C36: Aller | D36: CITAR
A37: TANGO | B37: 2 | C37: Aller | D37: JUSTR | E37: 41647.333 | F37: 41647.331 | G37: =+E37-F37 -> 0.0020833333 | H37: =+IF(G37<=$H$2,1,0) -> 0 | I37: =IF(G37<$I$2,1,0) -> 0 | J37: =+IF(I37=1,0,IF(G37<=$J$2,1,0)) -> 1 | K37: =+IF(I37=1,0,IF(J37=1,0,1)) -> 0
A38: TANGO | B38: 2 | C38: Aller | D38: CITAR
A39: TANGO | B39: 2 | C39: Aller | D39: JUSTR | E39: 41647.47 | F39: 41647.468 | G39: =+E39-F39 -> 0.0020833333 | H39: =+IF(G39<=$H$2,1,0) -> 0 | I39: =IF(G39<$I$2,1,0) -> 0 | J39: =+IF(I39=1,0,IF(G39<=$J$2,1,0)) -> 1 | K39: =+IF(I39=1,0,IF(J39=1,0,1)) -> 0
A40: TANGO | B40: 2 | C40: Aller | D40: CITAR
...
