Workbook
Name Termes: #REF!

Sheet Feuil1
B2: Espace prévu pour les valeurs (jusqu'à 1000)
B3: 151 | C3: 153 | D3: 152 | E3: 153 | F3: 155 | G3: 154 | H3: 149 | I3: 151 | J3: 146 | K3: 148 | L3: 149 | M3: 150
B4: 151 | C4: 153 | D4: 153 | E4: 154 | F4: 149 | G4: 154 | H4: 149 | I4: 152 | J4: 153 | K4: 151 | L4: 149 | M4: 149
B5: 151 | C5: 152 | D5: 150 | E5: 151 | F5: 152 | G5: 149 | H5: 150 | I5: 150 | J5: 152 | K5: 150 | L5: 151 | M5: 144
B6: 152 | C6: 153 | D6: 153 | E6: 153 | F6: 152 | G6: 152 | H6: 147 | I6: 150 | J6: 147 | K6: 151 | L6: 150 | M6: 152
B7: 150 | C7: 151 | D7: 150 | E7: 155 | F7: 153 | G7: 152 | H7: 150 | I7: 151 | J7: 150 | K7: 146 | L7: 148 | M7: 152
B8: 150 | C8: 153 | D8: 153 | E8: 152 | F8: 150 | G8: 155 | H8: 149 | I8: 150 | J8: 149 | K8: 147 | L8: 151 | M8: 148
B9: 149 | C9: 154 | D9: 152 | E9: 154 | F9: 149 | G9: 150 | H9: 149 | I9: 151 | J9: 151 | K9: 150 | L9: 149 | M9: 152
B10: 152 | C10: 151 | D10: 151 | E10: 154 | F10: 151 | G10: 157 | H10: 150 | I10: 145 | J10: 148 | K10: 147 | L10: 153 | M10: 144
B11: 154 | C11: 155 | D11: 155 | E11: 153 | F11: 151 | G11: 154 | H11: 152 | I11: 149 | J11: 146 | K11: 149 | L11: 148 | M11: 148
B12: 154 | C12: 153 | D12: 148 | E12: 152 | F12: 153 | G12: 156 | H12: 146 | I12: 149 | J12: 147 | K12: 150 | L12: 151 | M12: 147
B14: Informations série | K14: Informations à renseigner
B15: Moyenne | D15: =ROUND(AVERAGE(B3:CW12),3) -> 150.75 | K15: Resolution de la mesure | M15: 0.1
B16: Ecart type estimé | D16: =ROUND(STDEV(B3:CW12),3) -> 2.538 | K16: Cible | M16: 150
B17: Effectif | D17: =COUNT(B3:CW12) -> 120 | K17: IT (+-) | M17: 12
K18: Long ou Court termes | M18: Court

Sheet Carte de contrôle
A1: X | B1: Y | E1: Données
A2: =1 -> 1 | B2: =D2 -> 151 | D2: =Feuil1!B3 -> 151 | E2: =Feuil1!C3 -> 153 | F2: =Feuil1!D3 -> 152 | G2: =Feuil1!E3 -> 153 | H2: =Feuil1!F3 -> 155 | I2: =Feuil1!G3 -> 154 | J2: =Feuil1!H3 -> 149 | K2: =Feuil1!I3 -> 151 | ... CY2: =Feuil1!CW3 -> 0
A3: =A2+1 -> 2 | B3: =D3 -> 151 | D3: =Feuil1!B4 -> 151 | E3: =Feuil1!C4 -> 153 | F3: =Feuil1!D4 -> 153 | G3: =Feuil1!E4 -> 154 | H3: =Feuil1!F4 -> 149 | I3: =Feuil1!G4 -> 154 | J3: =Feuil1!H4 -> 149 | K3: =Feuil1!I4 -> 152 | ... CY3: =Feuil1!CW4 -> 0
A4: =A3+1 -> 3 | B4: =D4 -> 151 | D4: =Feuil1!B5 -> 151 | E4: =Feuil1!C5 -> 152 | F4: =Feuil1!D5 -> 150 | G4: =Feuil1!E5 -> 151 | H4: =Feuil1!F5 -> 152 | I4: =Feuil1!G5 -> 149 | J4: =Feuil1!H5 -> 150 | K4: =Feuil1!I5 -> 150 | ... CY4: =Feuil1!CW5 -> 0
A5: =A4+1 -> 4 | B5: =D5 -> 152 | D5: =Feuil1!B6 -> 152 | E5: =Feuil1!C6 -> 153 | F5: =Feuil1!D6 -> 153 | G5: =Feuil1!E6 -> 153 | H5: =Feuil1!F6 -> 152 | I5: =Feuil1!G6 -> 152 | J5: =Feuil1!H6 -> 147 | K5: =Feuil1!I6 -> 150 | ... CY5: =Feuil1!CW6 -> 0
A6: =A5+1 -> 5 | B6: =D6 -> 150 | D6: =Feuil1!B7 -> 150 | E6: =Feuil1!C7 -> 151 | F6: =Feuil1!D7 -> 150 | G6: =Feuil1!E7 -> 155 | H6: =Feuil1!F7 -> 153 | I6: =Feuil1!G7 -> 152 | J6: =Feuil1!H7 -> 150 | K6: =Feuil1!I7 -> 151 | ... CY6: =Feuil1!CW7 -> 0
A7: =A6+1 -> 6 | B7: =D7 -> 150 | D7: =Feuil1!B8 -> 150 | E7: =Feuil1!C8 -> 153 | F7: =Feuil1!D8 -> 153 | G7: =Feuil1!E8 -> 152 | H7: =Feuil1!F8 -> 150 | I7: =Feuil1!G8 -> 155 | J7: =Feuil1!H8 -> 149 | K7: =Feuil1!I8 -> 150 | ... CY7: =Feuil1!CW8 -> 0
A8: =A7+1 -> 7 | B8: =D8 -> 149 | D8: =Feuil1!B9 -> 149 | E8: =Feuil1!C9 -> 154 | F8: =Feuil1!D9 -> 152 | G8: =Feuil1!E9 -> 154 | H8: =Feuil1!F9 -> 149 | I8: =Feuil1!G9 -> 150 | J8: =Feuil1!H9 -> 149 | K8: =Feuil1!I9 -> 151 | ... CY8: =Feuil1!CW9 -> 0
A9: =A8+1 -> 8 | B9: =D9 -> 152 | D9: =Feuil1!B10 -> 152 | E9: =Feuil1!C10 -> 151 | F9: =Feuil1!D10 -> 151 | G9: =Feuil1!E10 -> 154 | H9: =Feuil1!F10 -> 151 | I9: =Feuil1!G10 -> 157 | J9: =Feuil1!H10 -> 150 | K9: =Feuil1!I10 -> 145 | ... CY9: =Feuil1!CW10 -> 0
A10: =A9+1 -> 9 | B10: =D10 -> 154 | D10: =Feuil1!B11 -> 154 | E10: =Feuil1!C11 -> 155 | F10: =Feuil1!D11 -> 155 | G10: =Feuil1!E11 -> 153 | H10: =Feuil1!F11 -> 151 | I10: =Feuil1!G11 -> 154 | J10: =Feuil1!H11 -> 152 | K10: =Feuil1!I11 -> 149 | ... CY10: =Feuil1!CW11 -> 0
A11: =A10+1 -> 10 | B11: =D11 -> 154 | D11: =Feuil1!B12 -> 154 | E11: =Feuil1!C12 -> 153 | F11: =Feuil1!D12 -> 148 | G11: =Feuil1!E12 -> 152 | H11: =Feuil1!F12 -> 153 | I11: =Feuil1!G12 -> 156 | J11: =Feuil1!H12 -> 146 | K11: =Feuil1!I12 -> 149 | ... CY11: =Feuil1!CW12 -> 0
A12: =A11+1 -> 11 | B12: =E2 -> 153
A13: =A12+1 -> 12 | B13: =E3 -> 153
A14: =A13+1 -> 13 | B14: =E4 -> 152
A15: =A14+1 -> 14 | B15: =E5 -> 153
A16: =A15+1 -> 15 | B16: =E6 -> 151
A17: =A16+1 -> 16 | B17: =E7 -> 153
A18: =A17+1 -> 17 | B18: =E8 -> 154
A19: =A18+1 -> 18 | B19: =E9 -> 151
A20: =A19+1 -> 19 | B20: =E10 -> 155
A21: =A20+1 -> 20 | B21: =E11 -> 153
A22: =A21+1 -> 21 | B22: =F2 -> 152
A23: =A22+1 -> 22 | B23: =F3 -> 153
A24: =A23+1 -> 23 | B24: =F4 -> 150
A25: =A24+1 -> 24 | B25: =F5 -> 153
A26: =A25+1 -> 25 | B26: =F6 -> 150
A27: =A26+1 -> 26 | B27: =F7 -> 153
A28: =A27+1 -> 27 | B28: =F8 -> 152
A29: =A28+1 -> 28 | B29: =F9 -> 151
A30: =A29+1 -> 29 | B30: =F10 -> 155
A31: =A30+1 -> 30 | B31: =F11 -> 148
A32: =A31+1 -> 31 | B32: =G2 -> 153
A33: =A32+1 -> 32 | B33: =G3 -> 154
A34: =A33+1 -> 33 | B34: =G4 -> 151
A35: =A34+1 -> 34 | B35: =G5 -> 153
A36: =A35+1 -> 35 | B36: =G6 -> 155
A37: =A36+1 -> 36 | B37: =G7 -> 152
A38: =A37+1 -> 37 | B38: =G8 -> 154
A39: =A38+1 -> 38 | B39: =G9 -> 154
A40: =A39+1 -> 39 | B40: =G10 -> 153
...
