Workbook

Sheet Patrimoine 2018
A1: Dates | B1: ANC. N°Inv | C1: Clé | D1: How many ? | E1: NV N°Inv | F1: Libellé | G1: Secteur | H1: Affectation | I1: Ville
A2: 41810 | B2: 1927 | C2: =B2&"-"&A2&"-"&LEFT(F2,8) -> 1927-41810-Travaux | D2: =COUNTIF(Rapprochement!$C$5:$C$2462,'Patrimoine 2018'!C2) -> 1 | E2: 0 | F2: Travaux de Rénovation | G2: SM | H2: SECTION | I2: AG
A3: 26299 | B3: 1 | C3: =B3&"-"&A3&"-"&LEFT(F3,8) -> 1-26299-Immeuble | D3: =COUNTIF(Rapprochement!$C$5:$C$2462,'Patrimoine 2018'!C3) -> 1 | E3: 1 | F3: Immeuble Condorcet - siege | G3: SM | H3: NON AFFECTES
A4: 26299 | B4: 2 | C4: =B4&"-"&A4&"-"&LEFT(F4,8) -> 2-26299-Install. | D4: =COUNTIF(Rapprochement!$C$5:$C$2462,'Patrimoine 2018'!C4) -> 1 | E4: 2 | F4: Install. Teleph.Im. Condorcet- Siege | G4: SM | H4: NON AFFECTES
A5: 26604 | B5: 3 | C5: =B5&"-"&A5&"-"&LEFT(F5,8) -> 3-26604-Extincte | D5: =COUNTIF(Rapprochement!$C$5:$C$2462,'Patrimoine 2018'!C5) -> 1 | E5: 3 | F5: Extincteur a Cou | G5: SM | H5: NON AFFECTES
A6: 26604 | B6: 4 | C6: =B6&"-"&A6&"-"&LEFT(F6,8) -> 4-26604-Extincte | D6: =COUNTIF(Rapprochement!$C$5:$C$2462,'Patrimoine 2018'!C6) -> 1 | E6: 4 | F6: Extincteur a Cou | G6: SM | H6: NON AFFECTES
A7: 26604 | B7: 5 | C7: =B7&"-"&A7&"-"&LEFT(F7,8) -> 5-26604-Extincte | D7: =COUNTIF(Rapprochement!$C$5:$C$2462,'Patrimoine 2018'!C7) -> 1 | E7: 5 | F7: Extincteur a Cou | G7: SM | H7: NON AFFECTES
A8: 26604 | B8: 6 | C8: =B8&"-"&A8&"-"&LEFT(F8,8) -> 6-26604-Extincte | D8: =COUNTIF(Rapprochement!$C$5:$C$2462,'Patrimoine 2018'!C8) -> 1 | E8: 6 | F8: Extincteur a Cou | G8: SM | H8: NON AFFECTES
A9: 26604 | B9: 7 | C9: =B9&"-"&A9&"-"&LEFT(F9,8) -> 7-26604-Extincte | D9: =COUNTIF(Rapprochement!$C$5:$C$2462,'Patrimoine 2018'!C9) -> 1 | E9: 7 | F9: Extincteur a Cou | G9: SM | H9: NON AFFECTES
A10: 26604 | B10: 8 | C10: =B10&"-"&A10&"-"&LEFT(F10,8) -> 8-26604-Extincte | D10: =COUNTIF(Rapprochement!$C$5:$C$2462,'Patrimoine 2018'!C10) -> 1 | E10: 8 | F10: Extincteur a Cou | G10: SM | H10: CELLULE DE REPRESENTATION REGIONALE CASA-MAARIF | I10: MRF
A11: 26604 | B11: 9 | C11: =B11&"-"&A11&"-"&LEFT(F11,8) -> 9-26604-Extincte | D11: =COUNTIF(Rapprochement!$C$5:$C$2462,'Patrimoine 2018'!C11) -> 1 | E11: 9 | F11: Extincteur a Cou | G11: SM | H11: Systeme information et communication | I11: 210
A12: 26604 | B12: 10 | C12: =B12&"-"&A12&"-"&LEFT(F12,8) -> 10-26604-Extincte | D12: =COUNTIF(Rapprochement!$C$5:$C$2462,'Patrimoine 2018'!C12) -> 1 | E12: 10 | F12: Extincteur a Cou | G12: SM | H12: NON AFFECTES
A13: 26604 | B13: 11 | C13: =B13&"-"&A13&"-"&LEFT(F13,8) -> 11-26604-Extincte | D13: =COUNTIF(Rapprochement!$C$5:$C$2462,'Patrimoine 2018'!C13) -> 1 | E13: 11 | F13: Extincteur a Cou | G13: SM | H13: NON AFFECTES
A14: 28506 | B14: 27 | C14: =B14&"-"&A14&"-"&LEFT(F14,8) -> 27-28506-Coffre F | D14: =COUNTIF(Rapprochement!$C$5:$C$2462,'Patrimoine 2018'!C14) -> 1 | E14: 19 | F14: Coffre Fort Carmine | G14: SM | H14: FINANCIER | I14: 306
A15: 30712 | B15: 30 | C15: =B15&"-"&A15&"-"&LEFT(F15,8) -> 30-30712-Bureaux | D15: =COUNTIF(Rapprochement!$C$5:$C$2462,'Patrimoine 2018'!C15) -> 1 | E15: 20 | F15: Bureaux Et Placards Condorcet | G15: SM | H15: ADHESIONS & AVIS DE MODIFICATION | I15: 313
A16: 30986 | B16: 1 | C16: =B16&"-"&A16&"-"&LEFT(F16,8) -> 1-30986-Amenagem | D16: =COUNTIF(Rapprochement!$C$5:$C$2462,'Patrimoine 2018'!C16) -> 1 | E16: 22 | F16: Amenagement CDM | G16: SM | H16: SECTION | I16: MR
A17: 31016 | B17: 12 | C17: =B17&"-"&A17&"-"&LEFT(F17,8) -> 12-31016-Villa - | D17: =COUNTIF(Rapprochement!$C$5:$C$2462,'Patrimoine 2018'!C17) -> 1 | E17: 23 | F17: Villa - CDM. Mers Sultan | G17: SM | H17: C.D.M. CASA-MERS SULTAN
A18: 31079 | B18: 32 | C18: =B18&"-"&A18&"-"&LEFT(F18,8) -> 32-31079-Machine | D18: =COUNTIF(Rapprochement!$C$5:$C$2462,'Patrimoine 2018'!C18) -> 1 | E18: 24 | F18: Machine a Ecrire Electronique | G18: SM | H18: SECRETARIAT DE DIRECTION | I18: 311
A19: 31291 | B19: 33 | C19: =B19&"-"&A19&"-"&LEFT(F19,8) -> 33-31291-Table Re | D19: =COUNTIF(Rapprochement!$C$5:$C$2462,'Patrimoine 2018'!C19) -> 1 | E19: 25 | F19: Table Reunion 30 Places | G19: SM | H19: GENERAUX | I19: 6
A20: 31457 | B20: 34 | C20: =B20&"-"&A20&"-"&LEFT(F20,8) -> 34-31457-Bureu Pr | D20: =COUNTIF(Rapprochement!$C$5:$C$2462,'Patrimoine 2018'!C20) -> 1 | E20: 26 | F20: Bureu President En Bois | G20: SM | H20: FINANCIER & COMPTABLE | I20: 307
A21: 31523 | B21: 145 | C21: =B21&"-"&A21&"-"&LEFT(F21,8) -> 145-31523-Table En | D21: =COUNTIF(Rapprochement!$C$5:$C$2462,'Patrimoine 2018'!C21) -> 1 | E21: 28 | F21: Table En Teck S.S | G21: SM | H21: C.D.M. CASA-MERS SULTAN
A22: 31779 | B22: 40 | C22: =B22&"-"&A22&"-"&LEFT(F22,8) -> 40-31779-Bureau e | D22: =COUNTIF(Rapprochement!$C$5:$C$2462,'Patrimoine 2018'!C22) -> 1 | E22: 30 | F22: Bureau en Teck 1.5m Pour Medecin | G22: SM | H22: CELLULE DE REPRESENTATION REGIONALE FKIH BEN SALAH | I22: FB
A23: 31897 | B23: 12 | C23: =B23&"-"&A23&"-"&LEFT(F23,8) -> 12-31897-Villa - | D23: =COUNTIF(Rapprochement!$C$5:$C$2462,'Patrimoine 2018'!C23) -> 1 | E23: 33 | F23: Villa - CDM - Marrakech | G23: SM | H23: SECTION | I23: MR
A24: 32080 | B24: 108 | C24: =B24&"-"&A24&"-"&LEFT(F24,8) -> 108-32080-ELEMENT | D24: =COUNTIF(Rapprochement!$C$5:$C$2462,'Patrimoine 2018'!C24) -> 0 | E24: 35 | F24: ELEMENT METALLIQUE A 11 TIROIRS | G24: SM | H24: C.D.M. CASA-DAR LAMANE | I24: DR
A25: 32080 | B25: 114 | C25: =B25&"-"&A25&"-"&LEFT(F25,8) -> 114-32080-Chaise E | D25: =COUNTIF(Rapprochement!$C$5:$C$2462,'Patrimoine 2018'!C25) -> 0 | E25: 36 | F25: Chaise En Skaille Et Bois Marron Recep | G25: SM | H25: C.D.M. CASA-DAR LAMANE | I25: DR
A26: 32098 | B26: 12 | C26: =B26&"-"&A26&"-"&LEFT(F26,8) -> 12-32098-Amenagem | D26: =COUNTIF(Rapprochement!$C$5:$C$2462,'Patrimoine 2018'!C26) -> 0 | E26: 37 | F26: Amenagement et Installation | G26: SM | H26: SECTION | I26: DR
A27: 32142 | B27: 8 | C27: =B27&"-"&A27&"-"&LEFT(F27,8) -> 8-32142-Meuble d | D27: =COUNTIF(Rapprochement!$C$5:$C$2462,'Patrimoine 2018'!C27) -> 1 | E27: 38 | F27: Meuble de Rangement a 1 Porte En Teck | G27: SM | H27: CELLULE DE REPRESENTATION REGIONALE CASA-MAARIF | I27: MRF
A28: 32142 | B28: 22 | C28: =B28&"-"&A28&"-"&LEFT(F28,8) -> 22-32142-Bureau a | D28: =COUNTIF(Rapprochement!$C$5:$C$2462,'Patrimoine 2018'!C28) -> 1 | E28: 39 | F28: Bureau a 1.5 m En Teck | G28: SM | H28: CELLULE DE REPRESENTATION REGIONALE CASA-MAARIF | I28: MRF
A29: 32142 | B29: 24 | C29: =B29&"-"&A29&"-"&LEFT(F29,8) -> 24-32142-Chaise E | D29: =COUNTIF(Rapprochement!$C$5:$C$2462,'Patrimoine 2018'!C29) -> 1 | E29: 40 | F29: Chaise En Skai Noir | G29: SM | H29: CELLULE DE REPRESENTATION REGIONALE CASA-MAARIF | I29: MRF
A30: 32142 | B30: 25 | C30: =B30&"-"&A30&"-"&LEFT(F30,8) -> 25-32142-Chaise E | D30: =COUNTIF(Rapprochement!$C$5:$C$2462,'Patrimoine 2018'!C30) -> 1 | E30: 41 | F30: Chaise En Skai Noir | G30: SM | H30: CELLULE DE REPRESENTATION REGIONALE CASA-MAARIF | I30: MRF
A31: 32142 | B31: 28 | C31: =B31&"-"&A31&"-"&LEFT(F31,8) -> 28-32142-Meuble d | D31: =COUNTIF(Rapprochement!$C$5:$C$2462,'Patrimoine 2018'!C31) -> 1 | E31: 43 | F31: Meuble de Rangement Avec Tir.1.5m/50 | G31: SM | H31: CELLULE DE REPRESENTATION REGIONALE CASA-MAARIF | I31: MRF
A32: 32168 | B32: 92 | C32: =B32&"-"&A32&"-"&LEFT(F32,8) -> 92-32168-1Table e | D32: =COUNTIF(Rapprochement!$C$5:$C$2462,'Patrimoine 2018'!C32) -> 1 | E32: 44 | F32: 1Table en Bois Pour Sterilisateur | G32: SM | H32: C.D.M. CASA-DAR LAMANE | I32: DR
A33: 32168 | B33: 96 | C33: =B33&"-"&A33&"-"&LEFT(F33,8) -> 96-32168-Armoire | D33: =COUNTIF(Rapprochement!$C$5:$C$2462,'Patrimoine 2018'!C33) -> 1 | E33: 45 | F33: Armoire En Bois Metalique a 2 Portes B.R | G33: SM | H33: C.D.M. CASA-DAR LAMANE | I33: DR
A34: 32168 | B34: 99 | C34: =B34&"-"&A34&"-"&LEFT(F34,8) -> 99-32168-Element | D34: =COUNTIF(Rapprochement!$C$5:$C$2462,'Patrimoine 2018'!C34) -> 1 | E34: 46 | F34: Element En Bois 2m a 2 Etageres | G34: SM | H34: C.D.M. CASA-DAR LAMANE | I34: DR
A35: 32412 | B35: 40 | C35: =B35&"-"&A35&"-"&LEFT(F35,8) -> 40-32412-Table In | D35: =COUNTIF(Rapprochement!$C$5:$C$2462,'Patrimoine 2018'!C35) -> 1 | E35: 50 | F35: Table Informatique | G35: SM | H35: SERVICE TRAITEMENT DES REJETS | I35: 7
A36: 32412 | B36: 41 | C36: =B36&"-"&A36&"-"&LEFT(F36,8) -> 41-32412-Table In | D36: =COUNTIF(Rapprochement!$C$5:$C$2462,'Patrimoine 2018'!C36) -> 1 | E36: 51 | F36: Table Informatique | G36: SM | H36: ADHESIONS & AVIS DE MODIFICATION | I36: 312
A37: 32412 | B37: 42 | C37: =B37&"-"&A37&"-"&LEFT(F37,8) -> 42-32412-Table In | D37: =COUNTIF(Rapprochement!$C$5:$C$2462,'Patrimoine 2018'!C37) -> 1 | E37: 52 | F37: Table Informatique | G37: SM | H37: SECRETARIAT DE DIRECTION | I37: 311
A38: 32412 | B38: 44 | C38: =B38&"-"&A38&"-"&LEFT(F38,8) -> 44-32412-Table In | D38: =COUNTIF(Rapprochement!$C$5:$C$2462,'Patrimoine 2018'!C38) -> 1 | E38: 54 | F38: Table Informatique | G38: SM | H38: CONTROLE MEDICAL | I38: 204
A39: 32611 | B39: 42 | C39: =B39&"-"&A39&"-"&LEFT(F39,8) -> 42-32611-Bureau 1 | D39: =COUNTIF(Rapprochement!$C$5:$C$2462,'Patrimoine 2018'!C39) -> 1 | E39: 57 | F39: Bureau 1.5*0.75 Recep. | G39: SM | H39: CELLULE DE REPRESENTATION REGIONALE LAAYOUNE | I39: LY
A40: 32625 | B40: 3 | C40: =B40&"-"&A40&"-"&LEFT(F40,8) -> 3-32625-Villa - | D40: =COUNTIF(Rapprochement!$C$5:$C$2462,'Patrimoine 2018'!C40) -> 1 | E40: 58 | F40: Villa - CDM - Rabat | G40: SM | H40: SECTION | I40: RB
...

Sheet Rapprochement
K2: INDEX('Patrimoine 2018'!A$2:A$2567;EQUIV(Rapprochement!$C5;'Patrimoine 2018'!$C$2:$C$2567;0);)
A3: Tableau d'amortissement des immobilsations 2018
A4: Anc. N° inv | B4: Affectation | C4: Clé | D4: How many ? | E4: Code comptable | F4: Date d'acquisition | G4: D E S I G N A T I O N S | H4: Quantité | I4: Valeur d'acquisition | J4: Taux % | K4: EX.ANTERIEURS 31-12-2017 | L4: EXERCICE 2018 | M4: CUMULES | N4: VNC 31-12-2018 | O4: Nbre Jour | P4: Secteur | Q4: Affectation | R4: Ville
A5: 1844 | B5: 906 | C5: =A5&"-"&F5&"-"&LEFT(G5,8) -> 1844-41802-Travaux | D5: 1 | E5: 2128 | F5: 41802 | G5: Travaux D'aluminium | H5: I | I5: 41561 | J5: 20 | K5: 33248.8 | L5: 8312.2 | M5: 41561 | N5: 0 | O5: 365 | P5: =IFERROR(VLOOKUP($C5,'Patrimoine 2018'!$C:$I,COLUMN(E1),0),"") -> SM | Q5: =IFERROR(VLOOKUP($C5,'Patrimoine 2018'!$C:$I,COLUMN(F1),0),"") -> C.D.M. MARRAKECH | R5: =IFERROR(VLOOKUP($C5,'Patrimoine 2018'!$C:$I,COLUMN(G1),0),"") -> 0
A6: 1845 | B6: 910 | C6: =A6&"-"&F6&"-"&LEFT(G6,8) -> 1845-41810-Travaux | D6: 1 | E6: 2128 | F6: 41810 | G6: Travaux de Rénovation de Representatio | H6: I | I6: 34632 | J6: 20 | K6: 27705.6 | L6: 6926.4 | M6: 34632 | N6: 0 | O6: 365 | P6: =IFERROR(VLOOKUP($C6,'Patrimoine 2018'!$C:$I,COLUMN(E2),0),"") -> SM | Q6: =IFERROR(VLOOKUP($C6,'Patrimoine 2018'!$C:$I,COLUMN(F2),0),"") -> CELLULE DE REP. REGIONALE AGADIR | R6: =IFERROR(VLOOKUP($C6,'Patrimoine 2018'!$C:$I,COLUMN(G2),0),"") -> AG
A7: 1927 | B7: 910 | C7: =A7&"-"&F7&"-"&LEFT(G7,8) -> 1927-41810-Travaux | D7: 1 | E7: 2128 | F7: 41810 | G7: Travaux de Rénovation | H7: I | I7: 156408 | J7: 20 | K7: 125126.4 | L7: 31281.6 | M7: 156408 | N7: 0 | O7: 365 | P7: =IFERROR(VLOOKUP($C7,'Patrimoine 2018'!$C:$I,COLUMN(E3),0),"") -> SM | Q7: =IFERROR(VLOOKUP($C7,'Patrimoine 2018'!$C:$I,COLUMN(F3),0),"") -> SECTION | R7: =IFERROR(VLOOKUP($C7,'Patrimoine 2018'!$C:$I,COLUMN(G3),0),"") -> AG
A8: 1843 | B8: 0 | C8: =A8&"-"&F8&"-"&LEFT(G8,8) -> 1843-41816-Travaux | D8: 1 | E8: 2128 | F8: 41816 | G8: Travaux de Ferrnnerie Siège et Annex | H8: I | I8: 48028.1 | J8: 20 | K8: 38422.48 | L8: 9605.62 | M8: 48028.1 | N8: 0 | O8: 365 | P8: =IFERROR(VLOOKUP($C8,'Patrimoine 2018'!$C:$I,COLUMN(E4),0),"") -> SM | Q8: =IFERROR(VLOOKUP($C8,'Patrimoine 2018'!$C:$I,COLUMN(F4),0),"") -> C.D.M. CASA-MERS SULTAN | R8: =IFERROR(VLOOKUP($C8,'Patrimoine 2018'!$C:$I,COLUMN(G4),0),"") -> 0
A9: 1849 | B9: 911 | C9: =A9&"-"&F9&"-"&LEFT(G9,8) -> 1849-41834-Travaux | D9: 1 | E9: 2128 | F9: 41834 | G9: Travaux de Plomberie et de Constructio | H9: I | I9: 38137.8 | J9: 20 | K9: 30510.24 | L9: 7627.56 | M9: 38137.8 | N9: 0 | O9: 365 | P9: =IFERROR(VLOOKUP($C9,'Patrimoine 2018'!$C:$I,COLUMN(E5),0),"") -> SM | Q9: =IFERROR(VLOOKUP($C9,'Patrimoine 2018'!$C:$I,COLUMN(F5),0),"") -> C.D.M. EL JADIDA | R9: =IFERROR(VLOOKUP($C9,'Patrimoine 2018'!$C:$I,COLUMN(G5),0),"") -> EJ
A10: 2058 | B10: 0 | C10: =A10&"-"&F10&"-"&LEFT(G10,8) -> 2058-41970-Kit Rayo | D10: 1 | E10: 2128 | F10: 41970 | G10: Kit Rayonnage Métallique | H10: I | I10: 37000.8 | J10: 20 | K10: 29600.64 | L10: 7400.16 | M10: 37000.8 | N10: 0 | O10: 365 | P10: =IFERROR(VLOOKUP($C10,'Patrimoine 2018'!$C:$I,COLUMN(E6),0),"") -> SM | Q10: =IFERROR(VLOOKUP($C10,'Patrimoine 2018'!$C:$I,COLUMN(F6),0),"") -> GESTION DES PRECOMPTES | R10: =IFERROR(VLOOKUP($C10,'Patrimoine 2018'!$C:$I,COLUMN(G6),0),"") -> ARCH
A11: 2111 | B11: 918 | C11: =A11&"-"&F11&"-"&LEFT(G11,8) -> 2111-42033-Aménagem | D11: 1 | E11: 2128 | F11: 42033 | G11: Aménagement installation en aluminum e | H11: I | I11: 10560 | J11: 20 | K11: 6336 | L11: 2112 | M11: 8448 | N11: 2112 | O11: 365 | P11: =IFERROR(VLOOKUP($C11,'Patrimoine 2018'!$C:$I,COLUMN(E7),0),"") -> SM | Q11: =IFERROR(VLOOKUP($C11,'Patrimoine 2018'!$C:$I,COLUMN(F7),0),"") -> CELLULE DE REPRESENTATION REGIONALE CASA-HAY HASSANI | R11: =IFERROR(VLOOKUP($C11,'Patrimoine 2018'!$C:$I,COLUMN(G7),0),"") -> HH
A12: 2172 | B12: 100 | C12: =A12&"-"&F12&"-"&LEFT(G12,8) -> 2172-42086-TRAVAUX | D12: 1 | E12: 2128 | F12: 42086 | G12: TRAVAUX DE MACONNERIE | H12: I | I12: 25944 | J12: 20 | K12: 15566.4 | L12: 5188.8 | M12: 20755.2 | N12: 5188.8 | O12: 365 | P12: =IFERROR(VLOOKUP($C12,'Patrimoine 2018'!$C:$I,COLUMN(E8),0),"") -> SM | Q12: =IFERROR(VLOOKUP($C12,'Patrimoine 2018'!$C:$I,COLUMN(F8),0),"") -> NON AFFECTES | R12: =IFERROR(VLOOKUP($C12,'Patrimoine 2018'!$C:$I,COLUMN(G8),0),"") -> 0
A13: 2141 | B13: 916 | C13: =A13&"-"&F13&"-"&LEFT(G13,8) -> 2141-42159-Travaux | D13: 1 | E13: 2128 | F13: 42159 | G13: Travaux d'aménagenment | H13: I | I13: 44400 | J13: 20 | K13: 26640 | L13: 8880 | M13: 35520 | N13: 8880 | O13: 365 | P13: =IFERROR(VLOOKUP($C13,'Patrimoine 2018'!$C:$I,COLUMN(E9),0),"") -> SM | Q13: =IFERROR(VLOOKUP($C13,'Patrimoine 2018'!$C:$I,COLUMN(F9),0),"") -> CELLULE DE REPRESENTATION REGIONALE SETTAT | R13: =IFERROR(VLOOKUP($C13,'Patrimoine 2018'!$C:$I,COLUMN(G9),0),"") -> ST
A14: 2159 | B14: 906 | C14: =A14&"-"&F14&"-"&LEFT(G14,8) -> 2159-42200-Travaux | D14: 1 | E14: 2128 | F14: 42200 | G14: Travaux d'aménagement | H14: I | I14: 60840 | J14: 20 | K14: 36504 | L14: 12168 | M14: 48672 | N14: 12168 | O14: 365 | P14: =IFERROR(VLOOKUP($C14,'Patrimoine 2018'!$C:$I,COLUMN(E10),0),"") -> SM | Q14: =IFERROR(VLOOKUP($C14,'Patrimoine 2018'!$C:$I,COLUMN(F10),0),"") -> SECTION | R14: =IFERROR(VLOOKUP($C14,'Patrimoine 2018'!$C:$I,COLUMN(G10),0),"") -> MR
A15: 2166 | B15: 100 | C15: =A15&"-"&F15&"-"&LEFT(G15,8) -> 2166-42249-Centrale | D15: 1 | E15: 2128 | F15: 42249 | G15: Centrale conventionnelle 4 zones | H15: I | I15: 19800 | J15: 20 | K15: 11880 | L15: 3960 | M15: 15840 | N15: 3960 | O15: 365 | P15: =IFERROR(VLOOKUP($C15,'Patrimoine 2018'!$C:$I,COLUMN(E11),0),"") -> SM | Q15: =IFERROR(VLOOKUP($C15,'Patrimoine 2018'!$C:$I,COLUMN(F11),0),"") -> SERVICE DES ARCHIVES | R15: =IFERROR(VLOOKUP($C15,'Patrimoine 2018'!$C:$I,COLUMN(G11),0),"") -> 1
A16: 2197 | B16: 0 | C16: =A16&"-"&F16&"-"&LEFT(G16,8) -> 2197-42286-carte d' | D16: 1 | E16: 2128 | F16: 42286 | G16: carte d'alimentation 16 A | H16: I | I16: 5760 | J16: 20 | K16: 3456 | L16: 1152 | M16: 4608 | N16: 1152 | O16: 365 | P16: =IFERROR(VLOOKUP($C16,'Patrimoine 2018'!$C:$I,COLUMN(E12),0),"") -> SM | Q16: =IFERROR(VLOOKUP($C16,'Patrimoine 2018'!$C:$I,COLUMN(F12),0),"") -> STANDARD | R16: =IFERROR(VLOOKUP($C16,'Patrimoine 2018'!$C:$I,COLUMN(G12),0),"") -> 315
... A65: 2747 | B65: 0 | C65: =A65&"-"&F65&"-"&LEFT(G65,8) -> 2747-43098-TRAVAUX | D65: 0 | E65: 2128 | F65: 43098 | G65: TRAVAUX DE PLOMBRIE | H65: I | I65: 18600 | J65: 20 | K65: 3720 | L65: 3720 | M65: 7440 | N65: 11160 | O65: 365 | P65: =IFERROR(VLOOKUP($C65,'Patrimoine 2018'!$C:$I,COLUMN(E61),0),"") | Q65: =IFERROR(VLOOKUP($C65,'Patrimoine 2018'!$C:$I,COLUMN(F61),0),"") | R65: =IFERROR(VLOOKUP($C65,'Patrimoine 2018'!$C:$I,COLUMN(G61),0),"")
A66: 350 | B66: 0 | C66: =A66&"-"&F66&"-"&LEFT(G66,8) -> 350-36966-Windows | D66: 0 | E66: 2220 | F66: 36966 | G66: Windows 2000 French | H66: I | I66: 45710.4 | J66: 25 | K66: 45710.4 | L66: 0 | M66: 45710.4 | N66: 0 | P66: =IFERROR(VLOOKUP($C66,'Patrimoine 2018'!$C:$I,COLUMN(E62),0),"") | Q66: =IFERROR(VLOOKUP($C66,'Patrimoine 2018'!$C:$I,COLUMN(F62),0),"") | R66: =IFERROR(VLOOKUP($C66,'Patrimoine 2018'!$C:$I,COLUMN(G62),0),"")
A67: 351 | B67: 0 | C67: =A67&"-"&F67&"-"&LEFT(G67,8) -> 351-37001-Proxy Se | D67: 0 | E67: 2220 | F67: 37001 | G67: Proxy Server 2.0 French CD | H67: I | I67: 13992 | J67: 25 | K67: 13992 | L67: 0 | M67: 13992 | N67: 0 | P67: =IFERROR(VLOOKUP($C67,'Patrimoine 2018'!$C:$I,COLUMN(E63),0),"") | Q67: =IFERROR(VLOOKUP($C67,'Patrimoine 2018'!$C:$I,COLUMN(F63),0),"") | R67: =IFERROR(VLOOKUP($C67,'Patrimoine 2018'!$C:$I,COLUMN(G63),0),"")
A68: 570 | B68: 0 | C68: =A68&"-"&F68&"-"&LEFT(G68,8) -> 570-38187-logiciel | D68: 0 | E68: 2220 | F68: 38187 | G68: logiciel windows 2003 | H68: I | I68: 66348 | J68: 25 | K68: 66348 | L68: 0 | M68: 66348 | N68: 0 | P68: =IFERROR(VLOOKUP($C68,'Patrimoine 2018'!$C:$I,COLUMN(E64),0),"") | Q68: =IFERROR(VLOOKUP($C68,'Patrimoine 2018'!$C:$I,COLUMN(F64),0),"") | R68: =IFERROR(VLOOKUP($C68,'Patrimoine 2018'!$C:$I,COLUMN(G64),0),"")
A69: 686 | B69: 0 | C69: =A69&"-"&F69&"-"&LEFT(G69,8) -> 686-38919-Logiciel | D69: 0 | E69: 2220 | F69: 38919 | G69: Logiciel OPTITIME FULL sous Windows 9x | H69: I | I69: 30000 | J69: 25 | K69: 30000 | L69: 0 | M69: 30000 | N69: 0 | P69: =IFERROR(VLOOKUP($C69,'Patrimoine 2018'!$C:$I,COLUMN(E65),0),"") | Q69: =IFERROR(VLOOKUP($C69,'Patrimoine 2018'!$C:$I,COLUMN(F65),0),"") | R69: =IFERROR(VLOOKUP($C69,'Patrimoine 2018'!$C:$I,COLUMN(G65),0),"")
A70: 798 | B70: 0 | C70: =A70&"-"&F70&"-"&LEFT(G70,8) -> 798-39953-Solution | D70: 0 | E70: 2220 | F70: 39953 | G70: Solution Antivirus Anti Spyware Anti S | H70: I | I70: 38808 | J70: 25 | K70: 38808 | L70: 0 | M70: 38808 | N70: 0 | P70: =IFERROR(VLOOKUP($C70,'Patrimoine 2018'!$C:$I,COLUMN(E66),0),"") | Q70: =IFERROR(VLOOKUP($C70,'Patrimoine 2018'!$C:$I,COLUMN(F66),0),"") | R70: =IFERROR(VLOOKUP($C70,'Patrimoine 2018'!$C:$I,COLUMN(G66),0),"")
A71: 884 | B71: 0 | C71: =A71&"-"&F71&"-"&LEFT(G71,8) -> 884-40242-Logiciel | D71: 0 | E71: 2220 | F71: 40242 | G71: Logiciel Windows Server 2008 Entr OLP | H71: I | I71: 34416 | J71: 25 | K71: 34416 | L71: 0 | M71: 34416 | N71: 0 | P71: =IFERROR(VLOOKUP($C71,'Patrimoine 2018'!$C:$I,COLUMN(E67),0),"") | Q71: =IFERROR(VLOOKUP($C71,'Patrimoine 2018'!$C:$I,COLUMN(F67),0),"") | R71: =IFERROR(VLOOKUP($C71,'Patrimoine 2018'!$C:$I,COLUMN(G67),0),"")
A72: 915 | B72: 0 | C72: =A72&"-"&F72&"-"&LEFT(G72,8) -> 915-40373-Mise a J | D72: 0 | E72: 2220 | F72: 40373 | G72: Mise a Jour de la Solution Antivirus | H72: I | I72: 76848 | J72: 25 | K72: 76848 | L72: 0 | M72: 76848 | N72: 0 | P72: =IFERROR(VLOOKUP($C72,'Patrimoine 2018'!$C:$I,COLUMN(E68),0),"") | Q72: =IFERROR(VLOOKUP($C72,'Patrimoine 2018'!$C:$I,COLUMN(F68),0),"") | R72: =IFERROR(VLOOKUP($C72,'Patrimoine 2018'!$C:$I,COLUMN(G68),0),"")
A73: 954 | B73: 0 | C73: =A73&"-"&F73&"-"&LEFT(G73,8) -> 954-40562-Solution | D73: 0 | E73: 2220 | F73: 40562 | G73: Solution de Messagerie Electrique | H73: I | I73: 14400 | J73: 25 | K73: 14400 | L73: 0 | M73: 14400 | N73: 0 | P73: =IFERROR(VLOOKUP($C73,'Patrimoine 2018'!$C:$I,COLUMN(E69),0),"") | Q73: =IFERROR(VLOOKUP($C73,'Patrimoine 2018'!$C:$I,COLUMN(F69),0),"") | R73: =IFERROR(VLOOKUP($C73,'Patrimoine 2018'!$C:$I,COLUMN(G69),0),"")
A74: 1012 | B74: 0 | C74: =A74&"-"&F74&"-"&LEFT(G74,8) -> 1012-40739-Logiciel | D74: 0 | E74: 2220 | F74: 40739 | G74: Logiciels Paramétrage et Mise à Jour | H74: I | I74: 340320 | J74: 25 | K74: 340320 | L74: 0 | M74: 340320 | N74: 0 | P74: =IFERROR(VLOOKUP($C74,'Patrimoine 2018'!$C:$I,COLUMN(E70),0),"") | Q74: =IFERROR(VLOOKUP($C74,'Patrimoine 2018'!$C:$I,COLUMN(F70),0),"") | R74: =IFERROR(VLOOKUP($C74,'Patrimoine 2018'!$C:$I,COLUMN(G70),0),"")
A75: 1632 | B75: 0 | C75: =A75&"-"&F75&"-"&LEFT(G75,8) -> 1632-41183-Logiciel | D75: 1 | E75: 2220 | F75: 41183 | G75: Logiciel Base de Donnée Oracle | H75: I | I75: 114360 | J75: 25 | K75: 114360 | L75: 0 | M75: 114360 | N75: 0 | P75: =IFERROR(VLOOKUP($C75,'Patrimoine 2018'!$C:$I,COLUMN(E71),0),"") -> SM | Q75: =IFERROR(VLOOKUP($C75,'Patrimoine 2018'!$C:$I,COLUMN(F71),0),"") -> Systeme information et communication | R75: =IFERROR(VLOOKUP($C75,'Patrimoine 2018'!$C:$I,COLUMN(G71),0),"") -> 210
A76: 1633 | B76: 0 | C76: =A76&"-"&F76&"-"&LEFT(G76,8) -> 1633-41183-Logiciel | D76: 0 | E76: 2220 | F76: 41183 | G76: Logiciel Unix | H76: I | I76: 91200 | J76: 25 | K76: 91200 | L76: 0 | M76: 91200 | N76: 0 | P76: =IFERROR(VLOOKUP($C76,'Patrimoine 2018'!$C:$I,COLUMN(E72),0),"") | Q76: =IFERROR(VLOOKUP($C76,'Patrimoine 2018'!$C:$I,COLUMN(F72),0),"") | R76: =IFERROR(VLOOKUP($C76,'Patrimoine 2018'!$C:$I,COLUMN(G72),0),"")
A77: 1729 | B77: 0 | C77: =A77&"-"&F77&"-"&LEFT(G77,8) -> 1729-41355-Licence | D77: 1 | E77: 2220 | F77: 41355 | G77: Licence Kaspersky Endpoint | H77: I | I77: 59810 | J77: 25 | K77: 59810 | L77: 0 | M77: 59810 | N77: 0 | P77: =IFERROR(VLOOKUP($C77,'Patrimoine 2018'!$C:$I,COLUMN(E73),0),"") -> SM | Q77: =IFERROR(VLOOKUP($C77,'Patrimoine 2018'!$C:$I,COLUMN(F73),0),"") -> Systeme information et communication | R77: =IFERROR(VLOOKUP($C77,'Patrimoine 2018'!$C:$I,COLUMN(G73),0),"") -> 210
A78: 2038 | B78: 0 | C78: =A78&"-"&F78&"-"&LEFT(G78,8) -> 2038-41680-Logiciel | D78: 1 | E78: 2220 | F78: 41680 | G78: Logiciel avec Licence d'une Pointeuse | H78: I | I78: 30000 | J78: 25 | K78: 29178.08 | L78: 821.92 | M78: 30000 | N78: 0 | O78: 0 | P78: =IFERROR(VLOOKUP($C78,'Patrimoine 2018'!$C:$I,COLUMN(E74),0),"") -> SM | Q78: =IFERROR(VLOOKUP($C78,'Patrimoine 2018'!$C:$I,COLUMN(F74),0),"") -> GESTION DES RESSOURCES HUMAINES | R78: =IFERROR(VLOOKUP($C78,'Patrimoine 2018'!$C:$I,COLUMN(G74),0),"") -> 314
A79: 2076 | B79: 0 | C79: =A79&"-"&F79&"-"&LEFT(G79,8) -> 2076-41976-Licence | D79: 1 | E79: 2220 | F79: 41976 | G79: Licence Kaspersky Select Endpoint Versi | H79: I | I79: 79800 | J79: 25 | K79: 61435.07 | L79: 18364.93 | M79: 79800 | N79: 0 | O79: 0 | P79: =IFERROR(VLOOKUP($C79,'Patrimoine 2018'!$C:$I,COLUMN(E75),0),"") -> SM | Q79: =IFERROR(VLOOKUP($C79,'Patrimoine 2018'!$C:$I,COLUMN(F75),0),"") -> Systeme information et communication | R79: =IFERROR(VLOOKUP($C79,'Patrimoine 2018'!$C:$I,COLUMN(G75),0),"") -> 210
A80: 1 | B80: 906 | C80: =A80&"-"&F80&"-"&LEFT(G80,8) -> 1-30986-Amenagem | D80: 1 | E80: 2327 | F80: 30986 | G80: Amenagement CDM | H80: I | I80: 70000 | J80: 10 | K80: 70000 | L80: 0 | M80: 70000 | N80: 0 | P80: =IFERROR(VLOOKUP($C80,'Patrimoine 2018'!$C:$I,COLUMN(E76),0),"") -> SM | Q80: =IFERROR(VLOOKUP($C80,'Patrimoine 2018'!$C:$I,COLUMN(F76),0),"") -> SECTION | R80: =IFERROR(VLOOKUP($C80,'Patrimoine 2018'!$C:$I,COLUMN(G76),0),"") -> MR
A81: 4 | B81: 909 | C81: =A81&"-"&F81&"-"&LEFT(G81,8) -> 4-32687-Travaux | D81: 1 | E81: 2327 | F81: 32687 | G81: Travaux d'Amenagement Villa | H81: I | I81: 297426 | J81: 10 | K81: 297426 | L81: 0 | M81: 297426 | N81: 0 | P81: =IFERROR(VLOOKUP($C81,'Patrimoine 2018'!$C:$I,COLUMN(E77),0),"") -> SM | Q81: =IFERROR(VLOOKUP($C81,'Patrimoine 2018'!$C:$I,COLUMN(F77),0),"") -> SECTION | R81: =IFERROR(VLOOKUP($C81,'Patrimoine 2018'!$C:$I,COLUMN(G77),0),"") -> RB
A82: 2 | B82: 914 | C82: =A82&"-"&F82&"-"&LEFT(G82,8) -> 2-34344-Amenagem | D82: 1 | E82: 2327 | F82: 34344 | G82: Amenagement - CDM | H82: I | I82: 80000 | J82: 10 | K82: 80000 | L82: 0 | M82: 80000 | N82: 0 | P82: =IFERROR(VLOOKUP($C82,'Patrimoine 2018'!$C:$I,COLUMN(E78),0),"") -> SM | Q82: =IFERROR(VLOOKUP($C82,'Patrimoine 2018'!$C:$I,COLUMN(F78),0),"") -> SECTION | R82: =IFERROR(VLOOKUP($C82,'Patrimoine 2018'!$C:$I,COLUMN(G78),0),"") -> KL
A83: 13 | B83: 914 | C83: =A83&"-"&F83&"-"&LEFT(G83,8) -> 13-34400-Amenagem | D83: 1 | E83: 2327 | F83: 34400 | G83: Amenagement - CDM | H83: I | I83: 36750 | J83: 10 | K83: 36750 | L83: 0 | M83: 36750 | N83: 0 | P83: =IFERROR(VLOOKUP($C83,'Patrimoine 2018'!$C:$I,COLUMN(E79),0),"") -> SM | Q83: =IFERROR(VLOOKUP($C83,'Patrimoine 2018'!$C:$I,COLUMN(F79),0),"") -> SECTION | R83: =IFERROR(VLOOKUP($C83,'Patrimoine 2018'!$C:$I,COLUMN(G79),0),"") -> KL
A84: 185 | B84: 909 | C84: =A84&"-"&F84&"-"&LEFT(G84,8) -> 185-35544-Amenagem | D84: 1 | E84: 2327 | F84: 35544 | G84: Amenagement CDM. Rabat | H84: I | I84: 10850 | J84: 10 | K84: 10850 | L84: 0 | M84: 10850 | N84: 0 | P84: =IFERROR(VLOOKUP($C84,'Patrimoine 2018'!$C:$I,COLUMN(E80),0),"") -> SM | Q84: =IFERROR(VLOOKUP($C84,'Patrimoine 2018'!$C:$I,COLUMN(F80),0),"") -> SECTION | R84: =IFERROR(VLOOKUP($C84,'Patrimoine 2018'!$C:$I,COLUMN(G80),0),"") -> RB
A85: 12 | B85: 909 | C85: =A85&"-"&F85&"-"&LEFT(G85,8) -> 12-35574-Amenagem | D85: 1 | E85: 2327 | F85: 35574 | G85: Amenagement CDM. Rabat | H85: I | I85: 10850 | J85: 10 | K85: 10850 | L85: 0 | M85: 10850 | N85: 0 | P85: =IFERROR(VLOOKUP($C85,'Patrimoine 2018'!$C:$I,COLUMN(E81),0),"") -> SM | Q85: =IFERROR(VLOOKUP($C85,'Patrimoine 2018'!$C:$I,COLUMN(F81),0),"") -> SECTION | R85: =IFERROR(VLOOKUP($C85,'Patrimoine 2018'!$C:$I,COLUMN(G81),0),"") -> RB
A86: 82 | B86: 909 | C86: =A86&"-"&F86&"-"&LEFT(G86,8) -> 82-35830-Amenagem | D86: 1 | E86: 2327 | F86: 35830 | G86: Amenagement CDM-Rabat | H86: I | I86: 542250.45 | J86: 10 | K86: 542250.45 | L86: 0 | M86: 542250.45 | N86: 0 | P86: =IFERROR(VLOOKUP($C86,'Patrimoine 2018'!$C:$I,COLUMN(E82),0),"") -> SM | Q86: =IFERROR(VLOOKUP($C86,'Patrimoine 2018'!$C:$I,COLUMN(F82),0),"") -> SECTION | R86: =IFERROR(VLOOKUP($C86,'Patrimoine 2018'!$C:$I,COLUMN(G82),0),"") -> RB
A87: 13 | B87: 910 | C87: =A87&"-"&F87&"-"&LEFT(G87,8) -> 13-35907-Amenagem | D87: 1 | E87: 2327 | F87: 35907 | G87: Amenagement CDM | H87: I | I87: 470378 | J87: 10 | K87: 470378 | L87: 0 | M87: 470378 | N87: 0 | P87: =IFERROR(VLOOKUP($C87,'Patrimoine 2018'!$C:$I,COLUMN(E83),0),"") -> SM | Q87: =IFERROR(VLOOKUP($C87,'Patrimoine 2018'!$C:$I,COLUMN(F83),0),"") -> SECTION | R87: =IFERROR(VLOOKUP($C87,'Patrimoine 2018'!$C:$I,COLUMN(G83),0),"") -> AG
A88: 224 | B88: 0 | C88: =A88&"-"&F88&"-"&LEFT(G88,8) -> 224-35923-Amenagem | D88: 1 | E88: 2327 | F88: 35923 | G88: Amenagement Siege OMFAM- Extension | H88: I | I88: 782837.5 | J88: 10 | K88: 782837.5 | L88: 0 | M88: 782837.5 | N88: 0 | P88: =IFERROR(VLOOKUP($C88,'Patrimoine 2018'!$C:$I,COLUMN(E84),0),"") -> SM | Q88: =IFERROR(VLOOKUP($C88,'Patrimoine 2018'!$C:$I,COLUMN(F84),0),"") -> NON AFFECTES | R88: =IFERROR(VLOOKUP($C88,'Patrimoine 2018'!$C:$I,COLUMN(G84),0),"") -> 0
A89: 19 | B89: 955 | C89: =A89&"-"&F89&"-"&LEFT(G89,8) -> 19-36003-Amenagem | D89: 0 | E89: 2327 | F89: 36003 | G89: Amenagement - CDM | H89: I | I89: 31178.6 | J89: 10 | K89: 31178.6 | L89: 0 | M89: 31178.6 | N89: 0 | P89: =IFERROR(VLOOKUP($C89,'Patrimoine 2018'!$C:$I,COLUMN(E85),0),"") | Q89: =IFERROR(VLOOKUP($C89,'Patrimoine 2018'!$C:$I,COLUMN(F85),0),"") | R89: =IFERROR(VLOOKUP($C89,'Patrimoine 2018'!$C:$I,COLUMN(G85),0),"")
...
